Workbook
Name __ENG1: VLOOKUP(#REF!,DBHAN,3)
Name __ENG1: #N/A
Name __ENG2: VLOOKUP(#REF!,DBHAN,3)
Name __ENG2: #N/A
Name __ENG3: VLOOKUP(#REF!,DBHAN,3)
Name __ENG3: #N/A
Name __HAN1: VLOOKUP(#REF!,DBHAN,2)
Name __HAN1: #N/A
Name __HAN2: VLOOKUP(#REF!,DBHAN,2)
Name __HAN2: #N/A
Name __HAN3: VLOOKUP(#REF!,DBHAN,2)
Name __HAN3: #N/A
Name _ENG1: VLOOKUP(#REF!,DBHAN,3)
Name _ENG1: #N/A
Name _ENG2: VLOOKUP(#REF!,DBHAN,3)
Name _ENG2: #N/A
Name _ENG3: VLOOKUP(#REF!,DBHAN,3)
Name _ENG3: #N/A
Name _HAN1: VLOOKUP(#REF!,DBHAN,2)
Name _HAN1: #N/A
Name _HAN2: VLOOKUP(#REF!,DBHAN,2)
Name _HAN2: #N/A
Name _HAN3: VLOOKUP(#REF!,DBHAN,2)
Name _HAN3: #N/A
Name aer: #REF!,#REF!
Name aer: #REF!,#REF!
Name aer: #REF!,#REF!
Name bdf: {"Book1","부대-(표지판,데리,가드).xls","부대-(낙,차,중분대).xls"}
Name bdf: {"Book1","부대-(표지판,데리,가드).xls","부대-(낙,차,중분대).xls"}
Name bdf: {"Book1","부대-(표지판,데리,가드).xls","부대-(낙,차,중분대).xls"}
Name CG: CG
Name CG: 표지!CG
Name CO: COUNTIF(#REF!,#REF!)
Name CO: COUNTIF(#REF!,#REF!)
Name CO: COUNTIF(#REF!,#REF!)
Name CW: COUNTIF(#REF!,#REF!)
Name CW: COUNTIF(#REF!,#REF!)
Name DANGA: #REF!,#REF!
Name DANGA: #REF!,#REF!
Name DANGA: #REF!,#REF!
Name DANGA_2: #REF!,#REF!
Name DANGA_2: #REF!,#REF!
Name DANGA_2: #REF!,#REF!
Name DANGA_3: #REF!,#REF!
Name DANGA_3: #REF!,#REF!
Name DANGA_3: #REF!,#REF!
Name DANGA_73: #REF!,#REF!
Name DANGA_73: #REF!,#REF!
Name DANGA_73: #REF!,#REF!
Name DANGA_74: #REF!,#REF!
Name DANGA_74: #REF!,#REF!
Name danga2: #REF!,#REF!
Name danga2: #REF!,#REF!
Name DATE_COM: IF(MAX(#REF!)=0,"",MAX(#REF!))
Name DATE_COM: IF(MAX(#REF!)=0,"",MAX(#REF!))
Name DATE_COM: IF(MAX(#REF!)=0,"",MAX(#REF!))
Name DATE_COMC: IF(MAX(#REF!)=0,"",MAX(#REF!))
Name DATE_COMC: IF(MAX(#REF!)=0,"",MAX(#REF!))
Name DATE_COMC: IF(MAX(#REF!)=0,"",MAX(#REF!))
Name DCA_P: ROUND(SUM(DCC,DCO,DCN)*100/#REF!,1)

Sheet 표지
B2: 2 0 2 4 년도
B3: 위치 | C3: 제천하수처리장 내
B10: 탈수기동 기계시설물 개선공사
B12: [설 계 내 역 서]
B19: 제 천 시

Sheet 설계설명서
N1: 설 계 설 명 서 | Y1: 6. 시행방법: 도급시행 | AO1: 환경사업소장 | AR1: 운영팀장 | AT1: 심 사 | AV1: 설 계 | AX1: 설 계 년 월 일
B2: 2 0 2 6 년도 | Y2: 7. 공사기간 다음 예정공정표에 의거 착수일로부터 60일 내에 준공키로 하고 다음 경우에 한하여 관의 승인을 얻어 그 기간을 | AX2: 2 0 2 6 년 06 월 일 설계
B3: 위치 | C3: 제천시 내토로12길 64번지 내 | N3: 1. 위 치 : | O3: =+C3 -> 제천시 내토로12길 64번지 내 | Z3: 연기 조치할 수 있다.
N4: 2. 공 사 명 : | O4: =B10 -> 제천하수처리장 슬러지 고속혼합장치 관급자재 제조·구매설치 | Z4: ⑴ 공사기간중의 강우일수가 과거 5개년 평균 강우 일수보다 많을 때 | AP4: =B2 -> 2 0 2 6 년도
N5: 3. 현 황 : | O5: 본 공사는 제천시 환경사업소 탈수기동내 고속혼합장치를 설치함으로써 슬러지처리를 원활하게하기 위함임. | Z5: ⑵ 천재지변으로 인하여 작업이 불가능할 때 | AR5: =B10 -> 제천하수처리장 슬러지 고속혼합장치 관급자재 제조·구매설치
Z6: ⑶ 관의 지시에 의하여 작업이 중단되었을 때
N7: 4. 공사 개요 | Y7: 공 종 | Z7: 30 | AB7: 60 | AD7: 90 | AF7: 120 | AH7: 150 | AJ7: 180 | AL7: 비 고
O8: 공 종 | Q8: 수 량 | Y8: =O9 -> 고속혼합장치 | AP8: 위 치 | AS8: 제천하수처리장내 | BA8: =C3 -> 제천시 내토로12길 64번지 내
O9: =일위대가목록!B4 -> 고속혼합장치 | Q9: 1식
B10: 제천하수처리장 슬러지 고속혼합장치 관급자재 제조·구매설치 | AP10: 공 사 개 요 | AS10: =O9 -> 고속혼합장치 | AU10: =Q9 -> 1식
AS11: =O10 -> 0 | AU11: =Q10 -> 0
AS12: =O11 -> 0 | AU12: =Q11 -> 0
AS13: =O12 -> 0 | AU13: =Q12 -> 0
AS14: =O13 -> 0 | AU14: =Q13 -> 0
AU15: =Q14 -> 0
N16: 5. 공사 자재 : | Y16: 8. 설계변경 : | Z16: ⑴ 본 공사는 조사 당시 수립된 자료에 의하여 설계한 것인바 조사불능 부분 및 조사후 변동된 사항에 대하여는 시공당시 | AU16: =Q15 -> 0
O17: 품 명 | Q17: 규 격 | S17: 단위 | T17: 수 량 | V17: 인 도 장 소 | W17: 비 고 | Z17: 실지에맞추어 설계 변경키로 한다.
T18: 관 급 | U18: 사 급 | Z18: ⑵ 본 공사의 관급자재 수량 및 인도지의 변경이 있을 경우에는 이를 실지에 맞추어 설계 변경한다. | AR18: 총공사비: | AT18: ="일금 "&NUMBERSTRING(AZ18,1)&"-원정" -> 일금 구천구백팔십구만팔천-원정 | AZ18: =AT19+AT20+AT21 -> 99898000
T19: 내 역 참 조 | Z19: ⑶ 본 공사의 시공중 관의 형편상 설계변경을 필요로 할 시는 이를 설계 변경키로 한다. | AR19: 관 급 액: | AT19: =공사원가계산서!D31 -> 98840000 | AW19: 부가세: | AY19: =공사원가계산서!D30 -> 8985454
B20: 제 천 시 | AR20: 조달수수료: | AT20: =공사원가계산서!D32 -> 1058000

Sheet 공사원가계산서
A1: 공 사 원 가 계 산 서
A2: [ 제천하수처리장 고속혼합장치 관급자재 제조구매설치 ]
A3: 구 분 | D3: 기 계 공 사 | E3: 2026 건축 산업환경설비공사 원가계산 제비율 적용기준 | F3: 공사규모 | G3: 요율 | H3: 등급
A4: 제조구매비 | D4: =공종별집계표!F7 -> 80800000
A5: 순 공 사 원 가 | B5: 재료비 | C5: 직접재료비 | D5: 0 | E5: 내역서 참조
C6: 소계 | D6: 0
B7: 노무비 | C7: 직접노무비 | D7: =공종별집계표!J8 -> 4828795 | E7: 내역서 참조
C8: 간접노무비 | D8: =INT(D7*G8/100) -> 845039 | E8: ="(직접노무비)×"&G8&"%" -> (직접노무비)×17.5% | F8: 6개월 이하 공사 | G8: 17.5
C9: 소계 | D9: =SUM(D7:D8) -> 5673834
B10: 경 비 | C10: 산출경비 | D10: =공종별집계표!L8 -> 461125 | E10: 내역서 참조
C11: 산재보험료 | D11: =INT(D9*G11/100) -> 201988 | E11: ="(노무비)×"&G11&"%" -> (노무비)×3.56% | G11: 3.56
C12: 고용보험료 | D12: =INT(D9*G12/100) -> 57305 | E12: ="(노무비)×"&G12&"% ["&H12&"등급]" -> (노무비)×1.01% [7등급] | G12: 1.01 | H12: 7
C13: 건강보험료 | D13: =INT(D7*G13/100) -> 173595 | E13: ="(직접노무비)×"&G13&"%" -> (직접노무비)×3.595% | G13: 3.595
C14: 연금보험료 | D14: =INT(D7*G14/100) -> 229367 | E14: ="(직접노무비)×"&G14&"%" -> (직접노무비)×4.75% | G14: 4.75
C15: 노인장기요양보험료 | D15: =INT(D13*G15/100) -> 22810 | E15: ="(건강보험료)×"&G15&"%" -> (건강보험료)×13.14% | G15: 13.14 | N15: 5억 미만 | O15: 3.15
C16: 건설근로자퇴직공제부금비 | D16: =INT(D7*G16/100) -> 0 | E16: ="(직접노무비)×"&G16&"%" -> (직접노무비)×0% | F16: 1억원이하 적용 제외 | G16: 0 | H16: 1억 이상만 적용 | K16: (직접노무비)×% | N16: 일반건설(을) : 3.09 | O16: 요율 | P16: 금액
C17: 산업안전보건관리비 | D17: =INT(MIN(P17:P21)) -> 152107 | E17: ="(재료비+직접노무비)×"&O15&"%" -> (재료비+직접노무비)×3.15% | L17: 도급자관급미포함 | N17: (재료비+직접노무비)×3.09% | O17: 3.15 | P17: =($D$6+$D$7)*O17/100 -> 152107.04
C18: 석면분담금 | D18: =D9*G18% -> 340.43004 | E18: (노무비)×0.006% | G18: 0.006
C19: 임금채권부담금 | D19: =D9*G19% -> 5106.4506 | E19: (노무비)×0.09% | G19: 0.09
C20: 환경보전비 | D20: =INT((D6+D7+D10)*G20/100) -> 26449 | E20: ="(재료비+직접노무비+산출경비)×"&G20&"%" -> (재료비+직접노무비+산출경비)×0.5% | G20: 0.5 | L20: 도급자관급포함 | M20: a | N20: (재료비+직접노무비+도급자관급)×3.09% | O20: 3.15 | P20: =($D$6+$D$7+$D$32)*O20/100 -> 185434.04
C21: 기타경비 | D21: =INT((D6+D9)*G21/100) -> 283691 | E21: ="(재료비+노무비)×"&G21&"%" -> (재료비+노무비)×5% | G21: 5 | L21: a,b중 작은 금액 | M21: b | N21: (재료비+직접노무비)×3.09%×1.2 | O21: 3.15 | P21: =($D$6+$D$7)*O21/100*1.2 -> 182528.45
C22: 건설하도급대금지급보증발급수수료 | D22: =INT((D6+D7+D10)*G22/100) -> 4284 | E22: ="(재료비+직접노무비+산출경비)×"&G22&"%" -> (재료비+직접노무비+산출경비)×0.081% | G22: 0.081 | H22: 전문공사 제외 | I22: 발주처 직접발주 | J22: 하도급계약금액 4천만원 미만 | K22: (재료비+직접노무비+산출경비)×%
C23: 건설기계대여대금지급보증서발급수수료 | D23: =INT((D6+D7+D10)*G23/100) -> 5289 | E23: ="(재료비+직접노무비+산출경비)×"&G23&"%" -> (재료비+직접노무비+산출경비)×0.1% | G23: 0.1 | N23: 5억~50억 미만
C24: 소계 | D24: =SUM(D10:D23) -> 1623456.9 | N24: 일반건설(을) : 1.99 | O24: 요율 | P24: 금액
A25: 순공사원가 | D25: =D6+D9+D24 -> 7297290.9 | E25: (재료비+노무비+경비) | L25: 도급자관급미포함 | N25: (재료비+직접노무비)×3.09% | O25: 1.99 | P25: =($D$6+$D$7)*O25/100 -> 96093.021
A26: 일반관리비 | D26: =INT((D6+D9+D24)*G26/100) -> 583783 | E26: ="(재료비+노무비+경비)×"&G26&"%" -> (재료비+노무비+경비)×8% | G26: 8 | H26: 단수조정 | L26: 도급자관급포함 | M26: a | N26: (재료비+직접노무비+도급자관급)×3.09% | O26: 1.99 | P26: =($D$6+$D$7+$D$32)*O26/100 -> 117147.22
A27: 이윤 | D27: =INT((D9+D24+D26)*G27/100-H27)-8699/1.1-858/1.1 -> 1173472.8 | E27: (노무비+경비+일반관리비)×15%-단수조정 | G27: 15 | L27: a,b중 작은 금액 | M27: b | N27: (재료비+직접노무비)×3.09%×1.2 | O27: 1.99 | P27: =($D$6+$D$7)*O27/100*1.2 -> 115311.62
A28: 설치공사비 | D28: =SUM(D25:D27) -> 9054546.7 | E28: (순공사원가+일반관리비+이윤)
A29: 총원가 | D29: =D28+D4 -> 89854547 | E29: (설치공사비+제조구매비)
A30: 부가가치세 | D30: =INT(D29*G30/100) -> 8985454 | E30: (총원가)×10% | G30: 10
A31: 물품금액 | D31: =INT(D29+D30) -> 98840000 | E31: (총원가+부가가치세)
A32: 조달수수료 | D32: 1058000 | G32: 1.07 | H32: =INT(D31*G32/100) -> 1057588
A33: 총공사비 | D33: =INT(D31+D32) -> 99898000 | E33: (물품금액+조달수수료)

Sheet 공종별집계표
A1: 공 종 별 집 계 표
A2: =공사원가계산서!A2 -> [ 제천하수처리장 고속혼합장치 관급자재 제조구매설치 ]
A3: 품 목 | B3: 규격 | C3: 단위 | D3: 수량 | E3: 합 계 | G3: 재 료 비 | I3: 노 무 비 | K3: 경 비 | M3: 비 고
E4: 단 가 | F4: 금 액 | G4: 단 가 | H4: 금 액 | I4: 단 가 | J4: 금 액 | K4: 단 가 | L4: 금 액
A5: 제천하수처리장 탈수기동 약품주입설비 제조구매설치 | D5: 1 | F5: =F6 -> 86089920 | H5: =H6 -> 80800000 | J5: =J6 -> 4828795 | L5: =L6 -> 461125 | N5: 01 | O5: 100000
A6: =공종별내역서!A4 -> 1. 고속혼합장치 | D6: 1 | E6: =K6+I6+G6 -> 86089920 | F6: =L6+J6+H6 -> 86089920 | G6: =H7+H8 -> 80800000 | H6: =D6*G6 -> 80800000 | I6: =J7+J8 -> 4828795 | J6: =D6*I6 -> 4828795 | K6: =L7+L8 -> 461125 | L6: =D6*K6 -> 461125 | N6: 0101 | O6: 120000
A7: 1.1 제조구매비 | D7: 1 | E7: =K7+I7+G7 -> 80800000 | F7: =L7+J7+H7 -> 80800000 | G7: =공종별내역서!H26 -> 80800000 | H7: =D7*G7 -> 80800000 | I7: =공종별내역서!J26 -> 0 | J7: =D7*I7 -> 0 | K7: =공종별내역서!L26 -> 0 | L7: =D7*K7 -> 0 | N7: 010101 | O7: 120280
A8: 1.2 설치비 | D8: 1 | E8: =K8+I8+G8 -> 5289920 | F8: =L8+J8+H8 -> 5289920 | G8: =공종별내역서!H49 -> 0 | H8: =D8*G8 -> 0 | I8: =공종별내역서!J49 -> 4828795 | J8: =D8*I8 -> 4828795 | K8: =공종별내역서!L49 -> 461125 | L8: =D8*K8 -> 461125
A26: [ 합 계 ] | F26: =F5 -> 86089920 | H26: =H5 -> 80800000 | J26: =J5 -> 4828795 | L26: =L5 -> 461125

Sheet 공종별내역서
A1: =공사원가계산서!A2 -> [ 제천하수처리장 고속혼합장치 관급자재 제조구매설치 ]
A2: 품 목 | B2: 규격 | C2: 단위 | D2: 수량 | E2: 합 계 | G2: 재 료 비 | I2: 노 무 비 | K2: 경 비 | M2: 비 고 | N2: 품목코드 | O2: 변수 | P2: 설정 | Q2: 공종코드 | R2: SEQNO | S2: ITEMSEQNO | T2: 일위 | U2: 단산 | V2: 자재 | W2: 산근 | X2: 손료적용 | Y2: 손료저장 | Z2: 적용률 | AA2: JUK1 | AB2: JUK2 | AC2: JUK3 | AD2: JUK4 | AE2: JUK5 | AF2: JUK6 | AG2: JUK7 | AH2: JUK8 | AI2: JUK9 | AJ2: JUK10 | AK2: JUK11 | AL2: JUK12 | AM2: JUK13 | AN2: JUK14 | AO2: JUK15 | AP2: JUK16 | AQ2: JUK17 | AR2: JUK18 | AS2: JUK19 | AT2: JUK20 | AU2: 메모장 | AV2: 조정율
E3: 단 가 | F3: 금 액 | G3: 단 가 | H3: 금 액 | I3: 단 가 | J3: 금 액 | K3: 단 가 | L3: 금 액
A4: 1. 고속혼합장치 | E4: =ROUNDDOWN(K4+I4+G4,0) -> 0 | F4: =ROUNDDOWN(L4+J4+H4,0) -> 0 | G4: 0 | H4: =ROUNDDOWN(D4*G4,0) -> 0 | I4: 0 | J4: =ROUNDDOWN(D4*I4,0) -> 0 | K4: 0 | L4: =ROUNDDOWN(D4*K4,0) -> 0 | AV4: 0
A5: 1.1 제조구매비
A6: =일위대가목록!B4 -> 고속혼합장치 | B6: =일위대가목록!C4 -> 비스크류 비프로펠러형 고속혼합 | C6: 식 | D6: 1 | E6: =ROUNDDOWN(K6+I6+G6,0) -> 80800000 | F6: =ROUNDDOWN(L6+J6+H6,0) -> 80800000 | G6: =단가대비표!O5 -> 80800000 | H6: =ROUNDDOWN(D6*G6,0) -> 80800000 | AE6: 0 | AF6: 0 | AG6: 0 | AH6: 0 | AI6: 24 | AJ6: 0 | AK6: 0 | AL6: 0 | AM6: 0 | AN6: 0 | AO6: 0 | AP6: 0 | AQ6: 0 | AR6: 0 | AS6: 0 | AT6: 0 | AV6: 100
AV8: 0
AV9: 0
AV10: 0
E11: =ROUNDDOWN(K11+I11+G11,0) -> 0 | F11: =ROUNDDOWN(L11+J11+H11,0) -> 0 | G11: 0 | H11: =ROUNDDOWN(D11*G11,0) -> 0 | AV11: 0
E12: =ROUNDDOWN(K12+I12+G12,0) -> 0 | F12: =ROUNDDOWN(L12+J12+H12,0) -> 0 | G12: 0 | H12: =ROUNDDOWN(D12*G12,0) -> 0 | AV12: 0
E13: =ROUNDDOWN(K13+I13+G13,0) -> 0 | F13: =ROUNDDOWN(L13+J13+H13,0) -> 0 | G13: 0 | H13: =ROUNDDOWN(D13*G13,0) -> 0 | AV13: 0
E14: =ROUNDDOWN(K14+I14+G14,0) -> 0 | F14: =ROUNDDOWN(L14+J14+H14,0) -> 0 | G14: 0 | AV14: 0
E15: =ROUNDDOWN(K15+I15+G15,0) -> 0 | F15: =ROUNDDOWN(L15+J15+H15,0) -> 0 | G15: 0 | H15: =ROUNDDOWN(D15*G15,0) -> 0 | AV15: 0
E16: =ROUNDDOWN(K16+I16+G16,0) -> 0 | F16: =ROUNDDOWN(L16+J16+H16,0) -> 0 | G16: 0 | H16: =ROUNDDOWN(D16*G16,0) -> 0 | AV16: 0
E17: =ROUNDDOWN(K17+I17+G17,0) -> 0 | F17: =ROUNDDOWN(L17+J17+H17,0) -> 0 | G17: 0 | H17: =ROUNDDOWN(D17*G17,0) -> 0 | AV17: 0
E18: =ROUNDDOWN(K18+I18+G18,0) -> 0 | F18: =ROUNDDOWN(L18+J18+H18,0) -> 0 | G18: 0 | H18: =ROUNDDOWN(D18*G18,0) -> 0 | AV18: 0
E19: =ROUNDDOWN(K19+I19+G19,0) -> 0 | F19: =ROUNDDOWN(L19+J19+H19,0) -> 0 | G19: 0 | H19: =ROUNDDOWN(D19*G19,0) -> 0 | AV19: 0
E20: =ROUNDDOWN(K20+I20+G20,0) -> 0 | F20: =ROUNDDOWN(L20+J20+H20,0) -> 0 | G20: 0 | H20: =ROUNDDOWN(D20*G20,0) -> 0 | AV20: 0
E21: =ROUNDDOWN(K21+I21+G21,0) -> 0 | F21: =ROUNDDOWN(L21+J21+H21,0) -> 0 | G21: 0 | H21: =ROUNDDOWN(D21*G21,0) -> 0 | AV21: 0
E22: =ROUNDDOWN(K22+I22+G22,0) -> 0 | F22: =ROUNDDOWN(L22+J22+H22,0) -> 0 | G22: 0 | H22: =ROUNDDOWN(D22*G22,0) -> 0 | AV22: 0
E23: =ROUNDDOWN(K23+I23+G23,0) -> 0 | F23: =ROUNDDOWN(L23+J23+H23,0) -> 0 | G23: 0 | H23: =ROUNDDOWN(D23*G23,0) -> 0 | AV23: 0
E24: =ROUNDDOWN(K24+I24+G24,0) -> 0 | F24: =ROUNDDOWN(L24+J24+H24,0) -> 0 | G24: 0 | H24: =ROUNDDOWN(D24*G24,0) -> 0 | AV24: 0
E25: =ROUNDDOWN(K25+I25+G25,0) -> 0 | F25: =ROUNDDOWN(L25+J25+H25,0) -> 0 | G25: 0 | H25: =ROUNDDOWN(D25*G25,0) -> 0 | AV25: 0
A26: [ 합 계 ] | E26: 0 | F26: =L26+J26+H26 -> 80800000 | H26: =TRUNC(SUM(H6:H25),0) -> 80800000
A27: 1.2 설치비 | Q27: 010101 | R27: 120280 | S27: 0
A28: MM-180102 폴리머 약품주입설비 | B28: 폴리머 자동 적정투입 제어시스템 | C28: 대 | D28: 1 | E28: =ROUNDDOWN(K28+I28+G28,0) -> 5289920 | F28: =ROUNDDOWN(L28+J28+H28,0) -> 5289920 | G28: =ROUNDDOWN(ROUNDDOWN(일위대가목록!F4,0)*AV28/100,0) -> 0 | H28: =ROUNDDOWN(D28*G28,0) -> 0 | I28: =ROUNDDOWN(ROUNDDOWN(일위대가목록!G4,0)*AV28/100,0) -> 4828795 | J28: =ROUNDDOWN(D28*I28,0) -> 4828795 | K28: =ROUNDDOWN(ROUNDDOWN(일위대가목록!H4,0)*AV28/100,0) -> 461125 | L28: =ROUNDDOWN(D28*K28,0) -> 461125 | M28: 호표 1 | N28: ZZ00009 | Q28: 010101 | R28: 120280 | S28: 20 | T28: T | U28: F | V28: F | X28: 0 | Y28: 0 | Z28: 0 | AA28: 0 | AB28: 0 | AC28: 0 | AD28: 0 | AE28: 0 | AF28: 0 | AG28: 0 | AH28: 0 | AI28: 24 | AJ28: 0 | AK28: 0 | AL28: 0 | AM28: 0 | AN28: 0 | AO28: 0 | AP28: 0 | AQ28: 0 | AR28: 0 | AS28: 0 | AT28: 0 | AV28: 100
E32: =ROUNDDOWN(K32+I32+G32,0) -> 0 | F32: =ROUNDDOWN(L32+J32+H32,0) -> 0 | G32: 0 | H32: =ROUNDDOWN(D32*G32,0) -> 0 | I32: 0 | J32: =ROUNDDOWN(D32*I32,0) -> 0 | K32: 0 | L32: =ROUNDDOWN(D32*K32,0) -> 0 | AV32: 0
E33: =ROUNDDOWN(K33+I33+G33,0) -> 0 | F33: =ROUNDDOWN(L33+J33+H33,0) -> 0 | G33: 0 | H33: =ROUNDDOWN(D33*G33,0) -> 0 | I33: 0 | J33: =ROUNDDOWN(D33*I33,0) -> 0 | K33: 0 | L33: =ROUNDDOWN(D33*K33,0) -> 0 | AV33: 0
E34: =ROUNDDOWN(K34+I34+G34,0) -> 0 | F34: =ROUNDDOWN(L34+J34+H34,0) -> 0 | G34: 0 | H34: =ROUNDDOWN(D34*G34,0) -> 0 | I34: 0 | J34: =ROUNDDOWN(D34*I34,0) -> 0 | K34: 0 | L34: =ROUNDDOWN(D34*K34,0) -> 0 | AV34: 0
E35: =ROUNDDOWN(K35+I35+G35,0) -> 0 | F35: =ROUNDDOWN(L35+J35+H35,0) -> 0 | G35: 0 | H35: =ROUNDDOWN(D35*G35,0) -> 0 | I35: 0 | J35: =ROUNDDOWN(D35*I35,0) -> 0 | K35: 0 | L35: =ROUNDDOWN(D35*K35,0) -> 0 | AV35: 0
E36: =ROUNDDOWN(K36+I36+G36,0) -> 0 | F36: =ROUNDDOWN(L36+J36+H36,0) -> 0 | G36: 0 | H36: =ROUNDDOWN(D36*G36,0) -> 0 | I36: 0 | J36: =ROUNDDOWN(D36*I36,0) -> 0 | K36: 0 | L36: =ROUNDDOWN(D36*K36,0) -> 0 | AV36: 0
E37: =ROUNDDOWN(K37+I37+G37,0) -> 0 | F37: =ROUNDDOWN(L37+J37+H37,0) -> 0 | G37: 0 | I37: 0 | J37: =ROUNDDOWN(D37*I37,0) -> 0 | K37: 0 | L37: =ROUNDDOWN(D37*K37,0) -> 0 | AV37: 0
E38: =ROUNDDOWN(K38+I38+G38,0) -> 0 | F38: =ROUNDDOWN(L38+J38+H38,0) -> 0 | G38: 0 | H38: =ROUNDDOWN(D38*G38,0) -> 0 | I38: 0 | J38: =ROUNDDOWN(D38*I38,0) -> 0 | K38: 0 | L38: =ROUNDDOWN(D38*K38,0) -> 0 | AV38: 0
E39: =ROUNDDOWN(K39+I39+G39,0) -> 0 | F39: =ROUNDDOWN(L39+J39+H39,0) -> 0 | G39: 0 | H39: =ROUNDDOWN(D39*G39,0) -> 0 | I39: 0 | J39: =ROUNDDOWN(D39*I39,0) -> 0 | K39: 0 | L39: =ROUNDDOWN(D39*K39,0) -> 0 | AV39: 0
E40: =ROUNDDOWN(K40+I40+G40,0) -> 0 | F40: =ROUNDDOWN(L40+J40+H40,0) -> 0 | G40: 0 | H40: =ROUNDDOWN(D40*G40,0) -> 0 | I40: 0 | J40: =ROUNDDOWN(D40*I40,0) -> 0 | K40: 0 | L40: =ROUNDDOWN(D40*K40,0) -> 0 | AV40: 0
E41: =ROUNDDOWN(K41+I41+G41,0) -> 0 | F41: =ROUNDDOWN(L41+J41+H41,0) -> 0 | G41: 0 | H41: =ROUNDDOWN(D41*G41,0) -> 0 | I41: 0 | J41: =ROUNDDOWN(D41*I41,0) -> 0 | K41: 0 | L41: =ROUNDDOWN(D41*K41,0) -> 0 | AV41: 0
E42: =ROUNDDOWN(K42+I42+G42,0) -> 0 | F42: =ROUNDDOWN(L42+J42+H42,0) -> 0 | G42: 0 | H42: =ROUNDDOWN(D42*G42,0) -> 0 | I42: 0 | J42: =ROUNDDOWN(D42*I42,0) -> 0 | K42: 0 | L42: =ROUNDDOWN(D42*K42,0) -> 0 | AV42: 0
E43: =ROUNDDOWN(K43+I43+G43,0) -> 0 | F43: =ROUNDDOWN(L43+J43+H43,0) -> 0 | G43: 0 | H43: =ROUNDDOWN(D43*G43,0) -> 0 | I43: 0 | J43: =ROUNDDOWN(D43*I43,0) -> 0 | K43: 0 | L43: =ROUNDDOWN(D43*K43,0) -> 0 | AV43: 0
E44: =ROUNDDOWN(K44+I44+G44,0) -> 0 | F44: =ROUNDDOWN(L44+J44+H44,0) -> 0 | G44: 0 | H44: =ROUNDDOWN(D44*G44,0) -> 0 | I44: 0 | J44: =ROUNDDOWN(D44*I44,0) -> 0 | K44: 0 | L44: =ROUNDDOWN(D44*K44,0) -> 0 | AV44: 0
E45: =ROUNDDOWN(K45+I45+G45,0) -> 0 | F45: =ROUNDDOWN(L45+J45+H45,0) -> 0 | G45: 0 | H45: =ROUNDDOWN(D45*G45,0) -> 0 | I45: 0 | J45: =ROUNDDOWN(D45*I45,0) -> 0 | K45: 0 | L45: =ROUNDDOWN(D45*K45,0) -> 0 | AV45: 0
E46: =ROUNDDOWN(K46+I46+G46,0) -> 0 | F46: =ROUNDDOWN(L46+J46+H46,0) -> 0 | G46: 0 | H46: =ROUNDDOWN(D46*G46,0) -> 0 | I46: 0 | J46: =ROUNDDOWN(D46*I46,0) -> 0 | K46: 0 | L46: =ROUNDDOWN(D46*K46,0) -> 0 | AV46: 0
E47: =ROUNDDOWN(K47+I47+G47,0) -> 0 | F47: =ROUNDDOWN(L47+J47+H47,0) -> 0 | G47: 0 | H47: =ROUNDDOWN(D47*G47,0) -> 0 | I47: 0 | J47: =ROUNDDOWN(D47*I47,0) -> 0 | K47: 0 | L47: =ROUNDDOWN(D47*K47,0) -> 0 | AV47: 0
E48: =ROUNDDOWN(K48+I48+G48,0) -> 0 | F48: =ROUNDDOWN(L48+J48+H48,0) -> 0 | G48: 0 | H48: =ROUNDDOWN(D48*G48,0) -> 0 | I48: 0 | J48: =ROUNDDOWN(D48*I48,0) -> 0 | K48: 0 | L48: =ROUNDDOWN(D48*K48,0) -> 0 | AV48: 0
A49: [ 합 계 ] | E49: 0 | F49: =L49+J49+H49 -> 5289920 | H49: =TRUNC(SUMIF(Q28:Q48,Q27,H28:H48),0) -> 0 | I49: 0 | J49: =TRUNC(SUMIF(Q28:Q48,Q27,J28:J48),0) -> 4828795 | K49: 0 | L49: =TRUNC(SUMIF(Q28:Q48,Q27,L28:L48),0) -> 461125

Sheet 일위대가목록
A1: 일 위 대 가 목 록 | B1: 일 위 대 가 목 록
A2: [ 총인처리시설 노후 시설물 개량공사 - 도급공사 ] | B2: =공사원가계산서!A2 -> [ 제천하수처리장 고속혼합장치 관급자재 제조구매설치 ]
A3: 코 드 | B3: 품 명 | C3: 규 격 | D3: 단위 | E3: 합 계 | F3: 재 료 비 | G3: 노 무 비 | H3: 경 비 | I3: 번 호 | J3: 비 고 | K3: 노임계수 | L3: 할증 | M3: 품셈개요 | N3: 장비일위
A4: ZZ00009 | B4: =단가대비표!B5 -> 고속혼합장치 | C4: =단가대비표!C5 -> 비스크류 비프로펠러형 고속혼합 | D4: 대 | E4: =F4+G4+H4 -> 5289920 | F4: =일위대가!H6 -> 0 | G4: =일위대가!J6 -> 4828795 | H4: =일위대가!L6 -> 461125 | I4: 호표 1
A5: B0100000002 | B5: 일반기기 설치 | C5: 1~5TON | D5: TON | E5: =F5+G5+H5 -> 2938845 | F5: =일위대가!H15 -> 0 | G5: =일위대가!J15 -> 2682664 | H5: =일위대가!L15 -> 256181 | I5: 호표 2

Sheet 일위대가
A1: =공사원가계산서!A2 -> [ 제천하수처리장 고속혼합장치 관급자재 제조구매설치 ]
A2: 품 목 | B2: 규격 | C2: 단위 | D2: 수량 | E2: 합 계 | G2: 재 료 비 | I2: 노 무 비 | K2: 경 비 | M2: 비 고 | N2: 일위대가 | O2: 품목코드 | P2: 일위 | Q2: 단산 | R2: 합산제외 | S2: SEQNO | T2: 산근 | U2: 적용률 | V2: JUK1 | W2: JUK2 | X2: JUK3 | Y2: JUK4 | Z2: JUK5 | AA2: JUK6 | AB2: JUK7
E3: 단 가 | F3: 금 액 | G3: 단 가 | H3: 금 액 | I3: 단 가 | J3: 금 액 | K3: 단 가 | L3: 금 액
A4: ( 호표 1 ) 고속혼합장치 | N4: ZZ00009
A5: 일반 기기 설치 | B5: 1~5TON | C5: TON | D5: 1.8 | E5: =ROUNDDOWN(G5+I5+K5,2) -> 2938845 | F5: =ROUNDDOWN(H5+J5+L5,2) -> 5289921 | G5: =일위대가목록!F5 -> 0 | H5: =ROUNDDOWN(D5*G5,2) -> 0 | I5: =일위대가목록!G5 -> 2682664 | J5: =ROUNDDOWN(D5*I5,2) -> 4828795.2 | K5: =일위대가목록!H5 -> 256181 | L5: =ROUNDDOWN(D5*K5,2) -> 461125.8 | M5: 호표 2 | N5: ZZ00009 | O5: B0100000002 | S5: 10 | T5: 1.46 | U5: 0 | V5: 0 | W5: 0 | X5: 0 | Y5: 0 | Z5: 0 | AA5: 0 | AB5: 0
A6: [ 합 계 ] | F6: =H6+J6+L6 -> 5289920 | G6: 0 | H6: =ROUNDDOWN(SUMIF(R5:R5," ",H5:H5),0) -> 0 | I6: 0 | J6: =ROUNDDOWN(SUMIF(R5:R5," ",J5:J5),0) -> 4828795 | K6: 0 | L6: =ROUNDDOWN(SUMIF(R5:R5," ",L5:L5),0) -> 461125 | N6: TOTAL | O6: TOTAL
A8: ( 호표 2 ) 일반기기 설치 1~5TON TON 기계 13-11-1 | N8: B0100000002
A9: 기계산업기사 | B9: 일반공사 직종 | C9: 인 | D9: 0.5 | E9: =ROUNDDOWN(G9+I9+K9,2) -> 241698 | F9: =ROUNDDOWN(H9+J9+L9,2) -> 120849 | G9: =단가대비표!O10 -> 0 | H9: =ROUNDDOWN(D9*G9,2) -> 0 | I9: =단가대비표!P10 -> 241698 | J9: =ROUNDDOWN(D9*I9,2) -> 120849 | K9: =단가대비표!V10 -> 0 | L9: =ROUNDDOWN(D9*K9,2) -> 0 | N9: B0100000002 | O9: L001010101000070 | S9: 10 | T9: 0.3 | U9: 0 | V9: 1 | W9: 0 | X9: 0 | Y9: 0 | Z9: 0 | AA9: 0 | AB9: 0
A10: 기계설비공 | B10: 일반공사 직종 | C10: 인 | D10: 5 | E10: =ROUNDDOWN(G10+I10+K10,2) -> 241698 | F10: =ROUNDDOWN(H10+J10+L10,2) -> 1208490 | G10: =단가대비표!O9 -> 0 | H10: =ROUNDDOWN(D10*G10,2) -> 0 | I10: =단가대비표!P9 -> 241698 | J10: =ROUNDDOWN(D10*I10,2) -> 1208490 | K10: =단가대비표!V9 -> 0 | L10: =ROUNDDOWN(D10*K10,2) -> 0 | N10: B0100000002 | O10: L001010101000051 | S10: 20 | T10: 4.34 | U10: 0 | V10: 1 | W10: 2 | X10: 0 | Y10: 0 | Z10: 0 | AA10: 0 | AB10: 0
A11: 비계공 | B11: 일반공사 직종 | C11: 인 | D11: 2 | E11: =ROUNDDOWN(G11+I11+K11,2) -> 281939 | F11: =ROUNDDOWN(H11+J11+L11,2) -> 563878 | G11: =단가대비표!O7 -> 0 | H11: =ROUNDDOWN(D11*G11,2) -> 0 | I11: =단가대비표!P7 -> 281939 | J11: =ROUNDDOWN(D11*I11,2) -> 563878 | K11: =단가대비표!V7 -> 0 | L11: =ROUNDDOWN(D11*K11,2) -> 0 | N11: B0100000002 | O11: L001010101000006 | S11: 30 | T11: 1.72 | U11: 0 | V11: 1 | W11: 2 | X11: 0 | Y11: 0 | Z11: 0 | AA11: 0 | AB11: 0
A12: 용접공 | B12: 일반공사 직종 | C12: 인 | D12: 0.8 | E12: =ROUNDDOWN(G12+I12+K12,2) -> 280178 | F12: =ROUNDDOWN(H12+J12+L12,2) -> 224142.4 | G12: =단가대비표!O8 -> 0 | H12: =ROUNDDOWN(D12*G12,2) -> 0 | I12: =단가대비표!P8 -> 280178 | J12: =ROUNDDOWN(D12*I12,2) -> 224142.4 | K12: =단가대비표!V8 -> 0 | L12: =ROUNDDOWN(D12*K12,2) -> 0 | N12: B0100000002 | O12: L001010101000012 | S12: 40 | T12: 0.57 | U12: 0 | V12: 1 | W12: 2 | X12: 0 | Y12: 0 | Z12: 0 | AA12: 0 | AB12: 0
A13: 특별인부 | B13: 일반공사 직종 | C13: 인 | D13: 2.5 | E13: =ROUNDDOWN(G13+I13+K13,2) -> 226122 | F13: =ROUNDDOWN(H13+J13+L13,2) -> 565305 | G13: =단가대비표!O6 -> 0 | H13: =ROUNDDOWN(D13*G13,2) -> 0 | I13: =단가대비표!P6 -> 226122 | J13: =ROUNDDOWN(D13*I13,2) -> 565305 | K13: =단가대비표!V6 -> 0 | L13: =ROUNDDOWN(D13*K13,2) -> 0 | N13: B0100000002 | O13: L001010101000003 | S13: 50 | T13: 2.34 | U13: 0 | V13: 1 | W13: 2 | X13: 0 | Y13: 0 | Z13: 0 | AA13: 0 | AB13: 0
A14: 검사 및 교정 | B14: 기술관리를 제외한 노무비의 10% | C14: 식 | D14: 1 | E14: =ROUNDDOWN(G14+I14+K14,2) -> 256181.54 | F14: =ROUNDDOWN(H14+J14+L14,2) -> 256181.54 | G14: 0 | H14: =ROUNDDOWN(D14*G14,2) -> 0 | I14: 0 | J14: =ROUNDDOWN(D14*I14,2) -> 0 | K14: =ROUNDDOWN(SUMIF(W9:W14,RIGHTB(O14,1),J9:J14)*U14,2) -> 256181.54 | L14: =ROUNDDOWN(D14*K14,2) -> 256181.54 | N14: B0100000002 | O14: PPS00000002 | S14: 60 | T14: .EQ=LA(20, 0, 50) * 0.1 | U14: 0.1 | V14: 0 | W14: 0 | X14: 0 | Y14: 0 | Z14: 0 | AA14: 0 | AB14: 0
A15: [ 합 계 ] | F15: =H15+J15+L15 -> 2938845 | G15: 0 | H15: =ROUNDDOWN(SUMIF(R9:R14," ",H9:H14),0) -> 0 | I15: 0 | J15: =ROUNDDOWN(SUMIF(R9:R14," ",J9:J14),0) -> 2682664 | K15: 0 | L15: =ROUNDDOWN(SUMIF(R9:R14," ",L9:L14),0) -> 256181 | N15: TOTAL | O15: TOTAL

Sheet 단가대비표
A1: 단 가 대 비 표 | B1: 단 가 대 비 표
A2: [ 총인처리시설 노후 시설물 개량공사 - 도급공사 ] | B2: =공종별집계표!A2 -> [ 제천하수처리장 고속혼합장치 관급자재 제조구매설치 ]
A3: 코 드 | B3: 품 목 | C3: 규격 | D3: 단위 | P3: 노 무 비 | Q3: 경 비 | W3: 비 고 | X3: 품목구분 | Y3: 노임구분 | Z3: 소수점처리 | AA3: 자재구분 | AB3: 재료비 조정율 | AC3: 노무비 조정율 | AD3: 경비 조정율
E4: 물가자료 | F4: PAGE | G4: 물가정보 | H4: PAGE | I4: 조사가격1 | J4: PAGE | K4: 조사가격2 | L4: PAGE | M4: 조사가격3 | N4: PAGE | O4: 적용단가 | Q4: 물가자료 | R4: 물가정보 | S4: 조사가격1 | T4: 조사가격2 | U4: 조사가격3 | V4: 적용단가
A5: M0000002 | B5: 고속혼합장치 | C5: 비스크류 비프로펠러형 고속혼합 | D5: 대 | I5: 80800000 | J5: 이손 | K5: 120000000 | L5: 비엘 | M5: 105000000 | N5: 신호테크 | O5: =MIN(E5:N5) -> 80800000 | P5: 0 | Q5: 0 | R5: 0 | S5: 0 | T5: 0 | U5: 0 | V5: =0*AD5/100 -> 0 | AB5: 100 | AC5: 100 | AD5: 100
A6: L001010101000003 | B6: 특별인부 | C6: 일반공사 직종 | D6: 인 | E6: 0 | G6: 0 | I6: 0 | K6: 0 | M6: 0 | O6: =0*AB6/100 -> 0 | P6: 226122 | Q6: 0 | R6: 0 | S6: 0 | T6: 0 | U6: 0 | V6: =0*AD6/100 -> 0 | X6: B | AB6: 100 | AC6: 100 | AD6: 100
A7: L001010101000006 | B7: 비계공 | C7: 일반공사 직종 | D7: 인 | E7: 0 | G7: 0 | I7: 0 | K7: 0 | M7: 0 | O7: =0*AB7/100 -> 0 | P7: 281939 | Q7: 0 | R7: 0 | S7: 0 | T7: 0 | U7: 0 | V7: =0*AD7/100 -> 0 | X7: B | AA7: 0 | AB7: 100 | AC7: 100 | AD7: 100
A8: L001010101000012 | B8: 용접공 | C8: 일반공사 직종 | D8: 인 | E8: 0 | G8: 0 | I8: 0 | K8: 0 | M8: 0 | O8: =0*AB8/100 -> 0 | P8: 280178 | Q8: 0 | R8: 0 | S8: 0 | T8: 0 | U8: 0 | V8: =0*AD8/100 -> 0 | X8: B | AB8: 100 | AC8: 100 | AD8: 100
A9: L001010101000051 | B9: 기계설비공 | C9: 일반공사 직종 | D9: 인 | E9: 0 | G9: 0 | I9: 0 | K9: 0 | M9: 0 | O9: =0*AB9/100 -> 0 | P9: 241698 | Q9: 0 | R9: 0 | S9: 0 | T9: 0 | U9: 0 | V9: =0*AD9/100 -> 0 | X9: B | AB9: 100 | AC9: 100 | AD9: 100
A10: L001010101000070 | B10: 기계산업기사 | C10: 일반공사 직종 | D10: 인 | E10: 0 | G10: 0 | I10: 0 | K10: 0 | M10: 0 | O10: =0*AB10/100 -> 0 | P10: 241698 | Q10: 0 | R10: 0 | S10: 0 | T10: 0 | U10: 0 | V10: =0*AD10/100 -> 0 | X10: B | AB10: 100 | AC10: 100 | AD10: 100

Sheet 견적서1

Sheet 견적서2

Sheet 견적서3

Sheet 공사설정
A1: 이 Sheet는 수정하지 마십시요
B2: 공사구분 | C2: A
B3: 확정내역 | C3: 원내역
B4: 자재단가적용 | C4: 5
B5: 노무비단가적용 | C5: 5
B6: 경비단가적용 | C6: 5
B7: 품목코드형식 | C7: XXXXXXXXXXXXXXXXX
B8: 내역금액소수점처리 | C8: C | D8: 1
B9: 일위대가내역소수점처리 | C9: C | D9: 3
B10: 단가명 | C10: 조달청가격 | D10: 거래가격 | E10: 유통물가 | F10: 물가자료 | G10: 물가정보 | H10: 조사가격1 | I10: 조사가격2 | J10: 조사가격3 | K10: TTTTTTTT
B11: 환율 | C11: 1071.1 | D11: 0 | E11: 0
B12: 시간당작업량 | C12: R | D12: 5
B13: 1회 사이클시간 | C13: R | D13: 5
B14: 시간당 작업사이클 | C14: R | D14: 4
B15: 일반변수 | C15: C | D15: 6
B16: 시간당 노임산출 계수 | C16: A | D16: 1/8*16/12*25/20 | E16: 1/8*16/12*25/20*24/15 | F16: 1/8*16/12*25/20*12/10 | G16: 1
B17: 재료비 할증 계수 | C17: 1.11 | D17: 1.12
B18: 노무비 할증 계수 | C18: 1 | D18: 1.5 | E18: 1.16 | F18: 1.6 | G18: 1.6 | H18: 1.6 | I18: 1.94 | J18: 1.94 | K18: 1.94 | L18: 1 | M18: 1 | N18: 1
B19: 경비 할증 계수 | C19: 1.25 | D19: 1.071
B20: 내역,일위대가 품명,규격,단위 따로적용
B21: 내역단가 소수점처리 | C21: C | D21: 1
B22: 코드 | C22: 공종구분명 | D22: 원가비목코드
B23: 1 | C23: 미확인 데이터 | D23: 미확인 데이터
B24: 재료비 단가 적용율 | C24: 100
B25: 노무비 단가 적용율 | C25: 100
B26: 경비 단가 적용율 | C26: 100
