Workbook
Name __________________q45: {"'용역비'!$A$4:$C$8"}
Name __________________q45: {"'용역비'!$A$4:$C$8"}
Name _________________q45: {"'용역비'!$A$4:$C$8"}
Name _________________q45: {"'용역비'!$A$4:$C$8"}
Name ________________q45: {"'용역비'!$A$4:$C$8"}
Name ________________q45: {"'용역비'!$A$4:$C$8"}
Name _______________q45: {"'용역비'!$A$4:$C$8"}
Name _______________q45: {"'용역비'!$A$4:$C$8"}
Name ______________q45: {"'용역비'!$A$4:$C$8"}
Name ______________q45: {"'용역비'!$A$4:$C$8"}
Name _____________q45: {"'용역비'!$A$4:$C$8"}
Name _____________q45: {"'용역비'!$A$4:$C$8"}
Name ____________q45: {"'용역비'!$A$4:$C$8"}
Name ____________q45: {"'용역비'!$A$4:$C$8"}
Name ___________q45: {"'용역비'!$A$4:$C$8"}
Name ___________q45: {"'용역비'!$A$4:$C$8"}
Name __________q45: {"'용역비'!$A$4:$C$8"}
Name __________q45: {"'용역비'!$A$4:$C$8"}
Name _________q45: {"'용역비'!$A$4:$C$8"}
Name _________q45: {"'용역비'!$A$4:$C$8"}
Name ________q45: {"'용역비'!$A$4:$C$8"}
Name ________q45: {"'용역비'!$A$4:$C$8"}
Name _______q45: {"'용역비'!$A$4:$C$8"}
Name _______q45: {"'용역비'!$A$4:$C$8"}
Name ______q45: {"'용역비'!$A$4:$C$8"}
Name ______q45: {"'용역비'!$A$4:$C$8"}
Name _____q45: {"'용역비'!$A$4:$C$8"}
Name _____q45: {"'용역비'!$A$4:$C$8"}
Name ____q45: {"'용역비'!$A$4:$C$8"}
Name ____q45: {"'용역비'!$A$4:$C$8"}
Name ___q45: {"'용역비'!$A$4:$C$8"}
Name ___q45: {"'용역비'!$A$4:$C$8"}
Name _02: '[1]기계경비 (2)'!$A$1:$C$19
Name _03: '[1]기계경비 (2)'!$A$1:$C$27
Name _04: '[1]기계경비 (2)'!$A$1:$C$36
Name _05: '[1]기계경비 (2)'!$A$5:$C$560
Name _06: '[1]기계경비 (2)'!$A$5:$C$560
Name _Order1: 255
Name _Order2: 255
Name _PR01: '[1]기계경비 (2)'!$B$1:$C$30
Name _PRT2: '[1]기계경비 (2)'!$B$1:$C$30
Name _PRT3: '[1]기계경비 (2)'!$A$1:$C$77
Name _q45: {"'용역비'!$A$4:$C$8"}
Name _q45: {"'용역비'!$A$4:$C$8"}
Name √: "SQRT"
Name AAA: BlankMacro1
Name AAA: BlankMacro1
Name AFSD: BlankMacro1
Name AFSD: BlankMacro1
Name BB: '[1]기계경비 (2)'!$A$5:$C$567
Name cgmh: {"'용역비'!$A$4:$C$8"}
Name cgmh: {"'용역비'!$A$4:$C$8"}
Name DDDD: {"'Firr(선)'!$AS$1:$AY$62","'Firr(사)'!$AS$1:$AY$62","'Firr(회)'!$AS$1:$AY$62","'Firr(선)'!$L$1:$V$62","'Firr(사)'!$L$1:$V$62","'Firr(회)'!$L$1:$V$62"}
Name DDDD: {"'Firr(선)'!$AS$1:$AY$62","'Firr(사)'!$AS$1:$AY$62","'Firr(회)'!$AS$1:$AY$62","'Firr(선)'!$L$1:$V$62","'Firr(사)'!$L$1:$V$62","'Firr(회)'!$L$1:$V$62"}
Name dhj: {"'용역비'!$A$4:$C$8"}
Name dhj: {"'용역비'!$A$4:$C$8"}
Name djois: BlankMacro1
Name djois: BlankMacro1
Name DKJFL: BlankMacro1
Name DKJFL: BlankMacro1

Sheet 원가계산서
B1: 공 사 원 가 계 산 서
B2: 공사명 : 서울인헌초그린스마트미래학교증개축전기공사 | F2: 도금액 :
B3: 비 목 | E3: 금 액 | F3: 구 성 비 | G3: 비 고
A4: A1 | B4: 순 공 사 원 가 | C4: 재 료 비 | D4: 직 접 재 료 비
A5: A2 | D5: 간 접 재 료 비
A6: A3 | D6: 작업설, 부산물(△)
A7: AS | D7: [ 소 계 ]
A8: B1 | C8: 노 무 비 | D8: 직 접 노 무 비
A9: B2 | D9: 간 접 노 무 비 | F9: 직접노무비 * 18.1%
A10: BS | D10: [ 소 계 ]
A11: C2 | C11: 경 비 | D11: 경 비
A12: C4 | D12: 산 재 보 험 료 | F12: 노무비 * 3.56%
A13: C5 | D13: 고 용 보 험 료 | F13: 노무비 * 1.01%
A14: C6 | D14: 국민 건강 보험료 | F14: 직접노무비 * 3.595%
A15: C7 | D15: 국민 연금 보험료 | F15: 직접노무비 * 4.75%
A16: C8 | D16: 퇴직 공제 부금비 | F16: 직접노무비 * 2.3%
A17: CB | D17: 노인장기요양보험료 | F17: 건강보험료 * 13.14%
A18: CA | D18: 산업안전보건관리비 | F18: (재료비+직노+도급자재비) * 3.11%+기초
A19: CD | D19: 임금채권부담금 | F19: 노무비 * 0.09%
A20: CC | D20: 석면분담금 | F20: 노무비 * 0.006%
A21: CG | D21: 기 타 경 비 | F21: (재료비+노무비) * 5.5%
A22: CS | D22: [ 소 계 ]
A23: S1 | B23: 계
A24: D1 | B24: 일 반 관 리 비 | F24: 계 * 6.5%
A25: D2 | B25: 이 윤 | F25: (노무비+경비+일반관리비) * 15%
A26: D9 | B26: 공 급 가 액
A27: 손해배상공제료 | F27: (공급가액+도급자관급)*0.26477%
A28: DB | B28: 부 가 가 치 세 | F28: 공급가액 * 10%
A29: DH | B29: 도 급 액 | E29: =TRUNC(E26+E28+E27, 0) -> 0
A30: DK | B30: 한전 사용전검사 | E30: 24459476 | F30: 임시전력19,111,371 한전5,348,105
A31: DL | B31: 재해예방기술지도 | E31: 37801000
A32: DN | B32: 도급자설치관급자재 | E32: =관급자재!F9 -> 2.57399e+08
A33: DM | B33: 관급자설치관급자재 | E33: =관급자재!F4 -> 1.001736e+09
A34: S2 | B34: 총 공 사 비 | E34: =TRUNC(E29+0+E30+E31+E33+E32, 0)-75 -> 1321395400

Sheet 공종별집계표
A1: 공 종 별 집 계 표
A2: [ 서울인헌초그린스마트미래학교증개축전기공사 ]
A3: 품 명 | B3: 규 격 | C3: 단위 | D3: 수량 | E3: 재 료 비 | G3: 노 무 비 | I3: 경 비 | K3: 합 계 | M3: 비 고 | N3: 공종코드 | O3: 변수 | P3: 상위공종 | Q3: 공종구분 | R3: 공종레벨 | S3: 공종소계 | T3: 원가계산서 연결금액
E4: 단 가 | F4: 금 액 | G4: 단 가 | H4: 금 액 | I4: 단 가 | J4: 금 액 | K4: 단 가 | L4: 금 액
A5: 01 서울인헌초그린스마트미래학교증개축전기공사 | D5: 1 | E5: =F6 -> 0 | F5: =E5*D5 -> 0 | G5: =H6 -> 0 | H5: =G5*D5 -> 0 | I5: =J6 -> 0 | J5: =I5*D5 -> 0 | K5: =E5+G5+I5 -> 0 | L5: =F5+H5+J5 -> 0 | N5: 01 | R5: 1
A6: 0101 전기공사 | D6: 1 | E6: =F7+F8+F9+F10+F11+F12+F13+F14+F15+F16+F17+F18+F19+F20+F21+F22+F23+F24+F25+F26+F27+F28+F29+F30 -> 0 | F6: =E6*D6 -> 0 | G6: =H7+H8+H9+H10+H11+H12+H13+H14+H15+H16+H17+H18+H19+H20+H21+H22+H23+H24+H25+H26+H27+H28+H29+H30 -> 0 | H6: =G6*D6 -> 0 | I6: =J7+J8+J9+J10+J11+J12+J13+J14+J15+J16+J17+J18+J19+J20+J21+J22+J23+J24+J25+J26+J27+J28+J29+J30 -> 0 | J6: =I6*D6 -> 0 | K6: =E6+G6+I6 -> 0 | L6: =F6+H6+J6 -> 0 | N6: 0101 | P6: 01 | R6: 2
A7: 010101 옥외전기설비공사 | D7: 1 | E7: =공종별내역서!F27 -> 0 | F7: =E7*D7 -> 0 | G7: =공종별내역서!H27 -> 0 | H7: =G7*D7 -> 0 | I7: =공종별내역서!J27 -> 0 | J7: =I7*D7 -> 0 | K7: =E7+G7+I7 -> 0 | L7: =F7+H7+J7 -> 0 | N7: 010101 | P7: 0101 | R7: 3
A8: 010102 수변전설비공사 | D8: 1 | E8: =공종별내역서!F51 -> 0 | F8: =E8*D8 -> 0 | G8: =공종별내역서!H51 -> 0 | H8: =G8*D8 -> 0 | I8: =공종별내역서!J51 -> 0 | J8: =I8*D8 -> 0 | K8: =E8+G8+I8 -> 0 | L8: =F8+H8+J8 -> 0 | N8: 010102 | P8: 0101 | R8: 3
A9: 010103 전력간선공사 | D9: 1 | E9: =공종별내역서!F99 -> 0 | F9: =E9*D9 -> 0 | G9: =공종별내역서!H99 -> 0 | H9: =G9*D9 -> 0 | I9: =공종별내역서!J99 -> 0 | J9: =I9*D9 -> 0 | K9: =E9+G9+I9 -> 0 | L9: =F9+H9+J9 -> 0 | N9: 010103 | P9: 0101 | R9: 3
A10: 010104 분전반 설치 공사 | D10: 1 | E10: =공종별내역서!F147 -> 0 | F10: =E10*D10 -> 0 | G10: =공종별내역서!H147 -> 0 | H10: =G10*D10 -> 0 | I10: =공종별내역서!J147 -> 0 | J10: =I10*D10 -> 0 | K10: =E10+G10+I10 -> 0 | L10: =F10+H10+J10 -> 0 | N10: 010104 | P10: 0101 | R10: 3
A11: 010105 동력설비 공사 | D11: 1 | E11: =공종별내역서!F195 -> 0 | F11: =E11*D11 -> 0 | G11: =공종별내역서!H195 -> 0 | H11: =G11*D11 -> 0 | I11: =공종별내역서!J195 -> 0 | J11: =I11*D11 -> 0 | K11: =E11+G11+I11 -> 0 | L11: =F11+H11+J11 -> 0 | N11: 010105 | P11: 0101 | R11: 3
A12: 010106 전등공사 | D12: 1 | E12: =공종별내역서!F267 -> 0 | F12: =E12*D12 -> 0 | G12: =공종별내역서!H267 -> 0 | H12: =G12*D12 -> 0 | I12: =공종별내역서!J267 -> 0 | J12: =I12*D12 -> 0 | K12: =E12+G12+I12 -> 0 | L12: =F12+H12+J12 -> 0 | N12: 010106 | P12: 0101 | R12: 3
A13: 010107 비상조명설비공사 | D13: 1 | E13: =공종별내역서!F291 -> 0 | F13: =E13*D13 -> 0 | G13: =공종별내역서!H291 -> 0 | H13: =G13*D13 -> 0 | I13: =공종별내역서!J291 -> 0 | J13: =I13*D13 -> 0 | K13: =E13+G13+I13 -> 0 | L13: =F13+H13+J13 -> 0 | N13: 010107 | P13: 0101 | R13: 3
A14: 010108 전열공사 | D14: 1 | E14: =공종별내역서!F339 -> 0 | F14: =E14*D14 -> 0 | G14: =공종별내역서!H339 -> 0 | H14: =G14*D14 -> 0 | I14: =공종별내역서!J339 -> 0 | J14: =I14*D14 -> 0 | K14: =E14+G14+I14 -> 0 | L14: =F14+H14+J14 -> 0 | N14: 010108 | P14: 0101 | R14: 3
A15: 010109 냉난방설비공사 | D15: 1 | E15: =공종별내역서!F363 -> 0 | F15: =E15*D15 -> 0 | G15: =공종별내역서!H363 -> 0 | H15: =G15*D15 -> 0 | I15: =공종별내역서!J363 -> 0 | J15: =I15*D15 -> 0 | K15: =E15+G15+I15 -> 0 | L15: =F15+H15+J15 -> 0 | N15: 010109 | P15: 0101 | R15: 3
A16: 010110 공기순환기동력 설비공사 | D16: 1 | E16: =공종별내역서!F387 -> 0 | F16: =E16*D16 -> 0 | G16: =공종별내역서!H387 -> 0 | H16: =G16*D16 -> 0 | I16: =공종별내역서!J387 -> 0 | J16: =I16*D16 -> 0 | K16: =E16+G16+I16 -> 0 | L16: =F16+H16+J16 -> 0 | N16: 010110 | P16: 0101 | R16: 3
A17: 010111 접지설비공사 | D17: 1 | E17: =공종별내역서!F411 -> 0 | F17: =E17*D17 -> 0 | G17: =공종별내역서!H411 -> 0 | H17: =G17*D17 -> 0 | I17: =공종별내역서!J411 -> 0 | J17: =I17*D17 -> 0 | K17: =E17+G17+I17 -> 0 | L17: =F17+H17+J17 -> 0 | N17: 010111 | P17: 0101 | R17: 3
A18: 010112 태양광발전설비공사 | D18: 1 | E18: =공종별내역서!F459 -> 0 | F18: =E18*D18 -> 0 | G18: =공종별내역서!H459 -> 0 | H18: =G18*D18 -> 0 | I18: =공종별내역서!J459 -> 0 | J18: =I18*D18 -> 0 | K18: =E18+G18+I18 -> 0 | L18: =F18+H18+J18 -> 0 | N18: 010112 | P18: 0101 | R18: 3
A19: 010113 전기차충전설비공사 | D19: 1 | E19: =공종별내역서!F483 -> 0 | F19: =E19*D19 -> 0 | G19: =공종별내역서!H483 -> 0 | H19: =G19*D19 -> 0 | I19: =공종별내역서!J483 -> 0 | J19: =I19*D19 -> 0 | K19: =E19+G19+I19 -> 0 | L19: =F19+H19+J19 -> 0 | N19: 010113 | P19: 0101 | R19: 3
A20: 010114 CABLE DUCT 및 TRAY 설치 공사 | D20: 1 | E20: =공종별내역서!F531 -> 0 | F20: =E20*D20 -> 0 | G20: =공종별내역서!H531 -> 0 | H20: =G20*D20 -> 0 | I20: =공종별내역서!J531 -> 0 | J20: =I20*D20 -> 0 | K20: =E20+G20+I20 -> 0 | L20: =F20+H20+J20 -> 0 | N20: 010114 | P20: 0101 | R20: 3
A21: 010115 실내 야구장 전기 공사 | D21: 1 | E21: =공종별내역서!F603 -> 0 | F21: =E21*D21 -> 0 | G21: =공종별내역서!H603 -> 0 | H21: =G21*D21 -> 0 | I21: =공종별내역서!J603 -> 0 | J21: =I21*D21 -> 0 | K21: =E21+G21+I21 -> 0 | L21: =F21+H21+J21 -> 0 | N21: 010115 | P21: 0101 | R21: 3
A22: 010116 실내 양궁장 전기 공사 | D22: 1 | E22: =공종별내역서!F651 -> 0 | F22: =E22*D22 -> 0 | G22: =공종별내역서!H651 -> 0 | H22: =G22*D22 -> 0 | I22: =공종별내역서!J651 -> 0 | J22: =I22*D22 -> 0 | K22: =E22+G22+I22 -> 0 | L22: =F22+H22+J22 -> 0 | N22: 010116 | P22: 0101 | R22: 3
A23: 010117 체육관 전기 공사 | D23: 1 | E23: =공종별내역서!F675 -> 0 | F23: =E23*D23 -> 0 | G23: =공종별내역서!H675 -> 0 | H23: =G23*D23 -> 0 | I23: =공종별내역서!J675 -> 0 | J23: =I23*D23 -> 0 | K23: =E23+G23+I23 -> 0 | L23: =F23+H23+J23 -> 0 | N23: 010117 | P23: 0101 | R23: 3
A24: 010118 1단계공사 | D24: 1 | E24: =공종별내역서!F699 -> 0 | F24: =E24*D24 -> 0 | G24: =공종별내역서!H699 -> 0 | H24: =G24*D24 -> 0 | I24: =공종별내역서!J699 -> 0 | J24: =I24*D24 -> 0 | K24: =E24+G24+I24 -> 0 | L24: =F24+H24+J24 -> 0 | N24: 010118 | P24: 0101 | R24: 3
A25: 010119 3단계 철거 공사 | D25: 1 | E25: =공종별내역서!F723 -> 0 | F25: =E25*D25 -> 0 | G25: =공종별내역서!H723 -> 0 | H25: =G25*D25 -> 0 | I25: =공종별내역서!J723 -> 0 | J25: =I25*D25 -> 0 | K25: =E25+G25+I25 -> 0 | L25: =F25+H25+J25 -> 0 | N25: 010119 | P25: 0101 | R25: 3
A26: 010120 기존교실 철거공사 | D26: 1 | E26: =공종별내역서!F747 -> 0 | F26: =E26*D26 -> 0 | G26: =공종별내역서!H747 -> 0 | H26: =G26*D26 -> 0 | I26: =공종별내역서!J747 -> 0 | J26: =I26*D26 -> 0 | K26: =E26+G26+I26 -> 0 | L26: =F26+H26+J26 -> 0 | N26: 010120 | P26: 0101 | R26: 3
A27: 010121 관급자 관급자재 | D27: 1 | E27: =공종별내역서!F771 -> 0 | F27: =E27*D27 -> 0 | G27: =공종별내역서!H771 -> 0 | H27: =G27*D27 -> 0 | I27: =공종별내역서!J771 -> 0 | J27: =I27*D27 -> 0 | K27: =E27+G27+I27 -> 0 | L27: =F27+H27+J27 -> 0 | N27: 010121 | P27: 0101 | R27: 3
A28: 010122 도급자 관급자재 | D28: 1 | E28: =공종별내역서!F795 -> 0 | F28: =E28*D28 -> 0 | G28: =공종별내역서!H795 -> 0 | H28: =G28*D28 -> 0 | I28: =공종별내역서!J795 -> 0 | J28: =I28*D28 -> 0 | K28: =E28+G28+I28 -> 0 | L28: =F28+H28+J28 -> 0 | N28: 010122 | P28: 0101 | R28: 3
A29: 010123 동파방지열선 | D29: 1 | E29: =공종별내역서!F819 -> 0 | F29: =E29*D29 -> 0 | G29: =공종별내역서!H819 -> 0 | H29: =G29*D29 -> 0 | I29: =공종별내역서!J819 -> 0 | J29: =I29*D29 -> 0 | K29: =E29+G29+I29 -> 0 | L29: =F29+H29+J29 -> 0 | N29: 010123 | P29: 0101 | R29: 3
A30: 010124 가설전기공사 | D30: 1 | E30: =공종별내역서!F843 -> 0 | F30: =E30*D30 -> 0 | G30: =공종별내역서!H843 -> 0 | H30: =G30*D30 -> 0 | I30: =공종별내역서!J843 -> 0 | J30: =I30*D30 -> 0 | K30: =E30+G30+I30 -> 0 | L30: =F30+H30+J30 -> 0 | N30: 010124 | P30: 0101 | R30: 3
A48: [ 합 계 ] | F48: =F5 -> 0 | H48: =H5 -> 0 | J48: =J5 -> 0 | L48: =L5 -> 0

Sheet 관급자재
A1: [ 2026 인헌전기 ]
A2: 품 명 | B2: 규 격 | C2: 단위 | D2: 수량 | E2: 재 료 비 | G2: 노 무 비 | I2: 경 비 | K2: 합 계 | M2: 비 고 | N2: 품목코드 | O2: 변수 | P2: 설정 | Q2: 공종코드 | R2: 일위 | S2: 단산 | T2: 자재 | U2: 손료적용 | V2: 손료저장 | W2: 적용율 | X2: JUK1 | Y2: JUK2 | Z2: JUK3 | AA2: JUK4 | AB2: JUK5 | AC2: JUK6 | AD2: JUK7 | AE2: JUK8 | AF2: JUK9 | AG2: JUK10 | AH2: JUK11 | AI2: JUK12 | AJ2: JUK13 | AK2: JUK14 | AL2: JUK15 | AM2: JUK16 | AN2: JUK17 | AO2: JUK18 | AP2: JUK19 | AQ2: JUK20 | AR2: 자재구분 | AS2: 공종구분 | AT2: 공종레벨 | AU2: 공종+자재 | AV2: 고유번호
E3: 단 가 | F3: 금 액 | G3: 단 가 | H3: 금 액 | I3: 단 가 | J3: 금 액 | K3: 단 가 | L3: 금 액
A4: 0201120 관급자 관급자재 | D4: 1 | E4: =E5 -> 0 | F4: =F5+F6+F7-386 -> 1.001736e+09 | L4: =F4 -> 1.001736e+09
A5: =A28 -> 020112001.수배전반 | C5: 식 | D5: 1 | F5: =F50 -> 2.7957258e+08 | L5: =F5 -> 2.7957258e+08
A6: 020112002 MCC반 | C6: 식 | D6: 1 | F6: =F74 -> 47812802 | L6: =F6 -> 47812802
A7: =A75 -> 020112103. 태양광설비 | C7: 식 | D7: 1 | F7: =F100 -> 674351000 | L7: =F7 -> 674351000
A9: 0201121 도급자 관급자재 | C9: 식 | D9: 1 | F9: =F10+F11-492 -> 2.57399e+08 | L9: =F9 -> 2.57399e+08
A10: 조명기구 | C10: 식 | D10: 1 | F10: =F124 -> 98811717 | L10: =F10 -> 98811717
A11: 분전반 | C11: 식 | D11: 1 | F11: =F148 -> 1.5858777e+08 | L11: =F11 -> 1.5858777e+08
L15: =F15 -> 0
L16: =F16 -> 0
L17: =F17 -> 0
L18: =F18 -> 0
L19: =F19 -> 0
L20: =F20 -> 0
A26: [ 합 계 ] | F26: =F9+F4 -> 1.259135e+09 | G26: =SUM(G14:G25) -> 0 | H26: =SUM(H14:H25) -> 0 | I26: =SUM(I14:I25) -> 0 | J26: =SUM(J14:J25) -> 0 | L26: =F26 -> 1.259135e+09
A27: '0201120 관급자 관급자재
A28: 020112001.수배전반
A29: 폐쇄형배전반 | C29: 면 | D29: 1 | F29: 278071000 | K29: =TRUNC(E29+G29+I29, 0) -> 0 | L29: =TRUNC(F29+H29+J29, 0) -> 278071000
A38: 조달수수료 | B38: 합계의 0.54% | C38: 식 | D38: 1 | F38: =F29*0.54% -> 1501583.4 | G38: 0 | H38: =TRUNC(G38*D38, 0) -> 0 | I38: 0 | J38: =TRUNC(I38*D38, 0) -> 0 | K38: =TRUNC(E38+G38+I38, 0) -> 0 | L38: =TRUNC(F38+H38+J38, 0) -> 1501583
A50: [ 합 계 ] | F50: =SUM(F29:F49) -> 2.7957258e+08 | G50: =SUM(G29:G49) -> 0 | H50: =SUM(H29:H49) -> 0 | I50: =SUM(I29:I49) -> 0 | J50: =SUM(J29:J49) -> 0 | K50: =SUM(K29:K49) -> 0 | L50: =SUM(L29:L49) -> 279572583
A51: 020112102. MCC반
A52: 전동기제어반 | C52: 1 | D52: SET | E52: 47556000 | F52: =E52 -> 47556000 | K52: =TRUNC(E52+G52+I52, 0) -> 47556000 | L52: =TRUNC(F52+H52+J52, 0) -> 47556000
A58: 소 계 | F58: =SUM(F52:F57) -> 47556000 | G58: =SUM(G50:G57) -> 0 | H58: =SUM(H50:H57) -> 0 | I58: =SUM(I50:I57) -> 0 | J58: =SUM(J50:J57) -> 0 | L58: =SUM(L52:L57) -> 47556000
A71: 조달수수료 | B71: 합계의 0.54% | C71: 식 | D71: 1 | F71: =F58*0.54% -> 256802.4 | L71: =F71 -> 256802.4
A74: [ 합 계 ] | F74: =F71+F58 -> 47812802 | H74: =SUM(H52:H73) -> 0 | J74: =SUM(J52:J73) -> 0 | L74: =L71+L58 -> 47812802
A75: 020112103. 태양광설비
A76: 태양광발전장치 | B76: PVQMax-Roof Type-BIPV75, 루프형 | C76: 조 | D76: 1 | E76: 177770000 | F76: =D76*E76 -> 177770000 | L76: =F76 -> 177770000
A77: 태양광발전장치 | B77: PVQMax-Roof Type-BIPV40, 루프형 | C77: 조 | D77: 1 | E77: 97770000 | F77: =D77*E77 -> 97770000 | L77: =F77 -> 97770000
A78: 태양광발전장치 | B78: PVQMax-Roof Type-BIPV35, 루프형 | C78: 조 | D78: 2 | E78: 85550000 | F78: =D78*E78 -> 171100000 | L78: =F78 -> 171100000
A79: 태양광발전장치 | B79: PVQMax-Roof-E Type-BIPV35, 루프형 | C79: 조 | D79: 1 | E79: 149800000 | F79: =D79*E79 -> 149800000 | L79: =F79 -> 149800000
A80: 태양광발전장치 | B80: PVQMax-Roof-E Type-BIPV15, 루프형 | C80: 조 | D80: 1 | E80: 69000000 | F80: =D80*E80 -> 69000000 | L80: =F80 -> 69000000
A81: 태양광발전장치 | B81: PVQMax-MON, (부품)모니터링시스템 | C81: 조 | D81: 1 | E81: 5290000 | F81: =D81*E81 -> 5290000 | L81: =F81 -> 5290000
A82: 소 계 | F82: =SUM(F75:F81) -> 670730000 | G82: =SUM(G73:G81) -> 0 | H82: =SUM(H73:H81) -> 0 | I82: =SUM(I73:I81) -> 0 | J82: =SUM(J73:J81) -> 0 | L82: =SUM(L75:L81) -> 670730000
A85: 조달수수료 | B85: 합계의 0.54% | C85: 식 | D85: 1 | F85: =F82*0.54% -> 3621942 | L85: =F85 -> 3621942
A100: [ 합 계 ] | F100: =F82+F85-942 -> 674351000 | G100: =SUM(G76:G99) -> 0 | H100: =SUM(H76:H99) -> 0 | I100: =SUM(I76:I99) -> 0 | J100: =SUM(J76:J99) -> 0 | K100: =SUM(K76:K99) -> 0 | L100: =L82+L85-942 -> 674351000
A101: 020112101.조명기구
A102: '조명기구 TYPE "A" | B102: 평판매입등 | D102: 912 | E102: 59000 | F102: =D102*E102 -> 53808000 | I102: 0 | J102: 0 | K102: =E102 -> 59000 | L102: =F102 -> 53808000
A103: '조명기구 TYPE "C1" | B103: 레이스웨이 조명 | D103: 43 | E103: 65000 | F103: =D103*E103 -> 2795000 | I103: 0 | J103: 0 | K103: =E103 -> 65000 | L103: =F103 -> 2795000
...

Sheet 공종별내역서
A1: [ 서울인헌초그린스마트미래학교증개축전기공사 ]
A2: 품 명 | B2: 규 격 | C2: 단위 | D2: 수량 | E2: 재 료 비 | G2: 노 무 비 | I2: 경 비 | K2: 합 계 | M2: 비 고 | N2: 품목코드 | O2: 변수 | P2: 설정 | Q2: 공종코드 | R2: 일위 | S2: 단산 | T2: 자재 | U2: 손료적용 | V2: 손료저장 | W2: 적용율 | X2: JUK1 | Y2: JUK2 | Z2: JUK3 | AA2: JUK4 | AB2: JUK5 | AC2: JUK6 | AD2: JUK7 | AE2: JUK8 | AF2: JUK9 | AG2: JUK10 | AH2: JUK11 | AI2: JUK12 | AJ2: JUK13 | AK2: JUK14 | AL2: JUK15 | AM2: JUK16 | AN2: JUK17 | AO2: JUK18 | AP2: JUK19 | AQ2: JUK20 | AR2: 자재구분 | AS2: 공종구분 | AT2: 공종레벨 | AU2: 공종+자재 | AV2: 고유번호
E3: 단 가 | F3: 금 액 | G3: 단 가 | H3: 금 액 | I3: 단 가 | J3: 금 액 | K3: 단 가 | L3: 금 액
A4: 010101 옥외전기설비공사 | Q4: 010101
A5: 접지용비닐절연전선 | B5: 접지용비닐절연전선, F-GV, 4㎟ | C5: M | D5: 501 | N5: 5629111196BBA49320CB0877221B97 | Q5: 010101 | R5: T | S5: F | T5: F | AU5: 0101015629111196BBA49320CB0877221B97 | AV5: 4
A6: 접지봉 | B6: 접지봉, 14∮*1000mm | C6: 개 | D6: 16 | N6: 5629111196BBA49320CB087725E6D8 | Q6: 010101 | R6: T | S6: F | T6: F | AU6: 0101015629111196BBA49320CB087725E6D8 | AV6: 5
A7: 파상형경질폴리에틸렌전선관 | B7: 파상형경질폴리에틸렌전선관, ELP, 30mm | C7: M | D7: 103 | N7: 5629111196BBA49320CB087728A757 | Q7: 010101 | R7: T | S7: F | T7: F | AU7: 0101015629111196BBA49320CB087728A757 | AV7: 6
A8: 파상형경질폴리에틸렌전선관 | B8: 파상형경질폴리에틸렌전선관, ELP, 40mm | C8: M | D8: 398 | N8: 5629111196BBA49320CB087728A6B0 | Q8: 010101 | R8: T | S8: F | T8: F | AU8: 0101015629111196BBA49320CB087728A6B0 | AV8: 7
A9: 터파기/토사 | B9: 보통, 굴삭기 0.7m3 70%, 인력30% | C9: M3 | D9: 496 | N9: 568071119112E0C710616F0546AAEF | Q9: 010101 | R9: F | S9: T | T9: F | AU9: 010101568071119112E0C710616F0546AAEF | AV9: 8
A10: 가로등 기초(기성품) 설치(장비별도) | B10: 높이4m이하 | C10: 개소 | D10: 16 | N10: 56EE91119A562DB330C04498F37ED7 | Q10: 010101 | R10: T | S10: F | T10: F | AU10: 01010156EE91119A562DB330C04498F37ED7 | AV10: 9
A11: 0.6/1kv 난연 전력케이블(F-CV) | B11: 2C*4㎟ | C11: M | D11: 103 | N11: 56EE91119D64C611706937B7C70C41 | Q11: 010101 | R11: T | S11: F | T11: F | AU11: 01010156EE91119D64C611706937B7C70C41 | AV11: 10
A12: 0.6/1kv 난연 전력케이블(F-CV) | B12: 2C*4㎟-2열 | C12: M | D12: 796 | N12: 56EE91119D64C611706937B7C70C40 | Q12: 010101 | R12: T | S12: F | T12: F | AU12: 01010156EE91119D64C611706937B7C70C40 | AV12: 11
A13: 관로구방수 | B13: ∮40 | C13: 개소 | D13: 1 | N13: 56EE91119D64AB45A0F5C1B0B5714A | Q13: 010101 | R13: T | S13: F | T13: F | AU13: 01010156EE91119D64AB45A0F5C1B0B5714A | AV13: 12
A14: 전기위험 표지시트 | B14: 저압용200MM(통신겸용) | C14: M | D14: 496 | N14: 56EE91119D64AB45A0F5C0AA6A2510 | Q14: 010101 | R14: T | S14: F | T14: F | AU14: 01010156EE91119D64AB45A0F5C0AA6A2510 | AV14: 13
A15: 가로등 방수 접속함 | B15: 2P 15A | C15: 개 | D15: 16 | N15: 571251119747C1E5809A8A8C95EFFA | Q15: 010101 | R15: T | S15: F | T15: F | AU15: 010101571251119747C1E5809A8A8C95EFFA | AV15: 17
Q16: 010101
Q17: 010101
Q18: 010101
Q19: 010101
Q20: 010101
Q21: 010101
Q22: 010101
Q23: 010101
Q24: 010101
Q25: 010101
Q26: 010101
A27: [ 합 계 ] | F27: =SUMIF(Q5:Q26,"010101",F5:F26) -> 0 | H27: =SUMIF(Q5:Q26,"010101",H5:H26) -> 0 | J27: =SUMIF(Q5:Q26,"010101",J5:J26) -> 0 | L27: =SUMIF(Q5:Q26,"010101",L5:L26) -> 0 | N27: TOTAL
A28: 010102 수변전설비공사 | Q28: 010102
A29: 수배전반 | B29: 950KW | C29: SET | D29: 1 | M29: 관급자재 | N29: 571251119747C1E5809A8A8C95EEECF9A85B99 | R29: F | S29: F | T29: T | AR29: 관급자재 | AU29: 010102571251119747C1E5809A8A8C95EEECF9A85B99 | AV29: 550
A30: 맨홀뚜껑 | B30: 맨홀뚜껑, 회주철, Φ750mm, 송배전한전신규격 | C30: 조 | D30: 1 | N30: 518181119EFFD05460132762AA6F186F9E1047 | Q30: 010102 | R30: F | S30: F | T30: T | AU30: 010102518181119EFFD05460132762AA6F186F9E1047 | AV30: 19
A31: 케이블단말접속자재 | B31: 케이블단말접속자재, 자기수축, 25kv, 3C*60㎟ | C31: KIT | D31: 2 | N31: 5629111196BBA49320CB087724C0D5 | Q31: 010102 | R31: T | S31: F | T31: F | AU31: 0101025629111196BBA49320CB087724C0D5 | AV31: 20
A32: 러그단자 | B32: 러그단자, 동관단자, 2홀, 95㎟ | C32: 개 | D32: 4 | N32: 5629111196BBA49320CB087725EAB3 | Q32: 010102 | R32: T | S32: F | T32: F | AU32: 0101025629111196BBA49320CB087725EAB3 | AV32: 21
A33: 러그단자 | B33: 러그단자, 동관단자, 2홀, 120㎟ | C33: 개 | D33: 4 | N33: 5629111196BBA49320CB087725E9AC | Q33: 010102 | R33: T | S33: F | T33: F | AU33: 0101025629111196BBA49320CB087725E9AC | AV33: 22
A34: 전주 | B34: 철근콘크리트주, 한전용, 경하중 16m | C34: 본 | D34: 1 | N34: 5629111196BBA49320CB087726F479 | Q34: 010102 | R34: T | S34: F | T34: F | AU34: 0101025629111196BBA49320CB087726F479 | AV34: 23
A35: 터파기/토사 | B35: 보통, 굴삭기 0.7m3 70%, 인력30% | C35: M3 | D35: 20 | N35: 568071119112E0C710616F0546AAEF | Q35: 010102 | R35: F | S35: T | T35: F | AU35: 010102568071119112E0C710616F0546AAEF | AV35: 24
A36: 경질비닐PVC전선관-매입 | B36: HI, 36mm | C36: M | D36: 14 | N36: 56EE91119D64E2FA6079FCD89ACDD3 | Q36: 010102 | R36: T | S36: F | T36: F | AU36: 01010256EE91119D64E2FA6079FCD89ACDD3 | AV36: 25
A37: 경질비닐PVC전선관-매입 | B37: HI, 42mm | C37: M | D37: 19 | N37: 56EE91119D64E2FA6079FCD89ACEFA | Q37: 010102 | R37: T | S37: F | T37: F | AU37: 01010256EE91119D64E2FA6079FCD89ACEFA | AV37: 26
A38: 파상형경질폴리에틸렌전선관-지중포설 | B38: 125㎜ | C38: M | D38: 40 | N38: 56EE91119D64E2FA00D1BEF915A7E8 | Q38: 010102 | R38: T | S38: F | T38: F | AU38: 01010256EE91119D64E2FA00D1BEF915A7E8 | AV38: 27
A39: 난연 비닐절연접지용전선(F-GV)-관내 | B39: 0.6/1kv, 95㎟ | C39: M | D39: 14 | N39: 56EE91119D64D089D0B75F45A12F35 | Q39: 010102 | R39: T | S39: F | T39: F | AU39: 01010256EE91119D64D089D0B75F45A12F35 | AV39: 28
A40: 난연 비닐절연접지용전선(F-GV)-관내 | B40: 0.6/1kv, 120㎟ | C40: M | D40: 19 | N40: 56EE91119D64D089D0B75F45A12E2E | Q40: 010102 | R40: T | S40: F | T40: F | AU40: 01010256EE91119D64D089D0B75F45A12E2E | AV40: 29
...
