Workbook

Sheet 표지
A2: 신안바다수산 의뢰
B3: 「전자동 해태건조기(12-Is2T2F-#70×20D) 제조」에 대한 | D3: 전자동 해태건조기(12-Is2T2F-#70×20D) 제조
A4: 원가계산보고서
A14: 2026. 03.

Sheet 결과
A1: Ⅰ. 원가계산 결과
A3: 신안바다수산 귀중
A5: 우리 연구원에서 조사 기준일 현재로 산정한 "전자동 해태건조기(12-Is2T2F-#70×20D) 제조"에 대한 원가계산 결과는 다음과 같습니다.
G7: (단위 : 원)
A8: 품 명 | B8: 단위 | C8: 수량 | D8: 총 원 가 | E8: 부가가치세 | F8: 합 계 | G8: 비고
A10: 전자동 해태건조기 (12-Is2T2F-#70×20D) | B10: 식 | C10: 1 | D10: =SUM(총괄!E36:E38) -> 1072468182 | E10: =ROUND(D10*0.1,0) -> 107246818 | F10: =SUM(D10:E10) -> 1179715000
A12: 주) 세부산출내용은 이하의 내역서를 참조 바랍니다.
A18: =표지!A14 -> 2026. 03.
G24: 財團法人 韓國産業評價院
G25: 이 사 장 김 재 열 (인)

Sheet 간지4
A5: Ⅳ. 원가계산서

Sheet 총괄
A1: Ⅳ. 원가계산서
A3: ="품 명 : "&표지!$D$3 -> 품 명 : 전자동 해태건조기(12-Is2T2F-#70×20D) 제조 | G3: (단위 : 원)
A4: 구 분 | E4: 금 액 | F4: 구성비 (%) | G4: 비 고
A5: 비 목
A6: ①재료비 | C6: 직접재료비 | E6: =재료집계!F23 -> 447457080
C7: 간접재료비 | E7: =재료집계!G23 -> 8949141
C8: 작업설(△) | E8: 0
C9: 소계 | E9: =SUM(E6:E7)-E8 -> 456406221 | F9: =ROUND(E9/$E$41,3) -> 0.387 | G9: =재료집계!$A$3&"참조" -> <표 1> 참조
A10: ②노무비 | C10: 직접노무비 | E10: =노무집계!F23 -> 230620511
C11: 간접노무비 | E11: =노무집계!G23 -> 63190020
C12: 소 계 | E12: =SUM(E10:E11) -> 293810531 | F12: =ROUND(E12/$E$41,3) -> 0.249 | G12: =노무집계!$A$3&"참조" -> <표 5> 참조
A13: ③ 경 비 | C13: 전 력 비 | E13: =경비집계!E10 -> 10008425
C14: 수도광열비 | E14: =경비집계!E11 -> 610269
C15: 운 반 비 | E15: =경비집계!E12 -> 2922514
C16: 감가상각비 | E16: =경비집계!E13 -> 16714612
C17: 수리수선비 | E17: =경비집계!E14 -> 983212
C18: 특허권사용료 | E18: =경비집계!E15 -> 0
C19: 기 술 료 | E19: =경비집계!E16 -> 0
C20: 연구개발비 | E20: =경비집계!E17 -> 0
C21: 차량유지비 | E21: =경비집계!E18 -> 4027780
C22: 지급임차료 | E22: =경비집계!E19 -> 36900982
C23: 보 험 료 | E23: =경비집계!E20 -> 11018760
C24: 복리후생비 | E24: =경비집계!E21 -> 19713441
C25: 보 관 비 | E25: =경비집계!E22 -> 0
... C34: 기타법정경비 | E34: =경비집계!E31 -> 705200
C35: 소 계 | E35: =SUM(E13:E34) -> 141653483 | F35: =ROUND(E35/$E$41,3) -> 0.12 | G35: =경비집계!A3&"참조" -> <표 11> 참조
A36: ④ | B36: 제조원가 | E36: =SUM(E9,E12,E35) -> 891870235 | F36: =SUM(F9,F12,F35) -> 0.756 | G36: ①+②+③
A37: ⑤ | B37: 일반관리비 | E37: =일반!G7 -> 62430916 | F37: =ROUND(E37/$E$41,3) -> 0.053 | G37: ="(①+②+③) × "&TEXT(일반!F7, "0.00%") -> (①+②+③) × 7.00%
A38: ⑥ | B38: 이윤 | E38: =이윤!G7 -> 118167031 | F38: =1-SUM(F36,F37,F40) -> 0.1 | G38: ="(②+③+⑤) × "&TEXT(이윤!F7, "0.0%") -> (②+③+⑤) × 25.0%
A39: ⑦ | B39: 총원가 | E39: =SUM(E36:E38) -> 1072468182 | F39: =SUM(F36:F38) -> 0.909 | G39: ④+⑤+⑥
A40: ⑧ | B40: 부가가치세 | E40: =ROUND(E39*0.1,0) -> 107246818 | F40: =ROUND(E40/$E$41,3) -> 0.091 | G40: ⑦ × 10%
A41: ⑨ | B41: 합계 | E41: =SUM(E39:E40) -> 1179715000 | F41: =SUM(F39:F40) -> 1 | G41: ⑦ + ⑧

Sheet 간지5
A5: Ⅴ. 원가요소별 산출내역

Sheet 속지1
A5: 1. 재 료 비

Sheet 재료집계
A1: 재료비 집계표
A3: <표 1> | I3: (단위 : 원)
A4: No. | B4: 품 명 | C4: 재질 및 규격 | D4: 단 위 | E4: 수 량 | F4: 직접재료비 | G4: 간접재료비 | H4: 금 액 | I4: 비 고
A5: 제조 | B5: =표지!$D$3 -> 전자동 해태건조기(12-Is2T2F-#70×20D) 제조
B6: 1. 초제기sts | D6: 식 | E6: 1 | F6: =직재산출!S320 -> 21582255 | H6: =SUM(F6:G6) -> 21582255
B7: 2. 탈수기sts | D7: 식 | E7: 1 | F7: =직재산출!S421 -> 14113172 | H7: =SUM(F7:G7) -> 14113172
B8: 3. 김떼기 | D8: 식 | E8: 1 | F8: =직재산출!S747 -> 19492636 | H8: =SUM(F8:G8) -> 19492636
B9: 4. 정렬기 | D9: 식 | E9: 1 | F9: =직재산출!S1082 -> 3289321 | H9: =SUM(F9:G9) -> 3289321
B10: 5. 2F 개폐식 구동 | D10: 식 | E10: 1 | F10: =직재산출!S2011 -> 53377569 | H10: =SUM(F10:G10) -> 53377569
B11: 6. 2타임 | D11: 식 | E11: 1 | F11: =직재산출!S2430 -> 11211657 | H11: =SUM(F11:G11) -> 11211657
B12: 7. 2F 개폐식 프레임 | D12: 식 | E12: 1 | F12: =직재산출!S2671 -> 9965313 | H12: =SUM(F12:G12) -> 9965313
B13: 8. 2F 개폐식 발판 | D13: 식 | E13: 1 | F13: =직재산출!S2778 -> 6989475 | H13: =SUM(F13:G13) -> 6989475
B14: 9. 반전 | D14: 식 | E14: 1 | F14: =직재산출!S2803 -> 876717 | H14: =SUM(F14:G14) -> 876717
B15: 10. 2F 테일부 | D15: 식 | E15: 1 | F15: =직재산출!S2875 -> 1893177 | H15: =SUM(F15:G15) -> 1893177
B16: 11. 2F 개폐식 커버 | D16: 식 | E16: 1 | F16: =직재산출!S3057 -> 9176692 | H16: =SUM(F16:G16) -> 9176692
B17: 12. 2F 레일-P | D17: 식 | E17: 1 | F17: =직재산출!S3492 -> 2596177 | H17: =SUM(F17:G17) -> 2596177
B18: 13. 건조실 | D18: 식 | E18: 1 | F18: =직재산출!S3599 -> 49130564 | H18: =SUM(F18:G18) -> 49130564
B19: 14. 연소실 | D19: 식 | E19: 1 | F19: =직재산출!S3705 -> 25089983 | H19: =SUM(F19:G19) -> 25089983
B20: 15. 기타설비 | D20: 식 | E20: 1 | F20: =직재산출!S3715 -> 218672372 | H20: =SUM(F20:G20) -> 218672372
H22: =SUM(F22:G22) -> 0
B23: 합 계 | F23: =SUM(F6:F22) -> 447457080 | G23: =간재!H6 -> 8949141 | H23: =SUM(F23:G23) -> 456406221
A24: ="주 1) 직접재료비 : "&직재산출!C3&직재산출!C1&" 참조" -> 주 1) 직접재료비 : <표 2> 직접재료비 산출표 참조
A25: =" 2) 간접재료비 : "&간재!A3&간재!A1&" 참조" -> 2) 간접재료비 : <표 3> 간접재료비 산출표 참조

Sheet 직재산출
C1: 직접재료비 산출표
C3: <표 2> | T3: (단위 : 원)
C4: 품 명 | F4: 규 격 | M4: 재 질 | N4: 수 량 | Q4: 중 량 | R4: 단 가 | S4: 금 액 | T4: 비 고 | U4: 연 | V4: 칸수 | W4: 재래 | X4: 기본 | Y4: 연
F5: 호 칭 | L5: 길 이 | U5: 12 | V5: 20 | W5: O | Y5: 12
C6: =재료집계!B6 -> 1. 초제기sts
A7: M0001 | C7: 베어링고정대 | D7: 레이저 | E7: 레이저 | F7: 6 | G7: × | H7: 260 | I7: × | L7: 500 | M7: STS304 | N7: =U5*1 -> 12 | O7: 14 | P7: =N7-O7 -> -2 | Q7: =F7*H7*L7*0.00000785*N7 -> 73.476 | R7: 939 | S7: =Q7*R7 -> 68993.964
A8: M0002 | C8: 베어링고정대 | D8: 클러치칼라 | E8: 환봉 | F8: 50 | G8: × | L8: 30 | M8: STS304 | N8: 4 | O8: 4 | P8: =N8-O8 -> 0 | Q8: =3.14156295*(F8/2)^2*L8*0.00000785*N8 -> 1.8495952 | R8: 990 | S8: =Q8*R8 -> 1831.0992 | V8: 18500000
A9: M0003 | C9: 베어링고정대 | D9: 다이볼트 | E9: 육각볼트 | F9: M12 | G9: × | H9: L30 | M9: STS304 | N9: =N7*2 -> 24 | O9: 28 | P9: =N9-O9 -> -4 | R9: 432 | S9: =N9*R9 -> 10368
A10: M0004 | C10: 베어링고정대 | D10: 너트 | E10: 너트 | F10: M12 | M10: STS304 | N10: =N7*2 -> 24 | O10: 28 | P10: =N10-O10 -> -4 | R10: 157.3 | S10: =N10*R10 -> 3775.2
A11: M0005 | C11: 베어링고정대 | D11: 와셔 S | E11: 와셔 S | F11: M12 | M11: STS304 | N11: =N7*2 -> 24 | O11: 28 | P11: =N11-O11 -> -4 | R11: 49.2 | S11: =N11*R11 -> 1180.8
A12: M0006 | C12: 베어링고정대 | D12: 와셔 P | E12: 와셔 P | F12: M12 | M12: STS304 | N12: =N7*4 -> 48 | O12: 56 | P12: =N12-O12 -> -8 | R12: 53.7 | S12: =N12*R12 -> 2577.6
A13: M0007 | C13: 초재 축 | D13: 캠축 | E13: 환봉 | F13: 40 | G13: × | L13: 4300 | M13: STS304 | N13: 2 | O13: 2 | P13: =N13-O13 -> 0 | Q13: =3.14156295*(F13/2)^2*L13*0.00000793*N13 -> 85.699324 | R13: 4950 | S13: =Q13*R13 -> 424211.65
C14: 초재 축 | D14: 고정 B/R | E14: 베어링 | F14: UCFL208 | M14: STS304 | N14: =N7 -> 12 | O14: 14 | P14: =N14-O14 -> -2 | R14: 17474 | S14: =N14*R14 -> 209688
A15: M0009 | C15: 초재 축 | D15: 육각볼트 | E15: 육각볼트 | F15: M14 | G15: × | H15: L40 | N15: =N14*2 -> 24 | O15: 28 | P15: =N15-O15 -> -4 | R15: 262.9 | S15: =N15*R15 -> 6309.6
A16: M0010 | C16: 초재 축 | D16: 너트 | E16: 너트 | F16: M14 | N16: =N14*2 -> 24 | O16: 28 | P16: =N16-O16 -> -4 | R16: 61.9 | S16: =N16*R16 -> 1485.6
A17: M0011 | C17: 초재 축 | D17: 와셔 S | E17: 와셔 S | F17: M14 | N17: =N14*2 -> 24 | O17: 28 | P17: =N17-O17 -> -4 | R17: 21.7 | S17: =N17*R17 -> 520.8
A18: M0012 | C18: 초재 축 | D18: 와셔 P | E18: 와셔 P | F18: M14 | N18: =N14*4 -> 48 | O18: 56 | P18: =N18-O18 -> -8 | R18: 33.3 | S18: =N18*R18 -> 1598.4
C19: 초재 축 | D19: 축와셔 | E19: 축와셔 | F19: Ø60 | N19: 1 | O19: 1 | P19: =N19-O19 -> 0 | R19: 2404 | S19: =N19*R19 -> 2404
A20: M0014 | C20: 초재 축 | D20: 볼트 | E20: 육각볼트 | F20: M12 | G20: × | H20: L30 | N20: 2 | O20: 2 | P20: =N20-O20 -> 0 | R20: 129.8 | S20: =N20*R20 -> 259.6
A21: M0015 | C21: 초재 축 | D21: 와셔 S | E21: 와셔 S | F21: M12 | N21: 2 | O21: 2 | P21: =N21-O21 -> 0 | R21: 14 | S21: =N21*R21 -> 28
C22: 초재 축 | D22: 캠구동스프라켓 | E22: 스프라켓 | F22: #60x18T | N22: 2 | O22: 2 | P22: =N22-O22 -> 0 | Q22: 주문품 | R22: 26250 | S22: =N22*R22 -> 52500
C23: 초재 축 | D23: 키 | E23: 키 | F23: 10x8 | L23: 50 | N23: 2 | O23: 2 | P23: =N23-O23 -> 0 | R23: 742 | S23: =N23*R23 -> 1484
A24: M0018 | C24: 초재 축 | D24: 무두볼트 | E24: 무두볼트 | F24: M12x15 | N24: 4 | O24: 4 | P24: =N24-O24 -> 0 | R24: 52 | S24: =N24*R24 -> 208
C25: 초재 축 | D25: 사각틀캠 | E25: 레이저 | F25: 16 | H25: 160 | L25: 120 | M25: SM45C | N25: 8 | O25: 8 | P25: =N25-O25 -> 0 | Q25: =F25*H25*L25*0.00000785*N25 -> 19.29216 | R25: 4958 | S25: =Q25*R25 -> 95650.529
A26: M0020 | C26: 초재 축 | D26: 사각틀캠 | E26: 환봉 | F26: 80 | L26: 44 | N26: 8 | O26: 8 | P26: =N26-O26 -> 0 | Q26: =3.14156295*(F26/2)^2*L26*0.00000785*N26 -> 13.889227 | R26: 990 | S26: =Q26*R26 -> 13750.335
A27: M0021 | C27: 초재 축 | D27: 고정볼트 | E27: 육각볼트 | F27: M10 | G27: × | H27: L40 | N27: 32 | O27: 32 | P27: =N27-O27 -> 0 | R27: 102.7 | S27: =N27*R27 -> 3286.4
A28: M0022 | C28: 초재 축 | D28: 와셔 P | E28: 와셔 P | F28: M10 | N28: 32 | O28: 32 | P28: =N28-O28 -> 0 | R28: 13.5 | S28: =N28*R28 -> 432
A29: M0023 | C29: 초재 축 | D29: 와셔 S | E29: 와셔 S | F29: M10 | N29: 32 | O29: 32 | P29: =N29-O29 -> 0 | R29: 9.2 | S29: =N29*R29 -> 294.4
C30: 초재 인버터 | D30: 초재모터 | E30: 모터 | F30: 기어드 1hp 1/40 max2 | N30: 2 | O30: 2 | P30: =N30-O30 -> 0 | R30: 569087 | S30: =N30*R30 -> 1138174
A31: M0001 | C31: 초재 인버터 | D31: 모터다이 | E31: 레이저 | F31: 6 | H31: 310 | L31: 380 | M31: STS304 | N31: 2 | O31: 2 | P31: =N31-O31 -> 0 | Q31: =F31*H31*L31*0.00000785*N31 -> 11.09676 | R31: 939 | S31: =Q31*R31 -> 10419.858
A32: M3967 | C32: 초재 인버터 | D32: 모터다이 | E32: 레이저 | F32: 9 | H32: 250 | L32: 50 | M32: STS304 | N32: 2 | O32: 2 | P32: =N32-O32 -> 0 | Q32: =F32*H32*L32*0.00000785*N32 -> 1.76625 | R32: 941 | S32: =Q32*R32 -> 1662.0412
A33: M0001 | C33: 초재 인버터 | D33: 센서브라켓 | E33: 레이저 | F33: 6 | H33: 50 | L33: 80 | M33: STS304 | N33: 2 | O33: 2 | P33: =N33-O33 -> 0 | Q33: =F33*H33*L33*0.00000785*N33 -> 0.3768 | R33: 939 | S33: =Q33*R33 -> 353.8152
A34: M0021 | C34: 초재 인버터 | D34: 고정볼트 | E34: 육각볼트 | F34: M10 | G34: × | H34: L40 | N34: 10 | O34: 10 | P34: =N34-O34 -> 0 | R34: 102.7 | S34: =N34*R34 -> 1027
A35: M0028 | C35: 초재 인버터 | D35: 너트 | E35: 너트 | F35: M10 | N35: 14 | O35: 14 | P35: =N35-O35 -> 0 | R35: 28.7 | S35: =N35*R35 -> 401.8
A36: M0022 | C36: 초재 인버터 | D36: 와셔 P | E36: 와셔 P | F36: M10 | N36: 28 | O36: 28 | P36: =N36-O36 -> 0 | R36: 13.5 | S36: =N36*R36 -> 378
A37: M0023 | C37: 초재 인버터 | D37: 와셔 S | E37: 와셔 S | F37: M10 | N37: 12 | O37: 12 | P37: =N37-O37 -> 0 | R37: 9.2 | S37: =N37*R37 -> 110.4
A38: M0020 | C38: 초재 인버터 | D38: 분사캠 | E38: 환봉 | F38: 140 | L38: 20 | M38: SM45C | N38: 2 | O38: 2 | P38: =N38-O38 -> 0 | R38: 4777 | S38: =N38*R38 -> 9554
A39: M0020 | C39: 초재 인버터 | D39: 분사캠 | E39: 환봉 | F39: 80 | L39: 40 | N39: =N38 -> 2 | O39: 2 | P39: =N39-O39 -> 0 | Q39: =3.14156295*(F39/2)^2*L39*0.00000785*N39 -> 3.1566425 | R39: 990 | S39: =Q39*R39 -> 3125.076
C40: 초재 인버터 | D40: 분사캠 | E40: 평철 | F40: 31 | H40: 18 | L40: 50 | M40: SM45C | N40: 2 | O40: 2 | P40: =N40-O40 -> 0 | Q40: =F40*H40*L40*0.00000785*N40 -> 0.43803 | R40: 450 | S40: =Q40*R40 -> 197.1135
C41: 초재 인버터 | D41: 베어링 | E41: 베어링 | F41: 6206 | M41: STS304 | N41: 2 | O41: 2 | P41: =N41-O41 -> 0 | R41: 10631 | S41: =N41*R41 -> 21262
A42: M0009 | C42: 초재 인버터 | D42: 육각볼트 | E42: 육각볼트 | F42: M14 | G42: × | H42: L40 | N42: =N41*2 -> 4 | O42: 4 | P42: =N42-O42 -> 0 | R42: 262.9 | S42: =N42*R42 -> 1051.6
A43: M0010 | C43: 초재 인버터 | D43: 너트 | E43: 너트 | F43: M14 | N43: =N41*2 -> 4 | O43: 4 | P43: =N43-O43 -> 0 | R43: 61.9 | S43: =N43*R43 -> 247.6
A44: M0011 | C44: 초재 인버터 | D44: 와셔 S | E44: 와셔 S | F44: M14 | N44: =N41*2 -> 4 | O44: 4 | P44: =N44-O44 -> 0 | R44: 21.7 | S44: =N44*R44 -> 86.8
A45: M0012 | C45: 초재 인버터 | D45: 와셔 P | E45: 와셔 P | F45: M14 | N45: =N41*4 -> 8 | O45: 8 | P45: =N45-O45 -> 0 | R45: 33.3 | S45: =N45*R45 -> 266.4
A46: M0007 | C46: 초재 인버터 | D46: Collar | E46: 환봉 | F46: 60 | G46: × | L46: 22 | M46: STS | N46: 2 | O46: 2 | P46: =N46-O46 -> 0 | Q46: =3.14156295*(F46/2)^2*L46*0.00000793*N46 -> 0.98653873 | R46: 4950 | S46: =Q46*R46 -> 4883.3667
A47: M0039 | C47: 초재 인버터 | D47: 무두볼트 | E47: 무두볼트 | F47: M10 | G47: × | H47: L16 | N47: 8 | O47: 8 | P47: =N47-O47 -> 0 | R47: 52 | S47: =N47*R47 -> 416
A48: M0040 | C48: 초재 인버터 | D48: 센서 캠 | E48: 레이저 | F48: 9 | H48: 120 | L48: 120 | M48: STS | N48: 2 | O48: 2 | P48: =N48-O48 -> 0 | Q48: =F48*H48*L48*0.00000793*N48 -> 2.055456 | R48: 4550 | S48: =Q48*R48 -> 9352.3248
A49: M0041 | C49: 초재 인버터 | D49: 센서 캠 | E49: 무두볼트 | F49: M8 | G49: × | H49: L10 | M49: STS304 | N49: 4 | O49: 4 | P49: =N49-O49 -> 0 | R49: 16 | S49: =N49*R49 -> 64
A50: M0007 | C50: 초재 인버터 | D50: 캠축 | E50: 환봉 | F50: 30 | G50: × | L50: 305 | M50: STS304 | N50: 2 | O50: 2 | P50: =N50-O50 -> 0 | Q50: =3.14156295*(F50/2)^2*L50*0.00000793*N50 -> 3.4192536 | R50: 4950 | S50: =Q50*R50 -> 16925.305
A51: M0007 | C51: 초재 인버터 | D51: 캠축 | E51: 환봉 | F51: 55 | G51: × | L51: 85 | M51: STS304 | N51: 2 | O51: 2 | P51: =N51-O51 -> 0 | Q51: =3.14156295*(F51/2)^2*L51*0.00000793*N51 -> 3.2028254 | R51: 4950 | S51: =Q51*R51 -> 15853.986
A52: M0041 | C52: 초재 인버터 | D52: 캠축 | E52: 무두볼트 | F52: M8 | G52: × | H52: L10 | M52: STS304 | N52: 8 | O52: 8 | P52: =N52-O52 -> 0 | R52: 16 | S52: =N52*R52 -> 128
A53: M0046 | C53: 초재 인버터 | D53: 근접 브라켓 | E53: 레이저 | F53: 6 | G53: × | H53: 50 | L53: 80 | M53: STS304 | N53: 2 | O53: 2 | P53: =N53-O53 -> 0 | Q53: =F53*H53*L53*0.00000785*N53 -> 0.3768 | R53: 939 | S53: =Q53*R53 -> 353.8152
A54: M0047 | C54: 초재 인버터 | D54: 축볼트 | E54: 육각볼트 | F54: M8 | G54: × | H54: L40 | M54: STS304 | N54: 2 | O54: 2 | P54: =N54-O54 -> 0 | R54: 188 | S54: =N54*R54 -> 376
A55: M0048 | C55: 초재 인버터 | D55: 너트 | E55: 너트 | F55: M8 | M55: STS304 | N55: 6 | O55: 6 | P55: =N55-O55 -> 0 | R55: 45.7 | S55: =N55*R55 -> 274.2
A56: M0049 | C56: 초재 인버터 | D56: 와셔 S | E56: 와셔 S | F56: M8 | M56: STS304 | N56: 4 | O56: 4 | P56: =N56-O56 -> 0 | R56: 19.5 | S56: =N56*R56 -> 78
A57: M0050 | C57: 초재 인버터 | D57: 와셔 P | E57: 와셔 P | F57: M8 | M57: STS304 | N57: 8 | O57: 8 | P57: =N57-O57 -> 0 | R57: 16.14 | S57: =N57*R57 -> 129.12
A58: M0001 | C58: 초재 인버터 | D58: 베어링고정대 | E58: 레이저 | F58: 6 | G58: × | H58: 290 | I58: × | L58: 390 | M58: STS304 | N58: 2 | Q58: =F58*H58*L58*0.00000785*N58 -> 10.65402 | R58: 939 | S58: =Q58*R58 -> 10004.125
A59: M3967 | C59: 초재 인버터 | D59: 베어링고정대 | E59: 레이저 | F59: 9 | H59: 250 | L59: 50 | M59: STS304 | N59: 2 | Q59: =F59*H59*L59*0.00000785*N59 -> 1.76625 | R59: 941 | S59: =Q59*R59 -> 1662.0412
A60: M0001 | C60: 초재 인버터 | D60: 모터다이보강 | E60: 레이저 | F60: 9 | H60: 160 | L60: 210 | M60: STS | N60: 2 | Q60: =F60*H60*L60*0.00000785*N60 -> 4.74768 | R60: 939 | S60: =Q60*R60 -> 4458.0715
A61: M0007 | C61: 레버 축 | D61: 레버 축 | E61: 환봉 | F61: 40 | G61: × | L61: 4350 | M61: STS304 | N61: 2 | O61: 2 | P61: =N61-O61 -> 0 | Q61: =3.14156295*(F61/2)^2*L61*0.00000793*N61 -> 86.695828 | R61: 4950 | S61: =Q61*R61 -> 429144.35
C62: 레버 축 | D62: 고정 B/R | E62: 베어링 | F62: UCFL208 | M62: STS304 | N62: =N7 -> 12 | O62: 14 | P62: =N62-O62 -> -2 | R62: 17474 | S62: =N62*R62 -> 209688
A63: M0009 | C63: 레버 축 | D63: 육각볼트 | E63: 육각볼트 | F63: M14 | G63: × | H63: L40 | N63: =N62*2 -> 24 | O63: 28 | P63: =N63-O63 -> -4 | R63: 262.9 | S63: =N63*R63 -> 6309.6
A64: M0010 | C64: 레버 축 | D64: 너트 | E64: 너트 | F64: M14 | N64: =N62*2 -> 24 | O64: 28 | P64: =N64-O64 -> -4 | R64: 61.9 | S64: =N64*R64 -> 1485.6
A65: M0011 | C65: 레버 축 | D65: 와셔 S | E65: 와셔 S | F65: M14 | N65: =N62*2 -> 24 | O65: 28 | P65: =N65-O65 -> -4 | R65: 21.7 | S65: =N65*R65 -> 520.8
A66: M0012 | C66: 레버 축 | D66: 와셔 P | E66: 와셔 P | F66: M14 | N66: =N62*4 -> 48 | O66: 56 | P66: =N66-O66 -> -8 | R66: 33.3 | S66: =N66*R66 -> 1598.4
A67: M0057 | C67: 레버 축 | D67: 분사레버 | E67: 레이저 | F67: 6 | H67: 120 | L67: 60 | M67: STS304 | N67: =U5*4 -> 48 | O67: 48 | P67: =N67-O67 -> 0 | Q67: =F67*H67*L67*0.00000793*N67 -> 16.443648 | R67: 3884 | S67: =Q67*R67 -> 63867.129
A68: M0007 | C68: 레버 축 | D68: 분사레버 | E68: 환봉 | F68: 70 | G68: × | L68: 35 | M68: STS304 | N68: =N67 -> 48 | O68: 48 | P68: =N68-O68 -> 0 | Q68: =3.14156295*(F68/2)^2*L68*0.00000793*N68 -> 51.270119 | R68: 4950 | S68: =Q68*R68 -> 253787.09
A69: M0018 | C69: 레버 축 | D69: 고정볼트 | E69: 무두볼트 | F69: M12 | G69: × | H69: L15 | N69: =N67*2 -> 96 | O69: 96 | P69: =N69-O69 -> 0 | R69: 52 | S69: =N69*R69 -> 4992
C70: 레버 축 | D70: MC롤러 | E70: 환봉 | F70: 30 | G70: × | L70: 14 | M70: MC | N70: =N67 -> 48 | O70: 48 | P70: =N70-O70 -> 0 | Q70: =3.14156295*(F70/2)^2*L70*0.0000012*N70 -> 0.57000518 | R70: 155 | S70: =Q70*R70 -> 88.350803
C71: 레버 축 | D71: MC롤러 볼트 | E71: 유두볼트 | F71: M10 | G71: × | H71: L25 | M71: STS304 | N71: =N67 -> 48 | O71: 48 | P71: =N71-O71 -> 0 | R71: 205 | S71: =N71*R71 -> 9840
A72: M0062 | C72: 레버 축 | D72: 너트 | E72: 너트 | F72: M10 | M72: STS304 | N72: =N67 -> 48 | O72: 48 | P72: =N72-O72 -> 0 | R72: 101.8 | S72: =N72*R72 -> 4886.4
A73: M0063 | C73: 레버 축 | D73: 와셔 S | E73: 와셔 S | F73: M10 | M73: STS304 | N73: =N67 -> 48 | O73: 48 | P73: =N73-O73 -> 0 | R73: 30.9 | S73: =N73*R73 -> 1483.2
A74: M0064 | C74: 레버 축 | D74: 분사캠 작동 레버 | E74: 레이저 | F74: 12 | H74: 150 | L74: 60 | M74: STS304 | N74: 2 | O74: 2 | P74: =N74-O74 -> 0 | Q74: =F74*H74*L74*0.00000793*N74 -> 1.71288 | R74: 4550 | S74: =Q74*R74 -> 7793.604
A75: M0007 | C75: 레버 축 | D75: 분사캠 작동 레버 | E75: 환봉 | F75: 70 | G75: × | L75: 35 | M75: STS304 | N75: =N74 -> 2 | O75: 2 | P75: =N75-O75 -> 0 | Q75: =3.14156295*(F75/2)^2*L75*0.00000793*N75 -> 2.136255 | R75: 4950 | S75: =Q75*R75 -> 10574.462
A76: M0018 | C76: 레버 축 | D76: 고정볼트 | E76: 무두볼트 | F76: M12 | G76: × | H76: L15 | N76: =N74*1 -> 2 | O76: 2 | P76: =N76-O76 -> 0 | R76: 52 | S76: =N76*R76 -> 104
C77: 레버 축 | D77: 리틀 B/R | E77: 베어링 | F77: CF16 | N77: =N74 -> 2 | O77: 2 | P77: =N77-O77 -> 0 | R77: 8602 | S77: =N77*R77 -> 17204
A78: M0068 | C78: 레버 축 | D78: 와셔 S | E78: 와셔 S | F78: M16 | N78: =N74 -> 2 | O78: 2 | P78: =N78-O78 -> 0 | R78: 32 | S78: =N78*R78 -> 64
A79: M0069 | C79: 레버 축 | D79: 클러치 S.P걸이 레버 | E79: 레이저 | F79: 10 | H79: 100 | L79: 60 | M79: STS304 | N79: 4 | O79: 4 | P79: =N79-O79 -> 0 | Q79: =2.2*N79 -> 8.8 | R79: 4550 | S79: =Q79*R79 -> 40040
C80: 레버 축 | D80: 클러치 S.P걸이 레버 | E80: 환봉 | F80: Ø60 | G80: × | L80: 35 | M80: STS304 | N80: 4 | O80: 4 | P80: =N80-O80 -> 0 | R80: 5711 | S80: =N80*R80 -> 22844
A81: M0070 | C81: 레버 축 | D81: 고정볼트 | E81: 무두볼트 | F81: M12 | G81: × | H81: L20 | N81: 8 | O81: 8 | P81: =N81-O81 -> 0 | R81: 68.2 | S81: =N81*R81 -> 545.6
A82: M0064 | C82: 레버 축 | D82: 사각틀캠 레버 | E82: 레이저 | F82: 12 | H82: 260 | L82: 180 | M82: STS304 | N82: 6 | O82: 6 | P82: =N82-O82 -> 0 | Q82: =F82*H82*L82*0.00000793*N82 -> 26.720928 | R82: 4550 | S82: =Q82*R82 -> 121580.22
A83: M0072 | C83: 레버 축 | D83: 사각틀캠 레버 | E83: 환봉 | F83: 65 | G83: × | L83: 40 | M83: STS304 | N83: 6 | O83: 6 | P83: =N83-O83 -> 0 | Q83: =3.14156295*(F83/2)^2*L83*0.00000785*N83 -> 6.2516317 | R83: 990 | S83: =Q83*R83 -> 6189.1154
C84: 레버 축 | D84: 사각틀캠 레버 | E84: 붓싱 | F84: DU4030 | N84: =N82 -> 6 | O84: 6 | P84: =N84-O84 -> 0 | R84: 2500 | S84: =N84*R84 -> 15000
A85: M0007 | C85: 레버 축 | D85: Collar | E85: 환봉 | F85: 60 | G85: × | L85: 22 | M85: STS | N85: =N82*2 -> 12 | O85: 12 | P85: =N85-O85 -> 0 | Q85: =3.14156295*(F85/2)^2*L85*0.00000793*N85 -> 5.9192324 | R85: 4950 | S85: =Q85*R85 -> 29300.2
A86: M0070 | C86: 레버 축 | D86: 고정볼트 | E86: 무두볼트 | F86: M12 | G86: × | H86: L20 | N86: =N85*2 -> 24 | O86: 24 | P86: =N86-O86 -> 0 | R86: 68.2 | S86: =N86*R86 -> 1636.8
A87: M0076 | C87: 분사장치 | D87: PC통고정판 | E87: 레이저 | F87: 3 | G87: × | H87: 265 | I87: × | L87: 3890 | M87: STS304 | N87: 4 | O87: 4 | P87: =N87-O87 -> 0 | Q87: =F87*H87*L87*0.00000793*N87 -> 98.095686 | R87: 4025 | S87: =Q87*R87 -> 394835.14
A88: M0077 | C88: 분사장치 | D88: 고정볼트 | E88: 육각볼트 | F88: M10 | G88: × | H88: L20 | M88: STS304 | N88: 44 | O88: 44 | P88: =N88-O88 -> 0 | R88: 246 | S88: =N88*R88 -> 10824
A89: M0063 | C89: 분사장치 | D89: 와셔 S | E89: 와셔 S | F89: M10 | M89: STS304 | N89: 44 | O89: 44 | P89: =N89-O89 -> 0 | R89: 30.9 | S89: =N89*R89 -> 1359.6
A90: M0079 | C90: 분사장치 | D90: 와셔 P | E90: 와셔 P | F90: M10 | M90: STS304 | N90: 44 | O90: 44 | P90: =N90-O90 -> 0 | R90: 30.15 | S90: =N90*R90 -> 1326.6
A91: M0007 | C91: 분사장치 | D91: 물꼭지 축 가이드 | E91: 환봉 | F91: 35 | G91: × | L91: 100 | M91: STS304 | N91: =U5*4 -> 48 | O91: 48 | P91: =N91-O91 -> 0 | Q91: =3.14156295*(F91/2)^2*L91*0.00000793*N91 -> 36.621513 | R91: 4950 | S91: =Q91*R91 -> 181276.49
A92: M0057 | C92: 분사장치 | D92: 물꼭지 축 가이드 | E92: 레이저 | F92: 6 | G92: × | H92: 60 | I92: × | L92: 220 | M92: STS304 | N92: =N91 -> 48 | O92: 48 | P92: =N92-O92 -> 0 | Q92: =F92*H92*L92*0.00000793*N92 -> 30.146688 | R92: 3884 | S92: =Q92*R92 -> 117089.74
C93: 분사장치 | D93: 붓싱 | E93: 붓싱 | F93: DU2030 | N93: =N91*2 -> 96 | O93: 96 | P93: =N93-O93 -> 0 | R93: 437 | S93: =N93*R93 -> 41952
A94: M0077 | C94: 분사장치 | D94: 고정볼트 | E94: 육각볼트 | F94: M10 | G94: × | H94: L20 | M94: STS304 | N94: =N93 -> 96 | O94: 96 | P94: =N94-O94 -> 0 | R94: 246 | S94: =N94*R94 -> 23616
A95: M0063 | C95: 분사장치 | D95: 와셔 S | E95: 와셔 S | F95: M10 | M95: STS304 | N95: =N93 -> 96 | O95: 96 | P95: =N95-O95 -> 0 | R95: 30.9 | S95: =N95*R95 -> 2966.4
A96: M0079 | C96: 분사장치 | D96: 와셔 P | E96: 와셔 P | F96: M10 | M96: STS304 | N96: =N93 -> 96 | O96: 96 | P96: =N96-O96 -> 0 | R96: 30.15 | S96: =N96*R96 -> 2894.4
C97: 분사장치 | D97: 물꼭지 판 | E97: 구매 | F97: 재래 | N97: 24 | O97: 24 | P97: =N97-O97 -> 0 | Q97: 주문품 | R97: 6920 | S97: =N97*R97 -> 166080
C98: 분사장치 | D98: 물꼭지 판 | E98: 구매 | F98: 기본 | N98: 24 | O98: 24 | P98: =N98-O98 -> 0 | R98: 6801 | S98: =N98*R98 -> 163224
C99: 분사장치 | D99: 물꼭지 고무 | E99: 외주 | M99: 실리콘 | N99: =(N97*20)+(N98*16) -> 864 | O99: 864 | P99: =N99-O99 -> 0 | Q99: 주문품 | R99: 480 | S99: =N99*R99 -> 414720
C100: 분사장치 | D100: 물꼭지고무고정핀 | E100: 가공 | F100: 15 | L100: 50 | M100: 아세탈 | N100: =N99 -> 864 | O100: 864 | P100: =N100-O100 -> 0 | R100: 185 | S100: =N100*R100 -> 159840
A101: M0090 | C101: 분사장치 | D101: 고정볼트 | E101: 육각볼트 | F101: M6 | G101: × | H101: L20 | M101: STS304 | N101: =N99 -> 864 | O101: 864 | P101: =N101-O101 -> 0 | R101: 73 | S101: =N101*R101 -> 63072
...

Sheet 간재
A1: 간접재료비 산출표
A3: <표 3> | I3: (단위 : 원)
A4: No. | B4: 품 명 | C4: 규 격 | D4: 단위 | E4: 수량 | F4: 배부대상액 | G4: 비 율 | H4: 금 액 | I4: 비 고
A5: =" ["&표지!$D$3&"]" -> [전자동 해태건조기(12-Is2T2F-#70×20D) 제조]
A6: 1 | B6: 소모재료 | C6: 직접재료비의 | D6: 식 | E6: 1 | F6: =재료집계!F23 -> 447457080 | G6: 0.02 | H6: =TRUNC(F6*G6,0) -> 8949141
A11: 주) 간접재료비율 : 2.0% 적용
A12: 표준품셈의 잡재료 및 소모재료 비율 2.0~5.0%에서 하한율을 적용함

Sheet 작업설
A1: 작업설 산출표
A3: <표 4> | H3: (단위 : 원)
A4: No. | B4: 품 명 | C4: 재질 및 규격 | D4: 단위 | E4: 수량 | F4: 단가 | G4: 금 액 | H4: 비 고
B8: 합 계 | G8: =SUM(G5:G6) -> 0

Sheet 속지2
A5: 2. 노 무 비

Sheet 노무집계
A1: 노무비 집계표
A3: <표 5> | I3: (단위 : 원)
A4: No. | B4: 공 종 명 | C4: 재질 및 규격 | D4: 단 위 | E4: 수 량 | F4: 직접노무비 | G4: 간접노무비 | H4: 금 액 | I4: 비 고
A5: 제조 | B5: =표지!$D$3 -> 전자동 해태건조기(12-Is2T2F-#70×20D) 제조
B6: 1. 초제기sts | D6: 식 | E6: 1 | F6: =직노산출!E17 -> 28844711 | H6: =SUM(F6:G6) -> 28844711
B7: 2. 탈수기 | D7: 식 | E7: 1 | F7: =직노산출!E31 -> 22318387 | H7: =SUM(F7:G7) -> 22318387
B8: 3. 김떼기 | D8: 식 | E8: 1 | F8: =직노산출!E45 -> 23412674 | H8: =SUM(F8:G8) -> 23412674
B9: 4. 정렬기 | D9: 식 | E9: 1 | F9: =직노산출!E59 -> 16567852 | H9: =SUM(F9:G9) -> 16567852
B10: 5. 2F 개폐식 구동 | D10: 식 | E10: 1 | F10: =직노산출!E73 -> 33424450 | H10: =SUM(F10:G10) -> 33424450
B11: 6. 2타임 | D11: 식 | E11: 1 | F11: =직노산출!E87 -> 8045335 | H11: =SUM(F11:G11) -> 8045335
B12: 7. 2F 개폐식 프레임 | D12: 식 | E12: 1 | F12: =직노산출!E101 -> 22820760 | H12: =SUM(F12:G12) -> 22820760
B13: 8. 2F 개폐식 발판 | D13: 식 | E13: 1 | F13: =직노산출!E115 -> 5124439 | H13: =SUM(F13:G13) -> 5124439
B14: 9. 반전 | D14: 식 | E14: 1 | F14: =직노산출!E129 -> 1859636 | H14: =SUM(F14:G14) -> 1859636
B15: 10. 2F 테일부 | D15: 식 | E15: 1 | F15: =직노산출!E143 -> 4930442 | H15: =SUM(F15:G15) -> 4930442
B16: 11. 2F 개폐식 커버 | D16: 식 | E16: 1 | F16: =직노산출!E157 -> 10113308 | H16: =SUM(F16:G16) -> 10113308
B17: 12. 2F 레일-P | D17: 식 | E17: 1 | F17: =직노산출!E171 -> 5648096 | H17: =SUM(F17:G17) -> 5648096
B18: 13. 건조실 | D18: 식 | E18: 1 | F18: =직노산출!E185 -> 30126142 | H18: =SUM(F18:G18) -> 30126142
B19: 14. 연소실 | D19: 식 | E19: 1 | F19: =직노산출!E199 -> 17384279 | H19: =SUM(F19:G19) -> 17384279
H21: =SUM(F21:G21) -> 0
H22: =SUM(F22:G22) -> 0
B23: 합 계 | F23: =SUM(F6:F22) -> 230620511 | G23: =간노!H6 -> 63190020 | H23: =SUM(F23:G23) -> 293810531
A24: ="주 1) 직접노무비 : "&직노산출!A3&직노산출!A1&" 참조" -> 주 1) 직접노무비 : <표 6> 직접노무비 산출표 참조
A25: =" 2) 간접노무비 : "&간노!A3&간노!A1&" 참조" -> 2) 간접노무비 : <표 7> 간접노무비 산출표 참조
F26: =직노산출!E202 -> 230620511

Sheet 직노산출
A1: 직접노무비 산출표
A3: <표 6> | F3: (단위 : 원)
A4: 공 종 명 / 직 종 명 | B4: 단 위 | C4: 수 량 | D4: 단 가 | E4: 금 액 | F4: 비 고
A5: =노무집계!B6 -> 1. 초제기sts
A6: CAD설계사(기계) | B6: M/D | C6: 29 | D6: =VLOOKUP($A6,'노단(제)'!$B$4:$G$134,5,FALSE) -> 194099 | E6: =TRUNC(C6*D6,0) -> 5628871
A7: 드릴링기조작원 | B7: M/D | C7: 14 | D7: =VLOOKUP($A7,'노단(제)'!$B$4:$G$134,5,FALSE) -> 122597 | E7: =TRUNC(C7*D7,0) -> 1716358
A8: 기타공작기계조작원 | B8: M/D | C8: 26 | D8: =VLOOKUP($A8,'노단(제)'!$B$4:$G$134,5,FALSE) -> 136685 | E8: =TRUNC(C8*D8,0) -> 3553810
A9: 판금원 | B9: M/D | C9: 18 | D9: =VLOOKUP($A9,'노단(제)'!$B$4:$G$134,5,FALSE) -> 130169 | E9: =TRUNC(C9*D9,0) -> 2343042
A10: 절단원 | B10: M/D | C10: 14 | D10: =VLOOKUP($A10,'노단(제)'!$B$4:$G$134,5,FALSE) -> 140559 | E10: =TRUNC(C10*D10,0) -> 1967826
A11: 쇠톱기조작원 | B11: M/D | C11: 16 | D11: =VLOOKUP($A11,'노단(제)'!$B$4:$G$134,5,FALSE) -> 0 | E11: =TRUNC(C11*D11,0) -> 0
A12: 선반기조작원 | B12: M/D | C12: 23 | D12: =VLOOKUP($A12,'노단(제)'!$B$4:$G$134,5,FALSE) -> 150016 | E12: =TRUNC(C12*D12,0) -> 3450368
A13: 용접원 | B13: M/D | C13: 25 | D13: =VLOOKUP($A13,'노단(제)'!$B$4:$G$134,5,FALSE) -> 152932 | E13: =TRUNC(C13*D13,0) -> 3823300
A14: 연삭기 및 연마기조작원 | B14: M/D | C14: 14 | D14: =VLOOKUP($A14,'노단(제)'!$B$4:$G$134,5,FALSE) -> 134748 | E14: =TRUNC(C14*D14,0) -> 1886472
A15: 경기계조립원 | B15: M/D | C15: 16 | D15: =VLOOKUP($A15,'노단(제)'!$B$4:$G$134,5,FALSE) -> 162966 | E15: =TRUNC(C15*D15,0) -> 2607456
A16: 제품검사 및 조정원 | B16: M/D | C16: 14 | D16: =VLOOKUP($A16,'노단(제)'!$B$4:$G$134,5,FALSE) -> 133372 | E16: =TRUNC(C16*D16,0) -> 1867208
A17: 소 계 | E17: =SUM(E6:E16) -> 28844711
A19: =노무집계!B7 -> 2. 탈수기
A20: CAD설계사(기계) | B20: M/D | C20: 29 | D20: =VLOOKUP($A20,'노단(제)'!$B$4:$G$134,5,FALSE) -> 194099 | E20: =TRUNC(C20*D20,0) -> 5628871
A21: 드릴링기조작원 | B21: M/D | C21: 14 | D21: =VLOOKUP($A21,'노단(제)'!$B$4:$G$134,5,FALSE) -> 122597 | E21: =TRUNC(C21*D21,0) -> 1716358
A22: 기타공작기계조작원 | B22: M/D | C22: 16 | D22: =VLOOKUP($A22,'노단(제)'!$B$4:$G$134,5,FALSE) -> 136685 | E22: =TRUNC(C22*D22,0) -> 2186960
A23: 판금원 | B23: M/D | C23: 9 | D23: =VLOOKUP($A23,'노단(제)'!$B$4:$G$134,5,FALSE) -> 130169 | E23: =TRUNC(C23*D23,0) -> 1171521
A24: 절단원 | B24: M/D | C24: 9 | D24: =VLOOKUP($A24,'노단(제)'!$B$4:$G$134,5,FALSE) -> 140559 | E24: =TRUNC(C24*D24,0) -> 1265031
A25: 쇠톱기조작원 | B25: M/D | C25: 11 | D25: =VLOOKUP($A25,'노단(제)'!$B$4:$G$134,5,FALSE) -> 0 | E25: =TRUNC(C25*D25,0) -> 0
A26: 선반기조작원 | B26: M/D | C26: 12 | D26: =VLOOKUP($A26,'노단(제)'!$B$4:$G$134,5,FALSE) -> 150016 | E26: =TRUNC(C26*D26,0) -> 1800192
A27: 용접원 | B27: M/D | C27: 18 | D27: =VLOOKUP($A27,'노단(제)'!$B$4:$G$134,5,FALSE) -> 152932 | E27: =TRUNC(C27*D27,0) -> 2752776
A28: 연삭기 및 연마기조작원 | B28: M/D | C28: 13 | D28: =VLOOKUP($A28,'노단(제)'!$B$4:$G$134,5,FALSE) -> 134748 | E28: =TRUNC(C28*D28,0) -> 1751724
A29: 경기계조립원 | B29: M/D | C29: 15 | D29: =VLOOKUP($A29,'노단(제)'!$B$4:$G$134,5,FALSE) -> 162966 | E29: =TRUNC(C29*D29,0) -> 2444490
A30: 제품검사 및 조정원 | B30: M/D | C30: 12 | D30: =VLOOKUP($A30,'노단(제)'!$B$4:$G$134,5,FALSE) -> 133372 | E30: =TRUNC(C30*D30,0) -> 1600464
A31: 소 계 | E31: =SUM(E20:E30) -> 22318387
A33: =노무집계!B8 -> 3. 김떼기
A34: CAD설계사(기계) | B34: M/D | C34: 28 | D34: =VLOOKUP($A34,'노단(제)'!$B$4:$G$134,5,FALSE) -> 194099 | E34: =TRUNC(C34*D34,0) -> 5434772
A35: 드릴링기조작원 | B35: M/D | C35: 14 | D35: =VLOOKUP($A35,'노단(제)'!$B$4:$G$134,5,FALSE) -> 122597 | E35: =TRUNC(C35*D35,0) -> 1716358
A36: 기타공작기계조작원 | B36: M/D | C36: 15 | D36: =VLOOKUP($A36,'노단(제)'!$B$4:$G$134,5,FALSE) -> 136685 | E36: =TRUNC(C36*D36,0) -> 2050275
A37: 판금원 | B37: M/D | C37: 9 | D37: =VLOOKUP($A37,'노단(제)'!$B$4:$G$134,5,FALSE) -> 130169 | E37: =TRUNC(C37*D37,0) -> 1171521
A38: 절단원 | B38: M/D | C38: 10 | D38: =VLOOKUP($A38,'노단(제)'!$B$4:$G$134,5,FALSE) -> 140559 | E38: =TRUNC(C38*D38,0) -> 1405590
A39: 쇠톱기조작원 | B39: M/D | C39: 12 | D39: =VLOOKUP($A39,'노단(제)'!$B$4:$G$134,5,FALSE) -> 0 | E39: =TRUNC(C39*D39,0) -> 0
A40: 선반기조작원 | B40: M/D | C40: 17 | D40: =VLOOKUP($A40,'노단(제)'!$B$4:$G$134,5,FALSE) -> 150016 | E40: =TRUNC(C40*D40,0) -> 2550272
A41: 용접원 | B41: M/D | C41: 16 | D41: =VLOOKUP($A41,'노단(제)'!$B$4:$G$134,5,FALSE) -> 152932 | E41: =TRUNC(C41*D41,0) -> 2446912
A42: 연삭기 및 연마기조작원 | B42: M/D | C42: 10 | D42: =VLOOKUP($A42,'노단(제)'!$B$4:$G$134,5,FALSE) -> 134748 | E42: =TRUNC(C42*D42,0) -> 1347480
A43: 경기계조립원 | B43: M/D | C43: 21 | D43: =VLOOKUP($A43,'노단(제)'!$B$4:$G$134,5,FALSE) -> 162966 | E43: =TRUNC(C43*D43,0) -> 3422286
A44: 제품검사 및 조정원 | B44: M/D | C44: 14 | D44: =VLOOKUP($A44,'노단(제)'!$B$4:$G$134,5,FALSE) -> 133372 | E44: =TRUNC(C44*D44,0) -> 1867208
A45: 소 계 | E45: =SUM(E34:E44) -> 23412674
A47: =노무집계!B9 -> 4. 정렬기
A48: CAD설계사(기계) | B48: M/D | C48: 17 | D48: =VLOOKUP($A48,'노단(제)'!$B$4:$G$134,5,FALSE) -> 194099 | E48: =TRUNC(C48*D48,0) -> 3299683
A49: 드릴링기조작원 | B49: M/D | C49: 19 | D49: =VLOOKUP($A49,'노단(제)'!$B$4:$G$134,5,FALSE) -> 122597 | E49: =TRUNC(C49*D49,0) -> 2329343
A50: 기타공작기계조작원 | B50: M/D | C50: 13 | D50: =VLOOKUP($A50,'노단(제)'!$B$4:$G$134,5,FALSE) -> 136685 | E50: =TRUNC(C50*D50,0) -> 1776905
A51: 판금원 | B51: M/D | C51: 13 | D51: =VLOOKUP($A51,'노단(제)'!$B$4:$G$134,5,FALSE) -> 130169 | E51: =TRUNC(C51*D51,0) -> 1692197
A52: 절단원 | B52: M/D | C52: 2 | D52: =VLOOKUP($A52,'노단(제)'!$B$4:$G$134,5,FALSE) -> 140559 | E52: =TRUNC(C52*D52,0) -> 281118
A53: 쇠톱기조작원 | B53: M/D | C53: 5 | D53: =VLOOKUP($A53,'노단(제)'!$B$4:$G$134,5,FALSE) -> 0 | E53: =TRUNC(C53*D53,0) -> 0
A54: 선반기조작원 | B54: M/D | C54: 6 | D54: =VLOOKUP($A54,'노단(제)'!$B$4:$G$134,5,FALSE) -> 150016 | E54: =TRUNC(C54*D54,0) -> 900096
A55: 용접원 | B55: M/D | C55: 12 | D55: =VLOOKUP($A55,'노단(제)'!$B$4:$G$134,5,FALSE) -> 152932 | E55: =TRUNC(C55*D55,0) -> 1835184
A56: 연삭기 및 연마기조작원 | B56: M/D | C56: 6 | D56: =VLOOKUP($A56,'노단(제)'!$B$4:$G$134,5,FALSE) -> 134748 | E56: =TRUNC(C56*D56,0) -> 808488
A57: 경기계조립원 | B57: M/D | C57: 15 | D57: =VLOOKUP($A57,'노단(제)'!$B$4:$G$134,5,FALSE) -> 162966 | E57: =TRUNC(C57*D57,0) -> 2444490
A58: 제품검사 및 조정원 | B58: M/D | C58: 9 | D58: =VLOOKUP($A58,'노단(제)'!$B$4:$G$134,5,FALSE) -> 133372 | E58: =TRUNC(C58*D58,0) -> 1200348
A59: 소 계 | E59: =SUM(E48:E58) -> 16567852
A61: =노무집계!B10 -> 5. 2F 개폐식 구동
A62: CAD설계사(기계) | B62: M/D | C62: 36 | D62: =VLOOKUP($A62,'노단(제)'!$B$4:$G$134,5,FALSE) -> 194099 | E62: =TRUNC(C62*D62,0) -> 6987564
A63: 드릴링기조작원 | B63: M/D | C63: 24 | D63: =VLOOKUP($A63,'노단(제)'!$B$4:$G$134,5,FALSE) -> 122597 | E63: =TRUNC(C63*D63,0) -> 2942328
A64: 기타공작기계조작원 | B64: M/D | C64: 30 | D64: =VLOOKUP($A64,'노단(제)'!$B$4:$G$134,5,FALSE) -> 136685 | E64: =TRUNC(C64*D64,0) -> 4100550
A65: 판금원 | B65: M/D | C65: 13 | D65: =VLOOKUP($A65,'노단(제)'!$B$4:$G$134,5,FALSE) -> 130169 | E65: =TRUNC(C65*D65,0) -> 1692197
A66: 절단원 | B66: M/D | C66: 13 | D66: =VLOOKUP($A66,'노단(제)'!$B$4:$G$134,5,FALSE) -> 140559 | E66: =TRUNC(C66*D66,0) -> 1827267
A67: 쇠톱기조작원 | B67: M/D | C67: 14 | D67: =VLOOKUP($A67,'노단(제)'!$B$4:$G$134,5,FALSE) -> 0 | E67: =TRUNC(C67*D67,0) -> 0
A68: 선반기조작원 | B68: M/D | C68: 30 | D68: =VLOOKUP($A68,'노단(제)'!$B$4:$G$134,5,FALSE) -> 150016 | E68: =TRUNC(C68*D68,0) -> 4500480
A69: 용접원 | B69: M/D | C69: 16 | D69: =VLOOKUP($A69,'노단(제)'!$B$4:$G$134,5,FALSE) -> 152932 | E69: =TRUNC(C69*D69,0) -> 2446912
A70: 연삭기 및 연마기조작원 | B70: M/D | C70: 16 | D70: =VLOOKUP($A70,'노단(제)'!$B$4:$G$134,5,FALSE) -> 134748 | E70: =TRUNC(C70*D70,0) -> 2155968
A71: 경기계조립원 | B71: M/D | C71: 26 | D71: =VLOOKUP($A71,'노단(제)'!$B$4:$G$134,5,FALSE) -> 162966 | E71: =TRUNC(C71*D71,0) -> 4237116
A72: 제품검사 및 조정원 | B72: M/D | C72: 19 | D72: =VLOOKUP($A72,'노단(제)'!$B$4:$G$134,5,FALSE) -> 133372 | E72: =TRUNC(C72*D72,0) -> 2534068
A73: 소 계 | E73: =SUM(E62:E72) -> 33424450
A75: =노무집계!B11 -> 6. 2타임
A76: CAD설계사(기계) | B76: M/D | C76: 11 | D76: =VLOOKUP($A76,'노단(제)'!$B$4:$G$134,5,FALSE) -> 194099 | E76: =TRUNC(C76*D76,0) -> 2135089
A77: 드릴링기조작원 | B77: M/D | C77: 4 | D77: =VLOOKUP($A77,'노단(제)'!$B$4:$G$134,5,FALSE) -> 122597 | E77: =TRUNC(C77*D77,0) -> 490388
A78: 기타공작기계조작원 | B78: M/D | C78: 10 | D78: =VLOOKUP($A78,'노단(제)'!$B$4:$G$134,5,FALSE) -> 136685 | E78: =TRUNC(C78*D78,0) -> 1366850
A79: 판금원 | B79: M/D | C79: 1 | D79: =VLOOKUP($A79,'노단(제)'!$B$4:$G$134,5,FALSE) -> 130169 | E79: =TRUNC(C79*D79,0) -> 130169
A80: 절단원 | B80: M/D | C80: 1 | D80: =VLOOKUP($A80,'노단(제)'!$B$4:$G$134,5,FALSE) -> 140559 | E80: =TRUNC(C80*D80,0) -> 140559
A81: 쇠톱기조작원 | B81: M/D | C81: 2 | D81: =VLOOKUP($A81,'노단(제)'!$B$4:$G$134,5,FALSE) -> 0 | E81: =TRUNC(C81*D81,0) -> 0
A82: 선반기조작원 | B82: M/D | C82: 9 | D82: =VLOOKUP($A82,'노단(제)'!$B$4:$G$134,5,FALSE) -> 150016 | E82: =TRUNC(C82*D82,0) -> 1350144
A83: 용접원 | B83: M/D | C83: 3 | D83: =VLOOKUP($A83,'노단(제)'!$B$4:$G$134,5,FALSE) -> 152932 | E83: =TRUNC(C83*D83,0) -> 458796
A84: 연삭기 및 연마기조작원 | B84: M/D | C84: 2 | D84: =VLOOKUP($A84,'노단(제)'!$B$4:$G$134,5,FALSE) -> 134748 | E84: =TRUNC(C84*D84,0) -> 269496
A85: 경기계조립원 | B85: M/D | C85: 8 | D85: =VLOOKUP($A85,'노단(제)'!$B$4:$G$134,5,FALSE) -> 162966 | E85: =TRUNC(C85*D85,0) -> 1303728
A86: 제품검사 및 조정원 | B86: M/D | C86: 3 | D86: =VLOOKUP($A86,'노단(제)'!$B$4:$G$134,5,FALSE) -> 133372 | E86: =TRUNC(C86*D86,0) -> 400116
A87: 소 계 | E87: =SUM(E76:E86) -> 8045335
A89: =노무집계!B12 -> 7. 2F 개폐식 프레임
A90: CAD설계사(기계) | B90: M/D | C90: 24 | D90: =VLOOKUP($A90,'노단(제)'!$B$4:$G$134,5,FALSE) -> 194099 | E90: =TRUNC(C90*D90,0) -> 4658376
A91: 드릴링기조작원 | B91: M/D | C91: 15 | D91: =VLOOKUP($A91,'노단(제)'!$B$4:$G$134,5,FALSE) -> 122597 | E91: =TRUNC(C91*D91,0) -> 1838955
A92: 기타공작기계조작원 | B92: M/D | C92: 18 | D92: =VLOOKUP($A92,'노단(제)'!$B$4:$G$134,5,FALSE) -> 136685 | E92: =TRUNC(C92*D92,0) -> 2460330
A93: 판금원 | B93: M/D | C93: 12 | D93: =VLOOKUP($A93,'노단(제)'!$B$4:$G$134,5,FALSE) -> 130169 | E93: =TRUNC(C93*D93,0) -> 1562028
A94: 절단원 | B94: M/D | C94: 11 | D94: =VLOOKUP($A94,'노단(제)'!$B$4:$G$134,5,FALSE) -> 140559 | E94: =TRUNC(C94*D94,0) -> 1546149
A95: 쇠톱기조작원 | B95: M/D | C95: 17 | D95: =VLOOKUP($A95,'노단(제)'!$B$4:$G$134,5,FALSE) -> 0 | E95: =TRUNC(C95*D95,0) -> 0
A96: 선반기조작원 | B96: M/D | C96: 11 | D96: =VLOOKUP($A96,'노단(제)'!$B$4:$G$134,5,FALSE) -> 150016 | E96: =TRUNC(C96*D96,0) -> 1650176
A97: 용접원 | B97: M/D | C97: 22 | D97: =VLOOKUP($A97,'노단(제)'!$B$4:$G$134,5,FALSE) -> 152932 | E97: =TRUNC(C97*D97,0) -> 3364504
A98: 연삭기 및 연마기조작원 | B98: M/D | C98: 15 | D98: =VLOOKUP($A98,'노단(제)'!$B$4:$G$134,5,FALSE) -> 134748 | E98: =TRUNC(C98*D98,0) -> 2021220
A99: 경기계조립원 | B99: M/D | C99: 13 | D99: =VLOOKUP($A99,'노단(제)'!$B$4:$G$134,5,FALSE) -> 162966 | E99: =TRUNC(C99*D99,0) -> 2118558
A100: 제품검사 및 조정원 | B100: M/D | C100: 12 | D100: =VLOOKUP($A100,'노단(제)'!$B$4:$G$134,5,FALSE) -> 133372 | E100: =TRUNC(C100*D100,0) -> 1600464
A101: 소 계 | E101: =SUM(E90:E100) -> 22820760
A103: =노무집계!B13 -> 8. 2F 개폐식 발판
A104: CAD설계사(기계) | B104: M/D | C104: 8 | D104: =VLOOKUP($A104,'노단(제)'!$B$4:$G$134,5,FALSE) -> 194099 | E104: =TRUNC(C104*D104,0) -> 1552792
A105: 드릴링기조작원 | B105: M/D | C105: 4 | D105: =VLOOKUP($A105,'노단(제)'!$B$4:$G$134,5,FALSE) -> 122597 | E105: =TRUNC(C105*D105,0) -> 490388
A106: 기타공작기계조작원 | B106: M/D | C106: 0 | D106: =VLOOKUP($A106,'노단(제)'!$B$4:$G$134,5,FALSE) -> 136685 | E106: =TRUNC(C106*D106,0) -> 0
A107: 판금원 | B107: M/D | C107: 3 | D107: =VLOOKUP($A107,'노단(제)'!$B$4:$G$134,5,FALSE) -> 130169 | E107: =TRUNC(C107*D107,0) -> 390507
A108: 절단원 | B108: M/D | C108: 4 | D108: =VLOOKUP($A108,'노단(제)'!$B$4:$G$134,5,FALSE) -> 140559 | E108: =TRUNC(C108*D108,0) -> 562236
...

Sheet 간노
A1: 간접노무비 산출표
A3: <표 7> | I3: (단위 : 원)
A4: No. | B4: 품 명 | C4: 규 격 | D4: 단위 | E4: 수량 | F4: 배부대상액 | G4: 비 율 | H4: 금 액 | I4: 비 고
A5: =" ["&표지!$D$3&"]" -> [전자동 해태건조기(12-Is2T2F-#70×20D) 제조]
A6: 1 | B6: 간접노무비 | C6: 직접노무비의 | D6: 식 | E6: 1 | F6: =노무집계!F23 -> 230620511 | G6: =간노비율!I12 -> 0.274 | H6: =TRUNC(F6*G6,0) -> 63190020
A11: ="주) 간접노무비율 : "&간노비율!A3&간노비율!A1&" 참조" -> 주) 간접노무비율 : <표 8> 간접노무비율 산출표 참조

Sheet 간노비율
A1: 간접노무비율 산출표
A3: <표 8>
A4: 구 분 | E4: 산 출 내 역 | I4: 비 율 | J4: 비 고
B5: 1) | C5: 기획재정부 계약예규기준시 | E5: 「조립금속제품」의 제조, 구매업 | I5: 100%이내
B7: 2) | C7: 전문제조업체임금대장 | F7: ◈ 대상기간 : 2025. 01. 01. ~ 2025. 12. 31. | I7: =TRUNC(G9/G8,3) -> 0.274 | J7: =노무비발생액!A3&" 참조" -> <표 10> 참조
F8: ㉠직접부문지급액: | G8: =노무비발생액!E19 -> 1795977049
F9: ㉡간접부문지급액: | G9: =노무비발생액!I19 -> 492098400
F10: ▶ 공식 : ㉡ ÷ ㉠ X 100
B12: 3) | C12: 본조사적용비율(%) | I12: =MIN(I5:I10) -> 0.274
A13: 주) 간접노무비 적용 비율은 기획재정부 계약예규에 의한 적용 한도율과 전문업체 실적비율을 비교하여
A14: 낮은 비율을 적용함

Sheet 노단(제)
A1: 제조부문 시중노임 단가표
A3: <표 9> | H3: (단위 : 원)
A4: 직종 번호 | B4: 직 종 명 | C4: 2026년 상반기 적용 시중노임단가 | H4: 비 고
C5: 기본급 | D5: 상여금 | E5: 퇴직급여 | F5: M/D 단가 | G5: M/H 단가 | I5: =노무비발생액!D21 -> 2.033
A6: 1 | B6: CAD설계사(기계) | C6: 153213 | D6: =TRUNC(C6*$I$5/12,0) -> 25956 | E6: =TRUNC(SUM(C6,D6)/12,0) -> 14930 | F6: =SUM(C6:E6) -> 194099 | G6: =TRUNC(F6/8,0) -> 24262
A7: 2 | B7: CAD설계사(회로) | C7: 132865 | D7: =TRUNC(C7*$I$5/12,0) -> 22509 | E7: =TRUNC(SUM(C7,D7)/12,0) -> 12947 | F7: =SUM(C7:E7) -> 168321 | G7: =TRUNC(F7/8,0) -> 21040
A8: 3 | B8: 컴퓨터웹디자이너 | C8: 115653 | D8: =TRUNC(C8*$I$5/12,0) -> 19593 | E8: =TRUNC(SUM(C8,D8)/12,0) -> 11270 | F8: =SUM(C8:E8) -> 146516 | G8: =TRUNC(F8/8,0) -> 18314
A9: 4 | B9: 컴퓨터운용사 | C9: 144458 | D9: =TRUNC(C9*$I$5/12,0) -> 24473 | E9: =TRUNC(SUM(C9,D9)/12,0) -> 14077 | F9: =SUM(C9:E9) -> 183008 | G9: =TRUNC(F9/8,0) -> 22876
A10: 5 | B10: 제과제빵떡제조원 | C10: 85718 | D10: =TRUNC(C10*$I$5/12,0) -> 14522 | E10: =TRUNC(SUM(C10,D10)/12,0) -> 8353 | F10: =SUM(C10:E10) -> 108593 | G10: =TRUNC(F10/8,0) -> 13574
A11: 6 | B11: 식품가공원 | C11: 91177 | D11: =TRUNC(C11*$I$5/12,0) -> 15446 | E11: =TRUNC(SUM(C11,D11)/12,0) -> 8885 | F11: =SUM(C11:E11) -> 115508 | G11: =TRUNC(F11/8,0) -> 14438
A12: 7 | B12: 식품가공기계조작원 | C12: 102103 | D12: =TRUNC(C12*$I$5/12,0) -> 17297 | E12: =TRUNC(SUM(C12,D12)/12,0) -> 9950 | F12: =SUM(C12:E12) -> 129350 | G12: =TRUNC(F12/8,0) -> 16168
A13: 8 | B13: 귀금속보석세공원 | C13: 120338 | D13: =TRUNC(C13*$I$5/12,0) -> 20387 | E13: =TRUNC(SUM(C13,D13)/12,0) -> 11727 | F13: =SUM(C13:E13) -> 152452 | G13: =TRUNC(F13/8,0) -> 19056
A14: 9 | B14: 목재가공기계조작원 | C14: 105333 | D14: =TRUNC(C14*$I$5/12,0) -> 17845 | E14: =TRUNC(SUM(C14,D14)/12,0) -> 10264 | F14: =SUM(C14:E14) -> 133442 | G14: =TRUNC(F14/8,0) -> 16680
A15: 10 | B15: 목재건조기계조작원 | C15: 0 | D15: =TRUNC(C15*$I$5/12,0) -> 0 | E15: =TRUNC(SUM(C15,D15)/12,0) -> 0 | F15: =SUM(C15:E15) -> 0 | G15: =TRUNC(F15/8,0) -> 0
A16: 11 | B16: 펄프종이제조장치조작원 | C16: 129725 | D16: =TRUNC(C16*$I$5/12,0) -> 21977 | E16: =TRUNC(SUM(C16,D16)/12,0) -> 12641 | F16: =SUM(C16:E16) -> 164343 | G16: =TRUNC(F16/8,0) -> 20542
A17: 12 | B17: 합판제조원 | C17: 104356 | D17: =TRUNC(C17*$I$5/12,0) -> 17679 | E17: =TRUNC(SUM(C17,D17)/12,0) -> 10169 | F17: =SUM(C17:E17) -> 132204 | G17: =TRUNC(F17/8,0) -> 16525
... A74: 69 | B74: 금속교정원 | C74: 102015 | D74: =TRUNC(C74*$I$5/12,0) -> 17283 | E74: =TRUNC(SUM(C74,D74)/12,0) -> 9941 | F74: =SUM(C74:E74) -> 129239 | G74: =TRUNC(F74/8,0) -> 16154
A75: 70 | B75: 선반기조작원 | C75: 118416 | D75: =TRUNC(C75*$I$5/12,0) -> 20061 | E75: =TRUNC(SUM(C75,D75)/12,0) -> 11539 | F75: =SUM(C75:E75) -> 150016 | G75: =TRUNC(F75/8,0) -> 18752 | I75: 2025년 상 | J75: 2023년 하
A76: 71 | B76: 드릴링기조작원 | C76: 96773 | D76: =TRUNC(C76*$I$5/12,0) -> 16394 | E76: =TRUNC(SUM(C76,D76)/12,0) -> 9430 | F76: =SUM(C76:E76) -> 122597 | G76: =TRUNC(F76/8,0) -> 15324 | I76: 114007 | J76: 105773 | K76: =(I76-J76)/J76 -> 0.077845953
A77: 72 | B77: 쇠톱기조작원 | C77: 0 | D77: =TRUNC(C77*$I$5/12,0) -> 0 | E77: =TRUNC(SUM(C77,D77)/12,0) -> 0 | F77: =SUM(C77:E77) -> 0 | G77: =TRUNC(F77/8,0) -> 0 | I77: =J77+TRUNC(J77*K76,0) -> 120568 | J77: 111861 | K77: =J76+TRUNC(J76*K76,0) -> 114007
A78: 73 | B78: 벤딩머쉰조작원 | C78: 102263 | D78: =TRUNC(C78*$I$5/12,0) -> 17325 | E78: =TRUNC(SUM(C78,D78)/12,0) -> 9965 | F78: =SUM(C78:E78) -> 129553 | G78: =TRUNC(F78/8,0) -> 16194
A79: 74 | B79: 프레나기조작원 | C79: 93988 | D79: =TRUNC(C79*$I$5/12,0) -> 15923 | E79: =TRUNC(SUM(C79,D79)/12,0) -> 9159 | F79: =SUM(C79:E79) -> 119070 | G79: =TRUNC(F79/8,0) -> 14883
A80: 75 | B80: 레이저광선원 | C80: 127884 | D80: =TRUNC(C80*$I$5/12,0) -> 21665 | E80: =TRUNC(SUM(C80,D80)/12,0) -> 12462 | F80: =SUM(C80:E80) -> 162011 | G80: =TRUNC(F80/8,0) -> 20251
A81: 76 | B81: 신선기조작원 | C81: 104407 | D81: =TRUNC(C81*$I$5/12,0) -> 17688 | E81: =TRUNC(SUM(C81,D81)/12,0) -> 10174 | F81: =SUM(C81:E81) -> 132269 | G81: =TRUNC(F81/8,0) -> 16533
A82: 77 | B82: 용융도금기조작원 | C82: 109998 | D82: =TRUNC(C82*$I$5/12,0) -> 18635 | E82: =TRUNC(SUM(C82,D82)/12,0) -> 10719 | F82: =SUM(C82:E82) -> 139352 | G82: =TRUNC(F82/8,0) -> 17419
A83: 78 | B83: 플라스틱사출기조작원 | C83: 105127 | D83: =TRUNC(C83*$I$5/12,0) -> 17810 | E83: =TRUNC(SUM(C83,D83)/12,0) -> 10244 | F83: =SUM(C83:E83) -> 133181 | G83: =TRUNC(F83/8,0) -> 16647
A84: 79 | B84: 압출기조작원 | C84: 104967 | D84: =TRUNC(C84*$I$5/12,0) -> 17783 | E84: =TRUNC(SUM(C84,D84)/12,0) -> 10229 | F84: =SUM(C84:E84) -> 132979 | G84: =TRUNC(F84/8,0) -> 16622
A85: 80 | B85: 인발기조작원 | C85: 113868 | D85: =TRUNC(C85*$I$5/12,0) -> 19291 | E85: =TRUNC(SUM(C85,D85)/12,0) -> 11096 | F85: =SUM(C85:E85) -> 144255 | G85: =TRUNC(F85/8,0) -> 18031
A86: 81 | B86: 태핑기조작원 | C86: 103175 | D86: =TRUNC(C86*$I$5/12,0) -> 17479 | E86: =TRUNC(SUM(C86,D86)/12,0) -> 10054 | F86: =SUM(C86:E86) -> 130708 | G86: =TRUNC(F86/8,0) -> 16338
A87: 82 | B87: 연삭기 및 연마기조작원 | C87: 106364 | D87: =TRUNC(C87*$I$5/12,0) -> 18019 | E87: =TRUNC(SUM(C87,D87)/12,0) -> 10365 | F87: =SUM(C87:E87) -> 134748 | G87: =TRUNC(F87/8,0) -> 16843
A88: 83 | B88: 모형조각기조작원 | C88: 0 | D88: =TRUNC(C88*$I$5/12,0) -> 0 | E88: =TRUNC(SUM(C88,D88)/12,0) -> 0 | F88: =SUM(C88:E88) -> 0 | G88: =TRUNC(F88/8,0) -> 0
A89: 84 | B89: 머쉬닝센터조작원 | C89: 115470 | D89: =TRUNC(C89*$I$5/12,0) -> 19562 | E89: =TRUNC(SUM(C89,D89)/12,0) -> 11252 | F89: =SUM(C89:E89) -> 146284 | G89: =TRUNC(F89/8,0) -> 18285
... A134: 129 | B134: 작업반장 | C134: 139712 | D134: =TRUNC(C134*$I$5/12,0) -> 23669 | E134: =TRUNC(SUM(C134,D134)/12,0) -> 13615 | F134: =SUM(C134:E134) -> 176996 | G134: =TRUNC(F134/8,0) -> 22124
A135: 주 1) 기본급 : 2025년 하반기 중소제조업 직종별 임금조사 보고서 참조(중소기업중앙회, 2025. 11.)
A136: 2) 상여금 : 예정가격 작성기준[기획재정부계약예규 제822호, 2025. 12. 31.]에 의거 년 400%의 상여금을 계상할 수
A137: =" 있으나, 전문업체 임금대장분석 결과 "&TEXT($I$5,"000.0"&"%를 계상함") -> 있으나, 전문업체 임금대장분석 결과 203.3%를 계상함
A138: 3) 퇴직급여충당금 : 근로기준법에 의거 년 통상지급액의 1/12계상

Sheet 노무비발생액
A1: 노 무 비 지 급 명 세 표
A3: <표 10> | K3: (단위 : 원)
A4: 월 별 | B4: 직 접 부 문 지 급 액 | F4: 간 접 부 문 지 급 액 | J4: 합 계 | K4: 비 고
B5: 인원 | C5: 급 여 | D5: 상 여 금 | E5: 계 | F5: 인원 | G5: 급 여 | H5: 상 여 금 | I5: 계
A6: 2025년 01월 | B6: 16 | C6: 47285681 | D6: 29497510 | E6: =SUM(C6:D6) -> 76783191 | F6: 3 | G6: 12230167 | H6: 8910500 | I6: =SUM(G6:H6) -> 21140667 | J6: =SUM(E6,I6) -> 97923858
A7: 2025년 02월 | B7: 15 | C7: 42021276 | D7: 100000 | E7: =SUM(C7:D7) -> 42121276 | F7: 3 | G7: 12230167 | H7: 10000000 | I7: =SUM(G7:H7) -> 22230167 | J7: =SUM(E7,I7) -> 64351443
A8: 2025년 03월 | B8: 18 | C8: 57059056 | D8: 1550000 | E8: =SUM(C8:D8) -> 58609056 | F8: 3 | G8: 15679545 | H8: 15300000 | I8: =SUM(G8:H8) -> 30979545 | J8: =SUM(E8,I8) -> 89588601
A9: 2025년 04월 | B9: 24 | C9: 68161481 | D9: 3250000 | E9: =SUM(C9:D9) -> 71411481 | F9: 3 | G9: 15679545 | H9: 8000000 | I9: =SUM(G9:H9) -> 23679545 | J9: =SUM(E9,I9) -> 95091026
A10: 2025년 05월 | B10: 27 | C10: 79071793 | D10: 3550000 | E10: =SUM(C10:D10) -> 82621793 | F10: 3 | G10: 15679544 | H10: 2350000 | I10: =SUM(G10:H10) -> 18029544 | J10: =SUM(E10,I10) -> 100651337
A11: 2025년 06월 | B11: 29 | C11: 80935811 | D11: 3600000 | E11: =SUM(C11:D11) -> 84535811 | F11: 3 | G11: 14325882 | H11: 300000 | I11: =SUM(G11:H11) -> 14625882 | J11: =SUM(E11,I11) -> 99161693
A12: 2025년 07월 | B12: 31 | C12: 95384546 | D12: 48091700 | E12: =SUM(C12:D12) -> 143476246 | F12: 3 | G12: 15679545 | H12: 26045900 | I12: =SUM(G12:H12) -> 41725445 | J12: =SUM(E12,I12) -> 185201691
A13: 2025년 08월 | B13: 31 | C13: 88693622 | D13: 3063650 | E13: =SUM(C13:D13) -> 91757272 | F13: 4 | G13: 15679545 | H13: 5500000 | I13: =SUM(G13:H13) -> 21179545 | J13: =SUM(E13,I13) -> 112936817
A14: 2025년 09월 | B14: 29 | C14: 87194992 | D14: 59582600 | E14: =SUM(C14:D14) -> 146777592 | F14: 3 | G14: 15679545 | H14: 30078400 | I14: =SUM(G14:H14) -> 45757945 | J14: =SUM(E14,I14) -> 192535537
A15: 2025년 10월 | B15: 33 | C15: 90611834 | D15: 150000 | E15: =SUM(C15:D15) -> 90761834 | F15: 3 | G15: 15679545 | H15: 11400000 | I15: =SUM(G15:H15) -> 27079545 | J15: =SUM(E15,I15) -> 117841379
A16: 2025년 11월 | B16: 30 | C16: 85311300 | D16: 100000 | E16: =SUM(C16:D16) -> 85411300 | F16: 3 | G16: 15679545 | H16: 0 | I16: =SUM(G16:H16) -> 15679545 | J16: =SUM(E16,I16) -> 101090845
A17: 2025년 12월 | B17: 27 | C17: 78184128 | D17: 0 | E17: =SUM(C17:D17) -> 78184128 | F17: 3 | G17: 15679545 | H17: 0 | I17: =SUM(G17:H17) -> 15679545 | J17: =SUM(E17,I17) -> 93863673
A18: 잡 급 | E18: 743526069 | I18: 194311480 | J18: =SUM(E18,I18) -> 937837549
A19: 계 | C19: =SUM(C6:C18) -> 899915520 | D19: =SUM(D6:D18) -> 152535460 | E19: =SUM(E6:E18) -> 1795977049 | G19: =SUM(G6:G18) -> 179902120 | H19: =SUM(H6:H18) -> 117884800 | I19: =SUM(I6:I18) -> 492098400 | J19: =SUM(J6:J18) -> 2288075449
A20: 주) 전문업체 임금대장에 의거 분류함
D21: =TRUNC(D19*2/(C19/12*2),3) -> 2.033
D22: =TRUNC(I19/E19,3) -> 0.274

Sheet 속지3
A5: 3. 경 비

Sheet 경비집계
A1: 경비 집계표
A3: <표 11> | F3: (단위 : 원)
A4: 예정가격작성기준 조정 | C4: 직접산출 | D4: 비율산출 | E4: 금 액 | F4: 비 고
A5: 회계예규비목 | B5: 대상금액
A6: 직접재료비 | B6: =총괄!E6 -> 447457080
A7: 직접노무비 | B7: =총괄!E10 -> 230620511
A8: 직접원가 | B8: =SUM(B6:B7) -> 678077591
A9: 경 비 | B9: ( 배 부 율 )
A10: 전 력 비 | B10: =경률!E53 -> 0.01476 | D10: =TRUNC($B$8*B10,0) -> 10008425 | E10: =SUM(C10:D10) -> 10008425 | F10: 직접원가법
A11: 수도광열비 | B11: =경률!E54 -> 0.0009 | D11: =TRUNC($B$8*B11,0) -> 610269 | E11: =SUM(C11:D11) -> 610269 | F11: 직접원가법
A12: 운 반 비 | B12: =경률!E55 -> 0.00431 | D12: =TRUNC($B$8*B12,0) -> 2922514 | E12: =SUM(C12:D12) -> 2922514 | F12: 직접원가법
A13: 감가상각비 | B13: =경률!E56 -> 0.02465 | D13: =TRUNC($B$8*B13,0) -> 16714612 | E13: =SUM(C13:D13) -> 16714612 | F13: 직접원가법
A14: 수리수선비 | B14: =경률!E57 -> 0.00145 | D14: =TRUNC($B$8*B14,0) -> 983212 | E14: =SUM(C14:D14) -> 983212 | F14: 직접원가법
A15: 특허권사용료 | B15: =경률!E58 -> 0 | D15: =TRUNC($B$8*B15,0) -> 0 | E15: =SUM(C15:D15) -> 0
A16: 기 술 료 | B16: =경률!E59 -> 0 | D16: =TRUNC($B$8*B16,0) -> 0 | E16: =SUM(C16:D16) -> 0
A17: 연구개발비 | B17: =경률!E60 -> 0 | D17: =TRUNC($B$8*B17,0) -> 0 | E17: =SUM(C17:D17) -> 0
A18: 차량유지비 | B18: =경률!E61 -> 0.00594 | D18: =TRUNC($B$8*B18,0) -> 4027780 | E18: =SUM(C18:D18) -> 4027780 | F18: 직접원가법
A19: 지급임차료 | B19: =경률!E62 -> 0.05442 | D19: =TRUNC($B$8*B19,0) -> 36900982 | E19: =SUM(C19:D19) -> 36900982 | F19: 직접원가법
A20: 보 험 료 | B20: =경률!E63 -> 0.01625 | D20: =TRUNC($B$8*B20,0) -> 11018760 | E20: =SUM(C20:D20) -> 11018760 | F20: 직접원가법
A21: 복리후생비 | B21: =경률!E64 -> 0.08548 | D21: =TRUNC($B$7*B21,0) -> 19713441 | E21: =SUM(C21:D21) -> 19713441 | F21: 직접노무비법
A22: 보 관 비 | B22: =경률!E65 -> 0 | D22: =TRUNC($B$8*B22,0) -> 0 | E22: =SUM(C22:D22) -> 0
A23: 외주가공비 | B23: =경률!E66 -> 0.18601 | D23: =TRUNC(($B$8*B23)*0.2,0) -> 25225842 | E23: =SUM(C23:D23) -> 25225842 | F23: 직접원가법
A24: 산업안전보건관리비 | B24: =경률!E67 -> 0 | D24: =TRUNC($B$8*B24,0) -> 0 | E24: =SUM(C24:D24) -> 0
A25: 소 모 품 비 | B25: =경률!E68 -> 0.00503 | D25: =TRUNC($B$8*B25,0) -> 3410730 | E25: =SUM(C25:D25) -> 3410730 | F25: 직접원가법
A26: 여비교통통신비 | B26: =경률!E69 -> 0.0004 | D26: =TRUNC($B$8*B26,0) -> 271231 | E26: =SUM(C26:D26) -> 271231 | F26: 직접원가법
A27: 세금과공과 | B27: =경률!E70 -> 5e-05 | D27: =TRUNC($B$8*B27,0) -> 33903 | E27: =SUM(C27:D27) -> 33903 | F27: 직접원가법
A28: 접대비 | D28: =TRUNC($B$8*B28,0) -> 0 | E28: =SUM(C28:D28) -> 0
A29: 도서인쇄비 | B29: =경률!E72 -> 0 | D29: =TRUNC($B$8*B29,0) -> 0 | E29: =SUM(C29:D29) -> 0
A30: 지급수수료 | B30: =경률!E73 -> 0.01343 | D30: =TRUNC($B$8*B30,0) -> 9106582 | E30: =SUM(C30:D30) -> 9106582 | F30: 직접원가법
A31: 기타법정경비 | B31: =경률!E74 -> 0.00104 | D31: =TRUNC($B$8*B31,0) -> 705200 | E31: =SUM(C31:D31) -> 705200 | F31: 직접원가법
A32: 합 계 | B32: =SUM(B10:B31) -> 0.41412 | C32: =SUM(C10:C31) -> 0 | D32: =SUM(D10:D31) -> 141653483 | E32: =SUM(E10:E31) -> 141653483
A33: ="주 1) 직접재료비 : "&재료집계!$A$3&재료집계!$A$1&" 참조" -> 주 1) 직접재료비 : <표 1> 재료비 집계표 참조
A34: =" 2) 직접노무비 : "&노무집계!$A$3&노무집계!$A$1&" 참조" -> 2) 직접노무비 : <표 5> 노무비 집계표 참조
A35: 3) 외주가공비는 직접재료비에 계상된 금액을 제외한 20%를 적용
A36: =" 4) 배부율 : "&경률!A40&경률!A1&" 참조" -> 4) 배부율 : <표 13> 경비배부율 산출표 참조

Sheet 경률
A1: 경비배부율 산출표
A3: <표 12> | F3: (단위 : 백만 원)
A4: 회계예규비목 | B4: 조정금액 | C4: 경비 배부율 | F4: 비 고
C5: 직접재료비법 | D5: 직접노무비법 | E5: 직접원가법
A6: 1. 재 료 비 | B6: ='기업(제)'!F6 -> 34933529
A7: 직접재료비 | B7: =B6-B8 -> 34248558 | C7: =ROUND(B7/B7,4) -> 1
A8: 간접재료비 | B8: =TRUNC((B6/(1+G8))*G8) -> 684971 | G8: =간재!$G$6 -> 0.02
A9: 2. 노 무 비 | B9: ='기업(제)'!F7 -> 6854872
A10: 직접노무비 | B10: =B9-B11 -> 5380591 | D10: =ROUND(B10/B10,4) -> 1
A11: 간접노무비 | B11: =TRUNC((B9/(1+G11))*G11) -> 1474281 | G11: =간노!$G$6 -> 0.274
A12: 3. 직 접 원 가 | B12: =SUM(B13:B14) -> 39629149 | E12: =ROUND(B12/B12,4) -> 1
A13: 직접재료비 | B13: =B7 -> 34248558
A14: 직접노무비 | B14: =B10 -> 5380591
A15: 4. 경 비 | B15: =SUM(B16:B37) -> 17139832
A16: 전 력 비 | B16: ='기업(제)'!F10 -> 520831 | C16: =ROUND(B16/$B$7,5) -> 0.01521 | D16: =ROUND(B16/$B$10,5) -> 0.0968 | E16: =ROUND(B16/$B$12,5) -> 0.01314
A17: 수도광열비 | B17: ='기업(제)'!F11 -> 98450 | C17: =ROUND(B17/$B$7,5) -> 0.00287 | D17: =ROUND(B17/$B$10,5) -> 0.0183 | E17: =ROUND(B17/$B$12,5) -> 0.00248
A18: 운 반 비 | B18: ='기업(제)'!F18 -> 576346 | C18: =ROUND(B18/$B$7,5) -> 0.01683 | D18: =ROUND(B18/$B$10,5) -> 0.10712 | E18: =ROUND(B18/$B$12,5) -> 0.01454
A19: 감가상각비 | B19: ='기업(제)'!F12 -> 1134984 | C19: =ROUND(B19/$B$7,5) -> 0.03314 | D19: =ROUND(B19/$B$10,5) -> 0.21094 | E19: =ROUND(B19/$B$12,5) -> 0.02864
A20: 수리수선비 | B20: ='기업(제)'!F16 -> 198791 | C20: =ROUND(B20/$B$7,5) -> 0.0058 | D20: =ROUND(B20/$B$10,5) -> 0.03695 | E20: =ROUND(B20/$B$12,5) -> 0.00502
A21: 특허권사용료 | C21: =ROUND(B21/$B$7,5) -> 0 | D21: =ROUND(B21/$B$10,5) -> 0 | E21: =ROUND(B21/$B$12,5) -> 0
A22: 기 술 료 | C22: =ROUND(B22/$B$7,5) -> 0 | D22: =ROUND(B22/$B$10,5) -> 0 | E22: =ROUND(B22/$B$12,5) -> 0
A23: 연구개발비 | B23: ='기업(제)'!F19 -> 402721 | C23: =ROUND(B23/$B$7,5) -> 0.01176 | D23: =ROUND(B23/$B$10,5) -> 0.07485 | E23: =ROUND(B23/$B$12,5) -> 0.01016
A24: 시험검사비 | C24: =ROUND(B24/$B$7,5) -> 0 | D24: =ROUND(B24/$B$10,5) -> 0 | E24: =ROUND(B24/$B$12,5) -> 0
A25: 지급임차료 | B25: ='기업(제)'!F14 -> 359093 | C25: =ROUND(B25/$B$7,5) -> 0.01048 | D25: =ROUND(B25/$B$10,5) -> 0.06674 | E25: =ROUND(B25/$B$12,5) -> 0.00906
A26: 보 험 료 | B26: ='기업(제)'!F15 -> 242617 | C26: =D26 -> 0.04509 | D26: =ROUND(B26/$B$10,5) -> 0.04509 | E26: =ROUND(B26/$B$12,5) -> 0.00612
A27: 복리후생비 | B27: ='기업(제)'!F9 -> 808285 | C27: =D27 -> 0.15022 | D27: =ROUND(B27/$B$10,5) -> 0.15022 | E27: =D27 -> 0.15022 | F27: 직접노무비법
A28: 보 관 비 | C28: =ROUND(B28/$B$7,5) -> 0 | D28: =ROUND(B28/$B$10,5) -> 0 | E28: =ROUND(B28/$B$12,5) -> 0
A29: 외주가공비 | B29: ='기업(제)'!F17 -> 7442138 | C29: =ROUND(B29/$B$7,5) -> 0.2173 | D29: =ROUND(B29/$B$10,5) -> 1.38315 | E29: =ROUND(B29/$B$12,5) -> 0.18779
A30: 산업안전보건관리비 | C30: =ROUND(B30/$B$7,5) -> 0 | D30: =ROUND(B30/$B$10,5) -> 0 | E30: =ROUND(B30/$B$12,5) -> 0
A31: 소 모 품 비 | C31: =ROUND(B31/$B$7,5) -> 0 | D31: =ROUND(B31/$B$10,5) -> 0 | E31: =ROUND(B31/$B$12,5) -> 0
A32: 여비교통통신비 | C32: =ROUND(B32/$B$7,5) -> 0 | D32: =ROUND(B32/$B$10,5) -> 0 | E32: =ROUND(B32/$B$12,5) -> 0
A33: 세금과공과 | B33: ='기업(제)'!F13 -> 156892 | C33: =ROUND(B33/$B$7,5) -> 0.00458 | D33: =ROUND(B33/$B$10,5) -> 0.02916 | E33: =ROUND(B33/$B$12,5) -> 0.00396
A34: 폐기물처리비 | C34: =ROUND(B34/$B$7,5) -> 0 | D34: =ROUND(B34/$B$10,5) -> 0 | E34: =ROUND(B34/$B$12,5) -> 0
A35: 도서인쇄비 | C35: =ROUND(B35/$B$7,5) -> 0 | D35: =ROUND(B35/$B$10,5) -> 0 | E35: =ROUND(B35/$B$12,5) -> 0
A36: 지급수수료 | C36: =ROUND(B36/$B$7,5) -> 0 | D36: =ROUND(B36/$B$10,5) -> 0 | E36: =ROUND(B36/$B$12,5) -> 0
A37: 기타법정경비 | B37: ='기업(제)'!F20 -> 5198684 | C37: =ROUND(B37/$B$7,5) -> 0.15179 | D37: =ROUND(B37/$B$10,5) -> 0.96619 | E37: =ROUND(B37/$B$12,5) -> 0.13118
A38: 경비율 계 | C38: =SUM(C15:C37) -> 0.66507 | D38: =SUM(D15:D37) -> 3.18551 | E38: =SUM(E15:E37) -> 0.56231
A39: 주) Ⅳ. 참고자료, 1. 기업경영분석자료, 제조원가명서 참조
A40: <표 13> | F40: (단위 : 원)
A41: 회계예규비목 | B41: 조정금액 | C41: 경비 배부율 | F41: 비 고
C42: 직접재료비법 | D42: 직접노무비법 | E42: 직접원가법
A43: 1. 재 료 비 | B43: ='업체(제)'!F5 -> 1936983281
A44: 직접재료비 | B44: =B43-B45 -> 1899003217 | C44: =ROUND(B44/B44,4) -> 1
A45: 간접재료비 | B45: =TRUNC((B43/(1+G45))*G45) -> 37980064 | G45: =G8 -> 0.02
A46: 2. 노 무 비 | B46: ='업체(제)'!F9 -> 1055506060
A47: 직접노무비 | B47: =B46-B48 -> 828497693 | D47: =ROUND(B47/B47,4) -> 1
A48: 간접노무비 | B48: =TRUNC((B46/(1+G48))*G48) -> 227008367 | G48: =G11 -> 0.274
A49: 3. 직 접 원 가 | B49: =SUM(B50:B51) -> 2727500910 | E49: =ROUND(B49/B49,4) -> 1
A50: 직접재료비 | B50: =B44 -> 1899003217
A51: 직접노무비 | B51: =B47 -> 828497693
A52: 4. 경 비 | B52: =SUM(B53:B74) -> 967221880
A53: 전 력 비 | B53: ='업체(제)'!E18 -> 40263946 | C53: =ROUND(B53/$B$44,5) -> 0.0212 | D53: =ROUND(B53/$B$47,5) -> 0.0486 | E53: =ROUND(B53/$B$49,5) -> 0.01476
A54: 수도광열비 | B54: ='업체(제)'!E17 -> 2459831 | C54: =ROUND(B54/$B$44,5) -> 0.0013 | D54: =ROUND(B54/$B$47,5) -> 0.00297 | E54: =ROUND(B54/$B$49,5) -> 0.0009
A55: 운 반 비 | B55: ='업체(제)'!E25 -> 11756657 | C55: =ROUND(B55/$B$44,5) -> 0.00619 | D55: =ROUND(B55/$B$47,5) -> 0.01419 | E55: =ROUND(B55/$B$49,5) -> 0.00431
A56: 감가상각비 | B56: ='업체(제)'!E20 -> 67233683 | C56: =ROUND(B56/$B$44,5) -> 0.0354 | D56: =ROUND(B56/$B$47,5) -> 0.08115 | E56: =ROUND(B56/$B$49,5) -> 0.02465
A57: 수리수선비 | B57: ='업체(제)'!E22 -> 3952364 | C57: =ROUND(B57/$B$44,5) -> 0.00208 | D57: =ROUND(B57/$B$47,5) -> 0.00477 | E57: =ROUND(B57/$B$49,5) -> 0.00145
A58: 특허권사용료 | C58: =ROUND(B58/$B$44,5) -> 0 | D58: =ROUND(B58/$B$47,5) -> 0 | E58: =ROUND(B58/$B$49,5) -> 0
A59: 기 술 료 | C59: =ROUND(B59/$B$44,5) -> 0 | D59: =ROUND(B59/$B$47,5) -> 0 | E59: =ROUND(B59/$B$49,5) -> 0
A60: 연구개발비 | C60: =ROUND(B60/$B$44,5) -> 0 | D60: =ROUND(B60/$B$47,5) -> 0 | E60: =ROUND(B60/$B$49,5) -> 0
A61: 차량유지비 | B61: ='업체(제)'!E24 -> 16191014 | C61: =ROUND(B61/$B$44,5) -> 0.00853 | D61: =ROUND(B61/$B$47,5) -> 0.01954 | E61: =ROUND(B61/$B$49,5) -> 0.00594
A62: 지급임차료 | B62: ='업체(제)'!E21 -> 148440000 | C62: =ROUND(B62/$B$44,5) -> 0.07817 | D62: =ROUND(B62/$B$47,5) -> 0.17917 | E62: =ROUND(B62/$B$49,5) -> 0.05442
A63: 보 험 료 | B63: ='업체(제)'!E23 -> 44322006 | C63: =D63 -> 0.0535 | D63: =ROUND(B63/$B$47,5) -> 0.0535 | E63: =ROUND(B63/$B$49,5) -> 0.01625
A64: 복리후생비 | B64: ='업체(제)'!E15 -> 70823416 | C64: =D64 -> 0.08548 | D64: =ROUND(B64/$B$47,5) -> 0.08548 | E64: =D64 -> 0.08548 | F64: 직접노무비법
A65: 보 관 비 | C65: =ROUND(B65/$B$44,5) -> 0 | D65: =ROUND(B65/$B$47,5) -> 0 | E65: =ROUND(B65/$B$49,5) -> 0
A66: 외주가공비 | B66: ='업체(제)'!E30 -> 507353860 | C66: =ROUND(B66/$B$44,5) -> 0.26717 | D66: =ROUND(B66/$B$47,5) -> 0.61238 | E66: =ROUND(B66/$B$49,5) -> 0.18601
A67: 산업안전보건관리비 | C67: =ROUND(B67/$B$44,5) -> 0 | D67: =ROUND(B67/$B$47,5) -> 0 | E67: =ROUND(B67/$B$49,5) -> 0
A68: 소 모 품 비 | B68: ='업체(제)'!E28 -> 13721707 | C68: =ROUND(B68/$B$44,5) -> 0.00723 | D68: =ROUND(B68/$B$47,5) -> 0.01656 | E68: =ROUND(B68/$B$49,5) -> 0.00503
A69: 여비교통통신비 | B69: ='업체(제)'!E16 -> 1102949 | C69: =ROUND(B69/$B$44,5) -> 0.00058 | D69: =ROUND(B69/$B$47,5) -> 0.00133 | E69: =ROUND(B69/$B$49,5) -> 0.0004
A70: 세금과공과 | B70: ='업체(제)'!E19 -> 139190 | C70: =ROUND(B70/$B$44,5) -> 7e-05 | D70: =ROUND(B70/$B$47,5) -> 0.00017 | E70: =ROUND(B70/$B$49,5) -> 5e-05
A71: 접대비 | B71: ='업체(제)'!E33 -> 0 | C71: =ROUND(B71/$B$44,5) -> 0 | D71: =ROUND(B71/$B$47,5) -> 0 | E71: =ROUND(B71/$B$49,5) -> 0 | F71: 불인금액
A72: 도서인쇄비 | C72: =ROUND(B72/$B$44,5) -> 0 | D72: =ROUND(B72/$B$47,5) -> 0 | E72: =ROUND(B72/$B$49,5) -> 0
A73: 지급수수료 | B73: ='업체(제)'!E29 -> 36626257 | C73: =ROUND(B73/$B$44,5) -> 0.01929 | D73: =ROUND(B73/$B$47,5) -> 0.04421 | E73: =ROUND(B73/$B$49,5) -> 0.01343
A74: 기타법정경비 | B74: ='업체(제)'!E31 -> 2835000 | C74: =ROUND(B74/$B$44,5) -> 0.00149 | D74: =ROUND(B74/$B$47,5) -> 0.00342 | E74: =ROUND(B74/$B$49,5) -> 0.00104
A75: 경비율 계 | C75: =SUM(C52:C74) -> 0.58768 | D75: =SUM(D52:D74) -> 1.16744 | E75: =SUM(E52:E74) -> 0.41412
A76: 주) Ⅳ. 참고자료, 2. 전문업체결산자료, 제조원가명서 참조

Sheet 속지4
A5: 4. 일반관리비

Sheet 일반
A1: 일반관리비
A3: <표 13> | H3: (단위 : 원)
A4: No. | B4: 대 상 금 액 | F4: 비 율 | G4: 일반관리비 | H4: 비 고
B5: 재료비 | C5: 노무비 | D5: 경 비 | E5: 계
A7: 1 | B7: =총괄!E9 -> 456406221 | C7: =총괄!E12 -> 293810531 | D7: =총괄!E35 -> 141653483 | E7: =SUM(B7:D7) -> 891870235 | F7: ='일반율(산)'!H21/100 -> 0.07 | G7: =TRUNC(E7*F7,0) -> 62430916
A10: ="주) 비 율 : "&'일반율(산)'!A3&'일반율(산)'!A1:I1&" 참조" -> 주) 비 율 : <표 14> 일반관리비율 산출표 참조

Sheet 일반율(산)
A1: 일반관리비율 산출표
A3: <표 14>
A4: 1. 계약예규, 전문업체 및 기업경영분석자료 비교 | I4: (단위 : 원, 백만 원)
A5: 과 목 | E5: 계약예규 기준 | F5: 전문업체 비율 | G5: 기업경영 분석자료 | H5: 적용비율 | I5: 비 고
A8: 1) | C8: 매출원가 | F8: ='업체(손)'!F7 -> 3751723241 | G8: ='기업(손)'!F6 -> 63529103 | I8: 주 1)
A9: 2) | C9: 동기간의일반관리비 | F9: =F10-F11 -> 386468311 | G9: =G10-G11 -> 7475265
B10: - | C10: 판매비와일반관리비 | F10: ='업체(손)'!F12 -> 408324685 | G10: ='기업(손)'!F8 -> 11522313
B11: - | C11: 불인금액 | F11: =SUM(F12:F20) -> 21856374 | G11: =SUM(G12:G20) -> 4047048
C12: ① 접대비 | F12: ='업체(손)'!E17 -> 10439070 | G12: ='기업(손)'!F15 -> 307063
C13: ② 광고선전비 | F13: ='업체(손)'!E31 -> 0 | G13: ='기업(손)'!F16 -> 196137
C14: ③ 대손상각비 | G14: ='기업(손)'!F19 -> 418822
C15: ④ 무형자산상각비 | F15: ='업체(손)'!E32 -> 1249600 | G15: ='기업(손)'!F20 -> 132203
C16: ⑤ 기타판매비와관리비 | G16: ='기업(손)'!F21 -> 2992823
C17: ⑥ 잡비 | F17: ='업체(손)'!E33 -> 10167704
C18: ⑦ 보증수수료
C19: ⑧ 운반.하역.보관비
A21: 3) | C21: 일반관리비율(%) | E21: =일률!E15*100 -> 7 | F21: =TRUNC(F9/F8*100,2) -> 10.3 | G21: =TRUNC(G9/G8*100,2) -> 11.76 | H21: =MIN(E21:G21) -> 7 | I21: 주 2)
A22: 주 1) 매출원가 : 기업경영분석자료 손익계산서 참조
A23: 2) 일반관리비율(%) : (동기간의 일반관리비 ÷ 매출원가) × 100
A25: 2. 일반관리비 적용비율
A26: =" 기획재정부 계약예규에 의한 『조립금속제품·기계·장비의 제조·구매업』 일반관리비율의 한도율은 "&E21&".0%이며," -> 기획재정부 계약예규에 의한 『조립금속제품·기계·장비의 제조·구매업』 일반관리비율의 한도율은 7.0%이며,
A27: =" 전문업체 비율은 "&F21&"%, 기업경영분석자료 비율은 "&G21&"%로 조사되어" -> 전문업체 비율은 10.3%, 기업경영분석자료 비율은 11.76%로 조사되어
A28: =" 본 원가계산시 일반관리비율은 "&H21&"%를 적용하였다." -> 본 원가계산시 일반관리비율은 7%를 적용하였다.

Sheet 일률
A1: 일반관리비 비율표
A3: <표 15>
B4: 업 종 | E4: 일반관리비율
B7: 1. 공사 | E7: 0.08
B8: 2. 음·식료품의 제조·구매 | E8: 0.14
B9: 3. 섬유·의복·가죽제품의 제조·구매 | E9: 0.08
B10: 4. 나무·나무제품의 제조·구매 | E10: 0.09
B11: 5. 종이·종이제품·인쇄출판물의 제조·구매 | E11: 0.14
B12: 6. 화학·석유·석탄·고무·플라스틱 제품의 제조·구매 | E12: 0.08
B13: 7. 비금속광물제품의 제조·구매 | E13: 0.12
B14: 8. 제1차 금속제품의 제조·구매 | E14: 0.06
B15: 9. 조립금속제품·기계·장비의 제조·구매 | E15: 0.07
B16: 10. 수입물품의 구매 | E16: 0.08
B17: 11. 기타 물품의 제조·구매 | E17: 0.11
B18: 12. 폐기물 처리·재활용 용역 | E18: 0.1
... B23: 17. 기타 용역 | E23: 0.06
A25: 주) 지방자치단체를 당사자로 하는 계약에 관한 법률 시행규칙 제8조 1항

Sheet 속지5
A5: 5. 이 윤

Sheet 이윤
A1: 이 윤
A3: <표 16> | H3: (단위 : 원)
A4: No. | B4: 대 상 금 액 | F4: 비 율 | G4: 이 윤 | H4: 비 고
B5: 노무비 | C5: 경 비 | D5: 일반관리비 | E5: 계
A7: 1 | B7: =총괄!E12 -> 293810531 | C7: =총괄!E35-총괄!E26 -> 116427641 | D7: =총괄!E37 -> 62430916 | E7: =SUM(B7:D7) -> 472669088 | F7: =이율!E8 -> 0.25 | G7: =TRUNC(E7*F7,0)-ROUND(265/1.1,0) -> 118167031
A10: ="주 1) 비 율 : "&이율!A3&이율!A1&" 참조" -> 주 1) 비 율 : <표 17> 이 윤 율 참조
A11: 2) 이 윤 : 총액 천 원 미만 정리

Sheet 이율
A1: 이 윤 율
A3: <표 17>
B4: 구 분 | E4: 이 윤 율 | H4: 비 고
B7: 1. 공사 | E7: 0.15
B8: 2. 제조.구매 | E8: 0.25
B9: 3. 수입물품의 구입 | E9: 0.1
B10: 4. 용역 | E10: 0.1
A12: 주) 지방자치단체를 당사자로 하는 계약에 관한 법률 시행규칙 제8조 2항

Sheet 간지6
A5: Ⅵ. 참 고 자 료

Sheet 속지7
A5: 2. 단가조사자료

Sheet 단가조사
C1: 단 가 조 사 표
C3: <표 18> | V3: (단위 : 원)
B4: 1 | C4: 2 | D4: 3 | E4: 4 | F4: 5 | G4: 6 | H4: 7 | I4: 8 | J4: 9 | K4: 10 | L4: 11 | M4: 12 | N4: 13 | O4: 14 | P4: 15 | Q4: 16 | R4: 17 | S4: 18 | T4: 19 | U4: 20
C5: No. | D5: 재 료 명 | E5: 재 질 및 규 격 | M5: 단위 | N5: 물가정보 | P5: 물가자료 | R5: 견적 A | S5: 견적 B | T5: 조사가격 | U5: 적용단가 | V5: 비 고
N6: page | O6: 단가 | P6: page | Q6: 단가
C7: =" ["&표지!$D$3&"]" -> [전자동 해태건조기(12-Is2T2F-#70×20D) 제조]
A8: M0001 | B8: M0001 | C8: 1 | D8: 철판 | E8: =VLOOKUP($B8,직재산출!$A$4:$T$3731,5,FALSE) -> 레이저 | F8: =VLOOKUP($B8,직재산출!$A$4:$T$3731,6,FALSE) -> 6 | G8: =VLOOKUP($B8,직재산출!$A$4:$T$3731,7,FALSE) -> × | H8: =VLOOKUP($B8,직재산출!$A$4:$T$3731,8,FALSE) -> 260 | I8: =VLOOKUP($B8,직재산출!$A$4:$T$3731,9,FALSE) -> × | J8: =VLOOKUP($B8,직재산출!$A$4:$T$3731,10,FALSE) -> 0 | K8: =VLOOKUP($B8,직재산출!$A$4:$T$3731,11,FALSE) -> 0 | L8: =VLOOKUP($B8,직재산출!$A$4:$T$3731,12,FALSE) -> 500 | M8: m/kg | N8: 14 | O8: 939 | P8: 13 | Q8: 960 | U8: =MIN(O8,Q8,R8,S8,T8) -> 939
A9: M0002 | B9: M0002 | C9: 2 | D9: 환봉 | E9: =VLOOKUP($B9,직재산출!$A$4:$T$3731,5,FALSE) -> 환봉 | F9: =VLOOKUP($B9,직재산출!$A$4:$T$3731,6,FALSE) -> 50 | G9: =VLOOKUP($B9,직재산출!$A$4:$T$3731,7,FALSE) -> × | H9: =VLOOKUP($B9,직재산출!$A$4:$T$3731,8,FALSE) -> 0 | I9: =VLOOKUP($B9,직재산출!$A$4:$T$3731,9,FALSE) -> 0 | J9: =VLOOKUP($B9,직재산출!$A$4:$T$3731,10,FALSE) -> 0 | K9: =VLOOKUP($B9,직재산출!$A$4:$T$3731,11,FALSE) -> 0 | L9: =VLOOKUP($B9,직재산출!$A$4:$T$3731,12,FALSE) -> 30 | M9: m/kg | N9: 3 | O9: 990 | P9: 5 | Q9: 1010 | U9: =MIN(O9,Q9,R9,S9,T9) -> 990
A10: M0003 | B10: M0003 | C10: 3 | D10: 육각볼트 | E10: =VLOOKUP($B10,직재산출!$A$4:$T$3731,5,FALSE) -> 육각볼트 | F10: =VLOOKUP($B10,직재산출!$A$4:$T$3731,6,FALSE) -> M12 | G10: =VLOOKUP($B10,직재산출!$A$4:$T$3731,7,FALSE) -> × | H10: =VLOOKUP($B10,직재산출!$A$4:$T$3731,8,FALSE) -> L30 | I10: =VLOOKUP($B10,직재산출!$A$4:$T$3731,9,FALSE) -> 0 | J10: =VLOOKUP($B10,직재산출!$A$4:$T$3731,10,FALSE) -> 0 | K10: =VLOOKUP($B10,직재산출!$A$4:$T$3731,11,FALSE) -> 0 | L10: =VLOOKUP($B10,직재산출!$A$4:$T$3731,12,FALSE) -> 0 | M10: 개 | N10: 41 | O10: 432 | U10: =MIN(O10,Q10,R10,S10,T10) -> 432
A11: M0004 | B11: M0004 | C11: 4 | D11: 너트 | E11: =VLOOKUP($B11,직재산출!$A$4:$T$3731,5,FALSE) -> 너트 | F11: =VLOOKUP($B11,직재산출!$A$4:$T$3731,6,FALSE) -> M12 | G11: =VLOOKUP($B11,직재산출!$A$4:$T$3731,7,FALSE) -> 0 | H11: =VLOOKUP($B11,직재산출!$A$4:$T$3731,8,FALSE) -> 0 | I11: =VLOOKUP($B11,직재산출!$A$4:$T$3731,9,FALSE) -> 0 | J11: =VLOOKUP($B11,직재산출!$A$4:$T$3731,10,FALSE) -> 0 | K11: =VLOOKUP($B11,직재산출!$A$4:$T$3731,11,FALSE) -> 0 | L11: =VLOOKUP($B11,직재산출!$A$4:$T$3731,12,FALSE) -> 0 | M11: 개 | N11: 39 | O11: 157.3 | P11: 51 | Q11: 224 | U11: =MIN(O11,Q11,R11,S11,T11) -> 157.3
A12: M0005 | B12: M0005 | C12: 5 | D12: 와셔 S | E12: =VLOOKUP($B12,직재산출!$A$4:$T$3731,5,FALSE) -> 와셔 S | F12: =VLOOKUP($B12,직재산출!$A$4:$T$3731,6,FALSE) -> M12 | G12: =VLOOKUP($B12,직재산출!$A$4:$T$3731,7,FALSE) -> 0 | H12: =VLOOKUP($B12,직재산출!$A$4:$T$3731,8,FALSE) -> 0 | I12: =VLOOKUP($B12,직재산출!$A$4:$T$3731,9,FALSE) -> 0 | J12: =VLOOKUP($B12,직재산출!$A$4:$T$3731,10,FALSE) -> 0 | K12: =VLOOKUP($B12,직재산출!$A$4:$T$3731,11,FALSE) -> 0 | L12: =VLOOKUP($B12,직재산출!$A$4:$T$3731,12,FALSE) -> 0 | M12: 개 | N12: 43 | O12: 49.2 | U12: =MIN(O12,Q12,R12,S12,T12) -> 49.2
A13: M0006 | B13: M0006 | C13: 6 | D13: 와셔 P | E13: =VLOOKUP($B13,직재산출!$A$4:$T$3731,5,FALSE) -> 와셔 P | F13: =VLOOKUP($B13,직재산출!$A$4:$T$3731,6,FALSE) -> M12 | G13: =VLOOKUP($B13,직재산출!$A$4:$T$3731,7,FALSE) -> 0 | H13: =VLOOKUP($B13,직재산출!$A$4:$T$3731,8,FALSE) -> 0 | I13: =VLOOKUP($B13,직재산출!$A$4:$T$3731,9,FALSE) -> 0 | J13: =VLOOKUP($B13,직재산출!$A$4:$T$3731,10,FALSE) -> 0 | K13: =VLOOKUP($B13,직재산출!$A$4:$T$3731,11,FALSE) -> 0 | L13: =VLOOKUP($B13,직재산출!$A$4:$T$3731,12,FALSE) -> 0 | M13: 개 | N13: 43 | O13: 53.7 | P13: 48 | Q13: 65.02 | U13: =MIN(O13,Q13,R13,S13,T13) -> 53.7
A14: M0007 | B14: M0007 | C14: 7 | D14: 환봉 | E14: =VLOOKUP($B14,직재산출!$A$4:$T$3731,5,FALSE) -> 환봉 | F14: =VLOOKUP($B14,직재산출!$A$4:$T$3731,6,FALSE) -> 40 | G14: =VLOOKUP($B14,직재산출!$A$4:$T$3731,7,FALSE) -> × | H14: =VLOOKUP($B14,직재산출!$A$4:$T$3731,8,FALSE) -> 0 | I14: =VLOOKUP($B14,직재산출!$A$4:$T$3731,9,FALSE) -> 0 | J14: =VLOOKUP($B14,직재산출!$A$4:$T$3731,10,FALSE) -> 0 | K14: =VLOOKUP($B14,직재산출!$A$4:$T$3731,11,FALSE) -> 0 | L14: =VLOOKUP($B14,직재산출!$A$4:$T$3731,12,FALSE) -> 4300 | M14: kg | N14: 30 | O14: 4950 | P14: 35 | Q14: 5600 | U14: =MIN(O14,Q14,R14,S14,T14) -> 4950
A15: M0009 | B15: M0009 | C15: 8 | D15: 육각볼트 | E15: =VLOOKUP($B15,직재산출!$A$4:$T$3731,5,FALSE) -> 육각볼트 | F15: =VLOOKUP($B15,직재산출!$A$4:$T$3731,6,FALSE) -> M14 | G15: =VLOOKUP($B15,직재산출!$A$4:$T$3731,7,FALSE) -> × | H15: =VLOOKUP($B15,직재산출!$A$4:$T$3731,8,FALSE) -> L40 | I15: =VLOOKUP($B15,직재산출!$A$4:$T$3731,9,FALSE) -> 0 | J15: =VLOOKUP($B15,직재산출!$A$4:$T$3731,10,FALSE) -> 0 | K15: =VLOOKUP($B15,직재산출!$A$4:$T$3731,11,FALSE) -> 0 | L15: =VLOOKUP($B15,직재산출!$A$4:$T$3731,12,FALSE) -> 0 | M15: 개 | N15: 41 | O15: 262.9 | P15: 47 | Q15: 383 | U15: =MIN(O15,Q15,R15,S15,T15) -> 262.9
A16: M0010 | B16: M0010 | C16: 9 | D16: 너트 | E16: =VLOOKUP($B16,직재산출!$A$4:$T$3731,5,FALSE) -> 너트 | F16: =VLOOKUP($B16,직재산출!$A$4:$T$3731,6,FALSE) -> M14 | G16: =VLOOKUP($B16,직재산출!$A$4:$T$3731,7,FALSE) -> 0 | H16: =VLOOKUP($B16,직재산출!$A$4:$T$3731,8,FALSE) -> 0 | I16: =VLOOKUP($B16,직재산출!$A$4:$T$3731,9,FALSE) -> 0 | J16: =VLOOKUP($B16,직재산출!$A$4:$T$3731,10,FALSE) -> 0 | K16: =VLOOKUP($B16,직재산출!$A$4:$T$3731,11,FALSE) -> 0 | L16: =VLOOKUP($B16,직재산출!$A$4:$T$3731,12,FALSE) -> 0 | M16: 개 | N16: 39 | O16: 61.9 | P16: 51 | Q16: 73.5 | U16: =MIN(O16,Q16,R16,S16,T16) -> 61.9
A17: M0011 | B17: M0011 | C17: 10 | D17: 와셔 S | E17: =VLOOKUP($B17,직재산출!$A$4:$T$3731,5,FALSE) -> 와셔 S | F17: =VLOOKUP($B17,직재산출!$A$4:$T$3731,6,FALSE) -> M14 | G17: =VLOOKUP($B17,직재산출!$A$4:$T$3731,7,FALSE) -> 0 | H17: =VLOOKUP($B17,직재산출!$A$4:$T$3731,8,FALSE) -> 0 | I17: =VLOOKUP($B17,직재산출!$A$4:$T$3731,9,FALSE) -> 0 | J17: =VLOOKUP($B17,직재산출!$A$4:$T$3731,10,FALSE) -> 0 | K17: =VLOOKUP($B17,직재산출!$A$4:$T$3731,11,FALSE) -> 0 | L17: =VLOOKUP($B17,직재산출!$A$4:$T$3731,12,FALSE) -> 0 | M17: 개 | N17: 43 | O17: 21.7 | U17: =MIN(O17,Q17,R17,S17,T17) -> 21.7
A18: M0012 | B18: M0012 | C18: 11 | D18: 와셔 P | E18: =VLOOKUP($B18,직재산출!$A$4:$T$3731,5,FALSE) -> 와셔 P | F18: =VLOOKUP($B18,직재산출!$A$4:$T$3731,6,FALSE) -> M14 | G18: =VLOOKUP($B18,직재산출!$A$4:$T$3731,7,FALSE) -> 0 | H18: =VLOOKUP($B18,직재산출!$A$4:$T$3731,8,FALSE) -> 0 | I18: =VLOOKUP($B18,직재산출!$A$4:$T$3731,9,FALSE) -> 0 | J18: =VLOOKUP($B18,직재산출!$A$4:$T$3731,10,FALSE) -> 0 | K18: =VLOOKUP($B18,직재산출!$A$4:$T$3731,11,FALSE) -> 0 | L18: =VLOOKUP($B18,직재산출!$A$4:$T$3731,12,FALSE) -> 0 | M18: 개 | N18: 43 | O18: 33.3 | P18: 48 | Q18: 33.58 | U18: =MIN(O18,Q18,R18,S18,T18) -> 33.3
A19: M0014 | B19: M0014 | C19: 12 | D19: 육각볼트 | E19: =VLOOKUP($B19,직재산출!$A$4:$T$3731,5,FALSE) -> 육각볼트 | F19: =VLOOKUP($B19,직재산출!$A$4:$T$3731,6,FALSE) -> M12 | G19: =VLOOKUP($B19,직재산출!$A$4:$T$3731,7,FALSE) -> × | H19: =VLOOKUP($B19,직재산출!$A$4:$T$3731,8,FALSE) -> L30 | I19: =VLOOKUP($B19,직재산출!$A$4:$T$3731,9,FALSE) -> 0 | J19: =VLOOKUP($B19,직재산출!$A$4:$T$3731,10,FALSE) -> 0 | K19: =VLOOKUP($B19,직재산출!$A$4:$T$3731,11,FALSE) -> 0 | L19: =VLOOKUP($B19,직재산출!$A$4:$T$3731,12,FALSE) -> 0 | M19: 개 | N19: 41 | O19: 129.8 | P19: 47 | Q19: 210 | U19: =MIN(O19,Q19,R19,S19,T19) -> 129.8
A20: M0015 | B20: M0015 | C20: 13 | D20: 와셔 S | E20: =VLOOKUP($B20,직재산출!$A$4:$T$3731,5,FALSE) -> 와셔 S | F20: =VLOOKUP($B20,직재산출!$A$4:$T$3731,6,FALSE) -> M12 | G20: =VLOOKUP($B20,직재산출!$A$4:$T$3731,7,FALSE) -> 0 | H20: =VLOOKUP($B20,직재산출!$A$4:$T$3731,8,FALSE) -> 0 | I20: =VLOOKUP($B20,직재산출!$A$4:$T$3731,9,FALSE) -> 0 | J20: =VLOOKUP($B20,직재산출!$A$4:$T$3731,10,FALSE) -> 0 | K20: =VLOOKUP($B20,직재산출!$A$4:$T$3731,11,FALSE) -> 0 | L20: =VLOOKUP($B20,직재산출!$A$4:$T$3731,12,FALSE) -> 0 | M20: 개 | N20: 43 | O20: 14 | P20: 48 | Q20: 19.78 | U20: =MIN(O20,Q20,R20,S20,T20) -> 14
A21: M0018 | B21: M0018 | C21: 14 | D21: 무두볼트 | E21: =VLOOKUP($B21,직재산출!$A$4:$T$3731,5,FALSE) -> 무두볼트 | F21: =VLOOKUP($B21,직재산출!$A$4:$T$3731,6,FALSE) -> M12x15 | G21: =VLOOKUP($B21,직재산출!$A$4:$T$3731,7,FALSE) -> 0 | H21: =VLOOKUP($B21,직재산출!$A$4:$T$3731,8,FALSE) -> 0 | I21: =VLOOKUP($B21,직재산출!$A$4:$T$3731,9,FALSE) -> 0 | J21: =VLOOKUP($B21,직재산출!$A$4:$T$3731,10,FALSE) -> 0 | K21: =VLOOKUP($B21,직재산출!$A$4:$T$3731,11,FALSE) -> 0 | L21: =VLOOKUP($B21,직재산출!$A$4:$T$3731,12,FALSE) -> 0 | M21: 개 | N21: 45 | O21: 52 | U21: =MIN(O21,Q21,R21,S21,T21) -> 52
A22: M0020 | B22: M0020 | C22: 15 | D22: 환봉 | E22: =VLOOKUP($B22,직재산출!$A$4:$T$3731,5,FALSE) -> 환봉 | F22: =VLOOKUP($B22,직재산출!$A$4:$T$3731,6,FALSE) -> 80 | G22: =VLOOKUP($B22,직재산출!$A$4:$T$3731,7,FALSE) -> 0 | H22: =VLOOKUP($B22,직재산출!$A$4:$T$3731,8,FALSE) -> 0 | I22: =VLOOKUP($B22,직재산출!$A$4:$T$3731,9,FALSE) -> 0 | J22: =VLOOKUP($B22,직재산출!$A$4:$T$3731,10,FALSE) -> 0 | K22: =VLOOKUP($B22,직재산출!$A$4:$T$3731,11,FALSE) -> 0 | L22: =VLOOKUP($B22,직재산출!$A$4:$T$3731,12,FALSE) -> 44 | M22: m/kg | N22: 3 | O22: 990 | P22: 5 | Q22: 1010 | U22: =MIN(O22,Q22,R22,S22,T22) -> 990
A23: M0021 | B23: M0021 | C23: 16 | D23: 육각볼트 | E23: =VLOOKUP($B23,직재산출!$A$4:$T$3731,5,FALSE) -> 육각볼트 | F23: =VLOOKUP($B23,직재산출!$A$4:$T$3731,6,FALSE) -> M10 | G23: =VLOOKUP($B23,직재산출!$A$4:$T$3731,7,FALSE) -> × | H23: =VLOOKUP($B23,직재산출!$A$4:$T$3731,8,FALSE) -> L40 | I23: =VLOOKUP($B23,직재산출!$A$4:$T$3731,9,FALSE) -> 0 | J23: =VLOOKUP($B23,직재산출!$A$4:$T$3731,10,FALSE) -> 0 | K23: =VLOOKUP($B23,직재산출!$A$4:$T$3731,11,FALSE) -> 0 | L23: =VLOOKUP($B23,직재산출!$A$4:$T$3731,12,FALSE) -> 0 | M23: 개 | N23: 41 | O23: 102.7 | P23: 47 | Q23: 172 | U23: =MIN(O23,Q23,R23,S23,T23) -> 102.7
A24: M0022 | B24: M0022 | C24: 17 | D24: 와셔 P | E24: =VLOOKUP($B24,직재산출!$A$4:$T$3731,5,FALSE) -> 와셔 P | F24: =VLOOKUP($B24,직재산출!$A$4:$T$3731,6,FALSE) -> M10 | G24: =VLOOKUP($B24,직재산출!$A$4:$T$3731,7,FALSE) -> 0 | H24: =VLOOKUP($B24,직재산출!$A$4:$T$3731,8,FALSE) -> 0 | I24: =VLOOKUP($B24,직재산출!$A$4:$T$3731,9,FALSE) -> 0 | J24: =VLOOKUP($B24,직재산출!$A$4:$T$3731,10,FALSE) -> 0 | K24: =VLOOKUP($B24,직재산출!$A$4:$T$3731,11,FALSE) -> 0 | L24: =VLOOKUP($B24,직재산출!$A$4:$T$3731,12,FALSE) -> 0 | M24: 개 | N24: 43 | O24: 13.5 | P24: 48 | Q24: 16.51 | U24: =MIN(O24,Q24,R24,S24,T24) -> 13.5
A25: M0023 | B25: M0023 | C25: 18 | D25: 와셔 S | E25: =VLOOKUP($B25,직재산출!$A$4:$T$3731,5,FALSE) -> 와셔 S | F25: =VLOOKUP($B25,직재산출!$A$4:$T$3731,6,FALSE) -> M10 | G25: =VLOOKUP($B25,직재산출!$A$4:$T$3731,7,FALSE) -> 0 | H25: =VLOOKUP($B25,직재산출!$A$4:$T$3731,8,FALSE) -> 0 | I25: =VLOOKUP($B25,직재산출!$A$4:$T$3731,9,FALSE) -> 0 | J25: =VLOOKUP($B25,직재산출!$A$4:$T$3731,10,FALSE) -> 0 | K25: =VLOOKUP($B25,직재산출!$A$4:$T$3731,11,FALSE) -> 0 | L25: =VLOOKUP($B25,직재산출!$A$4:$T$3731,12,FALSE) -> 0 | M25: 개 | N25: 43 | O25: 9.2 | P25: 48 | Q25: 11.53 | U25: =MIN(O25,Q25,R25,S25,T25) -> 9.2
A26: M0028 | B26: M0028 | C26: 19 | D26: 너트 | E26: =VLOOKUP($B26,직재산출!$A$4:$T$3731,5,FALSE) -> 너트 | F26: =VLOOKUP($B26,직재산출!$A$4:$T$3731,6,FALSE) -> M10 | G26: =VLOOKUP($B26,직재산출!$A$4:$T$3731,7,FALSE) -> 0 | H26: =VLOOKUP($B26,직재산출!$A$4:$T$3731,8,FALSE) -> 0 | I26: =VLOOKUP($B26,직재산출!$A$4:$T$3731,9,FALSE) -> 0 | J26: =VLOOKUP($B26,직재산출!$A$4:$T$3731,10,FALSE) -> 0 | K26: =VLOOKUP($B26,직재산출!$A$4:$T$3731,11,FALSE) -> 0 | L26: =VLOOKUP($B26,직재산출!$A$4:$T$3731,12,FALSE) -> 0 | M26: 개 | N26: 39 | O26: 28.7 | P26: 51 | Q26: 33.2 | U26: =MIN(O26,Q26,R26,S26,T26) -> 28.7
A27: M0039 | B27: M0039 | C27: 20 | D27: 무두볼트 | E27: =VLOOKUP($B27,직재산출!$A$4:$T$3731,5,FALSE) -> 무두볼트 | F27: =VLOOKUP($B27,직재산출!$A$4:$T$3731,6,FALSE) -> M10 | G27: =VLOOKUP($B27,직재산출!$A$4:$T$3731,7,FALSE) -> × | H27: =VLOOKUP($B27,직재산출!$A$4:$T$3731,8,FALSE) -> L16 | I27: =VLOOKUP($B27,직재산출!$A$4:$T$3731,9,FALSE) -> 0 | J27: =VLOOKUP($B27,직재산출!$A$4:$T$3731,10,FALSE) -> 0 | K27: =VLOOKUP($B27,직재산출!$A$4:$T$3731,11,FALSE) -> 0 | L27: =VLOOKUP($B27,직재산출!$A$4:$T$3731,12,FALSE) -> 0 | M27: 개 | N27: 45 | O27: 52 | U27: =MIN(O27,Q27,R27,S27,T27) -> 52
A28: M0040 | B28: M0040 | C28: 21 | D28: 철판 | E28: =VLOOKUP($B28,직재산출!$A$4:$T$3731,5,FALSE) -> 레이저 | F28: =VLOOKUP($B28,직재산출!$A$4:$T$3731,6,FALSE) -> 9 | G28: =VLOOKUP($B28,직재산출!$A$4:$T$3731,7,FALSE) -> 0 | H28: =VLOOKUP($B28,직재산출!$A$4:$T$3731,8,FALSE) -> 120 | I28: =VLOOKUP($B28,직재산출!$A$4:$T$3731,9,FALSE) -> 0 | J28: =VLOOKUP($B28,직재산출!$A$4:$T$3731,10,FALSE) -> 0 | K28: =VLOOKUP($B28,직재산출!$A$4:$T$3731,11,FALSE) -> 0 | L28: =VLOOKUP($B28,직재산출!$A$4:$T$3731,12,FALSE) -> 120 | M28: m/kg | N28: 25 | O28: 5002 | P28: 32 | Q28: 4550 | U28: =MIN(O28,Q28,R28,S28,T28) -> 4550
A29: M0041 | B29: M0041 | C29: 22 | D29: 무두볼트 | E29: =VLOOKUP($B29,직재산출!$A$4:$T$3731,5,FALSE) -> 무두볼트 | F29: =VLOOKUP($B29,직재산출!$A$4:$T$3731,6,FALSE) -> M8 | G29: =VLOOKUP($B29,직재산출!$A$4:$T$3731,7,FALSE) -> × | H29: =VLOOKUP($B29,직재산출!$A$4:$T$3731,8,FALSE) -> L10 | I29: =VLOOKUP($B29,직재산출!$A$4:$T$3731,9,FALSE) -> 0 | J29: =VLOOKUP($B29,직재산출!$A$4:$T$3731,10,FALSE) -> 0 | K29: =VLOOKUP($B29,직재산출!$A$4:$T$3731,11,FALSE) -> 0 | L29: =VLOOKUP($B29,직재산출!$A$4:$T$3731,12,FALSE) -> 0 | M29: 개 | N29: 45 | O29: 16 | U29: =MIN(O29,Q29,R29,S29,T29) -> 16
A30: M0046 | B30: M0046 | C30: 23 | D30: 철판 | E30: =VLOOKUP($B30,직재산출!$A$4:$T$3731,5,FALSE) -> 레이저 | F30: =VLOOKUP($B30,직재산출!$A$4:$T$3731,6,FALSE) -> 6 | G30: =VLOOKUP($B30,직재산출!$A$4:$T$3731,7,FALSE) -> × | H30: =VLOOKUP($B30,직재산출!$A$4:$T$3731,8,FALSE) -> 50 | I30: =VLOOKUP($B30,직재산출!$A$4:$T$3731,9,FALSE) -> 0 | J30: =VLOOKUP($B30,직재산출!$A$4:$T$3731,10,FALSE) -> 0 | K30: =VLOOKUP($B30,직재산출!$A$4:$T$3731,11,FALSE) -> 0 | L30: =VLOOKUP($B30,직재산출!$A$4:$T$3731,12,FALSE) -> 80 | M30: m/kg | N30: 14 | O30: 939 | P30: 13 | Q30: 960 | U30: =MIN(O30,Q30,R30,S30,T30) -> 939
A31: M0047 | B31: M0047 | C31: 24 | D31: 육각볼트 | E31: =VLOOKUP($B31,직재산출!$A$4:$T$3731,5,FALSE) -> 육각볼트 | F31: =VLOOKUP($B31,직재산출!$A$4:$T$3731,6,FALSE) -> M8 | G31: =VLOOKUP($B31,직재산출!$A$4:$T$3731,7,FALSE) -> × | H31: =VLOOKUP($B31,직재산출!$A$4:$T$3731,8,FALSE) -> L40 | I31: =VLOOKUP($B31,직재산출!$A$4:$T$3731,9,FALSE) -> 0 | J31: =VLOOKUP($B31,직재산출!$A$4:$T$3731,10,FALSE) -> 0 | K31: =VLOOKUP($B31,직재산출!$A$4:$T$3731,11,FALSE) -> 0 | L31: =VLOOKUP($B31,직재산출!$A$4:$T$3731,12,FALSE) -> 0 | M31: 개 | N31: 41 | O31: 201 | P31: 48 | Q31: 188 | U31: =MIN(O31,Q31,R31,S31,T31) -> 188
A32: M0048 | B32: M0048 | C32: 25 | D32: 너트 | E32: =VLOOKUP($B32,직재산출!$A$4:$T$3731,5,FALSE) -> 너트 | F32: =VLOOKUP($B32,직재산출!$A$4:$T$3731,6,FALSE) -> M8 | G32: =VLOOKUP($B32,직재산출!$A$4:$T$3731,7,FALSE) -> 0 | H32: =VLOOKUP($B32,직재산출!$A$4:$T$3731,8,FALSE) -> 0 | I32: =VLOOKUP($B32,직재산출!$A$4:$T$3731,9,FALSE) -> 0 | J32: =VLOOKUP($B32,직재산출!$A$4:$T$3731,10,FALSE) -> 0 | K32: =VLOOKUP($B32,직재산출!$A$4:$T$3731,11,FALSE) -> 0 | L32: =VLOOKUP($B32,직재산출!$A$4:$T$3731,12,FALSE) -> 0 | M32: 개 | N32: 39 | O32: 45.7 | P32: 51 | Q32: 69.1 | U32: =MIN(O32,Q32,R32,S32,T32) -> 45.7
A33: M0049 | B33: M0049 | C33: 26 | D33: 와셔 S | E33: =VLOOKUP($B33,직재산출!$A$4:$T$3731,5,FALSE) -> 와셔 S | F33: =VLOOKUP($B33,직재산출!$A$4:$T$3731,6,FALSE) -> M8 | G33: =VLOOKUP($B33,직재산출!$A$4:$T$3731,7,FALSE) -> 0 | H33: =VLOOKUP($B33,직재산출!$A$4:$T$3731,8,FALSE) -> 0 | I33: =VLOOKUP($B33,직재산출!$A$4:$T$3731,9,FALSE) -> 0 | J33: =VLOOKUP($B33,직재산출!$A$4:$T$3731,10,FALSE) -> 0 | K33: =VLOOKUP($B33,직재산출!$A$4:$T$3731,11,FALSE) -> 0 | L33: =VLOOKUP($B33,직재산출!$A$4:$T$3731,12,FALSE) -> 0 | M33: 개 | N33: 43 | O33: 19.5 | U33: =MIN(O33,Q33,R33,S33,T33) -> 19.5
A34: M0050 | B34: M0050 | C34: 27 | D34: 와셔 P | E34: =VLOOKUP($B34,직재산출!$A$4:$T$3731,5,FALSE) -> 와셔 P | F34: =VLOOKUP($B34,직재산출!$A$4:$T$3731,6,FALSE) -> M8 | G34: =VLOOKUP($B34,직재산출!$A$4:$T$3731,7,FALSE) -> 0 | H34: =VLOOKUP($B34,직재산출!$A$4:$T$3731,8,FALSE) -> 0 | I34: =VLOOKUP($B34,직재산출!$A$4:$T$3731,9,FALSE) -> 0 | J34: =VLOOKUP($B34,직재산출!$A$4:$T$3731,10,FALSE) -> 0 | K34: =VLOOKUP($B34,직재산출!$A$4:$T$3731,11,FALSE) -> 0 | L34: =VLOOKUP($B34,직재산출!$A$4:$T$3731,12,FALSE) -> 0 | M34: 개 | N34: 43 | O34: 16.6 | P34: 48 | Q34: 16.14 | U34: =MIN(O34,Q34,R34,S34,T34) -> 16.14
A35: M0057 | B35: M0057 | C35: 28 | D35: 철판 | E35: =VLOOKUP($B35,직재산출!$A$4:$T$3731,5,FALSE) -> 레이저 | F35: =VLOOKUP($B35,직재산출!$A$4:$T$3731,6,FALSE) -> 6 | G35: =VLOOKUP($B35,직재산출!$A$4:$T$3731,7,FALSE) -> 0 | H35: =VLOOKUP($B35,직재산출!$A$4:$T$3731,8,FALSE) -> 120 | I35: =VLOOKUP($B35,직재산출!$A$4:$T$3731,9,FALSE) -> 0 | J35: =VLOOKUP($B35,직재산출!$A$4:$T$3731,10,FALSE) -> 0 | K35: =VLOOKUP($B35,직재산출!$A$4:$T$3731,11,FALSE) -> 0 | L35: =VLOOKUP($B35,직재산출!$A$4:$T$3731,12,FALSE) -> 60 | M35: m/kg | N35: 25 | O35: 3884 | P35: 32 | Q35: 3950 | U35: =MIN(O35,Q35,R35,S35,T35) -> 3884
A36: M0062 | B36: M0062 | C36: 29 | D36: 너트 | E36: =VLOOKUP($B36,직재산출!$A$4:$T$3731,5,FALSE) -> 너트 | F36: =VLOOKUP($B36,직재산출!$A$4:$T$3731,6,FALSE) -> M10 | G36: =VLOOKUP($B36,직재산출!$A$4:$T$3731,7,FALSE) -> 0 | H36: =VLOOKUP($B36,직재산출!$A$4:$T$3731,8,FALSE) -> 0 | I36: =VLOOKUP($B36,직재산출!$A$4:$T$3731,9,FALSE) -> 0 | J36: =VLOOKUP($B36,직재산출!$A$4:$T$3731,10,FALSE) -> 0 | K36: =VLOOKUP($B36,직재산출!$A$4:$T$3731,11,FALSE) -> 0 | L36: =VLOOKUP($B36,직재산출!$A$4:$T$3731,12,FALSE) -> 0 | M36: 개 | N36: 39 | O36: 101.8 | P36: 51 | Q36: 153.3 | U36: =MIN(O36,Q36,R36,S36,T36) -> 101.8
A37: M0063 | B37: M0063 | C37: 30 | D37: 와셔 S | E37: =VLOOKUP($B37,직재산출!$A$4:$T$3731,5,FALSE) -> 와셔 S | F37: =VLOOKUP($B37,직재산출!$A$4:$T$3731,6,FALSE) -> M10 | G37: =VLOOKUP($B37,직재산출!$A$4:$T$3731,7,FALSE) -> 0 | H37: =VLOOKUP($B37,직재산출!$A$4:$T$3731,8,FALSE) -> 0 | I37: =VLOOKUP($B37,직재산출!$A$4:$T$3731,9,FALSE) -> 0 | J37: =VLOOKUP($B37,직재산출!$A$4:$T$3731,10,FALSE) -> 0 | K37: =VLOOKUP($B37,직재산출!$A$4:$T$3731,11,FALSE) -> 0 | L37: =VLOOKUP($B37,직재산출!$A$4:$T$3731,12,FALSE) -> 0 | M37: 개 | N37: 43 | O37: 30.9 | U37: =MIN(O37,Q37,R37,S37,T37) -> 30.9
A38: M0064 | B38: M0064 | C38: 31 | D38: 철판 | E38: =VLOOKUP($B38,직재산출!$A$4:$T$3731,5,FALSE) -> 레이저 | F38: =VLOOKUP($B38,직재산출!$A$4:$T$3731,6,FALSE) -> 12 | G38: =VLOOKUP($B38,직재산출!$A$4:$T$3731,7,FALSE) -> 0 | H38: =VLOOKUP($B38,직재산출!$A$4:$T$3731,8,FALSE) -> 150 | I38: =VLOOKUP($B38,직재산출!$A$4:$T$3731,9,FALSE) -> 0 | J38: =VLOOKUP($B38,직재산출!$A$4:$T$3731,10,FALSE) -> 0 | K38: =VLOOKUP($B38,직재산출!$A$4:$T$3731,11,FALSE) -> 0 | L38: =VLOOKUP($B38,직재산출!$A$4:$T$3731,12,FALSE) -> 60 | M38: m/kg | N38: 25 | O38: 5002 | P38: 32 | Q38: 4550 | U38: =MIN(O38,Q38,R38,S38,T38) -> 4550
A39: M0068 | B39: M0068 | C39: 32 | D39: 와셔 S | E39: =VLOOKUP($B39,직재산출!$A$4:$T$3731,5,FALSE) -> 와셔 S | F39: =VLOOKUP($B39,직재산출!$A$4:$T$3731,6,FALSE) -> M16 | G39: =VLOOKUP($B39,직재산출!$A$4:$T$3731,7,FALSE) -> 0 | H39: =VLOOKUP($B39,직재산출!$A$4:$T$3731,8,FALSE) -> 0 | I39: =VLOOKUP($B39,직재산출!$A$4:$T$3731,9,FALSE) -> 0 | J39: =VLOOKUP($B39,직재산출!$A$4:$T$3731,10,FALSE) -> 0 | K39: =VLOOKUP($B39,직재산출!$A$4:$T$3731,11,FALSE) -> 0 | L39: =VLOOKUP($B39,직재산출!$A$4:$T$3731,12,FALSE) -> 0 | M39: 개 | N39: 43 | O39: 32 | P39: 48 | Q39: 32.64 | U39: =MIN(O39,Q39,R39,S39,T39) -> 32
A40: M0069 | B40: M0069 | C40: 33 | D40: 철판 | E40: =VLOOKUP($B40,직재산출!$A$4:$T$3731,5,FALSE) -> 레이저 | F40: =VLOOKUP($B40,직재산출!$A$4:$T$3731,6,FALSE) -> 10 | G40: =VLOOKUP($B40,직재산출!$A$4:$T$3731,7,FALSE) -> 0 | H40: =VLOOKUP($B40,직재산출!$A$4:$T$3731,8,FALSE) -> 100 | I40: =VLOOKUP($B40,직재산출!$A$4:$T$3731,9,FALSE) -> 0 | J40: =VLOOKUP($B40,직재산출!$A$4:$T$3731,10,FALSE) -> 0 | K40: =VLOOKUP($B40,직재산출!$A$4:$T$3731,11,FALSE) -> 0 | L40: =VLOOKUP($B40,직재산출!$A$4:$T$3731,12,FALSE) -> 60 | M40: m/kg | N40: 25 | O40: 5002 | P40: 32 | Q40: 4550 | U40: =MIN(O40,Q40,R40,S40,T40) -> 4550
A41: M0070 | B41: M0070 | C41: 34 | D41: 무두볼트 | E41: =VLOOKUP($B41,직재산출!$A$4:$T$3731,5,FALSE) -> 무두볼트 | F41: =VLOOKUP($B41,직재산출!$A$4:$T$3731,6,FALSE) -> M12 | G41: =VLOOKUP($B41,직재산출!$A$4:$T$3731,7,FALSE) -> × | H41: =VLOOKUP($B41,직재산출!$A$4:$T$3731,8,FALSE) -> L20 | I41: =VLOOKUP($B41,직재산출!$A$4:$T$3731,9,FALSE) -> 0 | J41: =VLOOKUP($B41,직재산출!$A$4:$T$3731,10,FALSE) -> 0 | K41: =VLOOKUP($B41,직재산출!$A$4:$T$3731,11,FALSE) -> 0 | L41: =VLOOKUP($B41,직재산출!$A$4:$T$3731,12,FALSE) -> 0 | M41: 개 | N41: 45 | O41: 68.2 | U41: =MIN(O41,Q41,R41,S41,T41) -> 68.2
A42: M0072 | B42: M0072 | C42: 35 | D42: 환봉 | E42: =VLOOKUP($B42,직재산출!$A$4:$T$3731,5,FALSE) -> 환봉 | F42: =VLOOKUP($B42,직재산출!$A$4:$T$3731,6,FALSE) -> 65 | G42: =VLOOKUP($B42,직재산출!$A$4:$T$3731,7,FALSE) -> × | H42: =VLOOKUP($B42,직재산출!$A$4:$T$3731,8,FALSE) -> 0 | I42: =VLOOKUP($B42,직재산출!$A$4:$T$3731,9,FALSE) -> 0 | J42: =VLOOKUP($B42,직재산출!$A$4:$T$3731,10,FALSE) -> 0 | K42: =VLOOKUP($B42,직재산출!$A$4:$T$3731,11,FALSE) -> 0 | L42: =VLOOKUP($B42,직재산출!$A$4:$T$3731,12,FALSE) -> 40 | M42: m/kg | N42: 3 | O42: 990 | P42: 5 | Q42: 1010 | U42: =MIN(O42,Q42,R42,S42,T42) -> 990
A43: M0076 | B43: M0076 | C43: 36 | D43: 철판 | E43: =VLOOKUP($B43,직재산출!$A$4:$T$3731,5,FALSE) -> 레이저 | F43: =VLOOKUP($B43,직재산출!$A$4:$T$3731,6,FALSE) -> 3 | G43: =VLOOKUP($B43,직재산출!$A$4:$T$3731,7,FALSE) -> × | H43: =VLOOKUP($B43,직재산출!$A$4:$T$3731,8,FALSE) -> 265 | I43: =VLOOKUP($B43,직재산출!$A$4:$T$3731,9,FALSE) -> × | J43: =VLOOKUP($B43,직재산출!$A$4:$T$3731,10,FALSE) -> 0 | K43: =VLOOKUP($B43,직재산출!$A$4:$T$3731,11,FALSE) -> 0 | L43: =VLOOKUP($B43,직재산출!$A$4:$T$3731,12,FALSE) -> 3890 | M43: m/kg | N43: 26 | O43: 4025 | P43: 30 | Q43: 4050 | U43: =MIN(O43,Q43,R43,S43,T43) -> 4025
A44: M0077 | B44: M0077 | C44: 37 | D44: 육각볼트 | E44: =VLOOKUP($B44,직재산출!$A$4:$T$3731,5,FALSE) -> 육각볼트 | F44: =VLOOKUP($B44,직재산출!$A$4:$T$3731,6,FALSE) -> M10 | G44: =VLOOKUP($B44,직재산출!$A$4:$T$3731,7,FALSE) -> × | H44: =VLOOKUP($B44,직재산출!$A$4:$T$3731,8,FALSE) -> L20 | I44: =VLOOKUP($B44,직재산출!$A$4:$T$3731,9,FALSE) -> 0 | J44: =VLOOKUP($B44,직재산출!$A$4:$T$3731,10,FALSE) -> 0 | K44: =VLOOKUP($B44,직재산출!$A$4:$T$3731,11,FALSE) -> 0 | L44: =VLOOKUP($B44,직재산출!$A$4:$T$3731,12,FALSE) -> 0 | M44: 개 | N44: 41 | O44: 246 | P44: 48 | Q44: 251 | U44: =MIN(O44,Q44,R44,S44,T44) -> 246
A45: M0079 | B45: M0079 | C45: 38 | D45: 와셔 P | E45: =VLOOKUP($B45,직재산출!$A$4:$T$3731,5,FALSE) -> 와셔 P | F45: =VLOOKUP($B45,직재산출!$A$4:$T$3731,6,FALSE) -> M10 | G45: =VLOOKUP($B45,직재산출!$A$4:$T$3731,7,FALSE) -> 0 | H45: =VLOOKUP($B45,직재산출!$A$4:$T$3731,8,FALSE) -> 0 | I45: =VLOOKUP($B45,직재산출!$A$4:$T$3731,9,FALSE) -> 0 | J45: =VLOOKUP($B45,직재산출!$A$4:$T$3731,10,FALSE) -> 0 | K45: =VLOOKUP($B45,직재산출!$A$4:$T$3731,11,FALSE) -> 0 | L45: =VLOOKUP($B45,직재산출!$A$4:$T$3731,12,FALSE) -> 0 | M45: 개 | N45: 43 | O45: 30.9 | P45: 48 | Q45: 30.15 | U45: =MIN(O45,Q45,R45,S45,T45) -> 30.15
A46: M0090 | B46: M0090 | C46: 39 | D46: 육각볼트 | E46: =VLOOKUP($B46,직재산출!$A$4:$T$3731,5,FALSE) -> 육각볼트 | F46: =VLOOKUP($B46,직재산출!$A$4:$T$3731,6,FALSE) -> M6 | G46: =VLOOKUP($B46,직재산출!$A$4:$T$3731,7,FALSE) -> × | H46: =VLOOKUP($B46,직재산출!$A$4:$T$3731,8,FALSE) -> L20 | I46: =VLOOKUP($B46,직재산출!$A$4:$T$3731,9,FALSE) -> 0 | J46: =VLOOKUP($B46,직재산출!$A$4:$T$3731,10,FALSE) -> 0 | K46: =VLOOKUP($B46,직재산출!$A$4:$T$3731,11,FALSE) -> 0 | L46: =VLOOKUP($B46,직재산출!$A$4:$T$3731,12,FALSE) -> 0 | M46: 개 | N46: 41 | O46: 73 | P46: 48 | Q46: 94 | U46: =MIN(O46,Q46,R46,S46,T46) -> 73
A47: M0091 | B47: M0091 | C47: 40 | D47: 와셔 S | E47: =VLOOKUP($B47,직재산출!$A$4:$T$3731,5,FALSE) -> 와셔 S | F47: =VLOOKUP($B47,직재산출!$A$4:$T$3731,6,FALSE) -> M6 | G47: =VLOOKUP($B47,직재산출!$A$4:$T$3731,7,FALSE) -> 0 | H47: =VLOOKUP($B47,직재산출!$A$4:$T$3731,8,FALSE) -> 0 | I47: =VLOOKUP($B47,직재산출!$A$4:$T$3731,9,FALSE) -> 0 | J47: =VLOOKUP($B47,직재산출!$A$4:$T$3731,10,FALSE) -> 0 | K47: =VLOOKUP($B47,직재산출!$A$4:$T$3731,11,FALSE) -> 0 | L47: =VLOOKUP($B47,직재산출!$A$4:$T$3731,12,FALSE) -> 0 | M47: 개 | N47: 43 | O47: 12.1 | U47: =MIN(O47,Q47,R47,S47,T47) -> 12.1
A48: M0092 | B48: M0092 | C48: 41 | D48: 와셔 P | E48: =VLOOKUP($B48,직재산출!$A$4:$T$3731,5,FALSE) -> 와셔 P | F48: =VLOOKUP($B48,직재산출!$A$4:$T$3731,6,FALSE) -> M6 | G48: =VLOOKUP($B48,직재산출!$A$4:$T$3731,7,FALSE) -> 0 | H48: =VLOOKUP($B48,직재산출!$A$4:$T$3731,8,FALSE) -> 0 | I48: =VLOOKUP($B48,직재산출!$A$4:$T$3731,9,FALSE) -> 0 | J48: =VLOOKUP($B48,직재산출!$A$4:$T$3731,10,FALSE) -> 0 | K48: =VLOOKUP($B48,직재산출!$A$4:$T$3731,11,FALSE) -> 0 | L48: =VLOOKUP($B48,직재산출!$A$4:$T$3731,12,FALSE) -> 0 | M48: 개 | N48: 43 | O48: 9.9 | P48: 48 | Q48: 8.43 | U48: =MIN(O48,Q48,R48,S48,T48) -> 8.43
A49: M0093 | B49: M0093 | C49: 42 | D49: 환봉 | E49: =VLOOKUP($B49,직재산출!$A$4:$T$3731,5,FALSE) -> 환봉 | F49: =VLOOKUP($B49,직재산출!$A$4:$T$3731,6,FALSE) -> 20 | G49: =VLOOKUP($B49,직재산출!$A$4:$T$3731,7,FALSE) -> × | H49: =VLOOKUP($B49,직재산출!$A$4:$T$3731,8,FALSE) -> 0 | I49: =VLOOKUP($B49,직재산출!$A$4:$T$3731,9,FALSE) -> 0 | J49: =VLOOKUP($B49,직재산출!$A$4:$T$3731,10,FALSE) -> 0 | K49: =VLOOKUP($B49,직재산출!$A$4:$T$3731,11,FALSE) -> 0 | L49: =VLOOKUP($B49,직재산출!$A$4:$T$3731,12,FALSE) -> 415 | M49: kg | N49: 30 | O49: 4800 | P49: 35 | Q49: 5400 | U49: =MIN(O49,Q49,R49,S49,T49) -> 4800
A50: M0105 | B50: M0105 | C50: 43 | D50: 파이프 | E50: =VLOOKUP($B50,직재산출!$A$4:$T$3731,5,FALSE) -> 파이프 | F50: =VLOOKUP($B50,직재산출!$A$4:$T$3731,6,FALSE) -> (8A) Ø13.8 | G50: =VLOOKUP($B50,직재산출!$A$4:$T$3731,7,FALSE) -> × | H50: =VLOOKUP($B50,직재산출!$A$4:$T$3731,8,FALSE) -> 0 | I50: =VLOOKUP($B50,직재산출!$A$4:$T$3731,9,FALSE) -> 0 | J50: =VLOOKUP($B50,직재산출!$A$4:$T$3731,10,FALSE) -> 0 | K50: =VLOOKUP($B50,직재산출!$A$4:$T$3731,11,FALSE) -> 0 | L50: =VLOOKUP($B50,직재산출!$A$4:$T$3731,12,FALSE) -> 95 | M50: m | N50: 701 | O50: 5641 | U50: =MIN(O50,Q50,R50,S50,T50) -> 5641
A51: M0106 | B51: M0106 | C51: 44 | D51: 육각볼트 | E51: =VLOOKUP($B51,직재산출!$A$4:$T$3731,5,FALSE) -> 육각볼트 | F51: =VLOOKUP($B51,직재산출!$A$4:$T$3731,6,FALSE) -> M8 | G51: =VLOOKUP($B51,직재산출!$A$4:$T$3731,7,FALSE) -> × | H51: =VLOOKUP($B51,직재산출!$A$4:$T$3731,8,FALSE) -> L130 | I51: =VLOOKUP($B51,직재산출!$A$4:$T$3731,9,FALSE) -> 0 | J51: =VLOOKUP($B51,직재산출!$A$4:$T$3731,10,FALSE) -> 0 | K51: =VLOOKUP($B51,직재산출!$A$4:$T$3731,11,FALSE) -> 0 | L51: =VLOOKUP($B51,직재산출!$A$4:$T$3731,12,FALSE) -> 0 | M51: 개 | N51: 41 | O51: 547 | P51: 48 | Q51: 494 | U51: =MIN(O51,Q51,R51,S51,T51) -> 494
A52: M0114 | B52: M0114 | C52: 45 | D52: 육각볼트 | E52: =VLOOKUP($B52,직재산출!$A$4:$T$3731,5,FALSE) -> 육각볼트 | F52: =VLOOKUP($B52,직재산출!$A$4:$T$3731,6,FALSE) -> M8 | G52: =VLOOKUP($B52,직재산출!$A$4:$T$3731,7,FALSE) -> × | H52: =VLOOKUP($B52,직재산출!$A$4:$T$3731,8,FALSE) -> L80 | I52: =VLOOKUP($B52,직재산출!$A$4:$T$3731,9,FALSE) -> 0 | J52: =VLOOKUP($B52,직재산출!$A$4:$T$3731,10,FALSE) -> 0 | K52: =VLOOKUP($B52,직재산출!$A$4:$T$3731,11,FALSE) -> 0 | L52: =VLOOKUP($B52,직재산출!$A$4:$T$3731,12,FALSE) -> 0 | M52: 개 | N52: 41 | O52: 334 | P52: 48 | Q52: 306 | U52: =MIN(O52,Q52,R52,S52,T52) -> 306
A53: M0119 | B53: M0119 | C53: 46 | D53: 철판 | E53: =VLOOKUP($B53,직재산출!$A$4:$T$3731,5,FALSE) -> 레이저 | F53: =VLOOKUP($B53,직재산출!$A$4:$T$3731,6,FALSE) -> 9 | G53: =VLOOKUP($B53,직재산출!$A$4:$T$3731,7,FALSE) -> × | H53: =VLOOKUP($B53,직재산출!$A$4:$T$3731,8,FALSE) -> 140 | I53: =VLOOKUP($B53,직재산출!$A$4:$T$3731,9,FALSE) -> × | J53: =VLOOKUP($B53,직재산출!$A$4:$T$3731,10,FALSE) -> 0 | K53: =VLOOKUP($B53,직재산출!$A$4:$T$3731,11,FALSE) -> 0 | L53: =VLOOKUP($B53,직재산출!$A$4:$T$3731,12,FALSE) -> 225 | M53: m/kg | N53: 14 | O53: 1145 | P53: 13 | Q53: 960 | U53: =MIN(O53,Q53,R53,S53,T53) -> 960
A54: M0120 | B54: M0120 | C54: 47 | D54: 평철 | E54: =VLOOKUP($B54,직재산출!$A$4:$T$3731,5,FALSE) -> 평철 | F54: =VLOOKUP($B54,직재산출!$A$4:$T$3731,6,FALSE) -> T12 | G54: =VLOOKUP($B54,직재산출!$A$4:$T$3731,7,FALSE) -> × | H54: =VLOOKUP($B54,직재산출!$A$4:$T$3731,8,FALSE) -> 50 | I54: =VLOOKUP($B54,직재산출!$A$4:$T$3731,9,FALSE) -> × | J54: =VLOOKUP($B54,직재산출!$A$4:$T$3731,10,FALSE) -> 0 | K54: =VLOOKUP($B54,직재산출!$A$4:$T$3731,11,FALSE) -> x | L54: =VLOOKUP($B54,직재산출!$A$4:$T$3731,12,FALSE) -> 44 | M54: m/kg | N54: 4 | O54: 1020 | P54: 5 | Q54: 1030 | U54: =MIN(O54,Q54,R54,S54,T54) -> 1020
A55: M0121 | B55: M0121 | C55: 48 | D55: 육각볼트 | E55: =VLOOKUP($B55,직재산출!$A$4:$T$3731,5,FALSE) -> 육각볼트 | F55: =VLOOKUP($B55,직재산출!$A$4:$T$3731,6,FALSE) -> M10 | G55: =VLOOKUP($B55,직재산출!$A$4:$T$3731,7,FALSE) -> × | H55: =VLOOKUP($B55,직재산출!$A$4:$T$3731,8,FALSE) -> L25 | I55: =VLOOKUP($B55,직재산출!$A$4:$T$3731,9,FALSE) -> 0 | J55: =VLOOKUP($B55,직재산출!$A$4:$T$3731,10,FALSE) -> 0 | K55: =VLOOKUP($B55,직재산출!$A$4:$T$3731,11,FALSE) -> 0 | L55: =VLOOKUP($B55,직재산출!$A$4:$T$3731,12,FALSE) -> 0 | M55: 개 | N55: 41 | O55: 267 | U55: =MIN(O55,Q55,R55,S55,T55) -> 267
A56: M0125 | B56: M0125 | C56: 49 | D56: 육각볼트 | E56: =VLOOKUP($B56,직재산출!$A$4:$T$3731,5,FALSE) -> 육각볼트 | F56: =VLOOKUP($B56,직재산출!$A$4:$T$3731,6,FALSE) -> M8 | G56: =VLOOKUP($B56,직재산출!$A$4:$T$3731,7,FALSE) -> × | H56: =VLOOKUP($B56,직재산출!$A$4:$T$3731,8,FALSE) -> L30 | I56: =VLOOKUP($B56,직재산출!$A$4:$T$3731,9,FALSE) -> 0 | J56: =VLOOKUP($B56,직재산출!$A$4:$T$3731,10,FALSE) -> 0 | K56: =VLOOKUP($B56,직재산출!$A$4:$T$3731,11,FALSE) -> 0 | L56: =VLOOKUP($B56,직재산출!$A$4:$T$3731,12,FALSE) -> 0 | M56: 개 | N56: 41 | O56: 165 | P56: 48 | Q56: 172 | U56: =MIN(O56,Q56,R56,S56,T56) -> 165
A57: M0129 | B57: M0129 | C57: 50 | D57: 환봉 | E57: =VLOOKUP($B57,직재산출!$A$4:$T$3731,5,FALSE) -> 환봉 | F57: =VLOOKUP($B57,직재산출!$A$4:$T$3731,6,FALSE) -> 35 | G57: =VLOOKUP($B57,직재산출!$A$4:$T$3731,7,FALSE) -> × | H57: =VLOOKUP($B57,직재산출!$A$4:$T$3731,8,FALSE) -> 0 | I57: =VLOOKUP($B57,직재산출!$A$4:$T$3731,9,FALSE) -> 0 | J57: =VLOOKUP($B57,직재산출!$A$4:$T$3731,10,FALSE) -> 0 | K57: =VLOOKUP($B57,직재산출!$A$4:$T$3731,11,FALSE) -> 0 | L57: =VLOOKUP($B57,직재산출!$A$4:$T$3731,12,FALSE) -> 75 | M57: m/kg | N57: 3 | O57: 990 | P57: 5 | Q57: 1010 | U57: =MIN(O57,Q57,R57,S57,T57) -> 990
A58: M0138 | B58: M0138 | C58: 51 | D58: 앵글 | E58: =VLOOKUP($B58,직재산출!$A$4:$T$3731,5,FALSE) -> 앵글 | F58: =VLOOKUP($B58,직재산출!$A$4:$T$3731,6,FALSE) -> 6 | G58: =VLOOKUP($B58,직재산출!$A$4:$T$3731,7,FALSE) -> × | H58: =VLOOKUP($B58,직재산출!$A$4:$T$3731,8,FALSE) -> 50 | I58: =VLOOKUP($B58,직재산출!$A$4:$T$3731,9,FALSE) -> 0 | J58: =VLOOKUP($B58,직재산출!$A$4:$T$3731,10,FALSE) -> 0 | K58: =VLOOKUP($B58,직재산출!$A$4:$T$3731,11,FALSE) -> 0 | L58: =VLOOKUP($B58,직재산출!$A$4:$T$3731,12,FALSE) -> 150 | M58: m/kg | N58: 5 | O58: 1135 | P58: 7 | Q58: 1040 | U58: =MIN(O58,Q58,R58,S58,T58) -> 1040
A59: M0139 | B59: M0139 | C59: 52 | D59: 육각볼트 | E59: =VLOOKUP($B59,직재산출!$A$4:$T$3731,5,FALSE) -> 육각볼트 | F59: =VLOOKUP($B59,직재산출!$A$4:$T$3731,6,FALSE) -> M10 | G59: =VLOOKUP($B59,직재산출!$A$4:$T$3731,7,FALSE) -> × | H59: =VLOOKUP($B59,직재산출!$A$4:$T$3731,8,FALSE) -> L60 | I59: =VLOOKUP($B59,직재산출!$A$4:$T$3731,9,FALSE) -> 0 | J59: =VLOOKUP($B59,직재산출!$A$4:$T$3731,10,FALSE) -> 0 | K59: =VLOOKUP($B59,직재산출!$A$4:$T$3731,11,FALSE) -> 0 | L59: =VLOOKUP($B59,직재산출!$A$4:$T$3731,12,FALSE) -> 0 | M59: 개 | N59: 41 | O59: 449 | P59: 48 | Q59: 423 | U59: =MIN(O59,Q59,R59,S59,T59) -> 423
A60: M0148 | B60: M0148 | C60: 53 | D60: 레이저 | E60: =VLOOKUP($B60,직재산출!$A$4:$T$3731,5,FALSE) -> 레이저 | F60: =VLOOKUP($B60,직재산출!$A$4:$T$3731,6,FALSE) -> 1 | G60: =VLOOKUP($B60,직재산출!$A$4:$T$3731,7,FALSE) -> 0 | H60: =VLOOKUP($B60,직재산출!$A$4:$T$3731,8,FALSE) -> 50 | I60: =VLOOKUP($B60,직재산출!$A$4:$T$3731,9,FALSE) -> 0 | J60: =VLOOKUP($B60,직재산출!$A$4:$T$3731,10,FALSE) -> 0 | K60: =VLOOKUP($B60,직재산출!$A$4:$T$3731,11,FALSE) -> 0 | L60: =VLOOKUP($B60,직재산출!$A$4:$T$3731,12,FALSE) -> 270 | M60: m/kg | N60: 26 | O60: 4232 | P60: 30 | Q60: 4200 | U60: =MIN(O60,Q60,R60,S60,T60) -> 4200
A61: M0149 | B61: M0149 | C61: 54 | D61: 육각볼트 | E61: =VLOOKUP($B61,직재산출!$A$4:$T$3731,5,FALSE) -> 육각볼트 | F61: =VLOOKUP($B61,직재산출!$A$4:$T$3731,6,FALSE) -> M6 | G61: =VLOOKUP($B61,직재산출!$A$4:$T$3731,7,FALSE) -> × | H61: =VLOOKUP($B61,직재산출!$A$4:$T$3731,8,FALSE) -> L15 | I61: =VLOOKUP($B61,직재산출!$A$4:$T$3731,9,FALSE) -> 0 | J61: =VLOOKUP($B61,직재산출!$A$4:$T$3731,10,FALSE) -> 0 | K61: =VLOOKUP($B61,직재산출!$A$4:$T$3731,11,FALSE) -> 0 | L61: =VLOOKUP($B61,직재산출!$A$4:$T$3731,12,FALSE) -> 0 | M61: 개 | N61: 41 | O61: 52 | P61: 48 | Q61: 94 | U61: =MIN(O61,Q61,R61,S61,T61) -> 52
A62: M0151 | B62: M0151 | C62: 55 | D62: 레이저 | E62: =VLOOKUP($B62,직재산출!$A$4:$T$3731,5,FALSE) -> 레이저 | F62: =VLOOKUP($B62,직재산출!$A$4:$T$3731,6,FALSE) -> 4 | G62: =VLOOKUP($B62,직재산출!$A$4:$T$3731,7,FALSE) -> 0 | H62: =VLOOKUP($B62,직재산출!$A$4:$T$3731,8,FALSE) -> 720 | I62: =VLOOKUP($B62,직재산출!$A$4:$T$3731,9,FALSE) -> 0 | J62: =VLOOKUP($B62,직재산출!$A$4:$T$3731,10,FALSE) -> 0 | K62: =VLOOKUP($B62,직재산출!$A$4:$T$3731,11,FALSE) -> 0 | L62: =VLOOKUP($B62,직재산출!$A$4:$T$3731,12,FALSE) -> 3870 | M62: m/kg | N62: 26 | O62: 4100 | P62: 30 | Q62: 4450 | U62: =MIN(O62,Q62,R62,S62,T62) -> 4100
A63: M0152 | B63: M0152 | C63: 56 | D63: 레이저 | E63: =VLOOKUP($B63,직재산출!$A$4:$T$3731,5,FALSE) -> 레이저 | F63: =VLOOKUP($B63,직재산출!$A$4:$T$3731,6,FALSE) -> 9 | G63: =VLOOKUP($B63,직재산출!$A$4:$T$3731,7,FALSE) -> × | H63: =VLOOKUP($B63,직재산출!$A$4:$T$3731,8,FALSE) -> 380 | I63: =VLOOKUP($B63,직재산출!$A$4:$T$3731,9,FALSE) -> × | J63: =VLOOKUP($B63,직재산출!$A$4:$T$3731,10,FALSE) -> 0 | K63: =VLOOKUP($B63,직재산출!$A$4:$T$3731,11,FALSE) -> 0 | L63: =VLOOKUP($B63,직재산출!$A$4:$T$3731,12,FALSE) -> 170 | M63: m/kg | N63: 26 | O63: 4100 | P63: 30 | Q63: 4450 | U63: =MIN(O63,Q63,R63,S63,T63) -> 4100
A64: M0157 | B64: M0157 | C64: 57 | D64: 전산볼트 | E64: =VLOOKUP($B64,직재산출!$A$4:$T$3731,5,FALSE) -> 전산볼트 | F64: =VLOOKUP($B64,직재산출!$A$4:$T$3731,6,FALSE) -> M10 | G64: =VLOOKUP($B64,직재산출!$A$4:$T$3731,7,FALSE) -> × | H64: =VLOOKUP($B64,직재산출!$A$4:$T$3731,8,FALSE) -> 0 | I64: =VLOOKUP($B64,직재산출!$A$4:$T$3731,9,FALSE) -> 0 | J64: =VLOOKUP($B64,직재산출!$A$4:$T$3731,10,FALSE) -> 0 | K64: =VLOOKUP($B64,직재산출!$A$4:$T$3731,11,FALSE) -> 0 | L64: =VLOOKUP($B64,직재산출!$A$4:$T$3731,12,FALSE) -> 150 | M64: 개 | N64: 43 | O64: 4227 | P64: 46 | Q64: 3923 | U64: =MIN(O64,Q64,R64,S64,T64) -> 3923
A65: M0161 | B65: M0161 | C65: 58 | D65: 레이저 | E65: =VLOOKUP($B65,직재산출!$A$4:$T$3731,5,FALSE) -> 레이저 | F65: =VLOOKUP($B65,직재산출!$A$4:$T$3731,6,FALSE) -> 3 | G65: =VLOOKUP($B65,직재산출!$A$4:$T$3731,7,FALSE) -> × | H65: =VLOOKUP($B65,직재산출!$A$4:$T$3731,8,FALSE) -> 320 | I65: =VLOOKUP($B65,직재산출!$A$4:$T$3731,9,FALSE) -> × | J65: =VLOOKUP($B65,직재산출!$A$4:$T$3731,10,FALSE) -> 0 | K65: =VLOOKUP($B65,직재산출!$A$4:$T$3731,11,FALSE) -> 0 | L65: =VLOOKUP($B65,직재산출!$A$4:$T$3731,12,FALSE) -> 3870 | M65: m/kg | N65: 26 | O65: 4025 | P65: 30 | Q65: 4050 | U65: =MIN(O65,Q65,R65,S65,T65) -> 4025
A66: M0165 | B66: M0165 | C66: 59 | D66: 육각볼트 | E66: =VLOOKUP($B66,직재산출!$A$4:$T$3731,5,FALSE) -> 육각볼트 | F66: =VLOOKUP($B66,직재산출!$A$4:$T$3731,6,FALSE) -> M8 | G66: =VLOOKUP($B66,직재산출!$A$4:$T$3731,7,FALSE) -> × | H66: =VLOOKUP($B66,직재산출!$A$4:$T$3731,8,FALSE) -> L20 | I66: =VLOOKUP($B66,직재산출!$A$4:$T$3731,9,FALSE) -> 0 | J66: =VLOOKUP($B66,직재산출!$A$4:$T$3731,10,FALSE) -> 0 | K66: =VLOOKUP($B66,직재산출!$A$4:$T$3731,11,FALSE) -> 0 | L66: =VLOOKUP($B66,직재산출!$A$4:$T$3731,12,FALSE) -> 0 | M66: 개 | N66: 41 | O66: 136 | U66: =MIN(O66,Q66,R66,S66,T66) -> 136
A67: M0169 | B67: M0169 | C67: 60 | D67: 철판 | E67: =VLOOKUP($B67,직재산출!$A$4:$T$3731,5,FALSE) -> 레이저 | F67: =VLOOKUP($B67,직재산출!$A$4:$T$3731,6,FALSE) -> 1.5 | G67: =VLOOKUP($B67,직재산출!$A$4:$T$3731,7,FALSE) -> × | H67: =VLOOKUP($B67,직재산출!$A$4:$T$3731,8,FALSE) -> 90 | I67: =VLOOKUP($B67,직재산출!$A$4:$T$3731,9,FALSE) -> × | J67: =VLOOKUP($B67,직재산출!$A$4:$T$3731,10,FALSE) -> 0 | K67: =VLOOKUP($B67,직재산출!$A$4:$T$3731,11,FALSE) -> 0 | L67: =VLOOKUP($B67,직재산출!$A$4:$T$3731,12,FALSE) -> 130 | M67: m/kg | N67: 26 | O67: 4140 | P67: 30 | Q67: 4100 | U67: =MIN(O67,Q67,R67,S67,T67) -> 4100
A68: M0174 | B68: M0174 | C68: 61 | D68: 파이프 | E68: =VLOOKUP($B68,직재산출!$A$4:$T$3731,5,FALSE) -> 파이프 | F68: =VLOOKUP($B68,직재산출!$A$4:$T$3731,6,FALSE) -> 50A | G68: =VLOOKUP($B68,직재산출!$A$4:$T$3731,7,FALSE) -> 0 | H68: =VLOOKUP($B68,직재산출!$A$4:$T$3731,8,FALSE) -> 0 | I68: =VLOOKUP($B68,직재산출!$A$4:$T$3731,9,FALSE) -> 0 | J68: =VLOOKUP($B68,직재산출!$A$4:$T$3731,10,FALSE) -> 0 | K68: =VLOOKUP($B68,직재산출!$A$4:$T$3731,11,FALSE) -> 0 | L68: =VLOOKUP($B68,직재산출!$A$4:$T$3731,12,FALSE) -> 70 | M68: m | N68: 701 | O68: 27058 | P68: 744 | Q68: 23610 | U68: =MIN(O68,Q68,R68,S68,T68) -> 23610
A69: M0178 | B69: M0178 | C69: 62 | D69: 각파이프 | E69: =E243 -> 각파이프 | F69: 3 | G69: × | H69: 120 | I69: × | J69: 100 | K69: 0 | L69: 3690 | M69: m | N69: 25 | O69: 63230 | U69: =MIN(O69,Q69,R69,S69,T69) -> 63230
A70: M0184 | B70: M0184 | C70: 63 | D70: 파이프 | E70: =E68 -> 파이프 | F70: 65A | G70: 0 | H70: 2T | I70: 0 | J70: 0 | K70: 0 | L70: 150 | M70: m | N70: 701 | O70: 25529 | P70: 744 | Q70: 22260 | U70: =MIN(O70,Q70,R70,S70,T70) -> 22260
A71: M0192 | B71: M0192 | C71: 64 | D71: 베어링 | E71: =VLOOKUP($B71,직재산출!$A$4:$T$3731,5,FALSE) -> 베어링 | F71: =VLOOKUP($B71,직재산출!$A$4:$T$3731,6,FALSE) -> 5202 | G71: =VLOOKUP($B71,직재산출!$A$4:$T$3731,7,FALSE) -> 0 | H71: =VLOOKUP($B71,직재산출!$A$4:$T$3731,8,FALSE) -> 0 | I71: =VLOOKUP($B71,직재산출!$A$4:$T$3731,9,FALSE) -> 0 | J71: =VLOOKUP($B71,직재산출!$A$4:$T$3731,10,FALSE) -> 0 | K71: =VLOOKUP($B71,직재산출!$A$4:$T$3731,11,FALSE) -> 0 | L71: =VLOOKUP($B71,직재산출!$A$4:$T$3731,12,FALSE) -> 0 | M71: 개 | N71: 1069 | O71: 16497 | U71: =MIN(O71,Q71,R71,S71,T71) -> 16497
A72: M0195 | B72: M0195 | C72: 65 | D72: 환봉 | E72: =VLOOKUP($B72,직재산출!$A$4:$T$3731,5,FALSE) -> 환봉 | F72: =VLOOKUP($B72,직재산출!$A$4:$T$3731,6,FALSE) -> 45 | G72: =VLOOKUP($B72,직재산출!$A$4:$T$3731,7,FALSE) -> × | H72: =VLOOKUP($B72,직재산출!$A$4:$T$3731,8,FALSE) -> 0 | I72: =VLOOKUP($B72,직재산출!$A$4:$T$3731,9,FALSE) -> 0 | J72: =VLOOKUP($B72,직재산출!$A$4:$T$3731,10,FALSE) -> 0 | K72: =VLOOKUP($B72,직재산출!$A$4:$T$3731,11,FALSE) -> 0 | L72: =VLOOKUP($B72,직재산출!$A$4:$T$3731,12,FALSE) -> 16 | M72: m/kg | N72: 3 | O72: 990 | P72: 5 | Q72: 1010 | U72: =MIN(O72,Q72,R72,S72,T72) -> 990
A73: M0197 | B73: M0197 | C73: 66 | D73: 환봉 | E73: =VLOOKUP($B73,직재산출!$A$4:$T$3731,5,FALSE) -> 환봉 | F73: =VLOOKUP($B73,직재산출!$A$4:$T$3731,6,FALSE) -> 110 | G73: =VLOOKUP($B73,직재산출!$A$4:$T$3731,7,FALSE) -> 0 | H73: =VLOOKUP($B73,직재산출!$A$4:$T$3731,8,FALSE) -> 0 | I73: =VLOOKUP($B73,직재산출!$A$4:$T$3731,9,FALSE) -> 0 | J73: =VLOOKUP($B73,직재산출!$A$4:$T$3731,10,FALSE) -> 0 | K73: =VLOOKUP($B73,직재산출!$A$4:$T$3731,11,FALSE) -> 0 | L73: =VLOOKUP($B73,직재산출!$A$4:$T$3731,12,FALSE) -> 125 | M73: m/kg | N73: 3 | O73: 990 | P73: 5 | Q73: 1010 | U73: =MIN(O73,Q73,R73,S73,T73) -> 990
A74: M0198 | B74: M0198 | C74: 67 | D74: 환봉 | E74: =VLOOKUP($B74,직재산출!$A$4:$T$3731,5,FALSE) -> 환봉 | F74: =VLOOKUP($B74,직재산출!$A$4:$T$3731,6,FALSE) -> 85 | G74: =VLOOKUP($B74,직재산출!$A$4:$T$3731,7,FALSE) -> 0 | H74: =VLOOKUP($B74,직재산출!$A$4:$T$3731,8,FALSE) -> 0 | I74: =VLOOKUP($B74,직재산출!$A$4:$T$3731,9,FALSE) -> 0 | J74: =VLOOKUP($B74,직재산출!$A$4:$T$3731,10,FALSE) -> 0 | K74: =VLOOKUP($B74,직재산출!$A$4:$T$3731,11,FALSE) -> 0 | L74: =VLOOKUP($B74,직재산출!$A$4:$T$3731,12,FALSE) -> 70 | M74: m/kg | N74: 3 | O74: 990 | P74: 5 | Q74: 1010 | U74: =MIN(O74,Q74,R74,S74,T74) -> 990
A75: M0199 | B75: M0199 | C75: 68 | D75: 철판 | E75: =VLOOKUP($B75,직재산출!$A$4:$T$3731,5,FALSE) -> 레이저 | F75: =VLOOKUP($B75,직재산출!$A$4:$T$3731,6,FALSE) -> 12 | G75: =VLOOKUP($B75,직재산출!$A$4:$T$3731,7,FALSE) -> 0 | H75: =VLOOKUP($B75,직재산출!$A$4:$T$3731,8,FALSE) -> 130 | I75: =VLOOKUP($B75,직재산출!$A$4:$T$3731,9,FALSE) -> 0 | J75: =VLOOKUP($B75,직재산출!$A$4:$T$3731,10,FALSE) -> 0 | K75: =VLOOKUP($B75,직재산출!$A$4:$T$3731,11,FALSE) -> 0 | L75: =VLOOKUP($B75,직재산출!$A$4:$T$3731,12,FALSE) -> 314 | M75: m/kg | N75: 14 | O75: 1079 | U75: =MIN(O75,Q75,R75,S75,T75) -> 1079
A76: M0200 | B76: M0200 | C76: 69 | D76: 베어링 | E76: =VLOOKUP($B76,직재산출!$A$4:$T$3731,5,FALSE) -> 베어링 | F76: =VLOOKUP($B76,직재산출!$A$4:$T$3731,6,FALSE) -> 6206 | G76: =VLOOKUP($B76,직재산출!$A$4:$T$3731,7,FALSE) -> 0 | H76: =VLOOKUP($B76,직재산출!$A$4:$T$3731,8,FALSE) -> 0 | I76: =VLOOKUP($B76,직재산출!$A$4:$T$3731,9,FALSE) -> 0 | J76: =VLOOKUP($B76,직재산출!$A$4:$T$3731,10,FALSE) -> 0 | K76: =VLOOKUP($B76,직재산출!$A$4:$T$3731,11,FALSE) -> 0 | L76: =VLOOKUP($B76,직재산출!$A$4:$T$3731,12,FALSE) -> 0 | M76: 개 | N76: 1069 | O76: 4192 | P76: 1418 | Q76: 3830 | U76: =MIN(O76,Q76,R76,S76,T76) -> 3830
A77: M0209 | B77: M0209 | C77: 70 | D77: 육각볼트 | E77: =VLOOKUP($B77,직재산출!$A$4:$T$3731,5,FALSE) -> 육각볼트 | F77: =VLOOKUP($B77,직재산출!$A$4:$T$3731,6,FALSE) -> M12 | G77: =VLOOKUP($B77,직재산출!$A$4:$T$3731,7,FALSE) -> × | H77: =VLOOKUP($B77,직재산출!$A$4:$T$3731,8,FALSE) -> L45 | I77: =VLOOKUP($B77,직재산출!$A$4:$T$3731,9,FALSE) -> 0 | J77: =VLOOKUP($B77,직재산출!$A$4:$T$3731,10,FALSE) -> 0 | K77: =VLOOKUP($B77,직재산출!$A$4:$T$3731,11,FALSE) -> 0 | L77: =VLOOKUP($B77,직재산출!$A$4:$T$3731,12,FALSE) -> 0 | M77: 개 | N77: 41 | O77: 536 | U77: =MIN(O77,Q77,R77,S77,T77) -> 536
A78: M0215 | B78: M0215 | C78: 71 | D78: 평철 | E78: =VLOOKUP($B78,직재산출!$A$4:$T$3731,5,FALSE) -> 평철 | F78: =VLOOKUP($B78,직재산출!$A$4:$T$3731,6,FALSE) -> T3 | G78: =VLOOKUP($B78,직재산출!$A$4:$T$3731,7,FALSE) -> × | H78: =VLOOKUP($B78,직재산출!$A$4:$T$3731,8,FALSE) -> 25 | I78: =VLOOKUP($B78,직재산출!$A$4:$T$3731,9,FALSE) -> × | J78: =VLOOKUP($B78,직재산출!$A$4:$T$3731,10,FALSE) -> 0 | K78: =VLOOKUP($B78,직재산출!$A$4:$T$3731,11,FALSE) -> 0 | L78: =VLOOKUP($B78,직재산출!$A$4:$T$3731,12,FALSE) -> 170 | M78: m/kg | N78: 4 | O78: 1040 | P78: 5 | Q78: 1030 | U78: =MIN(O78,Q78,R78,S78,T78) -> 1030
A79: M0221 | B79: M0221 | C79: 72 | D79: 육각볼트 | E79: =VLOOKUP($B79,직재산출!$A$4:$T$3731,5,FALSE) -> 육각볼트 | F79: =VLOOKUP($B79,직재산출!$A$4:$T$3731,6,FALSE) -> M10 | G79: =VLOOKUP($B79,직재산출!$A$4:$T$3731,7,FALSE) -> × | H79: =VLOOKUP($B79,직재산출!$A$4:$T$3731,8,FALSE) -> L30 | I79: =VLOOKUP($B79,직재산출!$A$4:$T$3731,9,FALSE) -> 0 | J79: =VLOOKUP($B79,직재산출!$A$4:$T$3731,10,FALSE) -> 0 | K79: =VLOOKUP($B79,직재산출!$A$4:$T$3731,11,FALSE) -> 0 | L79: =VLOOKUP($B79,직재산출!$A$4:$T$3731,12,FALSE) -> 0 | M79: 개 | N79: 41 | O79: 292 | P79: 48 | Q79: 298 | U79: =MIN(O79,Q79,R79,S79,T79) -> 292
A80: M0226 | B80: M0226 | C80: 73 | D80: 철판 | E80: =VLOOKUP($B80,직재산출!$A$4:$T$3731,5,FALSE) -> 레이저 | F80: =VLOOKUP($B80,직재산출!$A$4:$T$3731,6,FALSE) -> 1.5 | G80: =VLOOKUP($B80,직재산출!$A$4:$T$3731,7,FALSE) -> 0 | H80: =VLOOKUP($B80,직재산출!$A$4:$T$3731,8,FALSE) -> 2100 | I80: =VLOOKUP($B80,직재산출!$A$4:$T$3731,9,FALSE) -> 0 | J80: =VLOOKUP($B80,직재산출!$A$4:$T$3731,10,FALSE) -> 0 | K80: =VLOOKUP($B80,직재산출!$A$4:$T$3731,11,FALSE) -> 0 | L80: =VLOOKUP($B80,직재산출!$A$4:$T$3731,12,FALSE) -> 1870 | M80: m/kg | N80: 26 | O80: 4140 | P80: 30 | Q80: 4100 | U80: =MIN(O80,Q80,R80,S80,T80) -> 4100
A81: M0238 | B81: M0238 | C81: 74 | D81: 육각볼트 | E81: =VLOOKUP($B81,직재산출!$A$4:$T$3731,5,FALSE) -> 육각볼트 | F81: =VLOOKUP($B81,직재산출!$A$4:$T$3731,6,FALSE) -> M8 | G81: =VLOOKUP($B81,직재산출!$A$4:$T$3731,7,FALSE) -> × | H81: =VLOOKUP($B81,직재산출!$A$4:$T$3731,8,FALSE) -> L25 | I81: =VLOOKUP($B81,직재산출!$A$4:$T$3731,9,FALSE) -> 0 | J81: =VLOOKUP($B81,직재산출!$A$4:$T$3731,10,FALSE) -> 0 | K81: =VLOOKUP($B81,직재산출!$A$4:$T$3731,11,FALSE) -> 0 | L81: =VLOOKUP($B81,직재산출!$A$4:$T$3731,12,FALSE) -> 0 | M81: 개 | N81: 41 | O81: 151 | U81: =MIN(O81,Q81,R81,S81,T81) -> 151
A82: M0242 | B82: M0242 | C82: 75 | D82: 평철 | E82: =VLOOKUP($B82,직재산출!$A$4:$T$3731,5,FALSE) -> 평철 | F82: =VLOOKUP($B82,직재산출!$A$4:$T$3731,6,FALSE) -> T9 | G82: =VLOOKUP($B82,직재산출!$A$4:$T$3731,7,FALSE) -> × | H82: =VLOOKUP($B82,직재산출!$A$4:$T$3731,8,FALSE) -> 50 | I82: =VLOOKUP($B82,직재산출!$A$4:$T$3731,9,FALSE) -> x | J82: =VLOOKUP($B82,직재산출!$A$4:$T$3731,10,FALSE) -> 0 | K82: =VLOOKUP($B82,직재산출!$A$4:$T$3731,11,FALSE) -> x | L82: =VLOOKUP($B82,직재산출!$A$4:$T$3731,12,FALSE) -> 105 | M82: m/kg | N82: 4 | O82: 1020 | P82: 5 | Q82: 1030 | U82: =MIN(O82,Q82,R82,S82,T82) -> 1020
A83: M0243 | B83: M0243 | C83: 76 | D83: 환봉 | E83: =VLOOKUP($B83,직재산출!$A$4:$T$3731,5,FALSE) -> 환봉 | F83: =VLOOKUP($B83,직재산출!$A$4:$T$3731,6,FALSE) -> 30 | G83: =VLOOKUP($B83,직재산출!$A$4:$T$3731,7,FALSE) -> × | H83: =VLOOKUP($B83,직재산출!$A$4:$T$3731,8,FALSE) -> 0 | I83: =VLOOKUP($B83,직재산출!$A$4:$T$3731,9,FALSE) -> 0 | J83: =VLOOKUP($B83,직재산출!$A$4:$T$3731,10,FALSE) -> 0 | K83: =VLOOKUP($B83,직재산출!$A$4:$T$3731,11,FALSE) -> 0 | L83: =VLOOKUP($B83,직재산출!$A$4:$T$3731,12,FALSE) -> 100 | M83: m/kg | N83: 3 | O83: 990 | P83: 5 | Q83: 1010 | U83: =MIN(O83,Q83,R83,S83,T83) -> 990
A84: M0245 | B84: M0245 | C84: 77 | D84: 무두볼트 | E84: =VLOOKUP($B84,직재산출!$A$4:$T$3731,5,FALSE) -> 무두볼트 | F84: =VLOOKUP($B84,직재산출!$A$4:$T$3731,6,FALSE) -> M12 | G84: =VLOOKUP($B84,직재산출!$A$4:$T$3731,7,FALSE) -> × | H84: =VLOOKUP($B84,직재산출!$A$4:$T$3731,8,FALSE) -> L10 | I84: =VLOOKUP($B84,직재산출!$A$4:$T$3731,9,FALSE) -> 0 | J84: =VLOOKUP($B84,직재산출!$A$4:$T$3731,10,FALSE) -> 0 | K84: =VLOOKUP($B84,직재산출!$A$4:$T$3731,11,FALSE) -> 0 | L84: =VLOOKUP($B84,직재산출!$A$4:$T$3731,12,FALSE) -> 0 | M84: 개 | N84: 45 | O84: 36.1 | U84: =MIN(O84,Q84,R84,S84,T84) -> 36.1
A85: M0253 | B85: M0253 | C85: 78 | D85: 무두볼트 | E85: =VLOOKUP($B85,직재산출!$A$4:$T$3731,5,FALSE) -> 무두볼트 | F85: =VLOOKUP($B85,직재산출!$A$4:$T$3731,6,FALSE) -> M10 | G85: =VLOOKUP($B85,직재산출!$A$4:$T$3731,7,FALSE) -> × | H85: =VLOOKUP($B85,직재산출!$A$4:$T$3731,8,FALSE) -> L12 | I85: =VLOOKUP($B85,직재산출!$A$4:$T$3731,9,FALSE) -> 0 | J85: =VLOOKUP($B85,직재산출!$A$4:$T$3731,10,FALSE) -> 0 | K85: =VLOOKUP($B85,직재산출!$A$4:$T$3731,11,FALSE) -> 0 | L85: =VLOOKUP($B85,직재산출!$A$4:$T$3731,12,FALSE) -> 0 | M85: 개 | N85: 45 | O85: 25.3 | U85: =MIN(O85,Q85,R85,S85,T85) -> 25.3
A86: M0260 | B86: M0260 | C86: 79 | D86: 육각볼트 | E86: =VLOOKUP($B86,직재산출!$A$4:$T$3731,5,FALSE) -> 육각볼트 | F86: =VLOOKUP($B86,직재산출!$A$4:$T$3731,6,FALSE) -> M12 | G86: =VLOOKUP($B86,직재산출!$A$4:$T$3731,7,FALSE) -> × | H86: =VLOOKUP($B86,직재산출!$A$4:$T$3731,8,FALSE) -> L50 | I86: =VLOOKUP($B86,직재산출!$A$4:$T$3731,9,FALSE) -> 0 | J86: =VLOOKUP($B86,직재산출!$A$4:$T$3731,10,FALSE) -> 0 | K86: =VLOOKUP($B86,직재산출!$A$4:$T$3731,11,FALSE) -> 0 | L86: =VLOOKUP($B86,직재산출!$A$4:$T$3731,12,FALSE) -> 0 | M86: 개 | N86: 41 | O86: 570 | P86: 48 | Q86: 533 | U86: =MIN(O86,Q86,R86,S86,T86) -> 533
A87: M0265 | B87: M0265 | C87: 80 | D87: 전산볼트 | E87: =VLOOKUP($B87,직재산출!$A$4:$T$3731,5,FALSE) -> 전산볼트 | F87: =VLOOKUP($B87,직재산출!$A$4:$T$3731,6,FALSE) -> M12 | G87: =VLOOKUP($B87,직재산출!$A$4:$T$3731,7,FALSE) -> × | H87: =VLOOKUP($B87,직재산출!$A$4:$T$3731,8,FALSE) -> 0 | I87: =VLOOKUP($B87,직재산출!$A$4:$T$3731,9,FALSE) -> 0 | J87: =VLOOKUP($B87,직재산출!$A$4:$T$3731,10,FALSE) -> 0 | K87: =VLOOKUP($B87,직재산출!$A$4:$T$3731,11,FALSE) -> 0 | L87: =VLOOKUP($B87,직재산출!$A$4:$T$3731,12,FALSE) -> 150 | M87: 개 | N87: 43 | O87: 6128 | P87: 46 | Q87: 5990 | U87: =MIN(O87,Q87,R87,S87,T87) -> 5990
A88: M0270 | B88: M0270 | C88: 81 | D88: 잔넬 | E88: =VLOOKUP($B88,직재산출!$A$4:$T$3731,5,FALSE) -> 잔넬 | F88: =VLOOKUP($B88,직재산출!$A$4:$T$3731,6,FALSE) -> 130 | G88: =VLOOKUP($B88,직재산출!$A$4:$T$3731,7,FALSE) -> × | H88: =VLOOKUP($B88,직재산출!$A$4:$T$3731,8,FALSE) -> 65 | I88: =VLOOKUP($B88,직재산출!$A$4:$T$3731,9,FALSE) -> × | J88: =VLOOKUP($B88,직재산출!$A$4:$T$3731,10,FALSE) -> 0 | K88: =VLOOKUP($B88,직재산출!$A$4:$T$3731,11,FALSE) -> 0 | L88: =VLOOKUP($B88,직재산출!$A$4:$T$3731,12,FALSE) -> 4130 | M88: m/kg | N88: 6 | O88: 1090 | P88: 6 | Q88: 1040 | U88: =MIN(O88,Q88,R88,S88,T88) -> 1040
A89: M0271 | B89: M0271 | C89: 82 | D89: 앵글 | E89: =VLOOKUP($B89,직재산출!$A$4:$T$3731,5,FALSE) -> 앵글 | F89: =VLOOKUP($B89,직재산출!$A$4:$T$3731,6,FALSE) -> T7 | G89: =VLOOKUP($B89,직재산출!$A$4:$T$3731,7,FALSE) -> × | H89: =VLOOKUP($B89,직재산출!$A$4:$T$3731,8,FALSE) -> 90 | I89: =VLOOKUP($B89,직재산출!$A$4:$T$3731,9,FALSE) -> × | J89: =VLOOKUP($B89,직재산출!$A$4:$T$3731,10,FALSE) -> 0 | K89: =VLOOKUP($B89,직재산출!$A$4:$T$3731,11,FALSE) -> 0 | L89: =VLOOKUP($B89,직재산출!$A$4:$T$3731,12,FALSE) -> 485 | M89: m/kg | N89: 5 | O89: 1135 | P89: 7 | Q89: 1040 | U89: =MIN(O89,Q89,R89,S89,T89) -> 1040
A90: M0274 | B90: M0274 | C90: 83 | D90: 철판 | E90: =VLOOKUP($B90,직재산출!$A$4:$T$3731,5,FALSE) -> 레이저 | F90: =VLOOKUP($B90,직재산출!$A$4:$T$3731,6,FALSE) -> 9 | G90: =VLOOKUP($B90,직재산출!$A$4:$T$3731,7,FALSE) -> 0 | H90: =VLOOKUP($B90,직재산출!$A$4:$T$3731,8,FALSE) -> 200 | I90: =VLOOKUP($B90,직재산출!$A$4:$T$3731,9,FALSE) -> 0 | J90: =VLOOKUP($B90,직재산출!$A$4:$T$3731,10,FALSE) -> 0 | K90: =VLOOKUP($B90,직재산출!$A$4:$T$3731,11,FALSE) -> 0 | L90: =VLOOKUP($B90,직재산출!$A$4:$T$3731,12,FALSE) -> 130 | M90: m/kg | N90: 14 | O90: 1145 | P90: 13 | Q90: 960 | U90: =MIN(O90,Q90,R90,S90,T90) -> 960
A91: M0277 | B91: M0277 | C91: 84 | D91: 볼트 | E91: =VLOOKUP($B91,직재산출!$A$4:$T$3731,5,FALSE) -> 볼트 | F91: =VLOOKUP($B91,직재산출!$A$4:$T$3731,6,FALSE) -> M12 | G91: =VLOOKUP($B91,직재산출!$A$4:$T$3731,7,FALSE) -> 0 | H91: =VLOOKUP($B91,직재산출!$A$4:$T$3731,8,FALSE) -> 0 | I91: =VLOOKUP($B91,직재산출!$A$4:$T$3731,9,FALSE) -> 0 | J91: =VLOOKUP($B91,직재산출!$A$4:$T$3731,10,FALSE) -> 0 | K91: =VLOOKUP($B91,직재산출!$A$4:$T$3731,11,FALSE) -> 0 | L91: =VLOOKUP($B91,직재산출!$A$4:$T$3731,12,FALSE) -> 35 | M91: 개 | N91: 41 | O91: 463 | P91: 48 | Q91: 470 | U91: =MIN(O91,Q91,R91,S91,T91) -> 463
A92: M0280 | B92: M0280 | C92: 85 | D92: 베어링 | E92: =VLOOKUP($B92,직재산출!$A$4:$T$3731,5,FALSE) -> 베어링 | F92: =VLOOKUP($B92,직재산출!$A$4:$T$3731,6,FALSE) -> 6005 | G92: =VLOOKUP($B92,직재산출!$A$4:$T$3731,7,FALSE) -> 0 | H92: =VLOOKUP($B92,직재산출!$A$4:$T$3731,8,FALSE) -> 0 | I92: =VLOOKUP($B92,직재산출!$A$4:$T$3731,9,FALSE) -> 0 | J92: =VLOOKUP($B92,직재산출!$A$4:$T$3731,10,FALSE) -> 0 | K92: =VLOOKUP($B92,직재산출!$A$4:$T$3731,11,FALSE) -> 0 | L92: =VLOOKUP($B92,직재산출!$A$4:$T$3731,12,FALSE) -> 0 | M92: 개 | N92: 1069 | O92: 3699 | P92: 1418 | Q92: 3720 | U92: =MIN(O92,Q92,R92,S92,T92) -> 3699
A93: M2399 | B93: M0280 | C93: 86 | D93: 베어링 | E93: =VLOOKUP($B93,직재산출!$A$4:$T$3731,5,FALSE) -> 베어링 | F93: =VLOOKUP($B93,직재산출!$A$4:$T$3731,6,FALSE) -> 6005 | G93: =VLOOKUP($B93,직재산출!$A$4:$T$3731,7,FALSE) -> 0 | H93: =VLOOKUP($B93,직재산출!$A$4:$T$3731,8,FALSE) -> 0 | I93: =VLOOKUP($B93,직재산출!$A$4:$T$3731,9,FALSE) -> 0 | J93: =VLOOKUP($B93,직재산출!$A$4:$T$3731,10,FALSE) -> 0 | K93: =VLOOKUP($B93,직재산출!$A$4:$T$3731,11,FALSE) -> 0 | L93: =VLOOKUP($B93,직재산출!$A$4:$T$3731,12,FALSE) -> 0 | M93: 개 | N93: 1069 | O93: 3699 | P93: 1418 | Q93: 3720 | U93: =MIN(O93,Q93,R93,S93,T93) -> 3699
A94: M0283 | B94: M0283 | C94: 87 | D94: 베어링 | E94: =VLOOKUP($B94,직재산출!$A$4:$T$3731,5,FALSE) -> 베어링 | F94: =VLOOKUP($B94,직재산출!$A$4:$T$3731,6,FALSE) -> 6205 | G94: =VLOOKUP($B94,직재산출!$A$4:$T$3731,7,FALSE) -> 0 | H94: =VLOOKUP($B94,직재산출!$A$4:$T$3731,8,FALSE) -> 0 | I94: =VLOOKUP($B94,직재산출!$A$4:$T$3731,9,FALSE) -> 0 | J94: =VLOOKUP($B94,직재산출!$A$4:$T$3731,10,FALSE) -> 0 | K94: =VLOOKUP($B94,직재산출!$A$4:$T$3731,11,FALSE) -> 0 | L94: =VLOOKUP($B94,직재산출!$A$4:$T$3731,12,FALSE) -> 0 | M94: 개 | N94: 1069 | O94: 3229 | P94: 1418 | Q94: 2960 | U94: =MIN(O94,Q94,R94,S94,T94) -> 2960
A95: M0284 | B95: M0284 | C95: 88 | D95: 환봉 | E95: =VLOOKUP($B95,직재산출!$A$4:$T$3731,5,FALSE) -> 환봉 | F95: =VLOOKUP($B95,직재산출!$A$4:$T$3731,6,FALSE) -> 25 | G95: =VLOOKUP($B95,직재산출!$A$4:$T$3731,7,FALSE) -> 0 | H95: =VLOOKUP($B95,직재산출!$A$4:$T$3731,8,FALSE) -> 0 | I95: =VLOOKUP($B95,직재산출!$A$4:$T$3731,9,FALSE) -> 0 | J95: =VLOOKUP($B95,직재산출!$A$4:$T$3731,10,FALSE) -> 0 | K95: =VLOOKUP($B95,직재산출!$A$4:$T$3731,11,FALSE) -> 0 | L95: =VLOOKUP($B95,직재산출!$A$4:$T$3731,12,FALSE) -> 227 | M95: m/kg | N95: 3 | O95: 990 | P95: 5 | Q95: 1010 | U95: =MIN(O95,Q95,R95,S95,T95) -> 990
A96: M0289 | B96: M0289 | C96: 89 | D96: 볼트 | E96: =VLOOKUP($B96,직재산출!$A$4:$T$3731,5,FALSE) -> 볼트 | F96: =VLOOKUP($B96,직재산출!$A$4:$T$3731,6,FALSE) -> M12 | G96: =VLOOKUP($B96,직재산출!$A$4:$T$3731,7,FALSE) -> 0 | H96: =VLOOKUP($B96,직재산출!$A$4:$T$3731,8,FALSE) -> 0 | I96: =VLOOKUP($B96,직재산출!$A$4:$T$3731,9,FALSE) -> 0 | J96: =VLOOKUP($B96,직재산출!$A$4:$T$3731,10,FALSE) -> 0 | K96: =VLOOKUP($B96,직재산출!$A$4:$T$3731,11,FALSE) -> 0 | L96: =VLOOKUP($B96,직재산출!$A$4:$T$3731,12,FALSE) -> 35 | M96: 개 | N96: 41 | O96: 463 | U96: =MIN(O96,Q96,R96,S96,T96) -> 463
A97: M0304 | B97: M0304 | C97: 90 | D97: 환봉 | E97: =VLOOKUP($B97,직재산출!$A$4:$T$3731,5,FALSE) -> 환봉 | F97: =VLOOKUP($B97,직재산출!$A$4:$T$3731,6,FALSE) -> 40 | G97: =VLOOKUP($B97,직재산출!$A$4:$T$3731,7,FALSE) -> 0 | H97: =VLOOKUP($B97,직재산출!$A$4:$T$3731,8,FALSE) -> 0 | I97: =VLOOKUP($B97,직재산출!$A$4:$T$3731,9,FALSE) -> 0 | J97: =VLOOKUP($B97,직재산출!$A$4:$T$3731,10,FALSE) -> 0 | K97: =VLOOKUP($B97,직재산출!$A$4:$T$3731,11,FALSE) -> 0 | L97: =VLOOKUP($B97,직재산출!$A$4:$T$3731,12,FALSE) -> 155 | M97: m/kg | N97: 3 | O97: 990 | P97: 5 | Q97: 1010 | U97: =MIN(O97,Q97,R97,S97,T97) -> 990
A98: M0320 | B98: M0320 | C98: 91 | D98: 육각볼트 | E98: =VLOOKUP($B98,직재산출!$A$4:$T$3731,5,FALSE) -> 육각볼트 | F98: =VLOOKUP($B98,직재산출!$A$4:$T$3731,6,FALSE) -> M24 | G98: =VLOOKUP($B98,직재산출!$A$4:$T$3731,7,FALSE) -> × | H98: =VLOOKUP($B98,직재산출!$A$4:$T$3731,8,FALSE) -> 0 | I98: =VLOOKUP($B98,직재산출!$A$4:$T$3731,9,FALSE) -> 0 | J98: =VLOOKUP($B98,직재산출!$A$4:$T$3731,10,FALSE) -> 0 | K98: =VLOOKUP($B98,직재산출!$A$4:$T$3731,11,FALSE) -> 0 | L98: =VLOOKUP($B98,직재산출!$A$4:$T$3731,12,FALSE) -> 75 | M98: 개 | N98: 41 | O98: 1210 | P98: 47 | Q98: 1656 | U98: =MIN(O98,Q98,R98,S98,T98) -> 1210
A99: M0323 | B99: M0323 | C99: 92 | D99: 너트 | E99: =VLOOKUP($B99,직재산출!$A$4:$T$3731,5,FALSE) -> 너트 | F99: =VLOOKUP($B99,직재산출!$A$4:$T$3731,6,FALSE) -> M24 | G99: =VLOOKUP($B99,직재산출!$A$4:$T$3731,7,FALSE) -> 0 | H99: =VLOOKUP($B99,직재산출!$A$4:$T$3731,8,FALSE) -> 0 | I99: =VLOOKUP($B99,직재산출!$A$4:$T$3731,9,FALSE) -> 0 | J99: =VLOOKUP($B99,직재산출!$A$4:$T$3731,10,FALSE) -> 0 | K99: =VLOOKUP($B99,직재산출!$A$4:$T$3731,11,FALSE) -> 0 | L99: =VLOOKUP($B99,직재산출!$A$4:$T$3731,12,FALSE) -> 0 | M99: 개 | N99: 39 | O99: 283.8 | P99: 51 | Q99: 315.7 | U99: =MIN(O99,Q99,R99,S99,T99) -> 283.8
A100: M0326 | B100: M0326 | C100: 93 | D100: 환봉 | E100: =VLOOKUP($B100,직재산출!$A$4:$T$3731,5,FALSE) -> 환봉 | F100: =VLOOKUP($B100,직재산출!$A$4:$T$3731,6,FALSE) -> 140 | G100: =VLOOKUP($B100,직재산출!$A$4:$T$3731,7,FALSE) -> × | H100: =VLOOKUP($B100,직재산출!$A$4:$T$3731,8,FALSE) -> 0 | I100: =VLOOKUP($B100,직재산출!$A$4:$T$3731,9,FALSE) -> 0 | J100: =VLOOKUP($B100,직재산출!$A$4:$T$3731,10,FALSE) -> 0 | K100: =VLOOKUP($B100,직재산출!$A$4:$T$3731,11,FALSE) -> 0 | L100: =VLOOKUP($B100,직재산출!$A$4:$T$3731,12,FALSE) -> 110 | M100: m/kg | N100: 3 | O100: 990 | P100: 5 | Q100: 1010 | U100: =MIN(O100,Q100,R100,S100,T100) -> 990
A101: M0327 | B101: M0327 | C101: 94 | D101: 유두볼트 | E101: =VLOOKUP($B101,직재산출!$A$4:$T$3731,5,FALSE) -> 유두볼트 | F101: =VLOOKUP($B101,직재산출!$A$4:$T$3731,6,FALSE) -> M12 | G101: =VLOOKUP($B101,직재산출!$A$4:$T$3731,7,FALSE) -> × | H101: =VLOOKUP($B101,직재산출!$A$4:$T$3731,8,FALSE) -> L20 | I101: =VLOOKUP($B101,직재산출!$A$4:$T$3731,9,FALSE) -> 0 | J101: =VLOOKUP($B101,직재산출!$A$4:$T$3731,10,FALSE) -> 0 | K101: =VLOOKUP($B101,직재산출!$A$4:$T$3731,11,FALSE) -> 0 | L101: =VLOOKUP($B101,직재산출!$A$4:$T$3731,12,FALSE) -> 0 | M101: 개 | N101: 44 | O101: 345 | U101: =MIN(O101,Q101,R101,S101,T101) -> 345
...

Sheet 속지9
A5: 4. 참고 자료

Sheet 기업(손)
A1: 1. 기업경영분석자료
A3: [손익계산서] | H3: (단위 : 백만 원)
A4: CODE NO. | D4: 내역 | F4: 금 액 | G4: 구성비 | H4: 비 고
B5: 21 | D5: 매출액 | F5: 79716810 | G5: =TRUNC(F5/$F$5,5) -> 1
B6: 22 | D6: 매출원가 | F6: 63529103 | G6: =TRUNC(F6/$F$5,5) -> 0.79693
B7: 23 | D7: 매출총손익 | F7: 16187707 | G7: =TRUNC(F7/$F$5,5) -> 0.20306
B8: 241 | D8: 판매비와일반관리비 | F8: 11522313 | G8: =TRUNC(F8/$F$5,5) -> 0.14454
B9: 24101 | D9: 급여 | F9: 4522080 | G9: =TRUNC(F9/$F$5,5) -> 0.05672
B10: 24102 | D10: 퇴직급여 | F10: 524408 | G10: =TRUNC(F10/$F$5,5) -> 0.00657
B11: 24103 | D11: 복리후생비 | F11: 524480 | G11: =TRUNC(F11/$F$5,5) -> 0.00657
B12: 24104 | D12: 세금과공과 | F12: 243270 | G12: =TRUNC(F12/$F$5,5) -> 0.00305
B13: 24105 | D13: 임차료 | F13: 220204 | G13: =TRUNC(F13/$F$5,5) -> 0.00276
B14: 24106 | D14: 감가상각비 | F14: 379188 | G14: =TRUNC(F14/$F$5,5) -> 0.00475
B15: 24107 | D15: 접대비 | F15: 307063 | G15: =TRUNC(F15/$F$5,5) -> 0.00385 | H15: 불 인 금 액
B16: 24108 | D16: 광고선전비 | F16: 196137 | G16: =TRUNC(F16/$F$5,5) -> 0.00246 | H16: "
B17: 24109 | D17: 경상개발비.연구비 | F17: 798409 | G17: =TRUNC(F17/$F$5,5) -> 0.01001
B18: 24110 | D18: 보험료 | F18: 263225 | G18: =TRUNC(F18/$F$5,5) -> 0.0033
B19: 24111 | D19: 대손상각비 | F19: 418822 | G19: =TRUNC(F19/$F$5,5) -> 0.00525 | H19: 불 인 금 액
B20: 24112 | D20: 무형자산상각비 | F20: 132203 | G20: =TRUNC(F20/$F$5,5) -> 0.00165 | H20: "
B21: 24113 | D21: 기타판매비와관리비 | F21: 2992823 | G21: =TRUNC(F21/$F$5,5) -> 0.03754 | H21: "
B22: 24 | D22: 영업손익 | F22: 4665393 | G22: =TRUNC(F22/$F$5,5) -> 0.05852
B23: 251 | D23: 영업외수익 | F23: 4245920 | G23: =TRUNC(F23/$F$5,5) -> 0.05326
B24: 25101 | D24: 이자수익 | F24: 530643 | G24: =TRUNC(F24/$F$5,5) -> 0.00665
B25: 25102 | D25: 배당금수익 | F25: 101916 | G25: =TRUNC(F25/$F$5,5) -> 0.00127
B26: 25103 | D26: 외환차익 | F26: 713327 | G26: =TRUNC(F26/$F$5,5) -> 0.00894
B27: 25104 | D27: 외화환산이익 | F27: 956410 | G27: =TRUNC(F27/$F$5,5) -> 0.01199
B28: 25105 | D28: 투자.유형자산처분이익 | F28: 493914 | G28: =TRUNC(F28/$F$5,5) -> 0.00619
B29: 25106 | D29: 지분법평가이익 | F29: 225129 | G29: =TRUNC(F29/$F$5,5) -> 0.00282
B30: 25107 | D30: 기타영업외수익 | F30: 1224581 | G30: =TRUNC(F30/$F$5,5) -> 0.01536
B31: 252 | D31: 영업외비용 | F31: 3904212 | G31: =TRUNC(F31/$F$5,5) -> 0.04897
B32: 25201 | D32: 이자비용 | F32: 1216897 | G32: =TRUNC(F32/$F$5,5) -> 0.01526
B33: 25202 | D33: 외환차손 | F33: 423751 | G33: =TRUNC(F33/$F$5,5) -> 0.00531
... B40: 26 | D40: 당기순이익 | F40: 4086229 | G40: =TRUNC(F40/$F$5,5) -> 0.05125
A41: 주) 2024년 기업경영분석(한국은행, 2025. 10.) : CODE NO. C291『일반 목적용 기계』참조

Sheet 기업(제)
A1: 1. 기업경영분석자료
A3: [제조원가명세서] | H3: (단위 : 백만 원)
A4: CODE NO. | D4: 내역 | F4: 금 액 | G4: 구성비 | H4: 비 고
B5: 31 | D5: 당기총제조비용 | F5: 58928234 | G5: =TRUNC(F5/$F$5,5) -> 1
B6: 311 | D6: 재료비 | F6: 34933529 | G6: =TRUNC(F6/$F$5,5) -> 0.59281
B7: 312 | D7: 노무비 | F7: 6854872 | G7: =TRUNC(F7/$F$5,5) -> 0.11632
B8: 313 | D8: 경비 | F8: 17139833 | G8: =TRUNC(F8/$F$5,5) -> 0.29085
B9: 31301 | D9: 복리후생비 | F9: 808285 | G9: =TRUNC(F9/$F$5,5) -> 0.01371
B10: 31302 | D10: 전력비 | F10: 520831 | G10: =TRUNC(F10/$F$5,5) -> 0.00883
B11: 31303 | D11: 가스수도비 | F11: 98450 | G11: =TRUNC(F11/$F$5,5) -> 0.00167
B12: 31304 | D12: 감가상각비 | F12: 1134984 | G12: =TRUNC(F12/$F$5,5) -> 0.01926
B13: 31305 | D13: 세금과공과 | F13: 156892 | G13: =TRUNC(F13/$F$5,5) -> 0.00266
B14: 31306 | D14: 임차료 | F14: 359093 | G14: =TRUNC(F14/$F$5,5) -> 0.00609
B15: 31307 | D15: 보험료 | F15: 242617 | G15: =TRUNC(F15/$F$5,5) -> 0.00411
B16: 31308 | D16: 수선비 | F16: 198791 | G16: =TRUNC(F16/$F$5,5) -> 0.00337
... B24: 35 | D24: 당기제품제조원가 | F24: 58530580 | G24: =TRUNC(F24/$F$5,5) -> 0.99325
A25: 주) 2024년 기업경영분석(한국은행, 2025. 10.) : CODE NO. C291『일반 목적용 기계』참조

Sheet 업체(손)
A1: 2. 전문업체결산자료
A3: 1) 손익계산서 제14기 2024년 01월 01일부터 2024년 12월 31일까지 | G3: (단위 : 원)
A4: 비 목 | E4: 금 액 | G4: 비 고
A5: Ⅰ. | C5: 매출액 | F5: =SUM(E6:E6) -> 4930642926
C6: 제품매출 | E6: 4930642926
A7: Ⅱ. | C7: 매출원가 | F7: =SUM(E8,,E9,-E10) -> 3751723241
C8: 기초제품재고액 | E8: 1422583000
C9: 당기제품제조원가 | E9: 3910577241
C10: 기말제품재고액 | E10: 1581437000
A11: Ⅲ. | C11: 매출총이익 | F11: =SUM(F5-F7) -> 1178919685
A12: Ⅳ. | C12: 판매비와관리비 | F12: =SUM(E13:E34) -> 408324685
C13: 직원급여 | E13: 219900000
C14: 상여금 | E14: 30923000
C15: 복리후생비 | E15: 845556
C16: 여비교통비 | E16: 2564518
C17: 기업업무추진비 | E17: 10439070 | G17: 불인금액
C18: 통신비 | E18: 639097
C19: 수도광열비 | E19: 3630020
C20: 세금과공과금 | E20: 31035600
C21: 감가상각비 | E21: 2844956
C22: 임차료 | E22: 258360
C23: 수선비 | E23: 372728
C24: 보험료 | E24: 50068440
C25: 차량유지비
C26: 교육훈련비
C27: 도서인쇄비 | E27: 502091
C28: 사무용품비
C29: 소모품비 | E29: 3149342
C30: 지급수수료 | E30: 39734603
C31: 광고선전비 | G31: 불인금액
C32: 무형자산상각비 | E32: 1249600
C33: 잡비 | E33: 10167704 | G33: 불인금액
C34: 업무용차량유지비
A35: Ⅴ. | C35: 영업손익 | F35: =SUM(F11-F12) -> 770595000
A36: Ⅵ. | C36: 영업외수익 | F36: =SUM(E37:E40) -> 51426323
C37: 이자수익 | E37: 7658566
C38: 배당금수익 | E38: 2140871
C39: 유형자산처분이익 | E39: 3817182
C40: 잡이익 | E40: 37809704
A41: Ⅶ. | C41: 영업외비용 | F41: =SUM(E42:E45) -> 19124305
C42: 이자비용 | E42: 19024305
C43: 기부금 | E43: 100000
C44: 유형자산처분손실 | E44: 0
C45: 잡손실 | E45: 0
A46: Ⅷ. | C46: 법인세차감전이익 | F46: =SUM(F35,F36)-F41 -> 802897018
A47: Ⅸ. | C47: 법인세등 | F47: =SUM(E48) -> 0
C48: 법인세등 | E48: 0
A49: Ⅹ. | C49: 당기순이익 | F49: =F46-F47 -> 802897018

Sheet 업체(제)
A1: 2. 전문업체결산자료
A3: 2) 제조원가명세서 제14기 2024년 01월 01일부터 2024년 12월 31일까지 | G3: (단위 : 원)
A4: 비 목 | E4: 금 액 | G4: 비 고
A5: Ⅰ. | C5: 원재료비 | F5: =SUM(E6+E7-E8) -> 1936983281
C6: 기초원재료재고액 | E6: 31664610
C7: 당기원재료매입액 | E7: 1941183201
C8: 기말원재료재고액 | E8: 35864530
A9: Ⅱ. | C9: 노무비 | F9: =SUM(E10:E13) -> 1055506060
C10: 급여 | E10: 879847520
C11: 상여금 | E11: 96122070
C12: 퇴직연금 | E12: 0
C13: 퇴직급여 | E13: 79536470
A14: Ⅲ. | C14: 경비 | F14: =SUM(E15:E33) -> 967453880
C15: 복리후생비 | E15: 70823416
C16: 여비교통비 | E16: 1102949
C17: 가스수도료 | E17: 2459831
C18: 전력비 | E18: 40263946
C19: 세금과공과금 | E19: 139190
C20: 감가상각비 | E20: 67233683
C21: 임차료 | E21: 148440000
C22: 수선비 | E22: 3952364
C23: 보험료 | E23: 44322006
C24: 차량유지비 | E24: 16191014
C25: 운반비 | E25: 11756657
C26: 교육훈련비 | E26: 232000
C27: 도서인쇄비
C28: 소모품비 | E28: 13721707
C29: 지급수수료 | E29: 36626257
C30: 외주가공비 | E30: 507353860
C31: 잡비 | E31: 2835000
C32: 장비사용료
C33: 접대비 | G33: 불인금액
A34: Ⅳ. | C34: 당기총제조비용 | F34: =SUM(F5:F14) -> 3959943221
A35: Ⅴ. | C35: 기초재공품재고액 | F35: 136468730
A36: Ⅵ. | C36: 합계 | F36: =SUM(F34:F35) -> 4096411951
A37: Ⅶ. | C37: 기말재공품재고액 | F37: 185834710
A38: Ⅷ. | C38: 타계정으로대체액 | F38: 0
A39: Ⅸ. | C39: 당기제품제조원가 | F39: =SUM(F36-F37) -> 3910577241
