Workbook
Name _: [1]설계개요!#REF!
Name ___: #REF!
Name ___: #REF!
Name _____: #REF!
Name _____: #REF!
Name __________: #REF!
Name __________: #REF!
Name _____________0: #REF!
Name _____________11: #REF!
Name _____________12: #REF!
Name _________10: #REF!
Name ________0: #REF!
Name ________10: #REF!
Name ________11: #REF!
Name ________12: #REF!
Name _______0: #REF!
Name ______0: #REF!
Name ______11: #REF!
Name ______12: #REF!
Name _____0: #REF!
Name _____10: #REF!
Name _____11: #REF!
Name _____12: #REF!
Name ____0: #REF!
Name ____1: #REF!
Name ____10: #REF!
Name ____11: #REF!
Name ____12: #REF!
Name ____2: #REF!
Name ____3: #REF!
Name ____4: #REF!
Name ____5: #REF!
Name ____7: #REF!
Name ____8: #REF!
Name ____9: #REF!
Name ____AA158221: #REF!
Name ____BE46300: #REF!
Name ____H600000: #REF!
Name ____p1: #REF!
Name ____PVC100: #REF!
Name ____PVC125: #REF!
Name ____PVC150: #REF!
Name ___AA158221: #REF!
Name ___BE46300: #REF!
Name ___H600000: #REF!
Name ___p1: #REF!
Name ___PVC100: #REF!
Name ___PVC125: #REF!
Name ___PVC150: #REF!
Name __AA158221: #REF!
Name __BE46300: #REF!
Name __H600000: #REF!
Name __p1: #REF!
Name __p1: #REF!
Name __PVC100: #REF!
Name __PVC125: #REF!
Name __PVC150: #REF!
Name _1: #REF!
Name _12: #N/A
Name _13: #REF!

Sheet 표지 (2)
A5: 유구읍 행정복지센터 제로에너지건축물인증 원격검침
A6: 설 계 내 역 서
A10: 2025.09.
A15: 한국농어촌공사 충남지역본부 공주지사

Sheet 제로에너지시스템
B3: 공 사 비 명 세 서
B4: ='표지 (2)'!A5 -> 유구읍 행정복지센터 제로에너지건축물인증 원격검침
B5: 일 금 : | C5: =F27 -> 45044936 | D5: 원
B6: 종 별 | C6: 재료 또는 치수 | D6: 원수 | E6: 단위 | F6: 총 액 | G6: 재 료 비 | I6: 노 무 비 | K6: 경 비 | M6: 비고
G7: 단 가 | H7: 금 액 | I7: 단 가 | J7: 금 액 | K7: 단 가 | L7: 금 액
B8: 제로에너지시스템 | D8: 1 | E8: 식 | F8: =SUM(H8,J8,L8) -> 40730000 | G8: =일위대가!H28 -> 40730000 | H8: =INT($D8*G8) -> 40730000
B10: 소 계 | F10: =SUM(H10,J10,L10) -> 40730000 | H10: =SUMIF($M$8:$M$8,$M10,H$8:H$8) -> 40730000
B12: 부가가치세 | C12: 0.1 | F12: =SUM(H12,J12,L12) -> 4073000 | H12: =TRUNC(H10*110%,-3)-H10 -> 4073000
B14: 계 | F14: =SUM(H14,J14,L14) -> 44803000 | H14: =SUMIF($M$10:$M$12,$M14,H$10:H$12) -> 44803000
B16: 조달수수료 | C16: 0.0054 | D16: 1 | F16: =SUM(H16,J16,L16) -> 241936.2 | K16: =H14*C16 -> 241936.2 | L16: =D16*K16 -> 241936.2
B27: 합 계 | F27: =SUM(H27,J27,L27) -> 45044936 | H27: =H14 -> 44803000 | L27: =L16 -> 241936.2

Sheet 일위대가
B3: 일 위 대 가 표
B4: =제로에너지시스템!B4 -> 유구읍 행정복지센터 제로에너지건축물인증 원격검침
B5: 종 별 | C5: 재료 또는 치수 | D5: 원수 | E5: 단위 | F5: 총 액 | G5: 재 료 비 | I5: 노 무 비 | K5: 경 비 | M5: 비고
G6: 단 가 | H6: 금 액 | I6: 단 가 | J6: 금 액 | K6: 단 가 | L6: 금 액
B7: ▣ 호표1. 빌딩 제로에너지시스템 [식]
B8: 중앙관제장치 | C8: 제로에너지 | D8: 1 | E8: 식 | F8: =SUM(J8,H8,L8) -> 0
B9: PC | C9: =단가대비표!C7 -> Intel i7, RAM 16GB, HDD 1TB | D9: 1 | E9: 대 | F9: =SUM(J9,H9,L9) -> 3000000 | G9: =단가대비표!E7 -> 3000000 | H9: =TRUNC($D9*G9,1) -> 3000000
B10: OFFCIE | C10: =단가대비표!C8 -> Microsoft office 2021 | D10: 1 | E10: PKG | F10: =SUM(J10,H10,L10) -> 350000 | G10: =단가대비표!E8 -> 350000 | H10: =TRUNC($D10*G10,1) -> 350000
B11: MONITOR | C11: =단가대비표!C9 -> 27" Color | D11: 1 | E11: 대 | F11: =SUM(J11,H11,L11) -> 280000 | G11: =단가대비표!E9 -> 280000 | H11: =TRUNC($D11*G11,1) -> 280000
B12: 에너지관리 Program | C12: =단가대비표!C10 -> Software Program | D12: 1 | E12: SET | F12: =SUM(J12,H12,L12) -> 32000000 | G12: =단가대비표!E10 -> 32000000 | H12: =TRUNC($D12*G12,1) -> 32000000
B13: - 데이터 수집 및 표시
B14: - 데이터 조회
B15: - 에너지 소비 현황 분석
B16: - 에너지 비용 조회 및 분석
B17: - 계측기 관리
B18: - 데이터 관리
B19: COLOR PRINTER | C19: Laser, A4 | D19: 1 | E19: 대 | F19: =SUM(J19,H19,L19) -> 300000 | G19: =단가대비표!E11 -> 300000 | H19: =TRUNC($D19*G19,1) -> 300000
B20: DESK & CHAIR | D20: 1 | E20: 개 | F20: =SUM(J20,H20,L20) -> 400000 | G20: =단가대비표!E12 -> 400000 | H20: =TRUNC($D20*G20,1) -> 400000
B21: 데이터 통신 | C21: Interface | D21: 1 | E21: SET | F21: =SUM(J21,H21,L21) -> 3000000 | G21: 3000000 | H21: =TRUNC($D21*G21,1) -> 3000000
B22: - 설비/EHP 외 Interface
B23: - 전력량계 Interface
B24: - 태양광 Interface
B25: HUB | C25: 8PORT | D25: 1 | E25: 개 | F25: =SUM(J25,H25,L25) -> 150000 | G25: =단가대비표!E14 -> 150000 | H25: =TRUNC($D25*G25,1) -> 150000
B26: CONVERTER | C26: 485 통신변환기 | D26: 1 | E26: 개 | F26: =SUM(J26,H26,L26) -> 250000 | G26: =단가대비표!E15 -> 250000 | H26: =TRUNC($D26*G26,1) -> 250000
B27: 무정전전원장치(UPS) | C27: 1kVA | D27: 1 | E27: 대 | F27: =SUM(J27,H27,L27) -> 1000000 | G27: =단가대비표!E16 -> 1000000 | H27: =TRUNC($D27*G27,1) -> 1000000
B28: 계 | F28: =SUM(J28,H28,L28) -> 40730000 | H28: =TRUNC(SUM(H8:H27)) -> 40730000 | J28: =TRUNC(SUM(J7:J23)) -> 0 | L28: =TRUNC(SUM(L7:L23)) -> 0

Sheet 단가대비표
K1: =제로에너지시스템!G31 -> 0
B3: 단 가 대 비 표
B4: =일위대가!B4 -> 유구읍 행정복지센터 제로에너지건축물인증 원격검침
B5: 품 목 | C5: 규 격 | D5: 단위 | E5: 재료비 | G5: 노무비 | I5: 경 비 | J5: 비고
B7: PC | C7: Intel i7, RAM 16GB, HDD 1TB | D7: 대 | E7: 3000000 | K7: 2600000
B8: OFFCIE | C8: Microsoft office 2021 | D8: PKG | E8: 350000
B9: MONITOR | C9: 27" Color | D9: 대 | E9: 280000 | K9: 239000
B10: 에너지관리 Program | C10: Software Program | D10: SET | E10: 32000000 | K10: 29000000
B11: COLOR PRINTER | C11: Laser, A4 | D11: 대 | E11: 300000 | K11: 340000
B12: DESK & CHAIR | D12: 개 | E12: 400000 | K12: 619000
B13: 데이터 통신 | C13: Interface | D13: SET | E13: 2500000 | K13: 10000000
B14: HUB | C14: 8PORT | D14: 개 | E14: 150000 | K14: 150000
B15: CONVERTER | C15: 485 통신변환기 | D15: 개 | E15: 250000 | K15: 380000
B16: 무정전전원장치(UPS) | C16: 1kVA | D16: 대 | E16: 1000000 | K16: 2640000
