Workbook
Name _: #N/A
Name _______A1: #REF!
Name _______B100000: #REF!
Name _______b2: #REF!
Name _______B66000: #REF!
Name _______B70000: #REF!
Name _______C67000: #REF!
Name _______C68000: #REF!
Name ______A1: #REF!
Name ______B100000: #REF!
Name ______b2: #REF!
Name ______B66000: #REF!
Name ______B70000: #REF!
Name ______C67000: #REF!
Name ______C68000: #REF!
Name _____A1: #REF!
Name _____B100000: #REF!
Name _____b2: #REF!
Name _____B66000: #REF!
Name _____B70000: #REF!
Name _____C67000: #REF!
Name _____C68000: #REF!
Name _____CDT2: #REF!
Name _____D1: #REF!
Name _____D2: #REF!
Name _____DOG1: #REF!
Name _____DOG2: #REF!
Name _____DOG3: #REF!
Name _____DOG4: #REF!
Name _____H600000: #REF!
Name _____IJ66980: #REF!
Name _____KLN1: #REF!
Name _____ll15: #REF!
Name _____LP1: #REF!
Name _____LP2: #REF!
Name _____MM562: #REF!
Name _____NMB96: #REF!
Name _____PC10: #N/A
Name _____PC20: #N/A
Name _____PC30: #N/A
Name _____PC40: #N/A
Name _____PC50: #N/A
Name _____PI48: #REF!
Name _____PI60: #REF!
Name _____PVC100: #REF!
Name _____PVC125: #REF!
Name _____PVC150: #REF!
Name _____Q1: #REF!
Name _____Q2: #REF!
Name _____Q3: #REF!
Name _____RMK10: #N/A
Name _____RMK20: #N/A
Name _____RMK30: #N/A
Name _____RMK40: #N/A
Name _____RMK50: #N/A
Name _____RO110: #REF!
Name _____RO22: #REF!
Name _____RO35: #REF!
Name _____RO60: #REF!
Name _____RO80: #REF!

Sheet 원가
A1: 공 사 원 가 계 산 서
A3: 공사명: | C3: 공주시유구읍농촌중심지활성화사업(전기) | E3: 공사기간: 18개월
A4: 비 목 | C4: 구 분 | D4: 금 액 | E4: 구 성 비 | I4: 요율 | J4: 수량 | K4: 금액 | L4: 이윤 | M4: 끝자리 맞추기
B5: 재 료 비 | C5: 직 접 재 료 비 | D5: =옵션!$B$2 -> #REF! | J5: 1 | K5: =D5*J5 -> #REF!
C6: 간 접 재 료 비 | K6: =D6*J6 -> 0
C7: ( 소 계 ) | D7: =SUM(D5:D6) -> #REF! | K7: =D7*J7 -> #REF!
A8: 순 | B8: 노 무 비 | C8: 직 접 노 무 비 | D8: =옵션!$C$2 -> #REF! | J8: 1 | K8: =D8*J8 -> #REF!
C9: 간 접 노 무 비 | D9: =TRUNC((D8)*I9/100) -> #REF! | E9: (직접 노무비) * 15.4 % | I9: 15.4 | J9: 1 | K9: =D9*J9 -> #REF!
C10: ( 소 계 ) | D10: =SUM(D8:D9) -> #REF! | K10: =D10*J10 -> #REF!
C11: 기 계 경 비 | D11: =옵션!$D$2 -> #REF! | J11: 1 | K11: =D11*J11 -> #REF!
C12: 산 재 보 험 료 | D12: =TRUNC((D10)*I12/100) -> #REF! | E12: (노무비) * 3.56 % | I12: 3.56 | J12: 1 | K12: =D12*J12 -> #REF!
A13: 공 | C13: 고 용 보 험 료 | D13: =TRUNC((D10)*I13/100) -> #REF! | E13: (노무비) * 1.01 % | I13: 1.01 | J13: 1 | K13: =D13*J13 -> #REF!
B14: 경 | C14: 건 강 보 험 료 | D14: =TRUNC((D8)*I14/100) -> #REF! | E14: (직접 노무비) * 3.545 % | I14: 3.545 | J14: 1 | K14: =D14*J14 -> #REF!
C15: 연 금 보 험 료 | D15: =TRUNC((D8)*I15/100) -> #REF! | E15: (직접 노무비) * 4.5 % | I15: 4.5 | J15: 1 | K15: =D15*J15 -> #REF!
C16: 퇴 직 금 공 제 | D16: =TRUNC((D8)*I16/100) -> #REF! | E16: (직접 노무비) * 2.3 % | I16: 2.3 | J16: 1 | K16: =D16*J16 -> #REF!
C17: 안 전 관 리 비(A) | D17: =TRUNC((D7+D8+L34/1.1)*I17/100)+4325000 -> #REF! | E17: ((재+직노+도급관급/1.1)* 2.28 % + 기초액(4,325,000원) | I17: 2.28 | J17: 1 | K17: =D17*J17 -> #REF!
A18: 사 | C18: 안 전 관 리 비(B) | D18: =TRUNC(TRUNC((((D7+D8))*I18/100)+4325000)*1.2) -> #REF! | E18: ((재료+직노)* 2.28 %)*1.2 + 기초액(4,325,000원)(A,B중 작은 금액 적용!) | I18: 2.28 | J18: 1 | K18: =D18*J18 -> #REF!
C19: 기 타 경 비 | D19: =TRUNC((D7+D10)*I19/100) -> #REF! | E19: (재료+노무) * 5.0 % | I19: 5 | J19: 1 | K19: =D19*J19 -> #REF!
C20: 노인장기요양보험 | D20: =TRUNC((D14)*I20/100) -> #REF! | E20: (건강보험료) * 12.95 % | I20: 12.95 | J20: 1 | K20: =D20*J20 -> #REF!
K21: =D21*J21 -> 0
B22: 비 | K22: =D22*J22 -> 0
A23: 비 | K23: =D23*J23 -> 0
K24: =D24*J24 -> 0
K25: =D25*J25 -> 0
C26: ( 소 계 ) | D26: =SUM(D11:D25)-D17 -> #REF! | K26: =D26*J26 -> #REF!
A27: 일 반 관 리 비 | D27: =TRUNC((D7+D10+D26)*I27/100) -> #REF! | E27: (재료+노무+경비) * 5.5 % | I27: 5.5 | J27: 1 | K27: =D27*J27 -> #REF!
A28: 이 윤 | D28: =TRUNC(((D10+D26+D27))*I28/100-303/1.1) -> #REF! | E28: (노무+경비+일반관리비) * 15.0 % | I28: 15 | J28: 1 | K28: =D28*J28 -> #REF!
A29: ( 총 원 가 ) | D29: =SUM(K5:K28)-D17 -> #REF! | K29: =D29*J29 -> #REF!
A30: 부 가 가 치 세 | D30: =TRUNC((D29)*I30/100) -> #REF! | I30: 10 | J30: 1 | K30: =D30*J30 -> #REF!
A31: ( 합 계 ) | D31: =SUM(D29:D30) -> #REF! | K31: =D31*J31 -> #REF!
A32: 관 급(총 괄) | D32: =D33+D34 -> #REF! | K32: =D32*J32 -> #REF!
A33: 관 급(관급자설치) | D33: =옵션!$F$4 -> #REF! | J33: 1 | K33: =D33*J33 -> #REF!
A34: 관 급(도급자설치) | D34: =옵션!$F$3 -> #REF! | E34: 조달 수수료: 299,000원 | J34: 1 | K34: =D34*J34 -> #REF! | L34: =K34-299000 -> #REF! | N34: 55493000
A35: 사용전 검사비 | D35: 193000 | E35: 태양광:62.4KW (VAT포함) | J35: 1 | K35: =D35*J35 -> 193000
A36: 재해에방기술지도 | D36: 10637000 | J36: 1 | K36: =D36*J36 -> 10637000
A37: 총 공 사 비 | D37: =K37 -> #REF! | E37: 천원이하절사. | J37: 1 | K37: =SUM(K5:K36)-K17 -> #REF!

Sheet 총괄표
B1: 185 | D1: 총괄표 | AA1: 연속견적가로형식
A2: 번호 | B2: 공종코드 | C2: … | D2: 공 종 명 | E2: 규격 | F2: 단위 | G2: 수량 | H2: 재료비 | J2: 노무비 | M2: 경비 | P2: 계 | Q2: 비고
H3: 단가 | I3: 금액 | J3: 수량 | K3: 단가 | L3: 금액 | M3: 단가 | N3: 금액 | O3: 단가
B4: 공종줄 | D4: 유구읍행정복지센터
B5: 공종줄 | D5: 2. 유구읍행정복지센터
B6: 0201 | D6: 2-1.분전반 | F6: 식 | G6: 1 | H6: =내역서!I29 -> 45595000 | I6: =H6*G6 -> 45595000 | K6: =내역서!L29 -> 0 | L6: =K6*G6 -> 0 | M6: =내역서!N29 -> 246213 | N6: =M6*G6 -> 246213 | O6: 39102620 | P6: =I6+L6+N6 -> 45841213
B29: 02 | C29: Total | D29: ( 합 계 ) | I29: =SUM(I6:I28) -> 45595000 | L29: =SUM(L6:L28) -> 0 | N29: =SUM(N6:N28) -> 246213 | P29: =I29+L29+N29 -> 45841213

Sheet 내역서
B1: 523 | D1: 내역서 | W1: 노임 계산 정보 | AA1: 부속재 및 손료
A2: 번호 | B2: 공종코드 | C2: 코드 | D2: 명 칭 | E2: 규 격 | F2: 단위 | G2: 수량 | H2: 재료비 | J2: 노무비 | M2: 경비 | P2: 계 | Q2: 비고 | W2: 노임계 | X2: 전체(%) | Y2: 공종별(%) | Z2: 노임 소수 | AA2: CD배관재 | AB2: 일반배관재 | AC2: 소모재 | AD2: 자재계 | AE2: 노임계
H3: 단가 | I3: 금액 | J3: 수량 | K3: 단가 | L3: 금액 | M3: 단가 | N3: 금액 | O3: 단가 | AD3: =IF(옵션!$C$11 =0, "1", 옵션!$C$11) -> 1 | AE3: =IF(옵션!$C$12 =0, "1", 옵션!$C$12) -> 1
B4: 공종줄 | D4: 2.도급자관급::2-1.분전반
A5: MMA98014103 | B5: 0201 | C5: InMastDBNonCode | D5: 분전반 | E5: MCP-E | F5: 면 | G5: 1 | H5: ='내역서(행정복지센터)'!I72 -> 10704000 | I5: =H5*G5 -> 10704000 | J5: 1 | K5: 0 | L5: =K5*G5 -> 0 | M5: 0 | N5: =M5*G5 -> 0 | O5: 26515 | P5: =I5+L5+N5 -> 10704000
A6: MMA98014100 | B6: 0201 | C6: InMastDBNonCode | D6: 분전반 | E6: LN-전기실 | F6: 면 | G6: 1 | H6: ='내역서(행정복지센터)'!I140 -> 3870000 | I6: =H6*G6 -> 3870000 | J6: 1 | K6: 0 | L6: =K6*G6 -> 0 | M6: 0 | N6: =M6*G6 -> 0 | O6: 62618 | P6: =I6+L6+N6 -> 3870000
A7: MMA98014094 | B7: 0201 | C7: InMastDBNonCode | D7: 분전반 | E7: LN-1-M | F7: 면 | G7: 1 | H7: ='내역서(행정복지센터)'!I203 -> 4331000 | I7: =H7*G7 -> 4331000 | J7: 1 | K7: 0 | L7: =K7*G7 -> 0 | M7: 0 | N7: =M7*G7 -> 0 | O7: 19808 | P7: =I7+L7+N7 -> 4331000
A8: MMA98014095 | B8: 0201 | C8: InMastDBNonCode | D8: 분전반 | E8: LN-1-화장실 | F8: 면 | G8: 1 | H8: ='내역서(행정복지센터)'!I264 -> 1649000 | I8: =H8*G8 -> 1649000 | J8: 1 | K8: 0 | L8: =K8*G8 -> 0 | M8: 0 | N8: =M8*G8 -> 0 | O8: 26515 | P8: =I8+L8+N8 -> 1649000
A9: MMA98014096 | B9: 0201 | C9: InMastDBNonCode | D9: 분전반 | E9: LN-행정 | F9: 면 | G9: 1 | H9: ='내역서(행정복지센터)'!I310 -> 2231000 | I9: =H9*G9 -> 2231000 | J9: 1 | K9: 0 | L9: =K9*G9 -> 0 | M9: 0 | N9: =M9*G9 -> 0 | O9: 62618 | P9: =I9+L9+N9 -> 2231000
A10: MMA98014097 | B10: 0201 | C10: InMastDBNonCode | D10: 분전반 | E10: LN-2-M | F10: 면 | G10: 1 | H10: ='내역서(행정복지센터)'!I357 -> 4331000 | I10: =H10*G10 -> 4331000 | J10: 1 | K10: 0 | L10: =K10*G10 -> 0 | M10: 0 | N10: =M10*G10 -> 0 | O10: 13678 | P10: =I10+L10+N10 -> 4331000
A11: MMA98014098 | B11: 0201 | C11: InMastDBNonCode | D11: 분전반 | E11: LN-2-화장실 | F11: 면 | G11: 1 | H11: ='내역서(행정복지센터)'!I418 -> 1649000 | I11: =H11*G11 -> 1649000 | J11: 1 | K11: 0 | L11: =K11*G11 -> 0 | M11: 0 | N11: =M11*G11 -> 0 | O11: 26515 | P11: =I11+L11+N11 -> 1649000
A12: MMA98014099 | B12: 0201 | C12: InMastDBNonCode | D12: 분전반 | E12: LN-다목적 | F12: 면 | G12: 1 | H12: ='내역서(행정복지센터)'!I464 -> 1557000 | I12: =H12*G12 -> 1557000 | J12: 1 | K12: 0 | L12: =K12*G12 -> 0 | M12: 0 | N12: =M12*G12 -> 0 | O12: 62618 | P12: =I12+L12+N12 -> 1557000
A13: MMA98014102 | B13: 0201 | C13: InMastDBNonCode | D13: 분전반 | E13: LN-EHP-RF | F13: 면 | G13: 1 | H13: ='내역서(행정복지센터)'!I509 -> 3666000 | I13: =H13*G13 -> 3666000 | J13: 1 | K13: 0 | L13: =K13*G13 -> 0 | M13: 0 | N13: =M13*G13 -> 0 | O13: 19808 | P13: =I13+L13+N13 -> 3666000
A14: MMA98014101 | B14: 0201 | C14: InMastDBNonCode | D14: 분전반 | E14: LN-ELEV | F14: 면 | G14: 1 | H14: ='내역서(행정복지센터)'!I573 -> 1454000 | I14: =H14*G14 -> 1454000 | J14: 1 | K14: 0 | L14: =K14*G14 -> 0 | M14: 0 | N14: =M14*G14 -> 0 | O14: 62618 | P14: =I14+L14+N14 -> 1454000
A15: MMA98014101 | B15: 0201 | C15: InMastDBNonCode | D15: 분전반 | E15: MCC-F | F15: 면 | G15: 1 | H15: ='내역서(행정복지센터)'!I651 -> 10153000 | I15: =H15*G15 -> 10153000 | J15: 1 | K15: 0 | L15: =K15*G15 -> 0 | M15: 0 | N15: =M15*G15 -> 0 | O15: 62618 | P15: =I15+L15+N15 -> 10153000
A16: MM009839352 | B16: 0201 | C16: 391115ZZ701Z0001 | D16: 조달 수수료(20) | E16: 0.54% | F16: 식 | G16: 1 | I16: =H16*G16 -> 0 | J16: 1 | K16: 0 | L16: =K16*G16 -> 0 | M16: =SUM(P5:P15)*E16 -> 246213 | N16: =M16*G16 -> 246213 | O16: 13678 | P16: =I16+L16+N16 -> 246213
AE17: 0
B29: 합계줄 | D29: ( 합 계 ) | I29: =SUM(I5:I28) -> 45595000 | L29: =SUM(L5:L28) -> 0 | N29: =SUM(N5:N28) -> 246213 | P29: =SUM(P5:P28) -> 45841213

Sheet 내역서(행정복지센터)
A1: 품 명 | B1: 규 격 | C1: 수량 | D1: 단위 | E1: 재료비 | G1: 노무비 | I1: 합 계 | J1: 비 고
E2: 단 가 | F2: 금 액 | G2: 단 가 | H2: 금 액 | K2: 전기 | L2: 전선 | M2: 부품 | N2: 단순
A3: MCP-E
A4: A. 재료비
A5: 외함 | B5: 700Wx1600Hx200D | C5: 1 | D5: 면 | E5: 1500000 | F5: =INT(E5*C5) -> 1500000
A6: NAME PLATE | B6: 아크릴 (L) | C6: =C5 -> 1 | D6: EA | E6: 3600 | F6: =INT(E6*C6) -> 3600
A7: NAME PLATE (기동용) | B7: 아크릴 (S) | C7: 6 | D7: EA | E7: 500 | F7: =INT(E7*C7) -> 3000
A8: DOOR HANDLE | B8: W/KEY (L) | C8: =C5*2 -> 2 | D8: EA | E8: 8000 | F8: =INT(E8*C8) -> 16000
A9: DIAZED FUSE | B9: 25A 이하 W/COVER | C9: 3 | D9: EA | E9: 3000 | F9: =INT(E9*C9) -> 9000
A10: MAIN BUS BAR | B10: 5.0 mm x 30 mm | C10: =C5*10 -> 10 | D10: m | E10: =T10 -> 22094.25 | F10: =INT(E10*C10) -> 220942 | J10: 전기0.08 단순0.06 | K10: =0.08*C10 -> 0.8 | N10: =0.06*C10 -> 0.6 | O10: =0.08*C10 -> 0.8 | P10: 5 | Q10: 30 | R10: =Q10*P10*0.0089 -> 1.335 | S10: 16550 | T10: =S10*R10 -> 22094.25
A11: AIR SHINK TUBE (600V이하) | B11: 5.0 mm x 30 mm | C11: =C10 -> 10 | D11: m | E11: 4200 | F11: =INT(E11*C11) -> 42000
A12: EARTH BAR | B12: 3.0 mm x 30 mm | C12: =C5*0.6 -> 0.6 | D12: m | E12: =T12 -> 13256.55 | F12: =INT(E12*C12) -> 7953 | J12: 전기0.09 단순0.07 | K12: =0.09*C12 -> 0.054 | N12: =0.07*C12 -> 0.042 | O12: =0.08*C12 -> 0.048 | P12: 3 | Q12: 30 | R12: =Q12*P12*0.0089 -> 0.801 | S12: 16550 | T12: =S12*R12 -> 13256.55
A13: MAIN MCCB | B13: 표준형 4P 600V 50AF | C13: 1 | D13: EA | E13: 66900 | F13: =INT(E13*C13) -> 66900 | J13: 전선0.338 | L13: =0.338*C13 -> 0.338
A14: BUS BAR COATING | B14: Sn | C14: =R10*C10 -> 13.35 | D14: m | E14: 2000 | F14: =INT(E14*C14) -> 26700
A15: EPOXY INSULATOR | B15: 600V 40x40mm | C15: =C5*8 -> 8 | D15: EA | E15: 1200 | F15: =INT(E15*C15) -> 9600 | J15: 전기0.02 | K15: =0.02*C15 -> 0.16
A16: PVC DUCT | B16: 30x40x2m W/COVER | C16: =C5*3 -> 3 | D16: EA | E16: 1800 | F16: =INT(E16*C16) -> 5400
A17: PVC DUCT | B17: 40x60x2m W/COVER | C17: =C5*3 -> 3 | D17: EA | E17: 3000 | F17: =INT(E17*C17) -> 9000
A18: P.T | B18: 380V/110V 50VA | C18: 3 | D18: EA | E18: 40000 | F18: =INT(E18*C18) -> 120000 | J18: 전선0.4 | L18: =0.4*C18 -> 1.2
A19: C.T | B19: 1150V 5~300/5A | C19: 3 | D19: EA | E19: 8500 | F19: =INT(E19*C19) -> 25500 | J19: 전선0.4 | L19: =0.4*C19 -> 1.2
A20: DIGITAL METER | B20: GIMAC 1000 | C20: 1 | D20: EA | E20: 793000 | F20: =INT(E20*C20) -> 793000 | J20: 전기0.38 | K20: =0.38*C20 -> 0.38
A21: M C C B (표준형) | B21: 4P 600V 50AF | C21: 1 | D21: EA | E21: 66900 | F21: =INT(E21*C21) -> 66900 | J21: 전선0.338 | L21: =0.338*C21 -> 0.338
A22: S.P.D | B22: 3P4W 40KA | C22: 1 | D22: EA | E22: 240000 | F22: =INT(C22*E22) -> 240000 | J22: 전기0.24 | K22: =0.24*C22 -> 0.24
A23: 이면배선 | B23: KIV 2.5 ㎟ | C23: 50 | D23: m | E23: 290 | F23: =INT(E23*C23) -> 14500 | J23: 전선0.055 | L23: =C23*0.055 -> 2.75
A24: 직입기동 3상 1.5KW | C24: 4 | D24: UNIT
A25: MCCB | B25: 표준형 3P 600V 50AF | C25: =C24 -> 4 | D25: EA | E25: 53600 | F25: =INT(E25*C25) -> 214400 | J25: 전선0.26 | L25: =0.26*C25 -> 1.04
A26: NFB HANDLE | B26: 60AF | C26: =C24 -> 4 | D26: EA | E26: 17600 | F26: =INT(E26*C26) -> 70400
A27: E M P R (DMP-TZ) | B27: 표준 지락보호용 0.5~6A/5~60A | C27: =C24 -> 4 | D27: EA | E27: 131700 | F27: =INT(E27*C27) -> 526800 | J27: 전기0.28 | K27: =0.28*C27 -> 1.12
A28: Z.C.T | B28: 600V 100A | C28: =C27 -> 4 | D28: EA | E28: 7800 | F28: =INT(E28*C28) -> 31200 | J28: 전기0.4 | K28: =0.4*C28 -> 1.6
A29: MC | B29: MC-9b | C29: =C24 -> 4 | D29: EA | E29: 13800 | F29: =INT(E29*C29) -> 55200 | J29: 전선0.3 | L29: =0.3*C29 -> 1.2
A30: AUX-R | B30: AC 2a2b | C30: =C24 -> 4 | D30: EA | E30: 9800 | F30: =INT(E30*C30) -> 39200 | J30: 전기0.2 | K30: =0.2*C30 -> 0.8
A31: LOAD TB | B31: 3P 60A | C31: =C24 -> 4 | D31: EA | E31: 1150 | F31: =INT(E31*C31) -> 4600
A32: LOAD WIRE | B32: KIV 16㎟ | C32: =C24*6 -> 24 | D32: m | E32: 1829 | F32: =INT(E32*C32) -> 43896 | J32: 전선0.023 | L32: =C32*0.023 -> 0.552
A33: STAB(1차) | B33: 3P 60A | C33: =C24 -> 4 | D33: EA | E33: 15000 | F33: =INT(E33*C33) -> 60000
A34: DIAZED FUSE | B34: 25A 이하 W/COVER | C34: =C24 -> 4 | D34: EA | E34: 2000 | F34: =INT(E34*C34) -> 8000
A35: CONDENSER | B35: 380/440V 3Φ 10uF | C35: =C24 -> 4 | D35: EA | E35: 8600 | F35: =INT(E35*C35) -> 34400 | J35: 전선0.091 | L35: =0.091*C35 -> 0.364
A36: 이면배선 | B36: KIV 2.5 ㎟ | C36: =C24*30 -> 120 | D36: m | E36: 290 | F36: =INT(E36*C36) -> 34800 | J36: 전선0.055 | L36: =C36*0.055 -> 6.6
A37: 4P 50AF | C37: 1 | D37: UNIT
A38: MCCB | B38: 표준형 4P 600V 50AF | C38: =C37 -> 1 | D38: EA | E38: 66900 | F38: =INT(E38*C38) -> 66900 | J38: 전선0.338 | L38: =0.338*C38 -> 0.338
A39: NFB HANDLE | B39: 60AF | C39: =C37 -> 1 | D39: EA | E39: 17600 | F39: =INT(E39*C39) -> 17600
A40: LOAD TB | B40: 4P 60A | C40: =C37 -> 1 | D40: EA | E40: 3050 | F40: =INT(E40*C40) -> 3050
...

Sheet 일대목차
B1: 159 | C1: 일위대가목차
A2: 번호 | B2: … | C2: 코드 | D2: 명 칭 | E2: 규 격 | F2: 단위 | G2: 수량 | H2: 재료비 | J2: 노무비 | M2: 경비 | O2: 계 | P2: 계 | Q2: 비고
H3: 단가 | I3: 금액 | J3: 수량 | K3: 단가 | L3: 금액 | M3: 단가 | N3: 금액 | O3: 단가
B4: 공종줄 | C4: AGAIN행복센터
A5: 56930210010 | B5: ABB111100000 | C5: 제 1호 | D5: 인력터파기 | E5: 보통토사0-1m | F5: ㎥_ | H5: 0 | I5: 0 | K5: 33960 | L5: 33960 | M5: 0 | N5: 0 | O5: 33960 | P5: 33960
A6: 56930210021 | B6: ABD100001000 | C6: 제 2호 | D6: 인력되메우기 | E6: 보통토사0-1m | F6: ㎥_ | H6: 0 | I6: 0 | K6: 18678 | L6: 18678 | M6: 0 | N6: 0 | O6: 18678 | P6: 18678
A7: 56930220040 | B7: ABB103100000 | C7: 제 3호 | D7: 터파기(기계90%,인력10%) | E7: 보통토사 | F7: ㎥ | H7: 381 | I7: 381 | K7: 714 | L7: 714 | M7: 367 | N7: 367 | O7: 1462 | P7: 1462
A8: 56930220053 | B8: ABB104100000 | C8: 제 4호 | D8: 되메우기(기계90%,인력10%) | E8: 보통토사 | F8: ㎥ | H8: 274 | I8: 274 | K8: 521 | L8: 521 | M8: 264 | N8: 264 | O8: 1059 | P8: 1059
A9: 56930220102 | B9: ABC112700000 | C9: 제 5호 | D9: 인력잔토처리 | E9: 현장처리 | F9: ㎥_ | H9: 0 | I9: 0 | K9: 33960 | L9: 33960 | M9: 0 | N9: 0 | O9: 33960 | P9: 33960
A10: 56930250040 | B10: ABD102300000 | C10: 제 6호 | D10: 잡석깔기지정 | E10: 떨공이다지기 | F10: ㎥ | H10: 33091 | I10: 33091 | K10: 3056 | L10: 3056 | M10: 0 | N10: 0 | O10: 36147 | P10: 36147
A11: 56950120082 | B11: EAA110180000 | C11: 제 7호 | D11: 파이프행가 | E11: 82 C | F11: 개소 | H11: 2945 | I11: 2945 | K11: 14521 | L11: 14521 | M11: 0 | N11: 0 | O11: 17466 | P11: 17466
A12: 56950120104 | B12: EAA110200000 | C12: 제 8호 | D12: 파이프행가 | E12: 104 C | F12: 개소 | H12: 3132 | I12: 3132 | K12: 14521 | L12: 14521 | M12: 0 | N12: 0 | O12: 17653 | P12: 17653
A13: 56950160300 | B13: EAA110430000 | C13: 제 9호 | D13: TRAY/DUCT HANGER | E13: W300-1단 | F13: 개소 | H13: 6794 | I13: 6794 | K13: 0 | L13: 0 | M13: 0 | N13: 0 | O13: 6794 | P13: 6794
A14: 56950160500 | B14: EAA110450000 | C14: 제 10호 | D14: TRAY/DUCT HANGER | E14: W500-1단 | F14: 개소 | H14: 7756 | I14: 7756 | K14: 0 | L14: 0 | M14: 0 | N14: 0 | O14: 7756 | P14: 7756
A15: 56950170114 | B15: EAA110640000 | C15: 제 11호 | D15: TRAY/DUCT SUPPORT(W/F) | E15: W300-1단 | F15: 개소 | H15: 4840 | I15: 4840 | K15: 0 | L15: 0 | M15: 0 | N15: 0 | O15: 4840 | P15: 4840
A16: 56950170153 | B16: EAZ800010000 | C16: 제 12호 | D16: 닥트및트레이 | E16: 바닥지지 W300 | F16: 개소 | H16: 3148 | I16: 3148 | K16: 0 | L16: 0 | M16: 0 | N16: 0 | O16: 3148 | P16: 3148
... A123: 56958000096 | B123: EAZ700960000 | C123: 제 119호 | D123: 케이블표지시트 | E123: 저압, 0.15x150 | F123: m | H123: 729 | I123: 729 | K123: 319 | L123: 319 | M123: 0 | N123: 0 | O123: 1048 | P123: 1048
A124: 56958000097 | B124: EAZ700970000 | C124: 제 120호 | D124: 카운터센서 | F124: EA | H124: 80524 | I124: 80524 | K124: 17479 | L124: 17479 | M124: 0 | N124: 0 | O124: 98003 | P124: 98003
A125: 56958000098 | B125: EAZ700980000 | C125: 제 121호 | D125: 카운터절전스위치 | F125: EA | H125: 240524 | I125: 240524 | K125: 17479 | L125: 17479 | M125: 0 | N125: 0 | O125: 258003 | P125: 258003
A126: 56958000099 | B126: EAZ700990000 | C126: 제 122호 | D126: 철근클램프 | E126: 구조체접속 | F126: EA | H126: 7661 | I126: 7661 | K126: 5378 | L126: 5378 | M126: 0 | N126: 0 | O126: 13039 | P126: 13039
A127: 56958000100 | B127: EAZ701000000 | C127: 제 123호 | D127: C형 슬리브 | E127: 70SQ | F127: EA | H127: 3982 | I127: 3982 | K127: 26084 | L127: 26084 | M127: 0 | N127: 0 | O127: 30066 | P127: 30066
A128: 56958000101 | B128: EAZ701010000 | C128: 제 124호 | D128: SUS접지모듈 | E128: (100×100×1200) | F128: EA | H128: 454521 | I128: 454521 | K128: 150716 | L128: 150716 | M128: 0 | N128: 0 | O128: 605237 | P128: 605237
A129: 56958000102 | B129: EAZ701020000 | C129: 제 125호 | D129: 접지저감재 | E129: 그린어스 탄소형 | F129: 포 | H129: 45887 | I129: 45887 | K129: 29580 | L129: 29580 | M129: 0 | N129: 0 | O129: 75467 | P129: 75467
A130: 56958000103 | B130: EAZ701030000 | C130: 제 126호 | D130: 수막처리봉 | E130: 300L | F130: EA | H130: 41565 | I130: 41565 | K130: 52169 | L130: 52169 | M130: 0 | N130: 0 | O130: 93734 | P130: 93734
A131: 56958000104 | B131: EAZ701040000 | C131: 제 127호 | D131: 대지고유저항 측정 및 분석 | F131: POINT | H131: 14952 | I131: 14952 | K131: 498404 | L131: 498404 | M131: 0 | N131: 0 | O131: 513356 | P131: 513356
A132: 56958000105 | B132: EAZ701050000 | C132: 제 128호 | D132: 접지저항 측정 | F132: 기 | H132: 2632 | I132: 2632 | K132: 87754 | L132: 87754 | M132: 0 | N132: 0 | O132: 90386 | P132: 90386
A133: 56958000106 | B133: EAZ701060000 | C133: 제 129호 | D133: 수평도체 | E133: 알루미늄 8mm | F133: m | H133: 4407 | I133: 4407 | K133: 5929 | L133: 5929 | M133: 0 | N133: 0 | O133: 10336 | P133: 10336
A134: 56958000107 | B134: EAZ701070000 | C134: 제 130호 | D134: 칼블럭(지지금구 고정) | E134: 지지금구 * 2 | F134: EA | H134: 425 | I134: 425 | K134: 7529 | L134: 7529 | M134: 0 | N134: 0 | O134: 7954 | P134: 7954
A135: 56958000108 | B135: EAZ701080000 | C135: 제 131호 | D135: S2피뢰침 | E135: 1M(알루미늄) | F135: EA | H135: 50177 | I135: 50177 | K135: 5929 | L135: 5929 | M135: 0 | N135: 0 | O135: 56106 | P135: 56106
A136: 56958000109 | B136: EAZ701090000 | C136: 제 132호 | D136: 구조체접속 | E136: 철근클램프 | F136: EA | H136: 7661 | I136: 7661 | K136: 5378 | L136: 5378 | M136: 0 | N136: 0 | O136: 13039 | P136: 13039
A137: 56958000110 | B137: EAZ701100000 | C137: 제 133호 | D137: 그라운드 패드 | F137: EA | H137: 31290 | I137: 31290 | K137: 43026 | L137: 43026 | M137: 0 | N137: 0 | O137: 74316 | P137: 74316
A138: 56958000111 | B138: EAZ701110000 | C138: 제 134호 | D138: 이질슬리브 | F138: EA | H138: 12782 | I138: 12782 | K138: 26084 | L138: 26084 | M138: 0 | N138: 0 | O138: 38866 | P138: 38866
A139: 56958000112 | B139: EAZ701120000 | C139: 제 135호 | D139: 번디클램프 | E139: 철근콘크리트 내 죔쇠접속 | F139: EA | H139: 7917 | I139: 7917 | K139: 7260 | L139: 7260 | M139: 0 | N139: 0 | O139: 15177 | P139: 15177
A140: 56958000113 | B140: EAZ701130000 | C140: 제 136호 | D140: 분전반(어게인행복센터)-@관급 | E140: LN-1-M | F140: 면 | H140: 9922 | I140: 9922 | K140: 330765 | L140: 330765 | M140: 0 | N140: 0 | O140: 340687 | P140: 340687
A141: 56958000114 | B141: EAZ701140000 | C141: 제 137호 | D141: 분전반(어게인행복센터)-@관급 | E141: LN-1-화장실 | F141: 면 | H141: 9922 | I141: 9922 | K141: 330765 | L141: 330765 | M141: 0 | N141: 0 | O141: 340687 | P141: 340687
A142: 56958000115 | B142: EAZ701150000 | C142: 제 138호 | D142: 분전반(어게인행복센터)-@관급 | E142: LN-2-M | F142: 면 | H142: 9922 | I142: 9922 | K142: 330765 | L142: 330765 | M142: 0 | N142: 0 | O142: 340687 | P142: 340687
A143: 56958000116 | B143: EAZ701160000 | C143: 제 139호 | D143: 분전반(어게인행복센터)-@관급 | E143: LN-2-화장실 | F143: 면 | H143: 9922 | I143: 9922 | K143: 330765 | L143: 330765 | M143: 0 | N143: 0 | O143: 340687 | P143: 340687
A144: 56958000117 | B144: EAZ701170000 | C144: 제 140호 | D144: 분전반(어게인행복센터)-@관급 | E144: LN-EHP-RF | F144: 면 | H144: 9922 | I144: 9922 | K144: 330765 | L144: 330765 | M144: 0 | N144: 0 | O144: 340687 | P144: 340687
A145: 56958000118 | B145: EAZ701180000 | C145: 제 141호 | D145: 분전반(어게인행복센터)-@관급 | E145: LN-ELEV | F145: 면 | H145: 9922 | I145: 9922 | K145: 330765 | L145: 330765 | M145: 0 | N145: 0 | O145: 340687 | P145: 340687
A146: 56958000119 | B146: EAZ701190000 | C146: 제 142호 | D146: 분전반(어게인행복센터)-@관급 | E146: LN-건강관리 | F146: 면 | H146: 9922 | I146: 9922 | K146: 330765 | L146: 330765 | M146: 0 | N146: 0 | O146: 340687 | P146: 340687
...

Sheet 일위대가
B1: 1121 | D1: 일위대가표 | W1: 노임 계산 정보 | AA1: 부속재 및 손료
A2: 번호 | B2: 목차코드 | C2: 코드 | D2: 명 칭 | E2: 규 격 | F2: 단위 | G2: 수량 | H2: 재료비 | J2: 노무비 | M2: 경비 | P2: 계 | Q2: 비고 | W2: 노임계 | X2: 전체(%) | Y2: 공종별(%) | Z2: 노임 소수 | AA2: CD배관재 | AB2: 일반배관재 | AC2: 소모재 | AD2: 자재계 | AE2: 노임계
H3: 단가 | I3: 금액 | J3: 수량 | K3: 단가 | L3: 금액 | M3: 단가 | N3: 금액 | O3: 단가 | AD3: 1 | AE3: 1
B4: 공종줄 | D4: AGAIN행복센터
A5: 56930210010 | B5: 일목줄 | C5: ABB111100000 | D5: [제 1호] 인력터파기 보통토사0-1m [㎥_]
A6: 56900017041 | B6: 제 1호 | C6: L001010101000002 | D6: 노 무 비 | E6: 보통인부 | F6: 인 | G6: 0.2 | H6: 0 | J6: 0.2 | K6: 169804 | L6: 33960.8 | M6: 0 | O6: 169804 | P6: 33960.8 | AE6: =L6 -> 33960.8
B7: 합계줄 | D7: ( 합 계 ) | I7: 0 | L7: 33960 | N7: 0 | P7: 33960 | AE7: =TRUNC(SUM(AE5:AE6)) -> 33960
A9: 56930210021 | B9: 일목줄 | C9: ABD100001000 | D9: [제 2호] 인력되메우기 보통토사0-1m [㎥_]
A10: 56900017041 | B10: 제 2호 | C10: L001010101000002 | D10: 노 무 비 | E10: 보통인부 | F10: 인 | G10: 0.11 | H10: 0 | J10: 0.11 | K10: 169804 | L10: 18678.4 | M10: 0 | O10: 169804 | P10: 18678.4 | AE10: =L10 -> 18678.4
B11: 합계줄 | D11: ( 합 계 ) | I11: 0 | L11: 18678 | N11: 0 | P11: 18678 | AE11: =TRUNC(SUM(AE9:AE10)) -> 18678
A13: 56930220040 | B13: 일목줄 | C13: ABB103100000 | D13: [제 3호] 터파기(기계90%,인력10%) 보통토사 [㎥]
A14: 56930210010 | B14: 제 3호 | C14: ABB111100000 | D14: 인력터파기 | E14: 보통토사0-1m | F14: ㎥_ | G14: 0.1 | H14: 0 | J14: 0.1 | K14: 33960 | L14: 3396 | M14: 0 | O14: 33960 | P14: 3396 | Q14: 제 1호 | R14: ILD
A15: CA565826042 | B15: 제 3호 | C15: ECA565826042 | D15: 기계터파기 | E15: 보통토사(0.6㎥/43.6) | F15: ㎥ | G15: 0.9 | H15: 427 | I15: 384.3 | J15: 0.9 | K15: 1302 | L15: 1171.8 | M15: 589 | N15: 530.1 | O15: 2318 | P15: 2086.2 | Q15: 164-하 | R15: ILD
B16: 합계줄 | D16: ( 합 계 ) | I16: 381 | L16: 724 | N16: 367 | P16: 1472 | S16: 건축금액적용_VE | AE16: =TRUNC(SUM(AE13:AE15)) -> 0
A18: 56930220053 | B18: 일목줄 | C18: ABB104100000 | D18: [제 4호] 되메우기(기계90%,인력10%) 보통토사 [㎥]
A19: 56930210021 | B19: 제 4호 | C19: ABD100001000 | D19: 인력되메우기 | E19: 보통토사0-1m | F19: ㎥_ | G19: 0.1 | H19: 0 | J19: 0.1 | K19: 18678 | L19: 1867.8 | M19: 0 | O19: 18678 | P19: 1867.8 | Q19: 제 2호 | R19: ILD
A20: CA565826051 | B20: 제 4호 | C20: ECA565826051 | D20: 기계되메우기 | E20: 보통토사(0.6㎥/43.6) | F20: ㎥ | G20: 0.9 | H20: 427 | I20: 384.3 | J20: 0.9 | K20: 1302 | L20: 1171.8 | M20: 589 | N20: 530.1 | O20: 2318 | P20: 2086.2 | Q20: 164-하 | R20: ILD
B21: 합계줄 | D21: ( 합 계 ) | I21: 274 | L21: 521 | N21: 264 | P21: 1059 | S21: 건축금액적용_VE | AE21: =TRUNC(SUM(AE18:AE20)) -> 0
A23: 56930220102 | B23: 일목줄 | C23: ABC112700000 | D23: [제 5호] 인력잔토처리 현장처리 [㎥_]
A24: 56900017041 | B24: 제 5호 | C24: L001010101000002 | D24: 노 무 비 | E24: 보통인부 | F24: 인 | G24: 0.2 | H24: 0 | J24: 0.2 | K24: 169804 | L24: 33960.8 | M24: 0 | O24: 169804 | P24: 33960.8 | AE24: =L24 -> 33960.8
B25: 합계줄 | D25: ( 합 계 ) | I25: 0 | L25: 33960 | N25: 0 | P25: 33960 | AE25: =TRUNC(SUM(AE23:AE24)) -> 33960
A27: 56930250040 | B27: 일목줄 | C27: ABD102300000 | D27: [제 6호] 잡석깔기지정 떨공이다지기 [㎥]
A28: 56100047001 | B28: 제 6호 | C28: 1111161120142610 | D28: 자갈 | E28: 상차도 | F28: ㎥ | G28: 1.1 | H28: 30000 | I28: 33000 | J28: 1.1 | K28: 0 | M28: 0 | O28: 30000 | P28: 33000
A29: 56900017041 | B29: 제 6호 | C29: L001010101000002 | D29: 노 무 비 | E29: 보통인부 | F29: 인 | G29: 0.018 | H29: 0 | J29: 0.018 | K29: 169804 | L29: 3056.4 | M29: 0 | O29: 169804 | P29: 3056.4 | AE29: =L29 -> 3056.4
A30: A0300000000 | B30: 제 6호 | C30: RENT000000000006 | D30: [ 공 구 손 료 ] | E30: 노무비의 3 % | F30: 식 | G30: 1 | H30: 91.6 | I30: 91.6 | J30: 1 | O30: 91.6 | P30: 91.6
B31: 합계줄 | D31: ( 합 계 ) | I31: 33091 | L31: 3056 | N31: 0 | P31: 36147 | AC31: =TRUNC(AE31*옵션!$B$36/100,1) -> 91.6 | AD31: =TRUNC(SUM(L27:L29)) -> 3056 | AE31: =TRUNC(SUM(AE27:AE30)) -> 3056
A33: 56950120082 | B33: 일목줄 | C33: EAA110180000 | D33: [제 7호] 파이프행가 82 C [개소]
A34: 59759017118 | B34: 제 7호 | C34: 3913170810036364 | D34: 강재전선관용 부품 | E34: 파이프행거, 82 C | F34: 개 | G34: 1 | H34: 1082 | I34: 1082 | J34: 1 | K34: 0 | M34: 0 | O34: 1082 | P34: 1082
A35: 53060327011 | B35: 제 7호 | C35: 3116169820135160 | D35: 행거볼트 | E35: ∮9×1000㎜ | F35: 개 | G35: 1 | H35: 1220 | I35: 1220 | J35: 1 | K35: 0 | M35: 0 | O35: 1220 | P35: 1220
A36: 53060807001 | B36: 제 7호 | C36: 3116210220135769 | D36: 스트롱앵커 | E36: 3/8 | F36: 개 | G36: 1 | H36: 130 | I36: 130 | J36: 1 | K36: 0 | M36: 0 | O36: 130 | P36: 130
A37: 53100028501 | B37: 제 7호 | C37: 3116172710023970 | D37: 6각너트 | E37: 3/8,M10 | F37: EA | G37: 2 | H37: 29 | I37: 58 | J37: 2 | K37: 0 | M37: 0 | O37: 29 | P37: 58
A38: 52100327001 | B38: 제 7호 | C38: 3116181120136195 | D38: 스프링와샤 | E38: D10 | F38: EA | G38: 2 | H38: 10 | I38: 20 | J38: 2 | K38: 0 | M38: 0 | O38: 10 | P38: 20
A39: 56900017016 | B39: 제 7호 | C39: L001010101000075 | D39: 노 무 비 | E39: 내선전공 | F39: 인 | G39: 0.054 | H39: 0 | J39: 0.054 | K39: 268915 | L39: 14521.4 | M39: 0 | O39: 268915 | P39: 14521.4 | AE39: =L39 -> 14521.4
A40: A0300000000 | B40: 제 7호 | C40: RENT000000000006 | D40: [ 공 구 손 료 ] | E40: 노무비의 3 % | F40: 식 | G40: 1 | H40: 435.6 | I40: 435.6 | J40: 1 | O40: 435.6 | P40: 435.6
B41: 합계줄 | D41: ( 합 계 ) | I41: 2945 | L41: 14521 | N41: 0 | P41: 17466 | AC41: =TRUNC(AE41*옵션!$B$36/100,1) -> 435.6 | AD41: =TRUNC(SUM(L33:L39)) -> 14521 | AE41: =TRUNC(SUM(AE33:AE40)) -> 14521
A43: 56950120104 | B43: 일목줄 | C43: EAA110200000 | D43: [제 8호] 파이프행가 104 C [개소]
A44: 59759017119 | B44: 제 8호 | C44: 3913170810036365 | D44: 강재전선관용 부품 | E44: 파이프행거, 104 C | F44: 개 | G44: 1 | H44: 1269 | I44: 1269 | J44: 1 | K44: 0 | M44: 0 | O44: 1269 | P44: 1269
A45: 53060327011 | B45: 제 8호 | C45: 3116169820135160 | D45: 행거볼트 | E45: ∮9×1000㎜ | F45: 개 | G45: 1 | H45: 1220 | I45: 1220 | J45: 1 | K45: 0 | M45: 0 | O45: 1220 | P45: 1220
A46: 53060807001 | B46: 제 8호 | C46: 3116210220135769 | D46: 스트롱앵커 | E46: 3/8 | F46: 개 | G46: 1 | H46: 130 | I46: 130 | J46: 1 | K46: 0 | M46: 0 | O46: 130 | P46: 130
A47: 53100028501 | B47: 제 8호 | C47: 3116172710023970 | D47: 6각너트 | E47: 3/8,M10 | F47: EA | G47: 2 | H47: 29 | I47: 58 | J47: 2 | K47: 0 | M47: 0 | O47: 29 | P47: 58
...

Sheet 일위노임
B1: 497 | D1: 일위노임 산출근거(2025년 상반기 노임) | AA1: 내선전공 | AB1: 저압케이블전공 | AC1: 배전전공 | AD1: 송전전공 | AE1: 전기공사산업기사 | AF1: 통신케이블공 | AG1: 보통인부 | AH1: 특별인부 | AI1: 내장공 | AJ1: 방수공 | AK1: 줄눈공 | AL1: 작업반장
A2: 번호 | B2: 공종코드 | C2: 코드 | D2: 명 칭 | E2: 규 격 | F2: 단위 | G2: 수량 | K2: 코드 | L2: 공량산출 | P2: 단 위 단 가 산 출 | S2: 품셈근거 | T2: 비고
G3: 결정수량 | H3: 할증 | I3: 산출수량 | J3: 재할% | L3: 명칭 | M3: 품셈 | N3: 할증% | O3: 공량 | P3: 단가 | Q3: 단위단가 | R3: 단위계
B4: 공종줄 | D4: AGAIN행복센터
B5: 공종줄 | D5: [ 제 1호 ] 인력터파기 보통토사0-1m [㎥_]
B6: 800 | C6: 391115ZZ701Z0008 | D6: 품셈 산출근거 | E6: 인력터파기 보통토사 0-1M | F6: 식 | G6: 1 | H6: =IF(I6<>0, G6-I6, "") -> 0 | I6: 1 | K6: 56900017041 | L6: 보통인부 | M6: 0.2 | N6: 100 | O6: =IF(I6*M6=0, "", I6*M6*(N6/100)) -> 0.2 | Q6: =TRUNC(P6*M6*N6/100) -> 0 | S6: 건설(공통)3-1-1 | AG6: =O6 -> 0.2
B7: 800 | C7: L001010101000002 | D7: 노 무 비 | E7: 보통인부 | F7: 인 | G7: =IF(H7*I7/100+0.000005 <1, TRUNC(H7*I7/100+0.000005, 옵션!$E$13), TRUNC(H7*I7/100+0.000005, 옵션!$E$13)) -> 0.2 | H7: =옵션!$B$13 -> 100 | I7: =SUM(AG6:AG6) -> 0.2 | O7: =IF(I7*M7=0, "", I7*M7*(N7/100)) | Q7: =TRUNC(P7*M7*N7/100) -> 0 | Z7: 노임계 | AG7: =SUM(AG6:AG6) -> 0.2
B8: 공종줄 | D8: [ 제 2호 ] 인력되메우기 보통토사0-1m [㎥_]
B9: 800 | C9: 391115ZZ701Z0006 | D9: 품셈 산출근거 | E9: 인력되메우기 보통토사 0-1M | F9: 식 | G9: 1 | H9: =IF(I9<>0, G9-I9, "") -> 0 | I9: 1 | K9: 56900017041 | L9: 보통인부 | M9: 0.11 | N9: 100 | O9: =IF(I9*M9=0, "", I9*M9*(N9/100)) -> 0.11 | Q9: =TRUNC(P9*M9*N9/100) -> 0 | S9: 건설(공통)3-2-1 | AG9: =O9 -> 0.11
B10: 800 | C10: L001010101000002 | D10: 노 무 비 | E10: 보통인부 | F10: 인 | G10: =IF(H10*I10/100+0.000005 <1, TRUNC(H10*I10/100+0.000005, 옵션!$E$13), TRUNC(H10*I10/100+0.000005, 옵션!$E$13)) -> 0.11 | H10: =옵션!$B$13 -> 100 | I10: =SUM(AG9:AG9) -> 0.11 | O10: =IF(I10*M10=0, "", I10*M10*(N10/100)) | Q10: =TRUNC(P10*M10*N10/100) -> 0 | Z10: 노임계 | AG10: =SUM(AG9:AG9) -> 0.11
B11: 공종줄 | D11: [ 제 5호 ] 인력잔토처리 현장처리 [㎥_]
B12: 800 | C12: 391115ZZ701Z0007 | D12: 품셈 산출근거 | E12: 인력잔토처리 현장처리 | F12: 식 | G12: 1 | H12: =IF(I12<>0, G12-I12, "") -> 0 | I12: 1 | K12: 56900017041 | L12: 보통인부 | M12: 0.2 | N12: 100 | O12: =IF(I12*M12=0, "", I12*M12*(N12/100)) -> 0.2 | Q12: =TRUNC(P12*M12*N12/100) -> 0 | S12: 건설(공통)3-3-1 | AG12: =O12 -> 0.2
B13: 800 | C13: L001010101000002 | D13: 노 무 비 | E13: 보통인부 | F13: 인 | G13: =IF(H13*I13/100+0.000005 <1, TRUNC(H13*I13/100+0.000005, 옵션!$E$13), TRUNC(H13*I13/100+0.000005, 옵션!$E$13)) -> 0.2 | H13: =옵션!$B$13 -> 100 | I13: =SUM(AG12:AG12) -> 0.2 | O13: =IF(I13*M13=0, "", I13*M13*(N13/100)) | Q13: =TRUNC(P13*M13*N13/100) -> 0 | Z13: 노임계 | AG13: =SUM(AG12:AG12) -> 0.2
B14: 공종줄 | D14: [ 제 6호 ] 잡석깔기지정 떨공이다지기 [㎥]
B15: 800 | C15: 391115ZZ701Z0009 | D15: 품셈 산출근거 | E15: 잡석깔기지정 떨공이다지기 | F15: 식 | G15: 1 | H15: =IF(I15<>0, G15-I15, "") -> 0 | I15: 1 | K15: 56900017041 | L15: 보통인부 | M15: 0.018 | N15: 100 | O15: =IF(I15*M15=0, "", I15*M15*(N15/100)) -> 0.018 | Q15: =TRUNC(P15*M15*N15/100) -> 0 | S15: 토목3-2-4 | AG15: =O15 -> 0.018
B16: 800 | C16: L001010101000002 | D16: 노 무 비 | E16: 보통인부 | F16: 인 | G16: =IF(H16*I16/100+0.000005 <1, TRUNC(H16*I16/100+0.000005, 옵션!$E$13), TRUNC(H16*I16/100+0.000005, 옵션!$E$13)) -> 0.018 | H16: =옵션!$B$13 -> 100 | I16: =SUM(AG15:AG15) -> 0.018 | O16: =IF(I16*M16=0, "", I16*M16*(N16/100)) | Q16: =TRUNC(P16*M16*N16/100) -> 0 | Z16: 노임계 | AG16: =SUM(AG15:AG15) -> 0.018
B17: 공종줄 | D17: [ 제 7호 ] 파이프행가 82 C [개소]
B18: 800 | C18: 3116210220135769 | D18: 스트롱앵커 | E18: 3/8 | F18: 개 | G18: 1 | H18: =IF(I18<>0, G18-I18, "") -> 0 | I18: 1 | K18: 56900017016 | L18: 내선전공 | M18: 0.036 | N18: 150 | O18: =IF(I18*M18=0, "", I18*M18*(N18/100)) -> 0.054 | Q18: =TRUNC(P18*M18*N18/100) -> 0 | S18: 전기5-29 | AA18: =O18 -> 0.054
B19: 800 | C19: L001010101000075 | D19: 노 무 비 | E19: 내선전공 | F19: 인 | G19: =IF(H19*I19/100+0.000005 <1, TRUNC(H19*I19/100+0.000005, 옵션!$E$13), TRUNC(H19*I19/100+0.000005, 옵션!$E$13)) -> 0.054 | H19: =옵션!$B$13 -> 100 | I19: =SUM(AA18:AA18) -> 0.054 | O19: =IF(I19*M19=0, "", I19*M19*(N19/100)) | Q19: =TRUNC(P19*M19*N19/100) -> 0 | Z19: 노임계 | AA19: =SUM(AA18:AA18) -> 0.054
B20: 공종줄 | D20: [ 제 8호 ] 파이프행가 104 C [개소]
B21: 800 | C21: 3116210220135769 | D21: 스트롱앵커 | E21: 3/8 | F21: 개 | G21: 1 | H21: =IF(I21<>0, G21-I21, "") -> 0 | I21: 1 | K21: 56900017016 | L21: 내선전공 | M21: 0.036 | N21: 150 | O21: =IF(I21*M21=0, "", I21*M21*(N21/100)) -> 0.054 | Q21: =TRUNC(P21*M21*N21/100) -> 0 | S21: 전기5-29 | AA21: =O21 -> 0.054
B22: 800 | C22: L001010101000075 | D22: 노 무 비 | E22: 내선전공 | F22: 인 | G22: =IF(H22*I22/100+0.000005 <1, TRUNC(H22*I22/100+0.000005, 옵션!$E$13), TRUNC(H22*I22/100+0.000005, 옵션!$E$13)) -> 0.054 | H22: =옵션!$B$13 -> 100 | I22: =SUM(AA21:AA21) -> 0.054 | O22: =IF(I22*M22=0, "", I22*M22*(N22/100)) | Q22: =TRUNC(P22*M22*N22/100) -> 0 | Z22: 노임계 | AA22: =SUM(AA21:AA21) -> 0.054
B23: 공종줄 | D23: [ 제 14호 ] 동력배관지지가대 배관용 [개소]
B24: 800 | C24: 3116210220135742 | D24: 셋트앵커 | E24: M8×L150mm | F24: 개 | G24: 4 | H24: =IF(I24<>0, G24-I24, "") -> 0 | I24: 4 | K24: 56900017016 | L24: 내선전공 | M24: 0.036 | N24: 100 | O24: =IF(I24*M24=0, "", I24*M24*(N24/100)) -> 0.144 | Q24: =TRUNC(P24*M24*N24/100) -> 0 | S24: 전기5-29 | AA24: =O24 -> 0.144
B25: 800 | C25: L001010101000075 | D25: 노 무 비 | E25: 내선전공 | F25: 인 | G25: =IF(H25*I25/100+0.000005 <1, TRUNC(H25*I25/100+0.000005, 옵션!$E$13), TRUNC(H25*I25/100+0.000005, 옵션!$E$13)) -> 0.144 | H25: =옵션!$B$13 -> 100 | I25: =SUM(AA24:AA24) -> 0.144 | O25: =IF(I25*M25=0, "", I25*M25*(N25/100)) | Q25: =TRUNC(P25*M25*N25/100) -> 0 | Z25: 노임계 | AA25: =SUM(AA24:AA24) -> 0.144
B26: 공종줄 | D26: [ 제 15호 ] 방화구획(내화충전) W 300 [개소]
B27: 800 | C27: 9998887770000074 | D27: 내화충전(패드) | E27: 500x500x30T | F27: 장 | G27: 1 | H27: =IF(I27<>0, G27-I27, "") -> 0 | I27: 1 | K27: 56900017029 | L27: 방수공 | M27: 0.09 | N27: 100 | O27: =IF(I27*M27=0, "", I27*M27*(N27/100)) -> 0.09 | Q27: =TRUNC(P27*M27*N27/100) -> 0 | S27: 전기3-39-1 | AJ27: =O27 -> 0.09
B28: 800 | C28: 9998887770000074 | G28: 1 | H28: =IF(I28<>0, G28-I28, "") -> 0 | I28: 1 | K28: 56900017017 | L28: 내장공 | M28: 0.17 | N28: 100 | O28: =IF(I28*M28=0, "", I28*M28*(N28/100)) -> 0.17 | Q28: =TRUNC(P28*M28*N28/100) -> 0 | S28: 전기3-39-1 | AI28: =O28 -> 0.17
B29: 800 | C29: L001010101000030 | D29: 노 무 비 | E29: 내장공 | F29: 인 | G29: =IF(H29*I29/100+0.000005 <1, TRUNC(H29*I29/100+0.000005, 옵션!$E$13), TRUNC(H29*I29/100+0.000005, 옵션!$E$13)) -> 0.17 | H29: =옵션!$B$13 -> 100 | I29: =SUM(AI27:AI28) -> 0.17 | O29: =IF(I29*M29=0, "", I29*M29*(N29/100)) | Q29: =TRUNC(P29*M29*N29/100) -> 0 | Z29: 노임계 | AI29: =SUM(AI27:AI28) -> 0.17 | AJ29: =SUM(AJ27:AJ28) -> 0.09
B30: 800 | C30: L001010101000026 | D30: 노 무 비 | E30: 방수공 | F30: 인 | G30: =IF(H30*I30/100+0.000005 <1, TRUNC(H30*I30/100+0.000005, 옵션!$E$13), TRUNC(H30*I30/100+0.000005, 옵션!$E$13)) -> 0.09 | H30: =옵션!$B$13 -> 100 | I30: =SUM(AJ27:AJ28) -> 0.09 | O30: =IF(I30*M30=0, "", I30*M30*(N30/100)) | Q30: =TRUNC(P30*M30*N30/100) -> 0
B31: 공종줄 | D31: [ 제 16호 ] 나사없는전선관행거 E19(16C) [개소]
B32: 800 | C32: 3116210220135769 | D32: 스트롱앵커 | E32: 3/8 | F32: 개 | G32: 1 | H32: =IF(I32<>0, G32-I32, "") -> 0 | I32: 1 | K32: 56900017016 | L32: 내선전공 | M32: 0.036 | N32: 150 | O32: =IF(I32*M32=0, "", I32*M32*(N32/100)) -> 0.054 | Q32: =TRUNC(P32*M32*N32/100) -> 0 | S32: 전기5-29 | AA32: =O32 -> 0.054
B33: 800 | C33: L001010101000075 | D33: 노 무 비 | E33: 내선전공 | F33: 인 | G33: =IF(H33*I33/100+0.000005 <1, TRUNC(H33*I33/100+0.000005, 옵션!$E$13), TRUNC(H33*I33/100+0.000005, 옵션!$E$13)) -> 0.054 | H33: =옵션!$B$13 -> 100 | I33: =SUM(AA32:AA32) -> 0.054 | O33: =IF(I33*M33=0, "", I33*M33*(N33/100)) | Q33: =TRUNC(P33*M33*N33/100) -> 0 | Z33: 노임계 | AA33: =SUM(AA32:AA32) -> 0.054
B34: 공종줄 | D34: [ 제 17호 ] 나사없는전선관행거 E25(22C) [개소]
B35: 800 | C35: 3116210220135769 | D35: 스트롱앵커 | E35: 3/8 | F35: 개 | G35: 1 | H35: =IF(I35<>0, G35-I35, "") -> 0 | I35: 1 | K35: 56900017016 | L35: 내선전공 | M35: 0.036 | N35: 150 | O35: =IF(I35*M35=0, "", I35*M35*(N35/100)) -> 0.054 | Q35: =TRUNC(P35*M35*N35/100) -> 0 | S35: 전기5-29 | AA35: =O35 -> 0.054
B36: 800 | C36: L001010101000075 | D36: 노 무 비 | E36: 내선전공 | F36: 인 | G36: =IF(H36*I36/100+0.000005 <1, TRUNC(H36*I36/100+0.000005, 옵션!$E$13), TRUNC(H36*I36/100+0.000005, 옵션!$E$13)) -> 0.054 | H36: =옵션!$B$13 -> 100 | I36: =SUM(AA35:AA35) -> 0.054 | O36: =IF(I36*M36=0, "", I36*M36*(N36/100)) | Q36: =TRUNC(P36*M36*N36/100) -> 0 | Z36: 노임계 | AA36: =SUM(AA35:AA35) -> 0.054
B37: 공종줄 | D37: [ 제 18호 ] 나사없는전선관행거 E31(28C) [개소]
B38: 800 | C38: 3116210220135769 | D38: 스트롱앵커 | E38: 3/8 | F38: 개 | G38: 1 | H38: =IF(I38<>0, G38-I38, "") -> 0 | I38: 1 | K38: 56900017016 | L38: 내선전공 | M38: 0.036 | N38: 150 | O38: =IF(I38*M38=0, "", I38*M38*(N38/100)) -> 0.054 | Q38: =TRUNC(P38*M38*N38/100) -> 0 | S38: 전기5-29 | AA38: =O38 -> 0.054
B39: 800 | C39: L001010101000075 | D39: 노 무 비 | E39: 내선전공 | F39: 인 | G39: =IF(H39*I39/100+0.000005 <1, TRUNC(H39*I39/100+0.000005, 옵션!$E$13), TRUNC(H39*I39/100+0.000005, 옵션!$E$13)) -> 0.054 | H39: =옵션!$B$13 -> 100 | I39: =SUM(AA38:AA38) -> 0.054 | O39: =IF(I39*M39=0, "", I39*M39*(N39/100)) | Q39: =TRUNC(P39*M39*N39/100) -> 0 | Z39: 노임계 | AA39: =SUM(AA38:AA38) -> 0.054
B40: 공종줄 | D40: [ 제 19호 ] 나사없는전선관행거 E39(36C) [개소]
...

Sheet 합산자재
B1: 237 | C1: [ AGAIN행복센터 ] - 합산자재목록
A2: 번호 | B2: … | C2: 코드 | D2: 명 칭 | E2: 규 격 | F2: 단위 | G2: 수량 | H2: 재료비 | I2: 노무비 | J2: 경비 | K2: 지급비 | L2: 계 | M2: 비고
B4: 59750337008 | C4: 3913170610034839 | D4: 강제전선관 | E4: 아연도 82 mm | F4: M | G4: 5.5 | H4: =ROUNDDOWN(단가조사!G5*옵션!$D$11, 0) -> 12972 | L4: =SUM(H4,I4,J4) -> 12972
B5: 59750337010 | C5: 3913170610034841 | D5: 강제전선관 | E5: 아연도 104 mm | F5: M | G5: 4.4 | H5: =ROUNDDOWN(단가조사!G6*옵션!$D$11, 0) -> 20843 | L5: =SUM(H5,I5,J5) -> 20843
B6: 59750337018 | C6: 3913170610034839 | D6: 강제전선관 | E6: 아연도 82 mm | F6: M | G6: 8.8 | H6: =ROUNDDOWN(단가조사!G7*옵션!$D$11, 0) -> 12972 | L6: =SUM(H6,I6,J6) -> 12972
B7: 59750338001 | C7: 3913170660935608 | D7: 나사없는전선관 | E7: E19(16C) | F7: M | G7: 11 | H7: =ROUNDDOWN(단가조사!G8*옵션!$D$11, 0) -> 2107 | L7: =SUM(H7,I7,J7) -> 2107
B8: 59750338002 | C8: 3913170660935609 | D8: 나사없는전선관 | E8: E25(22C) | F8: M | G8: 34.1 | H8: =ROUNDDOWN(단가조사!G9*옵션!$D$11, 0) -> 2849 | L8: =SUM(H8,I8,J8) -> 2849
B9: 59750338003 | C9: 3913170660935610 | D9: 나사없는전선관 | E9: E31(28C) | F9: M | G9: 69.3 | H9: =ROUNDDOWN(단가조사!G10*옵션!$D$11, 0) -> 3890 | L9: =SUM(H9,I9,J9) -> 3890
B10: 59750338004 | C10: 3913170660935611 | D10: 나사없는전선관 | E10: E39(36C) | F10: M | G10: 52.8 | H10: =ROUNDDOWN(단가조사!G11*옵션!$D$11, 0) -> 4834 | L10: =SUM(H10,I10,J10) -> 4834
B11: 59750338006 | C11: 3913170660935613 | D11: 나사없는전선관 | E11: E51(42C) | F11: M | G11: 22 | H11: =ROUNDDOWN(단가조사!G12*옵션!$D$11, 0) -> 6381 | L11: =SUM(H11,I11,J11) -> 6381
B12: 59750338007 | C12: 3913170660935614 | D12: 나사없는전선관 | E12: E63(54C) | F12: M | G12: 18.7 | H12: =ROUNDDOWN(단가조사!G13*옵션!$D$11, 0) -> 8922 | L12: =SUM(H12,I12,J12) -> 8922
B13: 59750338012 | C13: 3913170670935609 | D13: 나사없는전선관(노출) | E13: E25(22C) | F13: M | G13: 9.9 | H13: =ROUNDDOWN(단가조사!G14*옵션!$D$11, 0) -> 2849 | L13: =SUM(H13,I13,J13) -> 2849
B14: 59750338016 | C14: 3913170670935613 | D14: 나사없는전선관(노출) | E14: E51(42C) | F14: M | G14: 5.5 | H14: =ROUNDDOWN(단가조사!G15*옵션!$D$11, 0) -> 6381 | L14: =SUM(H14,I14,J14) -> 6381
B15: 59751467012 | C15: 3913170610034965 | D15: 경질비닐전선관 | E15: HI 16 mm | F15: M | G15: 23.1 | H15: =ROUNDDOWN(단가조사!G16*옵션!$D$11, 0) -> 294 | L15: =SUM(H15,I15,J15) -> 294
... B32: 59754887003 | C32: 3912139920409529 | D32: 발포지수제 | E32: D150 이하 | F32: 개 | G32: 12 | H32: =ROUNDDOWN(단가조사!G33*옵션!$D$11, 0) -> 30282 | L32: =SUM(H32,I32,J32) -> 30282
B33: 59754887006 | C33: 3912139920935638 | D33: 수밀보호테이프 | F33: 개 | G33: 12 | H33: =ROUNDDOWN(단가조사!G34*옵션!$D$11, 0) -> 2472 | L33: =SUM(H33,I33,J33) -> 2472
B34: 59754877106 | C34: 3913170820174930 | D34: 실링가스켓 | E34: D125 | F34: 개 | G34: 12 | H34: =ROUNDDOWN(단가조사!G35*옵션!$D$11, 0) -> 25064 | L34: =SUM(H34,I34,J34) -> 25064
B35: 59754877026 | C35: 3913170821871118 | D35: 관구밀폐기 | E35: 이종연결관Φ125m | F35: 개 | G35: 12 | H35: =ROUNDDOWN(단가조사!G36*옵션!$D$11, 0) -> 5419 | L35: =SUM(H35,I35,J35) -> 5419
B36: MM318075001 | C36: 3913170820335001 | D36: 나사없는 전선관(부속품) | E36: 커플링 E19(16C) | F36: 개 | G36: 2 | H36: =ROUNDDOWN(단가조사!G37*옵션!$D$11, 0) -> 830 | L36: =SUM(H36,I36,J36) -> 830
B37: MM318075002 | C37: 3913170820335002 | D37: 나사없는 전선관(부속품) | E37: 커플링 E25(22C) | F37: 개 | G37: 10 | H37: =ROUNDDOWN(단가조사!G38*옵션!$D$11, 0) -> 1014 | L37: =SUM(H37,I37,J37) -> 1014
B38: MM318075003 | C38: 3913170820335003 | D38: 나사없는 전선관(부속품) | E38: 커플링 E31(28C) | F38: 개 | G38: 17 | H38: =ROUNDDOWN(단가조사!G39*옵션!$D$11, 0) -> 1246 | L38: =SUM(H38,I38,J38) -> 1246
B39: MM318075004 | C39: 3913170820335004 | D39: 나사없는 전선관(부속품) | E39: 커플링 E39(36C) | F39: 개 | G39: 13 | H39: =ROUNDDOWN(단가조사!G40*옵션!$D$11, 0) -> 1625 | L39: =SUM(H39,I39,J39) -> 1625
B40: MM318075005 | C40: 3913170820335005 | D40: 나사없는 전선관(부속품) | E40: 커플링 E51(42C) | F40: 개 | G40: 5 | H40: =ROUNDDOWN(단가조사!G41*옵션!$D$11, 0) -> 2436 | L40: =SUM(H40,I40,J40) -> 2436
B41: MM318075006 | C41: 3913170820335006 | D41: 나사없는 전선관(부속품) | E41: 커플링 E63(54C) | F41: 개 | G41: 4 | H41: =ROUNDDOWN(단가조사!G42*옵션!$D$11, 0) -> 3249 | L41: =SUM(H41,I41,J41) -> 3249
B42: MM318075101 | C42: 3913170820335101 | D42: 나사없는 전선관(부속품) | E42: 커넥터 E19(16C) | F42: 개 | G42: 2 | H42: =ROUNDDOWN(단가조사!G43*옵션!$D$11, 0) -> 1087 | L42: =SUM(H42,I42,J42) -> 1087
B43: MM318075102 | C43: 3913170820335102 | D43: 나사없는 전선관(부속품) | E43: 커넥터 E25(22C) | F43: 개 | G43: 8 | H43: =ROUNDDOWN(단가조사!G44*옵션!$D$11, 0) -> 1258 | L43: =SUM(H43,I43,J43) -> 1258
B44: MM318075103 | C44: 3913170820335103 | D44: 나사없는 전선관(부속품) | E44: 커넥터 E31(28C) | F44: 개 | G44: 22 | H44: =ROUNDDOWN(단가조사!G45*옵션!$D$11, 0) -> 1513 | L44: =SUM(H44,I44,J44) -> 1513
B45: MM318075104 | C45: 3913170820335104 | D45: 나사없는 전선관(부속품) | E45: 커넥터 E39(36C) | F45: 개 | G45: 14 | H45: =ROUNDDOWN(단가조사!G46*옵션!$D$11, 0) -> 1983 | L45: =SUM(H45,I45,J45) -> 1983
... B166: MM355702721 | C166: 9998887770000074 | D166: 내화충전(패드) | E166: 500x500x30T | F166: 장 | G166: 2 | H166: =ROUNDDOWN(단가조사!G167*옵션!$D$11, 0) -> 60000 | L166: =SUM(H166,I166,J166) -> 60000
B167: MMG26477762 | C167: 9998887770001018 | D167: 카운터센서 | F167: EA | G167: 8 | H167: =ROUNDDOWN(단가조사!G168*옵션!$D$11, 0) -> 80000 | L167: =SUM(H167,I167,J167) -> 80000
B168: MMG26477763 | C168: 9998887770001019 | D168: 카운터절전스위치 | F168: EA | G168: 4 | H168: =ROUNDDOWN(단가조사!G169*옵션!$D$11, 0) -> 240000 | L168: =SUM(H168,I168,J168) -> 240000
B169: MMT97727316 | C169: InMastDBNonCode | D169: 조명기구(어게인행복센터) | E169: TYPE "A" | F169: EA | G169: 115 | H169: =ROUNDDOWN(단가조사!G170*옵션!$D$11, 0) -> 84000 | L169: =SUM(H169,I169,J169) -> 84000 | M169: MAS
B170: MMT97727317 | C170: InMastDBNonCode | D170: 조명기구(어게인행복센터) | E170: TYPE "B" | F170: EA | G170: 156 | H170: =ROUNDDOWN(단가조사!G171*옵션!$D$11, 0) -> 27500 | L170: =SUM(H170,I170,J170) -> 27500 | M170: MAS
B171: MMT97727318 | C171: InMastDBNonCode | D171: 조명기구(어게인행복센터) | E171: TYPE "C" | F171: EA | G171: 22 | H171: =ROUNDDOWN(단가조사!G172*옵션!$D$11, 0) -> 90000 | L171: =SUM(H171,I171,J171) -> 90000 | M171: MAS
B172: MMT97727319 | C172: InMastDBNonCode | D172: 조명기구(어게인행복센터) | E172: TYPE "D" | F172: EA | G172: 6 | H172: =ROUNDDOWN(단가조사!G173*옵션!$D$11, 0) -> 45000 | L172: =SUM(H172,I172,J172) -> 45000 | M172: MAS
B173: MMT97727320 | C173: InMastDBNonCode | D173: 조명기구(어게인행복센터) | E173: TYPE "E" | F173: EA | G173: 10 | H173: =ROUNDDOWN(단가조사!G174*옵션!$D$11, 0) -> 50000 | L173: =SUM(H173,I173,J173) -> 50000 | M173: MAS
B174: MMT97727321 | C174: InMastDBNonCode | D174: 조명기구(어게인행복센터) | E174: TYPE "F" | F174: EA | G174: 8 | H174: =ROUNDDOWN(단가조사!G175*옵션!$D$11, 0) -> 120000 | L174: =SUM(H174,I174,J174) -> 120000 | M174: MAS
B175: MMR97997260 | C175: InMastDBNonCode | D175: 수배전반(어게인행복센터)-*@ | E175: SS-1 | F175: 면 | G175: 1 | H175: =ROUNDDOWN(단가조사!G176*옵션!$D$11, 0) -> 26661000 | L175: =SUM(H175,I175,J175) -> 26661000 | M175: MAS
B176: MMR97997261 | C176: InMastDBNonCode | D176: MCC반(어게인행복센터)-*@관급 | E176: MCC-F | F176: 면 | G176: 1 | H176: =ROUNDDOWN(단가조사!G177*옵션!$D$11, 0) -> 10841000 | L176: =SUM(H176,I176,J176) -> 10841000 | M176: MAS
B177: MMR97997262 | C177: InMastDBNonCode | D177: 분전반(어게인행복센터) | E177: MCP-E | F177: 면 | G177: 1 | H177: =ROUNDDOWN(단가조사!G178*옵션!$D$11, 0) -> 10406000 | L177: =SUM(H177,I177,J177) -> 10406000 | M177: MAS
...

Sheet 단가조사
B1: 243 | D1: 단가조사서
A2: 번호 | B2: 공종코드 | C2: 코드 | D2: 명 칭 | E2: 규 격 | F2: 단위 | G2: 적용단가 | H2: 시설단가 | J2: 거래가격 | L2: 물가정보 | N2: 물가자료 | P2: 조사단가1 | R2: 유통물가 | T2: 비고
H3: 단가 | I3: 코드 | J3: 단가 | K3: PAGE | L3: 단가 | M3: PAGE | N3: 단가 | O3: PAGE | P3: 단가 | Q3: PAGE | R3: 단가 | S3: PAGE
B4: 공종줄 | D4: AGAIN행복센터
C5: 3913170610034839 | D5: 강제전선관 | E5: 아연도 82 mm | F5: M | G5: 12972 | H5: 12972 | J5: 14580 | K5: 1029 | L5: 17332 | M5: 1-1196 | N5: 16400 | O5: 1101
C6: 3913170610034841 | D6: 강제전선관 | E6: 아연도 104 mm | F6: M | G6: 20843 | H6: 20843 | J6: 23540 | K6: 1029 | L6: 27982 | M6: 1-1196 | N6: 26400 | O6: 1101
C7: 3913170610034839 | D7: 강제전선관 | E7: 아연도 82 mm | F7: M | G7: 12972 | H7: 12972 | J7: 14580 | K7: 1029 | L7: 17332 | M7: 1-1196 | N7: 16400 | O7: 1101
C8: 3913170660935608 | D8: 나사없는전선관 | E8: E19(16C) | F8: M | G8: 2107 | H8: 2107 | J8: 2306 | K8: 1029 | L8: 2547 | M8: 1-1196 | N8: 2547 | O8: 1102
C9: 3913170660935609 | D9: 나사없는전선관 | E9: E25(22C) | F9: M | G9: 2849 | H9: 2849 | J9: 3011 | K9: 1029 | L9: 3354 | M9: 1-1196 | N9: 3354 | O9: 1102
C10: 3913170660935610 | D10: 나사없는전선관 | E10: E31(28C) | F10: M | G10: 3890 | H10: 3890 | J10: 4081 | K10: 1029 | L10: 4696 | M10: 1-1196 | N10: 4696 | O10: 1102
C11: 3913170660935611 | D11: 나사없는전선관 | E11: E39(36C) | F11: M | G11: 4834 | H11: 4834 | J11: 4847 | K11: 1029 | L11: 5840 | M11: 1-1196 | N11: 5840 | O11: 1102
C12: 3913170660935613 | D12: 나사없는전선관 | E12: E51(42C) | F12: M | G12: 6381 | H12: 6381 | J12: 6436 | K12: 1029 | L12: 7784 | M12: 1-1196 | N12: 7784 | O12: 1102
C13: 3913170660935614 | D13: 나사없는전선관 | E13: E63(54C) | F13: M | G13: 8922 | H13: 9137 | J13: 8922 | K13: 1029 | L13: 11138 | M13: 1-1196 | N13: 11138 | O13: 1102
C14: 3913170670935609 | D14: 나사없는전선관(노출) | E14: E25(22C) | F14: M | G14: 2849 | H14: 2849 | J14: 3011 | K14: 1029 | L14: 3354 | M14: 1-1196 | N14: 3354 | O14: 1102
C15: 3913170670935613 | D15: 나사없는전선관(노출) | E15: E51(42C) | F15: M | G15: 6381 | H15: 6381 | J15: 6436 | K15: 1029 | L15: 7784 | M15: 1-1196 | N15: 7784 | O15: 1102
C16: 3913170610034965 | D16: 경질비닐전선관 | E16: HI 16 mm | F16: M | G16: 294 | H16: 294 | J16: 332 | K16: 1024 | L16: 440 | M16: 1-1198 | N16: 390 | O16: 1107
... C32: 3913170620174475 | D32: 1종금속제가요전선관 | E32: 54 mm 고장력-방수 | F32: M | G32: 5892 | H32: 5892 | J32: 11880 | K32: 1027 | L32: 6457 | M32: 1-1199 | N32: 11880 | O32: 1103
C33: 3912139920409529 | D33: 발포지수제 | E33: D150 이하 | F33: 개 | G33: 30282 | H33: 30282
C34: 3912139920935638 | D34: 수밀보호테이프 | F34: 개 | G34: 2472 | H34: 2472
C35: 3913170820174930 | D35: 실링가스켓 | E35: D125 | F35: 개 | G35: 25064 | H35: 25064 | N35: 31900 | O35: 1106
C36: 3913170821871118 | D36: 관구밀폐기 | E36: 이종연결관Φ125m | F36: 개 | G36: 5419 | H36: 5419 | N36: 9900 | O36: 1229
C37: 3913170820335001 | D37: 나사없는 전선관(부속품) | E37: 커플링 E19(16C) | F37: 개 | G37: 830 | H37: 830 | J37: 1160 | K37: 1029 | L37: 977 | M37: 1-1196 | N37: 977 | O37: 1102
C38: 3913170820335002 | D38: 나사없는 전선관(부속품) | E38: 커플링 E25(22C) | F38: 개 | G38: 1014 | H38: 1014 | J38: 1450 | K38: 1029 | L38: 1193 | M38: 1-1196 | N38: 1193 | O38: 1102
C39: 3913170820335003 | D39: 나사없는 전선관(부속품) | E39: 커플링 E31(28C) | F39: 개 | G39: 1246 | H39: 1246 | J39: 1750 | K39: 1029 | L39: 1467 | M39: 1-1196 | N39: 1467 | O39: 1102
C40: 3913170820335004 | D40: 나사없는 전선관(부속품) | E40: 커플링 E39(36C) | F40: 개 | G40: 1625 | H40: 1625 | J40: 2250 | K40: 1029 | L40: 2131 | M40: 1-1196 | N40: 2131 | O40: 1102
C41: 3913170820335005 | D41: 나사없는 전선관(부속품) | E41: 커플링 E51(42C) | F41: 개 | G41: 2436 | H41: 2436 | J41: 3370 | K41: 1029 | L41: 3203 | M41: 1-1196 | N41: 3203 | O41: 1102
C42: 3913170820335006 | D42: 나사없는 전선관(부속품) | E42: 커플링 E63(54C) | F42: 개 | G42: 3249 | H42: 3249 | J42: 4500 | K42: 1029 | L42: 4220 | M42: 1-1196 | N42: 4220 | O42: 1102
C43: 3913170820335101 | D43: 나사없는 전선관(부속품) | E43: 커넥터 E19(16C) | F43: 개 | G43: 1087 | H43: 1087 | J43: 1450 | K43: 1029 | L43: 1279 | M43: 1-1196 | N43: 1279 | O43: 1102
C44: 3913170820335102 | D44: 나사없는 전선관(부속품) | E44: 커넥터 E25(22C) | F44: 개 | G44: 1258 | H44: 1258 | J44: 1670 | K44: 1029 | L44: 1480 | M44: 1-1196 | N44: 1480 | O44: 1102
C45: 3913170820335103 | D45: 나사없는 전선관(부속품) | E45: 커넥터 E31(28C) | F45: 개 | G45: 1513 | H45: 1513 | J45: 2010 | K45: 1029 | L45: 1781 | M45: 1-1196 | N45: 1781 | O45: 1102
C46: 3913170820335104 | D46: 나사없는 전선관(부속품) | E46: 커넥터 E39(36C) | F46: 개 | G46: 1983 | H46: 1983 | J46: 2620 | K46: 1029 | L46: 2334 | M46: 1-1196 | N46: 2334 | O46: 1102
C47: 3913170820335105 | D47: 나사없는 전선관(부속품) | E47: 커넥터 E51(42C) | F47: 개 | G47: 2981 | H47: 2981 | J47: 3950 | K47: 1029 | L47: 3508 | M47: 1-1196 | N47: 3508 | O47: 1102
C48: 3913170820335106 | D48: 나사없는 전선관(부속품) | E48: 커넥터 E63(54C) | F48: 개 | G48: 3800 | H48: 3800 | J48: 5010 | K48: 1029 | L48: 4471 | M48: 1-1196 | N48: 4471 | O48: 1102
... C57: 3912130810035750 | D57: 아우트렛박스 | E57: 8각 54㎜ | F57: 개 | G57: 627 | H57: 627 | J57: 800 | K57: 1028 | L57: 845 | M57: 1-1201 | N57: 790 | O57: 1105
C58: 3912130810035753 | D58: 아우트렛박스 | E58: 중형4각 54㎜ | F58: 개 | G58: 920 | J58: 1000 | K58: 1028 | L58: 973 | M58: 1-1201 | N58: 920 | O58: 1105
C59: 3912130610035778 | D59: 스위치박스 | E59: 1 개용 54 mm | F59: 개 | G59: 592 | H59: 592 | J59: 650 | K59: 1028 | L59: 700 | M59: 1-1201 | N59: 650 | O59: 1105
C60: 3912130610035781 | D60: 스위치박스 | E60: 2 개용 54 mm(4각) | F60: 개 | G60: 726 | H60: 824 | J60: 1000 | K60: 1028 | L60: 726 | M60: 1-1201 | N60: 920 | O60: 1105
C61: 3912130820174712 | D61: 아우트렛박스 커버 | E61: 8각, 둥근구멍(평) | F61: 개 | G61: 290 | J61: 400 | K61: 1028 | L61: 343 | M61: 1-1201 | N61: 290 | O61: 1105
C62: 3912130820174715 | D62: 아우트렛박스 커버 | E62: 4각, 둥근구멍(평) | F62: 개 | G62: 343 | J62: 400 | K62: 1028 | L62: 343 | M62: 1-1201 | N62: 400 | O62: 1105
C63: 3912131020171573 | D63: FLOOR BOX | E63: 150x150x80 | F63: 개 | G63: 65300 | J63: 65300 | K63: 1035
...

Sheet 옵션
B1: 재료비 | C1: 노무비 | D1: 경비 | F1: 계
A2: 총 급 액 | B2: =총괄표!#REF! -> #REF! | C2: =총괄표!#REF! -> #REF! | D2: =총괄표!#REF! -> #REF! | F2: =SUM(B2,C2,D2) -> #REF!
A3: 도급자관급 | B3: =총괄표!#REF! -> #REF! | C3: =총괄표!#REF! -> #REF! | D3: =총괄표!#REF! -> #REF! | F3: =SUM(B3,C3,D3) -> #REF!
A4: 관급자관급 | B4: =총괄표!#REF! -> #REF! | C4: =총괄표!#REF! -> #REF! | D4: =총괄표!#REF! -> #REF! | F4: =SUM(B4,C4,D4) -> #REF!
F5: =SUM(B5,C5,D5) -> 0
F6: =SUM(B6,C6,D6) -> 0
F7: =SUM(B7,C7,D7) -> 0
F8: =SUM(B8,C8,D8) -> 0
B10: 적용율(%) | C10: 끝자리 | D10: 적용율(%)/100 | E10: 일위대가소수
A11: 전체자재 적용율(%)(공종/일위대가) | B11: 100 | C11: 1 | D11: =$B$11/100 -> 1
A12: 전체노임 적용율(%)(공종) | B12: 100 | C12: 1 | D12: =$B$12/100 -> 1 | E12: 2
A13: 전체노임 적용율(%)(일위대가) | B13: 100 | C13: 1 | D13: =$B$13/100 -> 1 | E13: 5
A20: *(그룹별 자재 단가 추가 할증)* | B20: 적용율(%) | D20: 적용율(%)/100
A21: Cable(CAB) 할증(%) | B21: =B11 -> 100 | D21: =$B$21/100 -> 1
A22: Wire (WIR) 할증(%) | B22: =B11 -> 100 | D22: =$B$22/100 -> 1
A23: Pipe (PIP) 할증(%) | B23: =B11 -> 100 | D23: =$B$23/100 -> 1
A24: 제 4그룹 할증(%) | B24: =B11 -> 100 | D24: =$B$24/100 -> 1
A25: 제 5그룹 할증(%) | B25: =B11 -> 100 | D25: =$B$25/100 -> 1
A30: *(그룹별 노임 추가 할증)* | B30: 적용율(%) | C30: 자동부속재(전기) | D30: 자동부속재(통신)
A31: 배관부속재(%) | B31: 15 | C31: 15 | D31: 20
A32: CD관부속재(%) | B32: 40 | C32: 40 | D32: 40
A33: 소모잡자재(%) | B33: 2 | H33: 본 파일은 이지테크에서 2번 옵션으로 만들었습니다.
A34: 방폭할증(%)
A35: 고소할증(%) | B35: 2
A36: 공구손료(%) | B36: 3
A40: *(공종별 노임 적용율(%))* | B40: 적용율(%) | C40: 소수자릿수
A41: 1-1-1.전력인입및전기실공사 | B41: 100 | C41: 5
A42: 1-1-2.전력간선공사 | B42: 100 | C42: 5
A43: 1-1-3.동력설비공사 | B43: 100 | C43: 5
A44: 1-1-4.전열설비공사 | B44: 100 | C44: 5
A45: 1-1-5.전등설비공사 | B45: 100 | C45: 5
A46: 1-1-6.냉난방설비공사 | B46: 100 | C46: 5
A47: 1-1-7.전열교환기설비공사 | B47: 100 | C47: 5
A48: 1-1-8.태양광발전설비공사 | B48: 100 | C48: 5
A49: 1-1-10.원격검침설비공사 | B49: 100 | C49: 5
A50: 1-1-11.CABLE TRAY공사 | B50: 100 | C50: 5
A51: 1-1-9-1.접지 | B51: 100 | C51: 5
A52: 1-1-9-2.피뢰 | B52: 100 | C52: 5
... A57: 3-3.원격검침 | B57: 100 | C57: 0
