Workbook
Name _: #N/A
Name _______A1: #REF!
Name _______B100000: #REF!
Name _______b2: #REF!
Name _______B66000: #REF!
Name _______B70000: #REF!
Name _______C67000: #REF!
Name _______C68000: #REF!
Name ______A1: #REF!
Name ______B100000: #REF!
Name ______b2: #REF!
Name ______B66000: #REF!
Name ______B70000: #REF!
Name ______C67000: #REF!
Name ______C68000: #REF!
Name _____A1: #REF!
Name _____B100000: #REF!
Name _____b2: #REF!
Name _____B66000: #REF!
Name _____B70000: #REF!
Name _____C67000: #REF!
Name _____C68000: #REF!
Name _____CDT2: #REF!
Name _____D1: #REF!
Name _____D2: #REF!
Name _____DOG1: #REF!
Name _____DOG2: #REF!
Name _____DOG3: #REF!
Name _____DOG4: #REF!
Name _____H600000: #REF!
Name _____IJ66980: #REF!
Name _____KLN1: #REF!
Name _____ll15: #REF!
Name _____LP1: #REF!
Name _____LP2: #REF!
Name _____MM562: #REF!
Name _____NMB96: #REF!
Name _____PC10: #N/A
Name _____PC20: #N/A
Name _____PC30: #N/A
Name _____PC40: #N/A
Name _____PC50: #N/A
Name _____PI48: #REF!
Name _____PI60: #REF!
Name _____PVC100: #REF!
Name _____PVC125: #REF!
Name _____PVC150: #REF!
Name _____Q1: #REF!
Name _____Q2: #REF!
Name _____Q3: #REF!
Name _____RMK10: #N/A
Name _____RMK20: #N/A
Name _____RMK30: #N/A
Name _____RMK40: #N/A
Name _____RMK50: #N/A
Name _____RO110: #REF!
Name _____RO22: #REF!
Name _____RO35: #REF!
Name _____RO60: #REF!
Name _____RO80: #REF!

Sheet 원가
A1: 공 사 원 가 계 산 서
A3: 공사명: | C3: 공주시유구읍농촌중심지활성화사업(전기) | E3: 공사기간: 18개월
A4: 비 목 | C4: 구 분 | D4: 금 액 | E4: 구 성 비 | I4: 요율 | J4: 수량 | K4: 금액 | L4: 이윤 | M4: 끝자리 맞추기
B5: 재 료 비 | C5: 직 접 재 료 비 | D5: =옵션!$B$2 -> #REF! | J5: 1 | K5: =D5*J5 -> #REF!
C6: 간 접 재 료 비 | K6: =D6*J6 -> 0
C7: ( 소 계 ) | D7: =SUM(D5:D6) -> #REF! | K7: =D7*J7 -> #REF!
A8: 순 | B8: 노 무 비 | C8: 직 접 노 무 비 | D8: =옵션!$C$2 -> #REF! | J8: 1 | K8: =D8*J8 -> #REF!
C9: 간 접 노 무 비 | D9: =TRUNC((D8)*I9/100) -> #REF! | E9: (직접 노무비) * 15.4 % | I9: 15.4 | J9: 1 | K9: =D9*J9 -> #REF!
C10: ( 소 계 ) | D10: =SUM(D8:D9) -> #REF! | K10: =D10*J10 -> #REF!
C11: 기 계 경 비 | D11: =옵션!$D$2 -> #REF! | J11: 1 | K11: =D11*J11 -> #REF!
C12: 산 재 보 험 료 | D12: =TRUNC((D10)*I12/100) -> #REF! | E12: (노무비) * 3.56 % | I12: 3.56 | J12: 1 | K12: =D12*J12 -> #REF!
A13: 공 | C13: 고 용 보 험 료 | D13: =TRUNC((D10)*I13/100) -> #REF! | E13: (노무비) * 1.01 % | I13: 1.01 | J13: 1 | K13: =D13*J13 -> #REF!
B14: 경 | C14: 건 강 보 험 료 | D14: =TRUNC((D8)*I14/100) -> #REF! | E14: (직접 노무비) * 3.545 % | I14: 3.545 | J14: 1 | K14: =D14*J14 -> #REF!
C15: 연 금 보 험 료 | D15: =TRUNC((D8)*I15/100) -> #REF! | E15: (직접 노무비) * 4.5 % | I15: 4.5 | J15: 1 | K15: =D15*J15 -> #REF!
C16: 퇴 직 금 공 제 | D16: =TRUNC((D8)*I16/100) -> #REF! | E16: (직접 노무비) * 2.3 % | I16: 2.3 | J16: 1 | K16: =D16*J16 -> #REF!
C17: 안 전 관 리 비(A) | D17: =TRUNC((D7+D8+L34/1.1)*I17/100)+4325000 -> #REF! | E17: ((재+직노+도급관급/1.1)* 2.28 % + 기초액(4,325,000원) | I17: 2.28 | J17: 1 | K17: =D17*J17 -> #REF!
A18: 사 | C18: 안 전 관 리 비(B) | D18: =TRUNC(TRUNC((((D7+D8))*I18/100)+4325000)*1.2) -> #REF! | E18: ((재료+직노)* 2.28 %)*1.2 + 기초액(4,325,000원)(A,B중 작은 금액 적용!) | I18: 2.28 | J18: 1 | K18: =D18*J18 -> #REF!
C19: 기 타 경 비 | D19: =TRUNC((D7+D10)*I19/100) -> #REF! | E19: (재료+노무) * 5.0 % | I19: 5 | J19: 1 | K19: =D19*J19 -> #REF!
C20: 노인장기요양보험 | D20: =TRUNC((D14)*I20/100) -> #REF! | E20: (건강보험료) * 12.95 % | I20: 12.95 | J20: 1 | K20: =D20*J20 -> #REF!
K21: =D21*J21 -> 0
B22: 비 | K22: =D22*J22 -> 0
A23: 비 | K23: =D23*J23 -> 0
K24: =D24*J24 -> 0
K25: =D25*J25 -> 0
C26: ( 소 계 ) | D26: =SUM(D11:D25)-D17 -> #REF! | K26: =D26*J26 -> #REF!
A27: 일 반 관 리 비 | D27: =TRUNC((D7+D10+D26)*I27/100) -> #REF! | E27: (재료+노무+경비) * 5.5 % | I27: 5.5 | J27: 1 | K27: =D27*J27 -> #REF!
A28: 이 윤 | D28: =TRUNC(((D10+D26+D27))*I28/100-303/1.1) -> #REF! | E28: (노무+경비+일반관리비) * 15.0 % | I28: 15 | J28: 1 | K28: =D28*J28 -> #REF!
A29: ( 총 원 가 ) | D29: =SUM(K5:K28)-D17 -> #REF! | K29: =D29*J29 -> #REF!
A30: 부 가 가 치 세 | D30: =TRUNC((D29)*I30/100) -> #REF! | I30: 10 | J30: 1 | K30: =D30*J30 -> #REF!
A31: ( 합 계 ) | D31: =SUM(D29:D30) -> #REF! | K31: =D31*J31 -> #REF!
A32: 관 급(총 괄) | D32: =D33+D34 -> #REF! | K32: =D32*J32 -> #REF!
A33: 관 급(관급자설치) | D33: =옵션!$F$4 -> #REF! | J33: 1 | K33: =D33*J33 -> #REF!
A34: 관 급(도급자설치) | D34: =옵션!$F$3 -> #REF! | E34: 조달 수수료: 299,000원 | J34: 1 | K34: =D34*J34 -> #REF! | L34: =K34-299000 -> #REF! | N34: 55493000
A35: 사용전 검사비 | D35: 193000 | E35: 태양광:62.4KW (VAT포함) | J35: 1 | K35: =D35*J35 -> 193000
A36: 재해에방기술지도 | D36: 10637000 | J36: 1 | K36: =D36*J36 -> 10637000
A37: 총 공 사 비 | D37: =K37 -> #REF! | E37: 천원이하절사. | J37: 1 | K37: =SUM(K5:K36)-K17 -> #REF!

Sheet 총괄표
B1: 185 | D1: 총괄표 | AA1: 연속견적가로형식
A2: 번호 | B2: 공종코드 | C2: … | D2: 공 종 명 | E2: 규격 | F2: 단위 | G2: 수량 | H2: 재료비 | J2: 노무비 | M2: 경비 | P2: 계 | Q2: 비고
H3: 단가 | I3: 금액 | J3: 수량 | K3: 단가 | L3: 금액 | M3: 단가 | N3: 금액 | O3: 단가
B4: 공종줄 | D4: 유구읍행정복지센터
B5: 공종줄 | D5: 2. 유구읍행정복지센터
B6: 0201 | D6: 2-1.분전반 | F6: 식 | G6: 1 | H6: =내역서!I29 -> 45595000 | I6: =H6*G6 -> 45595000 | K6: =내역서!L29 -> 0 | L6: =K6*G6 -> 0 | M6: =내역서!N29 -> 246213 | N6: =M6*G6 -> 246213 | O6: 39102620 | P6: =I6+L6+N6 -> 45841213
B29: 02 | C29: Total | D29: ( 합 계 ) | I29: =SUM(I6:I28) -> 45595000 | L29: =SUM(L6:L28) -> 0 | N29: =SUM(N6:N28) -> 246213 | P29: =I29+L29+N29 -> 45841213

Sheet 내역서
B1: 523 | D1: 내역서 | W1: 노임 계산 정보 | AA1: 부속재 및 손료
A2: 번호 | B2: 공종코드 | C2: 코드 | D2: 명 칭 | E2: 규 격 | F2: 단위 | G2: 수량 | H2: 재료비 | J2: 노무비 | M2: 경비 | P2: 계 | Q2: 비고 | W2: 노임계 | X2: 전체(%) | Y2: 공종별(%) | Z2: 노임 소수 | AA2: CD배관재 | AB2: 일반배관재 | AC2: 소모재 | AD2: 자재계 | AE2: 노임계
H3: 단가 | I3: 금액 | J3: 수량 | K3: 단가 | L3: 금액 | M3: 단가 | N3: 금액 | O3: 단가 | AD3: =IF(옵션!$C$11 =0, "1", 옵션!$C$11) -> 1 | AE3: =IF(옵션!$C$12 =0, "1", 옵션!$C$12) -> 1
B4: 공종줄 | D4: 2.도급자관급::2-1.분전반
A5: MMA98014103 | B5: 0201 | C5: InMastDBNonCode | D5: 분전반 | E5: MCP-E | F5: 면 | G5: 1 | H5: ='내역서(행정복지센터)'!I72 -> 10704000 | I5: =H5*G5 -> 10704000 | J5: 1 | K5: 0 | L5: =K5*G5 -> 0 | M5: 0 | N5: =M5*G5 -> 0 | O5: 26515 | P5: =I5+L5+N5 -> 10704000
A6: MMA98014100 | B6: 0201 | C6: InMastDBNonCode | D6: 분전반 | E6: LN-전기실 | F6: 면 | G6: 1 | H6: ='내역서(행정복지센터)'!I140 -> 3870000 | I6: =H6*G6 -> 3870000 | J6: 1 | K6: 0 | L6: =K6*G6 -> 0 | M6: 0 | N6: =M6*G6 -> 0 | O6: 62618 | P6: =I6+L6+N6 -> 3870000
A7: MMA98014094 | B7: 0201 | C7: InMastDBNonCode | D7: 분전반 | E7: LN-1-M | F7: 면 | G7: 1 | H7: ='내역서(행정복지센터)'!I203 -> 4331000 | I7: =H7*G7 -> 4331000 | J7: 1 | K7: 0 | L7: =K7*G7 -> 0 | M7: 0 | N7: =M7*G7 -> 0 | O7: 19808 | P7: =I7+L7+N7 -> 4331000
A8: MMA98014095 | B8: 0201 | C8: InMastDBNonCode | D8: 분전반 | E8: LN-1-화장실 | F8: 면 | G8: 1 | H8: ='내역서(행정복지센터)'!I264 -> 1649000 | I8: =H8*G8 -> 1649000 | J8: 1 | K8: 0 | L8: =K8*G8 -> 0 | M8: 0 | N8: =M8*G8 -> 0 | O8: 26515 | P8: =I8+L8+N8 -> 1649000
A9: MMA98014096 | B9: 0201 | C9: InMastDBNonCode | D9: 분전반 | E9: LN-행정 | F9: 면 | G9: 1 | H9: ='내역서(행정복지센터)'!I310 -> 2231000 | I9: =H9*G9 -> 2231000 | J9: 1 | K9: 0 | L9: =K9*G9 -> 0 | M9: 0 | N9: =M9*G9 -> 0 | O9: 62618 | P9: =I9+L9+N9 -> 2231000
A10: MMA98014097 | B10: 0201 | C10: InMastDBNonCode | D10: 분전반 | E10: LN-2-M | F10: 면 | G10: 1 | H10: ='내역서(행정복지센터)'!I357 -> 4331000 | I10: =H10*G10 -> 4331000 | J10: 1 | K10: 0 | L10: =K10*G10 -> 0 | M10: 0 | N10: =M10*G10 -> 0 | O10: 13678 | P10: =I10+L10+N10 -> 4331000
A11: MMA98014098 | B11: 0201 | C11: InMastDBNonCode | D11: 분전반 | E11: LN-2-화장실 | F11: 면 | G11: 1 | H11: ='내역서(행정복지센터)'!I418 -> 1649000 | I11: =H11*G11 -> 1649000 | J11: 1 | K11: 0 | L11: =K11*G11 -> 0 | M11: 0 | N11: =M11*G11 -> 0 | O11: 26515 | P11: =I11+L11+N11 -> 1649000
A12: MMA98014099 | B12: 0201 | C12: InMastDBNonCode | D12: 분전반 | E12: LN-다목적 | F12: 면 | G12: 1 | H12: ='내역서(행정복지센터)'!I464 -> 1557000 | I12: =H12*G12 -> 1557000 | J12: 1 | K12: 0 | L12: =K12*G12 -> 0 | M12: 0 | N12: =M12*G12 -> 0 | O12: 62618 | P12: =I12+L12+N12 -> 1557000
A13: MMA98014102 | B13: 0201 | C13: InMastDBNonCode | D13: 분전반 | E13: LN-EHP-RF | F13: 면 | G13: 1 | H13: ='내역서(행정복지센터)'!I509 -> 3666000 | I13: =H13*G13 -> 3666000 | J13: 1 | K13: 0 | L13: =K13*G13 -> 0 | M13: 0 | N13: =M13*G13 -> 0 | O13: 19808 | P13: =I13+L13+N13 -> 3666000
A14: MMA98014101 | B14: 0201 | C14: InMastDBNonCode | D14: 분전반 | E14: LN-ELEV | F14: 면 | G14: 1 | H14: ='내역서(행정복지센터)'!I573 -> 1454000 | I14: =H14*G14 -> 1454000 | J14: 1 | K14: 0 | L14: =K14*G14 -> 0 | M14: 0 | N14: =M14*G14 -> 0 | O14: 62618 | P14: =I14+L14+N14 -> 1454000
A15: MMA98014101 | B15: 0201 | C15: InMastDBNonCode | D15: 분전반 | E15: MCC-F | F15: 면 | G15: 1 | H15: ='내역서(행정복지센터)'!I651 -> 10153000 | I15: =H15*G15 -> 10153000 | J15: 1 | K15: 0 | L15: =K15*G15 -> 0 | M15: 0 | N15: =M15*G15 -> 0 | O15: 62618 | P15: =I15+L15+N15 -> 10153000
A16: MM009839352 | B16: 0201 | C16: 391115ZZ701Z0001 | D16: 조달 수수료(20) | E16: 0.54% | F16: 식 | G16: 1 | I16: =H16*G16 -> 0 | J16: 1 | K16: 0 | L16: =K16*G16 -> 0 | M16: =SUM(P5:P15)*E16 -> 246213 | N16: =M16*G16 -> 246213 | O16: 13678 | P16: =I16+L16+N16 -> 246213
AE17: 0
B29: 합계줄 | D29: ( 합 계 ) | I29: =SUM(I5:I28) -> 45595000 | L29: =SUM(L5:L28) -> 0 | N29: =SUM(N5:N28) -> 246213 | P29: =SUM(P5:P28) -> 45841213

Sheet 내역서(행정복지센터)
A1: 품 명 | B1: 규 격 | C1: 수량 | D1: 단위 | E1: 재료비 | G1: 노무비 | I1: 합 계 | J1: 비 고
E2: 단 가 | F2: 금 액 | G2: 단 가 | H2: 금 액 | K2: 전기 | L2: 전선 | M2: 부품 | N2: 단순
A3: MCP-E
A4: A. 재료비
A5: 외함 | B5: 700Wx1600Hx200D | C5: 1 | D5: 면 | E5: 1500000 | F5: =INT(E5*C5) -> 1500000
A6: NAME PLATE | B6: 아크릴 (L) | C6: =C5 -> 1 | D6: EA | E6: 3600 | F6: =INT(E6*C6) -> 3600
A7: NAME PLATE (기동용) | B7: 아크릴 (S) | C7: 6 | D7: EA | E7: 500 | F7: =INT(E7*C7) -> 3000
A8: DOOR HANDLE | B8: W/KEY (L) | C8: =C5*2 -> 2 | D8: EA | E8: 8000 | F8: =INT(E8*C8) -> 16000
A9: DIAZED FUSE | B9: 25A 이하 W/COVER | C9: 3 | D9: EA | E9: 3000 | F9: =INT(E9*C9) -> 9000
A10: MAIN BUS BAR | B10: 5.0 mm x 30 mm | C10: =C5*10 -> 10 | D10: m | E10: =T10 -> 22094.25 | F10: =INT(E10*C10) -> 220942 | J10: 전기0.08 단순0.06 | K10: =0.08*C10 -> 0.8 | N10: =0.06*C10 -> 0.6 | O10: =0.08*C10 -> 0.8 | P10: 5 | Q10: 30 | R10: =Q10*P10*0.0089 -> 1.335 | S10: 16550 | T10: =S10*R10 -> 22094.25
A11: AIR SHINK TUBE (600V이하) | B11: 5.0 mm x 30 mm | C11: =C10 -> 10 | D11: m | E11: 4200 | F11: =INT(E11*C11) -> 42000
A12: EARTH BAR | B12: 3.0 mm x 30 mm | C12: =C5*0.6 -> 0.6 | D12: m | E12: =T12 -> 13256.55 | F12: =INT(E12*C12) -> 7953 | J12: 전기0.09 단순0.07 | K12: =0.09*C12 -> 0.054 | N12: =0.07*C12 -> 0.042 | O12: =0.08*C12 -> 0.048 | P12: 3 | Q12: 30 | R12: =Q12*P12*0.0089 -> 0.801 | S12: 16550 | T12: =S12*R12 -> 13256.55
A13: MAIN MCCB | B13: 표준형 4P 600V 50AF | C13: 1 | D13: EA | E13: 66900 | F13: =INT(E13*C13) -> 66900 | J13: 전선0.338 | L13: =0.338*C13 -> 0.338
A14: BUS BAR COATING | B14: Sn | C14: =R10*C10 -> 13.35 | D14: m | E14: 2000 | F14: =INT(E14*C14) -> 26700
A15: EPOXY INSULATOR | B15: 600V 40x40mm | C15: =C5*8 -> 8 | D15: EA | E15: 1200 | F15: =INT(E15*C15) -> 9600 | J15: 전기0.02 | K15: =0.02*C15 -> 0.16
A16: PVC DUCT | B16: 30x40x2m W/COVER | C16: =C5*3 -> 3 | D16: EA | E16: 1800 | F16: =INT(E16*C16) -> 5400
A17: PVC DUCT | B17: 40x60x2m W/COVER | C17: =C5*3 -> 3 | D17: EA | E17: 3000 | F17: =INT(E17*C17) -> 9000
A18: P.T | B18: 380V/110V 50VA | C18: 3 | D18: EA | E18: 40000 | F18: =INT(E18*C18) -> 120000 | J18: 전선0.4 | L18: =0.4*C18 -> 1.2
A19: C.T | B19: 1150V 5~300/5A | C19: 3 | D19: EA | E19: 8500 | F19: =INT(E19*C19) -> 25500 | J19: 전선0.4 | L19: =0.4*C19 -> 1.2
A20: DIGITAL METER | B20: GIMAC 1000 | C20: 1 | D20: EA | E20: 793000 | F20: =INT(E20*C20) -> 793000 | J20: 전기0.38 | K20: =0.38*C20 -> 0.38
A21: M C C B (표준형) | B21: 4P 600V 50AF | C21: 1 | D21: EA | E21: 66900 | F21: =INT(E21*C21) -> 66900 | J21: 전선0.338 | L21: =0.338*C21 -> 0.338
A22: S.P.D | B22: 3P4W 40KA | C22: 1 | D22: EA | E22: 240000 | F22: =INT(C22*E22) -> 240000 | J22: 전기0.24 | K22: =0.24*C22 -> 0.24
A23: 이면배선 | B23: KIV 2.5 ㎟ | C23: 50 | D23: m | E23: 290 | F23: =INT(E23*C23) -> 14500 | J23: 전선0.055 | L23: =C23*0.055 -> 2.75
A24: 직입기동 3상 1.5KW | C24: 4 | D24: UNIT
A25: MCCB | B25: 표준형 3P 600V 50AF | C25: =C24 -> 4 | D25: EA | E25: 53600 | F25: =INT(E25*C25) -> 214400 | J25: 전선0.26 | L25: =0.26*C25 -> 1.04
A26: NFB HANDLE | B26: 60AF | C26: =C24 -> 4 | D26: EA | E26: 17600 | F26: =INT(E26*C26) -> 70400
A27: E M P R (DMP-TZ) | B27: 표준 지락보호용 0.5~6A/5~60A | C27: =C24 -> 4 | D27: EA | E27: 131700 | F27: =INT(E27*C27) -> 526800 | J27: 전기0.28 | K27: =0.28*C27 -> 1.12
A28: Z.C.T | B28: 600V 100A | C28: =C27 -> 4 | D28: EA | E28: 7800 | F28: =INT(E28*C28) -> 31200 | J28: 전기0.4 | K28: =0.4*C28 -> 1.6
A29: MC | B29: MC-9b | C29: =C24 -> 4 | D29: EA | E29: 13800 | F29: =INT(E29*C29) -> 55200 | J29: 전선0.3 | L29: =0.3*C29 -> 1.2
A30: AUX-R | B30: AC 2a2b | C30: =C24 -> 4 | D30: EA | E30: 9800 | F30: =INT(E30*C30) -> 39200 | J30: 전기0.2 | K30: =0.2*C30 -> 0.8
A31: LOAD TB | B31: 3P 60A | C31: =C24 -> 4 | D31: EA | E31: 1150 | F31: =INT(E31*C31) -> 4600
A32: LOAD WIRE | B32: KIV 16㎟ | C32: =C24*6 -> 24 | D32: m | E32: 1829 | F32: =INT(E32*C32) -> 43896 | J32: 전선0.023 | L32: =C32*0.023 -> 0.552
A33: STAB(1차) | B33: 3P 60A | C33: =C24 -> 4 | D33: EA | E33: 15000 | F33: =INT(E33*C33) -> 60000
A34: DIAZED FUSE | B34: 25A 이하 W/COVER | C34: =C24 -> 4 | D34: EA | E34: 2000 | F34: =INT(E34*C34) -> 8000
A35: CONDENSER | B35: 380/440V 3Φ 10uF | C35: =C24 -> 4 | D35: EA | E35: 8600 | F35: =INT(E35*C35) -> 34400 | J35: 전선0.091 | L35: =0.091*C35 -> 0.364
A36: 이면배선 | B36: KIV 2.5 ㎟ | C36: =C24*30 -> 120 | D36: m | E36: 290 | F36: =INT(E36*C36) -> 34800 | J36: 전선0.055 | L36: =C36*0.055 -> 6.6
A37: 4P 50AF | C37: 1 | D37: UNIT
A38: MCCB | B38: 표준형 4P 600V 50AF | C38: =C37 -> 1 | D38: EA | E38: 66900 | F38: =INT(E38*C38) -> 66900 | J38: 전선0.338 | L38: =0.338*C38 -> 0.338
A39: NFB HANDLE | B39: 60AF | C39: =C37 -> 1 | D39: EA | E39: 17600 | F39: =INT(E39*C39) -> 17600
A40: LOAD TB | B40: 4P 60A | C40: =C37 -> 1 | D40: EA | E40: 3050 | F40: =INT(E40*C40) -> 3050
A41: LOAD WIRE | B41: KIV 16㎟ | C41: =C37*6 -> 6 | D41: m | E41: 1829 | F41: =INT(E41*C41) -> 10974 | J41: 전선0.023 | L41: =C41*0.023 -> 0.138
A42: STAB(1차) | B42: 3P 60A | C42: =C37 -> 1 | D42: EA | E42: 15000 | F42: =INT(E42*C42) -> 15000
A43: 3P 50AF | C43: 1 | D43: UNIT
A44: MCCB | B44: 표준형 3P 600V 50AF | C44: =C43 -> 1 | D44: EA | E44: 53600 | F44: =INT(E44*C44) -> 53600 | J44: 전선0.26 | L44: =0.26*C44 -> 0.26
A45: NFB HANDLE | B45: 60AF | C45: =C43 -> 1 | D45: EA | E45: 17600 | F45: =INT(E45*C45) -> 17600
A46: LOAD TB | B46: 3P 60A | C46: =C43 -> 1 | D46: EA | E46: 1150 | F46: =INT(E46*C46) -> 1150
A47: LOAD WIRE | B47: KIV 16㎟ | C47: =C43*6 -> 6 | D47: m | E47: 1829 | F47: =INT(E47*C47) -> 10974 | J47: 전선0.023 | L47: =C47*0.023 -> 0.138
A48: STAB(1차) | B48: 3P 60A | C48: =C43 -> 1 | D48: EA | E48: 15000 | F48: =INT(E48*C48) -> 15000
A49: 재료비 소계 | F49: =SUM(F5:F48) -> 4514739 | K49: =SUM(K5:K48) -> 5.154 | L49: =SUM(L5:L48) -> 16.456 | M49: =SUM(M5:M48) -> 0 | N49: =SUM(N5:N48) -> 0.642
A51: B. 노무비
A52: 전기기계조립원 | C52: =K49 -> 5.154 | D52: 인 | G52: 104168 | H52: =INT(C52*G52) -> 536881
A53: 전선원 | C53: =L49 -> 16.456 | D53: 인 | G53: 87861 | H53: =INT(C53*G53) -> 1445840
A54: 부품조립원 | C54: =M49 -> 0 | D54: 인 | G54: 92341 | H54: =INT(C54*G54) -> 0
A55: 단순노무종사원 | C55: =N49 -> 0.642 | D55: 인 | G55: 86008 | H55: =INT(C55*G55) -> 55217
A56: 노무비 소계 | H56: =SUM(H52:H55) -> 2037938
A58: C. 제조원가계산서
A59: 직 접 재 료 비 | I59: =F49 -> 4514739
A60: 간 접 재 료 비 | B60: 직접재료비 x | C60: 0.78 | D60: % | I60: =I59*C60*0.01 -> 35214.964
A61: 소 계 | I61: =SUM(I59:I60) -> 4549954
A62: 산 출 노 무 비 | I62: =H56 -> 2037938
A63: 직 접 노 무 비 | B63: 산출노무비 x | C63: 122.12 | D63: % | I63: =I62*C63*0.01 -> 2488729.9
A64: 간 접 노 무 비 | B64: 직접노무비 x | C64: 33.85 | D64: % | I64: =I63*C64*0.01 -> 842435.07
A65: 소 계 | I65: =I63+I64 -> 3331165
A66: 경 비 | B66: 재료비 x | C66: 5.39 | D66: % | I66: =I61*C66*0.01 -> 245242.52
A67: 제 조 원 가 | I67: =I61+I65+I66 -> 8126361.4
A68: 일 반 관 리 비 | B68: 제조원가 x | C68: 7 | D68: % | I68: =I67*C68*0.01 -> 568845.3
A69: 이 윤 | B69: (노무비+경비+일.관) x | C69: 25 | D69: % | I69: =(I65+I66+I68)*C69*0.01 -> 1036313.2
A70: 총 원 가 | I70: =I67+I68+I69 -> 9731519.9
A71: 부가가치세 | C71: 10 | D71: % | I71: =I70*10% -> 973151.99
A72: 합 계 | H72: 단수정리 | I72: =ROUNDDOWN((I70+I71),-3) -> 10704000
A91: LN-전기실
A92: A. 재료비
A93: 분전반(노출형,STS) | B93: 600Wx1100Hx150D | C93: 1 | D93: 면 | E93: =ROUNDDOWN(U93,-3) -> 660000 | F93: =C93*E93 -> 660000 | Q93: 600 | R93: 1100 | S93: =Q93*R93 -> 660000 | T93: =S93/90000 -> 7.3333333 | U93: =T93*90000 -> 660000
A94: P-COVER | B94: 500WX1000H | C94: 1 | D94: EA | E94: =ROUNDDOWN(U94,-3) -> 83000 | F94: =C94*E94 -> 83000 | Q94: =SUM(Q93:Q93)-100 -> 500 | R94: =SUM(R93:R93)-100 -> 1000 | S94: =Q94*R94 -> 500000 | T94: =S94/90000 -> 5.5555556 | U94: =T94*15000 -> 83333.333
A95: NAME PLATE | B95: 아크릴(L) | C95: 1 | D95: EA | E95: 3600 | F95: =C95*E95 -> 3600
A96: NAME PLATE | B96: CARD HOLDER | C96: =SUM(C100:C102)-1 -> 9 | D96: EA | E96: 500 | F96: =C96*E96 -> 4500
A97: DOOR HANDLE | B97: PUSH(L) | C97: 1 | D97: EA | E97: 6000 | F97: =C97*E97 -> 6000
A98: U HANDLE | B98: 분전반용 | C98: 2 | D98: EA | E98: 300 | F98: =C98*E98 -> 600
A99: EPOXY INSULATOR | B99: 600V 25*25 | C99: 4 | D99: EA | E99: 1200 | F99: =C99*E99 -> 4800 | J99: 전기0.02 | K99: =0.02*C99 -> 0.08
A100: MAIN M C C B (표준형) | B100: 4P 600V 50AF | C100: 1 | D100: EA | E100: 66900 | F100: =INT(E100*C100) -> 66900 | J100: 전선0.338 | L100: =0.338*C100 -> 0.338
A101: M C C B (표준형) | B101: 4P 600V 50AF | C101: 1 | D101: EA | E101: 66900 | F101: =INT(E101*C101) -> 66900 | J101: 전선0.338 | L101: =0.338*C101 -> 0.338
A102: E L C B (분전반) | B102: 110V/220V 2P 30AF | C102: 8 | D102: EA | E102: 13200 | F102: =C102*E102 -> 105600 | J102: 전선0.133 | L102: =0.133*C102 -> 1.064
A103: MAIN BUS BAR | B103: 3.0 mm x 15 mm | C103: =SUM(R93:R93)*0.003 -> 3.3 | D103: m | E103: =S103 -> 6628.275 | F103: =INT(E103*C103) -> 21873 | J103: 전기0.08단순0.06 | K103: =0.08*C103 -> 0.264 | N103: =0.06*C103 -> 0.198 | O103: 3 | P103: 15 | Q103: =O103*P103*0.0089 -> 0.4005 | R103: 16550 | S103: =Q103*R103 -> 6628.275 | T103: =Q103*C103 -> 1.32165
A104: FEEDER BUS BAR | B104: 3.0 mm x 15 mm | C104: =(C101)*0.4 -> 0.4 | D104: m | E104: =S104 -> 6628.275 | F104: =INT(E104*C104) -> 2651 | J104: 전기0.08단순0.06 | K104: =0.08*C104 -> 0.032 | N104: =0.06*C104 -> 0.024 | O104: 3 | P104: 15 | Q104: =O104*P104*0.0089 -> 0.4005 | R104: 16550 | S104: =Q104*R104 -> 6628.275 | T104: =Q104*C104 -> 0.1602
A105: FEEDER BUS BAR | B105: 2.0 mm x 12 mm | C105: =(C102)*0.2 -> 1.6 | D105: m | E105: =S105 -> 3535.08 | F105: =C105*E105 -> 5656.128 | J105: 전기0.08단순0.06 | K105: =0.08*C105 -> 0.128 | N105: =0.06*C105 -> 0.096 | O105: 2 | P105: 12 | Q105: =O105*P105*0.0089 -> 0.2136 | R105: 16550 | S105: =Q105*R105 -> 3535.08 | T105: =Q105*C105 -> 0.34176
A106: INSULATION TUBE | B106: PVC (적.청.황) | C106: =SUM(C103:C105) -> 5.3 | D106: m | E106: 200 | F106: =C106*E106 -> 1060
A107: BUS BAR COATING | B107: Sn | C107: =U107 -> 1.82361 | D107: kg | E107: 2000 | F107: =C107*E107 -> 3647.22 | U107: =SUM(T103:T105) -> 1.82361
A108: W.H.M | B108: 220/380V 3P4W 40(10)A | C108: 2 | D108: EA | E108: 170000 | F108: =C108*E108 -> 340000 | J108: 전선0.32 | K108: =0.32*C108 -> 0.64
A109: M.C | B109: MC-22b | C109: 4 | D109: EA | E109: 23100 | F109: =C109*E109 -> 92400 | J109: 전선0.3 | L109: =C109*0.3 -> 1.2
A110: TIMER | B110: AC 220V 24HOUR | C110: 1 | D110: EA | E110: 36500 | F110: =INT(E110*C110) -> 36500 | J110: 전선0.2 | L110: =C110*0.2 -> 0.2
A111: S.P.D | B111: 3P4W 40KA | C111: 1 | D111: EA | E111: 240000 | F111: =INT(C111*E111) -> 240000 | J111: 전기0.24 | K111: =0.24*C111 -> 0.24
A112: 이면배선 | B112: KIV 2.5sq | C112: 30 | D112: m | E112: 290 | F112: =C112*E112 -> 8700 | J112: 전기0.055 | K112: =0.055*C112 -> 1.65
A113: PBL | B113: AC 110/220V 30mm | C113: 2 | D113: EA | E113: 5800 | F113: =INT(E113*C113) -> 11600 | J113: 전선0.065 | L113: =C113*0.065 -> 0.13
A114: SELECTOR S/W | B114: 1a1b | C114: 1 | D114: EA | E114: 1100 | F114: =INT(E114*C114) -> 1100 | J114: 전선0.33 | L114: =C114*0.33 -> 0.33
A115: E.T | C115: 1 | D115: EA | E115: 6000 | F115: =C115*E115 -> 6000
A116: N.T | C116: 1 | D116: EA | E116: 4000 | F116: =C116*E116 -> 4000
A117: 재료비 소계 | F117: =SUM(F93:F116) -> 1777087.3 | K117: =SUM(K93:K116) -> 3.034 | L117: =SUM(L93:L116) -> 3.6 | M117: =SUM(M93:M116) -> 0 | N117: =SUM(N93:N116) -> 0.318
A119: B. 노무비
A120: 전기기계조립원 | C120: =K117 -> 3.034 | D120: 인 | G120: 104168 | H120: =INT(C120*G120) -> 316045
A121: 전선원 | C121: =L117 -> 3.6 | D121: 인 | G121: 87861 | H121: =INT(C121*G121) -> 316299
...

Sheet 일대목차
B1: 159 | C1: 일위대가목차
A2: 번호 | B2: … | C2: 코드 | D2: 명 칭 | E2: 규 격 | F2: 단위 | G2: 수량 | H2: 재료비 | J2: 노무비 | M2: 경비 | O2: 계 | P2: 계 | Q2: 비고
H3: 단가 | I3: 금액 | J3: 수량 | K3: 단가 | L3: 금액 | M3: 단가 | N3: 금액 | O3: 단가
B4: 공종줄 | C4: AGAIN행복센터
A5: 56930210010 | B5: ABB111100000 | C5: 제 1호 | D5: 인력터파기 | E5: 보통토사0-1m | F5: ㎥_ | H5: 0 | I5: 0 | K5: 33960 | L5: 33960 | M5: 0 | N5: 0 | O5: 33960 | P5: 33960
A6: 56930210021 | B6: ABD100001000 | C6: 제 2호 | D6: 인력되메우기 | E6: 보통토사0-1m | F6: ㎥_ | H6: 0 | I6: 0 | K6: 18678 | L6: 18678 | M6: 0 | N6: 0 | O6: 18678 | P6: 18678
A7: 56930220040 | B7: ABB103100000 | C7: 제 3호 | D7: 터파기(기계90%,인력10%) | E7: 보통토사 | F7: ㎥ | H7: 381 | I7: 381 | K7: 714 | L7: 714 | M7: 367 | N7: 367 | O7: 1462 | P7: 1462
A8: 56930220053 | B8: ABB104100000 | C8: 제 4호 | D8: 되메우기(기계90%,인력10%) | E8: 보통토사 | F8: ㎥ | H8: 274 | I8: 274 | K8: 521 | L8: 521 | M8: 264 | N8: 264 | O8: 1059 | P8: 1059
A9: 56930220102 | B9: ABC112700000 | C9: 제 5호 | D9: 인력잔토처리 | E9: 현장처리 | F9: ㎥_ | H9: 0 | I9: 0 | K9: 33960 | L9: 33960 | M9: 0 | N9: 0 | O9: 33960 | P9: 33960
A10: 56930250040 | B10: ABD102300000 | C10: 제 6호 | D10: 잡석깔기지정 | E10: 떨공이다지기 | F10: ㎥ | H10: 33091 | I10: 33091 | K10: 3056 | L10: 3056 | M10: 0 | N10: 0 | O10: 36147 | P10: 36147
A11: 56950120082 | B11: EAA110180000 | C11: 제 7호 | D11: 파이프행가 | E11: 82 C | F11: 개소 | H11: 2945 | I11: 2945 | K11: 14521 | L11: 14521 | M11: 0 | N11: 0 | O11: 17466 | P11: 17466
A12: 56950120104 | B12: EAA110200000 | C12: 제 8호 | D12: 파이프행가 | E12: 104 C | F12: 개소 | H12: 3132 | I12: 3132 | K12: 14521 | L12: 14521 | M12: 0 | N12: 0 | O12: 17653 | P12: 17653
A13: 56950160300 | B13: EAA110430000 | C13: 제 9호 | D13: TRAY/DUCT HANGER | E13: W300-1단 | F13: 개소 | H13: 6794 | I13: 6794 | K13: 0 | L13: 0 | M13: 0 | N13: 0 | O13: 6794 | P13: 6794
A14: 56950160500 | B14: EAA110450000 | C14: 제 10호 | D14: TRAY/DUCT HANGER | E14: W500-1단 | F14: 개소 | H14: 7756 | I14: 7756 | K14: 0 | L14: 0 | M14: 0 | N14: 0 | O14: 7756 | P14: 7756
A15: 56950170114 | B15: EAA110640000 | C15: 제 11호 | D15: TRAY/DUCT SUPPORT(W/F) | E15: W300-1단 | F15: 개소 | H15: 4840 | I15: 4840 | K15: 0 | L15: 0 | M15: 0 | N15: 0 | O15: 4840 | P15: 4840
A16: 56950170153 | B16: EAZ800010000 | C16: 제 12호 | D16: 닥트및트레이 | E16: 바닥지지 W300 | F16: 개소 | H16: 3148 | I16: 3148 | K16: 0 | L16: 0 | M16: 0 | N16: 0 | O16: 3148 | P16: 3148
... A123: 56958000096 | B123: EAZ700960000 | C123: 제 119호 | D123: 케이블표지시트 | E123: 저압, 0.15x150 | F123: m | H123: 729 | I123: 729 | K123: 319 | L123: 319 | M123: 0 | N123: 0 | O123: 1048 | P123: 1048
A124: 56958000097 | B124: EAZ700970000 | C124: 제 120호 | D124: 카운터센서 | F124: EA | H124: 80524 | I124: 80524 | K124: 17479 | L124: 17479 | M124: 0 | N124: 0 | O124: 98003 | P124: 98003
A125: 56958000098 | B125: EAZ700980000 | C125: 제 121호 | D125: 카운터절전스위치 | F125: EA | H125: 240524 | I125: 240524 | K125: 17479 | L125: 17479 | M125: 0 | N125: 0 | O125: 258003 | P125: 258003
A126: 56958000099 | B126: EAZ700990000 | C126: 제 122호 | D126: 철근클램프 | E126: 구조체접속 | F126: EA | H126: 7661 | I126: 7661 | K126: 5378 | L126: 5378 | M126: 0 | N126: 0 | O126: 13039 | P126: 13039
A127: 56958000100 | B127: EAZ701000000 | C127: 제 123호 | D127: C형 슬리브 | E127: 70SQ | F127: EA | H127: 3982 | I127: 3982 | K127: 26084 | L127: 26084 | M127: 0 | N127: 0 | O127: 30066 | P127: 30066
A128: 56958000101 | B128: EAZ701010000 | C128: 제 124호 | D128: SUS접지모듈 | E128: (100×100×1200) | F128: EA | H128: 454521 | I128: 454521 | K128: 150716 | L128: 150716 | M128: 0 | N128: 0 | O128: 605237 | P128: 605237
A129: 56958000102 | B129: EAZ701020000 | C129: 제 125호 | D129: 접지저감재 | E129: 그린어스 탄소형 | F129: 포 | H129: 45887 | I129: 45887 | K129: 29580 | L129: 29580 | M129: 0 | N129: 0 | O129: 75467 | P129: 75467
A130: 56958000103 | B130: EAZ701030000 | C130: 제 126호 | D130: 수막처리봉 | E130: 300L | F130: EA | H130: 41565 | I130: 41565 | K130: 52169 | L130: 52169 | M130: 0 | N130: 0 | O130: 93734 | P130: 93734
A131: 56958000104 | B131: EAZ701040000 | C131: 제 127호 | D131: 대지고유저항 측정 및 분석 | F131: POINT | H131: 14952 | I131: 14952 | K131: 498404 | L131: 498404 | M131: 0 | N131: 0 | O131: 513356 | P131: 513356
A132: 56958000105 | B132: EAZ701050000 | C132: 제 128호 | D132: 접지저항 측정 | F132: 기 | H132: 2632 | I132: 2632 | K132: 87754 | L132: 87754 | M132: 0 | N132: 0 | O132: 90386 | P132: 90386
A133: 56958000106 | B133: EAZ701060000 | C133: 제 129호 | D133: 수평도체 | E133: 알루미늄 8mm | F133: m | H133: 4407 | I133: 4407 | K133: 5929 | L133: 5929 | M133: 0 | N133: 0 | O133: 10336 | P133: 10336
A134: 56958000107 | B134: EAZ701070000 | C134: 제 130호 | D134: 칼블럭(지지금구 고정) | E134: 지지금구 * 2 | F134: EA | H134: 425 | I134: 425 | K134: 7529 | L134: 7529 | M134: 0 | N134: 0 | O134: 7954 | P134: 7954
A135: 56958000108 | B135: EAZ701080000 | C135: 제 131호 | D135: S2피뢰침 | E135: 1M(알루미늄) | F135: EA | H135: 50177 | I135: 50177 | K135: 5929 | L135: 5929 | M135: 0 | N135: 0 | O135: 56106 | P135: 56106
A136: 56958000109 | B136: EAZ701090000 | C136: 제 132호 | D136: 구조체접속 | E136: 철근클램프 | F136: EA | H136: 7661 | I136: 7661 | K136: 5378 | L136: 5378 | M136: 0 | N136: 0 | O136: 13039 | P136: 13039
A137: 56958000110 | B137: EAZ701100000 | C137: 제 133호 | D137: 그라운드 패드 | F137: EA | H137: 31290 | I137: 31290 | K137: 43026 | L137: 43026 | M137: 0 | N137: 0 | O137: 74316 | P137: 74316
A138: 56958000111 | B138: EAZ701110000 | C138: 제 134호 | D138: 이질슬리브 | F138: EA | H138: 12782 | I138: 12782 | K138: 26084 | L138: 26084 | M138: 0 | N138: 0 | O138: 38866 | P138: 38866
A139: 56958000112 | B139: EAZ701120000 | C139: 제 135호 | D139: 번디클램프 | E139: 철근콘크리트 내 죔쇠접속 | F139: EA | H139: 7917 | I139: 7917 | K139: 7260 | L139: 7260 | M139: 0 | N139: 0 | O139: 15177 | P139: 15177
A140: 56958000113 | B140: EAZ701130000 | C140: 제 136호 | D140: 분전반(어게인행복센터)-@관급 | E140: LN-1-M | F140: 면 | H140: 9922 | I140: 9922 | K140: 330765 | L140: 330765 | M140: 0 | N140: 0 | O140: 340687 | P140: 340687
A141: 56958000114 | B141: EAZ701140000 | C141: 제 137호 | D141: 분전반(어게인행복센터)-@관급 | E141: LN-1-화장실 | F141: 면 | H141: 9922 | I141: 9922 | K141: 330765 | L141: 330765 | M141: 0 | N141: 0 | O141: 340687 | P141: 340687
A142: 56958000115 | B142: EAZ701150000 | C142: 제 138호 | D142: 분전반(어게인행복센터)-@관급 | E142: LN-2-M | F142: 면 | H142: 9922 | I142: 9922 | K142: 330765 | L142: 330765 | M142: 0 | N142: 0 | O142: 340687 | P142: 340687
A143: 56958000116 | B143: EAZ701160000 | C143: 제 139호 | D143: 분전반(어게인행복센터)-@관급 | E143: LN-2-화장실 | F143: 면 | H143: 9922 | I143: 9922 | K143: 330765 | L143: 330765 | M143: 0 | N143: 0 | O143: 340687 | P143: 340687
A144: 56958000117 | B144: EAZ701170000 | C144: 제 140호 | D144: 분전반(어게인행복센터)-@관급 | E144: LN-EHP-RF | F144: 면 | H144: 9922 | I144: 9922 | K144: 330765 | L144: 330765 | M144: 0 | N144: 0 | O144: 340687 | P144: 340687
A145: 56958000118 | B145: EAZ701180000 | C145: 제 141호 | D145: 분전반(어게인행복센터)-@관급 | E145: LN-ELEV | F145: 면 | H145: 9922 | I145: 9922 | K145: 330765 | L145: 330765 | M145: 0 | N145: 0 | O145: 340687 | P145: 340687
A146: 56958000119 | B146: EAZ701190000 | C146: 제 142호 | D146: 분전반(어게인행복센터)-@관급 | E146: LN-건강관리 | F146: 면 | H146: 9922 | I146: 9922 | K146: 330765 | L146: 330765 | M146: 0 | N146: 0 | O146: 340687 | P146: 340687
A147: 56958000120 | B147: EAZ701200000 | C147: 제 143호 | D147: 분전반(어게인행복센터)-@관급 | E147: LN-다목적실 | F147: 면 | H147: 9922 | I147: 9922 | K147: 330765 | L147: 330765 | M147: 0 | N147: 0 | O147: 340687 | P147: 340687
A148: 56958000121 | B148: EAZ701210000 | C148: 제 144호 | D148: 분전반(어게인행복센터)-@관급 | E148: LN-북카페 | F148: 면 | H148: 9922 | I148: 9922 | K148: 330765 | L148: 330765 | M148: 0 | N148: 0 | O148: 340687 | P148: 340687
A149: 56958000122 | B149: EAZ701220000 | C149: 제 145호 | D149: 분전반(어게인행복센터)-@관급 | E149: LN-사무실 | F149: 면 | H149: 9922 | I149: 9922 | K149: 330765 | L149: 330765 | M149: 0 | N149: 0 | O149: 340687 | P149: 340687
A150: 56958000123 | B150: EAZ701230000 | C150: 제 146호 | D150: 분전반(어게인행복센터)-@관급 | E150: LN-전기실 | F150: 면 | H150: 9922 | I150: 9922 | K150: 330765 | L150: 330765 | M150: 0 | N150: 0 | O150: 340687 | P150: 340687
... A158: 56958000131 | B158: EAZ701310000 | C158: 제 154호 | D158: 조명기구(어게인행복센터)-@관급 | E158: TYPE "F" | F158: EA | H158: 1782 | I158: 1782 | K158: 59430 | L158: 59430 | M158: 0 | N158: 0 | O158: 61212 | P158: 61212
B161: 공종줄 | C161: 어린이창의마당
A162: 56950010104 | B162: EGT110120000 | C162: 제 1호 | D162: 외등기초(매입) | E162: 3m~6m미만(W/접지봉) | F162: 개소 | H162: 116964 | I162: 116964 | K162: 373095 | L162: 373095 | M162: 5607 | N162: 5607 | O162: 495666 | P162: 495666
A163: 56950010201 | B163: EBP110110000 | C163: 제 2호 | D163: 가로등 건주 기계화 시공 | E163: 일반 5m-7m | F163: 개소 | H163: 11362 | I163: 11362 | K163: 109298 | L163: 109298 | M163: 11958 | N163: 11958 | O163: 132618 | P163: 132618
A164: 56958000001 | B164: EAZ700010000 | C164: 제 3호 | D164: 다기능 접속함 | E164: 방수형 | F164: EA | H164: 56072 | I164: 56072 | K164: 35765 | L164: 35765 | M164: 0 | N164: 0 | O164: 91837 | P164: 91837
A165: 56958000002 | B165: EAZ700020000 | C165: 제 4호 | D165: 조명기구(어린이창의마당)-@관 | E165: TYPE "OA" | F165: EA | H165: 1476 | I165: 1476 | K165: 49211 | L165: 49211 | M165: 0 | N165: 0 | O165: 50687 | P165: 50687
B188: 공종줄 | C188: 신풍행복나눔센터
A189: 56930210010 | B189: ABB111100000 | C189: 제 1호 | D189: 인력터파기 | E189: 보통토사0-1m | F189: ㎥_ | H189: 0 | I189: 0 | K189: 33960 | L189: 33960 | M189: 0 | N189: 0 | O189: 33960 | P189: 33960
A190: 56930210021 | B190: ABD100001000 | C190: 제 2호 | D190: 인력되메우기 | E190: 보통토사0-1m | F190: ㎥_ | H190: 0 | I190: 0 | K190: 18678 | L190: 18678 | M190: 0 | N190: 0 | O190: 18678 | P190: 18678
A191: 56930220040 | B191: ABB103100000 | C191: 제 3호 | D191: 터파기(기계90%,인력10%) | E191: 보통토사 | F191: ㎥ | H191: 381 | I191: 381 | K191: 724 | L191: 724 | M191: 367 | N191: 367 | O191: 1472 | P191: 1472
A192: 56930220053 | B192: ABB104100000 | C192: 제 4호 | D192: 되메우기(기계90%,인력10%) | E192: 보통토사 | F192: ㎥ | H192: 273 | I192: 273 | K192: 521 | L192: 521 | M192: 264 | N192: 264 | O192: 1058 | P192: 1058
A193: 56930220102 | B193: ABC112700000 | C193: 제 5호 | D193: 인력잔토처리 | E193: 현장처리 | F193: ㎥_ | H193: 0 | I193: 0 | K193: 33960 | L193: 33960 | M193: 0 | N193: 0 | O193: 33960 | P193: 33960
A194: 56930250040 | B194: ABD102300000 | C194: 제 6호 | D194: 잡석깔기지정 | E194: 떨공이다지기 | F194: ㎥ | H194: 33091 | I194: 33091 | K194: 3056 | L194: 3056 | M194: 0 | N194: 0 | O194: 36147 | P194: 36147
A195: 56950010104 | B195: EGT110120000 | C195: 제 7호 | D195: 외등기초(매입) | E195: 3m~6m미만(W/접지봉) | F195: 개소 | H195: 116964 | I195: 116964 | K195: 373095 | L195: 373095 | M195: 5607 | N195: 5607 | O195: 495666 | P195: 495666
A196: 56950010201 | B196: EBP110110000 | C196: 제 8호 | D196: 가로등 건주 기계화 시공 | E196: 일반 5m-7m | F196: 개소 | H196: 11362 | I196: 11362 | K196: 109298 | L196: 109298 | M196: 11958 | N196: 11958 | O196: 132618 | P196: 132618
A197: 569506GG003 | B197: EAZ800010000 | C197: 제 9호 | D197: 나사없는전선관행거 | E197: E39(36C) | F197: 개소 | H197: 2241 | I197: 2241 | K197: 14521 | L197: 14521 | M197: 0 | N197: 0 | O197: 16762 | P197: 16762
A198: 569506GG004 | B198: EAZ800020000 | C198: 제 10호 | D198: 나사없는전선관행거 | E198: E51(42C) | F198: 개소 | H198: 2268 | I198: 2268 | K198: 14521 | L198: 14521 | M198: 0 | N198: 0 | O198: 16789 | P198: 16789
A199: 56950GG1010 | B199: 56950GG10010 | C199: 제 11호 | D199: 관로구방수 | E199: ø40 | F199: 개 | H199: 39313 | I199: 39313 | K199: 62058 | L199: 62058 | M199: 0 | N199: 0 | O199: 101371 | P199: 101371
A200: 56959000017 | B200: EAZ800030000 | C200: 제 12호 | D200: 맨홀 | E200: 1000x1000x1000 | F200: 개소 | H200: 533502 | I200: 533502 | K200: 826948 | L200: 826948 | M200: 51595 | N200: 51595 | O200: 1412045 | P200: 1412045
... A246: 56958000045 | B246: EAZ700450000 | C246: 제 58호 | D246: 다기능 접속함 | E246: 방수형 | F246: EA | H246: 56072 | I246: 56072 | K246: 35765 | L246: 35765 | M246: 0 | N246: 0 | O246: 91837 | P246: 91837
A247: 56958000046 | B247: EAZ700460000 | C247: 제 59호 | D247: 카운터센서 | F247: EA | H247: 80524 | I247: 80524 | K247: 17479 | L247: 17479 | M247: 0 | N247: 0 | O247: 98003 | P247: 98003
A248: 56958000047 | B248: EAZ700470000 | C248: 제 60호 | D248: 카운터절전스위치 | F248: EA | H248: 240524 | I248: 240524 | K248: 17479 | L248: 17479 | M248: 0 | N248: 0 | O248: 258003 | P248: 258003
A249: 56958000048 | B249: EAZ700480000 | C249: 제 61호 | D249: 전주밴드 | E249: 150mm∼300mm | F249: EA | H249: 7570 | I249: 7570 | K249: 22343 | L249: 22343 | M249: 0 | N249: 0 | O249: 29913 | P249: 29913
A250: 56958000049 | B250: EAZ700490000 | C250: 제 62호 | D250: 철근클램프 | E250: 구조체접속 | F250: EA | H250: 7661 | I250: 7661 | K250: 5378 | L250: 5378 | M250: 0 | N250: 0 | O250: 13039 | P250: 13039
A251: 56958000050 | B251: EAZ700500000 | C251: 제 63호 | D251: C형 슬리브 | E251: 70SQ | F251: EA | H251: 3982 | I251: 3982 | K251: 26084 | L251: 26084 | M251: 0 | N251: 0 | O251: 30066 | P251: 30066
A252: 56958000051 | B252: EAZ700510000 | C252: 제 64호 | D252: SUS접지모듈 | E252: (100×100×1200) | F252: EA | H252: 454521 | I252: 454521 | K252: 150716 | L252: 150716 | M252: 0 | N252: 0 | O252: 605237 | P252: 605237
A253: 56958000052 | B253: EAZ700520000 | C253: 제 65호 | D253: 접지저감재 | E253: 그린어스 탄소형 | F253: 포 | H253: 45887 | I253: 45887 | K253: 29580 | L253: 29580 | M253: 0 | N253: 0 | O253: 75467 | P253: 75467
A254: 56958000053 | B254: EAZ700530000 | C254: 제 66호 | D254: 수막처리봉 | E254: 300L | F254: EA | H254: 41565 | I254: 41565 | K254: 52169 | L254: 52169 | M254: 0 | N254: 0 | O254: 93734 | P254: 93734
A255: 56958000054 | B255: EAZ700540000 | C255: 제 67호 | D255: 그라운드 패드 | F255: EA | H255: 31290 | I255: 31290 | K255: 43026 | L255: 43026 | M255: 0 | N255: 0 | O255: 74316 | P255: 74316
A256: 56958000055 | B256: EAZ700550000 | C256: 제 68호 | D256: 각도조절형피뢰침 지지대 | E256: 5M | F256: EA | H256: 455324 | I256: 455324 | K256: 177483 | L256: 177483 | M256: 0 | N256: 0 | O256: 632807 | P256: 632807
A257: 56959000018 | B257: EAZ800040000 | C257: 제 69호 | D257: 분전반(신풍)-@관급자재 | E257: WHM함 | F257: 면 | H257: 5324 | I257: 5324 | K257: 177483 | L257: 177483 | M257: 0 | N257: 0 | O257: 182807 | P257: 182807
A258: 56958000056 | B258: EAZ700560000 | C258: 제 70호 | D258: 분전반(신풍)-@관급자재 | E258: LN-신풍 | F258: 면 | H258: 9922 | I258: 9922 | K258: 330765 | L258: 330765 | M258: 0 | N258: 0 | O258: 340687 | P258: 340687
A259: 56958000057 | B259: EAZ700570000 | C259: 제 71호 | D259: 조명기구(신풍행복나눔센터)-@관급자재 | E259: TYPE "A" | F259: EA | H259: 1782 | I259: 1782 | K259: 59430 | L259: 59430 | M259: 0 | N259: 0 | O259: 61212 | P259: 61212
A260: 56958000058 | B260: EAZ700580000 | C260: 제 72호 | D260: 조명기구(신풍행복나눔센터)-@관급자재 | E260: TYPE "B" | F260: EA | H260: 1250 | I260: 1250 | K260: 41681 | L260: 41681 | M260: 0 | N260: 0 | O260: 42931 | P260: 42931
A261: 56958000059 | B261: EAZ700590000 | C261: 제 73호 | D261: 조명기구(신풍행복나눔센터)-@관급자재 | E261: TYPE "C" | F261: EA | H261: 943 | I261: 943 | K261: 31463 | L261: 31463 | M261: 0 | N261: 0 | O261: 32406 | P261: 32406
A262: 56958000060 | B262: EAZ700600000 | C262: 제 74호 | D262: 조명기구(신풍행복나눔센터)-@관급자재 | E262: TYPE "OA" | F262: EA | H262: 1476 | I262: 1476 | K262: 49211 | L262: 49211 | M262: 0 | N262: 0 | O262: 50687 | P262: 50687
B267: 공종줄 | C267: 사곡면배드민턴장
A268: 56930210010 | B268: ABB111100000 | C268: 제 1호 | D268: 인력터파기 | E268: 보통토사0-1m | F268: ㎥_ | H268: 0 | I268: 0 | K268: 33960 | L268: 33960 | M268: 0 | N268: 0 | O268: 33960 | P268: 33960
A269: 56930210021 | B269: ABD100001000 | C269: 제 2호 | D269: 인력되메우기 | E269: 보통토사0-1m | F269: ㎥_ | H269: 0 | I269: 0 | K269: 18678 | L269: 18678 | M269: 0 | N269: 0 | O269: 18678 | P269: 18678
A270: 56930220040 | B270: ABB103100000 | C270: 제 3호 | D270: 터파기(기계90%,인력10%) | E270: 보통토사 | F270: ㎥ | H270: 381 | I270: 381 | K270: 724 | L270: 724 | M270: 367 | N270: 367 | O270: 1472 | P270: 1472
A271: 56930220053 | B271: ABB104100000 | C271: 제 4호 | D271: 되메우기(기계90%,인력10%) | E271: 보통토사 | F271: ㎥ | H271: 273 | I271: 273 | K271: 521 | L271: 521 | M271: 264 | N271: 264 | O271: 1058 | P271: 1058
A272: 56950010104 | B272: EGT110120000 | C272: 제 5호 | D272: 외등기초(매입) | E272: 3m~6m미만(W/접지봉) | F272: 개소 | H272: 116964 | I272: 116964 | K272: 373095 | L272: 373095 | M272: 5607 | N272: 5607 | O272: 495666 | P272: 495666
A273: 56950010201 | B273: EBP110110000 | C273: 제 6호 | D273: 가로등 건주 기계화 시공 | E273: 일반 5m-7m | F273: 개소 | H273: 11362 | I273: 11362 | K273: 109298 | L273: 109298 | M273: 11958 | N273: 11958 | O273: 132618 | P273: 132618
A274: 5695066RRR3 | B274: EAZ800010000 | C274: 제 7호 | D274: 전주인하(10M) | E274: 1회선 | F274: 개소 | H274: 316039 | I274: 316039 | K274: 111719 | L274: 111719 | M274: 0 | N274: 0 | O274: 427758 | P274: 427758
A275: 56958000001 | B275: EAZ700010000 | C275: 제 8호 | D275: 파상형 폴리에틸렌 전선관 | E275: 30㎜(가로등,신호,구내) | F275: M | H275: 628 | I275: 628 | K275: 7242 | L275: 7242 | M275: 0 | N275: 0 | O275: 7870 | P275: 7870
A276: 56958000002 | B276: EAZ700020000 | C276: 제 9호 | D276: 파상형 폴리에틸렌 전선관 | E276: 40㎜(가로등,신호,구내) | F276: M | H276: 893 | I276: 893 | K276: 8874 | L276: 8874 | M276: 0 | N276: 0 | O276: 9767 | P276: 9767
A277: 56958000003 | B277: EAZ700030000 | C277: 제 10호 | D277: 파상형 폴리에틸렌 전선관 | E277: 40㎜(전기) | F277: M | H277: 804 | I277: 804 | K277: 5916 | L277: 5916 | M277: 0 | N277: 0 | O277: 6720 | P277: 6720
A278: 56958000004 | B278: EAZ700040000 | C278: 제 11호 | D278: 접지용비닐절연전선(F-GV) | E278: 10㎟ | F278: M | H278: 2195 | I278: 2195 | K278: 2420 | L278: 2420 | M278: 0 | N278: 0 | O278: 4615 | P278: 4615
A279: 56958000005 | B279: EAZ700050000 | C279: 제 12호 | D279: 전력케이블-가로등 | E279: 0.6/1kv F-CV 2C×4㎟ | F279: M | H279: 2348 | I279: 2348 | K279: 4564 | L279: 4564 | M279: 0 | N279: 0 | O279: 6912 | P279: 6912
... A285: 56958000011 | B285: EAZ700110000 | C285: 제 18호 | D285: 조명기구(배드민턴장)-@관급자 | E285: TYPE "OA" | F285: EA | H285: 1476 | I285: 1476 | K285: 49211 | L285: 49211 | M285: 0 | N285: 0 | O285: 50687 | P285: 50687
B294: 공종줄 | C294: 유구읍행정복지센터
A295: 56930210010 | B295: ABB111100000 | C295: 제 1호 | D295: 인력터파기 | E295: 보통토사0-1m | F295: ㎥_ | H295: 0 | I295: 0 | K295: 33960 | L295: 33960 | M295: 0 | N295: 0 | O295: 33960 | P295: 33960
A296: 56930210021 | B296: ABD100001000 | C296: 제 2호 | D296: 인력되메우기 | E296: 보통토사0-1m | F296: ㎥_ | H296: 0 | I296: 0 | K296: 18678 | L296: 18678 | M296: 0 | N296: 0 | O296: 18678 | P296: 18678
A297: 56930220040 | B297: ABB103100000 | C297: 제 3호 | D297: 터파기(기계90%,인력10%) | E297: 보통토사 | F297: ㎥ | H297: 381 | I297: 381 | K297: 724 | L297: 724 | M297: 367 | N297: 367 | O297: 1472 | P297: 1472
A298: 56930220053 | B298: ABB104100000 | C298: 제 4호 | D298: 되메우기(기계90%,인력10%) | E298: 보통토사 | F298: ㎥ | H298: 273 | I298: 273 | K298: 521 | L298: 521 | M298: 264 | N298: 264 | O298: 1058 | P298: 1058
A299: 56930220102 | B299: ABC112700000 | C299: 제 5호 | D299: 인력잔토처리 | E299: 현장처리 | F299: ㎥_ | H299: 0 | I299: 0 | K299: 33960 | L299: 33960 | M299: 0 | N299: 0 | O299: 33960 | P299: 33960
...

Sheet 일위대가
B1: 1121 | D1: 일위대가표 | W1: 노임 계산 정보 | AA1: 부속재 및 손료
A2: 번호 | B2: 목차코드 | C2: 코드 | D2: 명 칭 | E2: 규 격 | F2: 단위 | G2: 수량 | H2: 재료비 | J2: 노무비 | M2: 경비 | P2: 계 | Q2: 비고 | W2: 노임계 | X2: 전체(%) | Y2: 공종별(%) | Z2: 노임 소수 | AA2: CD배관재 | AB2: 일반배관재 | AC2: 소모재 | AD2: 자재계 | AE2: 노임계
H3: 단가 | I3: 금액 | J3: 수량 | K3: 단가 | L3: 금액 | M3: 단가 | N3: 금액 | O3: 단가 | AD3: 1 | AE3: 1
B4: 공종줄 | D4: AGAIN행복센터
A5: 56930210010 | B5: 일목줄 | C5: ABB111100000 | D5: [제 1호] 인력터파기 보통토사0-1m [㎥_]
A6: 56900017041 | B6: 제 1호 | C6: L001010101000002 | D6: 노 무 비 | E6: 보통인부 | F6: 인 | G6: 0.2 | H6: 0 | J6: 0.2 | K6: 169804 | L6: 33960.8 | M6: 0 | O6: 169804 | P6: 33960.8 | AE6: =L6 -> 33960.8
B7: 합계줄 | D7: ( 합 계 ) | I7: 0 | L7: 33960 | N7: 0 | P7: 33960 | AE7: =TRUNC(SUM(AE5:AE6)) -> 33960
A9: 56930210021 | B9: 일목줄 | C9: ABD100001000 | D9: [제 2호] 인력되메우기 보통토사0-1m [㎥_]
A10: 56900017041 | B10: 제 2호 | C10: L001010101000002 | D10: 노 무 비 | E10: 보통인부 | F10: 인 | G10: 0.11 | H10: 0 | J10: 0.11 | K10: 169804 | L10: 18678.4 | M10: 0 | O10: 169804 | P10: 18678.4 | AE10: =L10 -> 18678.4
B11: 합계줄 | D11: ( 합 계 ) | I11: 0 | L11: 18678 | N11: 0 | P11: 18678 | AE11: =TRUNC(SUM(AE9:AE10)) -> 18678
A13: 56930220040 | B13: 일목줄 | C13: ABB103100000 | D13: [제 3호] 터파기(기계90%,인력10%) 보통토사 [㎥]
A14: 56930210010 | B14: 제 3호 | C14: ABB111100000 | D14: 인력터파기 | E14: 보통토사0-1m | F14: ㎥_ | G14: 0.1 | H14: 0 | J14: 0.1 | K14: 33960 | L14: 3396 | M14: 0 | O14: 33960 | P14: 3396 | Q14: 제 1호 | R14: ILD
A15: CA565826042 | B15: 제 3호 | C15: ECA565826042 | D15: 기계터파기 | E15: 보통토사(0.6㎥/43.6) | F15: ㎥ | G15: 0.9 | H15: 427 | I15: 384.3 | J15: 0.9 | K15: 1302 | L15: 1171.8 | M15: 589 | N15: 530.1 | O15: 2318 | P15: 2086.2 | Q15: 164-하 | R15: ILD
B16: 합계줄 | D16: ( 합 계 ) | I16: 381 | L16: 724 | N16: 367 | P16: 1472 | S16: 건축금액적용_VE | AE16: =TRUNC(SUM(AE13:AE15)) -> 0
A18: 56930220053 | B18: 일목줄 | C18: ABB104100000 | D18: [제 4호] 되메우기(기계90%,인력10%) 보통토사 [㎥]
A19: 56930210021 | B19: 제 4호 | C19: ABD100001000 | D19: 인력되메우기 | E19: 보통토사0-1m | F19: ㎥_ | G19: 0.1 | H19: 0 | J19: 0.1 | K19: 18678 | L19: 1867.8 | M19: 0 | O19: 18678 | P19: 1867.8 | Q19: 제 2호 | R19: ILD
A20: CA565826051 | B20: 제 4호 | C20: ECA565826051 | D20: 기계되메우기 | E20: 보통토사(0.6㎥/43.6) | F20: ㎥ | G20: 0.9 | H20: 427 | I20: 384.3 | J20: 0.9 | K20: 1302 | L20: 1171.8 | M20: 589 | N20: 530.1 | O20: 2318 | P20: 2086.2 | Q20: 164-하 | R20: ILD
B21: 합계줄 | D21: ( 합 계 ) | I21: 274 | L21: 521 | N21: 264 | P21: 1059 | S21: 건축금액적용_VE | AE21: =TRUNC(SUM(AE18:AE20)) -> 0
A23: 56930220102 | B23: 일목줄 | C23: ABC112700000 | D23: [제 5호] 인력잔토처리 현장처리 [㎥_]
A24: 56900017041 | B24: 제 5호 | C24: L001010101000002 | D24: 노 무 비 | E24: 보통인부 | F24: 인 | G24: 0.2 | H24: 0 | J24: 0.2 | K24: 169804 | L24: 33960.8 | M24: 0 | O24: 169804 | P24: 33960.8 | AE24: =L24 -> 33960.8
B25: 합계줄 | D25: ( 합 계 ) | I25: 0 | L25: 33960 | N25: 0 | P25: 33960 | AE25: =TRUNC(SUM(AE23:AE24)) -> 33960
A27: 56930250040 | B27: 일목줄 | C27: ABD102300000 | D27: [제 6호] 잡석깔기지정 떨공이다지기 [㎥]
A28: 56100047001 | B28: 제 6호 | C28: 1111161120142610 | D28: 자갈 | E28: 상차도 | F28: ㎥ | G28: 1.1 | H28: 30000 | I28: 33000 | J28: 1.1 | K28: 0 | M28: 0 | O28: 30000 | P28: 33000
A29: 56900017041 | B29: 제 6호 | C29: L001010101000002 | D29: 노 무 비 | E29: 보통인부 | F29: 인 | G29: 0.018 | H29: 0 | J29: 0.018 | K29: 169804 | L29: 3056.4 | M29: 0 | O29: 169804 | P29: 3056.4 | AE29: =L29 -> 3056.4
A30: A0300000000 | B30: 제 6호 | C30: RENT000000000006 | D30: [ 공 구 손 료 ] | E30: 노무비의 3 % | F30: 식 | G30: 1 | H30: 91.6 | I30: 91.6 | J30: 1 | O30: 91.6 | P30: 91.6
B31: 합계줄 | D31: ( 합 계 ) | I31: 33091 | L31: 3056 | N31: 0 | P31: 36147 | AC31: =TRUNC(AE31*옵션!$B$36/100,1) -> 91.6 | AD31: =TRUNC(SUM(L27:L29)) -> 3056 | AE31: =TRUNC(SUM(AE27:AE30)) -> 3056
A33: 56950120082 | B33: 일목줄 | C33: EAA110180000 | D33: [제 7호] 파이프행가 82 C [개소]
A34: 59759017118 | B34: 제 7호 | C34: 3913170810036364 | D34: 강재전선관용 부품 | E34: 파이프행거, 82 C | F34: 개 | G34: 1 | H34: 1082 | I34: 1082 | J34: 1 | K34: 0 | M34: 0 | O34: 1082 | P34: 1082
A35: 53060327011 | B35: 제 7호 | C35: 3116169820135160 | D35: 행거볼트 | E35: ∮9×1000㎜ | F35: 개 | G35: 1 | H35: 1220 | I35: 1220 | J35: 1 | K35: 0 | M35: 0 | O35: 1220 | P35: 1220
A36: 53060807001 | B36: 제 7호 | C36: 3116210220135769 | D36: 스트롱앵커 | E36: 3/8 | F36: 개 | G36: 1 | H36: 130 | I36: 130 | J36: 1 | K36: 0 | M36: 0 | O36: 130 | P36: 130
A37: 53100028501 | B37: 제 7호 | C37: 3116172710023970 | D37: 6각너트 | E37: 3/8,M10 | F37: EA | G37: 2 | H37: 29 | I37: 58 | J37: 2 | K37: 0 | M37: 0 | O37: 29 | P37: 58
A38: 52100327001 | B38: 제 7호 | C38: 3116181120136195 | D38: 스프링와샤 | E38: D10 | F38: EA | G38: 2 | H38: 10 | I38: 20 | J38: 2 | K38: 0 | M38: 0 | O38: 10 | P38: 20
A39: 56900017016 | B39: 제 7호 | C39: L001010101000075 | D39: 노 무 비 | E39: 내선전공 | F39: 인 | G39: 0.054 | H39: 0 | J39: 0.054 | K39: 268915 | L39: 14521.4 | M39: 0 | O39: 268915 | P39: 14521.4 | AE39: =L39 -> 14521.4
A40: A0300000000 | B40: 제 7호 | C40: RENT000000000006 | D40: [ 공 구 손 료 ] | E40: 노무비의 3 % | F40: 식 | G40: 1 | H40: 435.6 | I40: 435.6 | J40: 1 | O40: 435.6 | P40: 435.6
B41: 합계줄 | D41: ( 합 계 ) | I41: 2945 | L41: 14521 | N41: 0 | P41: 17466 | AC41: =TRUNC(AE41*옵션!$B$36/100,1) -> 435.6 | AD41: =TRUNC(SUM(L33:L39)) -> 14521 | AE41: =TRUNC(SUM(AE33:AE40)) -> 14521
A43: 56950120104 | B43: 일목줄 | C43: EAA110200000 | D43: [제 8호] 파이프행가 104 C [개소]
A44: 59759017119 | B44: 제 8호 | C44: 3913170810036365 | D44: 강재전선관용 부품 | E44: 파이프행거, 104 C | F44: 개 | G44: 1 | H44: 1269 | I44: 1269 | J44: 1 | K44: 0 | M44: 0 | O44: 1269 | P44: 1269
A45: 53060327011 | B45: 제 8호 | C45: 3116169820135160 | D45: 행거볼트 | E45: ∮9×1000㎜ | F45: 개 | G45: 1 | H45: 1220 | I45: 1220 | J45: 1 | K45: 0 | M45: 0 | O45: 1220 | P45: 1220
A46: 53060807001 | B46: 제 8호 | C46: 3116210220135769 | D46: 스트롱앵커 | E46: 3/8 | F46: 개 | G46: 1 | H46: 130 | I46: 130 | J46: 1 | K46: 0 | M46: 0 | O46: 130 | P46: 130
A47: 53100028501 | B47: 제 8호 | C47: 3116172710023970 | D47: 6각너트 | E47: 3/8,M10 | F47: EA | G47: 2 | H47: 29 | I47: 58 | J47: 2 | K47: 0 | M47: 0 | O47: 29 | P47: 58
A48: 52100327001 | B48: 제 8호 | C48: 3116181120136195 | D48: 스프링와샤 | E48: D10 | F48: EA | G48: 2 | H48: 10 | I48: 20 | J48: 2 | K48: 0 | M48: 0 | O48: 10 | P48: 20
A49: 56900017016 | B49: 제 8호 | C49: L001010101000075 | D49: 노 무 비 | E49: 내선전공 | F49: 인 | G49: 0.054 | H49: 0 | J49: 0.054 | K49: 268915 | L49: 14521.4 | M49: 0 | O49: 268915 | P49: 14521.4 | AE49: =L49 -> 14521.4
A50: A0300000000 | B50: 제 8호 | C50: RENT000000000006 | D50: [ 공 구 손 료 ] | E50: 노무비의 3 % | F50: 식 | G50: 1 | H50: 435.6 | I50: 435.6 | J50: 1 | O50: 435.6 | P50: 435.6
B51: 합계줄 | D51: ( 합 계 ) | I51: 3132 | L51: 14521 | N51: 0 | P51: 17653 | AC51: =TRUNC(AE51*옵션!$B$36/100,1) -> 435.6 | AD51: =TRUNC(SUM(L43:L49)) -> 14521 | AE51: =TRUNC(SUM(AE43:AE50)) -> 14521
A53: 56950160300 | B53: 일목줄 | C53: EAA110430000 | D53: [제 9호] TRAY/DUCT HANGER W300-1단 [개소]
A54: 59754967601 | B54: 제 9호 | C54: 3913170520175128 | D54: 케이블트레이부속품 | E54: U CHANNEL, 41x41x2.6t | F54: 개 | G54: 0.4 | H54: 4811 | I54: 1924.4 | J54: 0.4 | K54: 0 | M54: 0 | O54: 4811 | P54: 1924.4
A55: 53060327011 | B55: 제 9호 | C55: 3116169820135160 | D55: 행거볼트 | E55: ∮9×1000㎜ | F55: 개 | G55: 2 | H55: 1220 | I55: 2440 | J55: 2 | K55: 0 | M55: 0 | O55: 1220 | P55: 2440
A56: MMG93335585 | B56: 제 9호 | C56: 1818111888880000 | D56: 인서트(TRAY) | E56: 주물, Φ9mm | F56: 개 | G56: 2 | H56: 590 | I56: 1180 | J56: 2 | K56: 0 | M56: 0 | O56: 590 | P56: 1180
A57: 53100028501 | B57: 제 9호 | C57: 3116172710023970 | D57: 6각너트 | E57: 3/8,M10 | F57: EA | G57: 4 | H57: 29 | I57: 116 | J57: 4 | K57: 0 | M57: 0 | O57: 29 | P57: 116
A58: 52100327001 | B58: 제 9호 | C58: 3116181120136195 | D58: 스프링와샤 | E58: D10 | F58: EA | G58: 4 | H58: 10 | I58: 40 | J58: 4 | K58: 0 | M58: 0 | O58: 10 | P58: 40
A59: 59754967572 | B59: 제 9호 | C59: 3913170520935624 | D59: 케이블트레이부속품 | E59: RAIL CLAMP | F59: 개 | G59: 2 | H59: 547 | I59: 1094 | J59: 2 | K59: 0 | M59: 0 | O59: 547 | P59: 1094
B60: 합계줄 | D60: ( 합 계 ) | I60: 6794 | L60: 0 | N60: 0 | P60: 6794 | AE60: =TRUNC(SUM(AE53:AE59)) -> 0
A62: 56950160500 | B62: 일목줄 | C62: EAA110450000 | D62: [제 10호] TRAY/DUCT HANGER W500-1단 [개소]
A63: 59754967601 | B63: 제 10호 | C63: 3913170520175128 | D63: 케이블트레이부속품 | E63: U CHANNEL, 41x41x2.6t | F63: 개 | G63: 0.6 | H63: 4811 | I63: 2886.6 | J63: 0.6 | K63: 0 | M63: 0 | O63: 4811 | P63: 2886.6
A64: 53060327011 | B64: 제 10호 | C64: 3116169820135160 | D64: 행거볼트 | E64: ∮9×1000㎜ | F64: 개 | G64: 2 | H64: 1220 | I64: 2440 | J64: 2 | K64: 0 | M64: 0 | O64: 1220 | P64: 2440
A65: MMG93335585 | B65: 제 10호 | C65: 1818111888880000 | D65: 인서트(TRAY) | E65: 주물, Φ9mm | F65: 개 | G65: 2 | H65: 590 | I65: 1180 | J65: 2 | K65: 0 | M65: 0 | O65: 590 | P65: 1180
A66: 53100028501 | B66: 제 10호 | C66: 3116172710023970 | D66: 6각너트 | E66: 3/8,M10 | F66: EA | G66: 4 | H66: 29 | I66: 116 | J66: 4 | K66: 0 | M66: 0 | O66: 29 | P66: 116
A67: 52100327001 | B67: 제 10호 | C67: 3116181120136195 | D67: 스프링와샤 | E67: D10 | F67: EA | G67: 4 | H67: 10 | I67: 40 | J67: 4 | K67: 0 | M67: 0 | O67: 10 | P67: 40
A68: 59754967572 | B68: 제 10호 | C68: 3913170520935624 | D68: 케이블트레이부속품 | E68: RAIL CLAMP | F68: 개 | G68: 2 | H68: 547 | I68: 1094 | J68: 2 | K68: 0 | M68: 0 | O68: 547 | P68: 1094
B69: 합계줄 | D69: ( 합 계 ) | I69: 7756 | L69: 0 | N69: 0 | P69: 7756 | AE69: =TRUNC(SUM(AE62:AE68)) -> 0
A71: 56950170114 | B71: 일목줄 | C71: EAA110640000 | D71: [제 11호] TRAY/DUCT SUPPORT(W/F) W300-1단 [개소]
A72: 59754967601 | B72: 제 11호 | C72: 3913170520175128 | D72: 케이블트레이부속품 | E72: U CHANNEL, 41x41x2.6t | F72: 개 | G72: 0.4 | H72: 4811 | I72: 1924.4 | J72: 0.4 | K72: 0 | M72: 0 | O72: 4811 | P72: 1924.4
A73: MMG93335585 | B73: 제 11호 | C73: 1818111888880000 | D73: 인서트(TRAY) | E73: 주물, Φ9mm | F73: 개 | G73: 2 | H73: 590 | I73: 1180 | J73: 2 | K73: 0 | M73: 0 | O73: 590 | P73: 1180
A74: 53100027003 | B74: 제 11호 | C74: 3116172710024976 | D74: 6각너트 | E74: M10 | F74: 개 | G74: 4 | H74: 29 | I74: 116 | J74: 4 | K74: 0 | M74: 0 | O74: 29 | P74: 116
A75: 52100327001 | B75: 제 11호 | C75: 3116181120136195 | D75: 스프링와샤 | E75: D10 | F75: EA | G75: 4 | H75: 10 | I75: 40 | J75: 4 | K75: 0 | M75: 0 | O75: 10 | P75: 40
A76: 59754967571 | B76: 제 11호 | C76: 3913170520175125 | D76: 케이블트레이부속품 | E76: HOLD DOWN CLAMP, 아연도 | F76: 개 | G76: 2 | H76: 332 | I76: 664 | J76: 2 | K76: 0 | M76: 0 | O76: 332 | P76: 664
A77: 59754967581 | B77: 제 11호 | C77: 3913170520175126 | D77: 케이블트레이부속품 | E77: 찬넬스프링 너트, 아연도 | F77: 개 | G77: 2 | H77: 458 | I77: 916 | J77: 2 | K77: 0 | M77: 0 | O77: 458 | P77: 916
B78: 합계줄 | D78: ( 합 계 ) | I78: 4840 | L78: 0 | N78: 0 | P78: 4840 | AE78: =TRUNC(SUM(AE71:AE77)) -> 0
A80: 56950170153 | B80: 일목줄 | C80: EAZ800010000 | D80: [제 12호] 닥트및트레이 바닥지지 W300 [개소]
A81: 59754967601 | B81: 제 12호 | C81: 3913170520175128 | D81: 케이블트레이부속품 | E81: U CHANNEL, 41x41x2.6t | F81: 개 | G81: 0.6 | H81: 4811 | I81: 2886.6 | J81: 0.6 | K81: 0 | M81: 0 | O81: 4811 | P81: 2886.6
A82: 95150607001 | B82: 제 12호 | C82: 3010220420289162 | D82: 열연강판 | E82: 6t | F82: kg | G82: 0.3 | H82: 874 | I82: 262.2 | J82: 0.3 | K82: 0 | M82: 0 | O82: 874 | P82: 262.2
B83: 합계줄 | D83: ( 합 계 ) | I83: 3148 | L83: 0 | N83: 0 | P83: 3148 | AE83: =TRUNC(SUM(AE80:AE82)) -> 0
A85: 56950170162 | B85: 일목줄 | C85: EAA110760020 | D85: [제 13호] RACE WAY 행거 70x40 [개소]
A86: 53060327011 | B86: 제 13호 | C86: 3116169820135160 | D86: 행거볼트 | E86: ∮9×1000㎜ | F86: 개 | G86: 1 | H86: 1220 | I86: 1220 | J86: 1 | K86: 0 | M86: 0 | O86: 1220 | P86: 1220
A87: MMG19031756 | B87: 제 13호 | C87: 1651644984980210 | D87: 스트롱앵커(RACE WAY) | E87: 3/8 | F87: 개 | G87: 1 | H87: 130 | I87: 130 | J87: 1 | K87: 0 | M87: 0 | O87: 130 | P87: 130
A88: 53100027003 | B88: 제 13호 | C88: 3116172710024976 | D88: 6각너트 | E88: M10 | F88: 개 | G88: 1 | H88: 29 | I88: 29 | J88: 1 | K88: 0 | M88: 0 | O88: 29 | P88: 29
A89: 59750897181 | B89: 제 13호 | C89: 3913170910034937 | D89: 레이스웨이 | E89: A형 HANGER, 70 x 40 | F89: 개 | G89: 1 | H89: 664 | I89: 664 | J89: 1 | K89: 0 | M89: 0 | O89: 664 | P89: 664
B90: 합계줄 | D90: ( 합 계 ) | I90: 2043 | L90: 0 | N90: 0 | P90: 2043 | AE90: =TRUNC(SUM(AE85:AE89)) -> 0
A92: 56950180016 | B92: 일목줄 | C92: EAA110810000 | D92: [제 14호] 동력배관지지가대 배관용 [개소]
A93: 95200027092 | B93: 제 14호 | C93: 3010150420165123 | D93: ㄷ형강 | E93: 75x40x4T | F93: kg | G93: 1.73 | H93: 7700 | I93: 13321 | J93: 1.73 | K93: 0 | M93: 0 | O93: 7700 | P93: 13321
A94: 59754967601 | B94: 제 14호 | C94: 3913170520175128 | D94: 케이블트레이부속품 | E94: U CHANNEL, 41x41x2.6t | F94: 개 | G94: 3.111 | H94: 4811 | I94: 14967 | J94: 3.111 | K94: 0 | M94: 0 | O94: 4811 | P94: 14967
A95: 95150607001 | B95: 제 14호 | C95: 3010220420289162 | D95: 열연강판 | E95: 6t | F95: kg | G95: 5 | H95: 874 | I95: 4370 | J95: 5 | K95: 0 | M95: 0 | O95: 874 | P95: 4370
A96: 53060707007 | B96: 제 14호 | C96: 3116210220135742 | D96: 셋트앵커 | E96: M8×L150mm | F96: 개 | G96: 4 | H96: 1400 | I96: 5600 | J96: 4 | K96: 0 | M96: 0 | O96: 1400 | P96: 5600
A97: 53060027000 | B97: 제 14호 | C97: 3116162010023390 | D97: 6각볼트 | E97: 3/8,M10 | F97: 개 | G97: 2 | H97: 246 | I97: 492 | J97: 2 | K97: 0 | M97: 0 | O97: 246 | P97: 492
A98: 53100028501 | B98: 제 14호 | C98: 3116172710023970 | D98: 6각너트 | E98: 3/8,M10 | F98: EA | G98: 2 | H98: 29 | I98: 58 | J98: 2 | K98: 0 | M98: 0 | O98: 29 | P98: 58
A99: 56900017016 | B99: 제 14호 | C99: L001010101000075 | D99: 노 무 비 | E99: 내선전공 | F99: 인 | G99: 0.144 | H99: 0 | J99: 0.144 | K99: 268915 | L99: 38723.7 | M99: 0 | O99: 268915 | P99: 38723.7 | AE99: =L99 -> 38723.7
A100: A0300000000 | B100: 제 14호 | C100: RENT000000000006 | D100: [ 공 구 손 료 ] | E100: 노무비의 3 % | F100: 식 | G100: 1 | H100: 1161.6 | I100: 1161.6 | J100: 1 | O100: 1161.6 | P100: 1161.6
B101: 합계줄 | D101: ( 합 계 ) | I101: 39969 | L101: 38723 | N101: 0 | P101: 78692 | AC101: =TRUNC(AE101*옵션!$B$36/100,1) -> 1161.6 | AD101: =TRUNC(SUM(L92:L99)) -> 38723 | AE101: =TRUNC(SUM(AE92:AE100)) -> 38723
A103: 56950657006 | B103: 일목줄 | C103: EAZ800020000 | D103: [제 15호] 방화구획(내화충전) W 300 [개소]
A104: MM355702721 | B104: 제 15호 | C104: 9998887770000074 | D104: 내화충전(패드) | E104: 500x500x30T | F104: 장 | G104: 1 | H104: 60000 | I104: 60000 | J104: 1 | K104: 0 | M104: 0 | O104: 60000 | P104: 60000
A105: 56900017017 | B105: 제 15호 | C105: L001010101000030 | D105: 노 무 비 | E105: 내장공 | F105: 인 | G105: 0.17 | H105: 0 | J105: 0.17 | K105: 252249 | L105: 42882.3 | M105: 0 | O105: 252249 | P105: 42882.3 | AE105: =L105 -> 42882.3
A106: 56900017029 | B106: 제 15호 | C106: L001010101000026 | D106: 노 무 비 | E106: 방수공 | F106: 인 | G106: 0.09 | H106: 0 | J106: 0.09 | K106: 220722 | L106: 19864.9 | M106: 0 | O106: 220722 | P106: 19864.9 | AE106: =L106 -> 19864.9
A107: A0300000000 | B107: 제 15호 | C107: RENT000000000006 | D107: [ 공 구 손 료 ] | E107: 노무비의 3 % | F107: 식 | G107: 1 | H107: 1882.4 | I107: 1882.4 | J107: 1 | O107: 1882.4 | P107: 1882.4
B108: 합계줄 | D108: ( 합 계 ) | I108: 61882 | L108: 62747 | N108: 0 | P108: 124629 | AC108: =TRUNC(AE108*옵션!$B$36/100,1) -> 1882.4 | AD108: =TRUNC(SUM(L103:L106)) -> 62747 | AE108: =TRUNC(SUM(AE103:AE107)) -> 62747
A110: 569506GG000 | B110: 일목줄 | C110: EAZ800030000 | D110: [제 16호] 나사없는전선관행거 E19(16C) [개소]
A111: 59759017111 | B111: 제 16호 | C111: 3913170810036357 | D111: 강재전선관용 부품 | E111: 파이프행거, 16 C | F111: 개 | G111: 1 | H111: 324 | I111: 324 | J111: 1 | K111: 0 | M111: 0 | O111: 324 | P111: 324
A112: 53060327011 | B112: 제 16호 | C112: 3116169820135160 | D112: 행거볼트 | E112: ∮9×1000㎜ | F112: 개 | G112: 1 | H112: 1220 | I112: 1220 | J112: 1 | K112: 0 | M112: 0 | O112: 1220 | P112: 1220
A113: 53060807001 | B113: 제 16호 | C113: 3116210220135769 | D113: 스트롱앵커 | E113: 3/8 | F113: 개 | G113: 1 | H113: 130 | I113: 130 | J113: 1 | K113: 0 | M113: 0 | O113: 130 | P113: 130
A114: 53100028501 | B114: 제 16호 | C114: 3116172710023970 | D114: 6각너트 | E114: 3/8,M10 | F114: EA | G114: 2 | H114: 29 | I114: 58 | J114: 2 | K114: 0 | M114: 0 | O114: 29 | P114: 58
A115: 52100327001 | B115: 제 16호 | C115: 3116181120136195 | D115: 스프링와샤 | E115: D10 | F115: EA | G115: 2 | H115: 10 | I115: 20 | J115: 2 | K115: 0 | M115: 0 | O115: 10 | P115: 20
...

Sheet 일위노임
B1: 497 | D1: 일위노임 산출근거(2025년 상반기 노임) | AA1: 내선전공 | AB1: 저압케이블전공 | AC1: 배전전공 | AD1: 송전전공 | AE1: 전기공사산업기사 | AF1: 통신케이블공 | AG1: 보통인부 | AH1: 특별인부 | AI1: 내장공 | AJ1: 방수공 | AK1: 줄눈공 | AL1: 작업반장
A2: 번호 | B2: 공종코드 | C2: 코드 | D2: 명 칭 | E2: 규 격 | F2: 단위 | G2: 수량 | K2: 코드 | L2: 공량산출 | P2: 단 위 단 가 산 출 | S2: 품셈근거 | T2: 비고
G3: 결정수량 | H3: 할증 | I3: 산출수량 | J3: 재할% | L3: 명칭 | M3: 품셈 | N3: 할증% | O3: 공량 | P3: 단가 | Q3: 단위단가 | R3: 단위계
B4: 공종줄 | D4: AGAIN행복센터
B5: 공종줄 | D5: [ 제 1호 ] 인력터파기 보통토사0-1m [㎥_]
B6: 800 | C6: 391115ZZ701Z0008 | D6: 품셈 산출근거 | E6: 인력터파기 보통토사 0-1M | F6: 식 | G6: 1 | H6: =IF(I6<>0, G6-I6, "") -> 0 | I6: 1 | K6: 56900017041 | L6: 보통인부 | M6: 0.2 | N6: 100 | O6: =IF(I6*M6=0, "", I6*M6*(N6/100)) -> 0.2 | Q6: =TRUNC(P6*M6*N6/100) -> 0 | S6: 건설(공통)3-1-1 | AG6: =O6 -> 0.2
B7: 800 | C7: L001010101000002 | D7: 노 무 비 | E7: 보통인부 | F7: 인 | G7: =IF(H7*I7/100+0.000005 <1, TRUNC(H7*I7/100+0.000005, 옵션!$E$13), TRUNC(H7*I7/100+0.000005, 옵션!$E$13)) -> 0.2 | H7: =옵션!$B$13 -> 100 | I7: =SUM(AG6:AG6) -> 0.2 | O7: =IF(I7*M7=0, "", I7*M7*(N7/100)) | Q7: =TRUNC(P7*M7*N7/100) -> 0 | Z7: 노임계 | AG7: =SUM(AG6:AG6) -> 0.2
B8: 공종줄 | D8: [ 제 2호 ] 인력되메우기 보통토사0-1m [㎥_]
B9: 800 | C9: 391115ZZ701Z0006 | D9: 품셈 산출근거 | E9: 인력되메우기 보통토사 0-1M | F9: 식 | G9: 1 | H9: =IF(I9<>0, G9-I9, "") -> 0 | I9: 1 | K9: 56900017041 | L9: 보통인부 | M9: 0.11 | N9: 100 | O9: =IF(I9*M9=0, "", I9*M9*(N9/100)) -> 0.11 | Q9: =TRUNC(P9*M9*N9/100) -> 0 | S9: 건설(공통)3-2-1 | AG9: =O9 -> 0.11
B10: 800 | C10: L001010101000002 | D10: 노 무 비 | E10: 보통인부 | F10: 인 | G10: =IF(H10*I10/100+0.000005 <1, TRUNC(H10*I10/100+0.000005, 옵션!$E$13), TRUNC(H10*I10/100+0.000005, 옵션!$E$13)) -> 0.11 | H10: =옵션!$B$13 -> 100 | I10: =SUM(AG9:AG9) -> 0.11 | O10: =IF(I10*M10=0, "", I10*M10*(N10/100)) | Q10: =TRUNC(P10*M10*N10/100) -> 0 | Z10: 노임계 | AG10: =SUM(AG9:AG9) -> 0.11
B11: 공종줄 | D11: [ 제 5호 ] 인력잔토처리 현장처리 [㎥_]
B12: 800 | C12: 391115ZZ701Z0007 | D12: 품셈 산출근거 | E12: 인력잔토처리 현장처리 | F12: 식 | G12: 1 | H12: =IF(I12<>0, G12-I12, "") -> 0 | I12: 1 | K12: 56900017041 | L12: 보통인부 | M12: 0.2 | N12: 100 | O12: =IF(I12*M12=0, "", I12*M12*(N12/100)) -> 0.2 | Q12: =TRUNC(P12*M12*N12/100) -> 0 | S12: 건설(공통)3-3-1 | AG12: =O12 -> 0.2
B13: 800 | C13: L001010101000002 | D13: 노 무 비 | E13: 보통인부 | F13: 인 | G13: =IF(H13*I13/100+0.000005 <1, TRUNC(H13*I13/100+0.000005, 옵션!$E$13), TRUNC(H13*I13/100+0.000005, 옵션!$E$13)) -> 0.2 | H13: =옵션!$B$13 -> 100 | I13: =SUM(AG12:AG12) -> 0.2 | O13: =IF(I13*M13=0, "", I13*M13*(N13/100)) | Q13: =TRUNC(P13*M13*N13/100) -> 0 | Z13: 노임계 | AG13: =SUM(AG12:AG12) -> 0.2
B14: 공종줄 | D14: [ 제 6호 ] 잡석깔기지정 떨공이다지기 [㎥]
B15: 800 | C15: 391115ZZ701Z0009 | D15: 품셈 산출근거 | E15: 잡석깔기지정 떨공이다지기 | F15: 식 | G15: 1 | H15: =IF(I15<>0, G15-I15, "") -> 0 | I15: 1 | K15: 56900017041 | L15: 보통인부 | M15: 0.018 | N15: 100 | O15: =IF(I15*M15=0, "", I15*M15*(N15/100)) -> 0.018 | Q15: =TRUNC(P15*M15*N15/100) -> 0 | S15: 토목3-2-4 | AG15: =O15 -> 0.018
B16: 800 | C16: L001010101000002 | D16: 노 무 비 | E16: 보통인부 | F16: 인 | G16: =IF(H16*I16/100+0.000005 <1, TRUNC(H16*I16/100+0.000005, 옵션!$E$13), TRUNC(H16*I16/100+0.000005, 옵션!$E$13)) -> 0.018 | H16: =옵션!$B$13 -> 100 | I16: =SUM(AG15:AG15) -> 0.018 | O16: =IF(I16*M16=0, "", I16*M16*(N16/100)) | Q16: =TRUNC(P16*M16*N16/100) -> 0 | Z16: 노임계 | AG16: =SUM(AG15:AG15) -> 0.018
B17: 공종줄 | D17: [ 제 7호 ] 파이프행가 82 C [개소]
B18: 800 | C18: 3116210220135769 | D18: 스트롱앵커 | E18: 3/8 | F18: 개 | G18: 1 | H18: =IF(I18<>0, G18-I18, "") -> 0 | I18: 1 | K18: 56900017016 | L18: 내선전공 | M18: 0.036 | N18: 150 | O18: =IF(I18*M18=0, "", I18*M18*(N18/100)) -> 0.054 | Q18: =TRUNC(P18*M18*N18/100) -> 0 | S18: 전기5-29 | AA18: =O18 -> 0.054
B19: 800 | C19: L001010101000075 | D19: 노 무 비 | E19: 내선전공 | F19: 인 | G19: =IF(H19*I19/100+0.000005 <1, TRUNC(H19*I19/100+0.000005, 옵션!$E$13), TRUNC(H19*I19/100+0.000005, 옵션!$E$13)) -> 0.054 | H19: =옵션!$B$13 -> 100 | I19: =SUM(AA18:AA18) -> 0.054 | O19: =IF(I19*M19=0, "", I19*M19*(N19/100)) | Q19: =TRUNC(P19*M19*N19/100) -> 0 | Z19: 노임계 | AA19: =SUM(AA18:AA18) -> 0.054
B20: 공종줄 | D20: [ 제 8호 ] 파이프행가 104 C [개소]
B21: 800 | C21: 3116210220135769 | D21: 스트롱앵커 | E21: 3/8 | F21: 개 | G21: 1 | H21: =IF(I21<>0, G21-I21, "") -> 0 | I21: 1 | K21: 56900017016 | L21: 내선전공 | M21: 0.036 | N21: 150 | O21: =IF(I21*M21=0, "", I21*M21*(N21/100)) -> 0.054 | Q21: =TRUNC(P21*M21*N21/100) -> 0 | S21: 전기5-29 | AA21: =O21 -> 0.054
B22: 800 | C22: L001010101000075 | D22: 노 무 비 | E22: 내선전공 | F22: 인 | G22: =IF(H22*I22/100+0.000005 <1, TRUNC(H22*I22/100+0.000005, 옵션!$E$13), TRUNC(H22*I22/100+0.000005, 옵션!$E$13)) -> 0.054 | H22: =옵션!$B$13 -> 100 | I22: =SUM(AA21:AA21) -> 0.054 | O22: =IF(I22*M22=0, "", I22*M22*(N22/100)) | Q22: =TRUNC(P22*M22*N22/100) -> 0 | Z22: 노임계 | AA22: =SUM(AA21:AA21) -> 0.054
B23: 공종줄 | D23: [ 제 14호 ] 동력배관지지가대 배관용 [개소]
B24: 800 | C24: 3116210220135742 | D24: 셋트앵커 | E24: M8×L150mm | F24: 개 | G24: 4 | H24: =IF(I24<>0, G24-I24, "") -> 0 | I24: 4 | K24: 56900017016 | L24: 내선전공 | M24: 0.036 | N24: 100 | O24: =IF(I24*M24=0, "", I24*M24*(N24/100)) -> 0.144 | Q24: =TRUNC(P24*M24*N24/100) -> 0 | S24: 전기5-29 | AA24: =O24 -> 0.144
B25: 800 | C25: L001010101000075 | D25: 노 무 비 | E25: 내선전공 | F25: 인 | G25: =IF(H25*I25/100+0.000005 <1, TRUNC(H25*I25/100+0.000005, 옵션!$E$13), TRUNC(H25*I25/100+0.000005, 옵션!$E$13)) -> 0.144 | H25: =옵션!$B$13 -> 100 | I25: =SUM(AA24:AA24) -> 0.144 | O25: =IF(I25*M25=0, "", I25*M25*(N25/100)) | Q25: =TRUNC(P25*M25*N25/100) -> 0 | Z25: 노임계 | AA25: =SUM(AA24:AA24) -> 0.144
B26: 공종줄 | D26: [ 제 15호 ] 방화구획(내화충전) W 300 [개소]
B27: 800 | C27: 9998887770000074 | D27: 내화충전(패드) | E27: 500x500x30T | F27: 장 | G27: 1 | H27: =IF(I27<>0, G27-I27, "") -> 0 | I27: 1 | K27: 56900017029 | L27: 방수공 | M27: 0.09 | N27: 100 | O27: =IF(I27*M27=0, "", I27*M27*(N27/100)) -> 0.09 | Q27: =TRUNC(P27*M27*N27/100) -> 0 | S27: 전기3-39-1 | AJ27: =O27 -> 0.09
B28: 800 | C28: 9998887770000074 | G28: 1 | H28: =IF(I28<>0, G28-I28, "") -> 0 | I28: 1 | K28: 56900017017 | L28: 내장공 | M28: 0.17 | N28: 100 | O28: =IF(I28*M28=0, "", I28*M28*(N28/100)) -> 0.17 | Q28: =TRUNC(P28*M28*N28/100) -> 0 | S28: 전기3-39-1 | AI28: =O28 -> 0.17
B29: 800 | C29: L001010101000030 | D29: 노 무 비 | E29: 내장공 | F29: 인 | G29: =IF(H29*I29/100+0.000005 <1, TRUNC(H29*I29/100+0.000005, 옵션!$E$13), TRUNC(H29*I29/100+0.000005, 옵션!$E$13)) -> 0.17 | H29: =옵션!$B$13 -> 100 | I29: =SUM(AI27:AI28) -> 0.17 | O29: =IF(I29*M29=0, "", I29*M29*(N29/100)) | Q29: =TRUNC(P29*M29*N29/100) -> 0 | Z29: 노임계 | AI29: =SUM(AI27:AI28) -> 0.17 | AJ29: =SUM(AJ27:AJ28) -> 0.09
B30: 800 | C30: L001010101000026 | D30: 노 무 비 | E30: 방수공 | F30: 인 | G30: =IF(H30*I30/100+0.000005 <1, TRUNC(H30*I30/100+0.000005, 옵션!$E$13), TRUNC(H30*I30/100+0.000005, 옵션!$E$13)) -> 0.09 | H30: =옵션!$B$13 -> 100 | I30: =SUM(AJ27:AJ28) -> 0.09 | O30: =IF(I30*M30=0, "", I30*M30*(N30/100)) | Q30: =TRUNC(P30*M30*N30/100) -> 0
B31: 공종줄 | D31: [ 제 16호 ] 나사없는전선관행거 E19(16C) [개소]
B32: 800 | C32: 3116210220135769 | D32: 스트롱앵커 | E32: 3/8 | F32: 개 | G32: 1 | H32: =IF(I32<>0, G32-I32, "") -> 0 | I32: 1 | K32: 56900017016 | L32: 내선전공 | M32: 0.036 | N32: 150 | O32: =IF(I32*M32=0, "", I32*M32*(N32/100)) -> 0.054 | Q32: =TRUNC(P32*M32*N32/100) -> 0 | S32: 전기5-29 | AA32: =O32 -> 0.054
B33: 800 | C33: L001010101000075 | D33: 노 무 비 | E33: 내선전공 | F33: 인 | G33: =IF(H33*I33/100+0.000005 <1, TRUNC(H33*I33/100+0.000005, 옵션!$E$13), TRUNC(H33*I33/100+0.000005, 옵션!$E$13)) -> 0.054 | H33: =옵션!$B$13 -> 100 | I33: =SUM(AA32:AA32) -> 0.054 | O33: =IF(I33*M33=0, "", I33*M33*(N33/100)) | Q33: =TRUNC(P33*M33*N33/100) -> 0 | Z33: 노임계 | AA33: =SUM(AA32:AA32) -> 0.054
B34: 공종줄 | D34: [ 제 17호 ] 나사없는전선관행거 E25(22C) [개소]
B35: 800 | C35: 3116210220135769 | D35: 스트롱앵커 | E35: 3/8 | F35: 개 | G35: 1 | H35: =IF(I35<>0, G35-I35, "") -> 0 | I35: 1 | K35: 56900017016 | L35: 내선전공 | M35: 0.036 | N35: 150 | O35: =IF(I35*M35=0, "", I35*M35*(N35/100)) -> 0.054 | Q35: =TRUNC(P35*M35*N35/100) -> 0 | S35: 전기5-29 | AA35: =O35 -> 0.054
B36: 800 | C36: L001010101000075 | D36: 노 무 비 | E36: 내선전공 | F36: 인 | G36: =IF(H36*I36/100+0.000005 <1, TRUNC(H36*I36/100+0.000005, 옵션!$E$13), TRUNC(H36*I36/100+0.000005, 옵션!$E$13)) -> 0.054 | H36: =옵션!$B$13 -> 100 | I36: =SUM(AA35:AA35) -> 0.054 | O36: =IF(I36*M36=0, "", I36*M36*(N36/100)) | Q36: =TRUNC(P36*M36*N36/100) -> 0 | Z36: 노임계 | AA36: =SUM(AA35:AA35) -> 0.054
B37: 공종줄 | D37: [ 제 18호 ] 나사없는전선관행거 E31(28C) [개소]
B38: 800 | C38: 3116210220135769 | D38: 스트롱앵커 | E38: 3/8 | F38: 개 | G38: 1 | H38: =IF(I38<>0, G38-I38, "") -> 0 | I38: 1 | K38: 56900017016 | L38: 내선전공 | M38: 0.036 | N38: 150 | O38: =IF(I38*M38=0, "", I38*M38*(N38/100)) -> 0.054 | Q38: =TRUNC(P38*M38*N38/100) -> 0 | S38: 전기5-29 | AA38: =O38 -> 0.054
B39: 800 | C39: L001010101000075 | D39: 노 무 비 | E39: 내선전공 | F39: 인 | G39: =IF(H39*I39/100+0.000005 <1, TRUNC(H39*I39/100+0.000005, 옵션!$E$13), TRUNC(H39*I39/100+0.000005, 옵션!$E$13)) -> 0.054 | H39: =옵션!$B$13 -> 100 | I39: =SUM(AA38:AA38) -> 0.054 | O39: =IF(I39*M39=0, "", I39*M39*(N39/100)) | Q39: =TRUNC(P39*M39*N39/100) -> 0 | Z39: 노임계 | AA39: =SUM(AA38:AA38) -> 0.054
B40: 공종줄 | D40: [ 제 19호 ] 나사없는전선관행거 E39(36C) [개소]
B41: 800 | C41: 3116210220135769 | D41: 스트롱앵커 | E41: 3/8 | F41: 개 | G41: 1 | H41: =IF(I41<>0, G41-I41, "") -> 0 | I41: 1 | K41: 56900017016 | L41: 내선전공 | M41: 0.036 | N41: 150 | O41: =IF(I41*M41=0, "", I41*M41*(N41/100)) -> 0.054 | Q41: =TRUNC(P41*M41*N41/100) -> 0 | S41: 전기5-29 | AA41: =O41 -> 0.054
B42: 800 | C42: L001010101000075 | D42: 노 무 비 | E42: 내선전공 | F42: 인 | G42: =IF(H42*I42/100+0.000005 <1, TRUNC(H42*I42/100+0.000005, 옵션!$E$13), TRUNC(H42*I42/100+0.000005, 옵션!$E$13)) -> 0.054 | H42: =옵션!$B$13 -> 100 | I42: =SUM(AA41:AA41) -> 0.054 | O42: =IF(I42*M42=0, "", I42*M42*(N42/100)) | Q42: =TRUNC(P42*M42*N42/100) -> 0 | Z42: 노임계 | AA42: =SUM(AA41:AA41) -> 0.054
B43: 공종줄 | D43: [ 제 20호 ] 나사없는전선관행거 E51(42C) [개소]
B44: 800 | C44: 3116210220135769 | D44: 스트롱앵커 | E44: 3/8 | F44: 개 | G44: 1 | H44: =IF(I44<>0, G44-I44, "") -> 0 | I44: 1 | K44: 56900017016 | L44: 내선전공 | M44: 0.036 | N44: 150 | O44: =IF(I44*M44=0, "", I44*M44*(N44/100)) -> 0.054 | Q44: =TRUNC(P44*M44*N44/100) -> 0 | S44: 전기5-29 | AA44: =O44 -> 0.054
B45: 800 | C45: L001010101000075 | D45: 노 무 비 | E45: 내선전공 | F45: 인 | G45: =IF(H45*I45/100+0.000005 <1, TRUNC(H45*I45/100+0.000005, 옵션!$E$13), TRUNC(H45*I45/100+0.000005, 옵션!$E$13)) -> 0.054 | H45: =옵션!$B$13 -> 100 | I45: =SUM(AA44:AA44) -> 0.054 | O45: =IF(I45*M45=0, "", I45*M45*(N45/100)) | Q45: =TRUNC(P45*M45*N45/100) -> 0 | Z45: 노임계 | AA45: =SUM(AA44:AA44) -> 0.054
B46: 공종줄 | D46: [ 제 21호 ] 나사없는전선관행거 E63(54C) [개소]
B47: 800 | C47: 3116210220135769 | D47: 스트롱앵커 | E47: 3/8 | F47: 개 | G47: 1 | H47: =IF(I47<>0, G47-I47, "") -> 0 | I47: 1 | K47: 56900017016 | L47: 내선전공 | M47: 0.036 | N47: 150 | O47: =IF(I47*M47=0, "", I47*M47*(N47/100)) -> 0.054 | Q47: =TRUNC(P47*M47*N47/100) -> 0 | S47: 전기5-29 | AA47: =O47 -> 0.054
B48: 800 | C48: L001010101000075 | D48: 노 무 비 | E48: 내선전공 | F48: 인 | G48: =IF(H48*I48/100+0.000005 <1, TRUNC(H48*I48/100+0.000005, 옵션!$E$13), TRUNC(H48*I48/100+0.000005, 옵션!$E$13)) -> 0.054 | H48: =옵션!$B$13 -> 100 | I48: =SUM(AA47:AA47) -> 0.054 | O48: =IF(I48*M48=0, "", I48*M48*(N48/100)) | Q48: =TRUNC(P48*M48*N48/100) -> 0 | Z48: 노임계 | AA48: =SUM(AA47:AA47) -> 0.054
B49: 공종줄 | D49: [ 제 22호 ] 맨홀 1500x1500x1500 [개소]
B50: 800 | C50: 3012169821869320 | D50: 맨홀 | E50: 1500x1500x1500 | F50: 조 | G50: 1 | H50: =IF(I50<>0, G50-I50, "") -> 0 | I50: 1 | K50: 56900017118 | L50: 특별인부 | M50: 1.33 | N50: 100 | O50: =IF(I50*M50=0, "", I50*M50*(N50/100)) -> 1.33 | Q50: =TRUNC(P50*M50*N50/100) -> 0 | S50: 전기4-43-3 | AH50: =O50 -> 1.33
B51: 800 | C51: 3012169821869320 | G51: 1 | H51: =IF(I51<>0, G51-I51, "") -> 0 | I51: 1 | K51: 56900017074 | L51: 작업반장 | M51: 0.28 | N51: 100 | O51: =IF(I51*M51=0, "", I51*M51*(N51/100)) -> 0.28 | Q51: =TRUNC(P51*M51*N51/100) -> 0 | S51: 전기4-43-3 | AL51: =O51 -> 0.28
B52: 800 | C52: 3012169821869320 | G52: 1 | H52: =IF(I52<>0, G52-I52, "") -> 0 | I52: 1 | K52: 56900017091 | L52: 줄눈공 | M52: 0.03 | N52: 100 | O52: =IF(I52*M52=0, "", I52*M52*(N52/100)) -> 0.03 | Q52: =TRUNC(P52*M52*N52/100) -> 0 | S52: 전기4-43-3 | AK52: =O52 -> 0.03
B53: 800 | C53: 3912170120174008 | D53: 케이블받침대 | E53: 75x40x5x1150 | F53: EA | G53: 2 | H53: =IF(I53<>0, G53-I53, "") -> 0 | I53: 2 | K53: 56900017031 | L53: 배전전공 | M53: 0.22 | N53: 100 | O53: =IF(I53*M53=0, "", I53*M53*(N53/100)) -> 0.44 | Q53: =TRUNC(P53*M53*N53/100) -> 0 | S53: 전기4-39 | AC53: =O53 -> 0.44
B54: 800 | C54: 3912170120174008 | G54: 2 | H54: =IF(I54<>0, G54-I54, "") -> 0 | I54: 2 | K54: 56900017041 | L54: 보통인부 | M54: 0.11 | N54: 100 | O54: =IF(I54*M54=0, "", I54*M54*(N54/100)) -> 0.22 | Q54: =TRUNC(P54*M54*N54/100) -> 0 | S54: 전기4-39 | AG54: =O54 -> 0.22
B55: 800 | C55: L001010101000081 | D55: 노 무 비 | E55: 배전전공 | F55: 인 | G55: =IF(H55*I55/100+0.000005 <1, TRUNC(H55*I55/100+0.000005, 옵션!$E$13), TRUNC(H55*I55/100+0.000005, 옵션!$E$13)) -> 0.44 | H55: =옵션!$B$13 -> 100 | I55: =SUM(AC50:AC54) -> 0.44 | O55: =IF(I55*M55=0, "", I55*M55*(N55/100)) | Q55: =TRUNC(P55*M55*N55/100) -> 0 | Z55: 노임계 | AC55: =SUM(AC50:AC54) -> 0.44 | AG55: =SUM(AG50:AG54) -> 0.22 | AH55: =SUM(AH50:AH54) -> 1.33 | AK55: =SUM(AK50:AK54) -> 0.03 | AL55: =SUM(AL50:AL54) -> 0.28
B56: 800 | C56: L001010101000002 | D56: 노 무 비 | E56: 보통인부 | F56: 인 | G56: =IF(H56*I56/100+0.000005 <1, TRUNC(H56*I56/100+0.000005, 옵션!$E$13), TRUNC(H56*I56/100+0.000005, 옵션!$E$13)) -> 0.22 | H56: =옵션!$B$13 -> 100 | I56: =SUM(AG50:AG54) -> 0.22 | O56: =IF(I56*M56=0, "", I56*M56*(N56/100)) | Q56: =TRUNC(P56*M56*N56/100) -> 0
B57: 800 | C57: L001010101000003 | D57: 노 무 비 | E57: 특별인부 | F57: 인 | G57: =IF(H57*I57/100+0.000005 <1, TRUNC(H57*I57/100+0.000005, 옵션!$E$13), TRUNC(H57*I57/100+0.000005, 옵션!$E$13)) -> 1.33 | H57: =옵션!$B$13 -> 100 | I57: =SUM(AH50:AH54) -> 1.33 | O57: =IF(I57*M57=0, "", I57*M57*(N57/100)) | Q57: =TRUNC(P57*M57*N57/100) -> 0
B58: 800 | C58: L001010101000034 | D58: 노 무 비 | E58: 줄눈공 | F58: 인 | G58: =IF(H58*I58/100+0.000005 <1, TRUNC(H58*I58/100+0.000005, 옵션!$E$13), TRUNC(H58*I58/100+0.000005, 옵션!$E$13)) -> 0.03 | H58: =옵션!$B$13 -> 100 | I58: =SUM(AK50:AK54) -> 0.03 | O58: =IF(I58*M58=0, "", I58*M58*(N58/100)) | Q58: =TRUNC(P58*M58*N58/100) -> 0
B59: 800 | C59: L001010101000001 | D59: 노 무 비 | E59: 작업반장 | F59: 인 | G59: =IF(H59*I59/100+0.000005 <1, TRUNC(H59*I59/100+0.000005, 옵션!$E$13), TRUNC(H59*I59/100+0.000005, 옵션!$E$13)) -> 0.28 | H59: =옵션!$B$13 -> 100 | I59: =SUM(AL50:AL54) -> 0.28 | O59: =IF(I59*M59=0, "", I59*M59*(N59/100)) | Q59: =TRUNC(P59*M59*N59/100) -> 0
B60: 공종줄 | D60: [ 제 23호 ] 관로구방수 ø125 [개]
B61: 800 | C61: 3913170821871118 | D61: 관구밀폐기 | E61: 이종연결관Φ125m | F61: 개 | G61: 1 | H61: =IF(I61<>0, G61-I61, "") -> 0 | I61: 1 | K61: 56900017076 | L61: 저압케이블전공 | M61: 0.132 | N61: 100 | O61: =IF(I61*M61=0, "", I61*M61*(N61/100)) -> 0.132 | Q61: =TRUNC(P61*M61*N61/100) -> 0 | S61: 전기2-18 | AB61: =O61 -> 0.132
B62: 800 | C62: 3913170821871118 | G62: 1 | H62: =IF(I62<>0, G62-I62, "") -> 0 | I62: 1 | K62: 56900017041 | L62: 보통인부 | M62: 0.132 | N62: 100 | O62: =IF(I62*M62=0, "", I62*M62*(N62/100)) -> 0.132 | Q62: =TRUNC(P62*M62*N62/100) -> 0 | S62: 전기2-18 | AG62: =O62 -> 0.132
B63: 800 | C63: L001010101000078 | D63: 노 무 비 | E63: 저압케이블전공 | F63: 인 | G63: =IF(H63*I63/100+0.000005 <1, TRUNC(H63*I63/100+0.000005, 옵션!$E$13), TRUNC(H63*I63/100+0.000005, 옵션!$E$13)) -> 0.132 | H63: =옵션!$B$13 -> 100 | I63: =SUM(AB61:AB62) -> 0.132 | O63: =IF(I63*M63=0, "", I63*M63*(N63/100)) | Q63: =TRUNC(P63*M63*N63/100) -> 0 | Z63: 노임계 | AB63: =SUM(AB61:AB62) -> 0.132 | AG63: =SUM(AG61:AG62) -> 0.132
B64: 800 | C64: L001010101000002 | D64: 노 무 비 | E64: 보통인부 | F64: 인 | G64: =IF(H64*I64/100+0.000005 <1, TRUNC(H64*I64/100+0.000005, 옵션!$E$13), TRUNC(H64*I64/100+0.000005, 옵션!$E$13)) -> 0.132 | H64: =옵션!$B$13 -> 100 | I64: =SUM(AG61:AG62) -> 0.132 | O64: =IF(I64*M64=0, "", I64*M64*(N64/100)) | Q64: =TRUNC(P64*M64*N64/100) -> 0
B65: 공종줄 | D65: [ 제 24호 ] 강제전선관 아연도 82 mm [M.]
B66: 800 | C66: 3913170610034839 | D66: 강제전선관 | E66: 아연도 82 mm | F66: M | G66: 1 | H66: =IF(I66<>0, G66-I66, "") -> 0 | I66: 1 | K66: 56900017016 | L66: 내선전공 | M66: 0.54 | N66: 100 | O66: =IF(I66*M66=0, "", I66*M66*(N66/100)) -> 0.54 | Q66: =TRUNC(P66*M66*N66/100) -> 0 | S66: 전기5-1 | AA66: =O66 -> 0.54
B67: 800 | C67: L001010101000075 | D67: 노 무 비 | E67: 내선전공 | F67: 인 | G67: =IF(H67*I67/100+0.000005 <1, TRUNC(H67*I67/100+0.000005, 옵션!$E$13), TRUNC(H67*I67/100+0.000005, 옵션!$E$13)) -> 0.54 | H67: =옵션!$B$13 -> 100 | I67: =SUM(AA66:AA66) -> 0.54 | O67: =IF(I67*M67=0, "", I67*M67*(N67/100)) | Q67: =TRUNC(P67*M67*N67/100) -> 0 | Z67: 노임계 | AA67: =SUM(AA66:AA66) -> 0.54
B68: 공종줄 | D68: [ 제 25호 ] 강제전선관 아연도 104 mm [M.]
B69: 800 | C69: 3913170610034841 | D69: 강제전선관 | E69: 아연도 104 mm | F69: M | G69: 1 | H69: =IF(I69<>0, G69-I69, "") -> 0 | I69: 1 | K69: 56900017016 | L69: 내선전공 | M69: 0.71 | N69: 100 | O69: =IF(I69*M69=0, "", I69*M69*(N69/100)) -> 0.71 | Q69: =TRUNC(P69*M69*N69/100) -> 0 | S69: 전기5-1 | AA69: =O69 -> 0.71
B70: 800 | C70: L001010101000075 | D70: 노 무 비 | E70: 내선전공 | F70: 인 | G70: =IF(H70*I70/100+0.000005 <1, TRUNC(H70*I70/100+0.000005, 옵션!$E$13), TRUNC(H70*I70/100+0.000005, 옵션!$E$13)) -> 0.71 | H70: =옵션!$B$13 -> 100 | I70: =SUM(AA69:AA69) -> 0.71 | O70: =IF(I70*M70=0, "", I70*M70*(N70/100)) | Q70: =TRUNC(P70*M70*N70/100) -> 0 | Z70: 노임계 | AA70: =SUM(AA69:AA69) -> 0.71
B71: 공종줄 | D71: [ 제 26호 ] 강제전선관(노출) 아연도 82 mm [M.]
B72: 800 | C72: 3913170610034839 | D72: 강제전선관 | E72: 아연도 82 mm | F72: M | G72: 1 | H72: =IF(I72<>0, G72-I72, "") -> 0 | I72: 1 | K72: 56900017016 | L72: 내선전공 | M72: 0.54 | N72: 120 | O72: =IF(I72*M72=0, "", I72*M72*(N72/100)) -> 0.648 | Q72: =TRUNC(P72*M72*N72/100) -> 0 | S72: 전기5-1 | AA72: =O72 -> 0.648
B73: 800 | C73: L001010101000075 | D73: 노 무 비 | E73: 내선전공 | F73: 인 | G73: =IF(H73*I73/100+0.000005 <1, TRUNC(H73*I73/100+0.000005, 옵션!$E$13), TRUNC(H73*I73/100+0.000005, 옵션!$E$13)) -> 0.648 | H73: =옵션!$B$13 -> 100 | I73: =SUM(AA72:AA72) -> 0.648 | O73: =IF(I73*M73=0, "", I73*M73*(N73/100)) | Q73: =TRUNC(P73*M73*N73/100) -> 0 | Z73: 노임계 | AA73: =SUM(AA72:AA72) -> 0.648
B74: 공종줄 | D74: [ 제 27호 ] 나사없는전선관 E19(16C) [M]
B75: 800 | C75: 3913170660935608 | D75: 나사없는전선관 | E75: E19(16C) | F75: M | G75: 1 | H75: =IF(I75<>0, G75-I75, "") -> 0 | I75: 1 | K75: 56900017016 | L75: 내선전공 | M75: 0.05 | N75: 100 | O75: =IF(I75*M75=0, "", I75*M75*(N75/100)) -> 0.05 | Q75: =TRUNC(P75*M75*N75/100) -> 0 | S75: 전기5-1 | AA75: =O75 -> 0.05
B76: 800 | C76: L001010101000075 | D76: 노 무 비 | E76: 내선전공 | F76: 인 | G76: =IF(H76*I76/100+0.000005 <1, TRUNC(H76*I76/100+0.000005, 옵션!$E$13), TRUNC(H76*I76/100+0.000005, 옵션!$E$13)) -> 0.05 | H76: =옵션!$B$13 -> 100 | I76: =SUM(AA75:AA75) -> 0.05 | O76: =IF(I76*M76=0, "", I76*M76*(N76/100)) | Q76: =TRUNC(P76*M76*N76/100) -> 0 | Z76: 노임계 | AA76: =SUM(AA75:AA75) -> 0.05
B77: 공종줄 | D77: [ 제 28호 ] 나사없는전선관 E25(22C) [M]
B78: 800 | C78: 3913170660935609 | D78: 나사없는전선관 | E78: E25(22C) | F78: M | G78: 1 | H78: =IF(I78<>0, G78-I78, "") -> 0 | I78: 1 | K78: 56900017016 | L78: 내선전공 | M78: 0.06 | N78: 100 | O78: =IF(I78*M78=0, "", I78*M78*(N78/100)) -> 0.06 | Q78: =TRUNC(P78*M78*N78/100) -> 0 | S78: 전기5-1 | AA78: =O78 -> 0.06
B79: 800 | C79: L001010101000075 | D79: 노 무 비 | E79: 내선전공 | F79: 인 | G79: =IF(H79*I79/100+0.000005 <1, TRUNC(H79*I79/100+0.000005, 옵션!$E$13), TRUNC(H79*I79/100+0.000005, 옵션!$E$13)) -> 0.06 | H79: =옵션!$B$13 -> 100 | I79: =SUM(AA78:AA78) -> 0.06 | O79: =IF(I79*M79=0, "", I79*M79*(N79/100)) | Q79: =TRUNC(P79*M79*N79/100) -> 0 | Z79: 노임계 | AA79: =SUM(AA78:AA78) -> 0.06
B80: 공종줄 | D80: [ 제 29호 ] 나사없는전선관 E31(28C) [M]
B81: 800 | C81: 3913170660935610 | D81: 나사없는전선관 | E81: E31(28C) | F81: M | G81: 1 | H81: =IF(I81<>0, G81-I81, "") -> 0 | I81: 1 | K81: 56900017016 | L81: 내선전공 | M81: 0.08 | N81: 100 | O81: =IF(I81*M81=0, "", I81*M81*(N81/100)) -> 0.08 | Q81: =TRUNC(P81*M81*N81/100) -> 0 | S81: 전기5-1 | AA81: =O81 -> 0.08
B82: 800 | C82: L001010101000075 | D82: 노 무 비 | E82: 내선전공 | F82: 인 | G82: =IF(H82*I82/100+0.000005 <1, TRUNC(H82*I82/100+0.000005, 옵션!$E$13), TRUNC(H82*I82/100+0.000005, 옵션!$E$13)) -> 0.08 | H82: =옵션!$B$13 -> 100 | I82: =SUM(AA81:AA81) -> 0.08 | O82: =IF(I82*M82=0, "", I82*M82*(N82/100)) | Q82: =TRUNC(P82*M82*N82/100) -> 0 | Z82: 노임계 | AA82: =SUM(AA81:AA81) -> 0.08
B83: 공종줄 | D83: [ 제 30호 ] 나사없는전선관 E39(36C) [M]
B84: 800 | C84: 3913170660935611 | D84: 나사없는전선관 | E84: E39(36C) | F84: M | G84: 1 | H84: =IF(I84<>0, G84-I84, "") -> 0 | I84: 1 | K84: 56900017016 | L84: 내선전공 | M84: 0.1 | N84: 100 | O84: =IF(I84*M84=0, "", I84*M84*(N84/100)) -> 0.1 | Q84: =TRUNC(P84*M84*N84/100) -> 0 | S84: 전기5-1 | AA84: =O84 -> 0.1
B85: 800 | C85: L001010101000075 | D85: 노 무 비 | E85: 내선전공 | F85: 인 | G85: =IF(H85*I85/100+0.000005 <1, TRUNC(H85*I85/100+0.000005, 옵션!$E$13), TRUNC(H85*I85/100+0.000005, 옵션!$E$13)) -> 0.1 | H85: =옵션!$B$13 -> 100 | I85: =SUM(AA84:AA84) -> 0.1 | O85: =IF(I85*M85=0, "", I85*M85*(N85/100)) | Q85: =TRUNC(P85*M85*N85/100) -> 0 | Z85: 노임계 | AA85: =SUM(AA84:AA84) -> 0.1
B86: 공종줄 | D86: [ 제 31호 ] 나사없는전선관 E51(42C) [M]
B87: 800 | C87: 3913170660935613 | D87: 나사없는전선관 | E87: E51(42C) | F87: M | G87: 1 | H87: =IF(I87<>0, G87-I87, "") -> 0 | I87: 1 | K87: 56900017016 | L87: 내선전공 | M87: 0.13 | N87: 100 | O87: =IF(I87*M87=0, "", I87*M87*(N87/100)) -> 0.13 | Q87: =TRUNC(P87*M87*N87/100) -> 0 | S87: 전기5-1 | AA87: =O87 -> 0.13
B88: 800 | C88: L001010101000075 | D88: 노 무 비 | E88: 내선전공 | F88: 인 | G88: =IF(H88*I88/100+0.000005 <1, TRUNC(H88*I88/100+0.000005, 옵션!$E$13), TRUNC(H88*I88/100+0.000005, 옵션!$E$13)) -> 0.13 | H88: =옵션!$B$13 -> 100 | I88: =SUM(AA87:AA87) -> 0.13 | O88: =IF(I88*M88=0, "", I88*M88*(N88/100)) | Q88: =TRUNC(P88*M88*N88/100) -> 0 | Z88: 노임계 | AA88: =SUM(AA87:AA87) -> 0.13
B89: 공종줄 | D89: [ 제 32호 ] 나사없는전선관 E63(54C) [M]
B90: 800 | C90: 3913170660935614 | D90: 나사없는전선관 | E90: E63(54C) | F90: M | G90: 1 | H90: =IF(I90<>0, G90-I90, "") -> 0 | I90: 1 | K90: 56900017016 | L90: 내선전공 | M90: 0.19 | N90: 100 | O90: =IF(I90*M90=0, "", I90*M90*(N90/100)) -> 0.19 | Q90: =TRUNC(P90*M90*N90/100) -> 0 | S90: 전기5-1 | AA90: =O90 -> 0.19
B91: 800 | C91: L001010101000075 | D91: 노 무 비 | E91: 내선전공 | F91: 인 | G91: =IF(H91*I91/100+0.000005 <1, TRUNC(H91*I91/100+0.000005, 옵션!$E$13), TRUNC(H91*I91/100+0.000005, 옵션!$E$13)) -> 0.19 | H91: =옵션!$B$13 -> 100 | I91: =SUM(AA90:AA90) -> 0.19 | O91: =IF(I91*M91=0, "", I91*M91*(N91/100)) | Q91: =TRUNC(P91*M91*N91/100) -> 0 | Z91: 노임계 | AA91: =SUM(AA90:AA90) -> 0.19
B92: 공종줄 | D92: [ 제 33호 ] 나사없는전선관(노출) E25(22C) [M]
B93: 800 | C93: 3913170670935609 | D93: 나사없는전선관(노출) | E93: E25(22C) | F93: M | G93: 1 | H93: =IF(I93<>0, G93-I93, "") -> 0 | I93: 1 | K93: 56900017016 | L93: 내선전공 | M93: 0.06 | N93: 120 | O93: =IF(I93*M93=0, "", I93*M93*(N93/100)) -> 0.072 | Q93: =TRUNC(P93*M93*N93/100) -> 0 | S93: 전기5-1 | AA93: =O93 -> 0.072
B94: 800 | C94: L001010101000075 | D94: 노 무 비 | E94: 내선전공 | F94: 인 | G94: =IF(H94*I94/100+0.000005 <1, TRUNC(H94*I94/100+0.000005, 옵션!$E$13), TRUNC(H94*I94/100+0.000005, 옵션!$E$13)) -> 0.072 | H94: =옵션!$B$13 -> 100 | I94: =SUM(AA93:AA93) -> 0.072 | O94: =IF(I94*M94=0, "", I94*M94*(N94/100)) | Q94: =TRUNC(P94*M94*N94/100) -> 0 | Z94: 노임계 | AA94: =SUM(AA93:AA93) -> 0.072
B95: 공종줄 | D95: [ 제 34호 ] 나사없는전선관(노출) E51(42C) [M]
B96: 800 | C96: 3913170670935613 | D96: 나사없는전선관(노출) | E96: E51(42C) | F96: M | G96: 1 | H96: =IF(I96<>0, G96-I96, "") -> 0 | I96: 1 | K96: 56900017016 | L96: 내선전공 | M96: 0.13 | N96: 120 | O96: =IF(I96*M96=0, "", I96*M96*(N96/100)) -> 0.156 | Q96: =TRUNC(P96*M96*N96/100) -> 0 | S96: 전기5-1 | AA96: =O96 -> 0.156
B97: 800 | C97: L001010101000075 | D97: 노 무 비 | E97: 내선전공 | F97: 인 | G97: =IF(H97*I97/100+0.000005 <1, TRUNC(H97*I97/100+0.000005, 옵션!$E$13), TRUNC(H97*I97/100+0.000005, 옵션!$E$13)) -> 0.156 | H97: =옵션!$B$13 -> 100 | I97: =SUM(AA96:AA96) -> 0.156 | O97: =IF(I97*M97=0, "", I97*M97*(N97/100)) | Q97: =TRUNC(P97*M97*N97/100) -> 0 | Z97: 노임계 | AA97: =SUM(AA96:AA96) -> 0.156
B98: 공종줄 | D98: [ 제 35호 ] 경질비닐전선관 HI 16 mm [M.]
B99: 800 | C99: 3913170610034965 | D99: 경질비닐전선관 | E99: HI 16 mm | F99: M | G99: 1 | H99: =IF(I99<>0, G99-I99, "") -> 0 | I99: 1 | K99: 56900017016 | L99: 내선전공 | M99: 0.05 | N99: 100 | O99: =IF(I99*M99=0, "", I99*M99*(N99/100)) -> 0.05 | Q99: =TRUNC(P99*M99*N99/100) -> 0 | S99: 전기5-1 | AA99: =O99 -> 0.05
B100: 800 | C100: L001010101000075 | D100: 노 무 비 | E100: 내선전공 | F100: 인 | G100: =IF(H100*I100/100+0.000005 <1, TRUNC(H100*I100/100+0.000005, 옵션!$E$13), TRUNC(H100*I100/100+0.000005, 옵션!$E$13)) -> 0.05 | H100: =옵션!$B$13 -> 100 | I100: =SUM(AA99:AA99) -> 0.05 | O100: =IF(I100*M100=0, "", I100*M100*(N100/100)) | Q100: =TRUNC(P100*M100*N100/100) -> 0 | Z100: 노임계 | AA100: =SUM(AA99:AA99) -> 0.05
...

Sheet 합산자재
B1: 237 | C1: [ AGAIN행복센터 ] - 합산자재목록
A2: 번호 | B2: … | C2: 코드 | D2: 명 칭 | E2: 규 격 | F2: 단위 | G2: 수량 | H2: 재료비 | I2: 노무비 | J2: 경비 | K2: 지급비 | L2: 계 | M2: 비고
B4: 59750337008 | C4: 3913170610034839 | D4: 강제전선관 | E4: 아연도 82 mm | F4: M | G4: 5.5 | H4: =ROUNDDOWN(단가조사!G5*옵션!$D$11, 0) -> 12972 | L4: =SUM(H4,I4,J4) -> 12972
B5: 59750337010 | C5: 3913170610034841 | D5: 강제전선관 | E5: 아연도 104 mm | F5: M | G5: 4.4 | H5: =ROUNDDOWN(단가조사!G6*옵션!$D$11, 0) -> 20843 | L5: =SUM(H5,I5,J5) -> 20843
B6: 59750337018 | C6: 3913170610034839 | D6: 강제전선관 | E6: 아연도 82 mm | F6: M | G6: 8.8 | H6: =ROUNDDOWN(단가조사!G7*옵션!$D$11, 0) -> 12972 | L6: =SUM(H6,I6,J6) -> 12972
B7: 59750338001 | C7: 3913170660935608 | D7: 나사없는전선관 | E7: E19(16C) | F7: M | G7: 11 | H7: =ROUNDDOWN(단가조사!G8*옵션!$D$11, 0) -> 2107 | L7: =SUM(H7,I7,J7) -> 2107
B8: 59750338002 | C8: 3913170660935609 | D8: 나사없는전선관 | E8: E25(22C) | F8: M | G8: 34.1 | H8: =ROUNDDOWN(단가조사!G9*옵션!$D$11, 0) -> 2849 | L8: =SUM(H8,I8,J8) -> 2849
B9: 59750338003 | C9: 3913170660935610 | D9: 나사없는전선관 | E9: E31(28C) | F9: M | G9: 69.3 | H9: =ROUNDDOWN(단가조사!G10*옵션!$D$11, 0) -> 3890 | L9: =SUM(H9,I9,J9) -> 3890
B10: 59750338004 | C10: 3913170660935611 | D10: 나사없는전선관 | E10: E39(36C) | F10: M | G10: 52.8 | H10: =ROUNDDOWN(단가조사!G11*옵션!$D$11, 0) -> 4834 | L10: =SUM(H10,I10,J10) -> 4834
B11: 59750338006 | C11: 3913170660935613 | D11: 나사없는전선관 | E11: E51(42C) | F11: M | G11: 22 | H11: =ROUNDDOWN(단가조사!G12*옵션!$D$11, 0) -> 6381 | L11: =SUM(H11,I11,J11) -> 6381
B12: 59750338007 | C12: 3913170660935614 | D12: 나사없는전선관 | E12: E63(54C) | F12: M | G12: 18.7 | H12: =ROUNDDOWN(단가조사!G13*옵션!$D$11, 0) -> 8922 | L12: =SUM(H12,I12,J12) -> 8922
B13: 59750338012 | C13: 3913170670935609 | D13: 나사없는전선관(노출) | E13: E25(22C) | F13: M | G13: 9.9 | H13: =ROUNDDOWN(단가조사!G14*옵션!$D$11, 0) -> 2849 | L13: =SUM(H13,I13,J13) -> 2849
B14: 59750338016 | C14: 3913170670935613 | D14: 나사없는전선관(노출) | E14: E51(42C) | F14: M | G14: 5.5 | H14: =ROUNDDOWN(단가조사!G15*옵션!$D$11, 0) -> 6381 | L14: =SUM(H14,I14,J14) -> 6381
B15: 59751467012 | C15: 3913170610034965 | D15: 경질비닐전선관 | E15: HI 16 mm | F15: M | G15: 23.1 | H15: =ROUNDDOWN(단가조사!G16*옵션!$D$11, 0) -> 294 | L15: =SUM(H15,I15,J15) -> 294
... B32: 59754887003 | C32: 3912139920409529 | D32: 발포지수제 | E32: D150 이하 | F32: 개 | G32: 12 | H32: =ROUNDDOWN(단가조사!G33*옵션!$D$11, 0) -> 30282 | L32: =SUM(H32,I32,J32) -> 30282
B33: 59754887006 | C33: 3912139920935638 | D33: 수밀보호테이프 | F33: 개 | G33: 12 | H33: =ROUNDDOWN(단가조사!G34*옵션!$D$11, 0) -> 2472 | L33: =SUM(H33,I33,J33) -> 2472
B34: 59754877106 | C34: 3913170820174930 | D34: 실링가스켓 | E34: D125 | F34: 개 | G34: 12 | H34: =ROUNDDOWN(단가조사!G35*옵션!$D$11, 0) -> 25064 | L34: =SUM(H34,I34,J34) -> 25064
B35: 59754877026 | C35: 3913170821871118 | D35: 관구밀폐기 | E35: 이종연결관Φ125m | F35: 개 | G35: 12 | H35: =ROUNDDOWN(단가조사!G36*옵션!$D$11, 0) -> 5419 | L35: =SUM(H35,I35,J35) -> 5419
B36: MM318075001 | C36: 3913170820335001 | D36: 나사없는 전선관(부속품) | E36: 커플링 E19(16C) | F36: 개 | G36: 2 | H36: =ROUNDDOWN(단가조사!G37*옵션!$D$11, 0) -> 830 | L36: =SUM(H36,I36,J36) -> 830
B37: MM318075002 | C37: 3913170820335002 | D37: 나사없는 전선관(부속품) | E37: 커플링 E25(22C) | F37: 개 | G37: 10 | H37: =ROUNDDOWN(단가조사!G38*옵션!$D$11, 0) -> 1014 | L37: =SUM(H37,I37,J37) -> 1014
B38: MM318075003 | C38: 3913170820335003 | D38: 나사없는 전선관(부속품) | E38: 커플링 E31(28C) | F38: 개 | G38: 17 | H38: =ROUNDDOWN(단가조사!G39*옵션!$D$11, 0) -> 1246 | L38: =SUM(H38,I38,J38) -> 1246
B39: MM318075004 | C39: 3913170820335004 | D39: 나사없는 전선관(부속품) | E39: 커플링 E39(36C) | F39: 개 | G39: 13 | H39: =ROUNDDOWN(단가조사!G40*옵션!$D$11, 0) -> 1625 | L39: =SUM(H39,I39,J39) -> 1625
B40: MM318075005 | C40: 3913170820335005 | D40: 나사없는 전선관(부속품) | E40: 커플링 E51(42C) | F40: 개 | G40: 5 | H40: =ROUNDDOWN(단가조사!G41*옵션!$D$11, 0) -> 2436 | L40: =SUM(H40,I40,J40) -> 2436
B41: MM318075006 | C41: 3913170820335006 | D41: 나사없는 전선관(부속품) | E41: 커플링 E63(54C) | F41: 개 | G41: 4 | H41: =ROUNDDOWN(단가조사!G42*옵션!$D$11, 0) -> 3249 | L41: =SUM(H41,I41,J41) -> 3249
B42: MM318075101 | C42: 3913170820335101 | D42: 나사없는 전선관(부속품) | E42: 커넥터 E19(16C) | F42: 개 | G42: 2 | H42: =ROUNDDOWN(단가조사!G43*옵션!$D$11, 0) -> 1087 | L42: =SUM(H42,I42,J42) -> 1087
B43: MM318075102 | C43: 3913170820335102 | D43: 나사없는 전선관(부속품) | E43: 커넥터 E25(22C) | F43: 개 | G43: 8 | H43: =ROUNDDOWN(단가조사!G44*옵션!$D$11, 0) -> 1258 | L43: =SUM(H43,I43,J43) -> 1258
B44: MM318075103 | C44: 3913170820335103 | D44: 나사없는 전선관(부속품) | E44: 커넥터 E31(28C) | F44: 개 | G44: 22 | H44: =ROUNDDOWN(단가조사!G45*옵션!$D$11, 0) -> 1513 | L44: =SUM(H44,I44,J44) -> 1513
B45: MM318075104 | C45: 3913170820335104 | D45: 나사없는 전선관(부속품) | E45: 커넥터 E39(36C) | F45: 개 | G45: 14 | H45: =ROUNDDOWN(단가조사!G46*옵션!$D$11, 0) -> 1983 | L45: =SUM(H45,I45,J45) -> 1983
... B166: MM355702721 | C166: 9998887770000074 | D166: 내화충전(패드) | E166: 500x500x30T | F166: 장 | G166: 2 | H166: =ROUNDDOWN(단가조사!G167*옵션!$D$11, 0) -> 60000 | L166: =SUM(H166,I166,J166) -> 60000
B167: MMG26477762 | C167: 9998887770001018 | D167: 카운터센서 | F167: EA | G167: 8 | H167: =ROUNDDOWN(단가조사!G168*옵션!$D$11, 0) -> 80000 | L167: =SUM(H167,I167,J167) -> 80000
B168: MMG26477763 | C168: 9998887770001019 | D168: 카운터절전스위치 | F168: EA | G168: 4 | H168: =ROUNDDOWN(단가조사!G169*옵션!$D$11, 0) -> 240000 | L168: =SUM(H168,I168,J168) -> 240000
B169: MMT97727316 | C169: InMastDBNonCode | D169: 조명기구(어게인행복센터) | E169: TYPE "A" | F169: EA | G169: 115 | H169: =ROUNDDOWN(단가조사!G170*옵션!$D$11, 0) -> 84000 | L169: =SUM(H169,I169,J169) -> 84000 | M169: MAS
B170: MMT97727317 | C170: InMastDBNonCode | D170: 조명기구(어게인행복센터) | E170: TYPE "B" | F170: EA | G170: 156 | H170: =ROUNDDOWN(단가조사!G171*옵션!$D$11, 0) -> 27500 | L170: =SUM(H170,I170,J170) -> 27500 | M170: MAS
B171: MMT97727318 | C171: InMastDBNonCode | D171: 조명기구(어게인행복센터) | E171: TYPE "C" | F171: EA | G171: 22 | H171: =ROUNDDOWN(단가조사!G172*옵션!$D$11, 0) -> 90000 | L171: =SUM(H171,I171,J171) -> 90000 | M171: MAS
B172: MMT97727319 | C172: InMastDBNonCode | D172: 조명기구(어게인행복센터) | E172: TYPE "D" | F172: EA | G172: 6 | H172: =ROUNDDOWN(단가조사!G173*옵션!$D$11, 0) -> 45000 | L172: =SUM(H172,I172,J172) -> 45000 | M172: MAS
B173: MMT97727320 | C173: InMastDBNonCode | D173: 조명기구(어게인행복센터) | E173: TYPE "E" | F173: EA | G173: 10 | H173: =ROUNDDOWN(단가조사!G174*옵션!$D$11, 0) -> 50000 | L173: =SUM(H173,I173,J173) -> 50000 | M173: MAS
B174: MMT97727321 | C174: InMastDBNonCode | D174: 조명기구(어게인행복센터) | E174: TYPE "F" | F174: EA | G174: 8 | H174: =ROUNDDOWN(단가조사!G175*옵션!$D$11, 0) -> 120000 | L174: =SUM(H174,I174,J174) -> 120000 | M174: MAS
B175: MMR97997260 | C175: InMastDBNonCode | D175: 수배전반(어게인행복센터)-*@ | E175: SS-1 | F175: 면 | G175: 1 | H175: =ROUNDDOWN(단가조사!G176*옵션!$D$11, 0) -> 26661000 | L175: =SUM(H175,I175,J175) -> 26661000 | M175: MAS
B176: MMR97997261 | C176: InMastDBNonCode | D176: MCC반(어게인행복센터)-*@관급 | E176: MCC-F | F176: 면 | G176: 1 | H176: =ROUNDDOWN(단가조사!G177*옵션!$D$11, 0) -> 10841000 | L176: =SUM(H176,I176,J176) -> 10841000 | M176: MAS
B177: MMR97997262 | C177: InMastDBNonCode | D177: 분전반(어게인행복센터) | E177: MCP-E | F177: 면 | G177: 1 | H177: =ROUNDDOWN(단가조사!G178*옵션!$D$11, 0) -> 10406000 | L177: =SUM(H177,I177,J177) -> 10406000 | M177: MAS
B178: MMR97997263 | C178: InMastDBNonCode | D178: 분전반(어게인행복센터) | E178: LN-전기실 | F178: 면 | G178: 1 | H178: =ROUNDDOWN(단가조사!G179*옵션!$D$11, 0) -> 2161000 | L178: =SUM(H178,I178,J178) -> 2161000 | M178: MAS
B179: MMR97997264 | C179: InMastDBNonCode | D179: 분전반(어게인행복센터) | E179: LN-1-M | F179: 면 | G179: 1 | H179: =ROUNDDOWN(단가조사!G180*옵션!$D$11, 0) -> 4828000 | L179: =SUM(H179,I179,J179) -> 4828000 | M179: MAS
B180: MMR97997266 | C180: InMastDBNonCode | D180: 분전반(어게인행복센터) | E180: LN-1-화장실 | F180: 면 | G180: 1 | H180: =ROUNDDOWN(단가조사!G181*옵션!$D$11, 0) -> 1640000 | L180: =SUM(H180,I180,J180) -> 1640000 | M180: MAS
... B190: MMR97997275 | C190: InMastDBNonCode | D190: 태양광발전설비(어게인행복센터 | E190: 70.2KW | F190: 식 | G190: 1 | H190: =ROUNDDOWN(단가조사!G191*옵션!$D$11, 0) -> 196382000 | L190: =SUM(H190,I190,J190) -> 196382000 | M190: MAS
B191: MMR98331860 | C191: InMastDBNonCode | D191: 원격검침설비(어게인행복센터) | F191: 식 | G191: 1 | H191: =ROUNDDOWN(단가조사!G192*옵션!$D$11, 0) -> 40000000 | L191: =SUM(H191,I191,J191) -> 40000000 | M191: 부가세포함
B192: MM998331910 | C192: InMastDBNonCode | D192: 철근클램프 | E192: 구조체접속 | F192: EA | G192: 6 | H192: =ROUNDDOWN(단가조사!G193*옵션!$D$11, 0) -> 7500 | L192: =SUM(H192,I192,J192) -> 7500
B193: MM998331911 | C193: InMastDBNonCode | D193: C형 슬리브 | E193: 70SQ | F193: EA | G193: 78 | H193: =ROUNDDOWN(단가조사!G194*옵션!$D$11, 0) -> 3200 | L193: =SUM(H193,I193,J193) -> 3200
B194: MM998331912 | C194: InMastDBNonCode | D194: SUS접지모듈 | E194: (100×100×1200) | F194: EA | G194: 22 | H194: =ROUNDDOWN(단가조사!G195*옵션!$D$11, 0) -> 450000 | L194: =SUM(H194,I194,J194) -> 450000
B195: MM998331913 | C195: InMastDBNonCode | D195: 접지저감재 | E195: 그린어스 탄소형 | F195: 포 | G195: 22 | H195: =ROUNDDOWN(단가조사!G196*옵션!$D$11, 0) -> 45000 | L195: =SUM(H195,I195,J195) -> 45000
B196: MM998331914 | C196: InMastDBNonCode | D196: 수막처리봉 | E196: 300L | F196: EA | G196: 14 | H196: =ROUNDDOWN(단가조사!G197*옵션!$D$11, 0) -> 40000 | L196: =SUM(H196,I196,J196) -> 40000
B197: MM998331915 | C197: InMastDBNonCode | D197: 대지고유저항 측정 및 분석 | F197: POINT | G197: 1 | H197: =ROUNDDOWN(단가조사!G198*옵션!$D$11, 0) -> 0 | L197: =SUM(H197,I197,J197) -> 0
B198: MM998331916 | C198: InMastDBNonCode | D198: 접지저항 측정 | F198: 기 | G198: 1 | H198: =ROUNDDOWN(단가조사!G199*옵션!$D$11, 0) -> 0 | L198: =SUM(H198,I198,J198) -> 0
B199: MM998342289 | C199: InMastDBNonCode | D199: 수평도체 | E199: 알루미늄 8mm | F199: M | G199: 170 | H199: =ROUNDDOWN(단가조사!G200*옵션!$D$11, 0) -> 4230 | L199: =SUM(H199,I199,J199) -> 4230
B200: MM998342290 | C200: InMastDBNonCode | D200: Expansion Joint | E200: 이완수축방지용(편조형) | F200: EA | G200: 9 | H200: =ROUNDDOWN(단가조사!G201*옵션!$D$11, 0) -> 6500 | L200: =SUM(H200,I200,J200) -> 6500
B201: MM998342291 | C201: InMastDBNonCode | D201: 도선지지금구 | E201: S1 (알루미늄) | F201: EA | G201: 166 | H201: =ROUNDDOWN(단가조사!G202*옵션!$D$11, 0) -> 7000 | L201: =SUM(H201,I201,J201) -> 7000
B202: MM998342292 | C202: InMastDBNonCode | D202: 연결콘넥터(볼트조임형) | E202: ㅡ,+ (알루미늄) | F202: EA | G202: 57 | H202: =ROUNDDOWN(단가조사!G203*옵션!$D$11, 0) -> 4500 | L202: =SUM(H202,I202,J202) -> 4500
B203: MM998342293 | C203: InMastDBNonCode | D203: 칼블럭(지지금구 고정) | E203: 지지금구 * 2 | F203: EA | G203: 340 | H203: =ROUNDDOWN(단가조사!G204*옵션!$D$11, 0) -> 200 | L203: =SUM(H203,I203,J203) -> 200
B204: MM998342294 | C204: InMastDBNonCode | D204: S2피뢰침 | E204: 1M(알루미늄) | F204: EA | G204: 4 | H204: =ROUNDDOWN(단가조사!G205*옵션!$D$11, 0) -> 50000 | L204: =SUM(H204,I204,J204) -> 50000
B205: MM998342295 | C205: InMastDBNonCode | D205: 구조체접속 | E205: 철근클램프 | F205: EA | G205: 11 | H205: =ROUNDDOWN(단가조사!G206*옵션!$D$11, 0) -> 7500 | L205: =SUM(H205,I205,J205) -> 7500
B206: MM998342296 | C206: InMastDBNonCode | D206: 그라운드 패드 | F206: EA | G206: 11 | H206: =ROUNDDOWN(단가조사!G207*옵션!$D$11, 0) -> 30000 | L206: =SUM(H206,I206,J206) -> 30000
B207: MM998342297 | C207: InMastDBNonCode | D207: 이질슬리브 | F207: EA | G207: 12 | H207: =ROUNDDOWN(단가조사!G208*옵션!$D$11, 0) -> 12000 | L207: =SUM(H207,I207,J207) -> 12000
B208: MM998342298 | C208: InMastDBNonCode | D208: 번디클램프 | E208: 철근콘크리트 내 죔쇠접속 | F208: EA | G208: 26 | H208: =ROUNDDOWN(단가조사!G209*옵션!$D$11, 0) -> 7700 | L208: =SUM(H208,I208,J208) -> 7700
B209: MM009839319 | C209: 391115ZZ701Z0001 | D209: 조달 수수료(17) | E209: 0.54% | F209: 식 | G209: 1 | H209: =ROUNDDOWN(단가조사!G210*옵션!$D$11, 0) -> 204000 | L209: =SUM(H209,I209,J209) -> 204000
B210: MM009839321 | C210: 391115ZZ701Z0002 | D210: 조달 수수료(18) | E210: 0.54% | F210: 식 | G210: 1 | H210: =ROUNDDOWN(단가조사!G211*옵션!$D$11, 0) -> 95000 | L210: =SUM(H210,I210,J210) -> 95000
B211: MM009839323 | C211: 391115ZZ701Z0003 | D211: 조달 수수료(20) | E211: 0.54% | F211: 식 | G211: 1 | H211: =ROUNDDOWN(단가조사!G212*옵션!$D$11, 0) -> 202000 | L211: =SUM(H211,I211,J211) -> 202000
B212: MM007319577 | C212: 391115ZZ701Z0004 | D212: 조달 수수료(21) | E212: 0.54% | F212: 식 | G212: 1 | H212: =ROUNDDOWN(단가조사!G213*옵션!$D$11, 0) -> 1060000 | L212: =SUM(H212,I212,J212) -> 1060000
B213: MM007319579 | C213: 391115ZZ701Z0005 | D213: 조달 수수료(22) | E213: 2~5천만원 530,000원 | F213: 식 | G213: 1 | H213: =ROUNDDOWN(단가조사!G214*옵션!$D$11, 0) -> 265000 | L213: =SUM(H213,I213,J213) -> 265000
B214: CA565826042 | C214: ECA565826042 | D214: 기계터파기 | E214: 보통토사(0.6㎥/43.6) | F214: ㎥ | G214: 44.0568 | H214: =단가조사!H215 -> 427 | I214: =단가조사!J215 -> 1302 | J214: =단가조사!L215 -> 589 | L214: =SUM(H214,I214,J214) -> 2318 | M214: 164-하
B215: CA565826051 | C215: ECA565826051 | D215: 기계되메우기 | E215: 보통토사(0.6㎥/43.6) | F215: ㎥ | G215: 35.726 | H215: =단가조사!H216 -> 427 | I215: =단가조사!J216 -> 1302 | J215: =단가조사!L216 -> 589 | L215: =SUM(H215,I215,J215) -> 2318 | M215: 164-하
B216: CA565826044 | C216: ECA565826044 | D216: 크레인 | E216: 트럭 탑재형 10 Ton | F216: hr | G216: 4.56 | H216: =단가조사!H217 -> 16012 | I216: =단가조사!J217 -> 48663 | J216: =단가조사!L217 -> 21743 | L216: =SUM(H216,I216,J216) -> 86418 | M216: 166-하
B217: 56900017016 | C217: L001010101000075 | D217: 노 무 비 | E217: 내선전공 | F217: 인 | G217: 495.2195 | I217: =ROUNDDOWN(단가조사!G218, 0) -> 268915 | L217: =SUM(H217,I217,J217) -> 268915
B218: 56900017076 | C218: L001010101000078 | D218: 노 무 비 | E218: 저압케이블전공 | F218: 인 | G218: 89.7062 | I218: =ROUNDDOWN(단가조사!G219, 0) -> 300337 | L218: =SUM(H218,I218,J218) -> 300337
B219: 56900017031 | C219: L001010101000081 | D219: 노 무 비 | E219: 배전전공 | F219: 인 | G219: 2.56 | I219: =ROUNDDOWN(단가조사!G220, 0) -> 408559 | L219: =SUM(H219,I219,J219) -> 408559
B220: 56900017048 | C220: L001010101000079 | D220: 노 무 비 | E220: 송전전공 | F220: 인 | G220: 0.11 | I220: =ROUNDDOWN(단가조사!G221, 0) -> 627960 | L220: =SUM(H220,I220,J220) -> 627960
B221: 56900017078 | C221: L001010501000115 | D221: 노 무 비 | E221: 전기공사산업기사 | F221: 인 | G221: 0.72 | I221: =ROUNDDOWN(단가조사!G222, 0) -> 289211 | L221: =SUM(H221,I221,J221) -> 289211
B222: 56900017116 | C222: L001010101000089 | D222: 노 무 비 | E222: 통신케이블공 | F222: 인 | G222: 1.89 | I222: =ROUNDDOWN(단가조사!G223, 0) -> 433400 | L222: =SUM(H222,I222,J222) -> 433400
B223: 56900017041 | C223: L001010101000002 | D223: 노 무 비 | E223: 보통인부 | F223: 인 | G223: 27.978 | I223: =ROUNDDOWN(단가조사!G224, 0) -> 169804 | L223: =SUM(H223,I223,J223) -> 169804
B224: 56900017118 | C224: L001010101000003 | D224: 노 무 비 | E224: 특별인부 | F224: 인 | G224: 3.97 | I224: =ROUNDDOWN(단가조사!G225, 0) -> 221506 | L224: =SUM(H224,I224,J224) -> 221506
B225: 56900017017 | C225: L001010101000030 | D225: 노 무 비 | E225: 내장공 | F225: 인 | G225: 0.34 | I225: =ROUNDDOWN(단가조사!G226, 0) -> 252249 | L225: =SUM(H225,I225,J225) -> 252249
B226: 56900017029 | C226: L001010101000026 | D226: 노 무 비 | E226: 방수공 | F226: 인 | G226: 0.18 | I226: =ROUNDDOWN(단가조사!G227, 0) -> 220722 | L226: =SUM(H226,I226,J226) -> 220722
B227: 56900017091 | C227: L001010101000034 | D227: 노 무 비 | E227: 줄눈공 | F227: 인 | G227: 0.06 | I227: =ROUNDDOWN(단가조사!G228, 0) -> 202696 | L227: =SUM(H227,I227,J227) -> 202696
B228: 56900017074 | C228: L001010101000001 | D228: 노 무 비 | E228: 작업반장 | F228: 인 | G228: 0.56 | I228: =ROUNDDOWN(단가조사!G229, 0) -> 213033 | L228: =SUM(H228,I228,J228) -> 213033

Sheet 단가조사
B1: 243 | D1: 단가조사서
A2: 번호 | B2: 공종코드 | C2: 코드 | D2: 명 칭 | E2: 규 격 | F2: 단위 | G2: 적용단가 | H2: 시설단가 | J2: 거래가격 | L2: 물가정보 | N2: 물가자료 | P2: 조사단가1 | R2: 유통물가 | T2: 비고
H3: 단가 | I3: 코드 | J3: 단가 | K3: PAGE | L3: 단가 | M3: PAGE | N3: 단가 | O3: PAGE | P3: 단가 | Q3: PAGE | R3: 단가 | S3: PAGE
B4: 공종줄 | D4: AGAIN행복센터
C5: 3913170610034839 | D5: 강제전선관 | E5: 아연도 82 mm | F5: M | G5: 12972 | H5: 12972 | J5: 14580 | K5: 1029 | L5: 17332 | M5: 1-1196 | N5: 16400 | O5: 1101
C6: 3913170610034841 | D6: 강제전선관 | E6: 아연도 104 mm | F6: M | G6: 20843 | H6: 20843 | J6: 23540 | K6: 1029 | L6: 27982 | M6: 1-1196 | N6: 26400 | O6: 1101
C7: 3913170610034839 | D7: 강제전선관 | E7: 아연도 82 mm | F7: M | G7: 12972 | H7: 12972 | J7: 14580 | K7: 1029 | L7: 17332 | M7: 1-1196 | N7: 16400 | O7: 1101
C8: 3913170660935608 | D8: 나사없는전선관 | E8: E19(16C) | F8: M | G8: 2107 | H8: 2107 | J8: 2306 | K8: 1029 | L8: 2547 | M8: 1-1196 | N8: 2547 | O8: 1102
C9: 3913170660935609 | D9: 나사없는전선관 | E9: E25(22C) | F9: M | G9: 2849 | H9: 2849 | J9: 3011 | K9: 1029 | L9: 3354 | M9: 1-1196 | N9: 3354 | O9: 1102
C10: 3913170660935610 | D10: 나사없는전선관 | E10: E31(28C) | F10: M | G10: 3890 | H10: 3890 | J10: 4081 | K10: 1029 | L10: 4696 | M10: 1-1196 | N10: 4696 | O10: 1102
C11: 3913170660935611 | D11: 나사없는전선관 | E11: E39(36C) | F11: M | G11: 4834 | H11: 4834 | J11: 4847 | K11: 1029 | L11: 5840 | M11: 1-1196 | N11: 5840 | O11: 1102
C12: 3913170660935613 | D12: 나사없는전선관 | E12: E51(42C) | F12: M | G12: 6381 | H12: 6381 | J12: 6436 | K12: 1029 | L12: 7784 | M12: 1-1196 | N12: 7784 | O12: 1102
C13: 3913170660935614 | D13: 나사없는전선관 | E13: E63(54C) | F13: M | G13: 8922 | H13: 9137 | J13: 8922 | K13: 1029 | L13: 11138 | M13: 1-1196 | N13: 11138 | O13: 1102
C14: 3913170670935609 | D14: 나사없는전선관(노출) | E14: E25(22C) | F14: M | G14: 2849 | H14: 2849 | J14: 3011 | K14: 1029 | L14: 3354 | M14: 1-1196 | N14: 3354 | O14: 1102
C15: 3913170670935613 | D15: 나사없는전선관(노출) | E15: E51(42C) | F15: M | G15: 6381 | H15: 6381 | J15: 6436 | K15: 1029 | L15: 7784 | M15: 1-1196 | N15: 7784 | O15: 1102
C16: 3913170610034965 | D16: 경질비닐전선관 | E16: HI 16 mm | F16: M | G16: 294 | H16: 294 | J16: 332 | K16: 1024 | L16: 440 | M16: 1-1198 | N16: 390 | O16: 1107
... C32: 3913170620174475 | D32: 1종금속제가요전선관 | E32: 54 mm 고장력-방수 | F32: M | G32: 5892 | H32: 5892 | J32: 11880 | K32: 1027 | L32: 6457 | M32: 1-1199 | N32: 11880 | O32: 1103
C33: 3912139920409529 | D33: 발포지수제 | E33: D150 이하 | F33: 개 | G33: 30282 | H33: 30282
C34: 3912139920935638 | D34: 수밀보호테이프 | F34: 개 | G34: 2472 | H34: 2472
C35: 3913170820174930 | D35: 실링가스켓 | E35: D125 | F35: 개 | G35: 25064 | H35: 25064 | N35: 31900 | O35: 1106
C36: 3913170821871118 | D36: 관구밀폐기 | E36: 이종연결관Φ125m | F36: 개 | G36: 5419 | H36: 5419 | N36: 9900 | O36: 1229
C37: 3913170820335001 | D37: 나사없는 전선관(부속품) | E37: 커플링 E19(16C) | F37: 개 | G37: 830 | H37: 830 | J37: 1160 | K37: 1029 | L37: 977 | M37: 1-1196 | N37: 977 | O37: 1102
C38: 3913170820335002 | D38: 나사없는 전선관(부속품) | E38: 커플링 E25(22C) | F38: 개 | G38: 1014 | H38: 1014 | J38: 1450 | K38: 1029 | L38: 1193 | M38: 1-1196 | N38: 1193 | O38: 1102
C39: 3913170820335003 | D39: 나사없는 전선관(부속품) | E39: 커플링 E31(28C) | F39: 개 | G39: 1246 | H39: 1246 | J39: 1750 | K39: 1029 | L39: 1467 | M39: 1-1196 | N39: 1467 | O39: 1102
C40: 3913170820335004 | D40: 나사없는 전선관(부속품) | E40: 커플링 E39(36C) | F40: 개 | G40: 1625 | H40: 1625 | J40: 2250 | K40: 1029 | L40: 2131 | M40: 1-1196 | N40: 2131 | O40: 1102
C41: 3913170820335005 | D41: 나사없는 전선관(부속품) | E41: 커플링 E51(42C) | F41: 개 | G41: 2436 | H41: 2436 | J41: 3370 | K41: 1029 | L41: 3203 | M41: 1-1196 | N41: 3203 | O41: 1102
C42: 3913170820335006 | D42: 나사없는 전선관(부속품) | E42: 커플링 E63(54C) | F42: 개 | G42: 3249 | H42: 3249 | J42: 4500 | K42: 1029 | L42: 4220 | M42: 1-1196 | N42: 4220 | O42: 1102
C43: 3913170820335101 | D43: 나사없는 전선관(부속품) | E43: 커넥터 E19(16C) | F43: 개 | G43: 1087 | H43: 1087 | J43: 1450 | K43: 1029 | L43: 1279 | M43: 1-1196 | N43: 1279 | O43: 1102
C44: 3913170820335102 | D44: 나사없는 전선관(부속품) | E44: 커넥터 E25(22C) | F44: 개 | G44: 1258 | H44: 1258 | J44: 1670 | K44: 1029 | L44: 1480 | M44: 1-1196 | N44: 1480 | O44: 1102
C45: 3913170820335103 | D45: 나사없는 전선관(부속품) | E45: 커넥터 E31(28C) | F45: 개 | G45: 1513 | H45: 1513 | J45: 2010 | K45: 1029 | L45: 1781 | M45: 1-1196 | N45: 1781 | O45: 1102
C46: 3913170820335104 | D46: 나사없는 전선관(부속품) | E46: 커넥터 E39(36C) | F46: 개 | G46: 1983 | H46: 1983 | J46: 2620 | K46: 1029 | L46: 2334 | M46: 1-1196 | N46: 2334 | O46: 1102
C47: 3913170820335105 | D47: 나사없는 전선관(부속품) | E47: 커넥터 E51(42C) | F47: 개 | G47: 2981 | H47: 2981 | J47: 3950 | K47: 1029 | L47: 3508 | M47: 1-1196 | N47: 3508 | O47: 1102
C48: 3913170820335106 | D48: 나사없는 전선관(부속품) | E48: 커넥터 E63(54C) | F48: 개 | G48: 3800 | H48: 3800 | J48: 5010 | K48: 1029 | L48: 4471 | M48: 1-1196 | N48: 4471 | O48: 1102
... C57: 3912130810035750 | D57: 아우트렛박스 | E57: 8각 54㎜ | F57: 개 | G57: 627 | H57: 627 | J57: 800 | K57: 1028 | L57: 845 | M57: 1-1201 | N57: 790 | O57: 1105
C58: 3912130810035753 | D58: 아우트렛박스 | E58: 중형4각 54㎜ | F58: 개 | G58: 920 | J58: 1000 | K58: 1028 | L58: 973 | M58: 1-1201 | N58: 920 | O58: 1105
C59: 3912130610035778 | D59: 스위치박스 | E59: 1 개용 54 mm | F59: 개 | G59: 592 | H59: 592 | J59: 650 | K59: 1028 | L59: 700 | M59: 1-1201 | N59: 650 | O59: 1105
C60: 3912130610035781 | D60: 스위치박스 | E60: 2 개용 54 mm(4각) | F60: 개 | G60: 726 | H60: 824 | J60: 1000 | K60: 1028 | L60: 726 | M60: 1-1201 | N60: 920 | O60: 1105
C61: 3912130820174712 | D61: 아우트렛박스 커버 | E61: 8각, 둥근구멍(평) | F61: 개 | G61: 290 | J61: 400 | K61: 1028 | L61: 343 | M61: 1-1201 | N61: 290 | O61: 1105
C62: 3912130820174715 | D62: 아우트렛박스 커버 | E62: 4각, 둥근구멍(평) | F62: 개 | G62: 343 | J62: 400 | K62: 1028 | L62: 343 | M62: 1-1201 | N62: 400 | O62: 1105
C63: 3912131020171573 | D63: FLOOR BOX | E63: 150x150x80 | F63: 개 | G63: 65300 | J63: 65300 | K63: 1035
C64: 3912130320175917 | D64: JOINT BOX | E64: 100*100*50 | F64: EA | G64: 2690 | J64: 4200 | K64: 1028 | L64: 2690 | M64: 1-1201
C65: 3912130310035795 | D65: 풀박스 | E65: 100×100×75 | F65: 개 | G65: 2734 | H65: 2734 | J65: 5100 | K65: 1028 | L65: 3220 | M65: 1-1201 | N65: 3370 | O65: 1105
C66: 3913170910034920 | D66: 레이스웨이 | E66: BODY, 70 x 40 | F66: M | G66: 3200 | H66: 3200 | J66: 3200 | K66: 1040 | L66: 6780 | M66: 1-1200 | N66: 4120 | O66: 1115
C67: 3913170910034923 | D67: 레이스웨이 | E67: COVER, 70 x 40 | F67: M | G67: 1267 | H67: 1267 | J67: 1300 | K67: 1040 | L67: 2760 | M67: 1-1200 | N67: 1590 | O67: 1115
C68: 3913170910034926 | D68: 레이스웨이 | E68: JOINER, 70 x 40 | F68: 개 | G68: 950 | H68: 950 | J68: 1050 | K68: 1040 | L68: 2020 | M68: 1-1200 | N68: 950 | O68: 1115
C69: 3913170910034929 | D69: 레이스웨이 | E69: END CAP, 70 x 40 | F69: 개 | G69: 538 | H69: 538 | J69: 750 | K69: 1040 | L69: 1380 | M69: 1-1200 | N69: 680 | O69: 1115
C70: 3913170910034937 | D70: 레이스웨이 | E70: A형 HANGER, 70 x 40 | F70: 개 | G70: 664 | H70: 664 | J70: 1050 | K70: 1040 | L70: 1260 | M70: 1-1200 | N70: 860 | O70: 1115
C71: 3913170910034945 | D71: 레이스웨이 | E71: JOINT BOX, 70 x 40 | F71: 개 | G71: 1400 | H71: 1400 | J71: 1400 | K71: 1040 | L71: 3560 | M71: 1-1200 | N71: 2040 | O71: 1115
C72: 3913170910034934 | D72: 레이스웨이 | E72: 기구용금구, 70 x 40 | F72: 개 | G72: 360 | H72: 360 | J72: 480 | K72: 1040 | L72: 500 | M72: 1-1200 | N72: 360 | O72: 1115
C73: 3913170910034948 | D73: 레이스웨이 | E73: JUNC.BOX - 3방, 70x 40 | F73: 개 | G73: 3470 | H73: 3470 | J73: 4780 | K73: 1040 | L73: 7780 | M73: 1-1200 | N73: 4080 | O73: 1115
C74: 3913170420174048 | D74: 케이블트레이 | E74: STRAIGHT,St W300x100Hx2.3t | F74: M | G74: 12968 | H74: 12968 | J74: 42290 | K74: 1038 | L74: 25550 | M74: 1-1211 | N74: 24580 | O74: 1112
C75: 3913170420174115 | D75: 케이블트레이 | E75: STRAIGHT,St W500x100Hx2.3t | F75: M | G75: 12934 | H75: 12934 | J75: 49350 | K75: 1038 | L75: 29460 | M75: 1-1211 | N75: 27830 | O75: 1112
C76: 3913170420171161 | D76: 케이블트레이 | E76: COVER,St W300 | F76: M | G76: 25940 | L76: 25940 | M76: 1-1211 | N76: 34060 | O76: 1112
C77: 3913170420171215 | D77: 케이블트레이 | E77: COVER,St W500 | F77: M | G77: 41090 | L77: 41090 | M77: 1-1211 | N77: 53100 | O77: 1112
C78: 3913170520175050 | D78: 케이블트레이부속품 | E78: H. ELBOW, St,W300x100Hx2.3t | F78: 개 | G78: 17076 | H78: 17076 | J78: 63320 | K78: 1038 | L78: 38120 | M78: 1-1211 | N78: 36020 | O78: 1112
C79: 3913170520175715 | D79: 케이블트레이부속품 | E79: H. ELBOW, St,W500x100Hx2.3t | F79: 개 | G79: 19650 | H79: 19650 | J79: 74240 | K79: 1038 | L79: 44180 | M79: 1-1211 | N79: 49770 | O79: 1112
C80: 3913170520175064 | D80: 케이블트레이부속품 | E80: V. ELBOW, St,W300x100Hx2.3t | F80: 개 | G80: 17552 | H80: 17552 | J80: 63320 | K80: 1038 | L80: 41010 | M80: 1-1211 | N80: 36020 | O80: 1112
C81: 3913170520178215 | D81: 케이블트레이부속품 | E81: V. ELBOW, St,W500x100Hx2.3t | F81: 개 | G81: 13358 | H81: 13358 | J81: 74240 | K81: 1038 | L81: 46790 | M81: 1-1211 | N81: 49770 | O81: 1112
C82: 3913170520175078 | D82: 케이블트레이부속품 | E82: H. TEE, St, W300x100Hx2.3t | F82: 개 | G82: 27330 | H82: 27330 | J82: 84590 | K82: 1038 | L82: 53970 | M82: 1-1211 | N82: 62370 | O82: 1112
C83: 3913170520177115 | D83: 케이블트레이부속품 | E83: H. TEE, St, W500x100Hx2.3t | F83: 개 | G83: 23409 | H83: 23409 | J83: 98800 | K83: 1038 | L83: 69020 | M83: 1-1211 | N83: 86230 | O83: 1112
C84: 3913170520175515 | D84: 케이블트레이부속품 | E84: REDUCER, St, W500x100Hx2.3t | F84: 개 | G84: 13944 | H84: 13944 | J84: 64340 | K84: 1038 | L84: 30930 | M84: 1-1211
C85: 3913170520175118 | D85: 케이블트레이부속품 | E85: JOINT CONNEC.아연도100Hx2.3 | F85: 개 | G85: 754 | H85: 754 | L85: 2130 | M85: 1-1211
C86: 3913170520175120 | D86: 케이블트레이부속품 | E86: SHANK BOLT & NUT, 아연도 | F86: 개 | G86: 55 | H86: 55 | L86: 150 | M86: 1-1211
C87: 3913170520175124 | D87: 케이블트레이부속품 | E87: BONDING JUMPER, 38㎟ | F87: 개 | G87: 2760 | H87: 2760 | L87: 4740 | M87: 1-1211
C88: 3913170520935624 | D88: 케이블트레이부속품 | E88: RAIL CLAMP | F88: 개 | G88: 547 | H88: 547 | L88: 4500 | M88: 1-1208 | N88: 4700 | O88: 1111
C89: 3913170520175125 | D89: 케이블트레이부속품 | E89: HOLD DOWN CLAMP, 아연도 | F89: 개 | G89: 332 | H89: 332 | L89: 470 | M89: 1-1211
C90: 3913170520175126 | D90: 케이블트레이부속품 | E90: 찬넬스프링 너트, 아연도 | F90: 개 | G90: 458 | H90: 458 | L90: 540 | M90: 1-1211
C91: 3913170520175128 | D91: 케이블트레이부속품 | E91: U CHANNEL, 41x41x2.6t | F91: 개 | G91: 4811 | H91: 4811 | L91: 11030 | M91: 1-1211
C92: 3913170810036357 | D92: 강재전선관용 부품 | E92: 파이프행거, 16 C | F92: 개 | G92: 324 | H92: 324 | J92: 360 | K92: 1029 | L92: 727 | M92: 1-1197 | N92: 620 | O92: 1101
C93: 3913170810036358 | D93: 강재전선관용 부품 | E93: 파이프행거, 22 C | F93: 개 | G93: 330 | H93: 330 | J93: 370 | K93: 1029 | L93: 745 | M93: 1-1197 | N93: 650 | O93: 1101
C94: 3913170810036359 | D94: 강재전선관용 부품 | E94: 파이프행거, 28 C | F94: 개 | G94: 353 | H94: 353 | J94: 410 | K94: 1029 | L94: 782 | M94: 1-1197 | N94: 680 | O94: 1101
C95: 3913170810036360 | D95: 강재전선관용 부품 | E95: 파이프행거, 36 C | F95: 개 | G95: 378 | H95: 378 | J95: 420 | K95: 1029 | L95: 828 | M95: 1-1197 | N95: 720 | O95: 1101
C96: 3913170810036361 | D96: 강재전선관용 부품 | E96: 파이프행거, 42 C | F96: 개 | G96: 405 | H96: 405 | J96: 450 | K96: 1029 | L96: 904 | M96: 1-1197 | N96: 760 | O96: 1101
C97: 3913170810036362 | D97: 강재전선관용 부품 | E97: 파이프행거, 54 C | F97: 개 | G97: 586 | H97: 586 | J97: 660 | K97: 1029 | L97: 1272 | M97: 1-1197 | N97: 1050 | O97: 1101
C98: 3913170810036364 | D98: 강재전선관용 부품 | E98: 파이프행거, 82 C | F98: 개 | G98: 1082 | H98: 1082 | J98: 1210 | K98: 1029 | L98: 1932 | M98: 1-1197 | N98: 1780 | O98: 1101
C99: 3913170810036365 | D99: 강재전선관용 부품 | E99: 파이프행거, 104 C | F99: 개 | G99: 1269 | H99: 1269 | J99: 1430 | K99: 1029 | L99: 2484 | M99: 1-1197 | N99: 1940 | O99: 1101
C100: 3116210220135742 | D100: 셋트앵커 | E100: M8×L150mm | F100: 개 | G100: 1400 | L100: 1400 | M100: 1-48
C101: 3116210220135769 | D101: 스트롱앵커 | E101: 3/8 | F101: 개 | G101: 130 | J101: 130 | K101: 94 | N101: 130 | O101: 52
C102: 1651644984980210 | D102: 스트롱앵커(RACE WAY) | E102: 3/8 | F102: 개 | G102: 130 | J102: 130 | K102: 94 | N102: 130 | O102: 52
C103: 1818111888880000 | D103: 인서트(TRAY) | E103: 주물, Φ9mm | F103: 개 | G103: 590 | N103: 590 | O103: 47(7월)
C104: 3116169820135160 | D104: 행거볼트 | E104: ∮9×1000㎜ | F104: 개 | G104: 1220 | L104: 1226 | M104: 1-43 | N104: 1220 | O104: 46
C105: 2612162922076724 | D105: 내열비닐절연전선 | E105: HFIX 2.5sq (1.78mm)-(바닥)단선 | F105: M | G105: 494 | H105: 494 | J105: 556 | K105: 993 | L105: 685 | M105: 1-1161 | N105: 515 | O105: 1074
C106: 2612162922076727 | D106: 내열비닐절연전선 | E106: HFIX 2.5sq (1.78mm)-단선 | F106: M | G106: 494 | H106: 494 | J106: 556 | K106: 993 | L106: 685 | M106: 1-1161 | N106: 515 | O106: 1074
C107: 2612152420683696 | D107: 접지용비닐절연전선(F-GV) | E107: 4㎟ | F107: M | G107: 921 | H107: 921 | J107: 1179 | K107: 994 | L107: 1089 | M107: 1-1161 | N107: 1128 | O107: 1075
C108: 2612152420683697 | D108: 접지용비닐절연전선(F-GV) | E108: 6㎟ | F108: M | G108: 1045 | H108: 1045 | J108: 1403 | K108: 994 | L108: 1239 | M108: 1-1161 | N108: 1478 | O108: 1075
C109: 2612152420683698 | D109: 접지용비닐절연전선(F-GV) | E109: 10㎟ | F109: M | G109: 1895 | H109: 1895 | J109: 2218 | K109: 994 | L109: 2089 | M109: 1-1161 | N109: 2243 | O109: 1075
C110: 2612152420683699 | D110: 접지용비닐절연전선(F-GV) | E110: 16㎟ | F110: M | G110: 2397 | H110: 2397 | J110: 3390 | K110: 994 | L110: 2852 | M110: 1-1161 | N110: 3152 | O110: 1075
C111: 2612152420683702 | D111: 접지용비닐절연전선(F-GV) | E111: 50㎟ | F111: M | G111: 7178 | H111: 7178 | J111: 9455 | K111: 994 | L111: 8409 | M111: 1-1161 | N111: 8959 | O111: 1075
C112: 2612152420683704 | D112: 접지용비닐절연전선(F-GV) | E112: 95㎟ | F112: M | G112: 13672 | H112: 13672 | J112: 17841 | K112: 994 | L112: 15942 | M112: 1-1161 | N112: 17170 | O112: 1075
C113: 2612152420683705 | D113: 접지용비닐절연전선(F-GV) | E113: 120㎟ | F113: M | G113: 17192 | H113: 17192 | J113: 21232 | K113: 994 | L113: 19493 | M113: 1-1161 | N113: 21620 | O113: 1075
C114: 2612152420182439 | D114: 전기용 연동연선(BC) | E114: 70㎟ | F114: M | G114: 9810 | J114: 11475 | K114: 1008 | L114: 9810 | M114: 1-1176
C115: 2612162920685026 | D115: 전력케이블-4열/1열 | E115: 0.6/1kv F-CV 1C×95㎟ | F115: M | G115: 16300 | H115: 16300 | J115: 19214 | K115: 993 | L115: 17013 | M115: 1-1164 | N115: 18338 | O115: 1075
C116: 8888850100000000 | D116: 전력케이블-4열/1열 | E116: 0.6/1kv F-CV 1C×185㎟ | F116: M | G116: 31235 | H116: 31235 | J116: 36265 | K116: 993 | L116: 32111 | M116: 1-1164 | N116: 35186 | O116: 1075
C117: 8888855100000000 | D117: 전력케이블-4열/1열-옥외 | E117: 0.6/1kv F-CV 1C×185㎟ | F117: M | G117: 31235 | H117: 31235 | J117: 36265 | K117: 993 | L117: 32111 | M117: 1-1164 | N117: 35186 | O117: 1075
C118: 2612162920683922 | D118: 전력케이블 | E118: 0.6/1kv F-CV 3C×4㎟ | F118: M | G118: 2800 | H118: 2800 | J118: 3551 | K118: 993 | L118: 2803 | M118: 1-1164 | N118: 3142 | O118: 1075
C119: 2612162920683944 | D119: 전력케이블 | E119: 0.6/1kv F-CV 4C×4㎟ | F119: M | G119: 3380 | H119: 3380 | J119: 4497 | K119: 993 | L119: 3497 | M119: 1-1164 | N119: 4039 | O119: 1075
C120: 2612162920683945 | D120: 전력케이블 | E120: 0.6/1kv F-CV 4C×6㎟ | F120: M | G120: 4896 | H120: 4896 | J120: 6311 | K120: 993 | L120: 4909 | M120: 1-1164 | N120: 5541 | O120: 1075
C121: 2612162920683946 | D121: 전력케이블 | E121: 0.6/1kv F-CV 4C×10㎟ | F121: M | G121: 7660 | H121: 7660 | J121: 10017 | K121: 993 | L121: 7790 | M121: 1-1164 | N121: 8931 | O121: 1075
C122: 2612162920683947 | D122: 전력케이블 | E122: 0.6/1kv F-CV 4C×16㎟ | F122: M | G122: 12531 | H122: 12749 | J122: 14871 | K122: 993 | L122: 12531 | M122: 1-1164 | N122: 13187 | O122: 1075
C123: 2612162920683948 | D123: 전력케이블 | E123: 0.6/1kv F-CV 4C×25㎟ | F123: M | G123: 19345 | H123: 19667 | J123: 22958 | K123: 993 | L123: 19345 | M123: 1-1164 | N123: 20779 | O123: 1075
...

Sheet 옵션
B1: 재료비 | C1: 노무비 | D1: 경비 | F1: 계
A2: 총 급 액 | B2: =총괄표!#REF! -> #REF! | C2: =총괄표!#REF! -> #REF! | D2: =총괄표!#REF! -> #REF! | F2: =SUM(B2,C2,D2) -> #REF!
A3: 도급자관급 | B3: =총괄표!#REF! -> #REF! | C3: =총괄표!#REF! -> #REF! | D3: =총괄표!#REF! -> #REF! | F3: =SUM(B3,C3,D3) -> #REF!
A4: 관급자관급 | B4: =총괄표!#REF! -> #REF! | C4: =총괄표!#REF! -> #REF! | D4: =총괄표!#REF! -> #REF! | F4: =SUM(B4,C4,D4) -> #REF!
F5: =SUM(B5,C5,D5) -> 0
F6: =SUM(B6,C6,D6) -> 0
F7: =SUM(B7,C7,D7) -> 0
F8: =SUM(B8,C8,D8) -> 0
B10: 적용율(%) | C10: 끝자리 | D10: 적용율(%)/100 | E10: 일위대가소수
A11: 전체자재 적용율(%)(공종/일위대가) | B11: 100 | C11: 1 | D11: =$B$11/100 -> 1
A12: 전체노임 적용율(%)(공종) | B12: 100 | C12: 1 | D12: =$B$12/100 -> 1 | E12: 2
A13: 전체노임 적용율(%)(일위대가) | B13: 100 | C13: 1 | D13: =$B$13/100 -> 1 | E13: 5
A20: *(그룹별 자재 단가 추가 할증)* | B20: 적용율(%) | D20: 적용율(%)/100
A21: Cable(CAB) 할증(%) | B21: =B11 -> 100 | D21: =$B$21/100 -> 1
A22: Wire (WIR) 할증(%) | B22: =B11 -> 100 | D22: =$B$22/100 -> 1
A23: Pipe (PIP) 할증(%) | B23: =B11 -> 100 | D23: =$B$23/100 -> 1
A24: 제 4그룹 할증(%) | B24: =B11 -> 100 | D24: =$B$24/100 -> 1
A25: 제 5그룹 할증(%) | B25: =B11 -> 100 | D25: =$B$25/100 -> 1
A30: *(그룹별 노임 추가 할증)* | B30: 적용율(%) | C30: 자동부속재(전기) | D30: 자동부속재(통신)
A31: 배관부속재(%) | B31: 15 | C31: 15 | D31: 20
A32: CD관부속재(%) | B32: 40 | C32: 40 | D32: 40
A33: 소모잡자재(%) | B33: 2 | H33: 본 파일은 이지테크에서 2번 옵션으로 만들었습니다.
A34: 방폭할증(%)
A35: 고소할증(%) | B35: 2
A36: 공구손료(%) | B36: 3
A40: *(공종별 노임 적용율(%))* | B40: 적용율(%) | C40: 소수자릿수
A41: 1-1-1.전력인입및전기실공사 | B41: 100 | C41: 5
A42: 1-1-2.전력간선공사 | B42: 100 | C42: 5
A43: 1-1-3.동력설비공사 | B43: 100 | C43: 5
A44: 1-1-4.전열설비공사 | B44: 100 | C44: 5
A45: 1-1-5.전등설비공사 | B45: 100 | C45: 5
A46: 1-1-6.냉난방설비공사 | B46: 100 | C46: 5
A47: 1-1-7.전열교환기설비공사 | B47: 100 | C47: 5
A48: 1-1-8.태양광발전설비공사 | B48: 100 | C48: 5
A49: 1-1-10.원격검침설비공사 | B49: 100 | C49: 5
A50: 1-1-11.CABLE TRAY공사 | B50: 100 | C50: 5
A51: 1-1-9-1.접지 | B51: 100 | C51: 5
A52: 1-1-9-2.피뢰 | B52: 100 | C52: 5
... A57: 3-3.원격검침 | B57: 100 | C57: 0
