Workbook
Name __JJ132: #REF!
Name __JK132: #REF!
Name __JN132: #REF!
Name __p1: #REF!
Name _95년_포상금_지급내역: #REF!
Name _JJ132: #REF!
Name _JK132: #REF!
Name _JN132: #REF!
Name _p1: #REF!
Name a: #REF!
Name alf: #REF!
Name b: #REF!
Name BOX형수로집계: #REF!
Name CV_1C: #REF!
Name d: #REF!
Name N: #REF!
Name P: #REF!
Name Print_Area_MI: #REF!
Name Q: #REF!
Name SIZE: #REF!
Name 강감찬: #REF!
Name 경계점말뚝: #REF!
Name 계약단가: #REF!
Name 고급: #REF!
Name 공공시설: #REF!
Name 공사비: #REF!
Name 공업용뇌관2: #REF!
Name 교육: #REF!
Name 교통: #REF!
Name 기간: #REF!
Name 김유신: #REF!
Name 노임: #REF!
Name 다이너마이트2: #REF!
Name 단가: #REF!
Name 단순공종: #REF!
Name 대기질: #REF!
Name 대기질측정: #REF!
Name 대안설정: #REF!
Name 동식물상: #REF!
Name ㅁ1: #REF!
Name 명수: #REF!
Name 문화재: #REF!
Name 백색페인트: #REF!
Name 보정계수1: #REF!
Name 보정계수2: #REF!
Name 보정계수3: #REF!
Name 보조: #REF!
Name 보통공종: #REF!
Name 보통인부: #REF!
Name 복잡공종: #REF!
Name 비닐전화선: #REF!
Name 뿌로마이드: #REF!
Name 사정: #REF!
Name 사후환경조사: #REF!
Name 산업: #REF!
Name 선택: #REF!
Name 설계규모: #REF!
Name 섹션오일페이퍼: #REF!
Name 소음진동: #REF!
Name 수리수문: #REF!

Sheet 총괄표2
B1: 29 | D1: [ 다누리 어린이 실내놀이터 ]
A2: 번호 | B2: 공종코드 | C2: … | D2: 공 종 명 | E2: 규격 | F2: 단위 | G2: 수량 | H2: 재료비 | J2: 노무비 | M2: 경비 | P2: 계 | Q2: 비고
H3: 단가 | I3: 금액 | J3: 수량 | K3: 단가 | L3: 금액 | M3: 단가 | N3: 금액 | O3: 단가
B4: 00 | D4: 다누리 어린이 실내놀이터 | G4: 1 | H4: =SUM(U4:U6) -> 0 | I4: =G4*H4 -> 0 | K4: =SUM(V4:V6) -> 0 | L4: =G4*K4 -> 0 | M4: =SUM(W4:W6) -> 0 | N4: =G4*M4 -> 0 | O4: =IF((H4+K4+M4)=0, "", (H4+K4+M4)) | P4: =SUM(I4,L4,N4) -> 0
B6: 01 | D6: 1.통신공사 | F6: 식 | G6: 1 | H6: =SUM(I7:I8) -> 0 | I6: =G6*H6 -> 0 | K6: =SUM(L7:L8) -> 0 | L6: =G6*K6 -> 0 | M6: =SUM(N7:N8) -> 0 | N6: =G6*M6 -> 0 | O6: =IF((H6+K6+M6)=0, "", (H6+K6+M6)) | P6: =SUM(I6,L6,N6) -> 0 | U6: =I6 -> 0 | V6: =L6 -> 0 | W6: =N6 -> 0
B7: 0101 | D7: 1-1.통합배선 설비공사 | F7: 식 | G7: 1 | H7: =내역서!I55 -> 0 | I7: =G7*H7 -> 0 | K7: =내역서!L55 -> 0 | L7: =G7*K7 -> 0 | M7: =내역서!N55 -> 0 | N7: =G7*M7 -> 0 | O7: =IF((H7+K7+M7)=0, "", (H7+K7+M7)) | P7: =SUM(I7,L7,N7) -> 0
B8: 0102 | D8: 1-2.방송 설비공사 | F8: 식 | G8: 1 | H8: =내역서!I81 -> 0 | I8: =G8*H8 -> 0 | K8: =내역서!L81 -> 0 | L8: =G8*K8 -> 0 | M8: =내역서!N81 -> 0 | N8: =G8*M8 -> 0 | O8: =IF((H8+K8+M8)=0, "", (H8+K8+M8)) | P8: =SUM(I8,L8,N8) -> 0

Sheet 내역서
A1: 총줄수-> | B1: 81 | D1: [ 다누리 어린이 실내놀이터 ] | W1: 노임 계산 정보 | AA1: 부속재 및 손료
A2: 번호 | B2: 공종코드 | C2: 코드 | D2: 명 칭 | E2: 규 격 | F2: 단위 | G2: 수량 | H2: 재료비 | J2: 노무비 | M2: 경비 | P2: 계 | Q2: 비고 | W2: 노임계 | X2: 전체(%) | Y2: 공종별(%) | Z2: 노임 소수 | AA2: CD배관재 | AB2: 일반배관재 | AC2: 소모재 | AD2: 자재계 | AE2: 노임계
H3: 단가 | I3: 금액 | J3: 수량 | K3: 단가 | L3: 금액 | M3: 단가 | N3: 금액 | O3: 단가 | AD3: =IF(옵션!$C$11 =0, "1", 옵션!$C$11) -> 1 | AE3: =IF(옵션!$C$12 =0, "1", 옵션!$C$12) -> 1
B4: 공종줄 | D4: 1.통신공사::1-1.통합배선 설비공사
A5: 59750337002 | B5: 0101 | C5: 3913170610034833 | D5: 강제전선관 | E5: 아연도 22 mm | F5: m | G5: 84 | AB5: =I5 -> 0 | AC5: =G5*H5 -> 0
A6: 59750337003 | B6: 0101 | C6: 3913170610034834 | D6: 강제전선관 | E6: 아연도 28 mm | F6: m | G6: 5 | AB6: =I6 -> 0 | AC6: =G6*H6 -> 0
A7: 59759017061 | B7: 0101 | C7: 3913170820176475 | D7: 강재전선관용 부품 | E7: 노말밴드, 아연도 28 mm | F7: 개 | G7: 1
A8: 59753777102 | B8: 0101 | C8: 3912130610035778 | D8: 스위치박스 | E8: 1 개용 54 mm | F8: 개 | G8: 6
A9: 61455137894 | B9: 0101 | C9: 3912130320175917 | D9: 정션 박스 | E9: 100×100×50 | F9: 개 | G9: 1
A10: 59751817385 | B10: 0101 | C10: 3913170420938601 | D10: Hi-Tec Tray(분체도장) | E10: STRAIGHT, W300x100Hx1.2t | F10: m | G10: 5
A11: 59751817391 | B11: 0101 | C11: 3913170420938613 | D11: Hi-Tec Tray(분체도장) | E11: COVER, W300 | F11: m | G11: 5
A12: 59754968379 | B12: 0101 | C12: 3913170420938764 | D12: Hi-Tec Tray부속(분체도장) | E12: VER. ELBOW, W300 x H100 | F12: 개 | G12: 1
A13: 59754968487 | B13: 0101 | C13: 3913170420938672 | D13: Hi-Tec Tray부속(분체도장) | E13: JOINER SET, W300 x H100 | F13: 개 | G13: 8
A14: 59754968552 | B14: 0101 | C14: 3913170520175311 | D14: Hi-Tec Tray부속품 | E14: BONDING JUMPER, WIRE | F14: 개 | G14: 2
A15: 59754968551 | B15: 0101 | C15: 3913170520175314 | D15: Hi-Tec Tray부속품 | E15: BONDING JUMPER, FUSE | F15: 개 | G15: 2
A16: 59754967521 | B16: 0101 | C16: 3913170520175120 | D16: 케이블트레이부속품 | E16: SHANK BOLT & NUT, 아연도 | F16: 개 | G16: 80
A17: MM362692755 | B17: 0101 | C17: 2612160921650751 | D17: UTP 케이블 | E17: Cat.5E 0.5mm 4P | F17: m | G17: 19 | AC17: =G17*H17 -> 0
A18: MM362692756 | B18: 0101 | C18: 2612160921650752 | D18: UTP 케이블 | E18: Cat.5E 0.5mm 25P | F18: m | G18: 19 | AC18: =G18*H18 -> 0
A19: 61452167502 | B19: 0101 | C19: 2612160921650753 | D19: UTP 케이블 | E19: Cat.6 0.5mm 4P | F19: m | G19: 363 | AC19: =G19*H19 -> 0
A20: 58051750202 | B20: 0101 | C20: 3912140620937657 | D20: 모듈라짹 | E20: 매입용, Cat.6 2구 | F20: 개 | G20: 6
A21: DI260670003 | B21: 0101 | C21: InMastDBNonCode | D21: 중간단자함 | E21: HUB 12PORT,25P | F21: 개 | G21: 1
A22: 56800013800 | B22: 0101 | C22: D56800013800 | D22: 파이프행거(천정) | E22: 22 C | F22: 개소 | G22: 50
A23: 56800013900 | B23: 0101 | C23: D56800013900 | D23: 파이프행거(천정) | E23: 28 C | F23: 개소 | G23: 3
A24: 56800020500 | B24: 0101 | C24: D56800020500 | D24: 트레이행거(천정) | E24: W:300 | F24: 개소 | G24: 1
A25: 56800024500 | B25: 0101 | C25: D56800024500 | D25: 트레이행거(벽체) | E25: W:300 | F25: 개소 | G25: 2
A26: A0500000000 | B26: 0101 | C26: RENT000000000002 | D26: [ 배관 부속재 ] | E26: 전선관의 15 % | F26: 식 | G26: 1 | AB26: =TRUNC(SUM(AB4:AB25)) -> 0
A27: A0100000000 | B27: 0101 | C27: RENT000000000003 | D27: [ 소모 잡자재 ] | E27: 전선, 전선관의 2 % | F27: 식 | G27: 1 | AC27: =TRUNC(TRUNC(SUM(AC4:AC26))*옵션!$B$33/100) -> 0 | AD27: =TRUNC(SUM(I4:I26))+TRUNC(SUM(N4:N26)) -> 0
A28: 56900017016 | B28: 0101 | C28: L001010101000075 | D28: 노 무 비 | E28: 내선전공 | F28: 인 | G28: =#REF! -> #REF! | AE28: =L28 -> 0
A29: 56900017113 | B29: 0101 | C29: L001010101000086 | D29: 노 무 비 | E29: 통신내선공 | F29: 인 | G29: =#REF! -> #REF! | AE29: =L29 -> 0
A30: 56900017116 | B30: 0101 | C30: L001010101000089 | D30: 노 무 비 | E30: 통신케이블공 | F30: 인 | G30: =#REF! -> #REF! | AE30: =L30 -> 0
A31: A0300000000 | B31: 0101 | C31: RENT000000000006 | D31: [ 공 구 손 료 ] | E31: 노무비의 3 % | F31: 식 | G31: 1
AC32: =TRUNC(AE32*옵션!$B$36/100) -> 0 | AD32: =TRUNC(SUM(L4:L30)) -> 0 | AE32: =TRUNC(SUM(AE4:AE31)) -> 0
B55: 합계줄 | D55: ( 합 계 )
B56: 공종줄 | D56: 1.통신공사::1-2.방송 설비공사
A57: 59750337001 | B57: 0102 | C57: 3913170610034832 | D57: 강제전선관 | E57: 아연도 16 mm | F57: m | G57: 81 | AB57: =I57 -> 0 | AC57: =G57*H57 -> 0
A58: 59753017003 | B58: 0102 | C58: 3913170620174410 | D58: 1종금속제가요전선관 | E58: 16 mm 일반-비방수 | F58: m | G58: 17 | AC58: =G58*H58 -> 0
A59: 59753017043 | B59: 0102 | C59: 3913170620174434 | D59: 1종금속제가요전선관커넥터 | E59: 16 mm 일반-비방수 | F59: 개 | G59: 16
A60: 59753767011 | B60: 0102 | C60: 3912130810035750 | D60: 아우트렛박스 | E60: 8각 54㎜ | F60: 개 | G60: 8
A61: 59753767201 | B61: 0102 | C61: 3912130820174710 | D61: 아우트렛박스 커버 | E61: 8각, 평형 | F61: 개 | G61: 8
A62: MM481669623 | B62: 0102 | C62: 2612162922076726 | D62: 내열비닐절연전선 | E62: HFIX 1.38mm(1.5㎟) | F62: m | G62: 212 | AC62: =G62*H62 -> 0
...

Sheet 일위노임
B1: 55 | D1: [ 다누리 어린이 실내놀이터 ] - 일위노임 산출근거(2026년 상반기 노임) | AA1: 내선전공
A2: 번호 | B2: 공종코드 | C2: 코드 | D2: 명 칭 | E2: 규 격 | F2: 단위 | G2: 수량 | K2: 코드 | L2: 공량산출 | P2: 단 위 단 가 산 출 | S2: 품셈근거 | T2: 비고
G3: 결정수량 | H3: 할증 | I3: 산출수량 | J3: 재할% | L3: 명칭 | M3: 품셈 | N3: 할증% | O3: 공량 | P3: 단가 | Q3: 단위단가 | R3: 단위계
B4: 공종줄 | D4: [ 제 1호 ] 파이프행거(천정) 16 C [개소]
B5: 800 | C5: 3116210220135769 | D5: 스트롱앵커 | E5: 3/8,M10 | F5: 개 | G5: 1 | H5: =IF(I5<>0, G5-I5, "") -> 0 | I5: 1 | K5: 56900017016 | L5: 내선전공 | M5: 0.036 | N5: 150 | O5: =IF(I5*M5=0, "", I5*M5*(N5/100)) -> 0.054 | Q5: =TRUNC(P5*M5*N5/100) -> 0 | S5: 전기5-29 | AA5: =O5 -> 0.054
B6: 800 | C6: L001010101000075 | D6: 노 무 비 | E6: 내선전공 | F6: 인 | G6: =IF(H6*I6/100 <1, TRUNC(H6*I6/100, 옵션!$E$13), TRUNC(H6*I6/100, 옵션!$E$13)) -> 0.0486 | H6: =옵션!$B$13 -> 90 | I6: =SUM(AA5:AA5) -> 0.054 | O6: =IF(I6*M6=0, "", I6*M6*(N6/100)) | Q6: =TRUNC(P6*M6*N6/100) -> 0 | Z6: 노임계 | AA6: =SUM(AA5:AA5) -> 0.054
B7: 공종줄 | D7: [ 제 2호 ] 파이프행거(천정) 22 C [개소]
B8: 800 | C8: 3116210220135769 | D8: 스트롱앵커 | E8: 3/8,M10 | F8: 개 | G8: 1 | H8: =IF(I8<>0, G8-I8, "") -> 0 | I8: 1 | K8: 56900017016 | L8: 내선전공 | M8: 0.036 | N8: 150 | O8: =IF(I8*M8=0, "", I8*M8*(N8/100)) -> 0.054 | Q8: =TRUNC(P8*M8*N8/100) -> 0 | S8: 전기5-29 | AA8: =O8 -> 0.054
B9: 800 | C9: L001010101000075 | D9: 노 무 비 | E9: 내선전공 | F9: 인 | G9: =IF(H9*I9/100 <1, TRUNC(H9*I9/100, 옵션!$E$13), TRUNC(H9*I9/100, 옵션!$E$13)) -> 0.0486 | H9: =옵션!$B$13 -> 90 | I9: =SUM(AA8:AA8) -> 0.054 | O9: =IF(I9*M9=0, "", I9*M9*(N9/100)) | Q9: =TRUNC(P9*M9*N9/100) -> 0 | Z9: 노임계 | AA9: =SUM(AA8:AA8) -> 0.054
B10: 공종줄 | D10: [ 제 3호 ] 파이프행거(천정) 28 C [개소]
B11: 800 | C11: 3116210220135769 | D11: 스트롱앵커 | E11: 3/8,M10 | F11: 개 | G11: 1 | H11: =IF(I11<>0, G11-I11, "") -> 0 | I11: 1 | K11: 56900017016 | L11: 내선전공 | M11: 0.036 | N11: 150 | O11: =IF(I11*M11=0, "", I11*M11*(N11/100)) -> 0.054 | Q11: =TRUNC(P11*M11*N11/100) -> 0 | S11: 전기5-29 | AA11: =O11 -> 0.054
B12: 800 | C12: L001010101000075 | D12: 노 무 비 | E12: 내선전공 | F12: 인 | G12: =IF(H12*I12/100 <1, TRUNC(H12*I12/100, 옵션!$E$13), TRUNC(H12*I12/100, 옵션!$E$13)) -> 0.0486 | H12: =옵션!$B$13 -> 90 | I12: =SUM(AA11:AA11) -> 0.054 | O12: =IF(I12*M12=0, "", I12*M12*(N12/100)) | Q12: =TRUNC(P12*M12*N12/100) -> 0 | Z12: 노임계 | AA12: =SUM(AA11:AA11) -> 0.054
B13: 공종줄 | D13: [ 제 4호 ] 파이프행거(천정) 36 C [개소]
B14: 800 | C14: 3116210220135769 | D14: 스트롱앵커 | E14: 3/8,M10 | F14: 개 | G14: 1 | H14: =IF(I14<>0, G14-I14, "") -> 0 | I14: 1 | K14: 56900017016 | L14: 내선전공 | M14: 0.036 | N14: 150 | O14: =IF(I14*M14=0, "", I14*M14*(N14/100)) -> 0.054 | Q14: =TRUNC(P14*M14*N14/100) -> 0 | S14: 전기5-29 | AA14: =O14 -> 0.054
B15: 800 | C15: L001010101000075 | D15: 노 무 비 | E15: 내선전공 | F15: 인 | G15: =IF(H15*I15/100 <1, TRUNC(H15*I15/100, 옵션!$E$13), TRUNC(H15*I15/100, 옵션!$E$13)) -> 0.0486 | H15: =옵션!$B$13 -> 90 | I15: =SUM(AA14:AA14) -> 0.054 | O15: =IF(I15*M15=0, "", I15*M15*(N15/100)) | Q15: =TRUNC(P15*M15*N15/100) -> 0 | Z15: 노임계 | AA15: =SUM(AA14:AA14) -> 0.054
B16: 공종줄 | D16: [ 제 5호 ] 파이프행거(천정) 42 C [개소]
B17: 800 | C17: 3116210220135769 | D17: 스트롱앵커 | E17: 3/8,M10 | F17: 개 | G17: 1 | H17: =IF(I17<>0, G17-I17, "") -> 0 | I17: 1 | K17: 56900017016 | L17: 내선전공 | M17: 0.036 | N17: 150 | O17: =IF(I17*M17=0, "", I17*M17*(N17/100)) -> 0.054 | Q17: =TRUNC(P17*M17*N17/100) -> 0 | S17: 전기5-29 | AA17: =O17 -> 0.054
B18: 800 | C18: L001010101000075 | D18: 노 무 비 | E18: 내선전공 | F18: 인 | G18: =IF(H18*I18/100 <1, TRUNC(H18*I18/100, 옵션!$E$13), TRUNC(H18*I18/100, 옵션!$E$13)) -> 0.0486 | H18: =옵션!$B$13 -> 90 | I18: =SUM(AA17:AA17) -> 0.054 | O18: =IF(I18*M18=0, "", I18*M18*(N18/100)) | Q18: =TRUNC(P18*M18*N18/100) -> 0 | Z18: 노임계 | AA18: =SUM(AA17:AA17) -> 0.054
B19: 공종줄 | D19: [ 제 6호 ] 파이프행거(천정) 54 C [개소]
B20: 800 | C20: 3116210220135769 | D20: 스트롱앵커 | E20: 3/8,M10 | F20: 개 | G20: 1 | H20: =IF(I20<>0, G20-I20, "") -> 0 | I20: 1 | K20: 56900017016 | L20: 내선전공 | M20: 0.036 | N20: 150 | O20: =IF(I20*M20=0, "", I20*M20*(N20/100)) -> 0.054 | Q20: =TRUNC(P20*M20*N20/100) -> 0 | S20: 전기5-29 | AA20: =O20 -> 0.054
B21: 800 | C21: L001010101000075 | D21: 노 무 비 | E21: 내선전공 | F21: 인 | G21: =IF(H21*I21/100 <1, TRUNC(H21*I21/100, 옵션!$E$13), TRUNC(H21*I21/100, 옵션!$E$13)) -> 0.0486 | H21: =옵션!$B$13 -> 90 | I21: =SUM(AA20:AA20) -> 0.054 | O21: =IF(I21*M21=0, "", I21*M21*(N21/100)) | Q21: =TRUNC(P21*M21*N21/100) -> 0 | Z21: 노임계 | AA21: =SUM(AA20:AA20) -> 0.054
B22: 공종줄 | D22: [ 제 7호 ] 매입등 구멍따기 다운라이트용 [개소]
B23: 800 | C23: 391115ZZ701Z0001 | D23: 품셈 산출근거 | E23: 다운라이트용 | F23: 식 | G23: 1 | H23: =IF(I23<>0, G23-I23, "") -> 0 | I23: 1 | K23: 56900017016 | L23: 내선전공 | M23: 0.0615 | N23: 100 | O23: =IF(I23*M23=0, "", I23*M23*(N23/100)) -> 0.0615 | Q23: =TRUNC(P23*M23*N23/100) -> 0 | AA23: =O23 -> 0.0615
B24: 800 | C24: L001010101000075 | D24: 노 무 비 | E24: 내선전공 | F24: 인 | G24: =IF(H24*I24/100 <1, TRUNC(H24*I24/100, 옵션!$E$13), TRUNC(H24*I24/100, 옵션!$E$13)) -> 0.05535 | H24: =옵션!$B$13 -> 90 | I24: =SUM(AA23:AA23) -> 0.0615 | O24: =IF(I24*M24=0, "", I24*M24*(N24/100)) | Q24: =TRUNC(P24*M24*N24/100) -> 0 | Z24: 노임계 | AA24: =SUM(AA23:AA23) -> 0.0615
B25: 공종줄 | D25: [ 제 8호 ] 트레이행거(천정) W:300 [개소]
B26: 800 | C26: 3116210220135769 | D26: 스트롱앵커 | E26: 3/8,M10 | F26: 개 | G26: 2 | H26: =IF(I26<>0, G26-I26, "") -> 0 | I26: 2 | K26: 56900017016 | L26: 내선전공 | M26: 0.036 | N26: 150 | O26: =IF(I26*M26=0, "", I26*M26*(N26/100)) -> 0.108 | Q26: =TRUNC(P26*M26*N26/100) -> 0 | S26: 전기5-29 | AA26: =O26 -> 0.108
B27: 800 | C27: L001010101000075 | D27: 노 무 비 | E27: 내선전공 | F27: 인 | G27: =IF(H27*I27/100 <1, TRUNC(H27*I27/100, 옵션!$E$13), TRUNC(H27*I27/100, 옵션!$E$13)) -> 0.0972 | H27: =옵션!$B$13 -> 90 | I27: =SUM(AA26:AA26) -> 0.108 | O27: =IF(I27*M27=0, "", I27*M27*(N27/100)) | Q27: =TRUNC(P27*M27*N27/100) -> 0 | Z27: 노임계 | AA27: =SUM(AA26:AA26) -> 0.108
B28: 공종줄 | D28: [ 제 9호 ] 트레이행거(벽체) W:300 [개소]
B29: 800 | C29: 3116210220135738 | D29: 셋트앵커 | E29: M8×L60mm | F29: 개 | G29: 2 | H29: =IF(I29<>0, G29-I29, "") -> 0 | I29: 2 | K29: 56900017016 | L29: 내선전공 | M29: 0.036 | N29: 150 | O29: =IF(I29*M29=0, "", I29*M29*(N29/100)) -> 0.108 | Q29: =TRUNC(P29*M29*N29/100) -> 0 | S29: 전기5-29 | AA29: =O29 -> 0.108
B30: 800 | C30: L001010101000075 | D30: 노 무 비 | E30: 내선전공 | F30: 인 | G30: =IF(H30*I30/100 <1, TRUNC(H30*I30/100, 옵션!$E$13), TRUNC(H30*I30/100, 옵션!$E$13)) -> 0.0972 | H30: =옵션!$B$13 -> 90 | I30: =SUM(AA29:AA29) -> 0.108 | O30: =IF(I30*M30=0, "", I30*M30*(N30/100)) | Q30: =TRUNC(P30*M30*N30/100) -> 0 | Z30: 노임계 | AA30: =SUM(AA29:AA29) -> 0.108

Sheet 합산
B1: 55 | C1: [ 다누리 어린이 실내놀이터 ] - 합산자재목록
A2: 번호 | B2: … | C2: 코드 | D2: 명 칭 | E2: 규 격 | F2: 단위 | G2: 수량 | H2: 재료비 | I2: 노무비 | J2: 경비 | K2: 지급비 | L2: 계 | M2: 비고
B4: 59750337001 | C4: 3913170610034832 | D4: 강제전선관 | E4: 아연도 16 mm | F4: m | G4: 81 | H4: =ROUNDDOWN(#REF!*옵션!$D$11, 0) -> #REF! | L4: =SUM(H4,I4,J4) -> #REF!
B5: 59750337002 | C5: 3913170610034833 | D5: 강제전선관 | E5: 아연도 22 mm | F5: m | G5: 84 | H5: =ROUNDDOWN(#REF!*옵션!$D$11, 0) -> #REF! | L5: =SUM(H5,I5,J5) -> #REF!
B6: 59750337003 | C6: 3913170610034834 | D6: 강제전선관 | E6: 아연도 28 mm | F6: m | G6: 5 | H6: =ROUNDDOWN(#REF!*옵션!$D$11, 0) -> #REF! | L6: =SUM(H6,I6,J6) -> #REF!
B7: 59753017003 | C7: 3913170620174410 | D7: 1종금속제가요전선관 | E7: 16 mm 일반-비방수 | F7: m | G7: 17 | H7: =ROUNDDOWN(#REF!*옵션!$D$11, 0) -> #REF! | L7: =SUM(H7,I7,J7) -> #REF!
B8: 59753017043 | C8: 3913170620174434 | D8: 1종금속제가요전선관커넥터 | E8: 16 mm 일반-비방수 | F8: 개 | G8: 16 | H8: =ROUNDDOWN(#REF!*옵션!$D$11, 0) -> #REF! | L8: =SUM(H8,I8,J8) -> #REF!
B9: 59759017061 | C9: 3913170820176475 | D9: 강재전선관용 부품 | E9: 노말밴드, 아연도 28 mm | F9: 개 | G9: 1 | H9: =ROUNDDOWN(#REF!*옵션!$D$11, 0) -> #REF! | L9: =SUM(H9,I9,J9) -> #REF!
B10: 59753767011 | C10: 3912130810035750 | D10: 아우트렛박스 | E10: 8각 54㎜ | F10: 개 | G10: 8 | H10: =ROUNDDOWN(#REF!*옵션!$D$11, 0) -> #REF! | L10: =SUM(H10,I10,J10) -> #REF!
B11: 59753777102 | C11: 3912130610035778 | D11: 스위치박스 | E11: 1 개용 54 mm | F11: 개 | G11: 6 | H11: =ROUNDDOWN(#REF!*옵션!$D$11, 0) -> #REF! | L11: =SUM(H11,I11,J11) -> #REF!
B12: 59753767201 | C12: 3912130820174710 | D12: 아우트렛박스 커버 | E12: 8각, 평형 | F12: 개 | G12: 8 | H12: =ROUNDDOWN(#REF!*옵션!$D$11, 0) -> #REF! | L12: =SUM(H12,I12,J12) -> #REF!
B13: 61455137894 | C13: 3912130320175917 | D13: 정션 박스 | E13: 100×100×50 | F13: 개 | G13: 1 | H13: =ROUNDDOWN(#REF!*옵션!$D$11, 0) -> #REF! | L13: =SUM(H13,I13,J13) -> #REF!
B14: 59751817385 | C14: 3913170420938601 | D14: Hi-Tec Tray(분체도장) | E14: STRAIGHT, W300x100Hx1.2t | F14: m | G14: 5 | H14: =ROUNDDOWN(#REF!*옵션!$D$11, 0) -> #REF! | L14: =SUM(H14,I14,J14) -> #REF!
B15: 59751817391 | C15: 3913170420938613 | D15: Hi-Tec Tray(분체도장) | E15: COVER, W300 | F15: m | G15: 5 | H15: =ROUNDDOWN(#REF!*옵션!$D$11, 0) -> #REF! | L15: =SUM(H15,I15,J15) -> #REF!
... B25: 59400247002 | C25: 3912140920171333 | D25: 와이어콘넥터 | E25: 6 ㎟ x 2가닥 | F25: 개 | G25: 24 | H25: =ROUNDDOWN(#REF!*옵션!$D$11, 0) -> #REF! | L25: =SUM(H25,I25,J25) -> #REF!
B26: BTI00000015 | C26: InMastDBNonCode | D26: [ 통합배선 ] | H26: =ROUNDDOWN(#REF!*옵션!$D$11, 0) -> #REF! | L26: =SUM(H26,I26,J26) -> #REF!
B27: 58051750202 | C27: 3912140620937657 | D27: 모듈라짹 | E27: 매입용, Cat.6 2구 | F27: 개 | G27: 6 | H27: =ROUNDDOWN(#REF!*옵션!$D$11, 0) -> #REF! | L27: =SUM(H27,I27,J27) -> #REF!
B28: DI260670003 | C28: InMastDBNonCode | D28: 중간단자함 | E28: HUB 12PORT,25P | F28: 개 | G28: 1 | H28: =ROUNDDOWN(#REF!*옵션!$D$11, 0) -> #REF! | L28: =SUM(H28,I28,J28) -> #REF!
B29: BTI00000017 | C29: InMastDBNonCode | D29: [ 방송 ] | H29: =ROUNDDOWN(#REF!*옵션!$D$11, 0) -> #REF! | L29: =SUM(H29,I29,J29) -> #REF!
B30: 59650397012 | C30: 5216151220173734 | D30: 스 피 커 | E30: 원형, 천정용(3W) | F30: 개 | G30: 8 | H30: =ROUNDDOWN(#REF!*옵션!$D$11, 0) -> #REF! | L30: =SUM(H30,I30,J30) -> #REF!
B31: DI260670004 | C31: InMastDBNonCode | D31: 방송기자재 | F31: 식 | G31: 1 | H31: =ROUNDDOWN(#REF!*옵션!$D$11, 0) -> #REF! | L31: =SUM(H31,I31,J31) -> #REF!
B32: BTI00000024 | C32: InMastDBNonCode | D32: [ 일위대가자재 ] | H32: =ROUNDDOWN(#REF!*옵션!$D$11, 0) -> #REF! | L32: =SUM(H32,I32,J32) -> #REF!
B33: 59754967572 | C33: 3913170520935624 | D33: 케이블트레이부속품 | E33: RAIL CLAMP | F33: 개 | G33: 2 | H33: =ROUNDDOWN(#REF!*옵션!$D$11, 0) -> #REF! | L33: =SUM(H33,I33,J33) -> #REF!
B34: 59754967571 | C34: 3913170520175125 | D34: 케이블트레이부속품 | E34: HOLD DOWN CLAMP, 아연도 | F34: 개 | G34: 4 | H34: =ROUNDDOWN(#REF!*옵션!$D$11, 0) -> #REF! | L34: =SUM(H34,I34,J34) -> #REF!
B35: 59754967581 | C35: 3913170520175126 | D35: 케이블트레이부속품 | E35: 찬넬스프링 너트, 아연도 | F35: 개 | G35: 4 | H35: =ROUNDDOWN(#REF!*옵션!$D$11, 0) -> #REF! | L35: =SUM(H35,I35,J35) -> #REF!
B36: 59754967601 | C36: 3913170520175128 | D36: 케이블트레이부속품 | E36: U CHANNEL, 41x41x2.6t | F36: m | G36: 1.2 | H36: =ROUNDDOWN(#REF!*옵션!$D$11, 0) -> #REF! | L36: =SUM(H36,I36,J36) -> #REF!
B37: 59759017111 | C37: 3913170810036357 | D37: 강재전선관용 부품 | E37: 파이프행거, 16 C | F37: 개 | G37: 49 | H37: =ROUNDDOWN(#REF!*옵션!$D$11, 0) -> #REF! | L37: =SUM(H37,I37,J37) -> #REF!
B38: 59759017112 | C38: 3913170810036358 | D38: 강재전선관용 부품 | E38: 파이프행거, 22 C | F38: 개 | G38: 50 | H38: =ROUNDDOWN(#REF!*옵션!$D$11, 0) -> #REF! | L38: =SUM(H38,I38,J38) -> #REF!
B39: 59759017113 | C39: 3913170810036359 | D39: 강재전선관용 부품 | E39: 파이프행거, 28 C | F39: 개 | G39: 3 | H39: =ROUNDDOWN(#REF!*옵션!$D$11, 0) -> #REF! | L39: =SUM(H39,I39,J39) -> #REF!
B40: 53060707003 | C40: 3116210220135738 | D40: 셋트앵커 | E40: M8×L60mm | F40: 개 | G40: 4 | H40: =ROUNDDOWN(#REF!*옵션!$D$11, 0) -> #REF! | L40: =SUM(H40,I40,J40) -> #REF!
B41: 53060807001 | C41: 3116210220135769 | D41: 스트롱앵커 | E41: 3/8,M10 | F41: 개 | G41: 104 | H41: =ROUNDDOWN(#REF!*옵션!$D$11, 0) -> #REF! | L41: =SUM(H41,I41,J41) -> #REF!
B42: 53060327011 | C42: 3116169820135160 | D42: 행거볼트 | E42: M10×1000㎜ | F42: 개 | G42: 104 | H42: =ROUNDDOWN(#REF!*옵션!$D$11, 0) -> #REF! | L42: =SUM(H42,I42,J42) -> #REF!
B43: 53100027003 | C43: 3116172710024976 | D43: 6각너트 | E43: M10 | F43: 개 | G43: 8 | H43: =ROUNDDOWN(#REF!*옵션!$D$11, 0) -> #REF! | L43: =SUM(H43,I43,J43) -> #REF!
B44: 53100028501 | C44: 3116172710023970 | D44: 6각너트 | E44: 3/8,M10 | F44: EA | G44: 208 | H44: =ROUNDDOWN(#REF!*옵션!$D$11, 0) -> #REF! | L44: =SUM(H44,I44,J44) -> #REF!
B45: 52100327001 | C45: 3116181120136195 | D45: 스프링와샤 | E45: D10 | F45: EA | G45: 216 | H45: =ROUNDDOWN(#REF!*옵션!$D$11, 0) -> #REF! | L45: =SUM(H45,I45,J45) -> #REF!
B46: 56900017016 | C46: L001010101000075 | D46: 노 무 비 | E46: 내선전공 | F46: 인 | G46: 27.832 | I46: =ROUNDDOWN(#REF!, 0) -> #REF! | L46: =SUM(H46,I46,J46) -> #REF!
B47: 56900017113 | C47: L001010101000086 | D47: 노 무 비 | E47: 통신내선공 | F47: 인 | G47: 1 | I47: =ROUNDDOWN(#REF!, 0) -> #REF! | L47: =SUM(H47,I47,J47) -> #REF!
B48: 56900017116 | C48: L001010101000089 | D48: 노 무 비 | E48: 통신케이블공 | F48: 인 | G48: 6 | I48: =ROUNDDOWN(#REF!, 0) -> #REF! | L48: =SUM(H48,I48,J48) -> #REF!
B49: 56900017114 | C49: L001010101000087 | D49: 노 무 비 | E49: 통신설비공 | F49: 인 | G49: 2 | I49: =ROUNDDOWN(#REF!, 0) -> #REF! | L49: =SUM(H49,I49,J49) -> #REF!
B50: 56900017076 | C50: L001010101000078 | D50: 노 무 비 | E50: 저압케이블전공 | F50: 인 | G50: 1 | I50: =ROUNDDOWN(#REF!, 0) -> #REF! | L50: =SUM(H50,I50,J50) -> #REF!
...

Sheet 옵션
B1: 재료비 | C1: 노무비 | D1: 경비 | F1: 계
A2: 총 급 액 | B2: =#REF! -> #REF! | C2: =#REF! -> #REF! | D2: =#REF! -> #REF! | F2: =SUM(B2,C2,D2) -> #REF!
A3: 관급 자재비 | F3: =SUM(B3,C3,D3) -> 0
B10: 적용율(%) | C10: 끝자리 | D10: 적용율(%)/100 | E10: 일위대가소수
A11: 전체자재 적용율(%)(공종/일위대가) | B11: 100 | C11: 1 | D11: =$B$11/100 -> 1
A12: 전체노임 적용율(%)(공종/일위대가) | B12: 90 | C12: 1 | D12: =$B$12/100 -> 0.9 | E12: 2
A13: 전체노임 적용율(%)(일위대가) | B13: =B12 -> 90 | C13: 1 | D13: =$B$13/100 -> 0.9 | E13: 5
A20: *(그룹별 자재 단가 추가 할증)* | B20: 적용율(%) | D20: 적용율(%)/100
A21: Cable(CAB) 할증(%) | B21: =B11 -> 100 | D21: =$B$21/100 -> 1
A22: Wire (WIR) 할증(%) | B22: =B11 -> 100 | D22: =$B$22/100 -> 1
A23: Pipe (PIP) 할증(%) | B23: =B11 -> 100 | D23: =$B$23/100 -> 1
A24: 제 4그룹 할증(%) | B24: =B11 -> 100 | D24: =$B$24/100 -> 1
A25: 제 5그룹 할증(%) | B25: =B11 -> 100 | D25: =$B$25/100 -> 1
A30: *(그룹별 노임 추가 할증)* | B30: 적용율(%) | C30: 자동부속재(전기) | D30: 자동부속재(통신)
A31: 배관부속재(%) | B31: 15 | C31: 15 | D31: 20
A32: CD관부속재(%) | B32: 40 | C32: 40 | D32: 40
A33: 소모잡자재(%) | B33: 2
A34: 방폭할증(%)
A35: 고소할증(%) | B35: 2
A36: 공구손료(%) | B36: 3
A40: *(공종별 노임 적용율(%))* | B40: 적용율(%) | C40: 소수자릿수
A41: 1-1.통합배선 설비공사 | B41: 100 | C41: 0
A42: 1-2.방송 설비공사 | B42: 100 | C42: 0
