Workbook
Name __JJ132: #REF!
Name __JJ132: #REF!
Name __JK132: #REF!
Name __JK132: #REF!
Name __JN132: #REF!
Name __JN132: #REF!
Name __p1: #REF!
Name __p1: #REF!
Name _95년_포상금_지급내역: #REF!
Name _95년_포상금_지급내역: #REF!
Name _JJ132: #REF!
Name _JJ132: #REF!
Name _JK132: #REF!
Name _JK132: #REF!
Name _JN132: #REF!
Name _JN132: #REF!
Name _p1: #REF!
Name _p1: #REF!
Name \a: #N/A
Name \c: #N/A
Name \d: #REF!
Name \f: #REF!
Name \q: #N/A
Name \r: #N/A
Name \s: #N/A
Name a: #REF!
Name a: #REF!
Name alf: #REF!
Name b: #REF!
Name b: #REF!
Name BOX형수로집계: #REF!
Name CV_1C: #REF!
Name d: #REF!
Name df: #REF!
Name N: #REF!
Name P: #REF!
Name P: #REF!
Name Print_Area_MI: #REF!
Name Print_Area_MI: #REF!
Name Q: #REF!
Name Q: #REF!
Name SIZE: #REF!
Name 가로등: #REF!
Name 가시나무R4: [8]데이타!$E$2
Name 가시나무R5: [8]데이타!$E$3
Name 가시나무R6: [8]데이타!$E$4
Name 가시나무R8: [8]데이타!$E$5
Name 가이즈까향1204: [8]데이타!$E$6
Name 가이즈까향1505: [8]데이타!$E$7
Name 가이즈까향2006: [8]데이타!$E$8
Name 가이즈까향2008: [8]데이타!$E$9
Name 가이즈까향2510: [8]데이타!$E$10
Name 가정: #REF!
Name 가중나무B10: [8]데이타!$E$19
Name 가중나무B4: [8]데이타!$E$15
Name 가중나무B5: [8]데이타!$E$16
Name 가중나무B6: [8]데이타!$E$17
Name 가중나무B8: [8]데이타!$E$18
Name 감R10: [8]데이타!$E$24
Name 감R12: [8]데이타!$E$25

Sheet 내역서(전기소방)
A1: 총줄수-> | B1: 55 | D1: [ 다누리 어린이 실내놀이터 ] | W1: 노임 계산 정보 | AA1: 부속재 및 손료
A2: 번호 | B2: 공종코드 | C2: 코드 | D2: 명 칭 | E2: 규 격 | F2: 단위 | G2: 수량 | H2: 재료비 | J2: 노무비 | M2: 경비 | P2: 계 | Q2: 비고 | W2: 노임계 | X2: 전체(%) | Y2: 공종별(%) | Z2: 노임 소수 | AA2: CD배관재 | AB2: 일반배관재 | AC2: 소모재 | AD2: 자재계 | AE2: 노임계
H3: 단가 | I3: 금액 | J3: 수량 | K3: 단가 | L3: 금액 | M3: 단가 | N3: 금액 | O3: 단가 | AD3: =IF([26]옵션!$C$11 =0, "1", [26]옵션!$C$11) -> 1 | AE3: =IF([26]옵션!$C$12 =0, "1", [26]옵션!$C$12) -> 1
B4: 공종줄 | D4: 1.전기소방공사::1-1.자동화재탐지 설비공사
A5: 59750337001 | B5: 0101 | C5: 3913170610034832 | D5: 강제전선관 | E5: 아연도 16 mm | F5: m | AB5: =I5 -> 0 | AC5: =G5*H5 -> 0
A6: 59753017003 | B6: 0101 | C6: 3913170620174410 | D6: 1종금속제가요전선관 | E6: 16 mm 일반-비방수 | F6: m | AC6: =G6*H6 -> 0
A7: 59753017043 | B7: 0101 | C7: 3913170620174434 | D7: 1종금속제가요전선관커넥터 | E7: 16 mm 일반-비방수 | F7: 개
A8: 59753767011 | B8: 0101 | C8: 3912130810035750 | D8: 아우트렛박스 | E8: 8각 54㎜ | F8: 개
A9: 59753777102 | B9: 0101 | C9: 3912130610035778 | D9: 스위치박스 | E9: 1 개용 54 mm | F9: 개
A10: 59753777111 | B10: 0101 | C10: 3912130610035781 | D10: 스위치박스 | E10: 2 개용 54 mm | F10: 개
A11: 59753767201 | B11: 0101 | C11: 3912130820174710 | D11: 아우트렛박스 커버 | E11: 8각, 평형 | F11: 개
A12: MM481669623 | B12: 0101 | C12: 2612162922076726 | D12: 내열비닐절연전선 | E12: HFIX 1.38mm(1.5㎟) | F12: m | AC12: =G12*H12 -> 0
A13: MM481669624 | B13: 0101 | C13: 2612162922076727 | D13: 내열비닐절연전선 | E13: HFIX 1.78mm(2.5㎟) | F13: m | AC13: =G13*H13 -> 0
A14: 59400247002 | B14: 0101 | C14: 3912140920171333 | D14: 와이어콘넥터 | E14: 6 ㎟ x 2가닥 | F14: 개
A15: 63500197001 | B15: 0101 | C15: 4619150120192512 | D15: 화재감지기 | E15: 열감지기,차동식스포트형 | F15: 개
A16: 63500197106 | B16: 0101 | C16: 4619150420192523 | D16: 화재감지기 | E16: 연기감지기,광전식2종-비축적 | F16: 개
A17: MM317275398 | B17: 0101 | C17: 4619150520689684 | D17: 시각경보기 | F17: 개
A18: 56800013700 | B18: 0101 | C18: D56800013700 | D18: 파이프행거(천정) | E18: 16 C | F18: 개소
A19: A0500000000 | B19: 0101 | C19: RENT000000000002 | D19: [ 배관 부속재 ] | E19: 전선관의 15 % | F19: 식 | AB19: =TRUNC(SUM(AB4:AB18)) -> 0
A20: A0100000000 | B20: 0101 | C20: RENT000000000003 | D20: [ 소모 잡자재 ] | E20: 전선, 전선관의 2 % | F20: 식 | AC20: =TRUNC(TRUNC(SUM(AC4:AC19))*[26]옵션!$B$33/100) -> 0 | AD20: =TRUNC(SUM(I4:I19))+TRUNC(SUM(N4:N19)) -> 0
A21: 56900017016 | B21: 0101 | C21: L001010101000075 | D21: 노 무 비 | E21: 내선전공 | F21: 인 | AE21: =L21 -> 0
A22: A0300000000 | B22: 0101 | C22: RENT000000000006 | D22: [ 공 구 손 료 ] | E22: 노무비의 3 % | F22: 식
AC23: =TRUNC(AE23*[26]옵션!$B$36/100) -> 0 | AD23: =TRUNC(SUM(L4:L21)) -> 0 | AE23: =TRUNC(SUM(AE4:AE22)) -> 0
B29: 합계줄 | D29: ( 합 계 )
B30: 공종줄 | D30: 1.전기소방공사::1-2.유도등 설비공사
A31: 59750337001 | B31: 0102 | C31: 3913170610034832 | D31: 강제전선관 | E31: 아연도 16 mm | F31: m | AB31: =I31 -> 0 | AC31: =G31*H31 -> 0
A32: 59753017003 | B32: 0102 | C32: 3913170620174410 | D32: 1종금속제가요전선관 | E32: 16 mm 일반-비방수 | F32: m | AC32: =G32*H32 -> 0
A33: 59753017043 | B33: 0102 | C33: 3913170620174434 | D33: 1종금속제가요전선관커넥터 | E33: 16 mm 일반-비방수 | F33: 개
A34: 59753767011 | B34: 0102 | C34: 3912130810035750 | D34: 아우트렛박스 | E34: 8각 54㎜ | F34: 개
A35: 59753777111 | B35: 0102 | C35: 3912130610035781 | D35: 스위치박스 | E35: 2 개용 54 mm | F35: 개
A36: 59753767201 | B36: 0102 | C36: 3912130820174710 | D36: 아우트렛박스 커버 | E36: 8각, 평형 | F36: 개
A37: MM481669624 | B37: 0102 | C37: 2612162922076727 | D37: 내열비닐절연전선 | E37: HFIX 1.78mm(2.5㎟) | F37: m | AC37: =G37*H37 -> 0
A38: MM588979935 | B38: 0102 | C38: 3911170820098005 | D38: 피난구유도등(LED) | E38: 대형 천정양면-60분용 | F38: 개
A39: MM588979934 | B39: 0102 | C39: 3911170820098004 | D39: 피난구유도등(LED) | E39: 대형 벽부단면-60분용 | F39: 개
A40: BB863283013 | B40: 0102 | C40: BB00000000000107 | D40: 복도통로유도등(LED) | E40: 60분용 | F40: 개
A41: DE260670010 | B41: 0102 | C41: InMastDBNonCode | D41: 음성점멸유도등(LED) | E41: 대형 벽부(입체형) | F41: 개
A42: 56800013700 | B42: 0102 | C42: D56800013700 | D42: 파이프행거(천정) | E42: 16 C | F42: 개소
A43: A0500000000 | B43: 0102 | C43: RENT000000000002 | D43: [ 배관 부속재 ] | E43: 전선관의 15 % | F43: 식 | AB43: =TRUNC(SUM(AB30:AB42)) -> 0
A44: A0100000000 | B44: 0102 | C44: RENT000000000003 | D44: [ 소모 잡자재 ] | E44: 전선, 전선관의 2 % | F44: 식 | AC44: =TRUNC(TRUNC(SUM(AC30:AC43))*[26]옵션!$B$33/100) -> 0 | AD44: =TRUNC(SUM(I30:I43))+TRUNC(SUM(N30:N43)) -> 0
A45: 56900017016 | B45: 0102 | C45: L001010101000075 | D45: 노 무 비 | E45: 내선전공 | F45: 인 | AE45: =L45 -> 0
A46: A0300000000 | B46: 0102 | C46: RENT000000000006 | D46: [ 공 구 손 료 ] | E46: 노무비의 3 % | F46: 식
AC47: =TRUNC(AE47*[26]옵션!$B$36/100) -> 0 | AD47: =TRUNC(SUM(L30:L45)) -> 0 | AE47: =TRUNC(SUM(AE30:AE46)) -> 0
B55: 합계줄 | D55: ( 합 계 )

Sheet 내역서(기계소방)
A1: [ 다누리어린이실내놀이터(소방) ]
A2: 품 명 | B2: 규 격 | C2: 단위 | D2: 수량 | E2: 재 료 비 | G2: 노 무 비 | I2: 경 비 | K2: 합 계 | M2: 비 고 | N2: 품목코드 | O2: 변수 | P2: 설정 | Q2: 공종코드 | R2: 일위 | S2: 단산 | T2: 자재 | U2: 손료적용 | V2: 손료저장 | W2: 적용율 | X2: JUK1 | Y2: JUK2 | Z2: JUK3 | AA2: JUK4 | AB2: JUK5 | AC2: JUK6 | AD2: JUK7 | AE2: JUK8 | AF2: JUK9 | AG2: JUK10 | AH2: JUK11 | AI2: JUK12 | AJ2: JUK13 | AK2: JUK14 | AL2: JUK15 | AM2: JUK16 | AN2: JUK17 | AO2: JUK18 | AP2: JUK19 | AQ2: JUK20 | AR2: 자재구분 | AS2: 공종구분 | AT2: 공종레벨 | AU2: 공종+자재 | AV2: 고유번호
E3: 단 가 | F3: 금 액 | G3: 단 가 | H3: 금 액 | I3: 단 가 | J3: 금 액 | K3: 단 가 | L3: 금 액
A4: 010101 소화배관공사 | Q4: 010101
A5: 배관용 탄소강관 | B5: 백관 (SPP), D25, 반제품 | C5: M | D5: 14 | N5: 41658538CE8A77E3264064CD737B75F058A35 | Q5: 010101 | R5: F | S5: F | T5: T | X5: 1 | AU5: 01010141658538CE8A77E3264064CD737B75F058A35 | AV5: 362
A6: 배관용 탄소강관 | B6: 백관 (SPP), D32, 반제품 | C6: M | D6: 5 | N6: 41658538CE8A77E3264064CD737B75F058A34 | Q6: 010101 | R6: F | S6: F | T6: T | X6: 1 | AU6: 01010141658538CE8A77E3264064CD737B75F058A34 | AV6: 363
A7: 배관용 탄소강관 | B7: 백관 (SPP), D50, 반제품 | C7: M | D7: 2 | N7: 41658538CE8A77E3264064CD737B75F058A3A | Q7: 010101 | R7: F | S7: F | T7: T | X7: 1 | AU7: 01010141658538CE8A77E3264064CD737B75F058A3A | AV7: 364
A8: 잡재료비 | B8: 주재료비의 3% | C8: 식 | D8: 1 | N8: 4720824C48BE7C51FE40652676C001 | Q8: 010101 | R8: F | S8: F | T8: F | U8: 0 | V8: 0 | W8: 0.03 | AU8: 0101014720824C48BE7C51FE40652676C001 | AV8: 388
A9: 관보온(가교발포+매직) | B9: 25TxD25 | C9: M | D9: 13 | N9: 46FD89E3D59278AAE92067E6E443B | Q9: 010101 | R9: T | S9: F | T9: F | AU9: 01010146FD89E3D59278AAE92067E6E443B | AV9: 365
A10: 관보온(가교발포+매직) | B10: 25TxD32 | C10: M | D10: 4 | N10: 46FD89E3D595746AB61063A2D04CD | Q10: 010101 | R10: T | S10: F | T10: F | AU10: 01010146FD89E3D595746AB61063A2D04CD | AV10: 366
A11: 관보온(가교발포+매직) | B11: 25TxD50 | C11: M | D11: 1 | N11: 46FD89E3D5977080E8B062FBF853F | Q11: 010101 | R11: T | S11: F | T11: F | AU11: 01010146FD89E3D5977080E8B062FBF853F | AV11: 367
A12: 나사식 강관제 관이음쇠 | B12: 백엘보 (나사) D25 | C12: EA | D12: 6 | N12: 41658538CE8A77C0D4E06B6A4CC0BE4CA9853 | Q12: 010101 | R12: F | S12: F | T12: T | AU12: 01010141658538CE8A77C0D4E06B6A4CC0BE4CA9853 | AV12: 368
A13: 나사식 강관제 관이음쇠 | B13: 백엘보 (나사) D32 | C13: EA | D13: 2 | N13: 41658538CE8A77C0D4E06B6A4CC0BE4CA9854 | Q13: 010101 | R13: F | S13: F | T13: T | AU13: 01010141658538CE8A77C0D4E06B6A4CC0BE4CA9854 | AV13: 369
A14: 나사식 강관제 관이음쇠 | B14: 백엘보 (나사) D50 | C14: EA | D14: 1 | N14: 41658538CE8A77C0D4E06B6A4CC0BE4CA9856 | Q14: 010101 | R14: F | S14: F | T14: T | AU14: 01010141658538CE8A77C0D4E06B6A4CC0BE4CA9856 | AV14: 370
A15: 나사식 강관제 관이음쇠 | B15: 백티이 (나사) D25 | C15: EA | D15: 4 | N15: 41658538CE8A77C0D4E06B6A4CC0BE4CA997F | Q15: 010101 | R15: F | S15: F | T15: T | AU15: 01010141658538CE8A77C0D4E06B6A4CC0BE4CA997F | AV15: 371
A16: 나사식 강관제 관이음쇠 | B16: 백티이 (나사) D32 | C16: EA | D16: 2 | N16: 41658538CE8A77C0D4E06B6A4CC0BE4CA96A2 | Q16: 010101 | R16: F | S16: F | T16: T | AU16: 01010141658538CE8A77C0D4E06B6A4CC0BE4CA96A2 | AV16: 372
A17: 나사식 강관제 관이음쇠 | B17: 백티이 (나사) D50 | C17: EA | D17: 1 | N17: 41658538CE8A77C0D4E06B6A4CC0BE4CA96A0 | Q17: 010101 | R17: F | S17: F | T17: T | AU17: 01010141658538CE8A77C0D4E06B6A4CC0BE4CA96A0 | AV17: 373
A18: 나사식 강관제 관이음쇠 | B18: 백리듀서 (나사) D32 | C18: EA | D18: 2 | N18: 41658538CE8A77C0D4E06B6A4CC0BE4CA974B | Q18: 010101 | R18: F | S18: F | T18: T | AU18: 01010141658538CE8A77C0D4E06B6A4CC0BE4CA974B | AV18: 374
A19: 나사식 강관제 관이음쇠 | B19: 백리듀서 (나사) D50 | C19: EA | D19: 1 | N19: 41658538CE8A77C0D4E06B6A4CC0BE4CA974D | Q19: 010101 | R19: F | S19: F | T19: T | AU19: 01010141658538CE8A77C0D4E06B6A4CC0BE4CA974D | AV19: 375
A20: 나사식 강관제 관이음쇠 | B20: 백캡 (나사) D25 | C20: EA | D20: 2 | N20: 41658538CE8A77C0D4E06B6A4CC0BE4C47573 | Q20: 010101 | R20: F | S20: F | T20: T | AU20: 01010141658538CE8A77C0D4E06B6A4CC0BE4C47573 | AV20: 376
A21: 소화기 | B21: 분말소화기(ABC) 3.3KG | C21: EA | D21: 8 | N21: 4165830AC6B77480A090658EDD111F1D30EF1 | Q21: 010101 | R21: F | S21: F | T21: T | AU21: 0101014165830AC6B77480A090658EDD111F1D30EF1 | AV21: 377
A22: 소화기 보관함 | C22: EA | D22: 8 | N22: 4165830AC6B7748023A06B3CCDFE7F4F0A11B | Q22: 010101 | R22: F | S22: F | T22: T | AU22: 0101014165830AC6B7748023A06B3CCDFE7F4F0A11B | AV22: 378
A23: 소방용헤드(FLUSH-TY) | B23: 스프링클러헤드,플러쉬 표준반응형 72°C | C23: EA | D23: 6 | N23: 4165830AC6B7748023606D480407EDA5E27E2 | Q23: 010101 | R23: F | S23: F | T23: T | AU23: 0101014165830AC6B7748023606D480407EDA5E27E2 | AV23: 379
A24: 후렉시블조인트(소방용) | B24: 1.5M | C24: SET | D24: 6 | N24: 41658538CDE37F06CDC060A89E1D95B71BD5A | Q24: 010101 | R24: F | S24: F | T24: T | AU24: 01010141658538CDE37F06CDC060A89E1D95B71BD5A | AV24: 380
A25: 일반행거(전산볼트) | B25: D25 | C25: 개소 | D25: 5 | N25: 46FD8543AC3F73FAF5A06911B7491 | Q25: 010101 | R25: T | S25: F | T25: F | AU25: 01010146FD8543AC3F73FAF5A06911B7491 | AV25: 381
A26: 일반행거(전산볼트) | B26: D32 | C26: 개소 | D26: 2 | N26: 46FD8543AC3F73FAF5A06969D0EBC | Q26: 010101 | R26: T | S26: F | T26: F | AU26: 01010146FD8543AC3F73FAF5A06969D0EBC | AV26: 382
A27: 일반행거(전산볼트) | B27: D50 | C27: 개소 | D27: 1 | N27: 46FD8543AC3F73FAF5A0694EF92FB | Q27: 010101 | R27: T | S27: F | T27: F | AU27: 01010146FD8543AC3F73FAF5A0694EF92FB | AV27: 383
A28: 강관 조립말비계(이동식)설치 및 해체 | B28: 높이 2m, 3개월 | C28: 대 | D28: 1 | N28: 46388D42E35F79B1C830675AD66BA | Q28: 010101 | R28: T | S28: F | T28: F | AU28: 01010146388D42E35F79B1C830675AD66BA | AV28: 384
A29: 보통인부 | B29: 일반공사 직종 | C29: 인 | D29: 2 | N29: 46E887C65AAA745C735061EA320EC87EA45A1 | Q29: 010101 | R29: F | S29: F | T29: T | Y29: 2 | AU29: 01010146E887C65AAA745C735061EA320EC87EA45A1 | AV29: 386
A30: 배관공 | B30: 일반공사 직종 | C30: 인 | D30: 4 | N30: 46E887C65AAA745C735061EA320EC87EA4640 | Q30: 010101 | R30: F | S30: F | T30: T | Y30: 2 | AU30: 01010146E887C65AAA745C735061EA320EC87EA4640 | AV30: 387
A31: 공구손료 | B31: 인력품의 2% | C31: 식 | D31: 1 | N31: 4720824C48BE7C51FE40652676F002 | Q31: 010101 | R31: F | S31: F | T31: F | U31: 1 | V31: 0 | W31: 0.02 | AU31: 0101014720824C48BE7C51FE40652676F002 | AV31: 389
Q32: 010101
Q33: 010101
Q34: 010101
Q35: 010101
Q36: 010101
Q37: 010101
Q38: 010101
Q39: 010101
Q40: 010101
Q41: 010101
Q42: 010101
Q43: 010101
... Q50: 010101
A51: [ 합 계 ] | N51: TOTAL
A52: 010102 임시소방시설공사 | Q52: 010102
A53: 소화기 | B53: 분말소화기(ABC) 3.3KG | C53: EA | D53: 6 | N53: 4165830AC6B77480A090658EDD111F1D30EF1 | Q53: 010102 | R53: F | S53: F | T53: T | AU53: 0101024165830AC6B77480A090658EDD111F1D30EF1 | AV53: 173
A54: 소화기 | B54: 대형분말소화기 20KG | C54: EA | D54: 3 | N54: 4165830AC6B77480A090658EDD111F1D30EFE | Q54: 010102 | R54: F | S54: F | T54: T | AU54: 0101024165830AC6B77480A090658EDD111F1D30EFE | AV54: 174
A55: 소화기 받침대 | B55: 소화기받침대 3.3KG | C55: EA | D55: 6 | N55: 4165830AC6B7748023A06B3CCDFE7F4F0A7A0 | Q55: 010102 | R55: F | S55: F | T55: T | AU55: 0101024165830AC6B7748023A06B3CCDFE7F4F0A7A0 | AV55: 175
A56: 방화포 | C56: EA | D56: 3 | N56: 41658538CDE37F06CDB06604C1DA32E781901 | Q56: 010102 | R56: F | S56: F | T56: T | AU56: 01010241658538CDE37F06CDB06604C1DA32E781901 | AV56: 176
Q57: 010102
Q58: 010102
Q59: 010102
Q60: 010102
Q61: 010102
Q62: 010102
Q63: 010102
Q64: 010102
Q65: 010102
Q66: 010102
Q67: 010102
Q68: 010102
... Q74: 010102
A75: [ 합 계 ] | N75: TOTAL
