Workbook
Name A: #REF!
Name A: #REF!

Sheet 갑지 (2)
M1: 0.87745
A4: 언남초등학교 | D4: 귀 하
A5: 날 짜:2 0 2 6 년 05월 06일
A6: 공 사 명 : 서울언남초 옥상방수 하자보수공사
A7: =" 견적금액:일금"&NUMBERSTRING(H17,1)&"원정" -> 견적금액:일금팔백구십오만이천원정 | E7: =H17 -> 8952000
B12: 공 종 | C12: 단 위 | D12: 수 량 | E12: 공급가액 | G12: 부가가치세 | H12: 합 계
C13: 식 | D13: 1 | E13: =원가계산서!D29 -> 8138182 | G13: =원가계산서!D30 -> 813818 | H13: =SUM(E13:G14) -> 8952000
B17: 계 | H17: 8952000
A23: 특 기 사 항 | B23: 내역서외사항별도

Sheet 원가계산서
A1: 공 사 원 가 계 산 서
A2: ='갑지 (2)'!A6:E6 -> 공 사 명 : 서울언남초 옥상방수 하자보수공사
A3: 구 분 | D3: 금 액 | E3: 구성비 | F3: 구 성 항 목
A4: 순 공 사 원 가 | B4: 재료비 | C4: 직 접 재 료 비
C5: 간 접 재 료 비
C6: 소 계 (가)
B7: 노무비 | C7: 직 접 노 무 비
C8: 간 접 노 무 비 | E8: 0.175 | F8: (직노)*17.5%
C9: 소 계 (나)
C10: 경 비
B11: 경 비 | C11: 산 재 보 험 료 | E11: 0.0356 | F11: (노무비)*3.56%
C12: 고 용 보 험 료 | E12: 0.0101 | F12: (노무비)*1.01%
C13: 건 강 보 험 료 | E13: 0.03595 | F13: (직노)*3.595%
C14: 연 금 보 험 료 | E14: 0.0475 | F14: (직노)*4.75%
C15: 노인 장기 요양보험료 | E15: 0.1314 | F15: (건강보험료)*13.14%
C16: 퇴직 공제 부금비 | E16: 0.023 | F16: (직노)*2.3%
C17: 산 업 안전 보건 관리비 | E17: 0.0311 | F17: (재+직노+사급+관급/1.2)*3.11%
C18: 기 타 경 비 | E18: 0.05 | F18: (재+노)*5.0%
C19: 환 경 보 전 비 | E19: 0.003 | F19: (재+직노+경비)*0.3%
C20: 건설하도급대금지급 보증서 발급수수료 | E20: 0.00081 | F20: (재+직노+경비)*0.081%
C21: 건설기계대여대금 지급보증액 발급금액 | E21: 0.001 | F21: (재+직노+경비)*0.10%
C22: 석 면 분 담 금 | E22: 6e-05 | F22: (노무비)*0.006%
C23: 임 금 채 권 부 담 금 | E23: 0.0009 | F23: (노무비)*0.09%
C24: 소 계(다)
B25: 합 계(라) | F25: (재+노+경)
A26: 일 반 관 리 비(마) | E26: 0.08 | F26: (재+노+경)*8%
A27: 이 윤 | E27: 0.15 | F27: (노+경+일반관리비)*15%
A28: 폐 기 물 처 리 비 | D28: =공종별내역서!J26 -> 0
A29: 공 급 가 액(바) | D29: 8138182 | F29: (재+노+경+일반관리비+이윤)
A30: 부 가 가 치 세 | D30: 813818 | E30: 0.1 | F30: 공급가액*10.0%
A31: 총 공 사 비 | D31: 8952000

Sheet 공종별집계표
A1: 공 종 별 집 계 표
A2: =원가계산서!A2 -> 공 사 명 : 서울언남초 옥상방수 하자보수공사
A3: 품 명 | B3: 규 격 | C3: 단위 | D3: 수량 | E3: 재 료 비 | G3: 노 무 비 | I3: 경 비 | K3: 합 계 | M3: 비 고 | N3: 공종코드 | O3: 변수 | P3: 상위공종 | Q3: 공종구분 | R3: 공종레벨 | S3: 공종소계 | T3: 원가계산서 연결금액
E4: 단 가 | F4: 금 액 | G4: 단 가 | H4: 금 액 | I4: 단 가 | J4: 금 액 | K4: 단 가 | L4: 금 액
A5: 옥상방수 하자보수공사 | C5: 식 | D5: 1 | N5: 01 | R5: 1 | U5: =공종별내역서!U29 -> 0
A6: 1)계단실 외부 통창 방수 | C6: 식 | D6: 1 | N6: 0101 | P6: 01 | R6: 2 | U6: =공종별내역서!#REF! -> #REF!
A7: 2)옥상바닥 일부 보수 | C7: 식 | D7: 1 | N7: 010101 | P7: 0101 | R7: 3 | U7: =공종별내역서!#REF! -> #REF!
A8: 3)체육관 지붕 부분보수 | C8: 식 | D8: 1 | N8: 010102 | P8: 0101 | R8: 3
N9: 010103 | P9: 0101 | R9: 3
N10: 010104 | P10: 0101 | R10: 3
N11: 0102 | P11: 01 | R11: 2
N12: 010201 | P12: 0102 | R12: 3
A26: [ 합 계 ]

Sheet 공종별내역서
A1: =공종별집계표!A2 -> 공 사 명 : 서울언남초 옥상방수 하자보수공사
A2: 품 명 | B2: 규 격 | C2: 단위 | D2: 수량 | E2: 재 료 비 | G2: 노 무 비 | I2: 경 비 | K2: 합 계 | M2: 비 고 | N2: 품목코드 | O2: 변수 | P2: 설정 | Q2: 공종코드 | R2: 일위 | S2: 단산 | T2: 자재 | U2: 손료적용 | V2: 손료저장 | W2: 적용율 | X2: JUK1 | Y2: JUK2 | Z2: JUK3 | AA2: JUK4 | AB2: JUK5 | AC2: JUK6 | AD2: JUK7 | AE2: JUK8 | AF2: JUK9 | AG2: JUK10 | AH2: JUK11 | AI2: JUK12 | AJ2: JUK13 | AK2: JUK14 | AL2: JUK15 | AM2: JUK16 | AN2: JUK17 | AO2: JUK18 | AP2: JUK19 | AQ2: JUK20 | AR2: 자재구분 | AS2: 공종구분 | AT2: 공종레벨 | AU2: 공종+자재 | AV2: 고유번호
E3: 단 가 | F3: 금 액 | G3: 단 가 | H3: 금 액 | I3: 단 가 | J3: 금 액 | K3: 단 가 | L3: 금 액 | AX3: 0.95
A4: =공종별집계표!A5 -> 옥상방수 하자보수공사 | Q4: 010101
A5: 1)계단실 외부 통창 방수 | N5: 513051011053F47BCA38666B059B | Q5: 010101 | R5: F | S5: F | T5: T | AU5: 010101513051011053F47BCA38666B059B | AV5: 1134
A6: 바탕면 청소 | B6: 바탕작업(로프작업) | C6: 식 | D6: 1 | N6: 56653101108F4DB49E7FF3B8E832 | Q6: 010101 | R6: F | S6: F | T6: T | AU6: 01010156653101108F4DB49E7FF3B8E832 | AV6: 840 | AX6: 500 | AY6: 250000
A7: 외부 창호위 | B7: 우레탄실란트(로프작업) | C7: 식 | D7: 1 | N7: 513051011053F47BCCEDCCEA82A0 | Q7: 010101 | R7: F | S7: F | T7: T | AU7: 010101513051011053F47BCCEDCCEA82A0 | AV7: 1135 | AX7: 55000 | AY7: 250000
N8: 51305101105020DD1FBC023EC030 | Q8: 010101 | R8: F | S8: F | T8: T | X8: 1 | AU8: 01010151305101105020DD1FBC023EC030 | AV8: 849
N9: 5127C10110D83F563B7261CE33F8 | Q9: 010101 | R9: T | S9: F | T9: F | AU9: 0101015127C10110D83F563B7261CE33F8 | AV9: 1105
N10: 51305101105020DD1FB32FF6EB5E | Q10: 010101 | R10: F | S10: F | T10: T | X10: 1 | AU10: 01010151305101105020DD1FB32FF6EB5E | AV10: 1136
N16: 51305101105020DD1FBA5F6DC572 | Q16: 010101 | R16: F | S16: F | T16: T | X16: 1 | AU16: 01010151305101105020DD1FBA5F6DC572 | AV16: 863
N17: 5127C10110D83F563A54B4CDD0DA | Q17: 010101 | R17: T | S17: F | T17: F | AU17: 0101015127C10110D83F563A54B4CDD0DA | AV17: 864
N18: 51305101105020DD1FBA5F6DC2BB | Q18: 010101 | R18: F | S18: F | T18: T | X18: 1 | AU18: 01010151305101105020DD1FBA5F6DC2BB | AV18: 1114
A29: [ 합 계 ] | N29: TOTAL
A30: 2)옥상바닥 일부 보수 | B30: 우레탄 보수(일부 실란트 포함) | C30: 식 | D30: 1 | N30: 513051011053F47BCA38666B059B | Q30: 010101 | R30: F | S30: F | T30: T | AU30: 010101513051011053F47BCA38666B059B | AV30: 1134 | AX30: 250000 | AY30: 250000
A31: 옥상 판넬 이음부 방수 | B31: 우레탄실란트 | C31: 식 | D31: 1 | N31: 56653101108F4DB49E7FF3B8E832 | Q31: 010101 | R31: F | S31: F | T31: T | AU31: 01010156653101108F4DB49E7FF3B8E832 | AV31: 840 | AX31: 55000 | AY31: 220000
A32: 옥상 홈통 배구구 | B32: 부분방수 | C32: 식 | D32: 1 | N32: 513051011053F47BCCEDCCEA82A0 | Q32: 010101 | R32: F | S32: F | T32: T | AU32: 010101513051011053F47BCCEDCCEA82A0 | AV32: 1135 | AX32: 120000 | AY32: 220000
A33: 내부천정 일부텍스교체 | B33: 천정 텍스 | C33: 식 | D33: 1 | N33: 51305101105020DD1FBC023EC030 | Q33: 010101 | R33: F | S33: F | T33: T | X33: 1 | AU33: 01010151305101105020DD1FBC023EC030 | AV33: 849 | AX33: 220000 | AY33: 280000
A34: 내부 천정 방수 | B34: 인잭션 공법 | C34: 식 | D34: 1 | N34: 5127C10110D83F563B7261CE33F8 | Q34: 010101 | R34: T | S34: F | T34: F | AU34: 0101015127C10110D83F563B7261CE33F8 | AV34: 1105 | AX34: 120000 | AY34: 280000
N35: 51305101105020DD1FB32FF6EB5E | Q35: 010101 | R35: F | S35: F | T35: T | X35: 1 | AU35: 01010151305101105020DD1FB32FF6EB5E | AV35: 1136
N41: 51305101105020DD1FBA5F6DC572 | Q41: 010101 | R41: F | S41: F | T41: T | X41: 1 | AU41: 01010151305101105020DD1FBA5F6DC572 | AV41: 863
N42: 5127C10110D83F563A54B4CDD0DA | Q42: 010101 | R42: T | S42: F | T42: F | AU42: 0101015127C10110D83F563A54B4CDD0DA | AV42: 864
N43: 51305101105020DD1FBA5F6DC2BB | Q43: 010101 | R43: F | S43: F | T43: T | X43: 1 | AU43: 01010151305101105020DD1FBA5F6DC2BB | AV43: 1114
A55: [ 합 계 ] | N55: TOTAL
A56: 3)체육관 지붕 부분보수 | N56: 513051011053F47BCA38666B059B | Q56: 010101 | R56: F | S56: F | T56: T | AU56: 010101513051011053F47BCA38666B059B | AV56: 1134
A57: 시트 방수 일부 | B57: 시트방수 | C57: ㎡ | D57: 50 | N57: 56653101108F4DB49E7FF3B8E832 | Q57: 010101 | R57: F | S57: F | T57: T | AU57: 01010156653101108F4DB49E7FF3B8E832 | AV57: 840 | AX57: 18000 | AY57: 32000
A58: 일부 균열부위 | B58: 우레탄 보수(일부 실란트 포함) | C58: 식 | D58: 1 | N58: 513051011053F47BCCEDCCEA82A0 | Q58: 010101 | R58: F | S58: F | T58: T | AU58: 010101513051011053F47BCCEDCCEA82A0 | AV58: 1135 | AX58: 450000 | AY58: 400000
N59: 51305101105020DD1FBC023EC030 | Q59: 010101 | R59: F | S59: F | T59: T | X59: 1 | AU59: 01010151305101105020DD1FBC023EC030 | AV59: 849
N60: 5127C10110D83F563B7261CE33F8 | Q60: 010101 | R60: T | S60: F | T60: F | AU60: 0101015127C10110D83F563B7261CE33F8 | AV60: 1105
N61: 51305101105020DD1FB32FF6EB5E | Q61: 010101 | R61: F | S61: F | T61: T | X61: 1 | AU61: 01010151305101105020DD1FB32FF6EB5E | AV61: 1136
N67: 51305101105020DD1FBA5F6DC572 | Q67: 010101 | R67: F | S67: F | T67: T | X67: 1 | AU67: 01010151305101105020DD1FBA5F6DC572 | AV67: 863
N68: 5127C10110D83F563A54B4CDD0DA | Q68: 010101 | R68: T | S68: F | T68: F | AU68: 0101015127C10110D83F563A54B4CDD0DA | AV68: 864
N69: 51305101105020DD1FBA5F6DC2BB | Q69: 010101 | R69: F | S69: F | T69: T | X69: 1 | AU69: 01010151305101105020DD1FBA5F6DC2BB | AV69: 1114
A79: [ 합 계 ] | N79: TOTAL

Sheet 일위대가목록
A1: 일 위 대 가 표 목 록
A2: 호 표 | B2: 품 명 | C2: 규 격 | D2: 단위 | E2: 수량 | F2: 재 료 비 | H2: 노 무 비 | J2: 경 비 | L2: 합 계 | N2: 비 고
F3: 단 가 | G3: 금 액 | H3: 단 가 | I3: 금 액 | J3: 단 가 | K3: 금 액 | L3: 단 가 | M3: 금 액 | O3: 손료요율 | P3: 손료구분 | Q3: 적용구분 | R3: 합계구분
A4: 일위 1 | K4: =일위대가표!J9 -> 0 | M4: =G4+I4+K4 -> 0
K5: =일위대가표!J13 -> 0 | M5: =G5+I5+K5 -> 0
K6: =일위대가표!J16 -> 0 | M6: =G6+I6+K6 -> 0
K7: =일위대가표!J21 -> 0 | M7: =G7+I7+K7 -> 0
K8: =일위대가표!J27 -> 0 | M8: =G8+I8+K8 -> 0
K9: =일위대가표!J31 -> 0 | M9: =G9+I9+K9 -> 0
G10: =일위대가표!F34 -> 0 | I10: =일위대가표!H34 -> 0 | K10: =일위대가표!J34 -> 0 | M10: =G10+I10+K10 -> 0
G11: =일위대가표!F37 -> 0 | I11: =일위대가표!H37 -> 0 | K11: =일위대가표!J37 -> 0 | M11: =G11+I11+K11 -> 0

Sheet 일위대가표
A1: 일 위 대 가 명 세 서
A2: 품 명 | B2: 규 격 | C2: 단위 | D2: 수 량 | E2: 재 료 비 | G2: 노 무 비 | I2: 경 비 | K2: 합 계 | M2: 비 고
E3: 단 가 | F3: 금 액 | G3: 단 가 | H3: 금 액 | I3: 단 가 | J3: 금 액 | K3: 단 가 | L3: 금 액 | N3: 손료요율 | O3: 손료구분 | P3: 적용구분 | Q3: 합계구분
F5: =TRUNC($D5*E5,0) -> 0 | H5: =TRUNC($D5*G5,0) -> 0 | J5: =TRUNC($D5*I5,0) -> 0 | K5: =E5+G5+I5 -> 0 | L5: =F5+H5+J5 -> 0
F6: =TRUNC($D6*E6,0) -> 0 | H6: =TRUNC($D6*G6,0) -> 0 | K6: =E6+G6+I6 -> 0 | L6: =F6+H6+J6 -> 0
F7: =TRUNC($D7*E7,0) -> 0 | H7: =TRUNC($D7*G7,0) -> 0 | K7: =E7+G7+I7 -> 0 | L7: =F7+H7+J7 -> 0
A8: [ 합 계 ] | F8: =SUM(F5:F7) -> 0 | H8: =SUM(H5:H7) -> 0 | K8: =E8+G8+I8 -> 0 | L8: =F8+H8+J8 -> 0
K9: =E9+G9+I9 -> 0 | L9: =F9+H9+J9 -> 0
F10: =TRUNC($D10*E10,0) -> 0 | H10: =TRUNC($D10*G10,0) -> 0 | K10: =E10+G10+I10 -> 0 | L10: =F10+H10+J10 -> 0
F11: =TRUNC($D11*E11,0) -> 0 | H11: =TRUNC($D11*G11,0) -> 0 | J11: =TRUNC($D11*I11,0) -> 0 | K11: =E11+G11+I11 -> 0 | L11: =F11+H11+J11 -> 0 | O11: 01 | P11: 기계경비 | Q11: 1
F12: =TRUNC($D12*E12,0) -> 0 | H12: =TRUNC($D12*G12,0) -> 0 | K12: =E12+G12+I12 -> 0 | L12: =F12+H12+J12 -> 0
E13: =TRUNC(SUM(H11:H12)*0.03,0) -> 0 | F13: =TRUNC($D13*E13,0) -> 0 | H13: =TRUNC($D13*G13,0) -> 0 | K13: =E13+G13+I13 -> 0 | L13: =F13+H13+J13 -> 0
F14: =SUM(F11:F13) -> 0 | H14: =SUM(H11:H13) -> 0 | K14: =E14+G14+I14 -> 0 | L14: =F14+H14+J14 -> 0
F15: =TRUNC($D15*E15,0) -> 0 | H15: =TRUNC($D15*G15,0) -> 0 | K15: =E15+G15+I15 -> 0 | L15: =F15+H15+J15 -> 0
H16: =SUM(H15) -> 0 | K16: =E16+G16+I16 -> 0 | L16: =F16+H16+J16 -> 0
F17: =TRUNC($D17*E17,0) -> 0 | H17: =TRUNC($D17*G17,0) -> 0 | J17: =TRUNC($D17*I17,0) -> 0 | K17: =E17+G17+I17 -> 0 | L17: =F17+H17+J17 -> 0
F18: =TRUNC($D18*E18,0) -> 0 | H18: =TRUNC($D18*G18,0) -> 0 | K18: =E18+G18+I18 -> 0 | L18: =F18+H18+J18 -> 0
E19: =TRUNC(SUM(H17:H18)*0.03,0) -> 0 | F19: =TRUNC($D19*E19,0) -> 0 | H19: =TRUNC($D19*G19,0) -> 0 | K19: =E19+G19+I19 -> 0 | L19: =F19+H19+J19 -> 0 | N19: 0.85 | O19: 01 | P19: 별도계상 | Q19: 1
F20: =SUM(F17:F19) -> 0 | H20: =SUM(H17:H19) -> 0 | K20: =E20+G20+I20 -> 0 | L20: =F20+H20+J20 -> 0 | N20: 0.037 | O20: 01 | P20: 별도계상 | Q20: 1
K21: =E21+G21+I21 -> 0 | L21: =F21+H21+J21 -> 0
K22: =E22+G22+I22 -> 0 | L22: =F22+H22+J22 -> 0
F23: =TRUNC($D23*E23,0) -> 0 | H23: =TRUNC($D23*G23,0) -> 0 | J23: =TRUNC($D23*I23,0) -> 0 | K23: =E23+G23+I23 -> 0 | L23: =F23+H23+J23 -> 0
F24: =TRUNC($D24*E24,0) -> 0 | H24: =TRUNC($D24*G24,0) -> 0 | K24: =E24+G24+I24 -> 0 | L24: =F24+H24+J24 -> 0
E25: =TRUNC(SUM(H23:H24)*0.03,0) -> 0 | F25: =TRUNC($D25*E25,0) -> 0 | H25: =TRUNC($D25*G25,0) -> 0 | K25: =E25+G25+I25 -> 0 | L25: =F25+H25+J25 -> 0
F26: =SUM(F23:F25) -> 0 | H26: =SUM(H23:H25) -> 0 | K26: =E26+G26+I26 -> 0 | L26: =F26+H26+J26 -> 0
K27: =E27+G27+I27 -> 0 | L27: =F27+H27+J27 -> 0
K28: =E28+G28+I28 -> 0 | L28: =F28+H28+J28 -> 0 | O28: 02 | P28: 기계경비 | Q28: 1
H29: =TRUNC($D29*G29,0) -> 0 | K29: =E29+G29+I29 -> 0 | L29: =F29+H29+J29 -> 0
H30: =TRUNC($D30*G30,0) -> 0 | K30: =E30+G30+I30 -> 0 | L30: =F30+H30+J30 -> 0
H31: =SUM(H29:H30) -> 0 | K31: =E31+G31+I31 -> 0 | L31: =F31+H31+J31 -> 0
K32: =E32+G32+I32 -> 0 | L32: =F32+H32+J32 -> 0 | O32: 02 | P32: 기계경비 | Q32: 1
H33: =TRUNC($D33*G33,0) -> 0 | K33: =E33+G33+I33 -> 0 | L33: =F33+H33+J33 -> 0
H34: =SUM(H33) -> 0 | K34: =E34+G34+I34 -> 0 | L34: =F34+H34+J34 -> 0
K35: =E35+G35+I35 -> 0 | L35: =F35+H35+J35 -> 0
F36: =TRUNC($D36*E36,0) -> 0 | H36: =TRUNC($D36*G36,0) -> 0 | K36: =E36+G36+I36 -> 0 | L36: =F36+H36+J36 -> 0 | N36: 0.03 | P36: 기계경비 | Q36: 1
H37: =SUM(H36) -> 0 | K37: =E37+G37+I37 -> 0 | L37: =F37+H37+J37 -> 0 | O37: 03 | P37: 기계경비 | Q37: 1
O38: 03 | P38: 기계경비 | Q38: 1
