Workbook

Sheet 목차
B5: 목 차
B7: 1. | C7: 설계설명서
B8: 2. | C8: 예정공정표
B9: 3. | C9: 동원인력산출표
B10: 4. | C10: 설계예산서
B11: 5. | C11: 공사시방사
B12: 6. | C12: 단가산출서
B13: 7. | C13: 수량산출서

Sheet 간지(1)
B10: 1. | C10: 설계설명서

Sheet 설명서
A2: 설 계 설 명 서
A3: 1.공 사 명
B4: 2026년 국도59호선 하진부지구 일원 보도 정비공사
A6: 2.공 사 위 치
B7: 강원특별자치도 평창군 진부면 하진부리 421-3번지 일원
A9: 3.사업의 목적
B10: 본 현장은 지방도내 도로안전 및 환경 불량으로 이용자 불편 발생에 따른 지방도내 하진부지구 보도 정비를 통해 안전하고 쾌적한 도로환경 조성하고자 함.
A12: 4.공 사 개 요
B13: 보도 정비 : 연장 L=600m, 폭 B=1.5~2.0m
B14: 1.토 공 : 기존구조물깨기 363㎥, 벌개제근 914㎡, 흙깎기 401㎥, 구조물터파기 779㎥, 비탈면보호 1,514㎡
B15: 2.배 수 공 : L형측구 607m, 우수관 102m, 우수맨홀 8개소, 우수받이 28개소, 집수정 2개소, V형측구 45m
B16: 3.포 장 공 : 아스팔트포장 46㎡, 보도포장 1,131㎡, 도로경계블럭 600m
B17: 4.구조물공 : 전석쌓기 26㎡, 돌망태형옹벽 108㎥
B18: 5.부 대 공 : 1식
A20: 5.설계변경조건
B21: 가.보상협의 지연으로 공사연장이 불가피할 때
B22: 나.공사기간중 연평균 강우일보다 많은 강우로 인하여 공사진행에 현저한 지장을 주었을 때
B23: 다.천재지변으로 인하여 작업이 불가피할 때
B24: 라.발주처의 지시에 따라 작업을 중단하였을 떄
B25: 마.기타 민원제기 등으로 인한 불가피한 상황이 발생되었을 때
A27: 6.주요자재
B28: 품 명 | C28: 규 격 | D28: 단위 | E28: 수 량 | G28: 비 고
B29: 시멘트 | C29: 40kg | D29: 대 | E29: 6 | G29: 사급
B30: 아스팔트유제 | C30: RSC-4,3 | D30: D/M | E30: 2 | G30: ＂
B31: 모래 | D31: M3 | E31: 250 | G31: ＂
B32: 보조기층재 | C32: SB-2 | D32: M3 | E32: 146 | G32: ＂
B33: 잡석 | C33: 40mm이하 | D33: M3 | E33: 24 | G33: ＂
B34: 개비온석 | C34: 100~300mm이하 | D34: M3 | E34: 108 | G34: ＂
B35: 이형철근 | C35: SD400, HD13 | D35: TON | E35: 0.092 | G35: ＂
C36: SD400, HD29 | D36: TON | E36: 0.074 | G36: ＂
B37: P E 코팅사다리 | C37: D22 | D37: 개 | E37: 32 | G37: ＂
B38: 우수받이 | C38: 410x510x640 | D38: 개 | E38: 28 | G38: ＂
B39: 스틸그레이팅 | C39: 1190x990x50 | D39: 개 | E39: 2 | G39: ＂
C40: 1190x1390x50 | D40: 개 | E40: 2 | G40: ＂
B41: 레미콘 | C41: 25-21-80 | D41: M3 | E41: 153 | G41: 관급
C42: 25-18-80 | D42: M3 | E42: 6 | G42: ＂
B43: 아스팔트콘크리트 | C43: 표층용, WC-2 | D43: TON | E43: 6 | G43: ＂
C44: 기층용, BB-3 | D44: TON | E44: 14 | G44: ＂
B45: 자연석경계석 | C45: 직선형, 200x250x1000 | D45: 개 | E45: 605 | G45: ＂
C46: 곡선형, 200x250x1000 | D46: 개 | E46: 6 | G46: ＂
...

Sheet 간지(2)
B10: 2. | C10: 예정공정표

Sheet 간지(3)
B10: 3. | C10: 동원인력산출표

Sheet 예정동원
B1: 예 정 공 정 표
A2: 공사명: | C2: =설명서!B4 -> 2026년 국도59호선 하진부지구 일원 보도 정비공사
E3: 착수 | F3: =$E$3 -> 착수 | G3: =$E$3 -> 착수 | H3: =$E$3 -> 착수 | I3: =$E$3 -> 착수 | J3: =$E$3 -> 착수 | N3: 토공 | O3: 51303021 | P3: =O3/$O$23 -> 0.3239745
B4: 공 종 | D4: 보 할 | E4: 20 | F4: 40 | G4: 60 | H4: 80 | I4: 100 | J4: 120 | K4: 비 고 | N4: 비탈공 | O4: 0 | P4: =O4/$O$23 -> 0
E5: 일 | F5: 일 | G5: 일 | H5: 일 | I5: 일 | J5: 일 | N5: 배수공 | O5: 55936299 | P5: =O5/$O$23 -> 0.35323329
E6: =$D$7/6 -> 0.054 | F6: =$D$7/6 -> 0.054 | G6: =$D$7/6 -> 0.054 | H6: =$D$7/6 -> 0.054 | I6: =$D$7/6 -> 0.054 | J6: =$D$7/6 -> 0.054 | L6: =IF(SUM(E6:J6)=D7,"ok","error") -> ok | N6: 포장공 | O6: 21357968 | P6: =O6/$O$23 -> 0.13487387
B7: =N3 -> 토공 | D7: =ROUND(O3/$O$23,3) -> 0.324 | L7: =SUM(E6:J6) -> 0.324 | N7: 구조물공 | O7: 17436062 | P7: =O7/$O$23 -> 0.11010735
N8: 부대공 | O8: 12321769 | P8: =O8/$O$23 -> 0.077810993
E9: =$D$10/6 -> 0 | F9: =$D$10/6 -> 0 | G9: =$D$10/6 -> 0 | H9: =$D$10/6 -> 0 | I9: =$D$10/6 -> 0 | J9: =$D$10/6 -> 0 | L9: =IF(SUM(E9:J9)=D10,"ok","error") -> ok | N9: 0 0 0 공 | O9: 0 | P9: =O9/$O$23 -> 0
B10: =N4 -> 비탈공 | D10: =ROUND(O4/$O$23,3) -> 0 | L10: =SUM(E9:J9) -> 0 | N10: 0 0 0 공 | O10: 0 | P10: =O10/$O$23 -> 0
N11: 0 0 0 공 | O11: 0 | P11: =O11/$O$23 -> 0
E12: =$D$13/6 -> 0.058833333 | F12: =$D$13/6 -> 0.058833333 | G12: =$D$13/6 -> 0.058833333 | H12: =$D$13/6 -> 0.058833333 | I12: =$D$13/6 -> 0.058833333 | J12: =$D$13/6 -> 0.058833333 | L12: =IF(SUM(E12:J12)=D13,"ok","error") -> ok | N12: 0 0 0 공 | O12: 0 | P12: =O12/$O$23 -> 0
B13: =N5 -> 배수공 | D13: =ROUND(O5/$O$23,3) -> 0.353 | L13: =SUM(E12:J12) -> 0.353 | N13: 0 0 0 공 | O13: 0 | P13: =O13/$O$23 -> 0
N14: 0 0 0 공 | O14: 0 | P14: =O14/$O$23 -> 0
E15: =$D$16/6 -> 0.0225 | F15: =$D$16/6 -> 0.0225 | G15: =$D$16/6 -> 0.0225 | H15: =$D$16/6 -> 0.0225 | I15: =$D$16/6 -> 0.0225 | J15: =$D$16/6 -> 0.0225 | L15: =IF(SUM(E15:J15)=D16,"ok","error") -> ok | N15: 0 0 0 공 | O15: 0 | P15: =O15/$O$23 -> 0
B16: =N6 -> 포장공 | D16: =ROUND(O6/$O$23,3) -> 0.135 | L16: =SUM(E15:J15) -> 0.135 | N16: 0 0 0 공 | O16: 0 | P16: =O16/$O$23 -> 0
N17: 0 0 0 공 | O17: 0 | P17: =O17/$O$23 -> 0
E18: =$D$19/6 -> 0.018333333 | F18: =$D$19/6 -> 0.018333333 | G18: =$D$19/6 -> 0.018333333 | H18: =$D$19/6 -> 0.018333333 | I18: =$D$19/6 -> 0.018333333 | J18: =$D$19/6 -> 0.018333333 | L18: =IF(SUM(E18:J18)=D19,"ok","error") -> ok | N18: 0 0 0 공 | O18: 0 | P18: =O18/$O$23 -> 0
B19: =N7 -> 구조물공 | D19: =ROUND(O7/$O$23,3) -> 0.11 | L19: =SUM(E18:J18) -> 0.11 | N19: 0 0 0 공 | O19: 0 | P19: =O19/$O$23 -> 0
N20: 0 0 0 공 | O20: 0 | P20: =O20/$O$23 -> 0
E21: =$D$22/6 -> 0.013 | F21: =$D$22/6 -> 0.013 | G21: =$D$22/6 -> 0.013 | H21: =$D$22/6 -> 0.013 | I21: =$D$22/6 -> 0.013 | J21: =$D$22/6 -> 0.013 | L21: =IF(SUM(E21:J21)=D22,"ok","error") -> ok | N21: 0 0 0 공 | O21: 0 | P21: =O21/$O$23 -> 0
B22: =N8 -> 부대공 | D22: =ROUND(O8/$O$23,3) -> 0.078 | L22: =SUM(E21:J21) -> 0.078 | N22: 0 0 0 공 | O22: 0 | P22: =O22/$O$23 -> 0
N23: 계 | O23: =SUM(O3:O22) -> 158355119 | P23: =SUM(P3:P22) -> 1
B25: 소 계 | D25: =SUM(D7,D10,D13,D16,D19,D22) -> 1 | E25: =SUM(E6,E9,E12,E15,E18,E21) -> 0.16666667 | F25: =SUM(F6,F9,F12,F15,F18,F21) -> 0.16666667 | G25: =SUM(G6,G9,G12,G15,G18,G21) -> 0.16666667 | H25: =SUM(H6,H9,H12,H15,H18,H21) -> 0.16666667 | I25: =SUM(I6,I9,I12,I15,I18,I21) -> 0.16666667 | J25: =SUM(J6,J9,J12,J15,J18,J21) -> 0.16666667
B28: 누 계 | D28: =D25 -> 1 | E28: =E25 -> 0.16666667 | F28: =E28+F25 -> 0.33333333 | G28: =F28+G25 -> 0.5 | H28: =G28+H25 -> 0.66666667 | I28: =H28+I25 -> 0.83333333 | J28: =I28+J25 -> 1
B30: 동 원 인 력 산 출 표
B31: =A2 -> 공사명: | C31: =C2 -> 2026년 국도59호선 하진부지구 일원 보도 정비공사
D32: 착수 | E32: 착수 | F32: 착수 | G32: 착수 | H32: 착수 | I32: 착수
B33: 공 종 | D33: =E4 -> 20 | E33: =F4 -> 40 | F33: =G4 -> 60 | G33: =H4 -> 80 | H33: =I4 -> 100 | I33: =J4 -> 120 | J33: 계 | K33: 비 고
D34: =E5 -> 일 | E34: =F5 -> 일 | F34: =G5 -> 일 | G34: =H5 -> 일 | H34: =I5 -> 일 | I34: =J5 -> 일
B36: 보통인부 | D36: =E25*$J$36 -> 68.166667 | E36: =F25*$J$36 -> 68.166667 | F36: =G25*$J$36 -> 68.166667 | G36: =H25*$J$36 -> 68.166667 | H36: =I25*$J$36 -> 68.166667 | I36: =J25*$J$36 -> 68.166667 | J36: =ROUND(제경비!E54/109819*0.4,0) -> 409
B39: 기능공 | D39: =E25*$J$39 -> 72.666667 | E39: =F25*$J$39 -> 72.666667 | F39: =G25*$J$39 -> 72.666667 | G39: =H25*$J$39 -> 72.666667 | H39: =I25*$J$39 -> 72.666667 | I39: =J25*$J$39 -> 72.666667 | J39: =ROUND(제경비!E54/154530*0.6,0) -> 436
B42: 소 계 | D42: =SUM(D36,D39) -> 140.83333 | E42: =SUM(E36,E39) -> 140.83333 | F42: =SUM(F36,F39) -> 140.83333 | G42: =SUM(G36,G39) -> 140.83333 | H42: =SUM(H36,H39) -> 140.83333 | I42: =SUM(I36,I39) -> 140.83333 | J42: =SUM(J36,J39) -> 845
B45: 누 계 | D45: =D42 -> 140.83333 | E45: =D45+E42 -> 281.66667 | F45: =E45+F42 -> 422.5 | G45: =F45+G42 -> 563.33333 | H45: =G45+H42 -> 704.16667 | I45: =H45+I42 -> 845

Sheet 간지(4)
B10: 4. | C10: 설계예산서

Sheet 갑지
A1: 2026 | E1: 년 | F1: 6 | H1: 월 | K1: 일 | M1: 설계 | Q1: 설 계 자 | V1: 심 사 자 | AA1: 팀 장 | AF1: 소 장
B7: 2026년
D9: =설명서!B4 -> 2026년 국도59호선 하진부지구 일원 보도 정비공사
D11: 【공사개요】
D13: =설명서!B13 -> 보도 정비 : 연장 L=600m, 폭 B=1.5~2.0m
D14: =설명서!B14 -> 1.토 공 : 기존구조물깨기 363㎥, 벌개제근 914㎡, 흙깎기 401㎥, 구조물터파기 779㎥, 비탈면보호 1,514㎡
D15: =설명서!B15 -> 2.배 수 공 : L형측구 607m, 우수관 102m, 우수맨홀 8개소, 우수받이 28개소, 집수정 2개소, V형측구 45m
D16: =설명서!B16 -> 3.포 장 공 : 아스팔트포장 46㎡, 보도포장 1,131㎡, 도로경계블럭 600m
D17: =설명서!B17 -> 4.구조물공 : 전석쌓기 26㎡, 돌망태형옹벽 108㎥
D18: =설명서!B18 -> 5.부 대 공 : 1식
E22: ○총 공 사 비 : | M22: =원가!F39 -> 470334000 | W22: ="(금"&NUMBERSTRING(M22,1)&"원)" -> (금사억칠천삼십삼만사천원)
E24: -도 급 예 정 액 : | M24: =원가!F37 -> 352962000 | W24: ="(금"&NUMBERSTRING(M24,1)&"원)" -> (금삼억오천이백구십육만이천원)
E26: -관 급 자 재 대 : | M26: =원가!F38 -> 117372000 | W26: ="(금"&NUMBERSTRING(M26,1)&"원)" -> (금일억일천칠백삼십칠만이천원)

Sheet 원가
A1: 공 사 원 가 계 산 서
A2: 공사명 : | B2: =설명서!B4 -> 2026년 국도59호선 하진부지구 일원 보도 정비공사
A3: 구분 비목 | F3: 설 계 금 액 | H3: 구 성 비 | J3: 비 고
A5: 순 공 사 원 가 | B5: 재료비 | D5: 직 접 재 료 비 | F5: =제경비!E55 -> 45084887 | H5: =(F5/$F$37) -> 0.12773298
D6: 간 접 재 료 비
D7: 작업설·부산물 등(△)
D8: 소계 | F8: =SUM(F5:F7) -> 45084887 | H8: =SUM(H5:H7) -> 0.12773298
B9: 노무비 | D9: 직 접 노 무 비 | F9: =제경비!E54 -> 112319261 | H9: =(F9/$F$37) -> 0.31821913
D10: 간 접 노 무 비 | F10: =제경비!E57 -> 21452978 | H10: =(F10/$F$37) -> 0.060779852
D11: 소계 | F11: =SUM(F9:F10) -> 133772239 | H11: =SUM(H9:H10) -> 0.37899898
B12: 경 비 | D12: 산출경비 | F12: =제경비!E56 -> 20900755 | H12: =(F12/$F$37) -> 0.059215312
D13: 산재보험료 | F13: =제경비!E58 -> 4762291 | H13: =(F13/$F$37) -> 0.013492362
D14: 고용보험료 | F14: =제경비!E59 -> 1351099 | H14: =(F14/$F$37) -> 0.003827888
D15: 건강보험료 | F15: =제경비!E60 -> 4037877 | H15: =(F15/$F$37) -> 0.011439977
D16: 연금보험료 | F16: =제경비!E61 -> 5335164 | H16: =(F16/$F$37) -> 0.015115406
D17: 노인장기요양보험료 | F17: =제경비!E62 -> 530577 | H17: =(F17/$F$37) -> 0.0015032128
D18: 건설기계대여대금지급보증서 | F18: =제경비!E66 -> 713219 | H18: =(F18/$F$37) -> 0.0020206679
D19: 산업안전보건관리비 | F19: =제경비!E64 -> 5949876 | H19: =(F19/$F$37) -> 0.016856987
D20: 하도급대금지급보증수수료 | F20: =제경비!E65 -> 144426 | H20: =(F20/$F$37) -> 0.00040918286
D21: 환경보전비 | F21: =제경비!E68 -> 1604744 | H21: =(F21/$F$37) -> 0.0045465064
D22: 건설근로자퇴직공제부금비 | F22: =제경비!E63 -> 2583343 | H22: =(F22/$F$37) -> 0.00731904
D23: 기타경비 | F23: =제경비!E67 -> 9837141 | H23: =(F23/$F$37) -> 0.027870255
D24: 석면분담금 | F24: =제경비!E69 -> 8026 | H24: =(F24/$F$37) -> 2.2738992e-05
D25: 임금채권부담금 | F25: =제경비!E70 -> 120395 | H25: =(F25/$F$37) -> 0.00034109904
D26: 안전관리비 | F26: =제경비!E71 -> 27091244 | H26: =(F26/$F$37) -> 0.076753996
D27: 품질관리비 | F27: =제경비!E72 -> 0 | H27: =(F27/$F$37) -> 0
D28: 특허권사용료 | H28: =(F28/$F$37) -> 0
D29: 소계 | F29: =SUM(F12:F28) -> 84970177 | H29: =SUM(H12:H28) -> 0.24073463 | K29: 순공사원가 | L29: =SUM(F8,F11,F29) -> 263827303 | M29: =IF(L29=제경비!E73,"OK","ERROR") -> OK
A30: A. | B30: ="일반관리비[(재료비+노무비+경비)×"& TEXT(제경비!G43*100,"#,##0") &"%]" -> 일반관리비[(재료비+노무비+경비)×8%] | F30: =제경비!E74 -> 21106184 | H30: =(F30/$F$37) -> 0.059797327
A31: B. | B31: ="이윤[(노무비+경비+일반관리비)×"& TEXT(제경비!J45*100,"#,##0") &"%]" -> 이윤[(노무비+경비+일반관리비)×15%] | F31: =제경비!E75 -> 35976439 | H31: =(F31/$F$37) -> 0.10192723
A32: C. | B32: 고재대 | F32: =제경비!E76 -> -35380 | H32: =(F32/$F$37) -> -0.00010023742
A33: D. | B33: 시험비 | F33: =제경비!E77 -> 0 | H33: =(F33/$F$37) -> 0
A34: E. | B34: 특허권사용료 | F34: =제경비!E78 -> 0 | H34: =(F34/$F$37) -> 0
B35: 공급가액(A+B+C+D+E) | F35: =SUM(L29,F30:F34) -> 320874546 | H35: =H8+H11+H29+H30+H31+H32+H33 -> 0.90909091 | K35: =IF(F35=제경비!E79,"OK","ERROR") -> OK
B36: 부가가치세 | F36: =제경비!E80 -> 32087454 | H36: =(F36/$F$37) -> 0.090909089
B37: 도급예정액 | F37: =SUM(F35:F36) -> 352962000 | H37: =(F37/$F$37) -> 1 | K37: =IF(F37=제경비!E81,"OK","ERROR") -> OK
B38: 관급자재대 | F38: =제경비!E85 -> 117372000
B39: 총공사비 | F39: =SUM(F37:F38) -> 470334000

Sheet 제경비
A1: 제경비 산출근거
A3: 1.간접노무비 : | E3: [직접노무비] × | H3: 0.191 | I3: = | J3: [ | K3: =E54 -> 112319261 | M3: ] | N3: × | O3: =H3 -> 0.191 | Q3: = | R3: =TRUNC(K3*O3) -> 21452978
A5: 2.산재보험료 : | E5: [직접+간접노무비] × | H5: 0.0356 | I5: = | J5: [ | K5: =E54 -> 112319261 | M5: + | N5: =E57 -> 21452978 | P5: ] | Q5: × | R5: =H5 -> 0.0356 | S5: = | T5: =TRUNC((K5+N5)*R5) -> 4762291
A7: 3.고용보험료 : | E7: [직접+간접노무비] × | H7: 0.0101 | I7: = | J7: [ | K7: =E54 -> 112319261 | M7: + | N7: =E57 -> 21452978 | P7: ] | Q7: × | R7: =H7 -> 0.0101 | S7: = | T7: =TRUNC((K7+N7)*R7) -> 1351099
A9: 4.건강보험료 : | E9: [직접노무비] × | H9: 0.03595 | I9: = | J9: [ | K9: =E54 -> 112319261 | M9: ] | N9: × | O9: =H9 -> 0.03595 | Q9: = | R9: =TRUNC(K9*O9) -> 4037877
A11: 5.연금보험료 : | E11: [직접노무비] × | H11: 0.0475 | I11: = | J11: [ | K11: =E54 -> 112319261 | M11: ] | N11: × | O11: =H11 -> 0.0475 | Q11: = | R11: =TRUNC(K11*O11) -> 5335164
A13: 6.노인요양보험료 : | E13: [건강보험료] × | H13: 0.1314 | I13: = | J13: [ | K13: =E60 -> 4037877 | M13: ] | N13: × | O13: =H13 -> 0.1314 | Q13: = | R13: =TRUNC(K13*O13) -> 530577
A15: 7.퇴직공제부금비: | E15: [직접노무비] × | H15: 0.023 | I15: = | J15: [ | K15: =E54 -> 112319261 | M15: ] | N15: × | O15: =H15 -> 0.023 | Q15: = | R15: =TRUNC(K15*O15) -> 2583343
A17: 8.산업안전보건관리비 : | E17: [직접노무비+재료비] × | I17: 0.0315 | J17: + | K17: 0 | M17: ] | N17: × | O17: 1.2
D19: = | E19: [ [ | F19: =E54 -> 112319261 | H19: + | I19: =E55 -> 45084887 | K19: ] | L19: × | M19: =I17 -> 0.0315 | N19: =J17 -> + | O19: =K17 -> 0 | Q19: =N17 -> × | R19: =O17 -> 1.2
D21: = | E21: =TRUNC(((F19+I19)*M19+O19)*R19) -> 5949876 | H21: =IF(E21<E27,"[ 적 용 ]","") -> [ 적 용 ]
E23: [직접노무비+재료비+관급자재대(부가세제외)] x | K23: =I17 -> 0.0315 | L23: + | M23: =K17 -> 0
D25: = | E25: [ | F25: =E54 -> 112319261 | H25: + | I25: =E55 -> 45084887 | K25: + | L25: =H83/1.1 -> 1.0612343e+08 | N25: ] | O25: × | P25: =I17 -> 0.0315 | Q25: =L23 -> + | R25: =M23 -> 0
D27: = | E27: =TRUNC((F25+I25+L25)*P25+R25) -> 8301118 | H27: =IF(E21>E27,"[ 적 용 ]","")
A29: 9.하도대금수수료 : | E29: [직접공사비] × | G29: 0.00081 | H29: = | I29: [ | J29: =H56 -> 178304903 | L29: ] | M29: × | N29: =G29 -> 0.00081 | O29: = | P29: =TRUNC(J29*N29,0) -> 144426
A31: 10.건설기계대여대금 지급보증서발급금액 : | H31: [직접공사비] × | J31: 0.004 | K31: = | L31: [ | M31: =H56 -> 178304903 | O31: ] | P31: × | Q31: =J31 -> 0.004 | R31: = | S31: =TRUNC(M31*Q31,0) -> 713219
A33: 11.기 타 경 비 : | E33: [직접노무비+간접노무비+재료비] × | J33: 0.055
D35: = | E35: [ | F35: =E54 -> 112319261 | H35: + | I35: =E57 -> 21452978 | K35: + | L35: =E55 -> 45084887 | N35: ] | O35: × | P35: =J33 -> 0.055 | Q35: = | R35: =TRUNC((F35+I35+L35)*P35,0) -> 9837141
A37: 12.환경보전비 : | E37: [직접공사비] × | G37: 0.009 | H37: = | I37: [ | J37: =H56 -> 178304903 | L37: ] | M37: × | N37: =G37 -> 0.009 | O37: = | P37: =TRUNC(J37*N37,0) -> 1604744
A39: 13.석면분담금 : | E39: [직접+간접노무비] × | H39: 6e-05 | I39: = | J39: [ | K39: =E54 -> 112319261 | M39: + | N39: =E57 -> 21452978 | P39: ] | Q39: × | R39: =H39 -> 6e-05 | S39: = | T39: =TRUNC((K39+N39)*R39) -> 8026
A41: 14.임금채권부담금 : | E41: [직접+간접노무비] × | H41: 0.0009 | I41: = | J41: [ | K41: =E54 -> 112319261 | M41: + | N41: =E57 -> 21452978 | P41: ] | Q41: × | R41: =H41 -> 0.0009 | S41: = | T41: =TRUNC((K41+N41)*R41) -> 120395
A43: 15.일반관리비 : | E43: [순공사원가] × | G43: 0.08 | H43: = | I43: [ | J43: =E73 -> 263827303 | L43: ] | M43: × | N43: =G43 -> 0.08 | O43: = | P43: =TRUNC(J43*N43,0) -> 21106184
A45: 16.이 윤 : | E45: [순공사원가 + 일반관리비-재료비] × | J45: 0.15
D47: = | E47: [ | F47: =E73 -> 263827303 | H47: + | I47: =E74 -> 21106184 | K47: - | L47: =E55 -> 45084887 | N47: ] | O47: × | P47: =J45 -> 0.15 | Q47: - | R47: =E91 -> 850.90909
D49: = | E49: =TRUNC((F47+I47-L47)*P47-R47,0) -> 35976439
B53: 구 분 | E53: 금 액
B54: 노 무 비 | E54: 112319261
B55: 재 료 비 | E55: 45084887
B56: 경 비 | E56: 20900755 | H56: =SUM(E54:E56) -> 178304903 | K56: : 직접공사비
B57: 간 접 노 무 비 | E57: =R3 -> 21452978
B58: 산 재 보 험 료 | E58: =T5 -> 4762291
B59: 고 용 보 험 료 | E59: =T7 -> 1351099
B60: 건 강 보 험 료 | E60: =R9 -> 4037877
B61: 연 금 보 험 료 | E61: =R11 -> 5335164
B62: 노인장기요양보험료 | E62: =R13 -> 530577
B63: 퇴직 공제 부금 | E63: =R15 -> 2583343
B64: 산업안전보건관리비 | E64: =E21 -> 5949876
B65: 하도대금지급수수료 | E65: =P29 -> 144426
B66: 건설기계대여금보증 | E66: =S31 -> 713219
B67: 기 타 경 비 | E67: =R35 -> 9837141
...

Sheet 간지(5)
B10: 5. | C10: 공사시방서

Sheet 간지(6)
B10: 6. | C10: 단가산출서

Sheet 간지(7)
B10: 7. | C10: 수량산출서
