Workbook

Sheet 표지
A2: 충청남도 논산시 | K2: 2026. 06.
D4: (농업기반시설유지관리사업)
A5: =원가계산서!B2 -> 공사명 : 성동면 병촌리 등 2개소 유지관리공사 | K5: 계획서
A11: 한국농어촌공사 논산지사

Sheet 원가계산서
B1: 공 사 원 가 계 산 서
B2: 공사명 : 성동면 병촌리 등 2개소 유지관리공사
B3: 비 목 | E3: 금 액 | F3: 구 성 비 | G3: 비 고
A4: A1 | B4: 순 공 사 원 가 | C4: 재 료 비 | D4: 직 접 재 료 비 | E4: =TRUNC(공종별집계표!F5, 0) -> 5905330
A5: A2 | D5: 간 접 재 료 비 | E5: 0
A6: A3 | D6: 작업설, 부산물(△) | E6: 0
A7: AS | D7: [ 소 계 ] | E7: =TRUNC(E4+E5-E6, 0) -> 5905330
A8: B1 | C8: 노 무 비 | D8: 직 접 노 무 비 | E8: =TRUNC(공종별집계표!H5, 0) -> 4659223
A9: B2 | D9: 간 접 노 무 비 | E9: =TRUNC(E8*0.143, 0) -> 666268 | F9: 직접노무비 * 14.3%
A10: BS | D10: [ 소 계 ] | E10: =TRUNC(E8+E9, 0) -> 5325491
A11: C2 | C11: 경 비 | D11: 경 비 | E11: =TRUNC(공종별집계표!J5, 0) -> 3771085
A12: C4 | D12: 산 재 보 험 료 | E12: =TRUNC(E10*0.0356, 0) -> 189587 | F12: 노무비 * 3.56%
A13: C5 | D13: 고 용 보 험 료 | E13: =TRUNC(E10*0.0101, 0) -> 53787 | F13: 노무비 * 1.01%
A14: C6 | D14: 국민 건강 보험료 | F14: 직접노무비 * 3.545%
A15: C7 | D15: 국민 연금 보험료 | F15: 직접노무비 * 4.5%
A16: C8 | D16: 퇴직 공제 부금비 | F16: 직접노무비 * 2.3%
A17: CA | D17: 산업안전보건관리비 | E17: =TRUNC((E7+E8+(0/1.1))*0.0315, 0) -> 332783 | F17: (재료비+직노+관급자재비) * 3.15%
A18: CB | D18: 노인장기요양보험료 | E18: =TRUNC(E14*0.1295, 0) -> 0 | F18: 건강보험료 * 12.95%
A19: CG | D19: 기 타 경 비 | E19: =TRUNC((E7+E10)*0.058, 0) -> 651387 | F19: (재료비+노무비) * 5.8%
A20: CH | D20: 환 경 보 전 비 | F20: (재료비+직노+경비) * 0.8%
A21: CK | D21: 하도급지급보증수수료 | F21: (재료비+직노+경비) * 0.081%
A22: CL | D22: 건설기계대여금지급보증서발급수수료 | F22: (재료비+직노+경비) * 0.068%
A23: CS | D23: [ 소 계 ] | E23: =TRUNC(E11+E12+E13+E14+E15+E16+E17+E18+E19+E20+E21+E22, 0) -> 4998629
A24: S1 | B24: 계 | E24: =TRUNC(E7+E10+E23, 0) -> 16229450
A25: D1 | B25: 일 반 관 리 비 | E25: =TRUNC(E24*0.06, 0) -> 973767 | F25: 계 * 6%
A26: D2 | B26: 이 윤 | E26: =TRUNC((E10+E23+E25)*0.15, 0)-627 -> 1694056 | F26: (노무비+경비+일반관리비) * 15%
A27: D9 | B27: 공 급 가 액 | E27: =TRUNC(E24+E25+E26, 0) -> 18897273
A28: DB | B28: 부 가 가 치 세 | E28: =TRUNC(E27*0.1, 0) -> 1889727 | F28: 공급가액 * 10%
A29: DH | B29: 도 급 액 | E29: =TRUNC(E27+E28, 0) -> 20787000
A30: S2 | B30: 총 공 사 비 | E30: =TRUNC(E29+0, 0) -> 20787000

Sheet 공종별집계표
A1: 공 종 별 집 계 표
A2: [ 성동면 병촌리 등 2개소 유지관리공사 ]
A3: 품 명 | B3: 규 격 | C3: 단위 | D3: 수량 | E3: 재 료 비 | G3: 노 무 비 | I3: 경 비 | K3: 합 계 | M3: 비 고 | N3: 공종코드 | O3: 변수 | P3: 상위공종 | Q3: 공종구분 | R3: 공종레벨 | S3: 공종소계 | T3: 원가계산서 연결금액
E4: 단 가 | F4: 금 액 | G4: 단 가 | H4: 금 액 | I4: 단 가 | J4: 금 액 | K4: 단 가 | L4: 금 액
A5: 성동면 병촌리 등 2개소 보수공사 | D5: 1 | E5: =F6+F7 -> 5905330 | F5: =E5*D5 -> 5905330 | G5: =H6+H7 -> 4659223 | H5: =G5*D5 -> 4659223 | I5: =J6+J7 -> 3771085 | J5: =I5*D5 -> 3771085 | K5: =E5+G5+I5 -> 14335638 | L5: =F5+H5+J5 -> 14335638 | N5: 01 | R5: 1
A6: 1. 성동면 병촌리 608-1 | D6: 1 | E6: =공종별내역서!F29 -> 412362 | F6: =E6*D6 -> 412362 | G6: =공종별내역서!H29 -> 1154955 | H6: =G6*D6 -> 1154955 | I6: =공종별내역서!J29 -> 1636968 | J6: =I6*D6 -> 1636968 | K6: =E6+G6+I6 -> 3204285 | L6: =F6+H6+J6 -> 3204285 | N6: 0101 | P6: 01 | R6: 2
A7: 2. 성동면 정지리 124-29 | D7: 1 | E7: =공종별내역서!F55 -> 5492968 | F7: =E7*D7 -> 5492968 | G7: =공종별내역서!H55 -> 3504268 | H7: =G7*D7 -> 3504268 | I7: =공종별내역서!J55 -> 2134117 | J7: =I7*D7 -> 2134117 | K7: =E7+G7+I7 -> 11131353 | L7: =F7+H7+J7 -> 11131353 | N7: 0102 | P7: 01 | R7: 2
A29: [ 합 계 ] | F29: =F5 -> 5905330 | H29: =H5 -> 4659223 | J29: =J5 -> 3771085 | L29: =L5 -> 14335638

Sheet 공종별내역서
A1: [ 성동면 병촌리 등 2개소 유지관리공사 ]
A2: 품 명 | B2: 규 격 | C2: 단위 | D2: 수량 | E2: 재 료 비 | G2: 노 무 비 | I2: 경 비 | K2: 합 계 | M2: 비 고 | N2: 품목코드 | O2: 변수 | P2: 설정 | Q2: 공종코드 | R2: 일위 | S2: 단산 | T2: 자재 | U2: 손료적용 | V2: 손료저장 | W2: 적용율 | X2: JUK1 | Y2: JUK2 | Z2: JUK3 | AA2: JUK4 | AB2: JUK5 | AC2: JUK6 | AD2: JUK7 | AE2: JUK8 | AF2: JUK9 | AG2: JUK10 | AH2: JUK11 | AI2: JUK12 | AJ2: JUK13 | AK2: JUK14 | AL2: JUK15 | AM2: JUK16 | AN2: JUK17 | AO2: JUK18 | AP2: JUK19 | AQ2: JUK20 | AR2: 자재구분 | AS2: 공종구분 | AT2: 공종레벨 | AU2: 공종+자재 | AV2: 고유번호
E3: 단 가 | F3: 금 액 | G3: 단 가 | H3: 금 액 | I3: 단 가 | J3: 금 액 | K3: 단 가 | L3: 금 액
A4: 1. 성동면 병촌리 608-1 | Q4: 0101
A5: 터파기 작업 | B5: 6w | C5: 일 | D5: 1 | E5: =TRUNC(단가대비표!O18,0) -> 0 | F5: =TRUNC(E5*D5, 0) -> 0 | G5: =TRUNC(단가대비표!P18,0) -> 0 | H5: =TRUNC(G5*D5, 0) -> 0 | I5: =TRUNC(단가대비표!V18,0) -> 800000 | J5: =TRUNC(I5*D5, 0) -> 800000 | K5: =TRUNC(E5+G5+I5, 0) -> 800000 | L5: =TRUNC(F5+H5+J5, 0) -> 800000 | N5: 53CCB3AC2F5ADDA197036F953FC2C7 | Q5: 0101 | R5: F | S5: F | T5: T | AU5: 010153CCB3AC2F5ADDA197036F953FC2C7 | AV5: 41
A6: 되메우기 작업 | B6: 6w | C6: 일 | D6: 1 | E6: =TRUNC(단가대비표!O19,0) -> 0 | F6: =TRUNC(E6*D6, 0) -> 0 | G6: =TRUNC(단가대비표!P19,0) -> 0 | H6: =TRUNC(G6*D6, 0) -> 0 | I6: =TRUNC(단가대비표!V19,0) -> 800000 | J6: =TRUNC(I6*D6, 0) -> 800000 | K6: =TRUNC(E6+G6+I6, 0) -> 800000 | L6: =TRUNC(F6+H6+J6, 0) -> 800000 | N6: 53CCB3AC2F5ADDA197036F953FC2C4 | Q6: 0101 | R6: F | S6: F | T6: T | AU6: 010153CCB3AC2F5ADDA197036F953FC2C4 | AV6: 42
A7: 철근 현장가공 및 조립 | B7: 간단 | C7: TON | D7: 0.1 | E7: =TRUNC(일위대가목록!E14,0) -> 8285 | F7: =TRUNC(E7*D7, 0) -> 828 | G7: =TRUNC(일위대가목록!F14,0) -> 905522 | H7: =TRUNC(G7*D7, 0) -> 90552 | I7: =TRUNC(일위대가목록!G14,0) -> 6840 | J7: =TRUNC(I7*D7, 0) -> 684 | K7: =TRUNC(E7+G7+I7, 0) -> 920647 | L7: =TRUNC(F7+H7+J7, 0) -> 92064 | N7: 53CCF3CD2A528E11953A030B4ACC24 | Q7: 0101 | R7: T | S7: F | T7: F | AU7: 010153CCF3CD2A528E11953A030B4ACC24 | AV7: 47
A8: 합판거푸집 설치 및 해체 | B8: 간단 6회, 수직고 7m까지 | C8: M2 | D8: 1 | E8: =TRUNC(일위대가목록!E7,0) -> 11618 | F8: =TRUNC(E8*D8, 0) -> 11618 | G8: =TRUNC(일위대가목록!F7,0) -> 34075 | H8: =TRUNC(G8*D8, 0) -> 34075 | I8: =TRUNC(일위대가목록!G7,0) -> 340 | J8: =TRUNC(I8*D8, 0) -> 340 | K8: =TRUNC(E8+G8+I8, 0) -> 46033 | L8: =TRUNC(F8+H8+J8, 0) -> 46033 | N8: 53E1C3F724570461945D0C1396DA86 | Q8: 0101 | R8: T | S8: F | T8: F | AU8: 010153E1C3F724570461945D0C1396DA86 | AV8: 3
A9: 레디믹스트콘크리트 장비사용 타설 | B9: 무근구조물, 굴착기(무한궤도), 0.6㎥ | C9: M3 | D9: 2 | E9: =TRUNC(일위대가목록!E8,0) -> 2146 | F9: =TRUNC(E9*D9, 0) -> 4292 | G9: =TRUNC(일위대가목록!F8,0) -> 22750 | H9: =TRUNC(G9*D9, 0) -> 45500 | I9: =TRUNC(일위대가목록!G8,0) -> 3204 | J9: =TRUNC(I9*D9, 0) -> 6408 | K9: =TRUNC(E9+G9+I9, 0) -> 28100 | L9: =TRUNC(F9+H9+J9, 0) -> 56200 | N9: 53E1C3F0215688C197F3C6A0078E6E | Q9: 0101 | R9: T | S9: F | T9: F | AU9: 010153E1C3F0215688C197F3C6A0078E6E | AV9: 9
A10: 케미컬앵커 | B10: 천공:￠18, 삽입L:130mm | C10: EA | D10: 52 | E10: =TRUNC(일위대가목록!E9,0) -> 2310 | F10: =TRUNC(E10*D10, 0) -> 120120 | G10: =TRUNC(일위대가목록!F9,0) -> 18939 | H10: =TRUNC(G10*D10, 0) -> 984828 | I10: =TRUNC(일위대가목록!G9,0) -> 568 | J10: =TRUNC(I10*D10, 0) -> 29536 | K10: =TRUNC(E10+G10+I10, 0) -> 21817 | L10: =TRUNC(F10+H10+J10, 0) -> 1134484 | N10: 53CCB3A9225741A19D7520C494DAC8 | Q10: 0101 | R10: T | S10: F | T10: F | AU10: 010153CCB3A9225741A19D7520C494DAC8 | AV10: 4
A11: 레미콘 - 논산 | B11: 25-24-12 | C11: M3 | D11: 2 | E11: =TRUNC(단가대비표!O13,0) -> 94950 | F11: =TRUNC(E11*D11, 0) -> 189900 | G11: =TRUNC(단가대비표!P13,0) -> 0 | H11: =TRUNC(G11*D11, 0) -> 0 | I11: =TRUNC(단가대비표!V13,0) -> 0 | J11: =TRUNC(I11*D11, 0) -> 0 | K11: =TRUNC(E11+G11+I11, 0) -> 94950 | L11: =TRUNC(F11+H11+J11, 0) -> 189900 | N11: 54CC63A52C5372B19578CAD2B950FF5718D88F | Q11: 0101 | R11: F | S11: F | T11: T | AU11: 010154CC63A52C5372B19578CAD2B950FF5718D88F | AV11: 49
A12: 철근콘크리트용봉강 | B12: 철근콘크리트용봉강, 이형봉강(SD400), HD13, | C12: TON | D12: 0.1 | E12: =TRUNC(단가대비표!O9,0) -> 856040 | F12: =TRUNC(E12*D12, 0) -> 85604 | G12: =TRUNC(단가대비표!P9,0) -> 0 | H12: =TRUNC(G12*D12, 0) -> 0 | I12: =TRUNC(단가대비표!V9,0) -> 0 | J12: =TRUNC(I12*D12, 0) -> 0 | K12: =TRUNC(E12+G12+I12, 0) -> 856040 | L12: =TRUNC(F12+H12+J12, 0) -> 85604 | N12: 54CC63A52C526D019A67DF64386AB2442D4EB8 | Q12: 0101 | R12: F | S12: F | T12: T | AU12: 010154CC63A52C526D019A67DF64386AB2442D4EB8 | AV12: 48
Q13: 0101
Q14: 0101
Q15: 0101
Q16: 0101
Q17: 0101
Q18: 0101
Q19: 0101
Q20: 0101
Q21: 0101
Q22: 0101
Q23: 0101
Q24: 0101
... Q28: 0101
A29: [ 합 계 ] | F29: =SUMIF(Q5:Q28,"0101",F5:F28) -> 412362 | H29: =SUMIF(Q5:Q28,"0101",H5:H28) -> 1154955 | J29: =SUMIF(Q5:Q28,"0101",J5:J28) -> 1636968 | L29: =SUMIF(Q5:Q28,"0101",L5:L28) -> 3204285 | N29: TOTAL
A30: 2. 성동면 정지리 124-29 | Q30: 0102
A31: 터파기 및 되메우기 작업 | B31: 장비 + 인력 2명 | C31: 일 | D31: 3 | E31: =TRUNC(단가대비표!O17,0) -> 0 | F31: =TRUNC(E31*D31, 0) -> 0 | G31: =TRUNC(단가대비표!P17,0) -> 400000 | H31: =TRUNC(G31*D31, 0) -> 1200000 | I31: =TRUNC(단가대비표!V17,0) -> 700000 | J31: =TRUNC(I31*D31, 0) -> 2100000 | K31: =TRUNC(E31+G31+I31, 0) -> 1100000 | L31: =TRUNC(F31+H31+J31, 0) -> 3300000 | N31: 53CCB3AC2F5ADDA197036F953FC2C1 | Q31: 0102 | R31: F | S31: F | T31: T | AU31: 010253CCB3AC2F5ADDA197036F953FC2C1 | AV31: 35
A32: 주름관 해체 | B32: D 600 | C32: 식 | D32: 1 | E32: =TRUNC(일위대가목록!E10,0) -> 0 | F32: =TRUNC(E32*D32, 0) -> 0 | G32: =TRUNC(일위대가목록!F10,0) -> 339608 | H32: =TRUNC(G32*D32, 0) -> 339608 | I32: =TRUNC(일위대가목록!G10,0) -> 0 | J32: =TRUNC(I32*D32, 0) -> 0 | K32: =TRUNC(E32+G32+I32, 0) -> 339608 | L32: =TRUNC(F32+H32+J32, 0) -> 339608 | N32: 53CCB3A9225741A19D7520C494DACC | Q32: 0102 | R32: T | S32: F | T32: F | AU32: 010253CCB3A9225741A19D7520C494DACC | AV32: 51
A33: P.E.관 부설 및 접합(밴드) | B33: ∮600mm | C33: 개소 | D33: 5 | E33: =TRUNC(일위대가목록!E15,0) -> 0 | F33: =TRUNC(E33*D33, 0) -> 0 | G33: =TRUNC(일위대가목록!F15,0) -> 118036 | H33: =TRUNC(G33*D33, 0) -> 590180 | I33: =TRUNC(일위대가목록!G15,0) -> 3541 | J33: =TRUNC(I33*D33, 0) -> 17705 | K33: =TRUNC(E33+G33+I33, 0) -> 121577 | L33: =TRUNC(F33+H33+J33, 0) -> 607885 | N33: 53CCD3FD265355119949AA05C72A7A | Q33: 0102 | R33: T | S33: F | T33: F | AU33: 010253CCD3FD265355119949AA05C72A7A | AV33: 52
A34: 레디믹스트콘크리트 장비사용 타설 | B34: 무근구조물, 굴착기(무한궤도), 0.6㎥ | C34: M3 | D34: 3 | E34: =TRUNC(일위대가목록!E8,0) -> 2146 | F34: =TRUNC(E34*D34, 0) -> 6438 | G34: =TRUNC(일위대가목록!F8,0) -> 22750 | H34: =TRUNC(G34*D34, 0) -> 68250 | I34: =TRUNC(일위대가목록!G8,0) -> 3204 | J34: =TRUNC(I34*D34, 0) -> 9612 | K34: =TRUNC(E34+G34+I34, 0) -> 28100 | L34: =TRUNC(F34+H34+J34, 0) -> 84300 | N34: 53E1C3F0215688C197F3C6A0078E6E | Q34: 0102 | R34: T | S34: F | T34: F | AU34: 010253E1C3F0215688C197F3C6A0078E6E | AV34: 56
A35: 합판거푸집 설치 및 해체 | B35: 간단 6회, 수직고 7m까지 | C35: M2 | D35: 20 | E35: =TRUNC(일위대가목록!E7,0) -> 11618 | F35: =TRUNC(E35*D35, 0) -> 232360 | G35: =TRUNC(일위대가목록!F7,0) -> 34075 | H35: =TRUNC(G35*D35, 0) -> 681500 | I35: =TRUNC(일위대가목록!G7,0) -> 340 | J35: =TRUNC(I35*D35, 0) -> 6800 | K35: =TRUNC(E35+G35+I35, 0) -> 46033 | L35: =TRUNC(F35+H35+J35, 0) -> 920660 | N35: 53E1C3F724570461945D0C1396DA86 | Q35: 0102 | R35: T | S35: F | T35: F | AU35: 010253E1C3F724570461945D0C1396DA86 | AV35: 57
A36: 스틸그레이팅 설치 | B36: 1000X1000X50, 앵글포함 | C36: 개소 | D36: 2 | E36: =TRUNC(일위대가목록!E11,0) -> 247300 | F36: =TRUNC(E36*D36, 0) -> 494600 | G36: =TRUNC(일위대가목록!F11,0) -> 12365 | H36: =TRUNC(G36*D36, 0) -> 24730 | I36: =TRUNC(일위대가목록!G11,0) -> 0 | J36: =TRUNC(I36*D36, 0) -> 0 | K36: =TRUNC(E36+G36+I36, 0) -> 259665 | L36: =TRUNC(F36+H36+J36, 0) -> 519330 | N36: 53CCE3E3295008719806E8DDF79E1F | Q36: 0102 | R36: T | S36: F | T36: F | AU36: 010253CCE3E3295008719806E8DDF79E1F | AV36: 58
A37: PE 이중벽 하수관 -1종 | B37: 600mm | C37: M | D37: 33 | E37: =TRUNC(단가대비표!O15,0) -> 123340 | F37: =TRUNC(E37*D37, 0) -> 4070220 | G37: =TRUNC(단가대비표!P15,0) -> 0 | H37: =TRUNC(G37*D37, 0) -> 0 | I37: =TRUNC(단가대비표!V15,0) -> 0 | J37: =TRUNC(I37*D37, 0) -> 0 | K37: =TRUNC(E37+G37+I37, 0) -> 123340 | L37: =TRUNC(F37+H37+J37, 0) -> 4070220 | M37: 공장상차도 | N37: 54B3F3122E58D9019E5EF7ED637E0912B2116D | Q37: 0102 | R37: F | S37: F | T37: T | AU37: 010254B3F3122E58D9019E5EF7ED637E0912B2116D | AV37: 53
A38: PE 이중벽 이음관(PE밴드) | B38: ∮600mm | C38: EA | D38: 5 | E38: =TRUNC(단가대비표!O16,0) -> 80900 | F38: =TRUNC(E38*D38, 0) -> 404500 | G38: =TRUNC(단가대비표!P16,0) -> 0 | H38: =TRUNC(G38*D38, 0) -> 0 | I38: =TRUNC(단가대비표!V16,0) -> 0 | J38: =TRUNC(I38*D38, 0) -> 0 | K38: =TRUNC(E38+G38+I38, 0) -> 80900 | L38: =TRUNC(F38+H38+J38, 0) -> 404500 | M38: 공장상차도 | N38: 54B3F3122E58D9019E5EF7ED637E09135F2450 | Q38: 0102 | R38: F | S38: F | T38: T | AU38: 010254B3F3122E58D9019E5EF7ED637E09135F2450 | AV38: 54
A39: 레미콘 - 논산 | B39: 25-24-12 | C39: M3 | D39: 3 | E39: =TRUNC(단가대비표!O13,0) -> 94950 | F39: =TRUNC(E39*D39, 0) -> 284850 | G39: =TRUNC(단가대비표!P13,0) -> 0 | H39: =TRUNC(G39*D39, 0) -> 0 | I39: =TRUNC(단가대비표!V13,0) -> 0 | J39: =TRUNC(I39*D39, 0) -> 0 | K39: =TRUNC(E39+G39+I39, 0) -> 94950 | L39: =TRUNC(F39+H39+J39, 0) -> 284850 | N39: 54CC63A52C5372B19578CAD2B950FF5718D88F | Q39: 0102 | R39: F | S39: F | T39: T | AU39: 010254CC63A52C5372B19578CAD2B950FF5718D88F | AV39: 55
A40: 현장조사 및 맨홀터파기 | B40: 인력 | C40: 명 | D40: 3 | G40: 200000 | H40: =TRUNC(G40*D40, 0) -> 600000 | K40: =TRUNC(E40+G40+I40, 0) -> 200000 | L40: =TRUNC(F40+H40+J40, 0) -> 600000 | Q40: 0102
Q41: 0102
Q42: 0102
Q43: 0102
Q44: 0102
Q45: 0102
Q46: 0102
Q47: 0102
Q48: 0102
Q49: 0102
Q50: 0102
Q51: 0102
Q52: 0102
... Q54: 0102
A55: [ 합 계 ] | F55: =SUMIF(Q31:Q54,"0102",F31:F54) -> 5492968 | H55: =SUMIF(Q31:Q54,"0102",H31:H54) -> 3504268 | J55: =SUMIF(Q31:Q54,"0102",J31:J54) -> 2134117 | L55: =SUMIF(Q31:Q54,"0102",L31:L54) -> 11131353 | N55: TOTAL

Sheet 일위대가목록
B1: 일 위 대 가 목 록
B2: =공종별내역서!A1 -> [ 성동면 병촌리 등 2개소 유지관리공사 ]
A3: 코 드 | B3: 품 명 | C3: 규 격 | D3: 단위 | E3: 재 료 비 | F3: 노 무 비 | G3: 경 비 | H3: 합 계 | I3: 번 호 | J3: 비 고 | K3: 노임계수 | L3: 할증 | M3: 품셈개요 | N3: 장비일위
A4: 54F9A3022955B88198CF42DFC71EB92CEEC5EFDF | B4: 굴착기(무한궤도) | C4: 0.6㎥ | D4: HR | E4: =일위대가!F9 -> 16901 | F4: =일위대가!H9 -> 57077 | G4: =일위대가!J9 -> 22791 | H4: =E4+F4+G4 -> 96769 | I4: 호표 1 | K4: A | N4: T
A5: 53E1C3F724570461945C664F2820EB | B5: 합판거푸집 - 자재비 | C5: 6회 | D5: M2 | E5: =일위대가!F16 -> 11618 | F5: =일위대가!H16 -> 0 | G5: =일위대가!J16 -> 0 | H5: =E5+F5+G5 -> 11618 | I5: 호표 2
A6: 53E1C3F724570461945C664F2821F2 | B6: 합판거푸집 - 인력투입 | C6: 간단, 수직고 7m까지 | D6: M2 | E6: =일위대가!F22 -> 0 | F6: =일위대가!H22 -> 34075 | G6: =일위대가!J22 -> 340 | H6: =E6+F6+G6 -> 34415 | I6: 호표 3
A7: 53E1C3F724570461945D0C1396DA86 | B7: 합판거푸집 설치 및 해체 | C7: 간단 6회, 수직고 7m까지 | D7: M2 | E7: =일위대가!F27 -> 11618 | F7: =일위대가!H27 -> 34075 | G7: =일위대가!J27 -> 340 | H7: =E7+F7+G7 -> 46033 | I7: 호표 4
A8: 53E1C3F0215688C197F3C6A0078E6E | B8: 레디믹스트콘크리트 장비사용 타설 | C8: 무근구조물, 굴착기(무한궤도), 0.6㎥ | D8: M3 | E8: =일위대가!F34 -> 2146 | F8: =일위대가!H34 -> 22750 | G8: =일위대가!J34 -> 3204 | H8: =E8+F8+G8 -> 28100 | I8: 호표 5
A9: 53CCB3A9225741A19D7520C494DAC8 | B9: 케미컬앵커 | C9: 천공:￠18, 삽입L:130mm | D9: EA | E9: =일위대가!F41 -> 2310 | F9: =일위대가!H41 -> 18939 | G9: =일위대가!J41 -> 568 | H9: =E9+F9+G9 -> 21817 | I9: 호표 6
A10: 53CCB3A9225741A19D7520C494DACC | B10: 주름관 해체 | C10: D 600 | D10: 식 | E10: =일위대가!F45 -> 0 | F10: =일위대가!H45 -> 339608 | G10: =일위대가!J45 -> 0 | H10: =E10+F10+G10 -> 339608 | I10: 호표 7
A11: 53CCE3E3295008719806E8DDF79E1F | B11: 스틸그레이팅 설치 | C11: 1000X1000X50, 앵글포함 | D11: 개소 | E11: =일위대가!F51 -> 247300 | F11: =일위대가!H51 -> 12365 | G11: =일위대가!J51 -> 0 | H11: =E11+F11+G11 -> 259665 | I11: 호표 8
A12: 53CCF3CD2A528E11953B2B3B163437 | B12: 철근 현장가공 - 22-1/4삭제 | C12: 간단 | D12: TON | E12: =일위대가!F57 -> 0 | F12: =일위대가!H57 -> 342022 | G12: =일위대가!J57 -> 6840 | H12: =E12+F12+G12 -> 348862 | I12: 호표 9
A13: 53CCF3CD2A528E11953B2867B85B9F | B13: 철근 현장조립 - 22-1/4삭제 | C13: 간단 | D13: TON | E13: =일위대가!F62 -> 0 | F13: =일위대가!H62 -> 563500 | G13: =일위대가!J62 -> 0 | H13: =E13+F13+G13 -> 563500 | I13: 호표 10
A14: 53CCF3CD2A528E11953A030B4ACC24 | B14: 철근 현장가공 및 조립 | C14: 간단 | D14: TON | E14: =일위대가!F68 -> 8285 | F14: =일위대가!H68 -> 905522 | G14: =일위대가!J68 -> 6840 | H14: =E14+F14+G14 -> 920647 | I14: 호표 11
A15: 53CCD3FD265355119949AA05C72A7A | B15: P.E.관 부설 및 접합(밴드) | C15: ∮600mm | D15: 개소 | E15: =일위대가!F74 -> 0 | F15: =일위대가!H74 -> 118036 | G15: =일위대가!J74 -> 3541 | H15: =E15+F15+G15 -> 121577 | I15: 호표 12

Sheet 일위대가
A1: =공종별내역서!A1 -> [ 성동면 병촌리 등 2개소 유지관리공사 ]
A2: 품 명 | B2: 규 격 | C2: 단위 | D2: 수량 | E2: 재 료 비 | G2: 노 무 비 | I2: 경 비 | K2: 합 계 | M2: 비 고 | N2: 일위대가 | O2: 품목코드 | P2: 일위 | Q2: 단산 | R2: 자재 | S2: 손료적용 | T2: 손료저장 | U2: 적용율 | V2: JUK1 | W2: JUK2 | X2: JUK3 | Y2: JUK4 | Z2: JUK5 | AA2: JUK6 | AB2: JUK7 | AC2: JUK8 | AD2: JUK9 | AE2: JUK10 | AF2: JUK11 | AG2: JUK12 | AH2: JUK13 | AI2: JUK14 | AJ2: JUK15 | AK2: JUK16 | AL2: JUK17 | AM2: JUK18 | AN2: JUK19 | AO2: JUK20 | AP2: 할증적용 | AQ2: 할증저장 | AR2: 할증율 | AS2: HAL1 | AT2: HAL2 | AU2: HAL3 | AV2: 자재구분 | AW2: 일위대가+자재 | AX2: 장비일위 | AY2: 설정 | AZ2: 할증체크
E3: 단 가 | F3: 금 액 | G3: 단 가 | H3: 금 액 | I3: 단 가 | J3: 금 액 | K3: 단 가 | L3: 금 액
A4: 굴착기(무한궤도) 0.6㎥ HR ( 호표 1 ) | N4: 54F9A3022955B88198CF42DFC71EB92CEEC5EFDF
A5: 굴착기(무한궤도) | B5: 0.6㎥ | C5: 대 | D5: 0.2085 | E5: =단가대비표!O5 -> 0 | F5: =TRUNC(E5*D5,1) -> 0 | G5: =단가대비표!P5 -> 0 | H5: =TRUNC(G5*D5,1) -> 0 | I5: =단가대비표!V5 -> 109310 | J5: =TRUNC(I5*D5,1) -> 22791.1 | K5: =TRUNC(E5+G5+I5,1) -> 109310 | L5: =TRUNC(F5+H5+J5,1) -> 22791.1 | M5: 천원 | N5: 54F9A3022955B88198CF42DFC71EB92CEEC5EFDF | O5: 54F9A3022955B88198CF42DFC71EB92CEEC5EF | P5: F | Q5: F | R5: T | AW5: 54F9A3022955B88198CF42DFC71EB92CEEC5EFDF54F9A3022955B88198CF42DFC71EB92CEEC5EF
A6: 경유 | B6: 경유, 저유황 | C6: L | D6: 10.2 | E6: =단가대비표!O8 -> 1358.18 | F6: =TRUNC(E6*D6,1) -> 13853.4 | G6: =단가대비표!P8 -> 0 | H6: =TRUNC(G6*D6,1) -> 0 | I6: =단가대비표!V8 -> 0 | J6: =TRUNC(I6*D6,1) -> 0 | K6: =TRUNC(E6+G6+I6,1) -> 1358.1 | L6: =TRUNC(F6+H6+J6,1) -> 13853.4 | N6: 54F9A3022955B88198CF42DFC71EB92CEEC5EFDF | O6: 54EF13EA2E5752319723D96718B66AFA1B9622 | P6: F | Q6: F | R6: T | V6: 1 | AW6: 54F9A3022955B88198CF42DFC71EB92CEEC5EFDF54EF13EA2E5752319723D96718B66AFA1B9622
A7: 잡재료 | B7: 주연료비의 22% | C7: 식 | D7: 1 | E7: =TRUNC(SUMIF(V5:V8, RIGHTB(O7, 1), F5:F8)*U7, 2) -> 3047.74 | F7: =TRUNC(E7*D7,1) -> 3047.7 | G7: 0 | H7: =TRUNC(G7*D7,1) -> 0 | I7: 0 | J7: =TRUNC(I7*D7,1) -> 0 | K7: =TRUNC(E7+G7+I7,1) -> 3047.7 | L7: =TRUNC(F7+H7+J7,1) -> 3047.7 | N7: 54F9A3022955B88198CF42DFC71EB92CEEC5EFDF | O7: 52F823132053E4319E79477E56D0001 | P7: F | Q7: F | R7: F | S7: 0 | T7: 0 | U7: 0.22 | AW7: 54F9A3022955B88198CF42DFC71EB92CEEC5EFDF52F823132053E4319E79477E56D0001
A8: 건설기계운전사 | B8: 일반공사 직종 | C8: 인 | D8: 1 | E8: =TRUNC(단가대비표!O26*1/8*16/12*25/20, 1) -> 0 | F8: =TRUNC(E8*D8,1) -> 0 | G8: =TRUNC(단가대비표!P26*1/8*16/12*25/20, 1) -> 57077.2 | H8: =TRUNC(G8*D8,1) -> 57077.2 | I8: =TRUNC(단가대비표!V26*1/8*16/12*25/20, 1) -> 0 | J8: =TRUNC(I8*D8,1) -> 0 | K8: =TRUNC(E8+G8+I8,1) -> 57077.2 | L8: =TRUNC(F8+H8+J8,1) -> 57077.2 | N8: 54F9A3022955B88198CF42DFC71EB92CEEC5EFDF | O8: 5335D3C12C5C9BD1986B9BEEC72B4D2A02536F | P8: F | Q8: F | R8: T | AW8: 54F9A3022955B88198CF42DFC71EB92CEEC5EFDF5335D3C12C5C9BD1986B9BEEC72B4D2A02536F | AX8: T
A9: [ 합 계 ] | F9: =TRUNC(SUMIF(N5:N8, N4, F5:F8),0) -> 16901 | H9: =TRUNC(SUMIF(N5:N8, N4, H5:H8),0) -> 57077 | J9: =TRUNC(SUMIF(N5:N8, N4, J5:J8),0) -> 22791 | L9: =F9+H9+J9 -> 96769 | N9: TOTAL | O9: TOTAL
A11: 합판거푸집 - 자재비 6회 M2 ( 호표 2 ) | N11: 53E1C3F724570461945C664F2820EB
A12: 내수합판 | B12: 내수합판, 1급, 12*1220*2440mm | C12: M2 | D12: 1.03 | E12: =단가대비표!O7 -> 10931 | F12: =TRUNC(E12*D12,1) -> 11258.9 | G12: =단가대비표!P7 -> 0 | H12: =TRUNC(G12*D12,1) -> 0 | I12: =단가대비표!V7 -> 0 | J12: =TRUNC(I12*D12,1) -> 0 | K12: =TRUNC(E12+G12+I12,1) -> 10931 | L12: =TRUNC(F12+H12+J12,1) -> 11258.9 | M12: 금액제외 | O12: 54EF53472C5422B1974D9F4D928D87913B164F | P12: F | Q12: F | R12: T | V12: 1 | AW12: 53E1C3F724570461945C664F2820EB54EF53472C5422B1974D9F4D928D87913B164F | AY12: -
A13: 각재 | B13: 각재, 외송 | C13: M3 | D13: 0.038 | E13: =단가대비표!O12 -> 546058 | F13: =TRUNC(E13*D13,1) -> 20750.2 | G13: =단가대비표!P12 -> 0 | H13: =TRUNC(G13*D13,1) -> 0 | I13: =단가대비표!V12 -> 0 | J13: =TRUNC(I13*D13,1) -> 0 | K13: =TRUNC(E13+G13+I13,1) -> 546058 | L13: =TRUNC(F13+H13+J13,1) -> 20750.2 | M13: 금액제외 | O13: 54CC63A52C526F319F9865360D118815F015D0 | P13: F | Q13: F | R13: T | V13: 1 | AW13: 53E1C3F724570461945C664F2820EB54CC63A52C526F319F9865360D118815F015D0 | AY13: -
A14: 적용비율 | B14: 주재료비의 32.7% | C14: 식 | D14: 1 | E14: =TRUNC(SUMIF(V12:V15, RIGHTB(O14, 1), F12:F15)*U14, 2) -> 10466.97 | F14: =TRUNC(E14*D14,1) -> 10466.9 | G14: 0 | H14: =TRUNC(G14*D14,1) -> 0 | I14: 0 | J14: =TRUNC(I14*D14,1) -> 0 | K14: =TRUNC(E14+G14+I14,1) -> 10466.9 | L14: =TRUNC(F14+H14+J14,1) -> 10466.9 | N14: 53E1C3F724570461945C664F2820EB | O14: 52F823132053E4319E79477E56D0001 | P14: F | Q14: F | R14: F | S14: 0 | T14: 0 | U14: 0.327 | W14: 2 | AW14: 53E1C3F724570461945C664F2820EB52F823132053E4319E79477E56D4005
A15: 소모자재(박리재 등) | B15: 주재료비의 11% | C15: 식 | D15: 1 | E15: =TRUNC(SUMIF(W12:W15, RIGHTB(O15, 1), F12:F15)*U15, 2) -> 1151.35 | F15: =TRUNC(E15*D15,1) -> 1151.3 | G15: 0 | H15: =TRUNC(G15*D15,1) -> 0 | I15: 0 | J15: =TRUNC(I15*D15,1) -> 0 | K15: =TRUNC(E15+G15+I15,1) -> 1151.3 | L15: =TRUNC(F15+H15+J15,1) -> 1151.3 | N15: 53E1C3F724570461945C664F2820EB | O15: 52F823132053E4319E79477E56D3002 | P15: F | Q15: F | R15: F | S15: 0 | T15: 0 | U15: 0.11 | AW15: 53E1C3F724570461945C664F2820EB52F823132053E4319E79477E56D2003
A16: [ 합 계 ] | F16: =TRUNC(SUMIF(N12:N15, N11, F12:F15),0) -> 11618 | H16: =TRUNC(SUMIF(N12:N15, N11, H12:H15),0) -> 0 | J16: =TRUNC(SUMIF(N12:N15, N11, J12:J15),0) -> 0 | L16: =F16+H16+J16 -> 11618 | N16: TOTAL | O16: TOTAL
A18: 합판거푸집 - 인력투입 간단, 수직고 7m까지 M2 ( 호표 3 ) | N18: 53E1C3F724570461945C664F2821F2
A19: 형틀목공 | B19: 일반공사 직종 | C19: 인 | D19: 0.1 | E19: =단가대비표!O22 -> 0 | F19: =TRUNC(E19*D19,1) -> 0 | G19: =단가대비표!P22 -> 272831 | H19: =TRUNC(G19*D19,1) -> 27283.1 | I19: =단가대비표!V22 -> 0 | J19: =TRUNC(I19*D19,1) -> 0 | K19: =TRUNC(E19+G19+I19,1) -> 272831 | L19: =TRUNC(F19+H19+J19,1) -> 27283.1 | N19: 53E1C3F724570461945C664F2821F2 | O19: 5335D3C12C5C9BD1986B9BEEC72B4D2A0257C5 | P19: F | Q19: F | R19: T | V19: 1 | AW19: 53E1C3F724570461945C664F2821F25335D3C12C5C9BD1986B9BEEC72B4D2A0257C5
A20: 보통인부 | B20: 일반공사 직종 | C20: 인 | D20: 0.04 | E20: =단가대비표!O20 -> 0 | F20: =TRUNC(E20*D20,1) -> 0 | G20: =단가대비표!P20 -> 169804 | H20: =TRUNC(G20*D20,1) -> 6792.1 | I20: =단가대비표!V20 -> 0 | J20: =TRUNC(I20*D20,1) -> 0 | K20: =TRUNC(E20+G20+I20,1) -> 169804 | L20: =TRUNC(F20+H20+J20,1) -> 6792.1 | N20: 53E1C3F724570461945C664F2821F2 | O20: 5335D3C12C5C9BD1986B9BEEC72B4D2A0257C0 | P20: F | Q20: F | R20: T | V20: 1 | AW20: 53E1C3F724570461945C664F2821F25335D3C12C5C9BD1986B9BEEC72B4D2A0257C0
A21: 공구손료 | B21: 인력품의 1% | C21: 식 | D21: 1 | E21: 0 | F21: =TRUNC(E21*D21,1) -> 0 | G21: 0 | H21: =TRUNC(G21*D21,1) -> 0 | I21: =TRUNC(SUMIF(V19:V21, RIGHTB(O21, 1), H19:H21)*U21, 2) -> 340.75 | J21: =TRUNC(I21*D21,1) -> 340.7 | K21: =TRUNC(E21+G21+I21,1) -> 340.7 | L21: =TRUNC(F21+H21+J21,1) -> 340.7 | N21: 53E1C3F724570461945C664F2821F2 | O21: 52F823132053E4319E79477E56D0001 | P21: F | Q21: F | R21: F | S21: 1 | T21: 2 | U21: 0.01 | AW21: 53E1C3F724570461945C664F2821F252F823132053E4319E79477E56D0001
A22: [ 합 계 ] | F22: =TRUNC(SUMIF(N19:N21, N18, F19:F21),0) -> 0 | H22: =TRUNC(SUMIF(N19:N21, N18, H19:H21),0) -> 34075 | J22: =TRUNC(SUMIF(N19:N21, N18, J19:J21),0) -> 340 | L22: =F22+H22+J22 -> 34415 | N22: TOTAL | O22: TOTAL
A24: 합판거푸집 설치 및 해체 간단 6회, 수직고 7m까지 M2 ( 호표 4 ) | N24: 53E1C3F724570461945D0C1396DA86
A25: 합판거푸집 - 자재비 | B25: 6회 | C25: M2 | D25: 1 | E25: =일위대가목록!E5 -> 11618 | F25: =TRUNC(E25*D25,1) -> 11618 | G25: =일위대가목록!F5 -> 0 | H25: =TRUNC(G25*D25,1) -> 0 | I25: =일위대가목록!G5 -> 0 | J25: =TRUNC(I25*D25,1) -> 0 | K25: =TRUNC(E25+G25+I25,1) -> 11618 | L25: =TRUNC(F25+H25+J25,1) -> 11618 | N25: 53E1C3F724570461945D0C1396DA86 | O25: 53E1C3F724570461945C664F2820EB | P25: T | Q25: F | R25: F | AW25: 53E1C3F724570461945D0C1396DA8653E1C3F724570461945C664F2820EB
A26: 합판거푸집 - 인력투입 | B26: 간단, 수직고 7m까지 | C26: M2 | D26: 1 | E26: =일위대가목록!E6 -> 0 | F26: =TRUNC(E26*D26,1) -> 0 | G26: =일위대가목록!F6 -> 34075 | H26: =TRUNC(G26*D26,1) -> 34075 | I26: =일위대가목록!G6 -> 340 | J26: =TRUNC(I26*D26,1) -> 340 | K26: =TRUNC(E26+G26+I26,1) -> 34415 | L26: =TRUNC(F26+H26+J26,1) -> 34415 | N26: 53E1C3F724570461945D0C1396DA86 | O26: 53E1C3F724570461945C664F2821F2 | P26: T | Q26: F | R26: F | AW26: 53E1C3F724570461945D0C1396DA8653E1C3F724570461945C664F2821F2
A27: [ 합 계 ] | F27: =TRUNC(SUMIF(N25:N26, N24, F25:F26),0) -> 11618 | H27: =TRUNC(SUMIF(N25:N26, N24, H25:H26),0) -> 34075 | J27: =TRUNC(SUMIF(N25:N26, N24, J25:J26),0) -> 340 | L27: =F27+H27+J27 -> 46033 | N27: TOTAL | O27: TOTAL
A29: 레디믹스트콘크리트 장비사용 타설 무근구조물, 굴착기(무한궤도), 0.6㎥ M3 ( 호표 5 ) | N29: 53E1C3F0215688C197F3C6A0078E6E
A30: 콘크리트공 | B30: 일반공사 직종 | C30: 인 | D30: 0.048 | E30: =단가대비표!O24 -> 0 | F30: =TRUNC(E30*D30,1) -> 0 | G30: =단가대비표!P24 -> 266361 | H30: =TRUNC(G30*D30,1) -> 12785.3 | I30: =단가대비표!V24 -> 0 | J30: =TRUNC(I30*D30,1) -> 0 | K30: =TRUNC(E30+G30+I30,1) -> 266361 | L30: =TRUNC(F30+H30+J30,1) -> 12785.3 | N30: 53E1C3F0215688C197F3C6A0078E6E | O30: 5335D3C12C5C9BD1986B9BEEC72B4D2A025638 | P30: F | Q30: F | R30: T | V30: 1 | AW30: 53E1C3F0215688C197F3C6A0078E6E5335D3C12C5C9BD1986B9BEEC72B4D2A025638
A31: 보통인부 | B31: 일반공사 직종 | C31: 인 | D31: 0.016 | E31: =단가대비표!O20 -> 0 | F31: =TRUNC(E31*D31,1) -> 0 | G31: =단가대비표!P20 -> 169804 | H31: =TRUNC(G31*D31,1) -> 2716.8 | I31: =단가대비표!V20 -> 0 | J31: =TRUNC(I31*D31,1) -> 0 | K31: =TRUNC(E31+G31+I31,1) -> 169804 | L31: =TRUNC(F31+H31+J31,1) -> 2716.8 | N31: 53E1C3F0215688C197F3C6A0078E6E | O31: 5335D3C12C5C9BD1986B9BEEC72B4D2A0257C0 | P31: F | Q31: F | R31: T | V31: 1 | AW31: 53E1C3F0215688C197F3C6A0078E6E5335D3C12C5C9BD1986B9BEEC72B4D2A0257C0
A32: 공구손료 | B32: 인력품의 2% | C32: 식 | D32: 1 | E32: 0 | F32: =TRUNC(E32*D32,1) -> 0 | G32: 0 | H32: =TRUNC(G32*D32,1) -> 0 | I32: =TRUNC(SUMIF(V30:V33, RIGHTB(O32, 1), H30:H33)*U32, 2) -> 310.04 | J32: =TRUNC(I32*D32,1) -> 310 | K32: =TRUNC(E32+G32+I32,1) -> 310 | L32: =TRUNC(F32+H32+J32,1) -> 310 | N32: 53E1C3F0215688C197F3C6A0078E6E | O32: 52F823132053E4319E79477E56D0001 | P32: F | Q32: F | R32: F | S32: 1 | T32: 2 | U32: 0.02 | AW32: 53E1C3F0215688C197F3C6A0078E6E52F823132053E4319E79477E56D0001
A33: 굴착기(무한궤도) | B33: 0.6㎥ | C33: HR | D33: 0.127 | E33: =일위대가목록!E4 -> 16901 | F33: =TRUNC(E33*D33,1) -> 2146.4 | G33: =일위대가목록!F4 -> 57077 | H33: =TRUNC(G33*D33,1) -> 7248.7 | I33: =일위대가목록!G4 -> 22791 | J33: =TRUNC(I33*D33,1) -> 2894.4 | K33: =TRUNC(E33+G33+I33,1) -> 96769 | L33: =TRUNC(F33+H33+J33,1) -> 12289.5 | N33: 53E1C3F0215688C197F3C6A0078E6E | O33: 54F9A3022955B88198CF42DFC71EB92CEEC5EFDF | P33: T | Q33: F | R33: F | AW33: 53E1C3F0215688C197F3C6A0078E6E54F9A3022955B88198CF42DFC71EB92CEEC5EFDF
A34: [ 합 계 ] | F34: =TRUNC(SUMIF(N30:N33, N29, F30:F33),0) -> 2146 | H34: =TRUNC(SUMIF(N30:N33, N29, H30:H33),0) -> 22750 | J34: =TRUNC(SUMIF(N30:N33, N29, J30:J33),0) -> 3204 | L34: =F34+H34+J34 -> 28100 | N34: TOTAL | O34: TOTAL
A36: 케미컬앵커 천공:￠18, 삽입L:130mm EA ( 호표 6 ) | N36: 53CCB3A9225741A19D7520C494DAC8
A37: 특별인부 | B37: 일반공사 직종 | C37: 인 | D37: 0.0681 | E37: =단가대비표!O21 -> 0 | F37: =TRUNC(E37*D37,1) -> 0 | G37: =단가대비표!P21 -> 221506 | H37: =TRUNC(G37*D37,1) -> 15084.5 | I37: =단가대비표!V21 -> 0 | J37: =TRUNC(I37*D37,1) -> 0 | K37: =TRUNC(E37+G37+I37,1) -> 221506 | L37: =TRUNC(F37+H37+J37,1) -> 15084.5 | N37: 53CCB3A9225741A19D7520C494DAC8 | O37: 5335D3C12C5C9BD1986B9BEEC72B4D2A0257C1 | P37: F | Q37: F | R37: T | V37: 1 | AW37: 53CCB3A9225741A19D7520C494DAC85335D3C12C5C9BD1986B9BEEC72B4D2A0257C1
A38: 보통인부 | B38: 일반공사 직종 | C38: 인 | D38: 0.0227 | E38: =단가대비표!O20 -> 0 | F38: =TRUNC(E38*D38,1) -> 0 | G38: =단가대비표!P20 -> 169804 | H38: =TRUNC(G38*D38,1) -> 3854.5 | I38: =단가대비표!V20 -> 0 | J38: =TRUNC(I38*D38,1) -> 0 | K38: =TRUNC(E38+G38+I38,1) -> 169804 | L38: =TRUNC(F38+H38+J38,1) -> 3854.5 | N38: 53CCB3A9225741A19D7520C494DAC8 | O38: 5335D3C12C5C9BD1986B9BEEC72B4D2A0257C0 | P38: F | Q38: F | R38: T | V38: 1 | AW38: 53CCB3A9225741A19D7520C494DAC85335D3C12C5C9BD1986B9BEEC72B4D2A0257C0
A39: 공구손료 | B39: 인력품의 3% | C39: 식 | D39: 1 | E39: 0 | F39: =TRUNC(E39*D39,1) -> 0 | G39: 0 | H39: =TRUNC(G39*D39,1) -> 0 | I39: =TRUNC(SUMIF(V37:V40, RIGHTB(O39, 1), H37:H40)*U39, 2) -> 568.17 | J39: =TRUNC(I39*D39,1) -> 568.1 | K39: =TRUNC(E39+G39+I39,1) -> 568.1 | L39: =TRUNC(F39+H39+J39,1) -> 568.1 | N39: 53CCB3A9225741A19D7520C494DAC8 | O39: 52F823132053E4319E79477E56D0001 | P39: F | Q39: F | R39: F | S39: 1 | T39: 2 | U39: 0.03 | AW39: 53CCB3A9225741A19D7520C494DAC852F823132053E4319E79477E56D0001
A40: 케미컬앵커(내진주입식몰탈) | B40: HIT-HY 200R,330ml 믹서1EA | C40: ml | D40: 21 | E40: =단가대비표!O6 -> 110 | F40: =TRUNC(E40*D40,1) -> 2310 | G40: =단가대비표!P6 -> 0 | H40: =TRUNC(G40*D40,1) -> 0 | I40: =단가대비표!V6 -> 0 | J40: =TRUNC(I40*D40,1) -> 0 | K40: =TRUNC(E40+G40+I40,1) -> 110 | L40: =TRUNC(F40+H40+J40,1) -> 2310 | M40: 대리점상차도 | N40: 53CCB3A9225741A19D7520C494DAC8 | O40: 54EF53472C56EC219BF7579529D20520C75B9B | P40: F | Q40: F | R40: T | AW40: 53CCB3A9225741A19D7520C494DAC854EF53472C56EC219BF7579529D20520C75B9B
A41: [ 합 계 ] | F41: =TRUNC(SUMIF(N37:N40, N36, F37:F40),0) -> 2310 | H41: =TRUNC(SUMIF(N37:N40, N36, H37:H40),0) -> 18939 | J41: =TRUNC(SUMIF(N37:N40, N36, J37:J40),0) -> 568 | L41: =F41+H41+J41 -> 21817 | N41: TOTAL | O41: TOTAL
A43: 주름관 해체 D 600 식 ( 호표 7 ) | N43: 53CCB3A9225741A19D7520C494DACC
A44: 보통인부 | B44: 일반공사 직종 | C44: 인 | D44: 2 | E44: =단가대비표!O20 -> 0 | F44: =TRUNC(E44*D44,1) -> 0 | G44: =단가대비표!P20 -> 169804 | H44: =TRUNC(G44*D44,1) -> 339608 | I44: =단가대비표!V20 -> 0 | J44: =TRUNC(I44*D44,1) -> 0 | K44: =TRUNC(E44+G44+I44,1) -> 169804 | L44: =TRUNC(F44+H44+J44,1) -> 339608 | N44: 53CCB3A9225741A19D7520C494DACC | O44: 5335D3C12C5C9BD1986B9BEEC72B4D2A0257C0 | P44: F | Q44: F | R44: T | AW44: 53CCB3A9225741A19D7520C494DACC5335D3C12C5C9BD1986B9BEEC72B4D2A0257C0
A45: [ 합 계 ] | F45: =TRUNC(SUMIF(N44:N44, N43, F44:F44),0) -> 0 | H45: =TRUNC(SUMIF(N44:N44, N43, H44:H44),0) -> 339608 | J45: =TRUNC(SUMIF(N44:N44, N43, J44:J44),0) -> 0 | L45: =F45+H45+J45 -> 339608 | N45: TOTAL | O45: TOTAL
A47: 스틸그레이팅 설치 1000X1000X50, 앵글포함 개소 ( 호표 8 ) | N47: 53CCE3E3295008719806E8DDF79E1F
A48: 스틸그레이팅 | B48: I-50*7*4, 1000*1000mm | C48: 개 | D48: 1 | E48: =단가대비표!O10 -> 201600 | F48: =TRUNC(E48*D48,1) -> 201600 | G48: =단가대비표!P10 -> 0 | H48: =TRUNC(G48*D48,1) -> 0 | I48: =단가대비표!V10 -> 0 | J48: =TRUNC(I48*D48,1) -> 0 | K48: =TRUNC(E48+G48+I48,1) -> 201600 | L48: =TRUNC(F48+H48+J48,1) -> 201600 | M48: 공장상차도 | N48: 53CCE3E3295008719806E8DDF79E1F | O48: 54CC63A52C526F319B36CF3BA4E976C9F7EA1C | P48: F | Q48: F | R48: T | V48: 1 | AW48: 53CCE3E3295008719806E8DDF79E1F54CC63A52C526F319B36CF3BA4E976C9F7EA1C
A49: 사각앵글 | B49: 50X50X4 1000X1000X50 | C49: 개 | D49: 1 | E49: =단가대비표!O11 -> 45700 | F49: =TRUNC(E49*D49,1) -> 45700 | G49: =단가대비표!P11 -> 0 | H49: =TRUNC(G49*D49,1) -> 0 | I49: =단가대비표!V11 -> 0 | J49: =TRUNC(I49*D49,1) -> 0 | K49: =TRUNC(E49+G49+I49,1) -> 45700 | L49: =TRUNC(F49+H49+J49,1) -> 45700 | M49: 공장상차도 | N49: 53CCE3E3295008719806E8DDF79E1F | O49: 54CC63A52C526F319B36CF3BA4E976C9F7EA1D | P49: F | Q49: F | R49: T | V49: 1 | AW49: 53CCE3E3295008719806E8DDF79E1F54CC63A52C526F319B36CF3BA4E976C9F7EA1D
A50: 설치비 | B50: 주재료비의 5% | C50: 식 | D50: 1 | E50: 0 | F50: =TRUNC(E50*D50,1) -> 0 | G50: =TRUNC(SUMIF(V48:V50, RIGHTB(O50, 1), F48:F50)*U50, 2) -> 12365 | H50: =TRUNC(G50*D50,1) -> 12365 | I50: 0 | J50: =TRUNC(I50*D50,1) -> 0 | K50: =TRUNC(E50+G50+I50,1) -> 12365 | L50: =TRUNC(F50+H50+J50,1) -> 12365 | N50: 53CCE3E3295008719806E8DDF79E1F | O50: 52F823132053E4319E79477E56D0001 | P50: F | Q50: F | R50: F | S50: 0 | T50: 1 | U50: 0.05 | AW50: 53CCE3E3295008719806E8DDF79E1F52F823132053E4319E79477E56D0001
A51: [ 합 계 ] | F51: =TRUNC(SUMIF(N48:N50, N47, F48:F50),0) -> 247300 | H51: =TRUNC(SUMIF(N48:N50, N47, H48:H50),0) -> 12365 | J51: =TRUNC(SUMIF(N48:N50, N47, J48:J50),0) -> 0 | L51: =F51+H51+J51 -> 259665 | N51: TOTAL | O51: TOTAL
A53: 철근 현장가공 - 22-1/4삭제 간단 TON ( 호표 9 ) | N53: 53CCF3CD2A528E11953B2B3B163437
A54: 철근공 | B54: 일반공사 직종 | C54: 인 | D54: 1.07 | E54: =단가대비표!O23 -> 0 | F54: =TRUNC(E54*D54,1) -> 0 | G54: =단가대비표!P23 -> 264104 | H54: =TRUNC(G54*D54,1) -> 282591.2 | I54: =단가대비표!V23 -> 0 | J54: =TRUNC(I54*D54,1) -> 0 | K54: =TRUNC(E54+G54+I54,1) -> 264104 | L54: =TRUNC(F54+H54+J54,1) -> 282591.2 | N54: 53CCF3CD2A528E11953B2B3B163437 | O54: 5335D3C12C5C9BD1986B9BEEC72B4D2A0257CA | P54: F | Q54: F | R54: T | V54: 1 | AW54: 53CCF3CD2A528E11953B2B3B1634375335D3C12C5C9BD1986B9BEEC72B4D2A0257CA
A55: 보통인부 | B55: 일반공사 직종 | C55: 인 | D55: 0.35 | E55: =단가대비표!O20 -> 0 | F55: =TRUNC(E55*D55,1) -> 0 | G55: =단가대비표!P20 -> 169804 | H55: =TRUNC(G55*D55,1) -> 59431.4 | I55: =단가대비표!V20 -> 0 | J55: =TRUNC(I55*D55,1) -> 0 | K55: =TRUNC(E55+G55+I55,1) -> 169804 | L55: =TRUNC(F55+H55+J55,1) -> 59431.4 | N55: 53CCF3CD2A528E11953B2B3B163437 | O55: 5335D3C12C5C9BD1986B9BEEC72B4D2A0257C0 | P55: F | Q55: F | R55: T | V55: 1 | AW55: 53CCF3CD2A528E11953B2B3B1634375335D3C12C5C9BD1986B9BEEC72B4D2A0257C0
A56: 공구손료 | B56: 인력품의 2% | C56: 식 | D56: 1 | E56: 0 | F56: =TRUNC(E56*D56,1) -> 0 | G56: 0 | H56: =TRUNC(G56*D56,1) -> 0 | I56: =TRUNC(SUMIF(V54:V56, RIGHTB(O56, 1), H54:H56)*U56, 2) -> 6840.45 | J56: =TRUNC(I56*D56,1) -> 6840.4 | K56: =TRUNC(E56+G56+I56,1) -> 6840.4 | L56: =TRUNC(F56+H56+J56,1) -> 6840.4 | N56: 53CCF3CD2A528E11953B2B3B163437 | O56: 52F823132053E4319E79477E56D0001 | P56: F | Q56: F | R56: F | S56: 1 | T56: 2 | U56: 0.02 | AW56: 53CCF3CD2A528E11953B2B3B16343752F823132053E4319E79477E56D3002
A57: [ 합 계 ] | F57: =TRUNC(SUMIF(N54:N56, N53, F54:F56),0) -> 0 | H57: =TRUNC(SUMIF(N54:N56, N53, H54:H56),0) -> 342022 | J57: =TRUNC(SUMIF(N54:N56, N53, J54:J56),0) -> 6840 | L57: =F57+H57+J57 -> 348862 | N57: TOTAL | O57: TOTAL
A59: 철근 현장조립 - 22-1/4삭제 간단 TON ( 호표 10 ) | N59: 53CCF3CD2A528E11953B2867B85B9F
A60: 철근공 | B60: 일반공사 직종 | C60: 인 | D60: 1.69 | E60: =단가대비표!O23 -> 0 | F60: =TRUNC(E60*D60,1) -> 0 | G60: =단가대비표!P23 -> 264104 | H60: =TRUNC(G60*D60,1) -> 446335.7 | I60: =단가대비표!V23 -> 0 | J60: =TRUNC(I60*D60,1) -> 0 | K60: =TRUNC(E60+G60+I60,1) -> 264104 | L60: =TRUNC(F60+H60+J60,1) -> 446335.7 | N60: 53CCF3CD2A528E11953B2867B85B9F | O60: 5335D3C12C5C9BD1986B9BEEC72B4D2A0257CA | P60: F | Q60: F | R60: T | AW60: 53CCF3CD2A528E11953B2867B85B9F5335D3C12C5C9BD1986B9BEEC72B4D2A0257CA
A61: 보통인부 | B61: 일반공사 직종 | C61: 인 | D61: 0.69 | E61: =단가대비표!O20 -> 0 | F61: =TRUNC(E61*D61,1) -> 0 | G61: =단가대비표!P20 -> 169804 | H61: =TRUNC(G61*D61,1) -> 117164.7 | I61: =단가대비표!V20 -> 0 | J61: =TRUNC(I61*D61,1) -> 0 | K61: =TRUNC(E61+G61+I61,1) -> 169804 | L61: =TRUNC(F61+H61+J61,1) -> 117164.7 | N61: 53CCF3CD2A528E11953B2867B85B9F | O61: 5335D3C12C5C9BD1986B9BEEC72B4D2A0257C0 | P61: F | Q61: F | R61: T | AW61: 53CCF3CD2A528E11953B2867B85B9F5335D3C12C5C9BD1986B9BEEC72B4D2A0257C0
A62: [ 합 계 ] | F62: =TRUNC(SUMIF(N60:N61, N59, F60:F61),0) -> 0 | H62: =TRUNC(SUMIF(N60:N61, N59, H60:H61),0) -> 563500 | J62: =TRUNC(SUMIF(N60:N61, N59, J60:J61),0) -> 0 | L62: =F62+H62+J62 -> 563500 | N62: TOTAL | O62: TOTAL
A64: 철근 현장가공 및 조립 간단 TON ( 호표 11 ) | N64: 53CCF3CD2A528E11953A030B4ACC24
A65: 철선 | B65: 철선, 어닐링, ∮0.9mm | C65: kg | D65: 5 | E65: =단가대비표!O14 -> 1657 | F65: =TRUNC(E65*D65,1) -> 8285 | G65: =단가대비표!P14 -> 0 | H65: =TRUNC(G65*D65,1) -> 0 | I65: =단가대비표!V14 -> 0 | J65: =TRUNC(I65*D65,1) -> 0 | K65: =TRUNC(E65+G65+I65,1) -> 1657 | L65: =TRUNC(F65+H65+J65,1) -> 8285 | N65: 53CCF3CD2A528E11953A030B4ACC24 | O65: 54CC734A295B2C719FA44E6A1A284F55267D7A | P65: F | Q65: F | R65: T | AW65: 53CCF3CD2A528E11953A030B4ACC2454CC734A295B2C719FA44E6A1A284F55267D7A
A66: 철근 현장가공 - 22-1/4삭제 | B66: 간단 | C66: TON | D66: 1 | E66: =일위대가목록!E12 -> 0 | F66: =TRUNC(E66*D66,1) -> 0 | G66: =일위대가목록!F12 -> 342022 | H66: =TRUNC(G66*D66,1) -> 342022 | I66: =일위대가목록!G12 -> 6840 | J66: =TRUNC(I66*D66,1) -> 6840 | K66: =TRUNC(E66+G66+I66,1) -> 348862 | L66: =TRUNC(F66+H66+J66,1) -> 348862 | N66: 53CCF3CD2A528E11953A030B4ACC24 | O66: 53CCF3CD2A528E11953B2B3B163437 | P66: T | Q66: F | R66: F | AW66: 53CCF3CD2A528E11953A030B4ACC2453CCF3CD2A528E11953B2B3B163437
A67: 철근 현장조립 - 22-1/4삭제 | B67: 간단 | C67: TON | D67: 1 | E67: =일위대가목록!E13 -> 0 | F67: =TRUNC(E67*D67,1) -> 0 | G67: =일위대가목록!F13 -> 563500 | H67: =TRUNC(G67*D67,1) -> 563500 | I67: =일위대가목록!G13 -> 0 | J67: =TRUNC(I67*D67,1) -> 0 | K67: =TRUNC(E67+G67+I67,1) -> 563500 | L67: =TRUNC(F67+H67+J67,1) -> 563500 | N67: 53CCF3CD2A528E11953A030B4ACC24 | O67: 53CCF3CD2A528E11953B2867B85B9F | P67: T | Q67: F | R67: F | AW67: 53CCF3CD2A528E11953A030B4ACC2453CCF3CD2A528E11953B2867B85B9F
A68: [ 합 계 ] | F68: =TRUNC(SUMIF(N65:N67, N64, F65:F67),0) -> 8285 | H68: =TRUNC(SUMIF(N65:N67, N64, H65:H67),0) -> 905522 | J68: =TRUNC(SUMIF(N65:N67, N64, J65:J67),0) -> 6840 | L68: =F68+H68+J68 -> 920647 | N68: TOTAL | O68: TOTAL
A70: P.E.관 부설 및 접합(밴드) ∮600mm 개소 ( 호표 12 ) | N70: 53CCD3FD265355119949AA05C72A7A
A71: 보통인부 | B71: 일반공사 직종 | C71: 인 | D71: 0.4 | E71: =단가대비표!O20 -> 0 | F71: =TRUNC(E71*D71,1) -> 0 | G71: =단가대비표!P20 -> 169804 | H71: =TRUNC(G71*D71,1) -> 67921.6 | I71: =단가대비표!V20 -> 0 | J71: =TRUNC(I71*D71,1) -> 0 | K71: =TRUNC(E71+G71+I71,1) -> 169804 | L71: =TRUNC(F71+H71+J71,1) -> 67921.6 | N71: 53CCD3FD265355119949AA05C72A7A | O71: 5335D3C12C5C9BD1986B9BEEC72B4D2A0257C0 | P71: F | Q71: F | R71: T | V71: 1 | AW71: 53CCD3FD265355119949AA05C72A7A5335D3C12C5C9BD1986B9BEEC72B4D2A0257C0
A72: 배관공(수도) | B72: 일반공사 직종 | C72: 인 | D72: 0.2 | E72: =단가대비표!O25 -> 0 | F72: =TRUNC(E72*D72,1) -> 0 | G72: =단가대비표!P25 -> 250572 | H72: =TRUNC(G72*D72,1) -> 50114.4 | I72: =단가대비표!V25 -> 0 | J72: =TRUNC(I72*D72,1) -> 0 | K72: =TRUNC(E72+G72+I72,1) -> 250572 | L72: =TRUNC(F72+H72+J72,1) -> 50114.4 | N72: 53CCD3FD265355119949AA05C72A7A | O72: 5335D3C12C5C9BD1986B9BEEC72B4D2A025367 | P72: F | Q72: F | R72: T | V72: 1 | AW72: 53CCD3FD265355119949AA05C72A7A5335D3C12C5C9BD1986B9BEEC72B4D2A025367
A73: 공구손료 | B73: 인력품의 3% | C73: 식 | D73: 1 | E73: 0 | F73: =TRUNC(E73*D73,1) -> 0 | G73: 0 | H73: =TRUNC(G73*D73,1) -> 0 | I73: =TRUNC(SUMIF(V71:V73, RIGHTB(O73, 1), H71:H73)*U73, 2) -> 3541.08 | J73: =TRUNC(I73*D73,1) -> 3541 | K73: =TRUNC(E73+G73+I73,1) -> 3541 | L73: =TRUNC(F73+H73+J73,1) -> 3541 | N73: 53CCD3FD265355119949AA05C72A7A | O73: 52F823132053E4319E79477E56D0001 | P73: F | Q73: F | R73: F | S73: 1 | T73: 2 | U73: 0.03 | AW73: 53CCD3FD265355119949AA05C72A7A52F823132053E4319E79477E56D0001
A74: [ 합 계 ] | F74: =TRUNC(SUMIF(N71:N73, N70, F71:F73),0) -> 0 | H74: =TRUNC(SUMIF(N71:N73, N70, H71:H73),0) -> 118036 | J74: =TRUNC(SUMIF(N71:N73, N70, J71:J73),0) -> 3541 | L74: =F74+H74+J74 -> 121577 | N74: TOTAL | O74: TOTAL

Sheet 단가대비표
A1: 단 가 대 비 표
A2: =공종별내역서!A1 -> [ 성동면 병촌리 등 2개소 유지관리공사 ]
A3: 코 드 | B3: 품 명 | C3: 규격 | D3: 단위 | E3: 재 료 비 | P3: 노 무 비 | Q3: 경 비 | W3: 번 호 | X3: 비 고 | Y3: 품목구분 | Z3: 노임구분 | AA3: 소수점처리 | AB3: 자재구분
E4: 조달청가격 | F4: PAGE | G4: 거래가격 | H4: PAGE | I4: 유통물가 | J4: PAGE | K4: 조사가격1 | L4: PAGE | M4: 조사가격2 | N4: PAGE | O4: 적용단가 | Q4: 조달청가격 | R4: 거래가격 | S4: 유통물가 | T4: 조사가격1 | U4: 조사가격2 | V4: 적용단가
A5: 54F9A3022955B88198CF42DFC71EB92CEEC5EF | B5: 굴착기(무한궤도) | C5: 0.6㎥ | D5: 대 | E5: 0 | G5: 0 | I5: 0 | K5: 0 | M5: 0 | O5: 0 | P5: 0 | Q5: 0 | R5: 0 | S5: 0 | T5: 0 | U5: 109310 | V5: =SMALL(Q5:U5,COUNTIF(Q5:U5,0)+1) -> 109310 | W5: 자재 1 | X5: 천원
A6: 54EF53472C56EC219BF7579529D20520C75B9B | B6: 케미컬앵커(내진주입식몰탈) | C6: HIT-HY 200R,330ml 믹서1EA | D6: ml | E6: 0 | G6: 110 | H6: 97 | I6: 0 | K6: 0 | M6: 0 | O6: =SMALL(E6:M6,COUNTIF(E6:M6,0)+1) -> 110 | P6: 0 | Q6: 0 | R6: 0 | S6: 0 | T6: 0 | U6: 0 | V6: 0 | W6: 자재 2 | X6: 대리점상차도
A7: 54EF53472C5422B1974D9F4D928D87913B164F | B7: 내수합판 | C7: 내수합판, 1급, 12*1220*2440mm | D7: M2 | E7: 10931 | G7: 12093.52 | H7: 667 | I7: 11556.03 | J7: 407 | K7: 0 | M7: 0 | O7: =SMALL(E7:M7,COUNTIF(E7:M7,0)+1) -> 10931 | P7: 0 | Q7: 0 | R7: 0 | S7: 0 | T7: 0 | U7: 0 | V7: 0 | W7: 자재 3
A8: 54EF13EA2E5752319723D96718B66AFA1B9622 | B8: 경유 | C8: 경유, 저유황 | D8: L | E8: 0 | G8: 1550 | H8: 1451 | I8: 1358.18 | J8: 1189 | K8: 0 | M8: 0 | O8: =SMALL(E8:M8,COUNTIF(E8:M8,0)+1) -> 1358.18 | P8: 0 | Q8: 0 | R8: 0 | S8: 0 | T8: 0 | U8: 0 | V8: 0 | W8: 자재 4
A9: 54CC63A52C526D019A67DF64386AB2442D4EB8 | B9: 철근콘크리트용봉강 | C9: 철근콘크리트용봉강, 이형봉강(SD400), HD13, | D9: TON | E9: 856040 | G9: 0 | I9: 0 | K9: 0 | M9: 0 | O9: =SMALL(E9:M9,COUNTIF(E9:M9,0)+1) -> 856040 | P9: 0 | Q9: 0 | R9: 0 | S9: 0 | T9: 0 | U9: 0 | V9: 0 | W9: 자재 5
A10: 54CC63A52C526F319B36CF3BA4E976C9F7EA1C | B10: 스틸그레이팅 | C10: I-50*7*4, 1000*1000mm | D10: 개 | E10: 0 | G10: 201600 | H10: 238 | I10: 201600 | K10: 0 | M10: 0 | O10: =SMALL(E10:M10,COUNTIF(E10:M10,0)+1) -> 201600 | P10: 0 | Q10: 0 | R10: 0 | S10: 0 | T10: 0 | U10: 0 | V10: 0 | W10: 자재 6 | X10: 공장상차도
A11: 54CC63A52C526F319B36CF3BA4E976C9F7EA1D | B11: 사각앵글 | C11: 50X50X4 1000X1000X50 | D11: 개 | E11: 0 | G11: 45700 | H11: 239 | I11: 0 | K11: 0 | M11: 0 | O11: =SMALL(E11:M11,COUNTIF(E11:M11,0)+1) -> 45700 | P11: 0 | Q11: 0 | R11: 0 | S11: 0 | T11: 0 | U11: 0 | V11: 0 | W11: 자재 7 | X11: 공장상차도
A12: 54CC63A52C526F319F9865360D118815F015D0 | B12: 각재 | C12: 각재, 외송 | D12: M3 | E12: 546058 | G12: 577844.31 | H12: 148 | I12: 571556.88 | J12: 73 | K12: 0 | M12: 0 | O12: =SMALL(E12:M12,COUNTIF(E12:M12,0)+1) -> 546058 | P12: 0 | Q12: 0 | R12: 0 | S12: 0 | T12: 0 | U12: 0 | V12: 0 | W12: 자재 8
A13: 54CC63A52C5372B19578CAD2B950FF5718D88F | B13: 레미콘 - 논산 | C13: 25-24-12 | D13: M3 | E13: 0 | G13: 102400 | H13: 108 | I13: 94950 | J13: 66 | K13: 0 | M13: 0 | O13: =SMALL(E13:M13,COUNTIF(E13:M13,0)+1) -> 94950 | P13: 0 | Q13: 0 | R13: 0 | S13: 0 | T13: 0 | U13: 0 | V13: 0 | W13: 자재 9
A14: 54CC734A295B2C719FA44E6A1A284F55267D7A | B14: 철선 | C14: 철선, 어닐링, ∮0.9mm | D14: kg | E14: 1657 | G14: 1780 | H14: 83 | I14: 1830 | J14: 42 | K14: 0 | M14: 0 | O14: =SMALL(E14:M14,COUNTIF(E14:M14,0)+1) -> 1657 | P14: 0 | Q14: 0 | R14: 0 | S14: 0 | T14: 0 | U14: 0 | V14: 0 | W14: 자재 10
A15: 54B3F3122E58D9019E5EF7ED637E0912B2116D | B15: PE 이중벽 하수관 -1종 | C15: 600mm | D15: M | E15: 0 | G15: 123340 | H15: 813 | I15: 141850 | J15: 580 | K15: 0 | M15: 0 | O15: =SMALL(E15:M15,COUNTIF(E15:M15,0)+1) -> 123340 | P15: 0 | Q15: 0 | R15: 0 | S15: 0 | T15: 0 | U15: 0 | V15: 0 | W15: 자재 11 | X15: 공장상차도
A16: 54B3F3122E58D9019E5EF7ED637E09135F2450 | B16: PE 이중벽 이음관(PE밴드) | C16: ∮600mm | D16: EA | E16: 0 | G16: 93100 | H16: 813 | I16: 80900 | J16: 580 | K16: 0 | M16: 0 | O16: =SMALL(E16:M16,COUNTIF(E16:M16,0)+1) -> 80900 | P16: 0 | Q16: 0 | R16: 0 | S16: 0 | T16: 0 | U16: 0 | V16: 0 | W16: 자재 12 | X16: 공장상차도
A17: 53CCB3AC2F5ADDA197036F953FC2C1 | B17: 터파기 및 되메우기 작업 | C17: 장비 + 인력 2명 | D17: 일 | E17: 0 | G17: 0 | I17: 0 | K17: 0 | M17: 0 | O17: 0 | P17: 400000 | Q17: 700000 | R17: 0 | S17: 0 | T17: 0 | U17: 0 | V17: =SMALL(Q17:U17,COUNTIF(Q17:U17,0)+1) -> 700000 | W17: 자재 13 | Y17: 1
A18: 53CCB3AC2F5ADDA197036F953FC2C7 | B18: 터파기 작업 | C18: 6w | D18: 일 | E18: 0 | G18: 0 | I18: 0 | K18: 0 | M18: 0 | O18: 0 | P18: 0 | Q18: 800000 | R18: 0 | S18: 0 | T18: 0 | U18: 0 | V18: =SMALL(Q18:U18,COUNTIF(Q18:U18,0)+1) -> 800000 | W18: 자재 14 | Y18: 1
A19: 53CCB3AC2F5ADDA197036F953FC2C4 | B19: 되메우기 작업 | C19: 6w | D19: 일 | E19: 0 | G19: 0 | I19: 0 | K19: 0 | M19: 0 | O19: 0 | P19: 0 | Q19: 800000 | R19: 0 | S19: 0 | T19: 0 | U19: 0 | V19: =SMALL(Q19:U19,COUNTIF(Q19:U19,0)+1) -> 800000 | W19: 자재 15 | Y19: 1
A20: 5335D3C12C5C9BD1986B9BEEC72B4D2A0257C0 | B20: 보통인부 | C20: 일반공사 직종 | D20: 인 | E20: 0 | G20: 0 | I20: 0 | K20: 0 | M20: 0 | O20: 0 | P20: 169804 | Q20: 0 | R20: 0 | S20: 0 | T20: 0 | U20: 0 | V20: 0 | W20: 노임 1 | Y20: B
A21: 5335D3C12C5C9BD1986B9BEEC72B4D2A0257C1 | B21: 특별인부 | C21: 일반공사 직종 | D21: 인 | E21: 0 | G21: 0 | I21: 0 | K21: 0 | M21: 0 | O21: 0 | P21: 221506 | Q21: 0 | R21: 0 | S21: 0 | T21: 0 | U21: 0 | V21: 0 | W21: 노임 2 | Y21: B
A22: 5335D3C12C5C9BD1986B9BEEC72B4D2A0257C5 | B22: 형틀목공 | C22: 일반공사 직종 | D22: 인 | E22: 0 | G22: 0 | I22: 0 | K22: 0 | M22: 0 | O22: 0 | P22: 272831 | Q22: 0 | R22: 0 | S22: 0 | T22: 0 | U22: 0 | V22: 0 | W22: 노임 3 | Y22: B
A23: 5335D3C12C5C9BD1986B9BEEC72B4D2A0257CA | B23: 철근공 | C23: 일반공사 직종 | D23: 인 | E23: 0 | G23: 0 | I23: 0 | K23: 0 | M23: 0 | O23: 0 | P23: 264104 | Q23: 0 | R23: 0 | S23: 0 | T23: 0 | U23: 0 | V23: 0 | W23: 노임 4 | Y23: B
A24: 5335D3C12C5C9BD1986B9BEEC72B4D2A025638 | B24: 콘크리트공 | C24: 일반공사 직종 | D24: 인 | E24: 0 | G24: 0 | I24: 0 | K24: 0 | M24: 0 | O24: 0 | P24: 266361 | Q24: 0 | R24: 0 | S24: 0 | T24: 0 | U24: 0 | V24: 0 | W24: 노임 5 | Y24: B
A25: 5335D3C12C5C9BD1986B9BEEC72B4D2A025367 | B25: 배관공(수도) | C25: 일반공사 직종 | D25: 인 | E25: 0 | G25: 0 | I25: 0 | K25: 0 | M25: 0 | O25: 0 | P25: 250572 | Q25: 0 | R25: 0 | S25: 0 | T25: 0 | U25: 0 | V25: 0 | W25: 노임 6 | Y25: B
A26: 5335D3C12C5C9BD1986B9BEEC72B4D2A02536F | B26: 건설기계운전사 | C26: 일반공사 직종 | D26: 인 | E26: 0 | G26: 0 | I26: 0 | K26: 0 | M26: 0 | O26: 0 | P26: 273971 | Q26: 0 | R26: 0 | S26: 0 | T26: 0 | U26: 0 | V26: 0 | W26: 노임 7 | Y26: B

Sheet 단가산출목록
B1: 단 가 산 출 목 록
B2: =공종별내역서!A1 -> [ 성동면 병촌리 등 2개소 유지관리공사 ]
A3: 코 드 | B3: 품 명 | C3: 규 격 | D3: 단위 | E3: 재 료 비 | F3: 노 무 비 | G3: 경 비 | H3: 합 계 | I3: 번 호 | J3: 비 고 | K3: START | L3: 품셈개요

Sheet 단가산출서
A1: 단 가 산 출 서
A2: =공종별내역서!A1 -> [ 성동면 병촌리 등 2개소 유지관리공사 ]
A3: 산 출 내 역 | B3: 재 료 비 | C3: 노 무 비 | D3: 경 비 | E3: 합 계 | F3: 비 고 | G3: START | H3: 코드 | I3: 품명 | J3: 규격 | K3: 단위 | L3: 수량 | M3: 변수 | N3: 값 | O3: 소계 | P3: 소계 | Q3: 소계 | R3: 소계 | S3: 소계 | T3: 총계
A4: ( )
A6: 총 계 | E6: 0

Sheet  공사설정 
A1: 이 Sheet는 수정하지 마십시요
A2: 공사구분 | B2: A | C2: 타이틀
A3: 확정내역 | B3: 원내역
A4: 자재단가적용 | B4: 5
A5: 경비단가적용 | B5: 5
A6: 품목코드형식 | B6: XXXX-XXXXXXXXXXXXX
A7: 내역금액소수점처리 | B7: C | C7: 1
A8: 일위대가내역소수점처리 | B8: C | C8: 2
A9: 단가명 | B9: 조달청가격 | C9: 거래가격 | D9: 유통물가 | E9: 조사가격1 | F9: 조사가격2 | G9: TTTTT
A10: 환율 | B10: 0 | C10: 0 | D10: 0
A11: 시간당작업량 | B11: R | C11: 4
A12: 1회 사이클시간 | B12: R | C12: 4
A13: 시간당 작업사이클 | B13: R | C13: 3
A14: 일반변수 | B14: C | C14: 5
A15: 시간당 노임산출 계수 | B15: A | C15: 1/8*16/12*25/20 | D15: 1/8*16/12*25/20 | E15: 1/8*16/12*25/20 | F15: 1
A16: 재료비 할증 계수 | B16: 0 | C16: 0
A17: 노무비 할증 계수 | B17: 0 | C17: 0 | D17: 0 | E17: 0 | F17: 0 | G17: 0 | H17: 0 | I17: 0 | J17: 0 | K17: 0 | L17: 0 | M17: 0
A18: 경비 할증 계수 | B18: 0 | C18: 0
A19: 내역,일위대가 품명,규격,단위 따로적용
A20: 내역단가 소수점처리 | C20: 1
A21: 코드 | B21: 공종구분명 | C21: 원가비목코드
A22: 1 | B22: 작 업 부 산 물 | C22: A3
A23: 2 | B23: 운 반 비 | C23: C1
A24: 3 | B24: 관 급 자 재 비 | C24: DJ
A25: 4 | B25: 사 급 자 재 비 | C25: D3
A26: 5 | B26: 외 자 재
A27: 6 | B27: 폐기물처리비
A28: 7 | B28: ...
A29: 8 | B29: ...
A30: 9 | B30: ...
A31: A | B31: ....
A32: B | B32: .....
A33: C | B33: ....
A34: D | B34: ....
A35: E | B35: ....
A36: F | B36: ....
A37: G | B37: ....
A38: H | B38: ....
A39: I | B39: ....
A40: J | B40: ....
A43: 단가 순서 | B43: 1234

Sheet Sheet1
