Workbook
Name __B140007: [4]Sheet3!#REF!
Name __PB1: #REF!
Name __PB2: #REF!
Name __PB3: #REF!
Name __PP2: #REF!
Name __PP3: #REF!
Name _\D: #REF!
Name _\X: #REF!
Name _0: [5]직재!#REF!
Name _01: #REF!
Name _02: #REF!
Name _03: #REF!
Name _1: [6]제직재!#REF!
Name _1._PANEL_BD.__LP___1: #REF!
Name _1_0: '[8]PAD TR보호대기초'!#REF!
Name _1_3__Criteria: #REF!
Name _10___________0ELP전선관_3: [8]가로등기초!#REF!
Name _103_______0맨홀뚜껑_Φ: '[8]HANDHOLE(2)'!#REF!
Name _104_____3_0Crite: #REF!
Name _105_____3_0Criteria: #REF!
Name _106_____G_0Extr: #REF!
Name _107_____G_0Extract: #REF!
Name _11_____________0: '[8]PAD TR보호대기초'!#REF!
Name _112_____0맨홀뚜껑_Φ: '[8]HANDHOLE(2)'!#REF!
Name _113___3_0Crite: #REF!
Name _114___3_0Criteria: #REF!
Name _115___G_0Extr: #REF!
Name _116___G_0Extract: #REF!
Name _12_____________0ELP전선관_3: [8]가로등기초!#REF!
Name _121____0맨홀뚜껑_Φ: '[8]HANDHOLE(2)'!#REF!
Name _122__3_0Crite: #REF!
Name _123__3_0Criteria: #REF!
Name _124__G_0Extr: #REF!
Name _125__G_0Extract: #REF!
Name _128G_0Extr: #REF!
Name _13_________________0: '[8]PAD TR보호대기초'!#REF!
Name _131_3_0Crite: #REF!
Name _132_3_0Criteria: #REF!
Name _133_G_0Extr: #REF!
Name _134_G_0Extract: #REF!
Name _137_단: #REF!
Name _14_________________0ELP전선관_3: [8]가로등기초!#REF!
Name _140_0맨홀뚜껑_Φ: '[8]HANDHOLE(2)'!#REF!
Name _141_3_0Crite: #REF!
Name _141G_0Extract: #REF!
Name _142_3_0Criteria: #REF!
Name _143G_0Extr: #REF!
Name _144G_0Extract: #REF!
Name _15_____________________0: '[8]PAD TR보호대기초'!#REF!
Name _16_____________________0ELP전선관_3: [8]가로등기초!#REF!
Name _16_G_0Extr: #REF!
Name _17_______________________0: '[8]PAD TR보호대기초'!#REF!
Name _17_G_0Extract: #REF!
Name _18_______________________0ELP전선관_3: [8]가로등기초!#REF!
Name _19_________________________0: '[8]PAD TR보호대기초'!#REF!
Name _1a16385_: #REF!
Name _1공장: #REF!
Name _2: #N/A
Name _2_0: #REF!
Name _2_0ELP전선관_3: [8]가로등기초!#REF!

Sheet 설계서용지
A1: 설 계 서 용 지
A2: 과 장 | G2: 팀 장 | L2: 심사자 | Q2: 설계자 | V2: 심 사 | W2: 2026년 07월
A5: 죽전가압장 고압용 진공차단기 교체공사
F9: 위치 | J9: : | K9: 용인시 죽전가압장 내
F11: 개요 | J11: : | K11: 노후 고압용 진공차단기 교체 공사 | S11: 1식.
F16: 총공사금액 | J16: : | K16: 금 | L16: =원가계산서!E30 -> 50354000 | P16: 원 | Q16: (금 | R16: =NUMBERSTRING(L16,1) & " 원)" -> 오천삼십오만사천 원)

Sheet 설계설명서
A3: 설 계 설 명 서
A6: 1. 공 사 명 : | B6: 죽전가압장 고압용 진공차단기 교체공사
A8: 2. 목 적 :
A11: 3. 공사위치 : | B11: =설계서용지!K9 -> 용인시 죽전가압장 내
A13: 4. 공사개요 : | B13: =설계서용지!K11 -> 노후 고압용 진공차단기 교체 공사 | E13: 1식.
A15: 5. 공사기간 : 본 사업은 계약일로부터 29일로 하고 관의 지시에 따라 기간이 확정 또는 변경될 수 있다.
A17: 6. 설계 변경 조건
A18: 1) 본 공사는 조사당시 수집된 자료에 의하여 설계한 것인바 불가능한 부분 및 조사 후 변경된 사항에 대하여는 감독자와 협의 후 조정가능함
A19: 2) 본 공사 시공중 관의 계획 및 방침변경으로 인한 일부 공사의 추가, 삭제 및 물량의 증감
A20: 3) 천재지변 등으로 인한 경우
A22: 7. 설계 기준
A23: 1) 본공사의 설계도서는 2026 전기표준품셈에 의거 작성하였음.

Sheet 원가계산서
A1: 공 사 원 가 계 산 서
A2: 공사명 : 죽전가압장 고압용 진공차단기 교체공사
A3: 구 분 비 목 | D3: 구 성 비 | E3: 금 액 | F3: 비 고
A5: 순 공 사 원 가 | B5: 재료비 | C5: 직접재료비 | E5: =ROUNDDOWN(집계표!E20-집계표!AU20, 0) -> 16380000 | G5: A1 | H5: 0
C6: 간접재료비 | E6: =ROUNDDOWN(E5*H6, 0) -> 0 | G6: A2 | H6: 0
C7: 소계 | E7: =SUM(E5:E6) -> 16380000 | G7: A | H7: 0
B8: 노무비 | C8: 직접노무비 | E8: =ROUNDDOWN(집계표!G20, 0) -> 15868264 | G8: B1 | H8: 0
C9: 간접노무비 | D9: ="직.노*"&H9*100&"%" -> 직.노*17.5% | E9: =ROUNDDOWN(E8*H9, 0) -> 2776946 | G9: B2 | H9: 0.175
C10: 소계 | E10: =SUM(E8:E9) -> 18645210 | G10: B | H10: 0
B11: 경 비 | C11: 기계경비 | E11: =ROUNDDOWN(집계표!I20, 0) -> 476046 | G11: C4 | H11: 0
C12: 산재보험료 | D12: ="(노)*"&H12*100&"%" -> (노)*3.56% | E12: =ROUNDDOWN((E10)*H12, 0) -> 663769 | G12: C10 | H12: 0.0356
C13: 고용보험료 | D13: ="(노)*"&H13*100&"%" -> (노)*1.01% | E13: =ROUNDDOWN((E10)*H13, 0) -> 188316 | G13: C11 | H13: 0.0101
C14: 건강보험료 | E14: =ROUNDDOWN((E8)*H14, 0) -> 0 | F14: 30일이상공사적용 | G14: C12 | H14: 0
C15: 연금보험료 | E15: =ROUNDDOWN((E8)*H15, 0) -> 0 | F15: 30일이상공사적용 | G15: C13 | H15: 0
C16: 노인장기요양보험료 | E16: =ROUNDDOWN((E14)*H16, 0) -> 0 | F16: 30일이상공사적용 | G16: C14 | H16: 0
C17: 퇴직공제부금비 | E17: =ROUNDDOWN((E8)*H17, 0) -> 0 | F17: 1억이상공사적용 | G17: C15 | H17: 0 | M17: =E7+E8 -> 32248264
C18: 석면분담금 | D18: (노)*0.006% | E18: =ROUNDDOWN(E10*H18,0) -> 1118 | H18: 6e-05
C19: 임금채권부담금 | D19: (노)*0.09% | E19: =ROUNDDOWN(E10*H19,0) -> 16780 | H19: 0.0009
C20: 산업안전보건관리비 | D20: ="(재+직.노)*2.07%" -> (재+직.노)*2.07% | E20: =ROUNDDOWN((E7+E8)*2.07%, 0) -> 667539 | G20: C16 | H20: 0.0207 | M20: =M17*2.07% -> 667539.06
C21: 기타경비 | D21: ="(재+노)*"&H21*100&"%" -> (재+노)*5% | E21: =ROUNDDOWN((E7+E10)*H21, 0) -> 1751260 | G21: C20 | H21: 0.05 | M21: =M20*1.2 -> 801046.88
C22: 소계 | E22: =SUM(E11:E21) -> 3764828 | G22: C | H22: 0
B23: 총계 | E23: =E7+E10+E22 -> 38790038 | G23: X | H23: 0
A24: 일반관리비 | D24: ="(재+노+경)*"&H24*100&"%" -> (재+노+경)*8% | E24: =ROUNDDOWN((E7+E10+E22)*H24, 0) -> 3103203 | G24: D | H24: 0.08
A25: 이윤 | D25: ="(노+경+일)*"&H25*100&"%" -> (노+경+일)*15% | E25: =ROUNDDOWN((E10+E22+E24)*H25-729/1.1,0) -> 3826323 | G25: E | H25: 0.15
A26: 고재처리비 | D26: 견적서 | E26: -64000 | G26: E
A27: 총원가 | E27: =SUM(E23:E26) -> 45655564
A28: 전기공사손해배상공제료 | D28: ((총원가)+(관급자재/1.1))*0.26477% | E28: =ROUNDDOWN((E27*H28),-2) -> 120800 | F28: 100원미만 절사 | G28: F | H28: 0.0026477
A29: 부가가치세 | D29: ="((총원가)+(손해배상공제료))*"&H29*100&"%" -> ((총원가)+(손해배상공제료))*10% | E29: =ROUNDDOWN((E27+E28)*H29,0) -> 4577636 | G29: H | H29: 0.1
A30: 총공사금액 | E30: =SUM(E27:E29) -> 50354000 | G30: Y | H30: 0

Sheet 집계표
A1: 공 사 집 계 표
A2: =원가계산서!A2 -> 공사명 : 죽전가압장 고압용 진공차단기 교체공사
A3: 품 명 | B3: 단위 | C3: 수량 | D3: 재 료 비 | F3: 노 무 비 | H3: 경 비 | J3: 합 계 | L3: 비고
D4: 단 가 | E4: 금 액 | F4: 단 가 | G4: 금 액 | H4: 단 가 | I4: 금 액 | J4: 단 가 | K4: 금 액 | M4: 손료요율 | N4: 손료구분 | O4: 적용구분 | P4: 합계구분 | Q4: 기계경비 | R4: 운반비 | S4: 작업부산물 | T4: 관급 | U4: 외주비 | V4: 장비비 | W4: 폐기물처리비 | X4: 가설비 | Y4: 잡비제외분 | Z4: 사급자재대 | AA4: 관급자재대 | AB4: 사용자항목1 | AC4: 사용자항목2 | AD4: 안전관리비 | AE4: 품질관리비 | AF4: 작업부산물(철거해체) | AG4: 재해예방기술지도비 | AH4: 사용자항목7 | AI4: 사용자항목8 | AJ4: 사용자항목9 | AK4: 사용자항목10 | AL4: 사용자항목11 | AM4: 사용자항목12 | AN4: 사용자항목13 | AO4: 사용자항목14 | AP4: 사용자항목15 | AQ4: 사용자항목16 | AR4: 사용자항목17 | AS4: 사용자항목18 | AT4: 사용자항목19 | AU4: 간접재료비 | AV4: 품목구분 | AW4: 조달코드 | AX4: 구분
A5: 01. 죽전가압장 | B5: 식 | C5: 1 | D5: =내역서!F20 -> 16380000 | E5: =C5*D5 -> 16380000 | F5: =내역서!H20 -> 15868264 | G5: =C5*F5 -> 15868264 | H5: =내역서!J20 -> 476046 | I5: =C5*H5 -> 476046 | J5: =D5+F5+H5 -> 32724310 | K5: =E5+G5+I5 -> 32724310 | P5: 1 | Q5: =C5*내역서!R20 -> 476046 | R5: =C5*내역서!S20 -> 0 | S5: =C5*내역서!T20 -> 0 | T5: =C5*내역서!U20 -> 0 | U5: =C5*내역서!V20 -> 0 | V5: =C5*내역서!W20 -> 0 | W5: =C5*내역서!X20 -> 0 | X5: =C5*내역서!Y20 -> 0 | Y5: =C5*내역서!Z20 -> 0 | Z5: =C5*내역서!AA20 -> 0 | AA5: =C5*내역서!AB20 -> 0 | AB5: =C5*내역서!AC20 -> 0 | AC5: =C5*내역서!AD20 -> 0 | AD5: =C5*내역서!AE20 -> 0 | AE5: =C5*내역서!AF20 -> 0 | AF5: =C5*내역서!AG20 -> 0 | AG5: =C5*내역서!AH20 -> 0 | AH5: =C5*내역서!AI20 -> 0 | AI5: =C5*내역서!AJ20 -> 0 | AJ5: =C5*내역서!AK20 -> 0 | AK5: =C5*내역서!AL20 -> 0 | AL5: =C5*내역서!AM20 -> 0 | AM5: =C5*내역서!AN20 -> 0 | AN5: =C5*내역서!AO20 -> 0 | AO5: =C5*내역서!AP20 -> 0 | AP5: =C5*내역서!AQ20 -> 0 | AQ5: =C5*내역서!AR20 -> 0 | AR5: =C5*내역서!AS20 -> 0 | AS5: =C5*내역서!AT20 -> 0 | AT5: =C5*내역서!AU20 -> 0 | AU5: =C5*내역서!AV20 -> 0
A20: 합 계 | E20: =SUMIF(P5:P5, "1", E5:E5) -> 16380000 | G20: =SUMIF(P5:P5, "1", G5:G5) -> 15868264 | I20: =SUMIF(P5:P5, "1", I5:I5) -> 476046 | K20: =E20+G20+I20 -> 32724310 | Q20: =SUM(Q5:Q5) -> 476046 | R20: =SUM(R5:R5) -> 0 | S20: =SUM(S5:S5) -> 0 | T20: =SUM(T5:T5) -> 0 | U20: =SUM(U5:U5) -> 0 | V20: =SUM(V5:V5) -> 0 | W20: =SUM(W5:W5) -> 0 | X20: =SUM(X5:X5) -> 0 | ... AX20: =SUM(AX5:AX5) -> 0

Sheet 내역서
A1: 공 사 내 역 서
A2: =집계표!A2 -> 공사명 : 죽전가압장 고압용 진공차단기 교체공사
A3: 품 명 | B3: 규 격 | C3: 단위 | D3: 수 량 | E3: 재 료 비 | G3: 노 무 비 | I3: 경 비 | K3: 합 계 | M3: 비고
E4: 단 가 | F4: 금 액 | G4: 단 가 | H4: 금 액 | I4: 단 가 | J4: 금 액 | K4: 단 가 | L4: 금 액 | N4: 손료요율 | O4: 손료구분 | P4: 적용구분 | Q4: 합계구분 | R4: 기계경비 | S4: 운반비 | T4: 작업부산물 | U4: 관급 | V4: 외주비 | W4: 장비비 | X4: 폐기물처리비 | Y4: 가설비 | Z4: 잡비제외분 | AA4: 사급자재대 | AB4: 관급자재대 | AC4: 사용자항목1 | AD4: 사용자항목2 | AE4: 안전관리비 | AF4: 품질관리비 | AG4: 작업부산물(철거해체) | AH4: 재해예방기술지도비 | AI4: 사용자항목7 | AJ4: 사용자항목8 | AK4: 사용자항목9 | AL4: 사용자항목10 | AM4: 사용자항목11 | AN4: 사용자항목12 | AO4: 사용자항목13 | AP4: 사용자항목14 | AQ4: 사용자항목15 | AR4: 사용자항목16 | AS4: 사용자항목17 | AT4: 사용자항목18 | AU4: 사용자항목19 | AV4: 간접재료비 | AW4: 품목구분 | AX4: 조달코드 | AY4: 구분
A5: 01. 죽전가압장
A6: VCB 교체공사 | B6: 24KV 630A | C6: 대 | D6: 2 | E6: =일위대가목록!G6 -> 5400000 | F6: =ROUNDDOWN(D6*E6, 0) -> 10800000 | G6: =일위대가목록!I6 -> 7381147 | H6: =ROUNDDOWN(D6*G6, 0) -> 14762294 | I6: =일위대가목록!K6 -> 221434 | J6: =ROUNDDOWN(D6*I6, 0) -> 442868 | K6: =E6+G6+I6 -> 13002581 | L6: =F6+H6+J6 -> 26005162 | M6: 일위 2호 | O6: ="" | P6: 기계경비 | Q6: 1 | R6: =IF(P6="기계경비", J6, 0) -> 442868 | S6: =IF(P6="운반비", L6, 0) -> 0 | T6: =IF(P6="작업부산물", F6, 0) -> 0 | U6: =IF(P6="관급", F6, 0) -> 0 | V6: =IF(P6="외주비", J6, 0) -> 0 | W6: =IF(P6="장비비", J6, 0) -> 0 | X6: =IF(P6="폐기물처리비", L6, 0) -> 0 | Y6: =IF(P6="가설비", J6, 0) -> 0 | Z6: =IF(P6="잡비제외분", F6, 0) -> 0 | AA6: =IF(P6="사급자재대", L6, 0) -> 0 | AB6: =IF(P6="관급자재대", L6, 0) -> 0 | AC6: =IF(P6="사용자항목1", L6, 0) -> 0 | AD6: =IF(P6="사용자항목2", L6, 0) -> 0 | AE6: =IF(P6="안전관리비", L6, 0) -> 0 | AF6: =IF(P6="품질관리비", L6, 0) -> 0 | AG6: =IF(P6="작업부산물(철거해체)", L6, 0) -> 0 | AH6: =IF(P6="재해예방기술지도비", L6, 0) -> 0 | AI6: =IF(P6="사용자항목7", L6, 0) -> 0 | AJ6: =IF(P6="사용자항목8", L6, 0) -> 0 | AK6: =IF(P6="사용자항목9", L6, 0) -> 0 | AL6: =IF(P6="사용자항목10", L6, 0) -> 0 | AM6: =IF(P6="사용자항목11", L6, 0) -> 0 | AN6: =IF(P6="사용자항목12", L6, 0) -> 0 | AO6: =IF(P6="사용자항목13", L6, 0) -> 0 | AP6: =IF(P6="사용자항목14", L6, 0) -> 0 | AQ6: =IF(P6="사용자항목15", L6, 0) -> 0 | AR6: =IF(P6="사용자항목16", L6, 0) -> 0 | AS6: =IF(P6="사용자항목17", L6, 0) -> 0 | AT6: =IF(P6="사용자항목18", L6, 0) -> 0 | AU6: =IF(P6="사용자항목19", L6, 0) -> 0
A7: 디지털계전기 교체 | B7: GIPAM115F | C7: 대 | D7: 2 | E7: =일위대가목록!G5 -> 2500000 | F7: =ROUNDDOWN(D7*E7, 0) -> 5000000 | G7: =일위대가목록!I5 -> 552985 | H7: =ROUNDDOWN(D7*G7, 0) -> 1105970 | I7: =일위대가목록!K5 -> 16589 | J7: =ROUNDDOWN(D7*I7, 0) -> 33178 | K7: =E7+G7+I7 -> 3069574 | L7: =F7+H7+J7 -> 6139148 | M7: 일위 1호 | O7: ="" | P7: 기계경비 | Q7: 1 | R7: =IF(P7="기계경비", J7, 0) -> 33178 | S7: =IF(P7="운반비", L7, 0) -> 0 | T7: =IF(P7="작업부산물", F7, 0) -> 0 | U7: =IF(P7="관급", F7, 0) -> 0 | V7: =IF(P7="외주비", J7, 0) -> 0 | W7: =IF(P7="장비비", J7, 0) -> 0 | X7: =IF(P7="폐기물처리비", L7, 0) -> 0 | Y7: =IF(P7="가설비", J7, 0) -> 0 | Z7: =IF(P7="잡비제외분", F7, 0) -> 0 | AA7: =IF(P7="사급자재대", L7, 0) -> 0 | AB7: =IF(P7="관급자재대", L7, 0) -> 0 | AC7: =IF(P7="사용자항목1", L7, 0) -> 0 | AD7: =IF(P7="사용자항목2", L7, 0) -> 0 | AE7: =IF(P7="안전관리비", L7, 0) -> 0 | AF7: =IF(P7="품질관리비", L7, 0) -> 0 | AG7: =IF(P7="작업부산물(철거해체)", L7, 0) -> 0 | AH7: =IF(P7="재해예방기술지도비", L7, 0) -> 0 | AI7: =IF(P7="사용자항목7", L7, 0) -> 0 | AJ7: =IF(P7="사용자항목8", L7, 0) -> 0 | AK7: =IF(P7="사용자항목9", L7, 0) -> 0 | AL7: =IF(P7="사용자항목10", L7, 0) -> 0 | AM7: =IF(P7="사용자항목11", L7, 0) -> 0 | AN7: =IF(P7="사용자항목12", L7, 0) -> 0 | AO7: =IF(P7="사용자항목13", L7, 0) -> 0 | AP7: =IF(P7="사용자항목14", L7, 0) -> 0 | AQ7: =IF(P7="사용자항목15", L7, 0) -> 0 | AR7: =IF(P7="사용자항목16", L7, 0) -> 0 | AS7: =IF(P7="사용자항목17", L7, 0) -> 0 | AT7: =IF(P7="사용자항목18", L7, 0) -> 0 | AU7: =IF(P7="사용자항목19", L7, 0) -> 0
A8: 부스바 | B8: 제작용 | C8: 식 | D8: 1 | E8: =단가대비표!O7 -> 500000 | F8: =ROUNDDOWN(D8*E8, 0) -> 500000 | G8: 0 | H8: =ROUNDDOWN(D8*G8, 0) -> 0 | I8: 0 | J8: =ROUNDDOWN(D8*I8, 0) -> 0 | K8: =E8+G8+I8 -> 500000 | L8: =F8+H8+J8 -> 500000 | O8: ="01" -> 01 | P8: 기계경비 | Q8: 1 | R8: =IF(P8="기계경비", J8, 0) -> 0 | S8: =IF(P8="운반비", L8, 0) -> 0 | T8: =IF(P8="작업부산물", F8, 0) -> 0 | U8: =IF(P8="관급", F8, 0) -> 0 | V8: =IF(P8="외주비", J8, 0) -> 0 | W8: =IF(P8="장비비", J8, 0) -> 0 | X8: =IF(P8="폐기물처리비", L8, 0) -> 0 | Y8: =IF(P8="가설비", J8, 0) -> 0 | Z8: =IF(P8="잡비제외분", F8, 0) -> 0 | AA8: =IF(P8="사급자재대", L8, 0) -> 0 | AB8: =IF(P8="관급자재대", L8, 0) -> 0 | AC8: =IF(P8="사용자항목1", L8, 0) -> 0 | AD8: =IF(P8="사용자항목2", L8, 0) -> 0 | AE8: =IF(P8="안전관리비", L8, 0) -> 0 | AF8: =IF(P8="품질관리비", L8, 0) -> 0 | AG8: =IF(P8="작업부산물(철거해체)", L8, 0) -> 0 | AH8: =IF(P8="재해예방기술지도비", L8, 0) -> 0 | AI8: =IF(P8="사용자항목7", L8, 0) -> 0 | AJ8: =IF(P8="사용자항목8", L8, 0) -> 0 | AK8: =IF(P8="사용자항목9", L8, 0) -> 0 | AL8: =IF(P8="사용자항목10", L8, 0) -> 0 | AM8: =IF(P8="사용자항목11", L8, 0) -> 0 | AN8: =IF(P8="사용자항목12", L8, 0) -> 0 | AO8: =IF(P8="사용자항목13", L8, 0) -> 0 | AP8: =IF(P8="사용자항목14", L8, 0) -> 0 | AQ8: =IF(P8="사용자항목15", L8, 0) -> 0 | AR8: =IF(P8="사용자항목16", L8, 0) -> 0 | AS8: =IF(P8="사용자항목17", L8, 0) -> 0 | AT8: =IF(P8="사용자항목18", L8, 0) -> 0 | AU8: =IF(P8="사용자항목19", L8, 0) -> 0
A9: 배터리 | B9: 12V12A | C9: EA | D9: 2 | E9: =단가대비표!O6 -> 40000 | F9: =ROUNDDOWN(D9*E9, 0) -> 80000 | G9: 0 | H9: =ROUNDDOWN(D9*G9, 0) -> 0 | I9: 0 | J9: =ROUNDDOWN(D9*I9, 0) -> 0 | K9: =E9+G9+I9 -> 40000 | L9: =F9+H9+J9 -> 80000 | O9: ="01" -> 01 | P9: 기계경비 | Q9: 1 | R9: =IF(P9="기계경비", J9, 0) -> 0 | S9: =IF(P9="운반비", L9, 0) -> 0 | T9: =IF(P9="작업부산물", F9, 0) -> 0 | U9: =IF(P9="관급", F9, 0) -> 0 | V9: =IF(P9="외주비", J9, 0) -> 0 | W9: =IF(P9="장비비", J9, 0) -> 0 | X9: =IF(P9="폐기물처리비", L9, 0) -> 0 | Y9: =IF(P9="가설비", J9, 0) -> 0 | Z9: =IF(P9="잡비제외분", F9, 0) -> 0 | AA9: =IF(P9="사급자재대", L9, 0) -> 0 | AB9: =IF(P9="관급자재대", L9, 0) -> 0 | AC9: =IF(P9="사용자항목1", L9, 0) -> 0 | AD9: =IF(P9="사용자항목2", L9, 0) -> 0 | AE9: =IF(P9="안전관리비", L9, 0) -> 0 | AF9: =IF(P9="품질관리비", L9, 0) -> 0 | AG9: =IF(P9="작업부산물(철거해체)", L9, 0) -> 0 | AH9: =IF(P9="재해예방기술지도비", L9, 0) -> 0 | AI9: =IF(P9="사용자항목7", L9, 0) -> 0 | AJ9: =IF(P9="사용자항목8", L9, 0) -> 0 | AK9: =IF(P9="사용자항목9", L9, 0) -> 0 | AL9: =IF(P9="사용자항목10", L9, 0) -> 0 | AM9: =IF(P9="사용자항목11", L9, 0) -> 0 | AN9: =IF(P9="사용자항목12", L9, 0) -> 0 | AO9: =IF(P9="사용자항목13", L9, 0) -> 0 | AP9: =IF(P9="사용자항목14", L9, 0) -> 0 | AQ9: =IF(P9="사용자항목15", L9, 0) -> 0 | AR9: =IF(P9="사용자항목16", L9, 0) -> 0 | AS9: =IF(P9="사용자항목17", L9, 0) -> 0 | AT9: =IF(P9="사용자항목18", L9, 0) -> 0 | AU9: =IF(P9="사용자항목19", L9, 0) -> 0
A20: 합 계 | F20: =ROUNDDOWN(SUMIF(Q6:Q19, "1", F6:F19), 0) -> 16380000 | H20: =ROUNDDOWN(SUMIF(Q6:Q19, "1", H6:H19), 0) -> 15868264 | J20: =ROUNDDOWN(SUMIF(Q6:Q19, "1", J6:J19), 0) -> 476046 | L20: =F20+H20+J20 -> 32724310 | R20: =ROUNDDOWN(SUM(R6:R9), 0) -> 476046 | S20: =ROUNDDOWN(SUM(S6:S9), 0) -> 0 | T20: =ROUNDDOWN(SUM(T6:T9), 0) -> 0 | U20: =ROUNDDOWN(SUM(U6:U9), 0) -> 0 | V20: =ROUNDDOWN(SUM(V6:V9), 0) -> 0 | W20: =ROUNDDOWN(SUM(W6:W9), 0) -> 0 | X20: =ROUNDDOWN(SUM(X6:X9), 0) -> 0 | Y20: =ROUNDDOWN(SUM(Y6:Y9), 0) -> 0 | ... AY20: =ROUNDDOWN(SUM(AY6:AY9), 0) -> 0

Sheet 일위대가목록
A1: 일 위 대 가 목 록
A2: =내역서!A2 -> 공사명 : 죽전가압장 고압용 진공차단기 교체공사
A3: 호 표 | B3: 품 명 | C3: 규 격 | D3: 단위 | E3: 수량 | F3: 재 료 비 | H3: 노 무 비 | J3: 경 비 | L3: 합 계 | N3: 비 고
F4: 단 가 | G4: 금 액 | H4: 단 가 | I4: 금 액 | J4: 단 가 | K4: 금 액 | L4: 단 가 | M4: 금 액 | O4: 구분
A5: 일위 1호 | B5: 디지털계전기 교체 | C5: GIPAM115F | D5: 대 | E5: 1 | F5: =일위대가표!G9 -> 2500000 | G5: =E5*F5 -> 2500000 | H5: =일위대가표!I9 -> 552985 | I5: =E5*H5 -> 552985 | J5: =일위대가표!K9 -> 16589 | K5: =E5*J5 -> 16589 | L5: =F5+H5+J5 -> 3069574 | M5: =G5+I5+K5 -> 3069574 | N5: 전기3-34
A6: 일위 2호 | B6: VCB 교체공사 | C6: 24KV 630A | D6: 대 | E6: 1 | F6: =일위대가표!G18 -> 5400000 | G6: =E6*F6 -> 5400000 | H6: =일위대가표!I18 -> 7381147 | I6: =E6*H6 -> 7381147 | J6: =일위대가표!K18 -> 221434 | K6: =E6*J6 -> 221434 | L6: =F6+H6+J6 -> 13002581 | M6: =G6+I6+K6 -> 13002581 | N6: 전기3-9

Sheet 일위대가표
A1: 일 위 대 가 내 역 서
A2: =일위대가목록!A2 -> 공사명 : 죽전가압장 고압용 진공차단기 교체공사
A3: 품 명 | B3: 규 격 | C3: 단위 | D3: 산출근거 | E3: 수 량 | F3: 재 료 비 | H3: 노 무 비 | J3: 경 비 | L3: 합 계 | N3: 비 고
F4: 단 가 | G4: 금 액 | H4: 단 가 | I4: 금 액 | J4: 단 가 | K4: 금 액 | L4: 단 가 | M4: 금 액 | O4: 손료요율 | P4: 손료구분 | Q4: 적용구분 | R4: 합계구분 | S4: 품목구분 | T4: 조달코드 | U4: 구분
A5: [일위 1호] - [디지털계전기 교체 GIPAM115F 대] | N5: 전기3-34
A6: 디지털계전기 | B6: GIPAM115F | C6: EA | E6: 1 | F6: =단가대비표!O5 -> 2500000 | G6: =ROUNDDOWN(E6*F6, 1) -> 2500000 | H6: 0 | I6: =ROUNDDOWN(E6*H6, 1) -> 0 | J6: 0 | K6: =ROUNDDOWN(E6*J6, 1) -> 0 | L6: =F6+H6+J6 -> 2500000 | M6: =G6+I6+K6 -> 2500000 | P6: 01 | Q6: 기계경비 | R6: 1
A7: 변전전공 | B7: 기타 직종 | C7: 인 | D7: 0.38*2*1.5 | E7: 1.14 | F7: 0 | G7: =ROUNDDOWN(E7*F7, 1) -> 0 | H7: =단가대비표!O9 -> 485075 | I7: =ROUNDDOWN(E7*H7, 1) -> 552985.5 | J7: 0 | K7: =ROUNDDOWN(E7*J7, 1) -> 0 | L7: =F7+H7+J7 -> 485075 | M7: =G7+I7+K7 -> 552985.5 | P7: 02 | Q7: 기계경비 | R7: 1
A8: 공구손료 | B8: ="인력품의 " & O8*100 & "%" -> 인력품의 3% | C8: 식 | E8: 1 | F8: 0 | G8: 0 | H8: 0 | I8: 0 | J8: =SUMIF(P6:P8, "02", I6:I8) -> 552985.5 | K8: =ROUNDDOWN((J8)*O8, 1) -> 16589.5 | L8: =F8+H8+J8 -> 552985.5 | M8: =G8+I8+K8 -> 16589.5 | O8: 0.03 | Q8: 기계경비 | R8: 1 | S8: 25 | T8: A0200000000
A9: 합 계 | G9: =ROUNDDOWN(SUMIF(R6:R8, "1", G6:G8), 0) -> 2500000 | I9: =ROUNDDOWN(SUMIF(R6:R8, "1", I6:I8), 0) -> 552985 | K9: =ROUNDDOWN(SUMIF(R6:R8, "1", K6:K8), 0) -> 16589 | M9: =G9+I9+K9 -> 3069574
A11: [일위 2호] - [VCB 교체공사 24KV 630A 대] | N11: 전기3-9
A12: VCB차단기 (F2급) | B12: 24KV 630A | C12: 대 | E12: 1 | F12: =단가대비표!O8 -> 5400000 | G12: =ROUNDDOWN(E12*F12, 1) -> 5400000 | H12: 0 | I12: =ROUNDDOWN(E12*H12, 1) -> 0 | J12: 0 | K12: =ROUNDDOWN(E12*J12, 1) -> 0 | L12: =F12+H12+J12 -> 5400000 | M12: =G12+I12+K12 -> 5400000 | P12: 01 | Q12: 기계경비 | R12: 1
A13: 변전전공 | B13: 기타 직종 | C13: 인 | D13: 5.9*1.5 | E13: 8.85 | F13: 0 | G13: =ROUNDDOWN(E13*F13, 1) -> 0 | H13: =단가대비표!O9 -> 485075 | I13: =ROUNDDOWN(E13*H13, 1) -> 4292913.7 | J13: 0 | K13: =ROUNDDOWN(E13*J13, 1) -> 0 | L13: =F13+H13+J13 -> 485075 | M13: =G13+I13+K13 -> 4292913.7 | P13: 02 | Q13: 기계경비 | R13: 1
A14: 비계공 | B14: 일반공사 직종 | C14: 인 | D14: 1.4*1.45 | E14: 2.03 | F14: 0 | G14: =ROUNDDOWN(E14*F14, 1) -> 0 | H14: =단가대비표!O11 -> 281939 | I14: =ROUNDDOWN(E14*H14, 1) -> 572336.1 | J14: 0 | K14: =ROUNDDOWN(E14*J14, 1) -> 0 | L14: =F14+H14+J14 -> 281939 | M14: =G14+I14+K14 -> 572336.1 | P14: 02 | Q14: 기계경비 | R14: 1
A15: 특별인부 | B15: 일반공사 직종 | C15: 인 | D15: 6.2*1.5 | E15: 9.3 | F15: 0 | G15: =ROUNDDOWN(E15*F15, 1) -> 0 | H15: =단가대비표!O12 -> 226122 | I15: =ROUNDDOWN(E15*H15, 1) -> 2102934.6 | J15: 0 | K15: =ROUNDDOWN(E15*J15, 1) -> 0 | L15: =F15+H15+J15 -> 226122 | M15: =G15+I15+K15 -> 2102934.6 | P15: 02 | Q15: 기계경비 | R15: 1
A16: 보통인부 | B16: 일반공사 직종 | C16: 인 | D16: 1.6*1.5 | E16: 2.4 | F16: 0 | G16: =ROUNDDOWN(E16*F16, 1) -> 0 | H16: =단가대비표!O10 -> 172068 | I16: =ROUNDDOWN(E16*H16, 1) -> 412963.2 | J16: 0 | K16: =ROUNDDOWN(E16*J16, 1) -> 0 | L16: =F16+H16+J16 -> 172068 | M16: =G16+I16+K16 -> 412963.2 | P16: 02 | Q16: 기계경비 | R16: 1
A17: 공구손료 | B17: ="인력품의 " & O17*100 & "%" -> 인력품의 3% | C17: 식 | E17: 1 | F17: 0 | G17: 0 | H17: 0 | I17: 0 | J17: =SUMIF(P12:P17, "02", I12:I17) -> 7381147.6 | K17: =ROUNDDOWN((J17)*O17, 1) -> 221434.4 | L17: =F17+H17+J17 -> 7381147.6 | M17: =G17+I17+K17 -> 221434.4 | O17: 0.03 | Q17: 기계경비 | R17: 1 | S17: 25 | T17: A0200000000
A18: 합 계 | G18: =ROUNDDOWN(SUMIF(R12:R17, "1", G12:G17), 0) -> 5400000 | I18: =ROUNDDOWN(SUMIF(R12:R17, "1", I12:I17), 0) -> 7381147 | K18: =ROUNDDOWN(SUMIF(R12:R17, "1", K12:K17), 0) -> 221434 | M18: =G18+I18+K18 -> 13002581

Sheet 단가대비표
A1: 단 가 대 비 표
A2: =일위대가표!A2 -> 공사명 : 죽전가압장 고압용 진공차단기 교체공사
A3: 품 명 | B3: 규 격 | C3: 단위 | D3: 물가자료 | F3: 물가정보 | H3: 가격정보 | I3: 거래가격 | K3: 유통물가 | M3: 상반기 | N3: 조사단가 | O3: 적용단가 | P3: 비 고
D4: 단가 | E4: Page | F4: 단가 | G4: Page | H4: 단가 | I4: 단가 | J4: Page | K4: 단가 | L4: Page | M4: 단가 | N4: 단가 | Q4: 구분
A5: 디지털계전기 | B5: GIPAM115F | C5: EA | O5: 2500000
A6: 배터리 | B6: 12V12A | C6: EA | N6: 40000 | O6: =MIN(D6,F6,H6,M6,N6) -> 40000
A7: 부스바 | B7: 제작용 | C7: 식 | O7: 500000
A8: VCB차단기 (F2급) | B8: 24KV 630A | C8: 대 | O8: 5400000
A9: 변전전공 | B9: 기타 직종 | C9: 인 | M9: 485075 | O9: =M9 -> 485075
A10: 보통인부 | B10: 일반공사 직종 | C10: 인 | M10: 172068 | O10: =M10 -> 172068
A11: 비계공 | B11: 일반공사 직종 | C11: 인 | M11: 281939 | O11: =M11 -> 281939
A12: 특별인부 | B12: 일반공사 직종 | C12: 인 | M12: 226122 | O12: =M12 -> 226122

Sheet 사용전검사비(안전공사)
A1: 한 국 전 기 안 전 공 사 사 용 전 검 사 비 산 출 서
A3: 2. 수용설비 변경공사 | H3: [단위 : 원/vat별도]
A4: 검사부문 | C4: 수수료 | E4: 추가요금
A5: 1)차단기 변경공사 | C5: 183000 | E5: 1대초과시 매1대마다 40,400원추가
A6: 사용전검사비 산출
A8: 품목 | C8: 수량 | E8: 수수료 | G8: 합계
A9: VCB차단기 | C9: 2EA | E9: 기본료 183,000원 | G9: 183000
E10: 추가요금 40,400 | G10: 40400
A11: 소계 | G11: =G9+G10 -> 223400
A12: 부가세 10% | G12: =G11*10% -> 22340
A13: 단수정리 (천원이하 절상) | G13: 260
A14: 합계 | G14: =G11+G12+G13 -> 246000

Sheet 견적서

Sheet 폐기물견적서

Sheet Sheet1
