Workbook

Sheet 원가계산서
B1: 공 사 원 가 계 산 서
B2: 공사명 : 편백마을비상소화장치설비공사
B3: 비 목 | E3: 금 액 | F3: 구 성 비 | G3: 비 고
A4: A1 | B4: 순 공 사 원 가 | C4: 재 료 비 | D4: 직 접 재 료 비 | E4: =TRUNC(공종별집계표!F5, 0) -> 0
A5: A2 | D5: 간 접 재 료 비 | E5: 0
A6: A3 | D6: 작업설, 부산물(△) | E6: 0
A7: AS | D7: [ 소 계 ] | E7: =TRUNC(E4+E5-E6, 0) -> 0
A8: B1 | C8: 노 무 비 | D8: 직 접 노 무 비 | E8: =TRUNC(공종별집계표!H5, 0) -> 0
A9: B2 | D9: 간 접 노 무 비 | E9: =TRUNC(E8*0.175, 0) -> 0 | F9: 직접노무비 * 17.5%
A10: BS | D10: [ 소 계 ] | E10: =TRUNC(E8+E9, 0) -> 0
A11: C2 | C11: 경 비 | D11: 경 비 | E11: =TRUNC(공종별집계표!J5, 0) -> 0
A12: C4 | D12: 산 재 보 험 료 | E12: =TRUNC(E10*0.0356, 0) -> 0 | F12: 노무비 * 3.56%
A13: C5 | D13: 고 용 보 험 료 | E13: =TRUNC(E10*0.0101, 0) -> 0 | F13: 노무비 * 1.01%
A14: C6 | D14: 국민 건강 보험료 | E14: =TRUNC(E8*0.03595, 0) -> 0 | F14: 직접노무비 * 3.595%
A15: C7 | D15: 국민 연금 보험료 | E15: =TRUNC(E8*0.0475, 0) -> 0 | F15: 직접노무비 * 4.75%
A16: CA | D16: 산업안전보건관리비 | E16: =TRUNC((E7+E8)*0.0207, 0) -> 0 | F16: (재료비+직노) * 2.07%
A17: CB | D17: 노인장기요양보험료 | E17: =TRUNC(E14*0.1314, 0) -> 0 | F17: 건강보험료 * 13.14%
A18: CG | D18: 기 타 경 비 | E18: =TRUNC((E7+E10)*0.05, 0) -> 0 | F18: (재료비+노무비) * 5%
A19: CM | D19: 석 면 분 담 금 | E19: =TRUNC(E10*0.00006, 0) -> 0 | F19: 노무비 * 0.006%
A20: CN | D20: 임 금 채 권 부 담 금 | E20: =TRUNC(E10*0.0009, 0) -> 0 | F20: 노무비 * 0.09%
A21: CS | D21: [ 소 계 ] | E21: =TRUNC(E11+E12+E13+E14+E15+E16+E17+E18+E19+E20, 0) -> 0
A22: S1 | B22: 계 | E22: =TRUNC(E7+E10+E21, 0) -> 0
A23: D1 | B23: 일 반 관 리 비 | E23: =TRUNC(E22*0.08, 0) -> 0 | F23: 계 * 8%
A24: D2 | B24: 이 윤 | F24: (노무비+경비+일반관리비) * 15%
A25: D9 | B25: 공 급 가 액 | E25: =TRUNC(INT((E22+E23+E24)/10000)*10000, 0) -> 0
A26: DB | B26: 부 가 가 치 세 | E26: =TRUNC(E25*0.1, 0) -> 0 | F26: 공급가액 * 10%
A27: DH | B27: 도 급 액 | E27: =TRUNC(E25+E26, 0) -> 0
A28: S2 | B28: 총 공 사 비 | E28: =TRUNC(E27+0, 0) -> 0

Sheet 공종별집계표
A1: 공 종 별 집 계 표
A2: [ 편백마을비상소화장치설비공사 ]
A3: 품 명 | B3: 규 격 | C3: 단위 | D3: 수량 | E3: 재 료 비 | G3: 노 무 비 | I3: 경 비 | K3: 합 계 | M3: 비 고 | N3: 공종코드 | O3: 변수 | P3: 상위공종 | Q3: 공종구분 | R3: 공종레벨 | S3: 공종소계 | T3: 원가계산서 연결금액
E4: 단 가 | F4: 금 액 | G4: 단 가 | H4: 금 액 | I4: 단 가 | J4: 금 액 | K4: 단 가 | L4: 금 액
A5: 편백마을비상소화장치설비공사 | D5: 1 | E5: =F6 -> 0 | F5: =E5*D5 -> 0 | G5: =H6 -> 0 | H5: =G5*D5 -> 0 | I5: =J6 -> 0 | J5: =I5*D5 -> 0 | K5: =E5+G5+I5 -> 0 | L5: =F5+H5+J5 -> 0 | N5: 01 | R5: 1
A6: 1. 기계소방공사 | D6: 1 | E6: =공종별내역서!F51 -> 0 | F6: =E6*D6 -> 0 | G6: =공종별내역서!H51 -> 0 | H6: =G6*D6 -> 0 | I6: =공종별내역서!J51 -> 0 | J6: =I6*D6 -> 0 | K6: =E6+G6+I6 -> 0 | L6: =F6+H6+J6 -> 0 | N6: 0101 | P6: 01 | R6: 2
A27: [ 합 계 ] | F27: =F5 -> 0 | H27: =H5 -> 0 | J27: =J5 -> 0 | L27: =L5 -> 0

Sheet 공종별내역서
A1: [ 편백마을비상소화장치설비공사 ]
A2: 품 명 | B2: 규 격 | C2: 단위 | D2: 수량 | E2: 재 료 비 | G2: 노 무 비 | I2: 경 비 | K2: 합 계 | M2: 비 고 | N2: 품목코드 | O2: 변수 | P2: 설정 | Q2: 공종코드 | R2: 일위 | S2: 단산 | T2: 자재 | U2: 손료적용 | V2: 손료저장 | W2: 적용율 | X2: JUK1 | Y2: JUK2 | Z2: JUK3 | AA2: JUK4 | AB2: JUK5 | AC2: JUK6 | AD2: JUK7 | AE2: JUK8 | AF2: JUK9 | AG2: JUK10 | AH2: JUK11 | AI2: JUK12 | AJ2: JUK13 | AK2: JUK14 | AL2: JUK15 | AM2: JUK16 | AN2: JUK17 | AO2: JUK18 | AP2: JUK19 | AQ2: JUK20 | AR2: 자재구분 | AS2: 공종구분 | AT2: 공종레벨 | AU2: 공종+자재 | AV2: 고유번호
E3: 단 가 | F3: 금 액 | G3: 단 가 | H3: 금 액 | I3: 단 가 | J3: 금 액 | K3: 단 가 | L3: 금 액
A4: 1. 기계소방공사 | Q4: 0101
A5: 배관용스테인리스강관 | B5: ∮20*2.5mm | C5: M | D5: 3 | N5: 42AA7D7F62083F3881F122DD083051435FF66 | Q5: 0101 | R5: F | S5: F | T5: T | X5: 1 | AU5: 010142AA7D7F62083F3881F122DD083051435FF66 | AV5: 8
A6: 배관용스테인리스강관 | B6: ∮40*2.5mm | C6: M | D6: 3 | N6: 42AA7D7F62083F3881F122DD083051435FCAD | Q6: 0101 | R6: F | S6: F | T6: T | X6: 1 | AU6: 010142AA7D7F62083F3881F122DD083051435FCAD | AV6: 9
A7: 배관용스테인리스강관 | B7: ∮80*2.5mm | C7: M | D7: 63 | N7: 42AA7D7F62083F3881F122DD083051435FCAE | Q7: 0101 | R7: F | S7: F | T7: T | X7: 1 | AU7: 010142AA7D7F62083F3881F122DD083051435FCAE | AV7: 10
A8: 잡재료비 | B8: 주재료비의 3% | C8: 식 | D8: 1 | N8: 44E4703ADDB88239442127B2CBC001 | Q8: 0101 | R8: F | S8: F | T8: F | U8: 0 | V8: 0 | W8: 0.03 | AU8: 010144E4703ADDB88239442127B2CBC001 | AV8: 39
A9: 일반배관용스테인리스강관관이음쇠 | B9: ∮20mm, 유니언, 나사식 | C9: 개 | D9: 3 | N9: 42AA7D7F62083F1D30B123E8593AFC5E8DB7B | Q9: 0101 | R9: F | S9: F | T9: T | AU9: 010142AA7D7F62083F1D30B123E8593AFC5E8DB7B | AV9: 11
A10: 일반배관용스테인리스강관관이음쇠 | B10: ∮20mm, 니플, 나사식 | C10: 개 | D10: 5 | N10: 42AA7D7F62083F1D30B123E8593AFC5E9F92D | Q10: 0101 | R10: F | S10: F | T10: T | AU10: 010142AA7D7F62083F1D30B123E8593AFC5E9F92D | AV10: 12
A11: 일반배관용스테인리스강관관이음쇠 | B11: ∮20mm, 용접식, 엘보, #10 | C11: 개 | D11: 2 | N11: 42AA7D7F62083F1D30B123E8593AFC6FBF621 | Q11: 0101 | R11: F | S11: F | T11: T | AU11: 010142AA7D7F62083F1D30B123E8593AFC6FBF621 | AV11: 13
A12: 일반배관용스테인리스강관관이음쇠 | B12: ∮40mm, 용접식, 엘보, #10 | C12: 개 | D12: 1 | N12: 42AA7D7F62083F1D30B123E8593AFC6FBF624 | Q12: 0101 | R12: F | S12: F | T12: T | AU12: 010142AA7D7F62083F1D30B123E8593AFC6FBF624 | AV12: 14
A13: 일반배관용스테인리스강관관이음쇠 | B13: ∮80mm, 용접식, 엘보, #10 | C13: 개 | D13: 11 | N13: 42AA7D7F62083F1D30B123E8593AFC6FBF62B | Q13: 0101 | R13: F | S13: F | T13: T | AU13: 010142AA7D7F62083F1D30B123E8593AFC6FBF62B | AV13: 15
A14: 일반배관용스테인리스강관관이음쇠 | B14: ∮40mm, 용접식, 티, #10 | C14: 개 | D14: 1 | N14: 42AA7D7F62083F1D30B123E8593AFC6FAE6D4 | Q14: 0101 | R14: F | S14: F | T14: T | AU14: 010142AA7D7F62083F1D30B123E8593AFC6FAE6D4 | AV14: 16
A15: 일반배관용스테인리스강관관이음쇠 | B15: ∮80mm, 용접식, 티, #10 | C15: 개 | D15: 3 | N15: 42AA7D7F62083F1D30B123E8593AFC6FAE6D7 | Q15: 0101 | R15: F | S15: F | T15: T | AU15: 010142AA7D7F62083F1D30B123E8593AFC6FAE6D7 | AV15: 17
A16: 일반배관용스테인리스강관관이음쇠 | B16: ∮80mm, 리듀서, 용접식, #10 | C16: 개 | D16: 4 | N16: 42AA7D7F62083F1D30B123E8593AFC5EE7FDD | Q16: 0101 | R16: F | S16: F | T16: T | AU16: 010142AA7D7F62083F1D30B123E8593AFC5EE7FDD | AV16: 18
A17: 플랜지 | B17: ∮20mm*0.98MPa, STS | C17: 개 | D17: 1 | N17: 42AA7D7F62083F654A9123F555C66461EEF7E | Q17: 0101 | R17: F | S17: F | T17: T | AU17: 010142AA7D7F62083F654A9123F555C66461EEF7E | AV17: 19
A18: 플랜지 | B18: ∮80mm*0.98MPa, STS | C18: 개 | D18: 13 | N18: 42AA7D7F62083F654A9123F555C66461EEF74 | Q18: 0101 | R18: F | S18: F | T18: T | AU18: 010142AA7D7F62083F654A9123F555C66461EEF74 | AV18: 20
A19: 볼밸브 | B19: ∮20mm*0.98MPa, 수동식, STS | C19: 개 | D19: 2 | N19: 42AA7D7F6208038D4B012152F0E9BEE2DD54F | Q19: 0101 | R19: F | S19: F | T19: T | AU19: 010142AA7D7F6208038D4B012152F0E9BEE2DD54F | AV19: 22
A20: 버터플라이밸브 | B20: ∮80mm*0.98MPa, 수동식, B/S밸브, 기어 | C20: 개 | D20: 5 | N20: 42AA7D7F6208038D665122026FB984883FC52 | Q20: 0101 | R20: F | S20: F | T20: T | AU20: 010142AA7D7F6208038D665122026FB984883FC52 | AV20: 21
... A33: 밸브보온(아티론,스텐카바) | B33: 40t*D80 | C33: 개소 | D33: 5 | N33: 45F2703F20B862FDE84125999F5A0 | Q33: 0101 | R33: T | S33: F | T33: F | AU33: 010145F2703F20B862FDE84125999F5A0 | AV33: 38
A34: 수평배관지지 | C34: 개소 | D34: 17 | N34: 45CE73C57C080A910D5120CAC9923 | Q34: 0101 | R34: T | S34: F | T34: F | AU34: 010145CE73C57C080A910D5120CAC9923 | AV34: 30
A35: 관지지대설치(절연) | B35: D80 | C35: 개소 | D35: 2 | N35: 453D74DD50A868ABE6112823AB511 | Q35: 0101 | R35: T | S35: F | T35: F | AU35: 0101453D74DD50A868ABE6112823AB511 | AV35: 31
A36: 장비패드타설(인력비빔) | B36: 무근콘크티트타설, 거푸집포함 | C36: M3 | D36: 1 | N36: 4444772F18387B1F49912F8D68262 | Q36: 0101 | R36: T | S36: F | T36: F | AU36: 01014444772F18387B1F49912F8D68262 | AV36: 32
A37: 보통인부 | B37: 일반공사 직종 | C37: 인 | D37: 2.88 | N37: 45297B4996B850ABEB012E9B7D34A42959876 | Q37: 0101 | R37: F | S37: F | T37: T | Y37: 2 | AU37: 010145297B4996B850ABEB012E9B7D34A42959876 | AV37: 33
A38: 배관공 | B38: 일반공사 직종 | C38: 인 | D38: 8.15 | N38: 45297B4996B850ABEB012E9B7D34A42959BC1 | Q38: 0101 | R38: F | S38: F | T38: T | Y38: 2 | AU38: 010145297B4996B850ABEB012E9B7D34A42959BC1 | AV38: 34
A39: 공구손료 | B39: 인력품의 3% | C39: 식 | D39: 1 | N39: 44E4703ADDB88239442127B2CBF002 | Q39: 0101 | R39: F | S39: F | T39: F | U39: 1 | V39: 0 | W39: 0.03 | AU39: 010144E4703ADDB88239442127B2CBF002 | AV39: 40
Q40: 0101
Q41: 0101
Q42: 0101
Q43: 0101
Q44: 0101
Q45: 0101
Q46: 0101
Q47: 0101
Q48: 0101
Q49: 0101
Q50: 0101
A51: [ 합 계 ] | F51: =SUMIF(Q5:Q50,"0101",F5:F50) -> 0 | H51: =SUMIF(Q5:Q50,"0101",H5:H50) -> 0 | J51: =SUMIF(Q5:Q50,"0101",J5:J50) -> 0 | L51: =SUMIF(Q5:Q50,"0101",L5:L50) -> 0 | N51: TOTAL

Sheet Sheet1
