Workbook

Sheet 원가계산서
A1: 공 사 원 가 계 산 서
A2: [ 청운대학교 은천관 ] | F2: ="금액: 일금 "&NUMBERSTRING(E33,1)&"원정("&TEXT(E33,"#,###원")&")" -> 금액: 일금 영원정(원)
B3: 비 목 | E3: 금 액 | F3: 구 성 비 | G3: 비 고 | H3: A | I3: 8
A4: A10 | B4: 순 공 사 원 가 | C4: 재 료 비 | D4: 직 접 재 료 비 | E4: =TRUNC(공종별집계표!F5, 0) -> 0 | H4: 100 | I4: 직 접 재 료 비 | J4: 0 | K4: 61628720 | L4: 61628720 | M4: 0 | N4: 20120321 | O4: ZZ0000100000
A5: A20 | D5: 간 접 재 료 비 | E5: =TRUNC(, 0) -> 0 | H5: 110 | I5: 간 접 재 료 비 | J5: 0 | L5: 0 | M5: 0 | O5: YZA001000000
A6: A30 | D6: 작업설,부산물(△) | E6: =TRUNC(, 0) -> 0 | H6: 120 | I6: 작업설,부산물(△) | J6: 0 | L6: 0 | M6: 0 | O6: YZA002000000
A7: AZZ | D7: [ 소 계 ] | E7: =TRUNC(E4+E5-E6, 0) -> 0 | H7: 190 | I7: [ 소 계 ] | J7: 0 | K7: A10+A20-A30 | L7: 61628720 | M7: 0 | O7: YZS001000000
A8: B10 | C8: 노 무 비 | D8: 직 접 노 무 비 | E8: =TRUNC(공종별집계표!H5, 0) -> 0 | H8: 200 | I8: 직 접 노 무 비 | J8: 0 | K8: 35875445 | L8: 35875445 | M8: 0 | O8: ZZA000100000
A9: B20 | D9: 간 접 노 무 비 | E9: =TRUNC(E8*0.175, 0) -> 0 | F9: 직접노무비* 17.5% | H9: 210 | I9: 간 접 노 무 비 | J9: 17.5 | K9: B10*%% | L9: 6278202 | M9: 0 | O9: ZZA000200000
A10: BZZ | D10: [ 소 계 ] | E10: =TRUNC(E8+E9, 0) -> 0 | H10: 290 | I10: [ 소 계 ] | J10: 0 | K10: B10+B20 | L10: 42153647 | M10: 0 | O10: YZS002000000
A11: C30 | C11: 경 비 | D11: 산출경비(기계경비) | E11: =TRUNC(공종별집계표!J5, 0) -> 0 | H11: 3100 | I11: 산출경비(기계경비) | J11: 0 | K11: 32906 | L11: 32906 | M11: 0 | O11: ZZB000100000
A12: C90 | D12: 산 재 보 험 료 | E12: =TRUNC(E10*0.0356, 0) -> 0 | F12: 노무비*3.56% | G12: 모든 건설공사 | H12: 3300 | I12: 산 재 보 험 료 | J12: 3.56 | K12: BZZ*%% | L12: 1500669 | M12: 0 | O12: ZZB110100000
A13: CA0 | D13: 고 용 보 험 료 | E13: =TRUNC(E10*0.0101, 0) -> 0 | F13: 노무비 * 1.01% | G13: [7등급+7등급미만] 130억 미만 ~ 81억(고시금액) 이상 | H13: 3400 | I13: 고 용 보 험 료 | J13: 1.01 | K13: BZZ*%% | L13: 425751 | M13: 0 | O13: ZZB120100000
A14: CB0 | D14: 국민 건강 보험료 | E14: =TRUNC(E8*0.03595, 0) -> 0 | F14: 직접노무비* 3.595% | G14: 공사기간 1개월이상 건설공사 | H14: 3500 | I14: 국민 건강 보험료 | J14: 3.595 | K14: B10*%% | L14: 1289722 | M14: 0 | O14: ZZB130100000
A15: CC0 | D15: 국민 연금 보험료 | E15: =TRUNC(E8*0.0475, 0) -> 0 | F15: 직접노무비 * 4.75% | G15: 공사기간 1개월이상 건설공사 | H15: 3600 | I15: 국민 연금 보험료 | J15: 4.75 | K15: B10*%% | L15: 1704083 | M15: 0 | O15: ZZB140100000
A16: CD0 | D16: 노인장기요양보험료 | E16: =TRUNC(E14*0.1314, 0) -> 0 | F16: 건강보험료* 13.14% | G16: 공사기간 1개월이상 건설공사 | H16: 3750 | I16: 노인장기요양보험료 | J16: 13.14 | K16: CB0*%% | L16: 169469 | M16: 0 | O16: ZZB130200000
A17: CE0 | D17: 퇴직 공제 부금비 | E17: =TRUNC(E8*0.023, 0) -> 0 | F17: 직접노무비 * 2.3% | G17: 추정금액 1억원이상 건설공사 | H17: 3775 | I17: 퇴직 공제 부금비 | J17: 2.3 | K17: B10*%% | L17: 825135 | M17: 0 | O17: ZZB200100000
A18: CH0 | D18: 산업안전보건관리비 | E18: =TRUNC((E7+E8+E31/1.1)*0.0311, 0) -> 0 | F18: (재료비+직노+도급자관급) * 3.11% | G18: 5억미만, 일반건설공사(갑) | H18: 3900 | I18: 산업안전보건관리비 | J18: 3.11 | K18: (AZZ+B10+Q10/1.1)*%% | L18: 3032379 | M18: 0 | O18: ZZB300100000
A19: CQ0 | D19: 환경보전비 | E19: =TRUNC((E7+E8+E11)*0.003, 0) -> 0 | F19: (재료비+직노+기계경비) * 0.3% | H19: 4600 | I19: 환경보전비 | J19: 0.3 | K19: (AZZ+B10+C30)*%% | L19: 292611 | M19: 0 | O19: ZZB700100000
A20: CT0 | D20: 기 타 경 비 | E20: =TRUNC((E7+E10)*0.05, 0) -> 0 | F20: (재료비+노무비)* 5% | H20: 4700 | I20: 기 타 경 비 | J20: 5 | K20: (AZZ+BZZ)*%% | L20: 5189118 | M20: 0 | O20: ZZB400100000
D21: 석면분담금 | E21: =E10*0.006% -> 0 | F21: 노무비 * 0.006%
D22: 임금채권부담금 | E22: =E10*0.09% -> 0 | F22: 노무비 * 0.09%
A23: CZZ | D23: [ 소 계 ] | E23: =TRUNC(+E11+E12+E13+E14+E15+E17+E18+E16+E19+E20+E21+E22, 0) -> 0 | H23: 9910 | I23: [ 소 계 ] | J23: 0 | K23: C20+C30+C70+C90+CA0+CB0+CC0+CE0+C60+CH0+CD0+CH3+CH4+CQ0+CT0+CU0+CV0+CW0 | L23: 14461843 | M23: 0 | O23: YZS003000000
A24: DZZ | B24: 계 | E24: =TRUNC(E7+E10+E23, 0) -> 0 | H24: 900710 | I24: 계 | J24: 0 | K24: AZZ+BZZ+CZZ | L24: 118244210 | M24: 0 | O24: YZS004000000
A25: E10 | B25: 일 반 관 리 비 | E25: =TRUNC(E24*0.08, 0) -> 0 | F25: 계 * 8% | H25: 900810 | I25: 일 반 관 리 비 | J25: 8 | K25: DZZ*%% | L25: 9459536 | M25: 0 | O25: ZZC000100000
A26: E20 | B26: 이 윤 | E26: =TRUNC((E10+E23+E25)*0.15, 0) -> 0 | F26: (노무비+경비+일반관리비) * 15% | H26: 900820 | I26: 이 윤 | J26: 15 | K26: (BZZ+CZZ+E10)*%% | L26: 9911253 | M26: 0 | O26: ZZD000100000
A27: F70 | B27: 폐기물처리비 | E27: =TRUNC(공종별집계표!L13, 0) -> 0 | H27: 900880 | I27: 폐기물처리비 | J27: 0 | K27: 1239551 | L27: 1239551 | M27: 0 | O27: YZD006000000
A28: P10 | B28: 공 급 가 액 | E28: =TRUNC(E24+E25+E26+E27, 0) -> 0 | H28: 900900 | I28: 공 급 가 액 | J28: 0 | K28: DZZ+E10+E20+CE1+F30+F40+F10+F60+F70 | L28: 138854550 | M28: 0 | O28: YZD007000000
A29: P20 | B29: 부 가 가 치 세 | E29: =TRUNC(E28*0.1, 0) -> 0 | F29: 공급가액 * 10% | H29: 900920 | I29: 부 가 가 치 세 | J29: 10 | K29: P10*%% | L29: 13885455 | M29: 0 | O29: ZZF000100000
A30: P30 | B30: 도 급 액 | E30: =TRUNC(E28+E29, 0) -> 0 | H30: 900990 | I30: 도 급 액 | J30: 0 | K30: P10+P20 | L30: 152740005 | M30: 0 | O30: YZD014000000
A31: Q10 | B31: 도급자설치관급자재 | E31: =TRUNC(0, 0) -> 0 | F31: 부가세,조달수수료포함 | H31: 1001010 | I31: 도급자설치관급자재 | J31: 0 | L31: 0 | M31: 0 | O31: ZZG000100000
A32: Q20 | B32: 관급자설치관급자재 | E32: =TRUNC(0, 0) -> 0 | F32: 부가세,조달수수료포함 | H32: 1001020 | I32: 관급자설치관급자재 | J32: 0 | L32: 0 | M32: 0 | O32: YZD015000000
A33: W10 | B33: 총 공 사 비 | E33: =TRUNC(E30+E31+E32, 0) -> 0 | H33: 1001100 | I33: 총 공 사 비 | J33: 0 | K33: P30+Q10+Q20+Q30+Q40+Q50+Q60 | L33: 152740005 | M33: 0 | O33: YZS005000000

Sheet 공종별집계표
A1: 공 종 별 집 계 표
A2: [ 청운대학교 은천관 ]
A3: 품 목 | B3: 규 격 | C3: 단위 | D3: 수량 | E3: 재 료 비 | G3: 노 무 비 | I3: 경 비 | K3: 합 계 | M3: 비 고
E4: 단 가 | F4: 금 액 | G4: 단 가 | H4: 금 액 | I4: 단 가 | J4: 금 액 | K4: 단 가 | L4: 금 액
A5: 01 청운대학교 은천관 | C5: 식 | D5: 1 | E5: =F6+F7+F8+F9+F10+F11+F12 -> 0 | F5: =D5*E5 -> 0 | G5: =H6+H7+H8+H9+H10+H11+H12 -> 0 | H5: =D5*G5 -> 0 | I5: =J6+J7+J8+J9+J10+J11+J12 -> 0 | J5: =D5*I5 -> 0 | K5: =E5+G5+I5 -> 0 | L5: =F5+H5+J5 -> 0 | N5: 01 | O5: 100000
A6: 0101 공통가설공사 | C6: 식 | D6: 1 | E6: =공종별내역서!F30 -> 0 | F6: =D6*E6 -> 0 | G6: =공종별내역서!H30 -> 0 | H6: =D6*G6 -> 0 | I6: =공종별내역서!J30 -> 0 | J6: =D6*I6 -> 0 | K6: =E6+G6+I6 -> 0 | L6: =F6+H6+J6 -> 0 | N6: 0101 | O6: 125000 | S6: =HYPERLINK("#공종별내역서!A5", "▶바로가기") -> ▶바로가기
A7: 0102 공통철거공사 | C7: 식 | D7: 1 | E7: =공종별내역서!F56 -> 0 | F7: =D7*E7 -> 0 | G7: =공종별내역서!H56 -> 0 | H7: =D7*G7 -> 0 | I7: =공종별내역서!J56 -> 0 | J7: =D7*I7 -> 0 | K7: =E7+G7+I7 -> 0 | L7: =F7+H7+J7 -> 0 | N7: 0102 | O7: 137500 | S7: =HYPERLINK("#공종별내역서!A31", "▶바로가기") -> ▶바로가기
A8: 0103 공통바닥공사 | C8: 식 | D8: 1 | E8: =공종별내역서!F82 -> 0 | F8: =D8*E8 -> 0 | G8: =공종별내역서!H82 -> 0 | H8: =D8*G8 -> 0 | I8: =공종별내역서!J82 -> 0 | J8: =D8*I8 -> 0 | K8: =E8+G8+I8 -> 0 | L8: =F8+H8+J8 -> 0 | N8: 0103 | O8: 146875 | S8: =HYPERLINK("#공종별내역서!A57", "▶바로가기") -> ▶바로가기
A9: 0104 공통천장공사 | C9: 식 | D9: 1 | E9: =공종별내역서!F108 -> 0 | F9: =D9*E9 -> 0 | G9: =공종별내역서!H108 -> 0 | H9: =D9*G9 -> 0 | I9: =공종별내역서!J108 -> 0 | J9: =D9*I9 -> 0 | K9: =E9+G9+I9 -> 0 | L9: =F9+H9+J9 -> 0 | N9: 0104 | O9: 148437 | S9: =HYPERLINK("#공종별내역서!A83", "▶바로가기") -> ▶바로가기
A10: 0105 벽체마감공사 | C10: 식 | D10: 1 | E10: =공종별내역서!F160 -> 0 | F10: =D10*E10 -> 0 | G10: =공종별내역서!H160 -> 0 | H10: =D10*G10 -> 0 | I10: =공종별내역서!J160 -> 0 | J10: =D10*I10 -> 0 | K10: =E10+G10+I10 -> 0 | L10: =F10+H10+J10 -> 0 | N10: 0105 | O10: 149218 | S10: =HYPERLINK("#공종별내역서!A109", "▶바로가기") -> ▶바로가기
A11: 0106 공통창호공사 | C11: 식 | D11: 1 | E11: =공종별내역서!F186 -> 0 | F11: =D11*E11 -> 0 | G11: =공종별내역서!H186 -> 0 | H11: =D11*G11 -> 0 | I11: =공종별내역서!J186 -> 0 | J11: =D11*I11 -> 0 | K11: =E11+G11+I11 -> 0 | L11: =F11+H11+J11 -> 0 | N11: 0106 | O11: 149609 | S11: =HYPERLINK("#공종별내역서!A161", "▶바로가기") -> ▶바로가기
A12: 0107 제작가구공사 | C12: 식 | D12: 1 | E12: =공종별내역서!F212 -> 0 | F12: =D12*E12 -> 0 | G12: =공종별내역서!H212 -> 0 | H12: =D12*G12 -> 0 | I12: =공종별내역서!J212 -> 0 | J12: =D12*I12 -> 0 | K12: =E12+G12+I12 -> 0 | L12: =F12+H12+J12 -> 0 | N12: 0107 | O12: 149804 | S12: =HYPERLINK("#공종별내역서!A187", "▶바로가기") -> ▶바로가기
A13: 0108 폐기물처리비 | C13: 식 | D13: 1 | E13: =공종별내역서!F238 -> 0 | F13: =D13*E13 -> 0 | G13: =공종별내역서!H238 -> 0 | H13: =D13*G13 -> 0 | I13: =공종별내역서!J238 -> 0 | J13: =D13*I13 -> 0 | K13: =E13+G13+I13 -> 0 | L13: =F13+H13+J13 -> 0 | M13: 합산제외 | N13: 0108 | O13: 149993 | P13: 6 | S13: =HYPERLINK("#공종별내역서!A213", "▶바로가기") -> ▶바로가기
A28: [ 합 계 ] | F28: =F5 -> 0 | H28: =H5 -> 0 | J28: =J5 -> 0 | L28: =L5 -> 0

Sheet 공종별내역서
A1: 공 종 별 내 역 서
A2: [ 청운대학교 은천관 ]
A3: 품 목 | B3: 규 격 | C3: 단위 | D3: 수량 | E3: 재 료 비 | G3: 노 무 비 | I3: 경 비 | K3: 합 계 | M3: 비 고 | N3: 품목코드 | O3: 변수 | P3: 설정 | Q3: 공종코드 | R3: SEQNO | S3: ITEMSEQNO | T3: 일위 | U3: 단산 | V3: 자재 | W3: 산근 | X3: 손료적용 | Y3: 손료저장 | Z3: 적용률 | AA3: JUK1 | AB3: JUK2 | AC3: JUK3 | AD3: JUK4 | AE3: JUK5 | AF3: JUK6 | AG3: JUK7 | AH3: JUK8 | AI3: JUK9 | AJ3: JUK10 | AK3: JUK11 | AL3: JUK12 | AM3: JUK13 | AN3: JUK14 | AO3: JUK15 | AP3: JUK16 | AQ3: JUK17 | AR3: JUK18 | AS3: JUK19 | AT3: JUK20 | AU3: 메모장 | AV3: 조정률 | AW3: 호표번호
E4: 단 가 | F4: 금 액 | G4: 단 가 | H4: 금 액 | I4: 단 가 | J4: 금 액 | K4: 단 가 | L4: 금 액
A5: 0101 공통가설공사 | C5: 식 | D5: 1
A6: 먹매김(구조부 먹매김) | B6: 일반 | C6: M2 | D6: 142 | F6: =TRUNC(D6*E6,0) -> 0 | H6: =TRUNC(D6*G6,0) -> 0 | J6: =TRUNC(D6*I6,0) -> 0 | K6: =TRUNC(E6+G6+I6,0) -> 0 | L6: =TRUNC(F6+H6+J6,0) -> 0 | AY6: =HYPERLINK("#일위대가목록!A4", "▶바로가기") -> ▶바로가기 | BA6: =D6*E6 -> 0 | BB6: =D6*G6 -> 0 | BC6: =D6*I6 -> 0
A7: 건축물 현장정리 | B7: 목조, 철골조, 조적조 | C7: M2 | D7: 142 | F7: =TRUNC(D7*E7,0) -> 0 | H7: =TRUNC(D7*G7,0) -> 0 | J7: =TRUNC(D7*I7,0) -> 0 | K7: =TRUNC(E7+G7+I7,0) -> 0 | L7: =TRUNC(F7+H7+J7,0) -> 0 | AY7: =HYPERLINK("#일위대가목록!A5", "▶바로가기") -> ▶바로가기 | BA7: =D7*E7 -> 0 | BB7: =D7*G7 -> 0 | BC7: =D7*I7 -> 0
A8: 이동식강관말비계 | B8: 1단2m, 3개월 | C8: 대 | D8: 2 | F8: =TRUNC(D8*E8,0) -> 0 | H8: =TRUNC(D8*G8,0) -> 0 | J8: =TRUNC(D8*I8,0) -> 0 | K8: =TRUNC(E8+G8+I8,0) -> 0 | L8: =TRUNC(F8+H8+J8,0) -> 0 | AY8: =HYPERLINK("#일위대가목록!A6", "▶바로가기") -> ▶바로가기 | BA8: =D8*E8 -> 0 | BB8: =D8*G8 -> 0 | BC8: =D8*I8 -> 0
A9: 건축물보양 | B9: 보양지 붙이기 | C9: M2 | D9: 142 | F9: =TRUNC(D9*E9,0) -> 0 | H9: =TRUNC(D9*G9,0) -> 0 | J9: =TRUNC(D9*I9,0) -> 0 | K9: =TRUNC(E9+G9+I9,0) -> 0 | L9: =TRUNC(F9+H9+J9,0) -> 0 | AY9: =HYPERLINK("#일위대가목록!A7", "▶바로가기") -> ▶바로가기 | BA9: =D9*E9 -> 0 | BB9: =D9*G9 -> 0 | BC9: =D9*I9 -> 0
A10: 준공청소 | C10: M2 | D10: 142 | F10: =TRUNC(D10*E10,0) -> 0 | H10: =TRUNC(D10*G10,0) -> 0 | J10: =TRUNC(D10*I10,0) -> 0 | K10: =TRUNC(E10+G10+I10,0) -> 0 | L10: =TRUNC(F10+H10+J10,0) -> 0 | AY10: =HYPERLINK("#일위대가목록!A8", "▶바로가기") -> ▶바로가기 | BA10: =D10*E10 -> 0 | BB10: =D10*G10 -> 0 | BC10: =D10*I10 -> 0
F11: =TRUNC(D11*E11,0) -> 0 | H11: =TRUNC(D11*G11,0) -> 0 | J11: =TRUNC(D11*I11,0) -> 0 | K11: =TRUNC(E11+G11+I11,0) -> 0 | L11: =TRUNC(F11+H11+J11,0) -> 0 | BA11: =D11*E11 -> 0 | BB11: =D11*G11 -> 0 | BC11: =D11*I11 -> 0
F12: =TRUNC(D12*E12,0) -> 0 | H12: =TRUNC(D12*G12,0) -> 0 | J12: =TRUNC(D12*I12,0) -> 0 | K12: =TRUNC(E12+G12+I12,0) -> 0 | L12: =TRUNC(F12+H12+J12,0) -> 0 | BA12: =D12*E12 -> 0 | BB12: =D12*G12 -> 0 | BC12: =D12*I12 -> 0
F13: =TRUNC(D13*E13,0) -> 0 | H13: =TRUNC(D13*G13,0) -> 0 | J13: =TRUNC(D13*I13,0) -> 0 | K13: =TRUNC(E13+G13+I13,0) -> 0 | L13: =TRUNC(F13+H13+J13,0) -> 0 | BA13: =D13*E13 -> 0 | BB13: =D13*G13 -> 0 | BC13: =D13*I13 -> 0
F14: =TRUNC(D14*E14,0) -> 0 | H14: =TRUNC(D14*G14,0) -> 0 | J14: =TRUNC(D14*I14,0) -> 0 | K14: =TRUNC(E14+G14+I14,0) -> 0 | L14: =TRUNC(F14+H14+J14,0) -> 0 | BA14: =D14*E14 -> 0 | BB14: =D14*G14 -> 0 | BC14: =D14*I14 -> 0
F15: =TRUNC(D15*E15,0) -> 0 | H15: =TRUNC(D15*G15,0) -> 0 | J15: =TRUNC(D15*I15,0) -> 0 | K15: =TRUNC(E15+G15+I15,0) -> 0 | L15: =TRUNC(F15+H15+J15,0) -> 0 | BA15: =D15*E15 -> 0 | BB15: =D15*G15 -> 0 | BC15: =D15*I15 -> 0
F16: =TRUNC(D16*E16,0) -> 0 | H16: =TRUNC(D16*G16,0) -> 0 | J16: =TRUNC(D16*I16,0) -> 0 | K16: =TRUNC(E16+G16+I16,0) -> 0 | L16: =TRUNC(F16+H16+J16,0) -> 0 | BA16: =D16*E16 -> 0 | BB16: =D16*G16 -> 0 | BC16: =D16*I16 -> 0
F17: =TRUNC(D17*E17,0) -> 0 | H17: =TRUNC(D17*G17,0) -> 0 | J17: =TRUNC(D17*I17,0) -> 0 | K17: =TRUNC(E17+G17+I17,0) -> 0 | L17: =TRUNC(F17+H17+J17,0) -> 0 | BA17: =D17*E17 -> 0 | BB17: =D17*G17 -> 0 | BC17: =D17*I17 -> 0
F18: =TRUNC(D18*E18,0) -> 0 | H18: =TRUNC(D18*G18,0) -> 0 | J18: =TRUNC(D18*I18,0) -> 0 | K18: =TRUNC(E18+G18+I18,0) -> 0 | L18: =TRUNC(F18+H18+J18,0) -> 0 | BA18: =D18*E18 -> 0 | BB18: =D18*G18 -> 0 | BC18: =D18*I18 -> 0
F19: =TRUNC(D19*E19,0) -> 0 | H19: =TRUNC(D19*G19,0) -> 0 | J19: =TRUNC(D19*I19,0) -> 0 | K19: =TRUNC(E19+G19+I19,0) -> 0 | L19: =TRUNC(F19+H19+J19,0) -> 0 | BA19: =D19*E19 -> 0 | BB19: =D19*G19 -> 0 | BC19: =D19*I19 -> 0
F20: =TRUNC(D20*E20,0) -> 0 | H20: =TRUNC(D20*G20,0) -> 0 | J20: =TRUNC(D20*I20,0) -> 0 | K20: =TRUNC(E20+G20+I20,0) -> 0 | L20: =TRUNC(F20+H20+J20,0) -> 0 | BA20: =D20*E20 -> 0 | BB20: =D20*G20 -> 0 | BC20: =D20*I20 -> 0
F21: =TRUNC(D21*E21,0) -> 0 | H21: =TRUNC(D21*G21,0) -> 0 | J21: =TRUNC(D21*I21,0) -> 0 | K21: =TRUNC(E21+G21+I21,0) -> 0 | L21: =TRUNC(F21+H21+J21,0) -> 0 | BA21: =D21*E21 -> 0 | BB21: =D21*G21 -> 0 | BC21: =D21*I21 -> 0
F22: =TRUNC(D22*E22,0) -> 0 | H22: =TRUNC(D22*G22,0) -> 0 | J22: =TRUNC(D22*I22,0) -> 0 | K22: =TRUNC(E22+G22+I22,0) -> 0 | L22: =TRUNC(F22+H22+J22,0) -> 0 | BA22: =D22*E22 -> 0 | BB22: =D22*G22 -> 0 | BC22: =D22*I22 -> 0
... F29: =TRUNC(D29*E29,0) -> 0 | H29: =TRUNC(D29*G29,0) -> 0 | J29: =TRUNC(D29*I29,0) -> 0 | K29: =TRUNC(E29+G29+I29,0) -> 0 | L29: =TRUNC(F29+H29+J29,0) -> 0 | BA29: =D29*E29 -> 0 | BB29: =D29*G29 -> 0 | BC29: =D29*I29 -> 0
A30: [ 합 계 ] | F30: =TRUNC(SUMIF(Q6:Q29, Q5,F6:F29),0) -> 0 | H30: =TRUNC(SUMIF(Q6:Q29, Q5,H6:H29),0) -> 0 | J30: =TRUNC(SUMIF(Q6:Q29, Q5,J6:J29),0) -> 0 | L30: =F30+H30+J30 -> 0
A31: 0102 공통철거공사 | C31: 식 | D31: 1
A32: 천장 구조틀 철거 | C32: M2 | D32: 142 | F32: =TRUNC(D32*E32,0) -> 0 | H32: =TRUNC(D32*G32,0) -> 0 | J32: =TRUNC(D32*I32,0) -> 0 | K32: =TRUNC(E32+G32+I32,0) -> 0 | L32: =TRUNC(F32+H32+J32,0) -> 0 | AY32: =HYPERLINK("#일위대가목록!A9", "▶바로가기") -> ▶바로가기 | BA32: =D32*E32 -> 0 | BB32: =D32*G32 -> 0 | BC32: =D32*I32 -> 0
A33: 합판 또는 판재류 철거 | B33: 천장, 2PLY | C33: M2 | D33: 142 | F33: =TRUNC(D33*E33,0) -> 0 | H33: =TRUNC(D33*G33,0) -> 0 | J33: =TRUNC(D33*I33,0) -> 0 | K33: =TRUNC(E33+G33+I33,0) -> 0 | L33: =TRUNC(F33+H33+J33,0) -> 0 | AY33: =HYPERLINK("#일위대가목록!A10", "▶바로가기") -> ▶바로가기 | BA33: =D33*E33 -> 0 | BB33: =D33*G33 -> 0 | BC33: =D33*I33 -> 0
A34: 창호 철거 | C34: M2 | D34: 91.58 | F34: =TRUNC(D34*E34,0) -> 0 | H34: =TRUNC(D34*G34,0) -> 0 | J34: =TRUNC(D34*I34,0) -> 0 | K34: =TRUNC(E34+G34+I34,0) -> 0 | L34: =TRUNC(F34+H34+J34,0) -> 0 | AY34: =HYPERLINK("#일위대가목록!A11", "▶바로가기") -> ▶바로가기 | BA34: =D34*E34 -> 0 | BB34: =D34*G34 -> 0 | BC34: =D34*I34 -> 0
A35: 스틸 마감재 철거 | B35: 구조틀+스틸 플레이트 2T 이하 | C35: M2 | D35: 22.5 | F35: =TRUNC(D35*E35,0) -> 0 | H35: =TRUNC(D35*G35,0) -> 0 | J35: =TRUNC(D35*I35,0) -> 0 | K35: =TRUNC(E35+G35+I35,0) -> 0 | L35: =TRUNC(F35+H35+J35,0) -> 0 | AY35: =HYPERLINK("#일위대가목록!A12", "▶바로가기") -> ▶바로가기 | BA35: =D35*E35 -> 0 | BB35: =D35*G35 -> 0 | BC35: =D35*I35 -> 0
F36: =TRUNC(D36*E36,0) -> 0 | H36: =TRUNC(D36*G36,0) -> 0 | J36: =TRUNC(D36*I36,0) -> 0 | K36: =TRUNC(E36+G36+I36,0) -> 0 | L36: =TRUNC(F36+H36+J36,0) -> 0 | BA36: =D36*E36 -> 0 | BB36: =D36*G36 -> 0 | BC36: =D36*I36 -> 0
F37: =TRUNC(D37*E37,0) -> 0 | H37: =TRUNC(D37*G37,0) -> 0 | J37: =TRUNC(D37*I37,0) -> 0 | K37: =TRUNC(E37+G37+I37,0) -> 0 | L37: =TRUNC(F37+H37+J37,0) -> 0 | BA37: =D37*E37 -> 0 | BB37: =D37*G37 -> 0 | BC37: =D37*I37 -> 0
F38: =TRUNC(D38*E38,0) -> 0 | H38: =TRUNC(D38*G38,0) -> 0 | J38: =TRUNC(D38*I38,0) -> 0 | K38: =TRUNC(E38+G38+I38,0) -> 0 | L38: =TRUNC(F38+H38+J38,0) -> 0 | BA38: =D38*E38 -> 0 | BB38: =D38*G38 -> 0 | BC38: =D38*I38 -> 0
F39: =TRUNC(D39*E39,0) -> 0 | H39: =TRUNC(D39*G39,0) -> 0 | J39: =TRUNC(D39*I39,0) -> 0 | K39: =TRUNC(E39+G39+I39,0) -> 0 | L39: =TRUNC(F39+H39+J39,0) -> 0 | BA39: =D39*E39 -> 0 | BB39: =D39*G39 -> 0 | BC39: =D39*I39 -> 0
F40: =TRUNC(D40*E40,0) -> 0 | H40: =TRUNC(D40*G40,0) -> 0 | J40: =TRUNC(D40*I40,0) -> 0 | K40: =TRUNC(E40+G40+I40,0) -> 0 | L40: =TRUNC(F40+H40+J40,0) -> 0 | BA40: =D40*E40 -> 0 | BB40: =D40*G40 -> 0 | BC40: =D40*I40 -> 0
F41: =TRUNC(D41*E41,0) -> 0 | H41: =TRUNC(D41*G41,0) -> 0 | J41: =TRUNC(D41*I41,0) -> 0 | K41: =TRUNC(E41+G41+I41,0) -> 0 | L41: =TRUNC(F41+H41+J41,0) -> 0 | BA41: =D41*E41 -> 0 | BB41: =D41*G41 -> 0 | BC41: =D41*I41 -> 0
F42: =TRUNC(D42*E42,0) -> 0 | H42: =TRUNC(D42*G42,0) -> 0 | J42: =TRUNC(D42*I42,0) -> 0 | K42: =TRUNC(E42+G42+I42,0) -> 0 | L42: =TRUNC(F42+H42+J42,0) -> 0 | BA42: =D42*E42 -> 0 | BB42: =D42*G42 -> 0 | BC42: =D42*I42 -> 0
F43: =TRUNC(D43*E43,0) -> 0 | H43: =TRUNC(D43*G43,0) -> 0 | J43: =TRUNC(D43*I43,0) -> 0 | K43: =TRUNC(E43+G43+I43,0) -> 0 | L43: =TRUNC(F43+H43+J43,0) -> 0 | BA43: =D43*E43 -> 0 | BB43: =D43*G43 -> 0 | BC43: =D43*I43 -> 0
F44: =TRUNC(D44*E44,0) -> 0 | H44: =TRUNC(D44*G44,0) -> 0 | J44: =TRUNC(D44*I44,0) -> 0 | K44: =TRUNC(E44+G44+I44,0) -> 0 | L44: =TRUNC(F44+H44+J44,0) -> 0 | BA44: =D44*E44 -> 0 | BB44: =D44*G44 -> 0 | BC44: =D44*I44 -> 0
F45: =TRUNC(D45*E45,0) -> 0 | H45: =TRUNC(D45*G45,0) -> 0 | J45: =TRUNC(D45*I45,0) -> 0 | K45: =TRUNC(E45+G45+I45,0) -> 0 | L45: =TRUNC(F45+H45+J45,0) -> 0 | BA45: =D45*E45 -> 0 | BB45: =D45*G45 -> 0 | BC45: =D45*I45 -> 0
F46: =TRUNC(D46*E46,0) -> 0 | H46: =TRUNC(D46*G46,0) -> 0 | J46: =TRUNC(D46*I46,0) -> 0 | K46: =TRUNC(E46+G46+I46,0) -> 0 | L46: =TRUNC(F46+H46+J46,0) -> 0 | BA46: =D46*E46 -> 0 | BB46: =D46*G46 -> 0 | BC46: =D46*I46 -> 0
...

Sheet 공사설정
A1: 이 Sheet는 수정하지 마십시요
B2: 공사구분 | C2: A
B3: 확정내역 | C3: 원내역
B4: 자재단가적용 | C4: 5
B5: 노무비단가적용 | C5: 5
B6: 경비단가적용 | C6: 9
B7: 품목코드형식 | C7: XXXXXXXXXXXXXXXXX
B8: 내역금액소수점처리 | C8: C | D8: 1
B9: 일위대가내역소수점처리 | C9: C | D9: 3
B10: 단가명 | C10: 조달청가격 | D10: 거래가격 | E10: 유통물가 | F10: 물가자료 | G10: 물가정보 | H10: 조사가격1 | I10: 조사가격2 | J10: TTTTTTTF
B11: 환율 | C11: 1427 | D11: 932 | E11: 0
B12: 시간당작업량 | C12: R | D12: 5
B13: 1회 사이클시간 | C13: R | D13: 5
B14: 시간당 작업사이클 | C14: R | D14: 4
B15: 일반변수 | C15: C | D15: 6
B16: 시간당 노임산출 계수 | C16: A | D16: 1/8*16/12*25/20 | E16: 1/8*16/12*25/20*24/15 | F16: 1/8*16/12*25/20*12/10 | G16: 1
B17: 재료비 할증 계수 | C17: 1.11 | D17: 1.12
B18: 노무비 할증 계수 | C18: 1 | D18: 1.5 | E18: 1.16 | F18: 1.6 | G18: 1.6 | H18: 1.6 | I18: 1.94 | J18: 1.94 | K18: 1.94 | L18: 1 | M18: 1 | N18: 1
B19: 경비 할증 계수 | C19: 1.25 | D19: 1.071
B20: 내역,일위대가 품명,규격,단위 따로적용
B21: 내역단가 소수점처리 | C21: C | D21: 1
B22: 코드 | C22: 공종구분명 | D22: 원가비목코드
B23: 1 | C23: 미확인 데이터 | D23: 미확인 데이터
B24: 재료비 단가 적용률 | C24: 100
B25: 노무비 단가 적용률 | C25: 100
B26: 경비 단가 적용률 | C26: 100
