Workbook
Name _: "="
Name _______________tt1: "tt1"
Name ______________tt1: "tt1"
Name _____________tt1: "tt1"
Name ____________tt1: "tt1"
Name ___________tt1: "tt1"
Name __________tt1: "tt1"
Name _________ju8: {"'광피스표'!$A$3:$N$54"}
Name _________ju8: {"'광피스표'!$A$3:$N$54"}
Name _________tt1: "tt1"
Name ________ju8: {"'광피스표'!$A$3:$N$54"}
Name ________ju8: {"'광피스표'!$A$3:$N$54"}
Name ________tt1: "tt1"
Name _______AE2: BlankMacro1
Name _______AE2: BlankMacro1
Name _______AE2: BlankMacro1
Name _______AE2: BlankMacro1
Name _______AE3: BlankMacro1
Name _______AE3: BlankMacro1
Name _______AE3: BlankMacro1
Name _______AE3: BlankMacro1
Name _______E1: BlankMacro1
Name _______E1: BlankMacro1
Name _______E1: BlankMacro1
Name _______E1: BlankMacro1
Name _______E10: BlankMacro1
Name _______E10: BlankMacro1
Name _______E10: BlankMacro1
Name _______E10: BlankMacro1
Name _______E2: BlankMacro1
Name _______E2: BlankMacro1
Name _______E2: BlankMacro1
Name _______E2: BlankMacro1
Name _______E3: BlankMacro1
Name _______E3: BlankMacro1
Name _______E3: BlankMacro1
Name _______E3: BlankMacro1
Name _______E4: BlankMacro1
Name _______E4: BlankMacro1
Name _______E4: BlankMacro1
Name _______E4: BlankMacro1
Name _______E5: BlankMacro1
Name _______E5: BlankMacro1
Name _______E5: BlankMacro1
Name _______E5: BlankMacro1
Name _______E6: BlankMacro1
Name _______E6: BlankMacro1
Name _______E6: BlankMacro1
Name _______E6: BlankMacro1
Name _______E7: BlankMacro1
Name _______E7: BlankMacro1
Name _______E7: BlankMacro1
Name _______E7: BlankMacro1
Name _______E8: BlankMacro1
Name _______E8: BlankMacro1
Name _______E8: BlankMacro1
Name _______E8: BlankMacro1
Name _______E9: BlankMacro1
Name _______E9: BlankMacro1
Name _______E9: BlankMacro1

Sheet 총괄원가계산서
A1: 총 괄 공 사 원 가 계 산 서
A3: 공 사 명 : 수산정수장 고도정수처리시설 건설공사
A4: 비목 | C4: 구 분 | D4: 금 액 | E4: 증 감 | F4: 산 출 근 거 | G4: 요율 | H4: 비 고
A5: 순 공 사 원 가 | B5: 재 료 비 | C5: 직 접 재 료 비 | D5: =내역서!H16 -> 0 | I5: 변경
C6: 직 접 재 료 비 | D6: =내역서!H17 -> 0 | E6: =D6-D5 -> 0 | I6: 변경
C7: 소 계 | D7: =D5 -> 0 | I7: 변경
C8: 소 계 | D8: =D6 -> 0 | E8: =D8-D7 -> 0 | I8: 변경
B9: 노 무 비 | C9: 직 접 노 무 비 | D9: =내역서!J16 -> 0 | I9: 변경
C10: 직 접 노 무 비 | D10: =내역서!J17 -> 0 | E10: =D10-D9 -> 0 | I10: 변경
C11: 간 접 노 무 비 | D11: =ROUNDDOWN(D9*G11/100,0) -> 0 | F11: ="[직접노무비] ×"&ROUND(G11,5)&"%" -> [직접노무비] ×12.91613% | G11: 12.916131 | I11: 변경
C12: 간 접 노 무 비 | D12: =ROUNDDOWN(D10*G12/100,0) -> 0 | E12: =D12-D11 -> 0 | F12: ="[직접노무비] ×"&ROUND(G12,5)&"%" -> [직접노무비] ×12.91613% | G12: 12.916131 | I12: 변경
C13: 소 계 | D13: =D9+D11 -> 0 | I13: 변경
C14: 소 계 | D14: =D10+D12 -> 0 | E14: =D14-D13 -> 0 | I14: 변경
B15: 경 비 | C15: 산 출 경 비 | D15: =내역서!L16 -> 0 | I15: 변경
C16: 산 출 경 비 | D16: =내역서!L17 -> 0 | E16: =D16-D15 -> 0 | I16: 변경
C17: 산 재 보 험 료 | D17: =ROUNDDOWN(D$13*$G$18%,0) -> 0 | F17: ="[직접노무비+간접노무비] ×"&ROUND(G17,5)&"%" -> [직접노무비+간접노무비] ×3.7667% | G17: 3.7666992 | I17: 변경
C18: 산 재 보 험 료 | D18: =ROUNDDOWN(D$14*$G$18%,0) -> 0 | E18: =D18-D17 -> 0 | F18: ="[직접노무비+간접노무비] ×"&ROUND(G18,5)&"%" -> [직접노무비+간접노무비] ×3.7667% | G18: 3.7666992 | I18: 변경
C19: 고 용 보 험 료 | D19: =ROUNDDOWN(D$13*$G19%,0) -> 0 | F19: ="[직접노무비+간접노무비] ×"&ROUND(G19,5)&"%" -> [직접노무비+간접노무비] ×1.07955% | G19: 1.0795468 | I19: 변경
C20: 고 용 보 험 료 | D20: =ROUNDDOWN(D$14*$G20%,0) -> 0 | E20: =D20-D19 -> 0 | F20: ="[직접노무비+간접노무비] ×"&ROUND(G20,5)&"%" -> [직접노무비+간접노무비] ×1.07955% | G20: 1.0795468 | I20: 변경
C21: 건 강 보 험 료 | D21: =ROUNDDOWN(D$13*$G21%,0) -> 0 | F21: ="[직접노무비] ×"&ROUND(G21,5)&"%" -> [직접노무비] ×3.94231% | G21: 3.9423072 | I21: 변경
C22: 건 강 보 험 료 | D22: =ROUNDDOWN(D$14*$G22%,0) -> 0 | E22: =D22-D21 -> 0 | F22: ="[직접노무비] ×"&ROUND(G22,5)&"%" -> [직접노무비] ×3.94231% | G22: 3.9423072 | I22: 변경
C23: 노 인 장 기 요 양 보 험 료 | D23: =ROUNDDOWN(D$21*$G23%,0) -> 0 | F23: ="[건강보험료] ×"&ROUND(G23,5)&"%" -> [건강보험료] ×12.27% | G23: 12.27 | I23: 변경
C24: 노 인 장 기 요 양 보 험 료 | D24: =ROUNDDOWN(D$22*$G24%,0) -> 0 | E24: =D24-D23 -> 0 | F24: ="[건강보험료] ×"&ROUND(G24,5)&"%" -> [건강보험료] ×12.27% | G24: 12.27 | I24: 변경
C25: 국 민 연 금 보 험 료 | D25: =ROUNDDOWN(D$9*$G25%,0) -> 0 | F25: ="[직접노무비] ×"&ROUND(G25,5)&"%" -> [직접노무비] ×5.07593% | G25: 5.0759321 | I25: 변경
C26: 국 민 연 금 보 험 료 | D26: =ROUNDDOWN(D$10*$G26%,0) -> 0 | E26: =D26-D25 -> 0 | F26: ="[직접노무비] ×"&ROUND(G26,5)&"%" -> [직접노무비] ×5.07593% | G26: 5.0759321 | I26: 변경
C27: 퇴 직 공 제 부 금 비 | D27: =ROUNDDOWN(D$9*$G27%,0) -> 0 | F27: ="[직접노무비] ×"&ROUND(G27,5)&"%" -> [직접노무비] ×2.59437% | G27: 2.5943653 | I27: 변경
C28: 퇴 직 공 제 부 금 비 | D28: =ROUNDDOWN(D$10*$G28%,0) -> 0 | E28: =D28-D27 -> 0 | F28: ="[직접노무비] ×"&ROUND(G28,5)&"%" -> [직접노무비] ×2.59437% | G28: 2.5943653 | I28: 변경
C29: 산 업 안 전 보 건 관 리 비 | D29: =ROUNDDOWN(((D7+D9)*$G29%),0) -> 0 | F29: ="([직노+직재+간재] ×"&ROUND(G29,5)&"%" -> ([직노+직재+간재] ×2.62213% | G29: 2.6221306 | I29: 변경
C30: 산 업 안 전 보 건 관 리 비 | D30: =ROUNDDOWN(((D8+D10)*$G30%),0) -> 0 | E30: =D30-D29 -> 0 | F30: ="([직노+직재+간재] ×"&ROUND(G30,5)&"%" -> ([직노+직재+간재] ×2.62213% | G30: 2.6221306 | I30: 변경
C31: 안 전 관 리 비 | D31: =내역서!N1266 -> 0 | I31: 변경
C32: 안 전 관 리 비 | D32: =내역서!N1267 -> 0 | E32: =D32-D31 -> 0 | I32: 변경
C33: 품 질 관 리 비 | D33: =내역서!N1248 -> 0 | I33: 변경
C34: 품 질 관 리 비 | D34: =내역서!N1249 -> 0 | E34: =D34-D33 -> 0 | I34: 변경
C35: 환 경 보 전 비 | D35: =ROUNDDOWN((D7+D9+D15)*$G35%,0) -> 0 | F35: ="[재료비+직접노무비+산출경비] ×"&ROUND(G35,5)&"%" -> [재료비+직접노무비+산출경비] ×0.5% | G35: 0.5 | I35: 변경
C36: 환 경 보 전 비 | D36: =ROUNDDOWN((D8+D10+D16)*$G36%,0) -> 0 | E36: =D36-D35 -> 0 | F36: ="[재료비+직접노무비+산출경비] ×"&ROUND(G36,5)&"%" -> [재료비+직접노무비+산출경비] ×0.5% | G36: 0.5 | I36: 변경
C37: 공 사 이 행 보 증 수 수 료 | D37: 0 | F37: 공사이행 발급 수수료 계상 | G37: 0.0077 | I37: 변경
C38: 공 사 이 행 보 증 수 수 료 | D38: 0 | E38: =D38-D37 -> 0 | F38: 공사이행 발급 수수료 계상 | G38: 0.0077 | I38: 변경
C39: 하 도 급 대 금 지 급 보 증 수 수 료 | D39: =ROUNDDOWN((D5+D9+D15)*$G39%,0) -> 0 | F39: ="[재료비+직접노무비+산출경비] ×"&ROUND(G39,5)&"%" -> [재료비+직접노무비+산출경비] ×0.071% | G39: 0.071 | I39: 변경
C40: 하 도 급 대 금 지 급 보 증 수 수 료 | D40: =ROUNDDOWN((D6+D10+D16)*$G40%,0) -> 0 | E40: =D40-D39 -> 0 | F40: ="[재료비+직접노무비+산출경비] ×"&ROUND(G40,5)&"%" -> [재료비+직접노무비+산출경비] ×0.071% | G40: 0.071 | I40: 변경
C41: 건 설 기 계 대 여 금 지 급 보 증 금 액 | D41: =ROUNDDOWN((D7+D9+D15)*$G41%,0) -> 0 | F41: ="[재료비+직접노무비+산출경비] ×"&ROUND(G41,5)&"%" -> [재료비+직접노무비+산출경비] ×0.4% | G41: 0.4 | I41: 변경
...

Sheet 내역서
B1: 실 정 보 고 내 역 서
B3: 공 사 명 : 수산정수장 고도정수처리시설 건설공사
B4: 번호 | C4: 공 종 명 | D4: 규 격 | E4: 단위 | F4: 수 량 | G4: 재 료 비 | I4: 노 무 비 | K4: 경 비 | M4: 합 계 | O4: 증 ·감 | R4: 비 고 | T4: 최초수량
G5: 단가 | H5: 금액 | I5: 단가 | J5: 금액 | K5: 단가 | L5: 금액 | M5: 단가 | N5: 금액 | O5: 수량 | P5: 단가 | Q5: 금액
A6: 당초 | B6: Ⅰ. | C6: 토목공사 | H6: =H18 -> 0 | J6: =J18 -> 0 | L6: =L18 -> 0 | N6: =H6+J6+L6 -> 0 | T6: 0
A7: 변경 | B7: Ⅰ. | C7: 토목공사 | H7: =H19 -> 0 | J7: =J19 -> 0 | L7: =L19 -> 0 | N7: =H7+J7+L7 -> 0 | O7: =F7-F6 -> 0 | P7: =M7-M6 -> 0 | Q7: =N7-N6 -> 0 | T7: 0
A8: 당초 | B8: Ⅱ. | C8: 건축공사 | H8: =H1280 -> 0 | J8: =J1280 -> 0 | L8: =L1280 -> 0 | N8: =H8+J8+L8 -> 0 | T8: 0
A9: 변경 | B9: Ⅱ. | C9: 건축공사 | H9: =H1281 -> 0 | J9: =J1281 -> 0 | L9: =L1281 -> 0 | N9: =H9+J9+L9 -> 0 | O9: =F9-F8 -> 0 | P9: =M9-M8 -> 0 | Q9: =N9-N8 -> 0 | T9: 0
A10: 당초 | B10: Ⅲ. | C10: 기계공사 | H10: =H2034 -> 0 | J10: =J2034 -> 0 | L10: =L2034 -> 0 | N10: =H10+J10+L10 -> 0 | T10: 0
A11: 변경 | B11: Ⅲ. | C11: 기계공사 | H11: =H2035 -> 0 | J11: =J2035 -> 0 | L11: =L2035 -> 0 | N11: =H11+J11+L11 -> 0 | O11: =F11-F10 -> 0 | P11: =M11-M10 -> 0 | Q11: =N11-N10 -> 0 | T11: 0
A12: 당초 | B12: Ⅳ. | C12: 조경공사 | H12: =H2790 -> 0 | J12: =J2790 -> 0 | L12: =L2790 -> 0 | N12: =H12+J12+L12 -> 0 | T12: 0
A13: 변경 | B13: Ⅳ. | C13: 조경공사 | H13: =H2791 -> 0 | J13: =J2791 -> 0 | L13: =L2791 -> 0 | N13: =H13+J13+L13 -> 0 | O13: =F13-F12 -> 0 | P13: =M13-M12 -> 0 | Q13: =N13-N12 -> 0 | T13: 0
A14: 당초 | B14: Ⅴ. | C14: 퇴수관로 | H14: =H3224 -> 0 | J14: =J3224 -> 0 | L14: =L3224 -> 0 | N14: =H14+J14+L14 -> 0 | T14: 0
A15: 변경 | B15: Ⅴ. | C15: 퇴수관로 | J15: =J3225 -> 0 | L15: =L3225 -> 0 | N15: =H15+J15+L15 -> 0 | O15: =F15-F14 -> 0 | P15: =M15-M14 -> 0 | Q15: =N15-N14 -> 0 | T15: 0
A16: 당초 | C16: 직접공사비 계 | H16: =H6+H8+H10+H12+H14 -> 0 | J16: =J6+J8+J10+J12+J14 -> 0 | L16: =L6+L8+L10+L12+L14 -> 0 | N16: =H16+J16+L16 -> 0 | T16: 0
A17: 변경 | C17: 직접공사비 계 | H17: =H7+H9+H11+H13+H15 -> 0 | J17: =J7+J9+J11+J13+J15 -> 0 | L17: =L7+L9+L11+L13+L15 -> 0 | N17: =H17+J17+L17 -> 0 | O17: =F17-F16 -> 0 | P17: =M17-M16 -> 0 | Q17: =N17-N16 -> 0 | T17: 0
A18: 당초 | B18: Ⅰ. | C18: 토목공사 | H18: =H20+H90+H466+H654+H712+H936+H1086+H1124+H1220 -> 0 | J18: =J20+J90+J466+J654+J712+J936+J1086+J1124+J1220 -> 0 | L18: =L20+L90+L466+L654+L712+L936+L1086+L1124+L1220 -> 0 | N18: =H18+J18+L18 -> 0 | T18: 0
A19: 변경 | B19: Ⅰ. | C19: 토목공사 | H19: =H21+H91+H467+H655+H713+H937+H1087+H1125+H1221 -> 0 | J19: =J21+J91+J467+J655+J713+J937+J1087+J1125+J1221 -> 0 | L19: =L21+L91+L467+L655+L713+L937+L1087+L1125+L1221 -> 0 | N19: =H19+J19+L19 -> 0 | O19: =F19-F18 -> 0 | P19: =M19-M18 -> 0 | Q19: =N19-N18 -> 0 | T19: 0
A20: 당초 | B20: 1. | C20: 토 공 | H20: =SUMIF($A$22:$A$89,"당초",H22:H89) -> 0 | J20: =SUMIF($A$22:$A$89,"당초",J22:J89) -> 0 | L20: =SUMIF($A$22:$A$89,"당초",L22:L89) -> 0 | N20: =SUMIF($A$23:$A$89,"변경",N22:N88) -> 0 | T20: 0
A21: 변경 | B21: 1. | C21: 토 공 | H21: =SUMIF($A$22:$A$89,"변경",H22:H89) -> 0 | J21: =SUMIF($A$22:$A$89,"변경",J22:J89) -> 0 | L21: =SUMIF($A$22:$A$89,"변경",L22:L89) -> 0 | N21: =SUMIF($A$23:$A$89,"변경",N23:N89) -> 0 | O21: =F21-F20 -> 0 | P21: =M21-M20 -> 0 | Q21: =N21-N20 -> 0 | T21: 0
A22: 당초 | C22: 굴착:토 사,L= 50m | D22: (B.H 1.0㎥+덤프운반) | E22: ㎥ | G22: 1060 | H22: =INT($F22*G22) -> 0 | I22: 904.8 | J22: =INT($F22*I22) -> 0 | K22: 596.1 | L22: =INT($F22*K22) -> 0 | M22: =+G22+I22+K22 -> 2560.9 | N22: =H22+J22+L22 -> 0 | T22: 28923
A23: 변경 | C23: 굴착:토 사,L= 50m | D23: (B.H 1.0㎥+덤프운반) | E23: ㎥ | G23: 1060 | H23: =INT($F23*G23) -> 0 | I23: 904.8 | J23: =INT($F23*I23) -> 0 | K23: 596.1 | L23: =INT($F23*K23) -> 0 | M23: =+G23+I23+K23 -> 2560.9 | N23: =H23+J23+L23 -> 0 | O23: =F23-F22 -> 0 | P23: =M23-M22 -> 0 | Q23: =N23-N22 -> 0 | T23: 28923
A24: 당초 | C24: 굴착 (활성탄 흡착지 1구간) | D24: (B.H + 크람셀) | E24: ㎥ | G24: 2468 | H24: =INT($F24*G24) -> 0 | I24: 7167 | J24: =INT($F24*I24) -> 0 | K24: 4630 | L24: =INT($F24*K24) -> 0 | M24: =+G24+I24+K24 -> 14265 | N24: =+H24+J24+L24 -> 0 | R24: 신규단가 | T24: 6395
A25: 변경 | C25: 굴착 (활성탄 흡착지 1구간) | D25: (B.H + 크람셀) | E25: ㎥ | G25: 2468 | H25: =INT($F25*G25) -> 0 | I25: 7167 | J25: =INT($F25*I25) -> 0 | K25: 4630 | L25: =INT($F25*K25) -> 0 | M25: =+G25+I25+K25 -> 14265 | N25: =+H25+J25+L25 -> 0 | O25: =F25-F24 -> 0 | P25: =M25-M24 -> 0 | Q25: =N25-N24 -> 0 | R25: 신규단가 | T25: 6395
A26: 당초 | C26: 굴착 (활성탄 흡착지 2구간) | D26: (B.H + 크람셀) | E26: ㎥ | G26: 1477 | H26: =INT($F26*G26) -> 0 | I26: 2805 | J26: =INT($F26*I26) -> 0 | K26: 3398 | L26: =INT($F26*K26) -> 0 | M26: =+G26+I26+K26 -> 7680 | N26: =+H26+J26+L26 -> 0 | R26: 신규단가 | T26: 8259
A27: 변경 | C27: 굴착 (활성탄 흡착지 2구간) | D27: (B.H + 크람셀) | E27: ㎥ | G27: 1477 | H27: =INT($F27*G27) -> 0 | I27: 2805 | J27: =INT($F27*I27) -> 0 | K27: 3398 | L27: =INT($F27*K27) -> 0 | M27: =+G27+I27+K27 -> 7680 | N27: =+H27+J27+L27 -> 0 | O27: =F27-F26 -> 0 | P27: =M27-M26 -> 0 | Q27: =N27-N26 -> 0 | R27: 신규단가 | T27: 8259
A28: 당초 | C28: 굴착 (활성탄 흡착지 3구간) | D28: (B.H + 크람셀) | E28: ㎥ | G28: 2041.2 | H28: =INT($F28*G28) -> 0 | I28: 4051 | J28: =INT($F28*I28) -> 0 | K28: 3888 | L28: =INT($F28*K28) -> 0 | M28: =+G28+I28+K28 -> 9980.2 | N28: =+H28+J28+L28 -> 0 | R28: 신규단가 | T28: 9370
A29: 변경 | C29: 굴착 (활성탄 흡착지 3구간) | D29: (B.H + 크람셀) | E29: ㎥ | G29: 2041.2 | H29: =INT($F29*G29) -> 0 | I29: 4051 | J29: =INT($F29*I29) -> 0 | K29: 3888 | L29: =INT($F29*K29) -> 0 | M29: =+G29+I29+K29 -> 9980.2 | N29: =+H29+J29+L29 -> 0 | O29: =F29-F28 -> 0 | P29: =M29-M28 -> 0 | Q29: =N29-N28 -> 0 | R29: 신규단가 | T29: 9370
A30: 당초 | C30: 절취:토 사,L= 50m | D30: (B.H 1.0㎥+덤프운반) | E30: ㎥ | G30: 1060 | H30: =INT($F30*G30) -> 0 | I30: 904.8 | J30: =INT($F30*I30) -> 0 | K30: 596.1 | L30: =INT($F30*K30) -> 0 | M30: =+G30+I30+K30 -> 2560.9 | N30: =H30+J30+L30 -> 0 | T30: 8285
A31: 변경 | C31: 절취:토 사,L= 50m | D31: (B.H 1.0㎥+덤프운반) | E31: ㎥ | G31: 1060 | H31: =INT($F31*G31) -> 0 | I31: 904.8 | J31: =INT($F31*I31) -> 0 | K31: 596.1 | L31: =INT($F31*K31) -> 0 | M31: =+G31+I31+K31 -> 2560.9 | N31: =H31+J31+L31 -> 0 | O31: =F31-F30 -> 0 | P31: =M31-M30 -> 0 | Q31: =N31-N30 -> 0 | T31: 8285
A32: 당초 | C32: 상차(사토) | D32: (B.H 1.0㎥) | E32: ㎥ | G32: 454 | H32: =INT($F32*G32) -> 0 | I32: 693 | J32: =INT($F32*I32) -> 0 | K32: 373 | L32: =INT($F32*K32) -> 0 | M32: =+G32+I32+K32 -> 1520 | N32: =H32+J32+L32 -> 0 | R32: 신규단가 | T32: 5736
A33: 변경 | C33: 상차(사토) | D33: (B.H 1.0㎥) | E33: ㎥ | G33: 454 | H33: =INT($F33*G33) -> 0 | I33: 693 | J33: =INT($F33*I33) -> 0 | K33: 373 | L33: =INT($F33*K33) -> 0 | M33: =+G33+I33+K33 -> 1520 | N33: =H33+J33+L33 -> 0 | O33: =F33-F32 -> 0 | P33: =M33-M32 -> 0 | Q33: =N33-N32 -> 0 | R33: 신규단가 | T33: 5736
A34: 당초 | C34: 기계터파기/보통토사/5m이하 | D34: 양호 | E34: ㎥ | G34: 371.9 | H34: =INT($F34*G34) -> 0 | I34: 616.2 | J34: =INT($F34*I34) -> 0 | K34: 352 | L34: =INT($F34*K34) -> 0 | M34: =+G34+I34+K34 -> 1340.1 | N34: =H34+J34+L34 -> 0 | T34: 11087
A35: 변경 | C35: 기계터파기/보통토사/5m이하 | D35: 양호 | E35: ㎥ | G35: 371.9 | H35: =INT($F35*G35) -> 0 | I35: 616.2 | J35: =INT($F35*I35) -> 0 | K35: 352 | L35: =INT($F35*K35) -> 0 | M35: =+G35+I35+K35 -> 1340.1 | N35: =H35+J35+L35 -> 0 | O35: =F35-F34 -> 0 | P35: =M35-M34 -> 0 | Q35: =N35-N34 -> 0 | T35: 11087
A36: 당초 | C36: 기계터파기/보통토사/5m초과 | D36: 양호 | E36: ㎥ | G36: 397.9 | H36: =INT($F36*G36) -> 0 | I36: 660.1 | J36: =INT($F36*I36) -> 0 | K36: 376.9 | L36: =INT($F36*K36) -> 0 | M36: =+G36+I36+K36 -> 1434.9 | N36: =H36+J36+L36 -> 0 | T36: 936
A37: 변경 | C37: 기계터파기/보통토사/5m초과 | D37: 양호 | E37: ㎥ | G37: 397.9 | H37: =INT($F37*G37) -> 0 | I37: 660.1 | J37: =INT($F37*I37) -> 0 | K37: 376.9 | L37: =INT($F37*K37) -> 0 | M37: =+G37+I37+K37 -> 1434.9 | N37: =H37+J37+L37 -> 0 | O37: =F37-F36 -> 0 | P37: =M37-M36 -> 0 | Q37: =N37-N36 -> 0 | T37: 936
A38: 당초 | C38: 되메우기:토사 | D38: (B.H 0.2㎥+핸드가이드식로울러) | E38: ㎥ | G38: 630.4 | H38: =INT($F38*G38) -> 0 | I38: 2494.4 | J38: =INT($F38*I38) -> 0 | K38: 547.2 | L38: =INT($F38*K38) -> 0 | M38: =+G38+I38+K38 -> 3672 | N38: =H38+J38+L38 -> 0 | T38: 13334
A39: 변경 | C39: 되메우기:토사 | D39: (B.H 0.2㎥+핸드가이드식로울러) | E39: ㎥ | G39: 630.4 | H39: =INT($F39*G39) -> 0 | I39: 2494.4 | J39: =INT($F39*I39) -> 0 | K39: 547.2 | L39: =INT($F39*K39) -> 0 | M39: =+G39+I39+K39 -> 3672 | N39: =H39+J39+L39 -> 0 | O39: =F39-F38 -> 0 | P39: =M39-M38 -> 0 | Q39: =N39-N38 -> 0 | T39: 13334
A40: 당초 | C40: 되메우기:토[관상부] | D40: (B.H 1.0㎥+핸드가이드식로울러) | E40: ㎥ | G40: 600.7 | H40: =INT($F40*G40) -> 0 | I40: 1463.2 | J40: =INT($F40*I40) -> 0 | K40: 316.1 | L40: =INT($F40*K40) -> 0 | M40: =+G40+I40+K40 -> 2380 | N40: =H40+J40+L40 -> 0 | T40: 6160
A41: 변경 | C41: 되메우기:토[관상부] | D41: (B.H 1.0㎥+핸드가이드식로울러) | E41: ㎥ | G41: 600.7 | H41: =INT($F41*G41) -> 0 | I41: 1463.2 | J41: =INT($F41*I41) -> 0 | K41: 316.1 | L41: =INT($F41*K41) -> 0 | M41: =+G41+I41+K41 -> 2380 | N41: =H41+J41+L41 -> 0 | O41: =F41-F40 -> 0 | P41: =M41-M40 -> 0 | Q41: =N41-N40 -> 0 | T41: 6160
...

Sheet 원가(K1)
A1: 물가변동 (1회) 변경 원가계산서
A3: 공 사 명 : 수산정수장 고도정수처리시설 건설공사
A4: 비목 | C4: 구 분 | D4: 금 액 | E4: 증 감 | F4: 산 출 근 거 | G4: 요율 | H4: 비 고
A5: 순 공 사 원 가 | B5: 재 료 비 | C5: 직 접 재 료 비 | D5: ='내역(K1)'!K16 -> 0
C6: 직 접 재 료 비 | D6: ='내역(K1)'!K17 -> 0 | E6: =D6-D5 -> 0
C7: 소 계 | D7: =D5 -> 0
C8: 소 계 | D8: =D6 -> 0 | E8: =D8-D7 -> 0
B9: 노 무 비 | C9: 직 접 노 무 비 | D9: ='내역(K1)'!M16 -> 0
C10: 직 접 노 무 비 | D10: ='내역(K1)'!M17 -> 0 | E10: =D10-D9 -> 0
C11: 간 접 노 무 비 | D11: =ROUNDDOWN(D9*G11/100,0) -> 0 | F11: ="[직접노무비] ×"&ROUND(G11,5)&"%" -> [직접노무비] ×12.91613% | G11: 12.916131
C12: 간 접 노 무 비 | D12: =ROUNDDOWN(D10*G12/100,0) -> 0 | E12: =D12-D11 -> 0 | F12: ="[직접노무비] ×"&ROUND(G12,5)&"%" -> [직접노무비] ×12.91613% | G12: 12.916131
C13: 소 계 | D13: =D9+D11 -> 0
C14: 소 계 | D14: =D10+D12 -> 0 | E14: =D14-D13 -> 0
B15: 경 비 | C15: 산 출 경 비 | D15: ='내역(K1)'!O16 -> 0
C16: 산 출 경 비 | D16: ='내역(K1)'!O17 -> 0 | E16: =D16-D15 -> 0
C17: 산 재 보 험 료 | D17: =ROUNDDOWN(D$13*$G$18%,0) -> 0 | F17: ="[직접노무비+간접노무비] ×"&ROUND(G17,5)&"%" -> [직접노무비+간접노무비] ×3.7667% | G17: 3.7666992
C18: 산 재 보 험 료 | D18: =ROUNDDOWN(D$14*$G$18%,0) -> 0 | E18: =D18-D17 -> 0 | F18: ="[직접노무비+간접노무비] ×"&ROUND(G18,5)&"%" -> [직접노무비+간접노무비] ×3.7667% | G18: 3.7666992
C19: 고 용 보 험 료 | D19: =ROUNDDOWN(D$13*$G19%,0) -> 0 | F19: ="[직접노무비+간접노무비] ×"&ROUND(G19,5)&"%" -> [직접노무비+간접노무비] ×1.07955% | G19: 1.0795468
C20: 고 용 보 험 료 | D20: =ROUNDDOWN(D$14*$G20%,0) -> 0 | E20: =D20-D19 -> 0 | F20: ="[직접노무비+간접노무비] ×"&ROUND(G20,5)&"%" -> [직접노무비+간접노무비] ×1.07955% | G20: 1.0795468
C21: 건 강 보 험 료 | D21: =ROUNDDOWN(D$13*$G21%,0) -> 0 | F21: ="[직접노무비] ×"&ROUND(G21,5)&"%" -> [직접노무비] ×3.94231% | G21: 3.9423072
C22: 건 강 보 험 료 | D22: =ROUNDDOWN(D$14*$G22%,0) -> 0 | E22: =D22-D21 -> 0 | F22: ="[직접노무비] ×"&ROUND(G22,5)&"%" -> [직접노무비] ×3.94231% | G22: 3.9423072
C23: 노 인 장 기 요 양 보 험 료 | D23: =ROUNDDOWN(D$21*$G23%,0) -> 0 | F23: ="[건강보험료] ×"&ROUND(G23,5)&"%" -> [건강보험료] ×12.27% | G23: 12.27
C24: 노 인 장 기 요 양 보 험 료 | D24: =ROUNDDOWN(D$22*$G24%,0) -> 0 | E24: =D24-D23 -> 0 | F24: ="[건강보험료] ×"&ROUND(G24,5)&"%" -> [건강보험료] ×12.27% | G24: 12.27
C25: 국 민 연 금 보 험 료 | D25: =ROUNDDOWN(D$9*$G25%,0) -> 0 | F25: ="[직접노무비] ×"&ROUND(G25,5)&"%" -> [직접노무비] ×5.07593% | G25: 5.0759321
C26: 국 민 연 금 보 험 료 | D26: =ROUNDDOWN(D$10*$G26%,0) -> 0 | E26: =D26-D25 -> 0 | F26: ="[직접노무비] ×"&ROUND(G26,5)&"%" -> [직접노무비] ×5.07593% | G26: 5.0759321
C27: 퇴 직 공 제 부 금 비 | D27: =ROUNDDOWN(D$9*$G27%,0) -> 0 | F27: ="[직접노무비] ×"&ROUND(G27,5)&"%" -> [직접노무비] ×2.59437% | G27: 2.5943653
C28: 퇴 직 공 제 부 금 비 | D28: =ROUNDDOWN(D$10*$G28%,0) -> 0 | E28: =D28-D27 -> 0 | F28: ="[직접노무비] ×"&ROUND(G28,5)&"%" -> [직접노무비] ×2.59437% | G28: 2.5943653
C29: 산 업 안 전 보 건 관 리 비 | D29: =ROUNDDOWN(((D7+D9)*$G29%),0) -> 0 | F29: ="([직노+직재+간재] ×"&ROUND(G29,5)&"%" -> ([직노+직재+간재] ×2.62213% | G29: 2.6221306
C30: 산 업 안 전 보 건 관 리 비 | D30: =ROUNDDOWN(((D8+D10)*$G30%),0) -> 0 | E30: =D30-D29 -> 0 | F30: ="([직노+직재+간재] ×"&ROUND(G30,5)&"%" -> ([직노+직재+간재] ×2.62213% | G30: 2.6221306
C31: 안 전 관 리 비 | D31: =내역서!N1266 -> 0
C32: 안 전 관 리 비 | D32: =내역서!N1267 -> 0 | E32: =D32-D31 -> 0
C33: 품 질 관 리 비 | D33: =내역서!N1248 -> 0
C34: 품 질 관 리 비 | D34: =내역서!N1249 -> 0 | E34: =D34-D33 -> 0
C35: 환 경 보 전 비 | D35: =ROUNDDOWN((D7+D9+D15)*$G35%,0) -> 0 | F35: ="[재료비+직접노무비+산출경비] ×"&ROUND(G35,5)&"%" -> [재료비+직접노무비+산출경비] ×0.5% | G35: 0.5
C36: 환 경 보 전 비 | D36: =ROUNDDOWN((D8+D10+D16)*$G36%,0) -> 0 | E36: =D36-D35 -> 0 | F36: ="[재료비+직접노무비+산출경비] ×"&ROUND(G36,5)&"%" -> [재료비+직접노무비+산출경비] ×0.5% | G36: 0.5
C37: 공 사 이 행 보 증 수 수 료 | D37: 0 | F37: 공사이행 발급 수수료 계상 | G37: 0.0077
C38: 공 사 이 행 보 증 수 수 료 | D38: 0 | E38: =D38-D37 -> 0 | F38: 공사이행 발급 수수료 계상 | G38: 0.0077
C39: 하 도 급 대 금 지 급 보 증 수 수 료 | D39: =ROUNDDOWN((D5+D9+D15)*$G39%,0) -> 0 | F39: ="[재료비+직접노무비+산출경비] ×"&ROUND(G39,5)&"%" -> [재료비+직접노무비+산출경비] ×0.071% | G39: 0.071
C40: 하 도 급 대 금 지 급 보 증 수 수 료 | D40: =ROUNDDOWN((D6+D10+D16)*$G40%,0) -> 0 | E40: =D40-D39 -> 0 | F40: ="[재료비+직접노무비+산출경비] ×"&ROUND(G40,5)&"%" -> [재료비+직접노무비+산출경비] ×0.071% | G40: 0.071
C41: 건 설 기 계 대 여 금 지 급 보 증 금 액 | D41: =ROUNDDOWN((D7+D9+D15)*$G41%,0) -> 0 | F41: ="[재료비+직접노무비+산출경비] ×"&ROUND(G41,5)&"%" -> [재료비+직접노무비+산출경비] ×0.4% | G41: 0.4
...

Sheet 내역(K1)
B1: 물가변동(1회) 변경 내역서
B3: 공 사 명 : 수산정수장 고도정수처리시설 건설공사
B4: 번호 | C4: 공 종 명 | D4: 규 격 | E4: 단위 | F4: 전체수량 | G4: 2회변경 설계수량 | H4: 1회시점 ES 수량 | I4: 실정보고 적용수량 | J4: 재 료 비 | L4: 노 무 비 | N4: 경 비 | P4: 합 계 | R4: 증 ·감 | U4: 비 고
J5: 단가 | K5: 금액 | L5: 단가 | M5: 금액 | N5: 단가 | O5: 금액 | P5: 단가 | Q5: 금액 | R5: 수량 | S5: 단가 | T5: 금액
A6: 당초 | B6: Ⅰ. | C6: 토목공사 | F6: 0 | H6: 0 | K6: =K18 -> 0 | M6: =M18 -> 0 | O6: =O18 -> 0 | Q6: =K6+M6+O6 -> 0
A7: 변경 | B7: Ⅰ. | C7: 토목공사 | F7: 0 | H7: 0 | K7: =K19 -> 0 | M7: =M19 -> 0 | O7: =O19 -> 0 | Q7: =K7+M7+O7 -> 0 | R7: =I7-I6 -> 0 | S7: =P7-P6 -> 0 | T7: =Q7-Q6 -> 0
A8: 당초 | B8: Ⅱ. | C8: 건축공사 | F8: 0 | H8: 0 | K8: =K1276 -> 0 | M8: =M1276 -> 0 | O8: =O1276 -> 0 | Q8: =K8+M8+O8 -> 0
A9: 변경 | B9: Ⅱ. | C9: 건축공사 | F9: 0 | H9: 0 | K9: =K1277 -> 0 | M9: =M1277 -> 0 | O9: =O1277 -> 0 | Q9: =K9+M9+O9 -> 0 | R9: =I9-I8 -> 0 | S9: =P9-P8 -> 0 | T9: =Q9-Q8 -> 0
A10: 당초 | B10: Ⅲ. | C10: 기계공사 | F10: 0 | H10: 0 | K10: =K2030 -> 0 | M10: =M2030 -> 0 | O10: =O2030 -> 0 | Q10: =K10+M10+O10 -> 0
A11: 변경 | B11: Ⅲ. | C11: 기계공사 | F11: 0 | H11: 0 | K11: =K2031 -> 0 | M11: =M2031 -> 0 | O11: =O2031 -> 0 | Q11: =K11+M11+O11 -> 0 | R11: =I11-I10 -> 0 | S11: =P11-P10 -> 0 | T11: =Q11-Q10 -> 0
A12: 당초 | B12: Ⅳ. | C12: 조경공사 | F12: 0 | H12: 0 | K12: =K2786 -> 0 | M12: =M2786 -> 0 | O12: =O2786 -> 0 | Q12: =K12+M12+O12 -> 0
A13: 변경 | B13: Ⅳ. | C13: 조경공사 | F13: 0 | H13: 0 | K13: =K2787 -> 0 | M13: =M2787 -> 0 | O13: =O2787 -> 0 | Q13: =K13+M13+O13 -> 0 | R13: =I13-I12 -> 0 | S13: =P13-P12 -> 0 | T13: =Q13-Q12 -> 0
A14: 당초 | B14: Ⅳ. | C14: 퇴수관로 | F14: 0 | H14: 0 | K14: =K3220 -> 0 | M14: =M3220 -> 0 | O14: =O3220 -> 0 | Q14: =K14+M14+O14 -> 0
A15: 변경 | B15: Ⅳ. | C15: 퇴수관로 | F15: 0 | H15: 0 | K15: =K3221 -> 0 | M15: =M3221 -> 0 | O15: =O3221 -> 0 | Q15: =K15+M15+O15 -> 0 | R15: =I15-I14 -> 0 | S15: =P15-P14 -> 0 | T15: =Q15-Q14 -> 0
A16: 당초 | C16: 직접공사비 계 | F16: 0 | H16: 0 | K16: =K6+K8+K10+K12+K14 -> 0 | M16: =M6+M8+M10+M12+M14 -> 0 | O16: =O6+O8+O10+O12+O14 -> 0 | Q16: =K16+M16+O16 -> 0
A17: 변경 | C17: 직접공사비 계 | F17: 0 | H17: 0 | K17: =K7+K9+K11+K13+K15 -> 0 | M17: =M7+M9+M11+M13+M15 -> 0 | O17: =O7+O9+O11+O13+O15 -> 0 | Q17: =K17+M17+O17 -> 0 | R17: =I17-I16 -> 0 | S17: =P17-P16 -> 0 | T17: =Q17-Q16 -> 0
A18: 당초 | B18: Ⅰ. | C18: 토목공사 | F18: 0 | H18: 0 | K18: =K20+K90+K466+K654+K708+K932+K1082+K1120+K1216 -> 0 | M18: =M20+M90+M466+M654+M708+M932+M1082+M1120+M1216 -> 0 | O18: =O20+O90+O466+O654+O708+O932+O1082+O1120+O1216 -> 0 | Q18: =K18+M18+O18 -> 0 | V18: =+IF(I18<0,"ng","")
A19: 변경 | B19: Ⅰ. | C19: 토목공사 | F19: 0 | H19: 0 | K19: =K21+K91+K467+K655+K709+K933+K1083+K1121+K1217 -> 0 | M19: =M21+M91+M467+M655+M709+M933+M1083+M1121+M1217 -> 0 | O19: =O21+O91+O467+O655+O709+O933+O1083+O1121+O1217 -> 0 | Q19: =K19+M19+O19 -> 0 | R19: =I19-I18 -> 0 | S19: =P19-P18 -> 0 | T19: =Q19-Q18 -> 0 | V19: =+IF(I19<0,"ng","")
A20: 당초 | B20: 1. | C20: 토 공 | F20: 0 | H20: 0 | K20: =SUMIF($A$22:$A$89,"당초",K22:K89) -> 0 | M20: =SUMIF($A$22:$A$89,"당초",M22:M89) -> 0 | O20: =SUMIF($A$22:$A$89,"당초",O22:O89) -> 0 | Q20: =K20+M20+O20 -> 0 | V20: =+IF(I20<0,"ng","")
A21: 변경 | B21: 1. | C21: 토 공 | F21: 0 | H21: 0 | K21: =SUMIF($A$22:$A$89,"변경",K22:K89) -> 0 | M21: =SUMIF($A$22:$A$89,"변경",M22:M89) -> 0 | O21: =SUMIF($A$22:$A$89,"변경",O22:O89) -> 0 | Q21: =K21+M21+O21 -> 0 | R21: =I21-I20 -> 0 | S21: =P21-P20 -> 0 | T21: =Q21-Q20 -> 0 | V21: =+IF(I21<0,"ng","")
A22: 당초 | C22: 굴착:토 사,L= 50m | D22: (B.H 1.0㎥+덤프운반) | E22: ㎥ | F22: 53731 | G22: =[5]내역서!F22 -> 28923 | H22: =G22 -> 28923 | I22: =내역서!F22 -> 0 | J22: 1060 | K22: =INT($I22*J22) -> 0 | L22: 904.8 | M22: =INT($I22*L22) -> 0 | N22: 596.1 | O22: =INT($I22*N22) -> 0 | P22: =+J22+L22+N22 -> 2560.9 | Q22: =K22+M22+O22 -> 0 | V22: =+IF(I22<0,"ng","")
A23: 변경 | C23: 굴착:토 사,L= 50m | D23: (B.H 1.0㎥+덤프운반) | E23: ㎥ | F23: 53731 | G23: =[5]내역서!F23 -> 28923 | H23: =G23 -> 28923 | I23: =내역서!F23 -> 0 | J23: 1060 | K23: =INT($I23*J23) -> 0 | L23: 904.8 | M23: =INT($I23*L23) -> 0 | N23: 596.1 | O23: =INT($I23*N23) -> 0 | P23: =+J23+L23+N23 -> 2560.9 | Q23: =K23+M23+O23 -> 0 | R23: =I23-I22 -> 0 | S23: =P23-P22 -> 0 | T23: =Q23-Q22 -> 0 | V23: =+IF(I23<0,"ng","")
A24: 당초 | C24: 굴착 (활성탄 흡착지 1구간) | D24: (B.H + 크람셀) | E24: ㎥ | F24: 0 | G24: =[5]내역서!F24 -> 6395 | I24: =내역서!F24 -> 0 | J24: 2468 | K24: =INT($I24*J24) -> 0 | L24: 7167 | M24: =INT($I24*L24) -> 0 | N24: 4630 | O24: =INT($I24*N24) -> 0 | P24: =+J24+L24+N24 -> 14265 | Q24: =+K24+M24+O24 -> 0 | U24: 신규단가 | V24: =+IF(I24<0,"ng","")
A25: 변경 | C25: 굴착 (활성탄 흡착지 1구간) | D25: (B.H + 크람셀) | E25: ㎥ | F25: 0 | G25: =[5]내역서!F25 -> 6395 | I25: =내역서!F25 -> 0 | J25: 2468 | K25: =INT($I25*J25) -> 0 | L25: 7167 | M25: =INT($I25*L25) -> 0 | N25: 4630 | O25: =INT($I25*N25) -> 0 | P25: =+J25+L25+N25 -> 14265 | Q25: =+K25+M25+O25 -> 0 | R25: =I25-I24 -> 0 | S25: =P25-P24 -> 0 | T25: =Q25-Q24 -> 0 | U25: 신규단가 | V25: =+IF(I25<0,"ng","")
A26: 당초 | C26: 굴착 (활성탄 흡착지 2구간) | D26: (B.H + 크람셀) | E26: ㎥ | F26: 0 | G26: =[5]내역서!F26 -> 8259 | I26: =내역서!F26 -> 0 | J26: 1477 | K26: =INT($I26*J26) -> 0 | L26: 2805 | M26: =INT($I26*L26) -> 0 | N26: 3398 | O26: =INT($I26*N26) -> 0 | P26: =+J26+L26+N26 -> 7680 | Q26: =+K26+M26+O26 -> 0 | U26: 신규단가 | V26: =+IF(I26<0,"ng","")
A27: 변경 | C27: 굴착 (활성탄 흡착지 2구간) | D27: (B.H + 크람셀) | E27: ㎥ | F27: 0 | G27: =[5]내역서!F27 -> 8259 | I27: =내역서!F27 -> 0 | J27: 1477 | K27: =INT($I27*J27) -> 0 | L27: 2805 | M27: =INT($I27*L27) -> 0 | N27: 3398 | O27: =INT($I27*N27) -> 0 | P27: =+J27+L27+N27 -> 7680 | Q27: =+K27+M27+O27 -> 0 | R27: =I27-I26 -> 0 | S27: =P27-P26 -> 0 | T27: =Q27-Q26 -> 0 | U27: 신규단가 | V27: =+IF(I27<0,"ng","")
A28: 당초 | C28: 굴착 (활성탄 흡착지 3구간) | D28: (B.H + 크람셀) | E28: ㎥ | F28: 0 | G28: =[5]내역서!F28 -> 9370 | I28: =내역서!F28 -> 0 | J28: 2041.2 | K28: =INT($I28*J28) -> 0 | L28: 4051 | M28: =INT($I28*L28) -> 0 | N28: 3888 | O28: =INT($I28*N28) -> 0 | P28: =+J28+L28+N28 -> 9980.2 | Q28: =+K28+M28+O28 -> 0 | U28: 신규단가 | V28: =+IF(I28<0,"ng","")
A29: 변경 | C29: 굴착 (활성탄 흡착지 3구간) | D29: (B.H + 크람셀) | E29: ㎥ | F29: 0 | G29: =[5]내역서!F29 -> 9370 | I29: =내역서!F29 -> 0 | J29: 2041.2 | K29: =INT($I29*J29) -> 0 | L29: 4051 | M29: =INT($I29*L29) -> 0 | N29: 3888 | O29: =INT($I29*N29) -> 0 | P29: =+J29+L29+N29 -> 9980.2 | Q29: =+K29+M29+O29 -> 0 | R29: =I29-I28 -> 0 | S29: =P29-P28 -> 0 | T29: =Q29-Q28 -> 0 | U29: 신규단가 | V29: =+IF(I29<0,"ng","")
A30: 당초 | C30: 절취:토 사,L= 50m | D30: (B.H 1.0㎥+덤프운반) | E30: ㎥ | F30: 8285 | G30: =[5]내역서!F30 -> 8285 | H30: 0 | I30: =내역서!F30 -> 0 | J30: 1060 | K30: =INT($I30*J30) -> 0 | L30: 904.8 | M30: =INT($I30*L30) -> 0 | N30: 596.1 | O30: =INT($I30*N30) -> 0 | P30: =+J30+L30+N30 -> 2560.9 | Q30: =K30+M30+O30 -> 0 | V30: =+IF(I30<0,"ng","")
A31: 변경 | C31: 절취:토 사,L= 50m | D31: (B.H 1.0㎥+덤프운반) | E31: ㎥ | F31: 8285 | G31: =[5]내역서!F31 -> 8285 | H31: 0 | I31: =내역서!F31 -> 0 | J31: 1060 | K31: =INT($I31*J31) -> 0 | L31: 904.8 | M31: =INT($I31*L31) -> 0 | N31: 596.1 | O31: =INT($I31*N31) -> 0 | P31: =+J31+L31+N31 -> 2560.9 | Q31: =K31+M31+O31 -> 0 | R31: =I31-I30 -> 0 | S31: =P31-P30 -> 0 | T31: =Q31-Q30 -> 0 | V31: =+IF(I31<0,"ng","")
A32: 당초 | C32: 상차(사토) | D32: (B.H 1.0㎥) | E32: ㎥ | F32: 0 | G32: =[5]내역서!F32 -> 5736 | I32: =내역서!F32 -> 0 | J32: 454 | K32: =INT($I32*J32) -> 0 | L32: 693 | M32: =INT($I32*L32) -> 0 | N32: 373 | O32: =INT($I32*N32) -> 0 | P32: =+J32+L32+N32 -> 1520 | Q32: =K32+M32+O32 -> 0 | U32: 신규단가 | V32: =+IF(I32<0,"ng","")
A33: 변경 | C33: 상차(사토) | D33: (B.H 1.0㎥) | E33: ㎥ | F33: 0 | G33: =[5]내역서!F33 -> 5736 | I33: =내역서!F33 -> 0 | J33: 454 | K33: =INT($I33*J33) -> 0 | L33: 693 | M33: =INT($I33*L33) -> 0 | N33: 373 | O33: =INT($I33*N33) -> 0 | P33: =+J33+L33+N33 -> 1520 | Q33: =K33+M33+O33 -> 0 | R33: =I33-I32 -> 0 | S33: =P33-P32 -> 0 | T33: =Q33-Q32 -> 0 | U33: 신규단가 | V33: =+IF(I33<0,"ng","")
A34: 당초 | C34: 기계터파기/보통토사/5m이하 | D34: 양호 | E34: ㎥ | F34: =+G34 -> 11087 | G34: =[5]내역서!F34 -> 11087 | H34: =G34 -> 11087 | I34: =내역서!F34 -> 0 | J34: 371.9 | K34: =INT($I34*J34) -> 0 | L34: 616.2 | M34: =INT($I34*L34) -> 0 | N34: 352 | O34: =INT($I34*N34) -> 0 | P34: =+J34+L34+N34 -> 1340.1 | Q34: =K34+M34+O34 -> 0 | V34: =+IF(I34<0,"ng","")
A35: 변경 | C35: 기계터파기/보통토사/5m이하 | D35: 양호 | E35: ㎥ | F35: =+G35 -> 11087 | G35: =[5]내역서!F35 -> 11087 | H35: =G35 -> 11087 | I35: =내역서!F35 -> 0 | J35: 371.9 | K35: =INT($I35*J35) -> 0 | L35: 616.2 | M35: =INT($I35*L35) -> 0 | N35: 352 | O35: =INT($I35*N35) -> 0 | P35: =+J35+L35+N35 -> 1340.1 | Q35: =K35+M35+O35 -> 0 | R35: =I35-I34 -> 0 | S35: =P35-P34 -> 0 | T35: =Q35-Q34 -> 0 | V35: =+IF(I35<0,"ng","")
A36: 당초 | C36: 기계터파기/보통토사/5m초과 | D36: 양호 | E36: ㎥ | F36: 5677 | G36: =[5]내역서!F36 -> 936 | H36: =G36 -> 936 | I36: =내역서!F36 -> 0 | J36: 397.9 | K36: =INT($I36*J36) -> 0 | L36: 660.1 | M36: =INT($I36*L36) -> 0 | N36: 376.9 | O36: =INT($I36*N36) -> 0 | P36: =+J36+L36+N36 -> 1434.9 | Q36: =K36+M36+O36 -> 0 | V36: =+IF(I36<0,"ng","")
A37: 변경 | C37: 기계터파기/보통토사/5m초과 | D37: 양호 | E37: ㎥ | F37: 5677 | G37: =[5]내역서!F37 -> 936 | H37: =G37 -> 936 | I37: =내역서!F37 -> 0 | J37: 397.9 | K37: =INT($I37*J37) -> 0 | L37: 660.1 | M37: =INT($I37*L37) -> 0 | N37: 376.9 | O37: =INT($I37*N37) -> 0 | P37: =+J37+L37+N37 -> 1434.9 | Q37: =K37+M37+O37 -> 0 | R37: =I37-I36 -> 0 | S37: =P37-P36 -> 0 | T37: =Q37-Q36 -> 0 | V37: =+IF(I37<0,"ng","")
A38: 당초 | C38: 되메우기:토사 | D38: (B.H 0.2㎥+핸드가이드식로울러) | E38: ㎥ | F38: 14118 | G38: =[5]내역서!F38 -> 13334 | H38: =G38 -> 13334 | I38: =내역서!F38 -> 0 | J38: 630.4 | K38: =INT($I38*J38) -> 0 | L38: 2494.4 | M38: =INT($I38*L38) -> 0 | N38: 547.2 | O38: =INT($I38*N38) -> 0 | P38: =+J38+L38+N38 -> 3672 | Q38: =K38+M38+O38 -> 0 | V38: =+IF(I38<0,"ng","")
A39: 변경 | C39: 되메우기:토사 | D39: (B.H 0.2㎥+핸드가이드식로울러) | E39: ㎥ | F39: 14118 | G39: =[5]내역서!F39 -> 13334 | H39: =G39 -> 13334 | I39: =내역서!F39 -> 0 | J39: 630.4 | K39: =INT($I39*J39) -> 0 | L39: 2494.4 | M39: =INT($I39*L39) -> 0 | N39: 547.2 | O39: =INT($I39*N39) -> 0 | P39: =+J39+L39+N39 -> 3672 | Q39: =K39+M39+O39 -> 0 | R39: =I39-I38 -> 0 | S39: =P39-P38 -> 0 | T39: =Q39-Q38 -> 0 | V39: =+IF(I39<0,"ng","")
A40: 당초 | C40: 되메우기:토[관상부] | D40: (B.H 1.0㎥+핸드가이드식로울러) | E40: ㎥ | F40: 10782 | G40: =[5]내역서!F40 -> 6160 | H40: =G40 -> 6160 | I40: =내역서!F40 -> 0 | J40: 600.7 | K40: =INT($I40*J40) -> 0 | L40: 1463.2 | M40: =INT($I40*L40) -> 0 | N40: 316.1 | O40: =INT($I40*N40) -> 0 | P40: =+J40+L40+N40 -> 2380 | Q40: =K40+M40+O40 -> 0 | V40: =+IF(I40<0,"ng","")
A41: 변경 | C41: 되메우기:토[관상부] | D41: (B.H 1.0㎥+핸드가이드식로울러) | E41: ㎥ | F41: 10782 | G41: =[5]내역서!F41 -> 6160 | H41: =G41 -> 6160 | I41: =내역서!F41 -> 0 | J41: 600.7 | K41: =INT($I41*J41) -> 0 | L41: 1463.2 | M41: =INT($I41*L41) -> 0 | N41: 316.1 | O41: =INT($I41*N41) -> 0 | P41: =+J41+L41+N41 -> 2380 | Q41: =K41+M41+O41 -> 0 | R41: =I41-I40 -> 0 | S41: =P41-P40 -> 0 | T41: =Q41-Q40 -> 0 | V41: =+IF(I41<0,"ng","")
...

Sheet 원가(K2)
A1: 물가변동 (2회) 변경 원가계산서
A3: 공 사 명 : 수산정수장 고도정수처리시설 건설공사
A4: 비목 | C4: 구 분 | D4: 금 액 | E4: 증 감 | F4: 산 출 근 거 | G4: 요율 | H4: 비 고
A5: 순 공 사 원 가 | B5: 재 료 비 | C5: 직 접 재 료 비 | D5: ='내역(K2)'!L16 -> 0
C6: 직 접 재 료 비 | D6: ='내역(K2)'!L17 -> 0 | E6: =D6-D5 -> 0
C7: 소 계 | D7: =D5 -> 0
C8: 소 계 | D8: =D6 -> 0 | E8: =D8-D7 -> 0
B9: 노 부 비 | C9: 직 접 노 무 비 | D9: ='내역(K2)'!N16 -> 0
C10: 직 접 노 무 비 | D10: ='내역(K2)'!N17 -> 0 | E10: =D10-D9 -> 0
C11: 간 접 노 무 비 | D11: =ROUNDDOWN(D9*G11/100,0) -> 0 | F11: ="[직접노무비] ×"&ROUND(G11,5)&"%" -> [직접노무비] ×12.91613% | G11: 12.916131 | J11: 1034933073
C12: 간 접 노 무 비 | D12: =ROUNDDOWN(D10*G12/100,0) -> 0 | E12: =D12-D11 -> 0 | F12: ="[직접노무비] ×"&ROUND(G12,5)&"%" -> [직접노무비] ×12.91613% | G12: 12.916131 | J12: 1034933073
C13: 소 계 | D13: =D9+D11 -> 0
C14: 소 계 | D14: =D10+D12 -> 0 | E14: =D14-D13 -> 0
B15: 경 비 | C15: 산 출 경 비 | D15: ='내역(K2)'!P16 -> 0
C16: 산 출 경 비 | D16: ='내역(K2)'!P17 -> 0 | E16: =D16-D15 -> 0
C17: 산 재 보 험 료 | D17: =ROUNDDOWN(D$13*$G$18%,0) -> 0 | F17: ="[직접노무비+간접노무비] ×"&ROUND(G17,5)&"%" -> [직접노무비+간접노무비] ×3.7667% | G17: 3.7666992 | J17: 340797782
C18: 산 재 보 험 료 | D18: =ROUNDDOWN(D$14*$G$18%,0) -> 0 | E18: =D18-D17 -> 0 | F18: ="[직접노무비+간접노무비] ×"&ROUND(G18,5)&"%" -> [직접노무비+간접노무비] ×3.7667% | G18: 3.7666992 | J18: 340797782
C19: 고 용 보 험 료 | D19: =ROUNDDOWN(D$13*$G19%,0) -> 0 | F19: ="[직접노무비+간접노무비] ×"&ROUND(G19,5)&"%" -> [직접노무비+간접노무비] ×1.07955% | G19: 1.0795468 | J19: 97673622
C20: 고 용 보 험 료 | D20: =ROUNDDOWN(D$14*$G20%,0) -> 0 | E20: =D20-D19 -> 0 | F20: ="[직접노무비+간접노무비] ×"&ROUND(G20,5)&"%" -> [직접노무비+간접노무비] ×1.07955% | G20: 1.0795468 | J20: 97673622
C21: 건 강 보 험 료 | D21: =ROUNDDOWN(D$13*$G21%,0) -> 0 | F21: ="[직접노무비] ×"&ROUND(G21,5)&"%" -> [직접노무비] ×3.94231% | G21: 3.9423072 | J21: 315885941
C22: 건 강 보 험 료 | D22: =ROUNDDOWN(D$14*$G22%,0) -> 0 | E22: =D22-D21 -> 0 | F22: ="[직접노무비] ×"&ROUND(G22,5)&"%" -> [직접노무비] ×3.94231% | G22: 3.9423072 | J22: 315885941
C23: 노 인 장 기 요 양 보 험 료 | D23: =ROUNDDOWN(D$21*$G23%,0) -> 0 | F23: ="[건강보험료] ×"&ROUND(G23,5)&"%" -> [건강보험료] ×12.27% | G23: 12.27 | J23: 38759205
C24: 노 인 장 기 요 양 보 험 료 | D24: =ROUNDDOWN(D$22*$G24%,0) -> 0 | E24: =D24-D23 -> 0 | F24: ="[건강보험료] ×"&ROUND(G24,5)&"%" -> [건강보험료] ×12.27% | G24: 12.27 | J24: 38759205
C25: 국 민 연 금 보 험 료 | D25: =ROUNDDOWN(D$9*$G25%,0) -> 0 | F25: ="[직접노무비] ×"&ROUND(G25,5)&"%" -> [직접노무비] ×5.07593% | G25: 5.0759321 | J25: 406720097
C26: 국 민 연 금 보 험 료 | D26: =ROUNDDOWN(D$10*$G26%,0) -> 0 | E26: =D26-D25 -> 0 | F26: ="[직접노무비] ×"&ROUND(G26,5)&"%" -> [직접노무비] ×5.07593% | G26: 5.0759321 | J26: 406720097
C27: 퇴 직 공 제 부 금 비 | D27: =ROUNDDOWN(D$9*$G27%,0) -> 0 | F27: ="[직접노무비] ×"&ROUND(G27,5)&"%" -> [직접노무비] ×2.59437% | G27: 2.5943653 | J27: 207879160
C28: 퇴 직 공 제 부 금 비 | D28: =ROUNDDOWN(D$10*$G28%,0) -> 0 | E28: =D28-D27 -> 0 | F28: ="[직접노무비] ×"&ROUND(G28,5)&"%" -> [직접노무비] ×2.59437% | G28: 2.5943653 | J28: 207879160
C29: 산 업 안 전 보 건 관 리 비 | D29: =ROUNDDOWN(((D7+D9)*$G29%),0) -> 0 | F29: ="([직노+직재+간재] ×"&ROUND(G29,5)&"%" -> ([직노+직재+간재] ×2.62213% | G29: 2.6221306 | J29: 350533455
C30: 산 업 안 전 보 건 관 리 비 | D30: =ROUNDDOWN(((D8+D10)*$G30%),0) -> 0 | E30: =D30-D29 -> 0 | F30: ="([직노+직재+간재] ×"&ROUND(G30,5)&"%" -> ([직노+직재+간재] ×2.62213% | G30: 2.6221306 | J30: 350533455
C31: 안 전 관 리 비 | D31: =내역서!N1266 -> 0 | J31: 11905216
C32: 안 전 관 리 비 | D32: =내역서!N1267 -> 0 | E32: =D32-D31 -> 0 | J32: 11905216
C33: 품 질 관 리 비 | D33: =내역서!N1248 -> 0 | J33: 120582564 | L33: =J33-D33 -> 120582564
C34: 품 질 관 리 비 | D34: =내역서!N1249 -> 0 | E34: =D34-D33 -> 0 | J34: 120582564 | L34: =J34-D34 -> 120582564
C35: 환 경 보 전 비 | D35: =ROUNDDOWN((D7+D9+D15)*$G35%,0) -> 0 | F35: ="[재료비+직접노무비+산출경비] ×"&ROUND(G35,5)&"%" -> [재료비+직접노무비+산출경비] ×0.5% | G35: 0.5 | J35: 68581657 | L35: =D35-J35 -> -68581657
C36: 환 경 보 전 비 | D36: =ROUNDDOWN((D8+D10+D16)*$G36%,0) -> 0 | E36: =D36-D35 -> 0 | F36: ="[재료비+직접노무비+산출경비] ×"&ROUND(G36,5)&"%" -> [재료비+직접노무비+산출경비] ×0.5% | G36: 0.5 | J36: 68581657 | L36: =D36-J36 -> -68581657
C37: 공 사 이 행 보 증 수 수 료 | D37: 0 | F37: 공사이행 발급 수수료 계상 | G37: 0.0077
C38: 공 사 이 행 보 증 수 수 료 | D38: 0 | E38: =D38-D37 -> 0 | F38: 공사이행 발급 수수료 계상 | G38: 0.0077
C39: 하 도 급 대 금 지 급 보 증 수 수 료 | D39: =ROUNDDOWN((D5+D9+D15)*$G39%,0) -> 0 | F39: ="[재료비+직접노무비+산출경비] ×"&ROUND(G39,5)&"%" -> [재료비+직접노무비+산출경비] ×0.071% | G39: 0.071 | J39: 11346701
C40: 하 도 급 대 금 지 급 보 증 수 수 료 | D40: =ROUNDDOWN((D6+D10+D16)*$G40%,0) -> 0 | E40: =D40-D39 -> 0 | F40: ="[재료비+직접노무비+산출경비] ×"&ROUND(G40,5)&"%" -> [재료비+직접노무비+산출경비] ×0.071% | G40: 0.071 | J40: 11346701
C41: 건 설 기 계 대 여 금 지 급 보 증 금 액 | D41: =ROUNDDOWN((D7+D9+D15)*$G41%,0) -> 0 | F41: ="[재료비+직접노무비+산출경비] ×"&ROUND(G41,5)&"%" -> [재료비+직접노무비+산출경비] ×0.4% | G41: 0.4 | J41: 63925076
...

Sheet 내역(K2)
B1: 물가변동(2회) 변경 내역서
B3: 공 사 명 : 수산정수장 고도정수처리시설 건설공사
B4: 번호 | C4: 공 종 명 | D4: 규 격 | E4: 단위 | F4: 전체수량 | G4: 2회변경 설계수량 | H4: 2회시점 ES 수량 | I4: 비 대상 수량 | J4: 실정보고 적용수량 | K4: 재 료 비 | M4: 노 무 비 | O4: 경 비 | Q4: 합 계 | S4: 증 ·감 | V4: 비 고
K5: 단가 | L5: 금액 | M5: 단가 | N5: 금액 | O5: 단가 | P5: 금액 | Q5: 단가 | R5: 금액 | S5: 수량 | T5: 단가 | U5: 금액
A6: 당초 | B6: Ⅰ. | C6: 토목공사 | F6: 0 | H6: 0 | L6: =L18 -> 0 | N6: =N18 -> 0 | P6: =P18 -> 0 | R6: =L6+N6+P6 -> 0 | X6: 0
A7: 변경 | B7: Ⅰ. | C7: 토목공사 | F7: 0 | H7: 0 | L7: =L19 -> 0 | N7: =N19 -> 0 | P7: =P19 -> 0 | R7: =L7+N7+P7 -> 0 | S7: =J7-J6 -> 0 | T7: =Q7-Q6 -> 0 | U7: =R7-R6 -> 0 | X7: 0
A8: 당초 | B8: Ⅱ. | C8: 건축공사 | F8: 0 | H8: 0 | L8: =L1276 -> 0 | N8: =N1276 -> 0 | P8: =P1276 -> 0 | R8: =L8+N8+P8 -> 0 | X8: 0
A9: 변경 | B9: Ⅱ. | C9: 건축공사 | F9: 0 | H9: 0 | L9: =L1277 -> 0 | N9: =N1277 -> 0 | P9: =P1277 -> 0 | R9: =L9+N9+P9 -> 0 | S9: =J9-J8 -> 0 | T9: =Q9-Q8 -> 0 | U9: =R9-R8 -> 0 | X9: 0
A10: 당초 | B10: Ⅲ. | C10: 기계공사 | F10: 0 | H10: 0 | L10: =L2030 -> 0 | N10: =N2030 -> 0 | P10: =P2030 -> 0 | R10: =L10+N10+P10 -> 0 | X10: 0
A11: 변경 | B11: Ⅲ. | C11: 기계공사 | F11: 0 | H11: 0 | L11: =L2031 -> 0 | N11: =N2031 -> 0 | P11: =P2031 -> 0 | R11: =L11+N11+P11 -> 0 | S11: =J11-J10 -> 0 | T11: =Q11-Q10 -> 0 | U11: =R11-R10 -> 0 | X11: 0
A12: 당초 | B12: Ⅳ. | C12: 조경공사 | F12: 0 | H12: 0 | L12: =L2786 -> 0 | N12: =N2786 -> 0 | P12: =P2786 -> 0 | R12: =L12+N12+P12 -> 0 | X12: 0
A13: 변경 | B13: Ⅳ. | C13: 조경공사 | F13: 0 | H13: 0 | L13: =L2787 -> 0 | N13: =N2787 -> 0 | P13: =P2787 -> 0 | R13: =L13+N13+P13 -> 0 | S13: =J13-J12 -> 0 | T13: =Q13-Q12 -> 0 | U13: =R13-R12 -> 0 | X13: 0
A14: 당초 | B14: Ⅳ. | C14: 퇴수관로 | F14: 0 | H14: 0 | L14: =L3220 -> 0 | N14: =N3220 -> 0 | P14: =P3220 -> 0 | R14: =L14+N14+P14 -> 0 | X14: 0
A15: 변경 | B15: Ⅳ. | C15: 퇴수관로 | F15: 0 | H15: 0 | L15: =L3221 -> 0 | N15: =N3221 -> 0 | P15: =P3221 -> 0 | R15: =L15+N15+P15 -> 0 | S15: =J15-J14 -> 0 | T15: =Q15-Q14 -> 0 | U15: =R15-R14 -> 0 | X15: 0
A16: 당초 | C16: 직접공사비 계 | F16: 0 | H16: 0 | L16: =L6+L8+L10+L12+L14 -> 0 | N16: =N6+N8+N10+N12+N14 -> 0 | P16: =P6+P8+P10+P12+P14 -> 0 | R16: =L16+N16+P16 -> 0
A17: 변경 | C17: 직접공사비 계 | F17: 0 | H17: 0 | L17: =L7+L9+L11+L13+L15 -> 0 | N17: =N7+N9+N11+N13+N15 -> 0 | P17: =P7+P9+P11+P13+P15 -> 0 | R17: =L17+N17+P17 -> 0 | S17: =J17-J16 -> 0 | T17: =Q17-Q16 -> 0 | U17: =R17-R16 -> 0
A18: 당초 | B18: Ⅰ. | C18: 토목공사 | F18: 0 | H18: 0 | L18: =L20+L90+L466+L654+L708+L932+L1082+L1120+L1216 -> 0 | N18: =N20+N90+N466+N654+N708+N932+N1082+N1120+N1216 -> 0 | P18: =P20+P90+P466+P654+P708+P932+P1082+P1120+P1216 -> 0 | R18: =L18+N18+P18 -> 0 | W18: =+IF(J18<0,"ng","")
A19: 변경 | B19: Ⅰ. | C19: 토목공사 | F19: 0 | H19: 0 | L19: =L21+L91+L467+L655+L709+L933+L1083+L1121+L1217 -> 0 | N19: =N21+N91+N467+N655+N709+N933+N1083+N1121+N1217 -> 0 | P19: =P21+P91+P467+P655+P709+P933+P1083+P1121+P1217 -> 0 | R19: =L19+N19+P19 -> 0 | S19: =J19-J18 -> 0 | T19: =Q19-Q18 -> 0 | U19: =R19-R18 -> 0 | W19: =+IF(J19<0,"ng","")
A20: 당초 | B20: 1. | C20: 토 공 | F20: 0 | H20: 0 | L20: =SUMIF($A$22:$A$89,"당초",L22:L89) -> 0 | N20: =SUMIF($A$22:$A$89,"당초",N22:N89) -> 0 | P20: =SUMIF($A$22:$A$89,"당초",P22:P89) -> 0 | R20: =L20+N20+P20 -> 0 | W20: =+IF(J20<0,"ng","")
A21: 변경 | B21: 1. | C21: 토 공 | F21: 0 | H21: 0 | L21: =SUMIF($A$22:$A$89,"변경",L22:L89) -> 0 | N21: =SUMIF($A$22:$A$89,"변경",N22:N89) -> 0 | P21: =SUMIF($A$22:$A$89,"변경",P22:P89) -> 0 | R21: =L21+N21+P21 -> 0 | S21: =J21-J20 -> 0 | T21: =Q21-Q20 -> 0 | U21: =R21-R20 -> 0 | W21: =+IF(J21<0,"ng","")
A22: 당초 | C22: 굴착:토 사,L= 50m | D22: (B.H 1.0㎥+덤프운반) | E22: ㎥ | F22: 53731 | G22: =[5]내역서!F22 -> 28923 | H22: 0 | J22: =내역서!F22 -> 0 | K22: 1060 | L22: =INT($J22*K22) -> 0 | M22: 904.8 | N22: =INT($J22*M22) -> 0 | O22: 596.1 | P22: =INT($J22*O22) -> 0 | Q22: =+K22+M22+O22 -> 2560.9 | R22: =L22+N22+P22 -> 0 | W22: =+IF(J22<0,"ng","")
A23: 변경 | C23: 굴착:토 사,L= 50m | D23: (B.H 1.0㎥+덤프운반) | E23: ㎥ | F23: 53731 | G23: =[5]내역서!F23 -> 28923 | H23: 0 | J23: =내역서!F23 -> 0 | K23: 1060 | L23: =INT($J23*K23) -> 0 | M23: 904.8 | N23: =INT($J23*M23) -> 0 | O23: 596.1 | P23: =INT($J23*O23) -> 0 | Q23: =+K23+M23+O23 -> 2560.9 | R23: =L23+N23+P23 -> 0 | S23: =J23-J22 -> 0 | T23: =Q23-Q22 -> 0 | U23: =R23-R22 -> 0 | W23: =+IF(J23<0,"ng","")
A24: 당초 | C24: 굴착 (활성탄 흡착지 1구간) | D24: (B.H + 크람셀) | E24: ㎥ | F24: 0 | G24: =[5]내역서!F24 -> 6395 | J24: =내역서!F24 -> 0 | K24: 2468 | L24: =INT($J24*K24) -> 0 | M24: 7167 | N24: =INT($J24*M24) -> 0 | O24: 4630 | P24: =INT($J24*O24) -> 0 | Q24: =+K24+M24+O24 -> 14265 | R24: =+L24+N24+P24 -> 0 | V24: 신규단가 | W24: =+IF(J24<0,"ng","")
A25: 변경 | C25: 굴착 (활성탄 흡착지 1구간) | D25: (B.H + 크람셀) | E25: ㎥ | F25: 0 | G25: =[5]내역서!F25 -> 6395 | J25: =내역서!F25 -> 0 | K25: 2468 | L25: =INT($J25*K25) -> 0 | M25: 7167 | N25: =INT($J25*M25) -> 0 | O25: 4630 | P25: =INT($J25*O25) -> 0 | Q25: =+K25+M25+O25 -> 14265 | R25: =+L25+N25+P25 -> 0 | S25: =J25-J24 -> 0 | T25: =Q25-Q24 -> 0 | U25: =R25-R24 -> 0 | V25: 신규단가 | W25: =+IF(J25<0,"ng","")
A26: 당초 | C26: 굴착 (활성탄 흡착지 2구간) | D26: (B.H + 크람셀) | E26: ㎥ | F26: 0 | G26: =[5]내역서!F26 -> 8259 | J26: =내역서!F26 -> 0 | K26: 1477 | L26: =INT($J26*K26) -> 0 | M26: 2805 | N26: =INT($J26*M26) -> 0 | O26: 3398 | P26: =INT($J26*O26) -> 0 | Q26: =+K26+M26+O26 -> 7680 | R26: =+L26+N26+P26 -> 0 | V26: 신규단가 | W26: =+IF(J26<0,"ng","")
A27: 변경 | C27: 굴착 (활성탄 흡착지 2구간) | D27: (B.H + 크람셀) | E27: ㎥ | F27: 0 | G27: =[5]내역서!F27 -> 8259 | J27: =내역서!F27 -> 0 | K27: 1477 | L27: =INT($J27*K27) -> 0 | M27: 2805 | N27: =INT($J27*M27) -> 0 | O27: 3398 | P27: =INT($J27*O27) -> 0 | Q27: =+K27+M27+O27 -> 7680 | R27: =+L27+N27+P27 -> 0 | S27: =J27-J26 -> 0 | T27: =Q27-Q26 -> 0 | U27: =R27-R26 -> 0 | V27: 신규단가 | W27: =+IF(J27<0,"ng","")
A28: 당초 | C28: 굴착 (활성탄 흡착지 3구간) | D28: (B.H + 크람셀) | E28: ㎥ | F28: 0 | G28: =[5]내역서!F28 -> 9370 | J28: =내역서!F28 -> 0 | K28: 2041.2 | L28: =INT($J28*K28) -> 0 | M28: 4051 | N28: =INT($J28*M28) -> 0 | O28: 3888 | P28: =INT($J28*O28) -> 0 | Q28: =+K28+M28+O28 -> 9980.2 | R28: =+L28+N28+P28 -> 0 | V28: 신규단가 | W28: =+IF(J28<0,"ng","")
A29: 변경 | C29: 굴착 (활성탄 흡착지 3구간) | D29: (B.H + 크람셀) | E29: ㎥ | F29: 0 | G29: =[5]내역서!F29 -> 9370 | J29: =내역서!F29 -> 0 | K29: 2041.2 | L29: =INT($J29*K29) -> 0 | M29: 4051 | N29: =INT($J29*M29) -> 0 | O29: 3888 | P29: =INT($J29*O29) -> 0 | Q29: =+K29+M29+O29 -> 9980.2 | R29: =+L29+N29+P29 -> 0 | S29: =J29-J28 -> 0 | T29: =Q29-Q28 -> 0 | U29: =R29-R28 -> 0 | V29: 신규단가 | W29: =+IF(J29<0,"ng","")
A30: 당초 | C30: 절취:토 사,L= 50m | D30: (B.H 1.0㎥+덤프운반) | E30: ㎥ | F30: 8285 | G30: =[5]내역서!F30 -> 8285 | H30: 0 | J30: =내역서!F30 -> 0 | K30: 1060 | L30: =INT($J30*K30) -> 0 | M30: 904.8 | N30: =INT($J30*M30) -> 0 | O30: 596.1 | P30: =INT($J30*O30) -> 0 | Q30: =+K30+M30+O30 -> 2560.9 | R30: =L30+N30+P30 -> 0 | W30: =+IF(J30<0,"ng","")
A31: 변경 | C31: 절취:토 사,L= 50m | D31: (B.H 1.0㎥+덤프운반) | E31: ㎥ | F31: 8285 | G31: =[5]내역서!F31 -> 8285 | H31: 0 | J31: =내역서!F31 -> 0 | K31: 1060 | L31: =INT($J31*K31) -> 0 | M31: 904.8 | N31: =INT($J31*M31) -> 0 | O31: 596.1 | P31: =INT($J31*O31) -> 0 | Q31: =+K31+M31+O31 -> 2560.9 | R31: =L31+N31+P31 -> 0 | S31: =J31-J30 -> 0 | T31: =Q31-Q30 -> 0 | U31: =R31-R30 -> 0 | W31: =+IF(J31<0,"ng","")
A32: 당초 | C32: 상차(사토) | D32: (B.H 1.0㎥) | E32: ㎥ | F32: 0 | G32: =[5]내역서!F32 -> 5736 | H32: 0 | J32: =내역서!F32 -> 0 | K32: 454 | L32: =INT($J32*K32) -> 0 | M32: 693 | N32: =INT($J32*M32) -> 0 | O32: 373 | P32: =INT($J32*O32) -> 0 | Q32: =+K32+M32+O32 -> 1520 | R32: =L32+N32+P32 -> 0 | V32: 신규단가 | W32: =+IF(J32<0,"ng","")
A33: 변경 | C33: 상차(사토) | D33: (B.H 1.0㎥) | E33: ㎥ | F33: 0 | G33: =[5]내역서!F33 -> 5736 | H33: 0 | J33: =내역서!F33 -> 0 | K33: 454 | L33: =INT($J33*K33) -> 0 | M33: 693 | N33: =INT($J33*M33) -> 0 | O33: 373 | P33: =INT($J33*O33) -> 0 | Q33: =+K33+M33+O33 -> 1520 | R33: =L33+N33+P33 -> 0 | S33: =J33-J32 -> 0 | T33: =Q33-Q32 -> 0 | U33: =R33-R32 -> 0 | V33: 신규단가 | W33: =+IF(J33<0,"ng","")
A34: 당초 | C34: 기계터파기/보통토사/5m이하 | D34: 양호 | E34: ㎥ | F34: =+G34 -> 11087 | G34: =[5]내역서!F34 -> 11087 | H34: 10917 | I34: =G34-H34 -> 170 | J34: =내역서!F34 -> 0 | K34: 371.9 | L34: =INT($J34*K34) -> 0 | M34: 616.2 | N34: =INT($J34*M34) -> 0 | O34: 352 | P34: =INT($J34*O34) -> 0 | Q34: =+K34+M34+O34 -> 1340.1 | R34: =L34+N34+P34 -> 0 | W34: =+IF(J34<0,"ng","")
A35: 변경 | C35: 기계터파기/보통토사/5m이하 | D35: 양호 | E35: ㎥ | F35: =+G35 -> 11087 | G35: =[5]내역서!F35 -> 11087 | H35: 10917 | I35: =G35-H35 -> 170 | J35: =내역서!F35 -> 0 | K35: 371.9 | L35: =INT($J35*K35) -> 0 | M35: 616.2 | N35: =INT($J35*M35) -> 0 | O35: 352 | P35: =INT($J35*O35) -> 0 | Q35: =+K35+M35+O35 -> 1340.1 | R35: =L35+N35+P35 -> 0 | S35: =J35-J34 -> 0 | T35: =Q35-Q34 -> 0 | U35: =R35-R34 -> 0 | W35: =+IF(J35<0,"ng","")
A36: 당초 | C36: 기계터파기/보통토사/5m초과 | D36: 양호 | E36: ㎥ | F36: =G36 -> 936 | G36: =[5]내역서!F36 -> 936 | H36: 920 | I36: =G36-H36 -> 16 | J36: =내역서!F36 -> 0 | K36: 397.9 | L36: =INT($J36*K36) -> 0 | M36: 660.1 | N36: =INT($J36*M36) -> 0 | O36: 376.9 | P36: =INT($J36*O36) -> 0 | Q36: =+K36+M36+O36 -> 1434.9 | R36: =L36+N36+P36 -> 0 | W36: =+IF(J36<0,"ng","")
A37: 변경 | C37: 기계터파기/보통토사/5m초과 | D37: 양호 | E37: ㎥ | F37: =G37 -> 936 | G37: =[5]내역서!F37 -> 936 | H37: 920 | I37: =G37-H37 -> 16 | J37: =내역서!F37 -> 0 | K37: 397.9 | L37: =INT($J37*K37) -> 0 | M37: 660.1 | N37: =INT($J37*M37) -> 0 | O37: 376.9 | P37: =INT($J37*O37) -> 0 | Q37: =+K37+M37+O37 -> 1434.9 | R37: =L37+N37+P37 -> 0 | S37: =J37-J36 -> 0 | T37: =Q37-Q36 -> 0 | U37: =R37-R36 -> 0 | W37: =+IF(J37<0,"ng","")
A38: 당초 | C38: 되메우기:토사 | D38: (B.H 0.2㎥+핸드가이드식로울러) | E38: ㎥ | F38: =G38 -> 13334 | G38: =[5]내역서!F38 -> 13334 | H38: 7454 | I38: =G38-H38 -> 5880 | J38: =내역서!F38 -> 0 | K38: 630.4 | L38: =INT($J38*K38) -> 0 | M38: 2494.4 | N38: =INT($J38*M38) -> 0 | O38: 547.2 | P38: =INT($J38*O38) -> 0 | Q38: =+K38+M38+O38 -> 3672 | R38: =L38+N38+P38 -> 0 | W38: =+IF(J38<0,"ng","")
A39: 변경 | C39: 되메우기:토사 | D39: (B.H 0.2㎥+핸드가이드식로울러) | E39: ㎥ | F39: =G39 -> 13334 | G39: =[5]내역서!F39 -> 13334 | H39: 7454 | I39: =G39-H39 -> 5880 | J39: =내역서!F39 -> 0 | K39: 630.4 | L39: =INT($J39*K39) -> 0 | M39: 2494.4 | N39: =INT($J39*M39) -> 0 | O39: 547.2 | P39: =INT($J39*O39) -> 0 | Q39: =+K39+M39+O39 -> 3672 | R39: =L39+N39+P39 -> 0 | S39: =J39-J38 -> 0 | T39: =Q39-Q38 -> 0 | U39: =R39-R38 -> 0 | W39: =+IF(J39<0,"ng","")
A40: 당초 | C40: 되메우기:토[관상부] | D40: (B.H 1.0㎥+핸드가이드식로울러) | E40: ㎥ | F40: =G40 -> 6160 | G40: =[5]내역서!F40 -> 6160 | H40: 6098 | I40: =G40-H40 -> 62 | J40: =내역서!F40 -> 0 | K40: 600.7 | L40: =INT($J40*K40) -> 0 | M40: 1463.2 | N40: =INT($J40*M40) -> 0 | O40: 316.1 | P40: =INT($J40*O40) -> 0 | Q40: =+K40+M40+O40 -> 2380 | R40: =L40+N40+P40 -> 0 | W40: =+IF(J40<0,"ng","")
A41: 변경 | C41: 되메우기:토[관상부] | D41: (B.H 1.0㎥+핸드가이드식로울러) | E41: ㎥ | F41: =G41 -> 6160 | G41: =[5]내역서!F41 -> 6160 | H41: 6098 | I41: =G41-H41 -> 62 | J41: =내역서!F41 -> 0 | K41: 600.7 | L41: =INT($J41*K41) -> 0 | M41: 1463.2 | N41: =INT($J41*M41) -> 0 | O41: 316.1 | P41: =INT($J41*O41) -> 0 | Q41: =+K41+M41+O41 -> 2380 | R41: =L41+N41+P41 -> 0 | S41: =J41-J40 -> 0 | T41: =Q41-Q40 -> 0 | U41: =R41-R40 -> 0 | W41: =+IF(J41<0,"ng","")
...

Sheet 구매 요청서
A2: 관급자재 구매요청서
A3: 공사명: 영종도 해저송수관로 건설공사 | L3: 발주부서:인천광역시 상수도사업본부
A4: 순번 | B4: 물품식별번호 | C4: 품명 | D4: 규격 | E4: 단위 | F4: 수량 | G4: 단가 | H4: 소요금액 | I4: 납품기한 | J4: 공급업체명 | K4: 업체소재지 | L4: 구매방안 | M4: 납품조건 | N4: 비고
A5: 1 | B5: 25533541 | C5: 수질계측기 | D5: Aqua2000-6P(P1) | E5: ='설계가대비조사가비교표 (조달) '!C8 -> 개 | F5: 1 | G5: 32571000 | H5: =TRUNC(F5*G5,0) -> 32571000 | I5: ~2026.08.10 | J5: 블루센 주식회사 | K5: 대구광역시 달성군 | L5: 조달구매 (나라장터) | M5: 납품장소차상도 | N5: VAT포함
C8: 합 계 | H8: =SUM(H5:H7) -> 32571000
H13: .

Sheet 설계가대비조사가비교표 (조달) 
A2: 설계가 대비 조사가 비교표
A3: 공사명: 영종도 해저송수관로 건설공사 | I3: 발주부서:인천광역시 상수도사업본부
A4: 품 명 | B4: 규 격 | C4: 단위 | D4: 설계가ⓐ | G4: 조사가ⓑ | K4: 증감 (ⓑ-ⓐ)
D5: 수량 | E5: 단가 | F5: 소요금액 | G5: 수량 | H5: 단가 | I5: 소요금액 | J5: 비 고
A6: 관 급 자 재 대
A7: 영종도 해저송수관로 건설공사
A8: 수질계측기 | B8: Aqua2000-6P(P1) | C8: ='단가비교(토목)'!D7 -> 개 | D8: 1 | E8: 26850000 | F8: =TRUNC(D8*E8,0) -> 26850000 | G8: 1 | H8: 32571000 | I8: =G8*H8 -> 32571000 | J8: 블루센 주식회사 | K8: =I8-F8 -> 5721000
A14: 소 계 | F14: =SUM(F8:F11) -> 26850000 | I14: =SUM(I8:I11) -> 32571000 | K14: =I14-F14 -> 5721000
A15: 조 달 수 수 료 | B15: 자 재 비 의 % | C15: % | D15: 0.54 | E15: =F14 -> 26850000 | F15: =ROUNDDOWN(E15*D15/100,-1) -> 144990 | G15: 0.54 | H15: =I14 -> 32571000 | I15: =ROUNDDOWN(H15*G15/100,-1) -> 175880 | K15: =I15-F15 -> 30890
A16: 합 계 | F16: =SUM(F14:F15) -> 26994990 | I16: =SUM(I14:I15) -> 32746880 | K16: =I16-F16 -> 5751890
G23: =B23+D23+#REF! -> #REF!

Sheet 단가비교(토목)
A2: 관 급 자 재 단 가 비 교
A3: 공사명: 영종도 해저송수관로 건설공사
A4: 1) 수질계측기
A5: 순번 | B5: 품명 | C5: 규격 | D5: 단위 | E5: 수량 | F5: 블루센 주식회사
F6: 단가 | G6: 금액 | H6: 단가 | I6: 금액
A7: 1 | B7: 수질계측기 | C7: Aqua2000-6P(P1) | D7: 개 | E7: 1 | F7: 32571000 | G7: =TRUNC(E7*F7,0) -> 32571000
B10: 소 계 | G10: =SUM(G7:G9) -> 32571000
B11: 납품조건 | F11: 납품장소차상도
B12: 업체소재지 | F12: 대구광역시 달성군
B13: 적 용 | F13: ○

Sheet 나라장터비교
A1: 나라장터 품목별 자재현황
A2: <블루센 주식회사>
A4: #VALUE!

Sheet 관급자재(건축)
B1: 관 급 내 역 서 (건 축)
B3: 공 사 명 : 수산정수장 고도정수처리시설 건설공사 (관급_건축)
B4: 번호 | C4: 공 종 명 | D4: 규 격 | E4: 단위 | F4: 수 량 | G4: 재 료 비 | I4: 노 무 비 | K4: 경 비 | M4: 합 계 | O4: 증 ·감 | R4: 비 고 | T4: 수 량
G5: 단가 | H5: 금액 | I5: 단가 | J5: 금액 | K5: 단가 | L5: 금액 | M5: 단가 | N5: 금액 | O5: 수량 | P5: 단가 | Q5: 금액
A6: 당초 | C6: 0102 ◈ 관급자재비 | H6: =H8+H60 -> 0 | J6: =J8+J60 -> 0 | L6: =L8+L60 -> 0 | M6: =G6+I6+K6 -> 0 | N6: =H6+J6+L6 -> 0
A7: 변경 | C7: 0102 ◈ 관급자재비 | H7: =H9+H61 -> 0 | J7: =J9+J61 -> 0 | L7: =L9+L61 -> 0 | M7: =G7+I7+K7 -> 0 | N7: =H7+J7+L7 -> 0 | O7: =F7-F6 -> 0 | P7: =M7-M6 -> 0 | Q7: =N7-N6 -> 0
A8: 당초 | C8: 0102 ◈ 도급자관급자재비 | H8: =H10+H26+H42 -> 0 | J8: =J10+J26+J42 -> 0 | L8: =L10+L26+L42 -> 0 | M8: =G8+I8+K8 -> 0 | N8: =H8+J8+L8 -> 0
A9: 변경 | C9: 0102 ◈ 도급자관급자재비 | H9: =H11+H27+H43 -> 0 | J9: =J11+J27+J43 -> 0 | L9: =L11+L27+L43 -> 0 | M9: =G9+I9+K9 -> 0 | N9: =H9+J9+L9 -> 0 | O9: =F9-F8 -> 0 | P9: =M9-M8 -> 0 | Q9: =N9-N8 -> 0
A10: 당초 | C10: 010201 01. 활성탄흡착지동 | H10: =SUMIF($A$12:$A$25,$A12,H$12:H$25) -> 0 | J10: =SUMIF($A$12:$A$25,$A12,J$12:J$25) -> 0 | L10: =SUMIF($A$12:$A$25,$A12,L$12:L$25) -> 0 | M10: =G10+I10+K10 -> 0 | N10: =H10+J10+L10 -> 0
A11: 변경 | C11: 010201 01. 활성탄흡착지동 | H11: =SUMIF($A$12:$A$25,$A13,H$12:H$25) -> 0 | J11: =SUMIF($A$12:$A$25,$A13,J$12:J$25) -> 0 | L11: =SUMIF($A$12:$A$25,$A13,L$12:L$25) -> 0 | M11: =G11+I11+K11 -> 0 | N11: =H11+J11+L11 -> 0 | O11: =F11-F10 -> 0 | P11: =M11-M10 -> 0 | Q11: =N11-N10 -> 0
A12: 당초 | C12: 레미콘(무근) | D12: 레미콘, 인천(내륙), 25-21-120 | E12: M3 | G12: 97140 | H12: =TRUNC(G12*F12, 0) -> 0 | I12: 0 | J12: =TRUNC(I12*F12, 0) -> 0 | K12: 0 | L12: =TRUNC(K12*F12, 0) -> 0 | M12: =G12+I12+K12 -> 97140 | N12: =H12+J12+L12 -> 0 | R12: 자재 51 | T12: 226
A13: 변경 | C13: 레미콘(무근) | D13: 레미콘, 인천(내륙), 25-21-120 | E13: M3 | G13: 97140 | H13: =TRUNC(G13*F13, 0) -> 0 | I13: 0 | J13: =TRUNC(I13*F13, 0) -> 0 | K13: 0 | L13: =TRUNC(K13*F13, 0) -> 0 | M13: =G13+I13+K13 -> 97140 | N13: =H13+J13+L13 -> 0 | O13: =F13-F12 -> 0 | P13: =M13-M12 -> 0 | Q13: =N13-N12 -> 0 | R13: 자재 51 | T13: 226
A14: 당초 | C14: 레미콘(구체) | D14: 레미콘, 인천(내륙), 25-24-150 | E14: M3 | G14: 100530 | H14: =TRUNC(G14*F14, 0) -> 0 | I14: 0 | J14: =TRUNC(I14*F14, 0) -> 0 | K14: 0 | L14: =TRUNC(K14*F14, 0) -> 0 | M14: =G14+I14+K14 -> 100530 | N14: =H14+J14+L14 -> 0 | R14: 자재 52 | T14: 1226
A15: 변경 | C15: 레미콘(구체) | D15: 레미콘, 인천(내륙), 25-24-150 | E15: M3 | G15: 100530 | H15: =TRUNC(G15*F15, 0) -> 0 | I15: 0 | J15: =TRUNC(I15*F15, 0) -> 0 | K15: 0 | L15: =TRUNC(K15*F15, 0) -> 0 | M15: =G15+I15+K15 -> 100530 | N15: =H15+J15+L15 -> 0 | O15: =F15-F14 -> 0 | P15: =M15-M14 -> 0 | Q15: =N15-N14 -> 0 | R15: 자재 52 | T15: 1226
A16: 당초 | C16: 철근콘크리트용봉강 | D16: 철근콘크리트용봉강, 이형봉강(SD350/400), HD10, 생산공장상차도 | E16: TON | G16: 1076900 | H16: =TRUNC(G16*F16, 0) -> 0 | I16: 0 | J16: =TRUNC(I16*F16, 0) -> 0 | K16: 0 | L16: =TRUNC(K16*F16, 0) -> 0 | M16: =G16+I16+K16 -> 1076900 | N16: =H16+J16+L16 -> 0 | R16: 자재 24 | T16: 74.449
A17: 변경 | C17: 철근콘크리트용봉강 | D17: 철근콘크리트용봉강, 이형봉강(SD350/400), HD10, 생산공장상차도 | E17: TON | G17: 1076900 | H17: =TRUNC(G17*F17, 0) -> 0 | I17: 0 | J17: =TRUNC(I17*F17, 0) -> 0 | K17: 0 | L17: =TRUNC(K17*F17, 0) -> 0 | M17: =G17+I17+K17 -> 1076900 | N17: =H17+J17+L17 -> 0 | O17: =F17-F16 -> 0 | P17: =M17-M16 -> 0 | Q17: =N17-N16 -> 0 | R17: 자재 24 | T17: 74.449
A18: 당초 | C18: 철근콘크리트용봉강 | D18: 철근콘크리트용봉강, 이형봉강(SD350/400), HD13, 생산공장상차도 | E18: TON | G18: 1065900 | H18: =TRUNC(G18*F18, 0) -> 0 | I18: 0 | J18: =TRUNC(I18*F18, 0) -> 0 | K18: 0 | L18: =TRUNC(K18*F18, 0) -> 0 | M18: =G18+I18+K18 -> 1065900 | N18: =H18+J18+L18 -> 0 | R18: 자재 25 | T18: 0.468
A19: 변경 | C19: 철근콘크리트용봉강 | D19: 철근콘크리트용봉강, 이형봉강(SD350/400), HD13, 생산공장상차도 | E19: TON | G19: 1065900 | H19: =TRUNC(G19*F19, 0) -> 0 | I19: 0 | J19: =TRUNC(I19*F19, 0) -> 0 | K19: 0 | L19: =TRUNC(K19*F19, 0) -> 0 | M19: =G19+I19+K19 -> 1065900 | N19: =H19+J19+L19 -> 0 | O19: =F19-F18 -> 0 | P19: =M19-M18 -> 0 | Q19: =N19-N18 -> 0 | R19: 자재 25 | T19: 0.468
A20: 당초 | C20: 철근콘크리트용봉강 | D20: 철근콘크리트용봉강, 이형봉강(SD350/400), HD22, 생산공장상차도 | E20: TON | G20: 1060400 | H20: =TRUNC(G20*F20, 0) -> 0 | I20: 0 | J20: =TRUNC(I20*F20, 0) -> 0 | K20: 0 | L20: =TRUNC(K20*F20, 0) -> 0 | M20: =G20+I20+K20 -> 1060400 | N20: =H20+J20+L20 -> 0 | R20: 자재 26 | T20: 153.005
A21: 변경 | C21: 철근콘크리트용봉강 | D21: 철근콘크리트용봉강, 이형봉강(SD350/400), HD22, 생산공장상차도 | E21: TON | G21: 1060400 | H21: =TRUNC(G21*F21, 0) -> 0 | I21: 0 | J21: =TRUNC(I21*F21, 0) -> 0 | K21: 0 | L21: =TRUNC(K21*F21, 0) -> 0 | M21: =G21+I21+K21 -> 1060400 | N21: =H21+J21+L21 -> 0 | O21: =F21-F20 -> 0 | P21: =M21-M20 -> 0 | Q21: =N21-N20 -> 0 | R21: 자재 26 | T21: 153.005
A22: 당초 | C22: 섬유보강재 | E22: 포 | G22: 12100 | H22: =TRUNC(G22*F22, 0) -> 0 | I22: 0 | J22: =TRUNC(I22*F22, 0) -> 0 | K22: 0 | L22: =TRUNC(K22*F22, 0) -> 0 | M22: =G22+I22+K22 -> 12100 | N22: =H22+J22+L22 -> 0 | R22: 자재 49 | T22: 226
A23: 변경 | C23: 섬유보강재 | E23: 포 | G23: 12100 | H23: =TRUNC(G23*F23, 0) -> 0 | I23: 0 | J23: =TRUNC(I23*F23, 0) -> 0 | K23: 0 | L23: =TRUNC(K23*F23, 0) -> 0 | M23: =G23+I23+K23 -> 12100 | N23: =H23+J23+L23 -> 0 | O23: =F23-F22 -> 0 | P23: =M23-M22 -> 0 | Q23: =N23-N22 -> 0 | R23: 자재 49 | T23: 226
A24: 당초 | C24: 조달수수료 | D24: 주재료비의 0.54% | E24: 식 | G24: 1886996 | H24: =TRUNC(G24*F24, 0) -> 0 | I24: 0 | J24: =TRUNC(I24*F24, 0) -> 0 | K24: 0 | L24: =TRUNC(K24*F24, 0) -> 0 | M24: =G24+I24+K24 -> 1886996 | N24: =H24+J24+L24 -> 0 | R24: 자재 49 | T24: 1
A25: 변경 | C25: 조달수수료 | D25: 주재료비의 0.54% | E25: 식 | G25: 1886996 | H25: =TRUNC(G25*F25, 0) -> 0 | I25: 0 | J25: =TRUNC(I25*F25, 0) -> 0 | K25: 0 | L25: =TRUNC(K25*F25, 0) -> 0 | M25: =G25+I25+K25 -> 1886996 | N25: =H25+J25+L25 -> 0 | O25: =F25-F24 -> 0 | P25: =M25-M24 -> 0 | Q25: =N25-N24 -> 0 | R25: 자재 49 | T25: 1
A26: 당초 | C26: 010202 02. 중간 가압장 | H26: =SUMIF($A$28:$A$41,$A28,H$28:H$41) -> 0 | J26: =SUMIF($A$28:$A$41,$A28,J$28:J$41) -> 0 | L26: =SUMIF($A$28:$A$41,$A28,L$28:L$41) -> 0 | M26: =G26+I26+K26 -> 0 | N26: =H26+J26+L26 -> 0
A27: 변경 | C27: 010202 02. 중간 가압장 | H27: =SUMIF($A$28:$A$41,$A29,H$28:H$41) -> 0 | J27: =SUMIF($A$28:$A$41,$A29,J$28:J$41) -> 0 | L27: =SUMIF($A$28:$A$41,$A29,L$28:L$41) -> 0 | M27: =G27+I27+K27 -> 0 | N27: =H27+J27+L27 -> 0 | O27: =F27-F26 -> 0 | P27: =M27-M26 -> 0 | Q27: =N27-N26 -> 0
A28: 당초 | C28: 레미콘(무근) | D28: 레미콘, 인천(내륙), 25-21-120 | E28: M3 | G28: 97140 | H28: =TRUNC(G28*F28, 0) -> 0 | I28: 0 | J28: =TRUNC(I28*F28, 0) -> 0 | K28: 0 | L28: =TRUNC(K28*F28, 0) -> 0 | M28: =G28+I28+K28 -> 97140 | N28: =H28+J28+L28 -> 0 | R28: 자재 51 | T28: 48
A29: 변경 | C29: 레미콘(무근) | D29: 레미콘, 인천(내륙), 25-21-120 | E29: M3 | G29: 97140 | H29: =TRUNC(G29*F29, 0) -> 0 | I29: 0 | J29: =TRUNC(I29*F29, 0) -> 0 | K29: 0 | L29: =TRUNC(K29*F29, 0) -> 0 | M29: =G29+I29+K29 -> 97140 | N29: =H29+J29+L29 -> 0 | O29: =F29-F28 -> 0 | P29: =M29-M28 -> 0 | Q29: =N29-N28 -> 0 | R29: 자재 51 | T29: 48
A30: 당초 | C30: 레미콘(구체) | D30: 레미콘, 인천(내륙), 25-24-150 | E30: M3 | G30: 100530 | H30: =TRUNC(G30*F30, 0) -> 0 | I30: 0 | J30: =TRUNC(I30*F30, 0) -> 0 | K30: 0 | L30: =TRUNC(K30*F30, 0) -> 0 | M30: =G30+I30+K30 -> 100530 | N30: =H30+J30+L30 -> 0 | R30: 자재 52 | T30: 615
A31: 변경 | C31: 레미콘(구체) | D31: 레미콘, 인천(내륙), 25-24-150 | E31: M3 | G31: 100530 | H31: =TRUNC(G31*F31, 0) -> 0 | I31: 0 | J31: =TRUNC(I31*F31, 0) -> 0 | K31: 0 | L31: =TRUNC(K31*F31, 0) -> 0 | M31: =G31+I31+K31 -> 100530 | N31: =H31+J31+L31 -> 0 | O31: =F31-F30 -> 0 | P31: =M31-M30 -> 0 | Q31: =N31-N30 -> 0 | R31: 자재 52 | T31: 615
A32: 당초 | C32: 철근콘크리트용봉강 | D32: 철근콘크리트용봉강, 이형봉강(SD350/400), HD10, 생산공장상차도 | E32: TON | G32: 1076900 | H32: =TRUNC(G32*F32, 0) -> 0 | I32: 0 | J32: =TRUNC(I32*F32, 0) -> 0 | K32: 0 | L32: =TRUNC(K32*F32, 0) -> 0 | M32: =G32+I32+K32 -> 1076900 | N32: =H32+J32+L32 -> 0 | R32: 자재 24 | T32: 32.768
A33: 변경 | C33: 철근콘크리트용봉강 | D33: 철근콘크리트용봉강, 이형봉강(SD350/400), HD10, 생산공장상차도 | E33: TON | G33: 1076900 | H33: =TRUNC(G33*F33, 0) -> 0 | I33: 0 | J33: =TRUNC(I33*F33, 0) -> 0 | K33: 0 | L33: =TRUNC(K33*F33, 0) -> 0 | M33: =G33+I33+K33 -> 1076900 | N33: =H33+J33+L33 -> 0 | O33: =F33-F32 -> 0 | P33: =M33-M32 -> 0 | Q33: =N33-N32 -> 0 | R33: 자재 24 | T33: 32.768
A34: 당초 | C34: 철근콘크리트용봉강 | D34: 철근콘크리트용봉강, 이형봉강(SD350/400), HD13, 생산공장상차도 | E34: TON | G34: 1065900 | H34: =TRUNC(G34*F34, 0) -> 0 | I34: 0 | J34: =TRUNC(I34*F34, 0) -> 0 | K34: 0 | L34: =TRUNC(K34*F34, 0) -> 0 | M34: =G34+I34+K34 -> 1065900 | N34: =H34+J34+L34 -> 0 | R34: 자재 25 | T34: 1.57
A35: 변경 | C35: 철근콘크리트용봉강 | D35: 철근콘크리트용봉강, 이형봉강(SD350/400), HD13, 생산공장상차도 | E35: TON | G35: 1065900 | H35: =TRUNC(G35*F35, 0) -> 0 | I35: 0 | J35: =TRUNC(I35*F35, 0) -> 0 | K35: 0 | L35: =TRUNC(K35*F35, 0) -> 0 | M35: =G35+I35+K35 -> 1065900 | N35: =H35+J35+L35 -> 0 | O35: =F35-F34 -> 0 | P35: =M35-M34 -> 0 | Q35: =N35-N34 -> 0 | R35: 자재 25 | T35: 1.57
A36: 당초 | C36: 철근콘크리트용봉강 | D36: 철근콘크리트용봉강, 이형봉강(SD350/400), HD22, 생산공장상차도 | E36: TON | G36: 1060400 | H36: =TRUNC(G36*F36, 0) -> 0 | I36: 0 | J36: =TRUNC(I36*F36, 0) -> 0 | K36: 0 | L36: =TRUNC(K36*F36, 0) -> 0 | M36: =G36+I36+K36 -> 1060400 | N36: =H36+J36+L36 -> 0 | R36: 자재 26 | T36: 69.564
A37: 변경 | C37: 철근콘크리트용봉강 | D37: 철근콘크리트용봉강, 이형봉강(SD350/400), HD22, 생산공장상차도 | E37: TON | G37: 1060400 | H37: =TRUNC(G37*F37, 0) -> 0 | I37: 0 | J37: =TRUNC(I37*F37, 0) -> 0 | K37: 0 | L37: =TRUNC(K37*F37, 0) -> 0 | M37: =G37+I37+K37 -> 1060400 | N37: =H37+J37+L37 -> 0 | O37: =F37-F36 -> 0 | P37: =M37-M36 -> 0 | Q37: =N37-N36 -> 0 | R37: 자재 26 | T37: 69.564
A38: 당초 | C38: 섬유보강재 | E38: 포 | G38: 12100 | H38: =TRUNC(G38*F38, 0) -> 0 | I38: 0 | J38: =TRUNC(I38*F38, 0) -> 0 | K38: 0 | L38: =TRUNC(K38*F38, 0) -> 0 | M38: =G38+I38+K38 -> 12100 | N38: =H38+J38+L38 -> 0 | R38: 자재 49 | T38: 48
A39: 변경 | C39: 섬유보강재 | E39: 포 | G39: 12100 | H39: =TRUNC(G39*F39, 0) -> 0 | I39: 0 | J39: =TRUNC(I39*F39, 0) -> 0 | K39: 0 | L39: =TRUNC(K39*F39, 0) -> 0 | M39: =G39+I39+K39 -> 12100 | N39: =H39+J39+L39 -> 0 | O39: =F39-F38 -> 0 | P39: =M39-M38 -> 0 | Q39: =N39-N38 -> 0 | R39: 자재 49 | T39: 48
A40: 당초 | C40: 조달수수료 | D40: 주재료비의 0.54% | E40: 식 | G40: 858296 | H40: =TRUNC(G40*F40, 0) -> 0 | I40: 0 | J40: =TRUNC(I40*F40, 0) -> 0 | K40: 0 | L40: =TRUNC(K40*F40, 0) -> 0 | M40: =G40+I40+K40 -> 858296 | N40: =H40+J40+L40 -> 0 | R40: 자재 49 | T40: 1
A41: 변경 | C41: 조달수수료 | D41: 주재료비의 0.54% | E41: 식 | G41: 858296 | H41: =TRUNC(G41*F41, 0) -> 0 | I41: 0 | J41: =TRUNC(I41*F41, 0) -> 0 | K41: 0 | L41: =TRUNC(K41*F41, 0) -> 0 | M41: =G41+I41+K41 -> 858296 | N41: =H41+J41+L41 -> 0 | O41: =F41-F40 -> 0 | P41: =M41-M40 -> 0 | Q41: =N41-N40 -> 0 | R41: 자재 49 | T41: 1
...

Sheet 관급자재(기계)
B1: 관 급 내 역 서 (기 계)
B3: 공 사 명 : 수산정수장 고도정수처리시설 건설공사 (관급_기계)
B4: 번호 | C4: 공 종 명 | D4: 규 격 | E4: 단위 | F4: 수 량 | G4: 재 료 비 | I4: 노 무 비 | K4: 경 비 | M4: 합 계 | O4: 증 ·감 | R4: 비 고 | T4: 수 량
G5: 단가 | H5: 금액 | I5: 단가 | J5: 금액 | K5: 단가 | L5: 금액 | M5: 단가 | N5: 금액 | O5: 수량 | P5: 단가 | Q5: 금액
A6: 당초 | C6: 0102 ◈ 관급자재비 | H6: =H8+H82 -> 0 | J6: =J8+J82 -> 0 | L6: =L8+L82 -> 0 | M6: =G6+I6+K6 -> 0 | N6: =H6+J6+L6 -> 0
A7: 변경 | C7: 0102 ◈ 관급자재비 | H7: =H9+H83 -> 0 | J7: =J9+J83 -> 0 | L7: =L9+L83 -> 0 | M7: =G7+I7+K7 -> 0 | N7: =H7+J7+L7 -> 0 | O7: =F7-F6 -> 0 | P7: =M7-M6 -> 0 | Q7: =N7-N6 -> 0
A8: 당초 | C8: 0102 ◈ 도급자관급자재비 | H8: =H10+H32+H44+H74+H78 -> 0 | J8: =J10+J32+J44+J74+J78 -> 0 | L8: =L10+L32+L44+L74+L78 -> 0 | M8: =G8+I8+K8 -> 0 | N8: =H8+J8+L8 -> 0
A9: 변경 | C9: 0102 ◈ 도급자관급자재비 | H9: =H11+H33+H45+H75+H79 -> 0 | J9: =J11+J33+J45+J75+J79 -> 0 | L9: =L11+L33+L45+L75+L79 -> 0 | M9: =G9+I9+K9 -> 0 | N9: =H9+J9+L9 -> 0 | O9: =F9-F8 -> 0 | P9: =M9-M8 -> 0 | Q9: =N9-N8 -> 0
A10: 당초 | C10: 1) 중간가압장 설비 | H10: =SUMIF($A$12:$A$31,$A12,H$12:H$31) -> 0 | J10: =SUMIF($A$12:$A$31,$A12,J$12:J$31) -> 0 | L10: =SUMIF($A$12:$A$31,$A12,L$12:L$31) -> 0 | M10: =G10+I10+K10 -> 0 | N10: =H10+J10+L10 -> 0
A11: 변경 | C11: 1) 중간가압장 설비 | H11: =SUMIF($A$12:$A$31,$A13,H$12:H$31) -> 0 | J11: =SUMIF($A$12:$A$31,$A13,J$12:J$31) -> 0 | L11: =SUMIF($A$12:$A$31,$A13,L$12:L$31) -> 0 | M11: =G11+I11+K11 -> 0 | N11: =H11+J11+L11 -> 0 | O11: =F11-F10 -> 0 | P11: =M11-M10 -> 0 | Q11: =N11-N10 -> 0
A12: 당초 | C12: 2M-101 중간가압펌프 | D12: 입축사류펌프(VVVF), 56.0㎥/min x 11.0mH | E12: 대 | G12: 200000000 | H12: =TRUNC(G12*F12, 0) -> 0 | I12: 0 | J12: =TRUNC(I12*F12, 0) -> 0 | K12: 0 | L12: =TRUNC(K12*F12, 0) -> 0 | M12: =G12+I12+K12 -> 200000000 | N12: =H12+J12+L12 -> 0 | T12: 6
A13: 변경 | C13: 2M-101 중간가압펌프 | D13: 입축사류펌프(VVVF), 56.0㎥/min x 11.0mH | E13: 대 | G13: 200000000 | H13: =TRUNC(G13*F13, 0) -> 0 | I13: 0 | J13: =TRUNC(I13*F13, 0) -> 0 | K13: 0 | L13: =TRUNC(K13*F13, 0) -> 0 | M13: =G13+I13+K13 -> 200000000 | N13: =H13+J13+L13 -> 0 | O13: =F13-F12 -> 0 | P13: =M13-M12 -> 0 | Q13: =N13-N12 -> 0 | T13: 6
A14: 당초 | C14: 2M-102 중간가압펌프 체크밸브 | D14: 완폐식 체크밸브(대쉬포트 부착형), Φ800mm | E14: 대 | G14: 12000000 | H14: =TRUNC(G14*F14, 0) -> 0 | I14: 0 | J14: =TRUNC(I14*F14, 0) -> 0 | K14: 0 | L14: =TRUNC(K14*F14, 0) -> 0 | M14: =G14+I14+K14 -> 12000000 | N14: =H14+J14+L14 -> 0 | T14: 6
