Workbook
Name _: "="
Name _______________tt1: "tt1"
Name ______________tt1: "tt1"
Name _____________tt1: "tt1"
Name ____________tt1: "tt1"
Name ___________tt1: "tt1"
Name __________tt1: "tt1"
Name _________ju8: {"'광피스표'!$A$3:$N$54"}
Name _________ju8: {"'광피스표'!$A$3:$N$54"}
Name _________tt1: "tt1"
Name ________ju8: {"'광피스표'!$A$3:$N$54"}
Name ________ju8: {"'광피스표'!$A$3:$N$54"}
Name ________tt1: "tt1"
Name _______AE2: BlankMacro1
Name _______AE2: BlankMacro1
Name _______AE2: BlankMacro1
Name _______AE2: BlankMacro1
Name _______AE3: BlankMacro1
Name _______AE3: BlankMacro1
Name _______AE3: BlankMacro1
Name _______AE3: BlankMacro1
Name _______E1: BlankMacro1
Name _______E1: BlankMacro1
Name _______E1: BlankMacro1
Name _______E1: BlankMacro1
Name _______E10: BlankMacro1
Name _______E10: BlankMacro1
Name _______E10: BlankMacro1
Name _______E10: BlankMacro1
Name _______E2: BlankMacro1
Name _______E2: BlankMacro1
Name _______E2: BlankMacro1
Name _______E2: BlankMacro1
Name _______E3: BlankMacro1
Name _______E3: BlankMacro1
Name _______E3: BlankMacro1
Name _______E3: BlankMacro1
Name _______E4: BlankMacro1
Name _______E4: BlankMacro1
Name _______E4: BlankMacro1
Name _______E4: BlankMacro1
Name _______E5: BlankMacro1
Name _______E5: BlankMacro1
Name _______E5: BlankMacro1
Name _______E5: BlankMacro1
Name _______E6: BlankMacro1
Name _______E6: BlankMacro1
Name _______E6: BlankMacro1
Name _______E6: BlankMacro1
Name _______E7: BlankMacro1
Name _______E7: BlankMacro1
Name _______E7: BlankMacro1
Name _______E7: BlankMacro1
Name _______E8: BlankMacro1
Name _______E8: BlankMacro1
Name _______E8: BlankMacro1
Name _______E8: BlankMacro1
Name _______E9: BlankMacro1
Name _______E9: BlankMacro1
Name _______E9: BlankMacro1

Sheet 총괄원가계산서
A1: 총 괄 공 사 원 가 계 산 서
A3: 공 사 명 : 수산정수장 고도정수처리시설 건설공사
A4: 비목 | C4: 구 분 | D4: 금 액 | E4: 증 감 | F4: 산 출 근 거 | G4: 요율 | H4: 비 고
A5: 순 공 사 원 가 | B5: 재 료 비 | C5: 직 접 재 료 비 | D5: =내역서!H16 -> 0 | I5: 변경
C6: 직 접 재 료 비 | D6: =내역서!H17 -> 0 | E6: =D6-D5 -> 0 | I6: 변경
C7: 소 계 | D7: =D5 -> 0 | I7: 변경
C8: 소 계 | D8: =D6 -> 0 | E8: =D8-D7 -> 0 | I8: 변경
B9: 노 무 비 | C9: 직 접 노 무 비 | D9: =내역서!J16 -> 0 | I9: 변경
C10: 직 접 노 무 비 | D10: =내역서!J17 -> 0 | E10: =D10-D9 -> 0 | I10: 변경
C11: 간 접 노 무 비 | D11: =ROUNDDOWN(D9*G11/100,0) -> 0 | F11: ="[직접노무비] ×"&ROUND(G11,5)&"%" -> [직접노무비] ×12.91613% | G11: 12.916131 | I11: 변경
C12: 간 접 노 무 비 | D12: =ROUNDDOWN(D10*G12/100,0) -> 0 | E12: =D12-D11 -> 0 | F12: ="[직접노무비] ×"&ROUND(G12,5)&"%" -> [직접노무비] ×12.91613% | G12: 12.916131 | I12: 변경
C13: 소 계 | D13: =D9+D11 -> 0 | I13: 변경
C14: 소 계 | D14: =D10+D12 -> 0 | E14: =D14-D13 -> 0 | I14: 변경
B15: 경 비 | C15: 산 출 경 비 | D15: =내역서!L16 -> 0 | I15: 변경
C16: 산 출 경 비 | D16: =내역서!L17 -> 0 | E16: =D16-D15 -> 0 | I16: 변경
C17: 산 재 보 험 료 | D17: =ROUNDDOWN(D$13*$G$18%,0) -> 0 | F17: ="[직접노무비+간접노무비] ×"&ROUND(G17,5)&"%" -> [직접노무비+간접노무비] ×3.7667% | G17: 3.7666992 | I17: 변경
C18: 산 재 보 험 료 | D18: =ROUNDDOWN(D$14*$G$18%,0) -> 0 | E18: =D18-D17 -> 0 | F18: ="[직접노무비+간접노무비] ×"&ROUND(G18,5)&"%" -> [직접노무비+간접노무비] ×3.7667% | G18: 3.7666992 | I18: 변경
C19: 고 용 보 험 료 | D19: =ROUNDDOWN(D$13*$G19%,0) -> 0 | F19: ="[직접노무비+간접노무비] ×"&ROUND(G19,5)&"%" -> [직접노무비+간접노무비] ×1.07955% | G19: 1.0795468 | I19: 변경
C20: 고 용 보 험 료 | D20: =ROUNDDOWN(D$14*$G20%,0) -> 0 | E20: =D20-D19 -> 0 | F20: ="[직접노무비+간접노무비] ×"&ROUND(G20,5)&"%" -> [직접노무비+간접노무비] ×1.07955% | G20: 1.0795468 | I20: 변경
C21: 건 강 보 험 료 | D21: =ROUNDDOWN(D$13*$G21%,0) -> 0 | F21: ="[직접노무비] ×"&ROUND(G21,5)&"%" -> [직접노무비] ×3.94231% | G21: 3.9423072 | I21: 변경
C22: 건 강 보 험 료 | D22: =ROUNDDOWN(D$14*$G22%,0) -> 0 | E22: =D22-D21 -> 0 | F22: ="[직접노무비] ×"&ROUND(G22,5)&"%" -> [직접노무비] ×3.94231% | G22: 3.9423072 | I22: 변경
C23: 노 인 장 기 요 양 보 험 료 | D23: =ROUNDDOWN(D$21*$G23%,0) -> 0 | F23: ="[건강보험료] ×"&ROUND(G23,5)&"%" -> [건강보험료] ×12.27% | G23: 12.27 | I23: 변경
C24: 노 인 장 기 요 양 보 험 료 | D24: =ROUNDDOWN(D$22*$G24%,0) -> 0 | E24: =D24-D23 -> 0 | F24: ="[건강보험료] ×"&ROUND(G24,5)&"%" -> [건강보험료] ×12.27% | G24: 12.27 | I24: 변경
C25: 국 민 연 금 보 험 료 | D25: =ROUNDDOWN(D$9*$G25%,0) -> 0 | F25: ="[직접노무비] ×"&ROUND(G25,5)&"%" -> [직접노무비] ×5.07593% | G25: 5.0759321 | I25: 변경
C26: 국 민 연 금 보 험 료 | D26: =ROUNDDOWN(D$10*$G26%,0) -> 0 | E26: =D26-D25 -> 0 | F26: ="[직접노무비] ×"&ROUND(G26,5)&"%" -> [직접노무비] ×5.07593% | G26: 5.0759321 | I26: 변경
C27: 퇴 직 공 제 부 금 비 | D27: =ROUNDDOWN(D$9*$G27%,0) -> 0 | F27: ="[직접노무비] ×"&ROUND(G27,5)&"%" -> [직접노무비] ×2.59437% | G27: 2.5943653 | I27: 변경
C28: 퇴 직 공 제 부 금 비 | D28: =ROUNDDOWN(D$10*$G28%,0) -> 0 | E28: =D28-D27 -> 0 | F28: ="[직접노무비] ×"&ROUND(G28,5)&"%" -> [직접노무비] ×2.59437% | G28: 2.5943653 | I28: 변경
C29: 산 업 안 전 보 건 관 리 비 | D29: =ROUNDDOWN(((D7+D9)*$G29%),0) -> 0 | F29: ="([직노+직재+간재] ×"&ROUND(G29,5)&"%" -> ([직노+직재+간재] ×2.62213% | G29: 2.6221306 | I29: 변경
C30: 산 업 안 전 보 건 관 리 비 | D30: =ROUNDDOWN(((D8+D10)*$G30%),0) -> 0 | E30: =D30-D29 -> 0 | F30: ="([직노+직재+간재] ×"&ROUND(G30,5)&"%" -> ([직노+직재+간재] ×2.62213% | G30: 2.6221306 | I30: 변경
C31: 안 전 관 리 비 | D31: =내역서!N1266 -> 0 | I31: 변경
C32: 안 전 관 리 비 | D32: =내역서!N1267 -> 0 | E32: =D32-D31 -> 0 | I32: 변경
C33: 품 질 관 리 비 | D33: =내역서!N1248 -> 0 | I33: 변경
C34: 품 질 관 리 비 | D34: =내역서!N1249 -> 0 | E34: =D34-D33 -> 0 | I34: 변경
C35: 환 경 보 전 비 | D35: =ROUNDDOWN((D7+D9+D15)*$G35%,0) -> 0 | F35: ="[재료비+직접노무비+산출경비] ×"&ROUND(G35,5)&"%" -> [재료비+직접노무비+산출경비] ×0.5% | G35: 0.5 | I35: 변경
C36: 환 경 보 전 비 | D36: =ROUNDDOWN((D8+D10+D16)*$G36%,0) -> 0 | E36: =D36-D35 -> 0 | F36: ="[재료비+직접노무비+산출경비] ×"&ROUND(G36,5)&"%" -> [재료비+직접노무비+산출경비] ×0.5% | G36: 0.5 | I36: 변경
C37: 공 사 이 행 보 증 수 수 료 | D37: 0 | F37: 공사이행 발급 수수료 계상 | G37: 0.0077 | I37: 변경
C38: 공 사 이 행 보 증 수 수 료 | D38: 0 | E38: =D38-D37 -> 0 | F38: 공사이행 발급 수수료 계상 | G38: 0.0077 | I38: 변경
C39: 하 도 급 대 금 지 급 보 증 수 수 료 | D39: =ROUNDDOWN((D5+D9+D15)*$G39%,0) -> 0 | F39: ="[재료비+직접노무비+산출경비] ×"&ROUND(G39,5)&"%" -> [재료비+직접노무비+산출경비] ×0.071% | G39: 0.071 | I39: 변경
C40: 하 도 급 대 금 지 급 보 증 수 수 료 | D40: =ROUNDDOWN((D6+D10+D16)*$G40%,0) -> 0 | E40: =D40-D39 -> 0 | F40: ="[재료비+직접노무비+산출경비] ×"&ROUND(G40,5)&"%" -> [재료비+직접노무비+산출경비] ×0.071% | G40: 0.071 | I40: 변경
C41: 건 설 기 계 대 여 금 지 급 보 증 금 액 | D41: =ROUNDDOWN((D7+D9+D15)*$G41%,0) -> 0 | F41: ="[재료비+직접노무비+산출경비] ×"&ROUND(G41,5)&"%" -> [재료비+직접노무비+산출경비] ×0.4% | G41: 0.4 | I41: 변경
C42: 건 설 기 계 대 여 금 지 급 보 증 금 액 | D42: =ROUNDDOWN((D8+D10+D16)*$G42%,0) -> 0 | E42: =D42-D41 -> 0 | F42: ="[재료비+직접노무비+산출경비] ×"&ROUND(G42,5)&"%" -> [재료비+직접노무비+산출경비] ×0.4% | G42: 0.4 | I42: 변경
C43: 기 타 경 비 | D43: =ROUNDDOWN((D7+D13)*$G43%,0) -> 0 | F43: ="[재료비+노무비] ×"&ROUND(G43,5)&"%" -> [재료비+노무비] ×10.00174% | G43: 10.001737 | I43: 변경
C44: 기 타 경 비 | D44: =ROUNDDOWN((D8+D14)*$G44%,0) -> 0 | E44: =D44-D43 -> 0 | F44: ="[재료비+노무비] ×"&ROUND(G44,5)&"%" -> [재료비+노무비] ×10.00174% | G44: 10.001737 | I44: 변경
C45: 소 계 | D45: =D15+D17+D19+D21+D23+D25+D27+D29+D31+D33+D35+D37+D39+D41+D43 -> 0 | I45: 변경
C46: 소 계 | D46: =D16+D18+D20+D22+D24+D26+D28+D30+D32+D34+D36+D38+D40+D42+D44 -> 0 | E46: =D46-D45 -> 0 | I46: 변경
A47: 순 공 사 원 가 | D47: =D7+D13+D45 -> 0 | I47: 변경
A48: 순 공 사 원 가 | D48: =D8+D14+D46 -> 0 | E48: =D48-D47 -> 0 | I48: 변경
A49: 일 반 관 리 비 | D49: =ROUNDDOWN((D47)*$G49%,0) -> 0 | F49: ="[순공사원가] ×"&ROUND(G49,5)&"%" -> [순공사원가] ×4.985% | G49: 4.985 | I49: 변경
A50: 일 반 관 리 비 | D50: =ROUNDDOWN((D48)*$G50%,0) -> 0 | E50: =D50-D49 -> 0 | F50: ="[순공사원가] ×"&ROUND(G50,5)&"%" -> [순공사원가] ×4.985% | G50: 4.985 | I50: 변경
A51: 제 요 율 적 용 제 외 공 종 | D51: =내역서!N1238+내역서!N3938 -> 0 | I51: 변경
A52: 제 요 율 적 용 제 외 공 종 | D52: =내역서!N1239+내역서!N3939 -> 0 | E52: =D52-D51 -> 0 | I52: 변경
A53: 물 가 변 동 (K1=4.80%, 2023.05.01) | D53: ='원가(K1)'!D63 -> 0 | I53: 변경
A54: 물 가 변 동 (K1=4.80%, 2023.05.01) | D54: ='원가(K1)'!D64 -> 0 | E54: =D54-D53 -> 0 | I54: 변경
A55: 물 가 변 동 (K2=3.72%, 2024.01.01) | D55: ='원가(K2)'!D65 -> 0 | I55: 변경
A56: 물 가 변 동 (K2=3.72%, 2024.01.01) | D56: ='원가(K2)'!D66 -> 0 | E56: =D56-D55 -> 0 | I56: 변경
A57: 공 급 가 액 | D57: =D47+D49+D51+D53+D55 -> 0 | I57: 변경
A58: 공 급 가 액 | D58: =D48+D50+D52+D54+D56 -> 0 | E58: =D58-D57 -> 0 | I58: 변경
A59: 부 가 가 치 세 | D59: =ROUNDDOWN((D57)*$G59%,0) -> 0 | F59: ="[총합계] ×"&ROUND(G59,5)&"%" -> [총합계] ×10% | G59: 10 | I59: 변경
A60: 부 가 가 치 세 | D60: =ROUNDDOWN((D58)*$G60%,0) -> 0 | E60: =D60-D59 -> 0 | F60: ="[총합계] ×"&ROUND(G60,5)&"%" -> [총합계] ×10% | G60: 10 | I60: 변경
A61: 도 급 비 계 | D61: =D57+D59 -> 0 | I61: 변경
A62: 도 급 비 계 | D62: =D58+D60 -> 0 | E62: =D62-D61 -> 0 | I62: 변경
A63: 관 급 자 재 대 (도급자 설치) | D63: =#REF! -> #REF! | I63: 변경
A64: 관 급 자 재 대 (도급자 설치) | D64: =#REF! -> #REF! | E64: =D64-D63 -> #REF! | I64: 변경
A65: 관 급 자 재 대 (관급자 설치) | D65: =#REF! -> #REF! | I65: 변경
A66: 관 급 자 재 대 (관급자 설치) | D66: =#REF! -> #REF! | E66: =D66-D65 -> #REF! | I66: 변경
A67: 총 공 사 비 | D67: =D61+D63+D65 -> #REF! | I67: 변경
A68: 총 공 사 비 | D68: =D62+D64+D66 -> #REF! | E68: =D68-D67 -> #REF! | I68: 변경

Sheet 내역서
B1: 실 정 보 고 내 역 서
B3: 공 사 명 : 수산정수장 고도정수처리시설 건설공사
B4: 번호 | C4: 공 종 명 | D4: 규 격 | E4: 단위 | F4: 수 량 | G4: 재 료 비 | I4: 노 무 비 | K4: 경 비 | M4: 합 계 | O4: 증 ·감 | R4: 비 고 | T4: 최초수량
G5: 단가 | H5: 금액 | I5: 단가 | J5: 금액 | K5: 단가 | L5: 금액 | M5: 단가 | N5: 금액 | O5: 수량 | P5: 단가 | Q5: 금액
A6: 당초 | B6: Ⅰ. | C6: 토목공사 | H6: =H18 -> 0 | J6: =J18 -> 0 | L6: =L18 -> 0 | N6: =H6+J6+L6 -> 0 | T6: 0
A7: 변경 | B7: Ⅰ. | C7: 토목공사 | H7: =H19 -> 0 | J7: =J19 -> 0 | L7: =L19 -> 0 | N7: =H7+J7+L7 -> 0 | O7: =F7-F6 -> 0 | P7: =M7-M6 -> 0 | Q7: =N7-N6 -> 0 | T7: 0
A8: 당초 | B8: Ⅱ. | C8: 건축공사 | H8: =H1280 -> 0 | J8: =J1280 -> 0 | L8: =L1280 -> 0 | N8: =H8+J8+L8 -> 0 | T8: 0
A9: 변경 | B9: Ⅱ. | C9: 건축공사 | H9: =H1281 -> 0 | J9: =J1281 -> 0 | L9: =L1281 -> 0 | N9: =H9+J9+L9 -> 0 | O9: =F9-F8 -> 0 | P9: =M9-M8 -> 0 | Q9: =N9-N8 -> 0 | T9: 0
A10: 당초 | B10: Ⅲ. | C10: 기계공사 | H10: =H2034 -> 0 | J10: =J2034 -> 0 | L10: =L2034 -> 0 | N10: =H10+J10+L10 -> 0 | T10: 0
A11: 변경 | B11: Ⅲ. | C11: 기계공사 | H11: =H2035 -> 0 | J11: =J2035 -> 0 | L11: =L2035 -> 0 | N11: =H11+J11+L11 -> 0 | O11: =F11-F10 -> 0 | P11: =M11-M10 -> 0 | Q11: =N11-N10 -> 0 | T11: 0
A12: 당초 | B12: Ⅳ. | C12: 조경공사 | H12: =H2790 -> 0 | J12: =J2790 -> 0 | L12: =L2790 -> 0 | N12: =H12+J12+L12 -> 0 | T12: 0
A13: 변경 | B13: Ⅳ. | C13: 조경공사 | H13: =H2791 -> 0 | J13: =J2791 -> 0 | L13: =L2791 -> 0 | N13: =H13+J13+L13 -> 0 | O13: =F13-F12 -> 0 | P13: =M13-M12 -> 0 | Q13: =N13-N12 -> 0 | T13: 0
A14: 당초 | B14: Ⅴ. | C14: 퇴수관로 | H14: =H3224 -> 0 | J14: =J3224 -> 0 | L14: =L3224 -> 0 | N14: =H14+J14+L14 -> 0 | T14: 0
A15: 변경 | B15: Ⅴ. | C15: 퇴수관로 | J15: =J3225 -> 0 | L15: =L3225 -> 0 | N15: =H15+J15+L15 -> 0 | O15: =F15-F14 -> 0 | P15: =M15-M14 -> 0 | Q15: =N15-N14 -> 0 | T15: 0
A16: 당초 | C16: 직접공사비 계 | H16: =H6+H8+H10+H12+H14 -> 0 | J16: =J6+J8+J10+J12+J14 -> 0 | L16: =L6+L8+L10+L12+L14 -> 0 | N16: =H16+J16+L16 -> 0 | T16: 0
A17: 변경 | C17: 직접공사비 계 | H17: =H7+H9+H11+H13+H15 -> 0 | J17: =J7+J9+J11+J13+J15 -> 0 | L17: =L7+L9+L11+L13+L15 -> 0 | N17: =H17+J17+L17 -> 0 | O17: =F17-F16 -> 0 | P17: =M17-M16 -> 0 | Q17: =N17-N16 -> 0 | T17: 0
A18: 당초 | B18: Ⅰ. | C18: 토목공사 | H18: =H20+H90+H466+H654+H712+H936+H1086+H1124+H1220 -> 0 | J18: =J20+J90+J466+J654+J712+J936+J1086+J1124+J1220 -> 0 | L18: =L20+L90+L466+L654+L712+L936+L1086+L1124+L1220 -> 0 | N18: =H18+J18+L18 -> 0 | T18: 0
A19: 변경 | B19: Ⅰ. | C19: 토목공사 | H19: =H21+H91+H467+H655+H713+H937+H1087+H1125+H1221 -> 0 | J19: =J21+J91+J467+J655+J713+J937+J1087+J1125+J1221 -> 0 | L19: =L21+L91+L467+L655+L713+L937+L1087+L1125+L1221 -> 0 | N19: =H19+J19+L19 -> 0 | O19: =F19-F18 -> 0 | P19: =M19-M18 -> 0 | Q19: =N19-N18 -> 0 | T19: 0
A20: 당초 | B20: 1. | C20: 토 공 | H20: =SUMIF($A$22:$A$89,"당초",H22:H89) -> 0 | J20: =SUMIF($A$22:$A$89,"당초",J22:J89) -> 0 | L20: =SUMIF($A$22:$A$89,"당초",L22:L89) -> 0 | N20: =SUMIF($A$23:$A$89,"변경",N22:N88) -> 0 | T20: 0
A21: 변경 | B21: 1. | C21: 토 공 | H21: =SUMIF($A$22:$A$89,"변경",H22:H89) -> 0 | J21: =SUMIF($A$22:$A$89,"변경",J22:J89) -> 0 | L21: =SUMIF($A$22:$A$89,"변경",L22:L89) -> 0 | N21: =SUMIF($A$23:$A$89,"변경",N23:N89) -> 0 | O21: =F21-F20 -> 0 | P21: =M21-M20 -> 0 | Q21: =N21-N20 -> 0 | T21: 0
A22: 당초 | C22: 굴착:토 사,L= 50m | D22: (B.H 1.0㎥+덤프운반) | E22: ㎥ | G22: 1060 | H22: =INT($F22*G22) -> 0 | I22: 904.8 | J22: =INT($F22*I22) -> 0 | K22: 596.1 | L22: =INT($F22*K22) -> 0 | M22: =+G22+I22+K22 -> 2560.9 | N22: =H22+J22+L22 -> 0 | T22: 28923
A23: 변경 | C23: 굴착:토 사,L= 50m | D23: (B.H 1.0㎥+덤프운반) | E23: ㎥ | G23: 1060 | H23: =INT($F23*G23) -> 0 | I23: 904.8 | J23: =INT($F23*I23) -> 0 | K23: 596.1 | L23: =INT($F23*K23) -> 0 | M23: =+G23+I23+K23 -> 2560.9 | N23: =H23+J23+L23 -> 0 | O23: =F23-F22 -> 0 | P23: =M23-M22 -> 0 | Q23: =N23-N22 -> 0 | T23: 28923
A24: 당초 | C24: 굴착 (활성탄 흡착지 1구간) | D24: (B.H + 크람셀) | E24: ㎥ | G24: 2468 | H24: =INT($F24*G24) -> 0 | I24: 7167 | J24: =INT($F24*I24) -> 0 | K24: 4630 | L24: =INT($F24*K24) -> 0 | M24: =+G24+I24+K24 -> 14265 | N24: =+H24+J24+L24 -> 0 | R24: 신규단가 | T24: 6395
A25: 변경 | C25: 굴착 (활성탄 흡착지 1구간) | D25: (B.H + 크람셀) | E25: ㎥ | G25: 2468 | H25: =INT($F25*G25) -> 0 | I25: 7167 | J25: =INT($F25*I25) -> 0 | K25: 4630 | L25: =INT($F25*K25) -> 0 | M25: =+G25+I25+K25 -> 14265 | N25: =+H25+J25+L25 -> 0 | O25: =F25-F24 -> 0 | P25: =M25-M24 -> 0 | Q25: =N25-N24 -> 0 | R25: 신규단가 | T25: 6395
A26: 당초 | C26: 굴착 (활성탄 흡착지 2구간) | D26: (B.H + 크람셀) | E26: ㎥ | G26: 1477 | H26: =INT($F26*G26) -> 0 | I26: 2805 | J26: =INT($F26*I26) -> 0 | K26: 3398 | L26: =INT($F26*K26) -> 0 | M26: =+G26+I26+K26 -> 7680 | N26: =+H26+J26+L26 -> 0 | R26: 신규단가 | T26: 8259
A27: 변경 | C27: 굴착 (활성탄 흡착지 2구간) | D27: (B.H + 크람셀) | E27: ㎥ | G27: 1477 | H27: =INT($F27*G27) -> 0 | I27: 2805 | J27: =INT($F27*I27) -> 0 | K27: 3398 | L27: =INT($F27*K27) -> 0 | M27: =+G27+I27+K27 -> 7680 | N27: =+H27+J27+L27 -> 0 | O27: =F27-F26 -> 0 | P27: =M27-M26 -> 0 | Q27: =N27-N26 -> 0 | R27: 신규단가 | T27: 8259
A28: 당초 | C28: 굴착 (활성탄 흡착지 3구간) | D28: (B.H + 크람셀) | E28: ㎥ | G28: 2041.2 | H28: =INT($F28*G28) -> 0 | I28: 4051 | J28: =INT($F28*I28) -> 0 | K28: 3888 | L28: =INT($F28*K28) -> 0 | M28: =+G28+I28+K28 -> 9980.2 | N28: =+H28+J28+L28 -> 0 | R28: 신규단가 | T28: 9370
A29: 변경 | C29: 굴착 (활성탄 흡착지 3구간) | D29: (B.H + 크람셀) | E29: ㎥ | G29: 2041.2 | H29: =INT($F29*G29) -> 0 | I29: 4051 | J29: =INT($F29*I29) -> 0 | K29: 3888 | L29: =INT($F29*K29) -> 0 | M29: =+G29+I29+K29 -> 9980.2 | N29: =+H29+J29+L29 -> 0 | O29: =F29-F28 -> 0 | P29: =M29-M28 -> 0 | Q29: =N29-N28 -> 0 | R29: 신규단가 | T29: 9370
A30: 당초 | C30: 절취:토 사,L= 50m | D30: (B.H 1.0㎥+덤프운반) | E30: ㎥ | G30: 1060 | H30: =INT($F30*G30) -> 0 | I30: 904.8 | J30: =INT($F30*I30) -> 0 | K30: 596.1 | L30: =INT($F30*K30) -> 0 | M30: =+G30+I30+K30 -> 2560.9 | N30: =H30+J30+L30 -> 0 | T30: 8285
A31: 변경 | C31: 절취:토 사,L= 50m | D31: (B.H 1.0㎥+덤프운반) | E31: ㎥ | G31: 1060 | H31: =INT($F31*G31) -> 0 | I31: 904.8 | J31: =INT($F31*I31) -> 0 | K31: 596.1 | L31: =INT($F31*K31) -> 0 | M31: =+G31+I31+K31 -> 2560.9 | N31: =H31+J31+L31 -> 0 | O31: =F31-F30 -> 0 | P31: =M31-M30 -> 0 | Q31: =N31-N30 -> 0 | T31: 8285
A32: 당초 | C32: 상차(사토) | D32: (B.H 1.0㎥) | E32: ㎥ | G32: 454 | H32: =INT($F32*G32) -> 0 | I32: 693 | J32: =INT($F32*I32) -> 0 | K32: 373 | L32: =INT($F32*K32) -> 0 | M32: =+G32+I32+K32 -> 1520 | N32: =H32+J32+L32 -> 0 | R32: 신규단가 | T32: 5736
A33: 변경 | C33: 상차(사토) | D33: (B.H 1.0㎥) | E33: ㎥ | G33: 454 | H33: =INT($F33*G33) -> 0 | I33: 693 | J33: =INT($F33*I33) -> 0 | K33: 373 | L33: =INT($F33*K33) -> 0 | M33: =+G33+I33+K33 -> 1520 | N33: =H33+J33+L33 -> 0 | O33: =F33-F32 -> 0 | P33: =M33-M32 -> 0 | Q33: =N33-N32 -> 0 | R33: 신규단가 | T33: 5736
A34: 당초 | C34: 기계터파기/보통토사/5m이하 | D34: 양호 | E34: ㎥ | G34: 371.9 | H34: =INT($F34*G34) -> 0 | I34: 616.2 | J34: =INT($F34*I34) -> 0 | K34: 352 | L34: =INT($F34*K34) -> 0 | M34: =+G34+I34+K34 -> 1340.1 | N34: =H34+J34+L34 -> 0 | T34: 11087
A35: 변경 | C35: 기계터파기/보통토사/5m이하 | D35: 양호 | E35: ㎥ | G35: 371.9 | H35: =INT($F35*G35) -> 0 | I35: 616.2 | J35: =INT($F35*I35) -> 0 | K35: 352 | L35: =INT($F35*K35) -> 0 | M35: =+G35+I35+K35 -> 1340.1 | N35: =H35+J35+L35 -> 0 | O35: =F35-F34 -> 0 | P35: =M35-M34 -> 0 | Q35: =N35-N34 -> 0 | T35: 11087
A36: 당초 | C36: 기계터파기/보통토사/5m초과 | D36: 양호 | E36: ㎥ | G36: 397.9 | H36: =INT($F36*G36) -> 0 | I36: 660.1 | J36: =INT($F36*I36) -> 0 | K36: 376.9 | L36: =INT($F36*K36) -> 0 | M36: =+G36+I36+K36 -> 1434.9 | N36: =H36+J36+L36 -> 0 | T36: 936
A37: 변경 | C37: 기계터파기/보통토사/5m초과 | D37: 양호 | E37: ㎥ | G37: 397.9 | H37: =INT($F37*G37) -> 0 | I37: 660.1 | J37: =INT($F37*I37) -> 0 | K37: 376.9 | L37: =INT($F37*K37) -> 0 | M37: =+G37+I37+K37 -> 1434.9 | N37: =H37+J37+L37 -> 0 | O37: =F37-F36 -> 0 | P37: =M37-M36 -> 0 | Q37: =N37-N36 -> 0 | T37: 936
A38: 당초 | C38: 되메우기:토사 | D38: (B.H 0.2㎥+핸드가이드식로울러) | E38: ㎥ | G38: 630.4 | H38: =INT($F38*G38) -> 0 | I38: 2494.4 | J38: =INT($F38*I38) -> 0 | K38: 547.2 | L38: =INT($F38*K38) -> 0 | M38: =+G38+I38+K38 -> 3672 | N38: =H38+J38+L38 -> 0 | T38: 13334
A39: 변경 | C39: 되메우기:토사 | D39: (B.H 0.2㎥+핸드가이드식로울러) | E39: ㎥ | G39: 630.4 | H39: =INT($F39*G39) -> 0 | I39: 2494.4 | J39: =INT($F39*I39) -> 0 | K39: 547.2 | L39: =INT($F39*K39) -> 0 | M39: =+G39+I39+K39 -> 3672 | N39: =H39+J39+L39 -> 0 | O39: =F39-F38 -> 0 | P39: =M39-M38 -> 0 | Q39: =N39-N38 -> 0 | T39: 13334
A40: 당초 | C40: 되메우기:토[관상부] | D40: (B.H 1.0㎥+핸드가이드식로울러) | E40: ㎥ | G40: 600.7 | H40: =INT($F40*G40) -> 0 | I40: 1463.2 | J40: =INT($F40*I40) -> 0 | K40: 316.1 | L40: =INT($F40*K40) -> 0 | M40: =+G40+I40+K40 -> 2380 | N40: =H40+J40+L40 -> 0 | T40: 6160
A41: 변경 | C41: 되메우기:토[관상부] | D41: (B.H 1.0㎥+핸드가이드식로울러) | E41: ㎥ | G41: 600.7 | H41: =INT($F41*G41) -> 0 | I41: 1463.2 | J41: =INT($F41*I41) -> 0 | K41: 316.1 | L41: =INT($F41*K41) -> 0 | M41: =+G41+I41+K41 -> 2380 | N41: =H41+J41+L41 -> 0 | O41: =F41-F40 -> 0 | P41: =M41-M40 -> 0 | Q41: =N41-N40 -> 0 | T41: 6160
A42: 당초 | C42: 관부사 | D42: (B.H 1.0 90+인력10%) | E42: ㎥ | G42: 515.2 | H42: =INT($F42*G42) -> 0 | I42: 1895.2 | J42: =INT($F42*I42) -> 0 | K42: 408.9 | L42: =INT($F42*K42) -> 0 | M42: =+G42+I42+K42 -> 2819.3 | N42: =H42+J42+L42 -> 0 | T42: 3282
A43: 변경 | C43: 관부사 | D43: (B.H 1.0 90+인력10%) | E43: ㎥ | G43: 515.2 | H43: =INT($F43*G43) -> 0 | I43: 1895.2 | J43: =INT($F43*I43) -> 0 | K43: 408.9 | L43: =INT($F43*K43) -> 0 | M43: =+G43+I43+K43 -> 2819.3 | N43: =H43+J43+L43 -> 0 | O43: =F43-F42 -> 0 | P43: =M43-M42 -> 0 | Q43: =N43-N42 -> 0 | T43: 3282
A44: 당초 | C44: 잡석부설 | D44: 150mm이하 | E44: ㎥ | G44: 471.6 | H44: =INT($F44*G44) -> 0 | I44: 3906.3 | J44: =INT($F44*I44) -> 0 | K44: 444.7 | L44: =INT($F44*K44) -> 0 | M44: =+G44+I44+K44 -> 4822.6 | N44: =H44+J44+L44 -> 0 | T44: 14
A45: 변경 | C45: 잡석부설 | D45: 150mm이하 | E45: ㎥ | G45: 471.6 | H45: =INT($F45*G45) -> 0 | I45: 3906.3 | J45: =INT($F45*I45) -> 0 | K45: 444.7 | L45: =INT($F45*K45) -> 0 | M45: =+G45+I45+K45 -> 4822.6 | N45: =H45+J45+L45 -> 0 | O45: =F45-F44 -> 0 | P45: =M45-M44 -> 0 | Q45: =N45-N44 -> 0 | T45: 14
A46: 당초 | C46: 흙쌓기/토사 | D46: 두께 30cm | E46: ㎥ | G46: 440.7 | H46: =INT($F46*G46) -> 0 | I46: 1055.9 | J46: =INT($F46*I46) -> 0 | K46: 496.6 | L46: =INT($F46*K46) -> 0 | M46: =+G46+I46+K46 -> 1993.2 | N46: =H46+J46+L46 -> 0 | T46: 7777
A47: 변경 | C47: 흙쌓기/토사 | D47: 두께 30cm | E47: ㎥ | G47: 440.7 | H47: =INT($F47*G47) -> 0 | I47: 1055.9 | J47: =INT($F47*I47) -> 0 | K47: 496.6 | L47: =INT($F47*K47) -> 0 | M47: =+G47+I47+K47 -> 1993.2 | N47: =H47+J47+L47 -> 0 | O47: =F47-F46 -> 0 | P47: =M47-M46 -> 0 | Q47: =N47-N46 -> 0 | T47: 7777
A48: 당초 | C48: 비탈면보호공 | D48: 줄떼 | E48: ㎡ | G48: 770.7 | H48: =INT($F48*G48) -> 0 | I48: 4369.9 | J48: =INT($F48*I48) -> 0 | K48: 0 | L48: =INT($F48*K48) -> 0 | M48: =+G48+I48+K48 -> 5140.6 | N48: =H48+J48+L48 -> 0 | T48: 1467
A49: 변경 | C49: 비탈면보호공 | D49: 줄떼 | E49: ㎡ | G49: 770.7 | H49: =INT($F49*G49) -> 0 | I49: 4369.9 | J49: =INT($F49*I49) -> 0 | K49: 0 | L49: =INT($F49*K49) -> 0 | M49: =+G49+I49+K49 -> 5140.6 | N49: =H49+J49+L49 -> 0 | O49: =F49-F48 -> 0 | P49: =M49-M48 -> 0 | Q49: =N49-N48 -> 0 | T49: 1467
A50: 당초 | C50: 비탈면보호공 | D50: 평떼 | E50: ㎡ | G50: 1794.6 | H50: =INT($F50*G50) -> 0 | I50: 11022.9 | J50: =INT($F50*I50) -> 0 | K50: 0 | L50: =INT($F50*K50) -> 0 | M50: =+G50+I50+K50 -> 12817.5 | N50: =H50+J50+L50 -> 0 | T50: 193
A51: 변경 | C51: 비탈면보호공 | D51: 평떼 | E51: ㎡ | G51: 1794.6 | H51: =INT($F51*G51) -> 0 | I51: 11022.9 | J51: =INT($F51*I51) -> 0 | K51: 0 | L51: =INT($F51*K51) -> 0 | M51: =+G51+I51+K51 -> 12817.5 | N51: =H51+J51+L51 -> 0 | O51: =F51-F50 -> 0 | P51: =M51-M50 -> 0 | Q51: =N51-N50 -> 0 | T51: 193
A52: 당초 | C52: 성토면고르기 | E52: ㎡ | G52: 189.5 | H52: =INT($F52*G52) -> 0 | I52: 344 | J52: =INT($F52*I52) -> 0 | K52: 172.9 | L52: =INT($F52*K52) -> 0 | M52: =+G52+I52+K52 -> 706.4 | N52: =H52+J52+L52 -> 0 | T52: 1467
A53: 변경 | C53: 성토면고르기 | E53: ㎡ | G53: 189.5 | H53: =INT($F53*G53) -> 0 | I53: 344 | J53: =INT($F53*I53) -> 0 | K53: 172.9 | L53: =INT($F53*K53) -> 0 | M53: =+G53+I53+K53 -> 706.4 | N53: =H53+J53+L53 -> 0 | O53: =F53-F52 -> 0 | P53: =M53-M52 -> 0 | Q53: =N53-N52 -> 0 | T53: 1467
A54: 당초 | C54: 쌓기비탈면다짐 | D54: - | E54: ㎡ | G54: 255.3 | H54: =INT($F54*G54) -> 0 | I54: 490.6 | J54: =INT($F54*I54) -> 0 | K54: 277.2 | L54: =INT($F54*K54) -> 0 | M54: =+G54+I54+K54 -> 1023.1 | N54: =H54+J54+L54 -> 0 | T54: 1467
A55: 변경 | C55: 쌓기비탈면다짐 | D55: - | E55: ㎡ | G55: 255.3 | H55: =INT($F55*G55) -> 0 | I55: 490.6 | J55: =INT($F55*I55) -> 0 | K55: 277.2 | L55: =INT($F55*K55) -> 0 | M55: =+G55+I55+K55 -> 1023.1 | N55: =H55+J55+L55 -> 0 | O55: =F55-F54 -> 0 | P55: =M55-M54 -> 0 | Q55: =N55-N54 -> 0 | T55: 1467
A56: 당초 | C56: 절토면고르기 | D56: 토사 | E56: ㎡ | G56: 494.6 | H56: =INT($F56*G56) -> 0 | I56: 1709.9 | J56: =INT($F56*I56) -> 0 | K56: 467.6 | L56: =INT($F56*K56) -> 0 | M56: =+G56+I56+K56 -> 2672.1 | N56: =H56+J56+L56 -> 0 | T56: 175
A57: 변경 | C57: 절토면고르기 | D57: 토사 | E57: ㎡ | G57: 494.6 | H57: =INT($F57*G57) -> 0 | I57: 1709.9 | J57: =INT($F57*I57) -> 0 | K57: 467.6 | L57: =INT($F57*K57) -> 0 | M57: =+G57+I57+K57 -> 2672.1 | N57: =H57+J57+L57 -> 0 | O57: =F57-F56 -> 0 | P57: =M57-M56 -> 0 | Q57: =N57-N56 -> 0 | T57: 175
A58: 당초 | C58: 벌목 | D58: 5～8m미만 | E58: ㎡ | G58: 0 | H58: =INT($F58*G58) -> 0 | I58: 661.1 | J58: =INT($F58*I58) -> 0 | K58: 49.9 | L58: =INT($F58*K58) -> 0 | M58: =+G58+I58+K58 -> 711 | N58: =H58+J58+L58 -> 0 | T58: 5268
A59: 변경 | C59: 벌목 | D59: 5～8m미만 | E59: ㎡ | G59: 0 | H59: =INT($F59*G59) -> 0 | I59: 661.1 | J59: =INT($F59*I59) -> 0 | K59: 49.9 | L59: =INT($F59*K59) -> 0 | M59: =+G59+I59+K59 -> 711 | N59: =H59+J59+L59 -> 0 | O59: =F59-F58 -> 0 | P59: =M59-M58 -> 0 | Q59: =N59-N58 -> 0 | T59: 5268
A60: 당초 | C60: 벌개제근공 | D60: - | E60: ㎡ | G60: 0 | H60: =INT($F60*G60) -> 0 | I60: 413.8 | J60: =INT($F60*I60) -> 0 | K60: 0 | L60: =INT($F60*K60) -> 0 | M60: =+G60+I60+K60 -> 413.8 | N60: =H60+J60+L60 -> 0 | T60: 5268
A61: 변경 | C61: 벌개제근공 | D61: - | E61: ㎡ | G61: 0 | H61: =INT($F61*G61) -> 0 | I61: 413.8 | J61: =INT($F61*I61) -> 0 | K61: 0 | L61: =INT($F61*K61) -> 0 | M61: =+G61+I61+K61 -> 413.8 | N61: =H61+J61+L61 -> 0 | O61: =F61-F60 -> 0 | P61: =M61-M60 -> 0 | Q61: =N61-N60 -> 0 | T61: 5268
A62: 당초 | C62: 표토제거/답외구간 | D62: T=20cm | E62: ㎡ | G62: 121.7 | H62: =INT($F62*G62) -> 0 | I62: 71.8 | J62: =INT($F62*I62) -> 0 | K62: 62.9 | L62: =INT($F62*K62) -> 0 | M62: =+G62+I62+K62 -> 256.4 | N62: =H62+J62+L62 -> 0 | T62: 6467
A63: 변경 | C63: 표토제거/답외구간 | D63: T=20cm | E63: ㎡ | G63: 121.7 | H63: =INT($F63*G63) -> 0 | I63: 71.8 | J63: =INT($F63*I63) -> 0 | K63: 62.9 | L63: =INT($F63*K63) -> 0 | M63: =+G63+I63+K63 -> 256.4 | N63: =H63+J63+L63 -> 0 | O63: =F63-F62 -> 0 | P63: =M63-M62 -> 0 | Q63: =N63-N62 -> 0 | T63: 6467
A64: 당초 | C64: 사토:토 사,L=5km | D64: (백호직상차+덤프+정지) | E64: ㎥ | G64: 1876 | H64: =INT($F64*G64) -> 0 | I64: 862.4 | J64: =INT($F64*I64) -> 0 | K64: 1068 | L64: =INT($F64*K64) -> 0 | M64: =+G64+I64+K64 -> 3806.4 | N64: =H64+J64+L64 -> 0 | T64: 0
A65: 변경 | C65: 사토:토 사,L=5km | D65: (백호직상차+덤프+정지) | E65: ㎥ | G65: 1876 | H65: =INT($F65*G65) -> 0 | I65: 862.4 | J65: =INT($F65*I65) -> 0 | K65: 1068 | L65: =INT($F65*K65) -> 0 | M65: =+G65+I65+K65 -> 3806.4 | N65: =H65+J65+L65 -> 0 | O65: =F65-F64 -> 0 | P65: =M65-M64 -> 0 | Q65: =N65-N64 -> 0 | T65: 0
A66: 당초 | C66: 사토:매립토,L=6.76km | D66: (덤프) | E66: ㎥ | G66: 2694 | H66: =INT($F66*G66) -> 0 | I66: 3080 | J66: =INT($F66*I66) -> 0 | K66: 1881 | L66: =INT($F66*K66) -> 0 | M66: =+G66+I66+K66 -> 7655 | N66: =H66+J66+L66 -> 0 | R66: 신규단가 | T66: 37897
A67: 변경 | C67: 사토:매립토,L=6.76km | D67: (덤프) | E67: ㎥ | G67: 2694 | H67: =INT($F67*G67) -> 0 | I67: 3080 | J67: =INT($F67*I67) -> 0 | K67: 1881 | L67: =INT($F67*K67) -> 0 | M67: =+G67+I67+K67 -> 7655 | N67: =H67+J67+L67 -> 0 | O67: =F67-F66 -> 0 | P67: =M67-M66 -> 0 | Q67: =N67-N66 -> 0 | R67: 신규단가 | T67: 37897
A68: 당초 | C68: 사토:매립토,L=6.76km | D68: (크람셀+덤프) | E68: ㎥ | G68: 2124 | H68: =INT($F68*G68) -> 0 | I68: 4523 | J68: =INT($F68*I68) -> 0 | K68: 2627 | L68: =INT($F68*K68) -> 0 | M68: =+G68+I68+K68 -> 9274 | N68: =H68+J68+L68 -> 0 | R68: 신규단가 | T68: 24024
A69: 변경 | C69: 사토:매립토,L=6.76km | D69: (크람셀+덤프) | E69: ㎥ | G69: 2124 | H69: =INT($F69*G69) -> 0 | I69: 4523 | J69: =INT($F69*I69) -> 0 | K69: 2627 | L69: =INT($F69*K69) -> 0 | M69: =+G69+I69+K69 -> 9274 | N69: =H69+J69+L69 -> 0 | O69: =F69-F68 -> 0 | P69: =M69-M68 -> 0 | Q69: =N69-N68 -> 0 | R69: 신규단가 | T69: 24024
A70: 당초 | C70: 사토:매립토,L=15.09km | D70: (덤프) | E70: ㎥ | G70: 4212 | H70: =INT($F70*G70) -> 0 | I70: 5595 | J70: =INT($F70*I70) -> 0 | K70: 3218 | L70: =INT($F70*K70) -> 0 | M70: =+G70+I70+K70 -> 13025 | N70: =H70+J70+L70 -> 0 | R70: 신규단가 | T70: 11132
A71: 변경 | C71: 사토:매립토,L=15.09km | D71: (덤프) | E71: ㎥ | G71: 4212 | H71: =INT($F71*G71) -> 0 | I71: 5595 | J71: =INT($F71*I71) -> 0 | K71: 3218 | L71: =INT($F71*K71) -> 0 | M71: =+G71+I71+K71 -> 13025 | N71: =H71+J71+L71 -> 0 | O71: =F71-F70 -> 0 | P71: =M71-M70 -> 0 | Q71: =N71-N70 -> 0 | R71: 신규단가 | T71: 11132
A72: 당초 | C72: 순성토운반(토취장→가적치장:L=10.0km) | D72: (백호상차+덤프운반) | E72: ㎥ | G72: 3593.2 | H72: =INT($F72*G72) -> 0 | I72: 1963.1 | J72: =INT($F72*I72) -> 0 | K72: 2217.4 | L72: =INT($F72*K72) -> 0 | M72: =+G72+I72+K72 -> 7773.7 | N72: =H72+J72+L72 -> 0 | T72: 0
A73: 변경 | C73: 순성토운반(토취장→가적치장:L=10.0km) | D73: (백호상차+덤프운반) | E73: ㎥ | G73: 3593.2 | H73: =INT($F73*G73) -> 0 | I73: 1963.1 | J73: =INT($F73*I73) -> 0 | K73: 2217.4 | L73: =INT($F73*K73) -> 0 | M73: =+G73+I73+K73 -> 7773.7 | N73: =H73+J73+L73 -> 0 | O73: =F73-F72 -> 0 | P73: =M73-M72 -> 0 | Q73: =N73-N72 -> 0 | T73: 0
A74: 당초 | C74: 순성토운반(무대운반) | E74: ㎥ | H74: =INT($F74*G74) -> 0 | J74: =INT($F74*I74) -> 0 | L74: =INT($F74*K74) -> 0 | M74: =+G74+I74+K74 -> 0 | N74: =H74+J74+L74 -> 0 | T74: 4693
A75: 변경 | C75: 순성토운반(무대운반) | E75: ㎥ | H75: =INT($F75*G75) -> 0 | J75: =INT($F75*I75) -> 0 | L75: =INT($F75*K75) -> 0 | M75: =+G75+I75+K75 -> 0 | N75: =H75+J75+L75 -> 0 | O75: =F75-F74 -> 0 | P75: =M75-M74 -> 0 | Q75: =N75-N74 -> 0 | T75: 4693
A76: 당초 | C76: 순성토운반(토취장→가적치장:L=17.15km) | D76: (백호상차+덤프운반) | E76: ㎥ | G76: 4267 | H76: =INT($F76*G76) -> 0 | I76: 5459 | J76: =INT($F76*I76) -> 0 | K76: 3011 | L76: =INT($F76*K76) -> 0 | M76: =+G76+I76+K76 -> 12737 | N76: =H76+J76+L76 -> 0 | R76: 1회기존 | T76: 6115
A77: 변경 | C77: 순성토운반(토취장→가적치장:L=17.15km) | D77: (백호상차+덤프운반) | E77: ㎥ | G77: 4267 | H77: =INT($F77*G77) -> 0 | I77: 5459 | J77: =INT($F77*I77) -> 0 | K77: 3011 | L77: =INT($F77*K77) -> 0 | M77: =+G77+I77+K77 -> 12737 | N77: =H77+J77+L77 -> 0 | O77: =F77-F76 -> 0 | P77: =M77-M76 -> 0 | Q77: =N77-N76 -> 0 | R77: 1회기존 | T77: 6115
A78: 당초 | C78: 순성토운반(토취장→가적치장:L=25.70km) | D78: (백호상차+덤프운반) | E78: ㎥ | G78: =[1]변경내역서!$H$14 -> 5331 | H78: =INT($F78*G78) -> 0 | I78: =[1]변경내역서!$J$14 -> 7045 | J78: =INT($F78*I78) -> 0 | K78: =[1]변경내역서!$L$14 -> 4027 | L78: =INT($F78*K78) -> 0 | M78: =+G78+I78+K78 -> 16403 | N78: =H78+J78+L78 -> 0 | R78: 신규단가 | T78: 3068
A79: 변경 | C79: 순성토운반(토취장→가적치장:L=25.70km) | D79: (백호상차+덤프운반) | E79: ㎥ | G79: =[1]변경내역서!$H$14 -> 5331 | H79: =INT($F79*G79) -> 0 | I79: =[1]변경내역서!$J$14 -> 7045 | J79: =INT($F79*I79) -> 0 | K79: =[1]변경내역서!$L$14 -> 4027 | L79: =INT($F79*K79) -> 0 | M79: =+G79+I79+K79 -> 16403 | N79: =H79+J79+L79 -> 0 | O79: =F79-F78 -> 0 | P79: =M79-M78 -> 0 | Q79: =N79-N78 -> 0 | R79: 신규단가 | T79: 3068
A80: 당초 | C80: 순성토운반(토취장→가적치장:L=20.65km) | D80: (백호상차+덤프운반) | E80: ㎥ | G80: =[2]변경내역서!$H$16 -> 4973 | H80: =INT($F80*G80) -> 0 | I80: =[2]변경내역서!$J$16 -> 6671 | J80: =INT($F80*I80) -> 0 | K80: =[2]변경내역서!$L$16 -> 3732 | L80: =INT($F80*K80) -> 0 | M80: =+G80+I80+K80 -> 15376 | N80: =H80+J80+L80 -> 0 | R80: 신규단가 | T80: 13242
A81: 변경 | C81: 순성토운반(토취장→가적치장:L=20.65km) | D81: (백호상차+덤프운반) | E81: ㎥ | G81: =[2]변경내역서!$H$16 -> 4973 | H81: =INT($F81*G81) -> 0 | I81: =[2]변경내역서!$J$16 -> 6671 | J81: =INT($F81*I81) -> 0 | K81: =[2]변경내역서!$L$16 -> 3732 | L81: =INT($F81*K81) -> 0 | M81: =+G81+I81+K81 -> 15376 | N81: =H81+J81+L81 -> 0 | O81: =F81-F80 -> 0 | P81: =M81-M80 -> 0 | Q81: =N81-N80 -> 0 | R81: 신규단가 | T81: 13242
A82: 당초 | C82: 순성토운반(토취장→가적치장:L=10.60km) | D82: (백호상차+덤프운반) | E82: ㎥ | G82: =[2]변경내역서!$H$18 -> 2892 | H82: =INT($F82*G82) -> 0 | I82: =[2]변경내역서!$J$18 -> 3918 | J82: =INT($F82*I82) -> 0 | K82: =[2]변경내역서!$L$18 -> 2181 | L82: =INT($F82*K82) -> 0 | M82: =+G82+I82+K82 -> 8991 | N82: =H82+J82+L82 -> 0 | R82: 신규단가 | T82: 1500
A83: 변경 | C83: 순성토운반(토취장→가적치장:L=10.60km) | D83: (백호상차+덤프운반) | E83: ㎥ | G83: =[2]변경내역서!$H$18 -> 2892 | H83: =INT($F83*G83) -> 0 | I83: =[2]변경내역서!$J$18 -> 3918 | J83: =INT($F83*I83) -> 0 | K83: =[2]변경내역서!$L$18 -> 2181 | L83: =INT($F83*K83) -> 0 | M83: =+G83+I83+K83 -> 8991 | N83: =H83+J83+L83 -> 0 | O83: =F83-F82 -> 0 | P83: =M83-M82 -> 0 | Q83: =N83-N82 -> 0 | R83: 신규단가 | T83: 1500
A84: 당초 | C84: 토사운반(가적치장→현장:L=500m) | D84: (백호상차+덤프운반) | E84: ㎥ | G84: 1796.6 | H84: =INT($F84*G84) -> 0 | I84: 1122.7 | J84: =INT($F84*I84) -> 0 | K84: 1183.5 | L84: =INT($F84*K84) -> 0 | M84: =+G84+I84+K84 -> 4102.8 | N84: =H84+J84+L84 -> 0 | T84: 0
A85: 변경 | C85: 토사운반(가적치장→현장:L=500m) | D85: (백호상차+덤프운반) | E85: ㎥ | G85: 1796.6 | H85: =INT($F85*G85) -> 0 | I85: 1122.7 | J85: =INT($F85*I85) -> 0 | K85: 1183.5 | L85: =INT($F85*K85) -> 0 | M85: =+G85+I85+K85 -> 4102.8 | N85: =H85+J85+L85 -> 0 | O85: =F85-F84 -> 0 | P85: =M85-M84 -> 0 | Q85: =N85-N84 -> 0 | T85: 0
A86: 당초 | C86: 토사운반(가적치장→현장:L=534m) | D86: (백호상차+덤프운반) | E86: ㎥ | G86: 975 | H86: =INT($F86*G86) -> 0 | I86: 1315 | J86: =INT($F86*I86) -> 0 | K86: 708 | L86: =INT($F86*K86) -> 0 | M86: =+G86+I86+K86 -> 2998 | N86: =H86+J86+L86 -> 0 | R86: 신규단가 | T86: 28618
A87: 변경 | C87: 토사운반(가적치장→현장:L=534m) | D87: (백호상차+덤프운반) | E87: ㎥ | G87: 975 | H87: =INT($F87*G87) -> 0 | I87: 1315 | J87: =INT($F87*I87) -> 0 | K87: 708 | L87: =INT($F87*K87) -> 0 | M87: =+G87+I87+K87 -> 2998 | N87: =H87+J87+L87 -> 0 | O87: =F87-F86 -> 0 | P87: =M87-M86 -> 0 | Q87: =N87-N86 -> 0 | R87: 신규단가 | T87: 28618
A88: 당초 | C88: 유용토운반 | D88: (B.H 1.0㎥+덤프운반) | E88: ㎥ | G88: 1060 | H88: =INT($F88*G88) -> 0 | I88: 904.8 | J88: =INT($F88*I88) -> 0 | K88: 596.1 | L88: =INT($F88*K88) -> 0 | M88: =+G88+I88+K88 -> 2560.9 | N88: =H88+J88+L88 -> 0 | R88: 기존단가 | T88: 2549
A89: 변경 | C89: 유용토운반 | D89: (B.H 1.0㎥+덤프운반) | E89: ㎥ | G89: 1060 | H89: =INT($F89*G89) -> 0 | I89: 904.8 | J89: =INT($F89*I89) -> 0 | K89: 596.1 | L89: =INT($F89*K89) -> 0 | M89: =+G89+I89+K89 -> 2560.9 | N89: =H89+J89+L89 -> 0 | O89: =F89-F88 -> 0 | P89: =M89-M88 -> 0 | Q89: =N89-N88 -> 0 | R89: 기존단가 | T89: 2549
A90: 당초 | B90: 2. | C90: 구 조 물 공 | H90: =H92+H230+H342+H456 -> 0 | J90: =J92+J230+J342+J456 -> 0 | L90: =L92+L230+L342+L456 -> 0 | N90: =H90+J90+L90 -> 0 | T90: 0
A91: 변경 | B91: 2. | C91: 구 조 물 공 | H91: =H93+H231+H343+H457 -> 0 | J91: =J93+J231+J343+J457 -> 0 | L91: =L93+L231+L343+L457 -> 0 | N91: =H91+J91+L91 -> 0 | O91: =F91-F90 -> 0 | P91: =M91-M90 -> 0 | Q91: =N91-N90 -> 0 | T91: 0
A92: 당초 | B92: 2.1. | C92: 활 성 탄 흡 착 지 | H92: =H94+H218 -> 0 | J92: =J94+J218 -> 0 | L92: =L94+L218 -> 0 | N92: =H92+J92+L92 -> 0 | T92: 0
A93: 변경 | B93: 2.1. | C93: 활 성 탄 흡 착 지 | H93: =H95+H219 -> 0 | J93: =J95+J219 -> 0 | L93: =L95+L219 -> 0 | N93: =H93+J93+L93 -> 0 | O93: =F93-F92 -> 0 | P93: =M93-M92 -> 0 | Q93: =N93-N92 -> 0 | T93: 0
A94: 당초 | B94: (1) | C94: 구 체 공 | H94: =SUMIF($A$96:$A$217,"당초",H96:H217) -> 0 | J94: =SUMIF($A$96:$A$217,"당초",J96:J217) -> 0 | L94: =SUMIF($A$96:$A$217,"당초",L96:L217) -> 0 | N94: =H94+J94+L94 -> 0 | T94: 0
A95: 변경 | B95: (1) | C95: 구 체 공 | H95: =SUMIF($A$96:$A$217,"변경",H96:H217) -> 0 | J95: =SUMIF($A$96:$A$217,"변경",J96:J217) -> 0 | L95: =SUMIF($A$96:$A$217,"변경",L96:L217) -> 0 | N95: =H95+J95+L95 -> 0 | O95: =F95-F94 -> 0 | P95: =M95-M94 -> 0 | Q95: =N95-N94 -> 0 | T95: 0
A96: 당초 | C96: 무근콘크리트 타설/펌프차 | D96: 양호(S15, 200㎥. 초과) | E96: ㎥ | G96: 1130.6 | H96: =INT($F96*G96) -> 0 | I96: 7690.9 | J96: =INT($F96*I96) -> 0 | K96: 2165.5 | L96: =INT($F96*K96) -> 0 | M96: =+G96+I96+K96 -> 10987 | N96: =H96+J96+L96 -> 0 | T96: 1801.29
A97: 변경 | C97: 무근콘크리트 타설/펌프차 | D97: 양호(S15, 200㎥. 초과) | E97: ㎥ | G97: 1130.6 | H97: =INT($F97*G97) -> 0 | I97: 7690.9 | J97: =INT($F97*I97) -> 0 | K97: 2165.5 | L97: =INT($F97*K97) -> 0 | M97: =+G97+I97+K97 -> 10987 | N97: =H97+J97+L97 -> 0 | O97: =F97-F96 -> 0 | P97: =M97-M96 -> 0 | Q97: =N97-N96 -> 0 | T97: 1801.29
A98: 당초 | C98: 철근콘크리트 타설/펌프차 | D98: 보통(S15, 200㎥. 초과) | E98: ㎥ | G98: 1487.6 | H98: =INT($F98*G98) -> 0 | I98: 10074.7 | J98: =INT($F98*I98) -> 0 | K98: 2830.5 | L98: =INT($F98*K98) -> 0 | M98: =+G98+I98+K98 -> 14392.8 | N98: =H98+J98+L98 -> 0 | T98: 7654.86
A99: 변경 | C99: 철근콘크리트 타설/펌프차 | D99: 보통(S15, 200㎥. 초과) | E99: ㎥ | G99: 1487.6 | H99: =INT($F99*G99) -> 0 | I99: 10074.7 | J99: =INT($F99*I99) -> 0 | K99: 2830.5 | L99: =INT($F99*K99) -> 0 | M99: =+G99+I99+K99 -> 14392.8 | N99: =H99+J99+L99 -> 0 | O99: =F99-F98 -> 0 | P99: =M99-M98 -> 0 | Q99: =N99-N98 -> 0 | T99: 7654.86
A100: 당초 | C100: 합판거푸집 | D100: 간단, 0 ∼ 7m | E100: ㎡ | G100: 11266.1 | H100: =INT($F100*G100) -> 0 | I100: 26287.9 | J100: =INT($F100*I100) -> 0 | K100: 0 | L100: =INT($F100*K100) -> 0 | M100: =+G100+I100+K100 -> 37554 | N100: =H100+J100+L100 -> 0 | T100: 91.48
A101: 변경 | C101: 합판거푸집 | D101: 간단, 0 ∼ 7m | E101: ㎡ | G101: 11266.1 | H101: =INT($F101*G101) -> 0 | I101: 26287.9 | J101: =INT($F101*I101) -> 0 | K101: 0 | L101: =INT($F101*K101) -> 0 | M101: =+G101+I101+K101 -> 37554 | N101: =H101+J101+L101 -> 0 | O101: =F101-F100 -> 0 | P101: =M101-M100 -> 0 | Q101: =N101-N100 -> 0 | T101: 91.48
...

Sheet 원가(K1)
A1: 물가변동 (1회) 변경 원가계산서
A3: 공 사 명 : 수산정수장 고도정수처리시설 건설공사
A4: 비목 | C4: 구 분 | D4: 금 액 | E4: 증 감 | F4: 산 출 근 거 | G4: 요율 | H4: 비 고
A5: 순 공 사 원 가 | B5: 재 료 비 | C5: 직 접 재 료 비 | D5: ='내역(K1)'!K16 -> 0
C6: 직 접 재 료 비 | D6: ='내역(K1)'!K17 -> 0 | E6: =D6-D5 -> 0
C7: 소 계 | D7: =D5 -> 0
C8: 소 계 | D8: =D6 -> 0 | E8: =D8-D7 -> 0
B9: 노 무 비 | C9: 직 접 노 무 비 | D9: ='내역(K1)'!M16 -> 0
C10: 직 접 노 무 비 | D10: ='내역(K1)'!M17 -> 0 | E10: =D10-D9 -> 0
C11: 간 접 노 무 비 | D11: =ROUNDDOWN(D9*G11/100,0) -> 0 | F11: ="[직접노무비] ×"&ROUND(G11,5)&"%" -> [직접노무비] ×12.91613% | G11: 12.916131
C12: 간 접 노 무 비 | D12: =ROUNDDOWN(D10*G12/100,0) -> 0 | E12: =D12-D11 -> 0 | F12: ="[직접노무비] ×"&ROUND(G12,5)&"%" -> [직접노무비] ×12.91613% | G12: 12.916131
C13: 소 계 | D13: =D9+D11 -> 0
C14: 소 계 | D14: =D10+D12 -> 0 | E14: =D14-D13 -> 0
B15: 경 비 | C15: 산 출 경 비 | D15: ='내역(K1)'!O16 -> 0
C16: 산 출 경 비 | D16: ='내역(K1)'!O17 -> 0 | E16: =D16-D15 -> 0
C17: 산 재 보 험 료 | D17: =ROUNDDOWN(D$13*$G$18%,0) -> 0 | F17: ="[직접노무비+간접노무비] ×"&ROUND(G17,5)&"%" -> [직접노무비+간접노무비] ×3.7667% | G17: 3.7666992
C18: 산 재 보 험 료 | D18: =ROUNDDOWN(D$14*$G$18%,0) -> 0 | E18: =D18-D17 -> 0 | F18: ="[직접노무비+간접노무비] ×"&ROUND(G18,5)&"%" -> [직접노무비+간접노무비] ×3.7667% | G18: 3.7666992
C19: 고 용 보 험 료 | D19: =ROUNDDOWN(D$13*$G19%,0) -> 0 | F19: ="[직접노무비+간접노무비] ×"&ROUND(G19,5)&"%" -> [직접노무비+간접노무비] ×1.07955% | G19: 1.0795468
C20: 고 용 보 험 료 | D20: =ROUNDDOWN(D$14*$G20%,0) -> 0 | E20: =D20-D19 -> 0 | F20: ="[직접노무비+간접노무비] ×"&ROUND(G20,5)&"%" -> [직접노무비+간접노무비] ×1.07955% | G20: 1.0795468
C21: 건 강 보 험 료 | D21: =ROUNDDOWN(D$13*$G21%,0) -> 0 | F21: ="[직접노무비] ×"&ROUND(G21,5)&"%" -> [직접노무비] ×3.94231% | G21: 3.9423072
C22: 건 강 보 험 료 | D22: =ROUNDDOWN(D$14*$G22%,0) -> 0 | E22: =D22-D21 -> 0 | F22: ="[직접노무비] ×"&ROUND(G22,5)&"%" -> [직접노무비] ×3.94231% | G22: 3.9423072
C23: 노 인 장 기 요 양 보 험 료 | D23: =ROUNDDOWN(D$21*$G23%,0) -> 0 | F23: ="[건강보험료] ×"&ROUND(G23,5)&"%" -> [건강보험료] ×12.27% | G23: 12.27
C24: 노 인 장 기 요 양 보 험 료 | D24: =ROUNDDOWN(D$22*$G24%,0) -> 0 | E24: =D24-D23 -> 0 | F24: ="[건강보험료] ×"&ROUND(G24,5)&"%" -> [건강보험료] ×12.27% | G24: 12.27
C25: 국 민 연 금 보 험 료 | D25: =ROUNDDOWN(D$9*$G25%,0) -> 0 | F25: ="[직접노무비] ×"&ROUND(G25,5)&"%" -> [직접노무비] ×5.07593% | G25: 5.0759321
C26: 국 민 연 금 보 험 료 | D26: =ROUNDDOWN(D$10*$G26%,0) -> 0 | E26: =D26-D25 -> 0 | F26: ="[직접노무비] ×"&ROUND(G26,5)&"%" -> [직접노무비] ×5.07593% | G26: 5.0759321
C27: 퇴 직 공 제 부 금 비 | D27: =ROUNDDOWN(D$9*$G27%,0) -> 0 | F27: ="[직접노무비] ×"&ROUND(G27,5)&"%" -> [직접노무비] ×2.59437% | G27: 2.5943653
C28: 퇴 직 공 제 부 금 비 | D28: =ROUNDDOWN(D$10*$G28%,0) -> 0 | E28: =D28-D27 -> 0 | F28: ="[직접노무비] ×"&ROUND(G28,5)&"%" -> [직접노무비] ×2.59437% | G28: 2.5943653
C29: 산 업 안 전 보 건 관 리 비 | D29: =ROUNDDOWN(((D7+D9)*$G29%),0) -> 0 | F29: ="([직노+직재+간재] ×"&ROUND(G29,5)&"%" -> ([직노+직재+간재] ×2.62213% | G29: 2.6221306
C30: 산 업 안 전 보 건 관 리 비 | D30: =ROUNDDOWN(((D8+D10)*$G30%),0) -> 0 | E30: =D30-D29 -> 0 | F30: ="([직노+직재+간재] ×"&ROUND(G30,5)&"%" -> ([직노+직재+간재] ×2.62213% | G30: 2.6221306
C31: 안 전 관 리 비 | D31: =내역서!N1266 -> 0
C32: 안 전 관 리 비 | D32: =내역서!N1267 -> 0 | E32: =D32-D31 -> 0
C33: 품 질 관 리 비 | D33: =내역서!N1248 -> 0
C34: 품 질 관 리 비 | D34: =내역서!N1249 -> 0 | E34: =D34-D33 -> 0
C35: 환 경 보 전 비 | D35: =ROUNDDOWN((D7+D9+D15)*$G35%,0) -> 0 | F35: ="[재료비+직접노무비+산출경비] ×"&ROUND(G35,5)&"%" -> [재료비+직접노무비+산출경비] ×0.5% | G35: 0.5
C36: 환 경 보 전 비 | D36: =ROUNDDOWN((D8+D10+D16)*$G36%,0) -> 0 | E36: =D36-D35 -> 0 | F36: ="[재료비+직접노무비+산출경비] ×"&ROUND(G36,5)&"%" -> [재료비+직접노무비+산출경비] ×0.5% | G36: 0.5
C37: 공 사 이 행 보 증 수 수 료 | D37: 0 | F37: 공사이행 발급 수수료 계상 | G37: 0.0077
C38: 공 사 이 행 보 증 수 수 료 | D38: 0 | E38: =D38-D37 -> 0 | F38: 공사이행 발급 수수료 계상 | G38: 0.0077
C39: 하 도 급 대 금 지 급 보 증 수 수 료 | D39: =ROUNDDOWN((D5+D9+D15)*$G39%,0) -> 0 | F39: ="[재료비+직접노무비+산출경비] ×"&ROUND(G39,5)&"%" -> [재료비+직접노무비+산출경비] ×0.071% | G39: 0.071
C40: 하 도 급 대 금 지 급 보 증 수 수 료 | D40: =ROUNDDOWN((D6+D10+D16)*$G40%,0) -> 0 | E40: =D40-D39 -> 0 | F40: ="[재료비+직접노무비+산출경비] ×"&ROUND(G40,5)&"%" -> [재료비+직접노무비+산출경비] ×0.071% | G40: 0.071
C41: 건 설 기 계 대 여 금 지 급 보 증 금 액 | D41: =ROUNDDOWN((D7+D9+D15)*$G41%,0) -> 0 | F41: ="[재료비+직접노무비+산출경비] ×"&ROUND(G41,5)&"%" -> [재료비+직접노무비+산출경비] ×0.4% | G41: 0.4
C42: 건 설 기 계 대 여 금 지 급 보 증 금 액 | D42: =ROUNDDOWN((D8+D10+D16)*$G42%,0) -> 0 | E42: =D42-D41 -> 0 | F42: ="[재료비+직접노무비+산출경비] ×"&ROUND(G42,5)&"%" -> [재료비+직접노무비+산출경비] ×0.4% | G42: 0.4
C43: 기 타 경 비 | D43: =ROUNDDOWN((D7+D13)*$G43%,0) -> 0 | F43: ="[재료비+노무비] ×"&ROUND(G43,5)&"%" -> [재료비+노무비] ×10.00174% | G43: 10.001737
C44: 기 타 경 비 | D44: =ROUNDDOWN((D8+D14)*$G44%,0) -> 0 | E44: =D44-D43 -> 0 | F44: ="[재료비+노무비] ×"&ROUND(G44,5)&"%" -> [재료비+노무비] ×10.00174% | G44: 10.001737
C45: 소 계 | D45: =D15+D17+D19+D21+D23+D25+D27+D29+D31+D33+D35+D37+D39+D41+D43 -> 0
C46: 소 계 | D46: =D16+D18+D20+D22+D24+D26+D28+D30+D32+D34+D36+D38+D40+D42+D44 -> 0 | E46: =D46-D45 -> 0
A47: 순 공 사 원 가 | D47: =D7+D13+D45 -> 0
A48: 순 공 사 원 가 | D48: =D8+D14+D46 -> 0 | E48: =D48-D47 -> 0
A49: 일 반 관 리 비 | D49: =ROUNDDOWN((D47)*$G49%,0) -> 0 | F49: ="[순공사원가] ×"&ROUND(G49,5)&"%" -> [순공사원가] ×4.985% | G49: 4.985
A50: 일 반 관 리 비 | D50: =ROUNDDOWN((D48)*$G50%,0) -> 0 | E50: =D50-D49 -> 0 | F50: ="[순공사원가] ×"&ROUND(G50,5)&"%" -> [순공사원가] ×4.985% | G50: 4.985
A51: 제 요 율 적 용 제 외 공 종 | D51: ='내역(K1)'!Q1234 -> 0
A52: 제 요 율 적 용 제 외 공 종 | D52: ='내역(K1)'!Q1235 -> 0 | E52: =D52-D51 -> 0
A53: 물 가 변 동 대 상 금 액 | D53: =D47+D49+D51 -> 0
A54: 물 가 변 동 대 상 금 액 | D54: =D48+D50+D52 -> 0 | E54: =D54-D53 -> 0
A55: 물 가 변 동 제 외 금 액 (직불노무비)
A56: 물 가 변 동 제 외 금 액 (직불노무비) | E56: =D56-D55 -> 0
A57: 물 가 변 동 적 용 대 가 | D57: =D53-D55 -> 0
A58: 물 가 변 동 적 용 대 가 | D58: =D54-D56 -> 0 | E58: =D58-D57 -> 0
A59: 물 가 변 동 적 용 금 액 (1회) | D59: =ROUNDDOWN((D57*G59/100),0) -> 0 | G59: 4.8
A60: 물 가 변 동 적 용 금 액 (1회) | D60: =ROUNDDOWN((D58*G60/100),0) -> 0 | E60: =D60-D59 -> 0 | G60: 4.8
A61: 선 금 급 공 제
A62: 선 금 급 공 제 | E62: =D62-D61 -> 0
A63: 물 가 변 동 적 용 금 액 (1회) | D63: =ROUNDDOWN(D59-D61,-3) -> 0
A64: 물 가 변 동 적 용 금 액 (1회) | D64: =ROUNDDOWN(D60-D62,-3) -> 0 | E64: =D64-D63 -> 0
A67: 부가세포함 | D67: =D63*1.1 -> 0
A68: 부가세포함 | D68: =D64*1.1 -> 0

Sheet 내역(K1)
B1: 물가변동(1회) 변경 내역서
B3: 공 사 명 : 수산정수장 고도정수처리시설 건설공사
B4: 번호 | C4: 공 종 명 | D4: 규 격 | E4: 단위 | F4: 전체수량 | G4: 2회변경 설계수량 | H4: 1회시점 ES 수량 | I4: 실정보고 적용수량 | J4: 재 료 비 | L4: 노 무 비 | N4: 경 비 | P4: 합 계 | R4: 증 ·감 | U4: 비 고
J5: 단가 | K5: 금액 | L5: 단가 | M5: 금액 | N5: 단가 | O5: 금액 | P5: 단가 | Q5: 금액 | R5: 수량 | S5: 단가 | T5: 금액
A6: 당초 | B6: Ⅰ. | C6: 토목공사 | F6: 0 | H6: 0 | K6: =K18 -> 0 | M6: =M18 -> 0 | O6: =O18 -> 0 | Q6: =K6+M6+O6 -> 0
A7: 변경 | B7: Ⅰ. | C7: 토목공사 | F7: 0 | H7: 0 | K7: =K19 -> 0 | M7: =M19 -> 0 | O7: =O19 -> 0 | Q7: =K7+M7+O7 -> 0 | R7: =I7-I6 -> 0 | S7: =P7-P6 -> 0 | T7: =Q7-Q6 -> 0
A8: 당초 | B8: Ⅱ. | C8: 건축공사 | F8: 0 | H8: 0 | K8: =K1276 -> 0 | M8: =M1276 -> 0 | O8: =O1276 -> 0 | Q8: =K8+M8+O8 -> 0
A9: 변경 | B9: Ⅱ. | C9: 건축공사 | F9: 0 | H9: 0 | K9: =K1277 -> 0 | M9: =M1277 -> 0 | O9: =O1277 -> 0 | Q9: =K9+M9+O9 -> 0 | R9: =I9-I8 -> 0 | S9: =P9-P8 -> 0 | T9: =Q9-Q8 -> 0
A10: 당초 | B10: Ⅲ. | C10: 기계공사 | F10: 0 | H10: 0 | K10: =K2030 -> 0 | M10: =M2030 -> 0 | O10: =O2030 -> 0 | Q10: =K10+M10+O10 -> 0
A11: 변경 | B11: Ⅲ. | C11: 기계공사 | F11: 0 | H11: 0 | K11: =K2031 -> 0 | M11: =M2031 -> 0 | O11: =O2031 -> 0 | Q11: =K11+M11+O11 -> 0 | R11: =I11-I10 -> 0 | S11: =P11-P10 -> 0 | T11: =Q11-Q10 -> 0
A12: 당초 | B12: Ⅳ. | C12: 조경공사 | F12: 0 | H12: 0 | K12: =K2786 -> 0 | M12: =M2786 -> 0 | O12: =O2786 -> 0 | Q12: =K12+M12+O12 -> 0
A13: 변경 | B13: Ⅳ. | C13: 조경공사 | F13: 0 | H13: 0 | K13: =K2787 -> 0 | M13: =M2787 -> 0 | O13: =O2787 -> 0 | Q13: =K13+M13+O13 -> 0 | R13: =I13-I12 -> 0 | S13: =P13-P12 -> 0 | T13: =Q13-Q12 -> 0
A14: 당초 | B14: Ⅳ. | C14: 퇴수관로 | F14: 0 | H14: 0 | K14: =K3220 -> 0 | M14: =M3220 -> 0 | O14: =O3220 -> 0 | Q14: =K14+M14+O14 -> 0
A15: 변경 | B15: Ⅳ. | C15: 퇴수관로 | F15: 0 | H15: 0 | K15: =K3221 -> 0 | M15: =M3221 -> 0 | O15: =O3221 -> 0 | Q15: =K15+M15+O15 -> 0 | R15: =I15-I14 -> 0 | S15: =P15-P14 -> 0 | T15: =Q15-Q14 -> 0
A16: 당초 | C16: 직접공사비 계 | F16: 0 | H16: 0 | K16: =K6+K8+K10+K12+K14 -> 0 | M16: =M6+M8+M10+M12+M14 -> 0 | O16: =O6+O8+O10+O12+O14 -> 0 | Q16: =K16+M16+O16 -> 0
A17: 변경 | C17: 직접공사비 계 | F17: 0 | H17: 0 | K17: =K7+K9+K11+K13+K15 -> 0 | M17: =M7+M9+M11+M13+M15 -> 0 | O17: =O7+O9+O11+O13+O15 -> 0 | Q17: =K17+M17+O17 -> 0 | R17: =I17-I16 -> 0 | S17: =P17-P16 -> 0 | T17: =Q17-Q16 -> 0
A18: 당초 | B18: Ⅰ. | C18: 토목공사 | F18: 0 | H18: 0 | K18: =K20+K90+K466+K654+K708+K932+K1082+K1120+K1216 -> 0 | M18: =M20+M90+M466+M654+M708+M932+M1082+M1120+M1216 -> 0 | O18: =O20+O90+O466+O654+O708+O932+O1082+O1120+O1216 -> 0 | Q18: =K18+M18+O18 -> 0 | V18: =+IF(I18<0,"ng","")
A19: 변경 | B19: Ⅰ. | C19: 토목공사 | F19: 0 | H19: 0 | K19: =K21+K91+K467+K655+K709+K933+K1083+K1121+K1217 -> 0 | M19: =M21+M91+M467+M655+M709+M933+M1083+M1121+M1217 -> 0 | O19: =O21+O91+O467+O655+O709+O933+O1083+O1121+O1217 -> 0 | Q19: =K19+M19+O19 -> 0 | R19: =I19-I18 -> 0 | S19: =P19-P18 -> 0 | T19: =Q19-Q18 -> 0 | V19: =+IF(I19<0,"ng","")
A20: 당초 | B20: 1. | C20: 토 공 | F20: 0 | H20: 0 | K20: =SUMIF($A$22:$A$89,"당초",K22:K89) -> 0 | M20: =SUMIF($A$22:$A$89,"당초",M22:M89) -> 0 | O20: =SUMIF($A$22:$A$89,"당초",O22:O89) -> 0 | Q20: =K20+M20+O20 -> 0 | V20: =+IF(I20<0,"ng","")
A21: 변경 | B21: 1. | C21: 토 공 | F21: 0 | H21: 0 | K21: =SUMIF($A$22:$A$89,"변경",K22:K89) -> 0 | M21: =SUMIF($A$22:$A$89,"변경",M22:M89) -> 0 | O21: =SUMIF($A$22:$A$89,"변경",O22:O89) -> 0 | Q21: =K21+M21+O21 -> 0 | R21: =I21-I20 -> 0 | S21: =P21-P20 -> 0 | T21: =Q21-Q20 -> 0 | V21: =+IF(I21<0,"ng","")
A22: 당초 | C22: 굴착:토 사,L= 50m | D22: (B.H 1.0㎥+덤프운반) | E22: ㎥ | F22: 53731 | G22: =[5]내역서!F22 -> 28923 | H22: =G22 -> 28923 | I22: =내역서!F22 -> 0 | J22: 1060 | K22: =INT($I22*J22) -> 0 | L22: 904.8 | M22: =INT($I22*L22) -> 0 | N22: 596.1 | O22: =INT($I22*N22) -> 0 | P22: =+J22+L22+N22 -> 2560.9 | Q22: =K22+M22+O22 -> 0 | V22: =+IF(I22<0,"ng","")
A23: 변경 | C23: 굴착:토 사,L= 50m | D23: (B.H 1.0㎥+덤프운반) | E23: ㎥ | F23: 53731 | G23: =[5]내역서!F23 -> 28923 | H23: =G23 -> 28923 | I23: =내역서!F23 -> 0 | J23: 1060 | K23: =INT($I23*J23) -> 0 | L23: 904.8 | M23: =INT($I23*L23) -> 0 | N23: 596.1 | O23: =INT($I23*N23) -> 0 | P23: =+J23+L23+N23 -> 2560.9 | Q23: =K23+M23+O23 -> 0 | R23: =I23-I22 -> 0 | S23: =P23-P22 -> 0 | T23: =Q23-Q22 -> 0 | V23: =+IF(I23<0,"ng","")
A24: 당초 | C24: 굴착 (활성탄 흡착지 1구간) | D24: (B.H + 크람셀) | E24: ㎥ | F24: 0 | G24: =[5]내역서!F24 -> 6395 | I24: =내역서!F24 -> 0 | J24: 2468 | K24: =INT($I24*J24) -> 0 | L24: 7167 | M24: =INT($I24*L24) -> 0 | N24: 4630 | O24: =INT($I24*N24) -> 0 | P24: =+J24+L24+N24 -> 14265 | Q24: =+K24+M24+O24 -> 0 | U24: 신규단가 | V24: =+IF(I24<0,"ng","")
A25: 변경 | C25: 굴착 (활성탄 흡착지 1구간) | D25: (B.H + 크람셀) | E25: ㎥ | F25: 0 | G25: =[5]내역서!F25 -> 6395 | I25: =내역서!F25 -> 0 | J25: 2468 | K25: =INT($I25*J25) -> 0 | L25: 7167 | M25: =INT($I25*L25) -> 0 | N25: 4630 | O25: =INT($I25*N25) -> 0 | P25: =+J25+L25+N25 -> 14265 | Q25: =+K25+M25+O25 -> 0 | R25: =I25-I24 -> 0 | S25: =P25-P24 -> 0 | T25: =Q25-Q24 -> 0 | U25: 신규단가 | V25: =+IF(I25<0,"ng","")
A26: 당초 | C26: 굴착 (활성탄 흡착지 2구간) | D26: (B.H + 크람셀) | E26: ㎥ | F26: 0 | G26: =[5]내역서!F26 -> 8259 | I26: =내역서!F26 -> 0 | J26: 1477 | K26: =INT($I26*J26) -> 0 | L26: 2805 | M26: =INT($I26*L26) -> 0 | N26: 3398 | O26: =INT($I26*N26) -> 0 | P26: =+J26+L26+N26 -> 7680 | Q26: =+K26+M26+O26 -> 0 | U26: 신규단가 | V26: =+IF(I26<0,"ng","")
A27: 변경 | C27: 굴착 (활성탄 흡착지 2구간) | D27: (B.H + 크람셀) | E27: ㎥ | F27: 0 | G27: =[5]내역서!F27 -> 8259 | I27: =내역서!F27 -> 0 | J27: 1477 | K27: =INT($I27*J27) -> 0 | L27: 2805 | M27: =INT($I27*L27) -> 0 | N27: 3398 | O27: =INT($I27*N27) -> 0 | P27: =+J27+L27+N27 -> 7680 | Q27: =+K27+M27+O27 -> 0 | R27: =I27-I26 -> 0 | S27: =P27-P26 -> 0 | T27: =Q27-Q26 -> 0 | U27: 신규단가 | V27: =+IF(I27<0,"ng","")
A28: 당초 | C28: 굴착 (활성탄 흡착지 3구간) | D28: (B.H + 크람셀) | E28: ㎥ | F28: 0 | G28: =[5]내역서!F28 -> 9370 | I28: =내역서!F28 -> 0 | J28: 2041.2 | K28: =INT($I28*J28) -> 0 | L28: 4051 | M28: =INT($I28*L28) -> 0 | N28: 3888 | O28: =INT($I28*N28) -> 0 | P28: =+J28+L28+N28 -> 9980.2 | Q28: =+K28+M28+O28 -> 0 | U28: 신규단가 | V28: =+IF(I28<0,"ng","")
A29: 변경 | C29: 굴착 (활성탄 흡착지 3구간) | D29: (B.H + 크람셀) | E29: ㎥ | F29: 0 | G29: =[5]내역서!F29 -> 9370 | I29: =내역서!F29 -> 0 | J29: 2041.2 | K29: =INT($I29*J29) -> 0 | L29: 4051 | M29: =INT($I29*L29) -> 0 | N29: 3888 | O29: =INT($I29*N29) -> 0 | P29: =+J29+L29+N29 -> 9980.2 | Q29: =+K29+M29+O29 -> 0 | R29: =I29-I28 -> 0 | S29: =P29-P28 -> 0 | T29: =Q29-Q28 -> 0 | U29: 신규단가 | V29: =+IF(I29<0,"ng","")
A30: 당초 | C30: 절취:토 사,L= 50m | D30: (B.H 1.0㎥+덤프운반) | E30: ㎥ | F30: 8285 | G30: =[5]내역서!F30 -> 8285 | H30: 0 | I30: =내역서!F30 -> 0 | J30: 1060 | K30: =INT($I30*J30) -> 0 | L30: 904.8 | M30: =INT($I30*L30) -> 0 | N30: 596.1 | O30: =INT($I30*N30) -> 0 | P30: =+J30+L30+N30 -> 2560.9 | Q30: =K30+M30+O30 -> 0 | V30: =+IF(I30<0,"ng","")
A31: 변경 | C31: 절취:토 사,L= 50m | D31: (B.H 1.0㎥+덤프운반) | E31: ㎥ | F31: 8285 | G31: =[5]내역서!F31 -> 8285 | H31: 0 | I31: =내역서!F31 -> 0 | J31: 1060 | K31: =INT($I31*J31) -> 0 | L31: 904.8 | M31: =INT($I31*L31) -> 0 | N31: 596.1 | O31: =INT($I31*N31) -> 0 | P31: =+J31+L31+N31 -> 2560.9 | Q31: =K31+M31+O31 -> 0 | R31: =I31-I30 -> 0 | S31: =P31-P30 -> 0 | T31: =Q31-Q30 -> 0 | V31: =+IF(I31<0,"ng","")
A32: 당초 | C32: 상차(사토) | D32: (B.H 1.0㎥) | E32: ㎥ | F32: 0 | G32: =[5]내역서!F32 -> 5736 | I32: =내역서!F32 -> 0 | J32: 454 | K32: =INT($I32*J32) -> 0 | L32: 693 | M32: =INT($I32*L32) -> 0 | N32: 373 | O32: =INT($I32*N32) -> 0 | P32: =+J32+L32+N32 -> 1520 | Q32: =K32+M32+O32 -> 0 | U32: 신규단가 | V32: =+IF(I32<0,"ng","")
A33: 변경 | C33: 상차(사토) | D33: (B.H 1.0㎥) | E33: ㎥ | F33: 0 | G33: =[5]내역서!F33 -> 5736 | I33: =내역서!F33 -> 0 | J33: 454 | K33: =INT($I33*J33) -> 0 | L33: 693 | M33: =INT($I33*L33) -> 0 | N33: 373 | O33: =INT($I33*N33) -> 0 | P33: =+J33+L33+N33 -> 1520 | Q33: =K33+M33+O33 -> 0 | R33: =I33-I32 -> 0 | S33: =P33-P32 -> 0 | T33: =Q33-Q32 -> 0 | U33: 신규단가 | V33: =+IF(I33<0,"ng","")
A34: 당초 | C34: 기계터파기/보통토사/5m이하 | D34: 양호 | E34: ㎥ | F34: =+G34 -> 11087 | G34: =[5]내역서!F34 -> 11087 | H34: =G34 -> 11087 | I34: =내역서!F34 -> 0 | J34: 371.9 | K34: =INT($I34*J34) -> 0 | L34: 616.2 | M34: =INT($I34*L34) -> 0 | N34: 352 | O34: =INT($I34*N34) -> 0 | P34: =+J34+L34+N34 -> 1340.1 | Q34: =K34+M34+O34 -> 0 | V34: =+IF(I34<0,"ng","")
A35: 변경 | C35: 기계터파기/보통토사/5m이하 | D35: 양호 | E35: ㎥ | F35: =+G35 -> 11087 | G35: =[5]내역서!F35 -> 11087 | H35: =G35 -> 11087 | I35: =내역서!F35 -> 0 | J35: 371.9 | K35: =INT($I35*J35) -> 0 | L35: 616.2 | M35: =INT($I35*L35) -> 0 | N35: 352 | O35: =INT($I35*N35) -> 0 | P35: =+J35+L35+N35 -> 1340.1 | Q35: =K35+M35+O35 -> 0 | R35: =I35-I34 -> 0 | S35: =P35-P34 -> 0 | T35: =Q35-Q34 -> 0 | V35: =+IF(I35<0,"ng","")
A36: 당초 | C36: 기계터파기/보통토사/5m초과 | D36: 양호 | E36: ㎥ | F36: 5677 | G36: =[5]내역서!F36 -> 936 | H36: =G36 -> 936 | I36: =내역서!F36 -> 0 | J36: 397.9 | K36: =INT($I36*J36) -> 0 | L36: 660.1 | M36: =INT($I36*L36) -> 0 | N36: 376.9 | O36: =INT($I36*N36) -> 0 | P36: =+J36+L36+N36 -> 1434.9 | Q36: =K36+M36+O36 -> 0 | V36: =+IF(I36<0,"ng","")
A37: 변경 | C37: 기계터파기/보통토사/5m초과 | D37: 양호 | E37: ㎥ | F37: 5677 | G37: =[5]내역서!F37 -> 936 | H37: =G37 -> 936 | I37: =내역서!F37 -> 0 | J37: 397.9 | K37: =INT($I37*J37) -> 0 | L37: 660.1 | M37: =INT($I37*L37) -> 0 | N37: 376.9 | O37: =INT($I37*N37) -> 0 | P37: =+J37+L37+N37 -> 1434.9 | Q37: =K37+M37+O37 -> 0 | R37: =I37-I36 -> 0 | S37: =P37-P36 -> 0 | T37: =Q37-Q36 -> 0 | V37: =+IF(I37<0,"ng","")
A38: 당초 | C38: 되메우기:토사 | D38: (B.H 0.2㎥+핸드가이드식로울러) | E38: ㎥ | F38: 14118 | G38: =[5]내역서!F38 -> 13334 | H38: =G38 -> 13334 | I38: =내역서!F38 -> 0 | J38: 630.4 | K38: =INT($I38*J38) -> 0 | L38: 2494.4 | M38: =INT($I38*L38) -> 0 | N38: 547.2 | O38: =INT($I38*N38) -> 0 | P38: =+J38+L38+N38 -> 3672 | Q38: =K38+M38+O38 -> 0 | V38: =+IF(I38<0,"ng","")
A39: 변경 | C39: 되메우기:토사 | D39: (B.H 0.2㎥+핸드가이드식로울러) | E39: ㎥ | F39: 14118 | G39: =[5]내역서!F39 -> 13334 | H39: =G39 -> 13334 | I39: =내역서!F39 -> 0 | J39: 630.4 | K39: =INT($I39*J39) -> 0 | L39: 2494.4 | M39: =INT($I39*L39) -> 0 | N39: 547.2 | O39: =INT($I39*N39) -> 0 | P39: =+J39+L39+N39 -> 3672 | Q39: =K39+M39+O39 -> 0 | R39: =I39-I38 -> 0 | S39: =P39-P38 -> 0 | T39: =Q39-Q38 -> 0 | V39: =+IF(I39<0,"ng","")
A40: 당초 | C40: 되메우기:토[관상부] | D40: (B.H 1.0㎥+핸드가이드식로울러) | E40: ㎥ | F40: 10782 | G40: =[5]내역서!F40 -> 6160 | H40: =G40 -> 6160 | I40: =내역서!F40 -> 0 | J40: 600.7 | K40: =INT($I40*J40) -> 0 | L40: 1463.2 | M40: =INT($I40*L40) -> 0 | N40: 316.1 | O40: =INT($I40*N40) -> 0 | P40: =+J40+L40+N40 -> 2380 | Q40: =K40+M40+O40 -> 0 | V40: =+IF(I40<0,"ng","")
A41: 변경 | C41: 되메우기:토[관상부] | D41: (B.H 1.0㎥+핸드가이드식로울러) | E41: ㎥ | F41: 10782 | G41: =[5]내역서!F41 -> 6160 | H41: =G41 -> 6160 | I41: =내역서!F41 -> 0 | J41: 600.7 | K41: =INT($I41*J41) -> 0 | L41: 1463.2 | M41: =INT($I41*L41) -> 0 | N41: 316.1 | O41: =INT($I41*N41) -> 0 | P41: =+J41+L41+N41 -> 2380 | Q41: =K41+M41+O41 -> 0 | R41: =I41-I40 -> 0 | S41: =P41-P40 -> 0 | T41: =Q41-Q40 -> 0 | V41: =+IF(I41<0,"ng","")
A42: 당초 | C42: 관부사 | D42: (B.H 1.0 90+인력10%) | E42: ㎥ | F42: 3773 | G42: =[5]내역서!F42 -> 3282 | H42: =+G42 -> 3282 | I42: =내역서!F42 -> 0 | J42: 515.2 | K42: =INT($I42*J42) -> 0 | L42: 1895.2 | M42: =INT($I42*L42) -> 0 | N42: 408.9 | O42: =INT($I42*N42) -> 0 | P42: =+J42+L42+N42 -> 2819.3 | Q42: =K42+M42+O42 -> 0 | V42: =+IF(I42<0,"ng","")
A43: 변경 | C43: 관부사 | D43: (B.H 1.0 90+인력10%) | E43: ㎥ | F43: 3773 | G43: =[5]내역서!F43 -> 3282 | H43: =+G43 -> 3282 | I43: =내역서!F43 -> 0 | J43: 515.2 | K43: =INT($I43*J43) -> 0 | L43: 1895.2 | M43: =INT($I43*L43) -> 0 | N43: 408.9 | O43: =INT($I43*N43) -> 0 | P43: =+J43+L43+N43 -> 2819.3 | Q43: =K43+M43+O43 -> 0 | R43: =I43-I42 -> 0 | S43: =P43-P42 -> 0 | T43: =Q43-Q42 -> 0 | V43: =+IF(I43<0,"ng","")
A44: 당초 | C44: 잡석부설 | D44: 150mm이하 | E44: ㎥ | F44: 14 | G44: =[5]내역서!F44 -> 14 | H44: =G44 -> 14 | I44: =내역서!F44 -> 0 | J44: 471.6 | K44: =INT($I44*J44) -> 0 | L44: 3906.3 | M44: =INT($I44*L44) -> 0 | N44: 444.7 | O44: =INT($I44*N44) -> 0 | P44: =+J44+L44+N44 -> 4822.6 | Q44: =K44+M44+O44 -> 0 | V44: =+IF(I44<0,"ng","")
A45: 변경 | C45: 잡석부설 | D45: 150mm이하 | E45: ㎥ | F45: 14 | G45: =[5]내역서!F45 -> 14 | H45: =G45 -> 14 | I45: =내역서!F45 -> 0 | J45: 471.6 | K45: =INT($I45*J45) -> 0 | L45: 3906.3 | M45: =INT($I45*L45) -> 0 | N45: 444.7 | O45: =INT($I45*N45) -> 0 | P45: =+J45+L45+N45 -> 4822.6 | Q45: =K45+M45+O45 -> 0 | R45: =I45-I44 -> 0 | S45: =P45-P44 -> 0 | T45: =Q45-Q44 -> 0 | V45: =+IF(I45<0,"ng","")
A46: 당초 | C46: 흙쌓기/토사 | D46: 두께 30cm | E46: ㎥ | F46: 7777 | G46: =[5]내역서!F46 -> 7777 | H46: =G46 -> 7777 | I46: =내역서!F46 -> 0 | J46: 440.7 | K46: =INT($I46*J46) -> 0 | L46: 1055.9 | M46: =INT($I46*L46) -> 0 | N46: 496.6 | O46: =INT($I46*N46) -> 0 | P46: =+J46+L46+N46 -> 1993.2 | Q46: =K46+M46+O46 -> 0 | V46: =+IF(I46<0,"ng","")
A47: 변경 | C47: 흙쌓기/토사 | D47: 두께 30cm | E47: ㎥ | F47: 7777 | G47: =[5]내역서!F47 -> 7777 | H47: =G47 -> 7777 | I47: =내역서!F47 -> 0 | J47: 440.7 | K47: =INT($I47*J47) -> 0 | L47: 1055.9 | M47: =INT($I47*L47) -> 0 | N47: 496.6 | O47: =INT($I47*N47) -> 0 | P47: =+J47+L47+N47 -> 1993.2 | Q47: =K47+M47+O47 -> 0 | R47: =I47-I46 -> 0 | S47: =P47-P46 -> 0 | T47: =Q47-Q46 -> 0 | V47: =+IF(I47<0,"ng","")
A48: 당초 | C48: 비탈면보호공 | D48: 줄떼 | E48: ㎡ | F48: 1467 | G48: =[5]내역서!F48 -> 1467 | H48: =G48 -> 1467 | I48: =내역서!F48 -> 0 | J48: 770.7 | K48: =INT($I48*J48) -> 0 | L48: 4369.9 | M48: =INT($I48*L48) -> 0 | N48: 0 | O48: =INT($I48*N48) -> 0 | P48: =+J48+L48+N48 -> 5140.6 | Q48: =K48+M48+O48 -> 0 | V48: =+IF(I48<0,"ng","")
A49: 변경 | C49: 비탈면보호공 | D49: 줄떼 | E49: ㎡ | F49: 1467 | G49: =[5]내역서!F49 -> 1467 | H49: =G49 -> 1467 | I49: =내역서!F49 -> 0 | J49: 770.7 | K49: =INT($I49*J49) -> 0 | L49: 4369.9 | M49: =INT($I49*L49) -> 0 | N49: 0 | O49: =INT($I49*N49) -> 0 | P49: =+J49+L49+N49 -> 5140.6 | Q49: =K49+M49+O49 -> 0 | R49: =I49-I48 -> 0 | S49: =P49-P48 -> 0 | T49: =Q49-Q48 -> 0 | V49: =+IF(I49<0,"ng","")
A50: 당초 | C50: 비탈면보호공 | D50: 평떼 | E50: ㎡ | F50: 193 | G50: =[5]내역서!F50 -> 193 | H50: =G50 -> 193 | I50: =내역서!F50 -> 0 | J50: 1794.6 | K50: =INT($I50*J50) -> 0 | L50: 11022.9 | M50: =INT($I50*L50) -> 0 | N50: 0 | O50: =INT($I50*N50) -> 0 | P50: =+J50+L50+N50 -> 12817.5 | Q50: =K50+M50+O50 -> 0 | V50: =+IF(I50<0,"ng","")
A51: 변경 | C51: 비탈면보호공 | D51: 평떼 | E51: ㎡ | F51: 193 | G51: =[5]내역서!F51 -> 193 | H51: =G51 -> 193 | I51: =내역서!F51 -> 0 | J51: 1794.6 | K51: =INT($I51*J51) -> 0 | L51: 11022.9 | M51: =INT($I51*L51) -> 0 | N51: 0 | O51: =INT($I51*N51) -> 0 | P51: =+J51+L51+N51 -> 12817.5 | Q51: =K51+M51+O51 -> 0 | R51: =I51-I50 -> 0 | S51: =P51-P50 -> 0 | T51: =Q51-Q50 -> 0 | V51: =+IF(I51<0,"ng","")
A52: 당초 | C52: 성토면고르기 | E52: ㎡ | F52: 1467 | G52: =[5]내역서!F52 -> 1467 | H52: =G52 -> 1467 | I52: =내역서!F52 -> 0 | J52: 189.5 | K52: =INT($I52*J52) -> 0 | L52: 344 | M52: =INT($I52*L52) -> 0 | N52: 172.9 | O52: =INT($I52*N52) -> 0 | P52: =+J52+L52+N52 -> 706.4 | Q52: =K52+M52+O52 -> 0 | V52: =+IF(I52<0,"ng","")
A53: 변경 | C53: 성토면고르기 | E53: ㎡ | F53: 1467 | G53: =[5]내역서!F53 -> 1467 | H53: =G53 -> 1467 | I53: =내역서!F53 -> 0 | J53: 189.5 | K53: =INT($I53*J53) -> 0 | L53: 344 | M53: =INT($I53*L53) -> 0 | N53: 172.9 | O53: =INT($I53*N53) -> 0 | P53: =+J53+L53+N53 -> 706.4 | Q53: =K53+M53+O53 -> 0 | R53: =I53-I52 -> 0 | S53: =P53-P52 -> 0 | T53: =Q53-Q52 -> 0 | V53: =+IF(I53<0,"ng","")
A54: 당초 | C54: 쌓기비탈면다짐 | D54: - | E54: ㎡ | F54: 1467 | G54: =[5]내역서!F54 -> 1467 | H54: =G54 -> 1467 | I54: =내역서!F54 -> 0 | J54: 255.3 | K54: =INT($I54*J54) -> 0 | L54: 490.6 | M54: =INT($I54*L54) -> 0 | N54: 277.2 | O54: =INT($I54*N54) -> 0 | P54: =+J54+L54+N54 -> 1023.1 | Q54: =K54+M54+O54 -> 0 | V54: =+IF(I54<0,"ng","")
A55: 변경 | C55: 쌓기비탈면다짐 | D55: - | E55: ㎡ | F55: 1467 | G55: =[5]내역서!F55 -> 1467 | H55: =G55 -> 1467 | I55: =내역서!F55 -> 0 | J55: 255.3 | K55: =INT($I55*J55) -> 0 | L55: 490.6 | M55: =INT($I55*L55) -> 0 | N55: 277.2 | O55: =INT($I55*N55) -> 0 | P55: =+J55+L55+N55 -> 1023.1 | Q55: =K55+M55+O55 -> 0 | R55: =I55-I54 -> 0 | S55: =P55-P54 -> 0 | T55: =Q55-Q54 -> 0 | V55: =+IF(I55<0,"ng","")
A56: 당초 | C56: 절토면고르기 | D56: 토사 | E56: ㎡ | F56: 175 | G56: =[5]내역서!F56 -> 175 | H56: 0 | I56: =내역서!F56 -> 0 | J56: 494.6 | K56: =INT($I56*J56) -> 0 | L56: 1709.9 | M56: =INT($I56*L56) -> 0 | N56: 467.6 | O56: =INT($I56*N56) -> 0 | P56: =+J56+L56+N56 -> 2672.1 | Q56: =K56+M56+O56 -> 0 | V56: =+IF(I56<0,"ng","")
A57: 변경 | C57: 절토면고르기 | D57: 토사 | E57: ㎡ | F57: 175 | G57: =[5]내역서!F57 -> 175 | H57: 0 | I57: =내역서!F57 -> 0 | J57: 494.6 | K57: =INT($I57*J57) -> 0 | L57: 1709.9 | M57: =INT($I57*L57) -> 0 | N57: 467.6 | O57: =INT($I57*N57) -> 0 | P57: =+J57+L57+N57 -> 2672.1 | Q57: =K57+M57+O57 -> 0 | R57: =I57-I56 -> 0 | S57: =P57-P56 -> 0 | T57: =Q57-Q56 -> 0 | V57: =+IF(I57<0,"ng","")
A58: 당초 | C58: 벌목 | D58: 5～8m미만 | E58: ㎡ | F58: 5268 | G58: =[5]내역서!F58 -> 5268 | H58: 0 | I58: =내역서!F58 -> 0 | J58: 0 | K58: =INT($I58*J58) -> 0 | L58: 661.1 | M58: =INT($I58*L58) -> 0 | N58: 49.9 | O58: =INT($I58*N58) -> 0 | P58: =+J58+L58+N58 -> 711 | Q58: =K58+M58+O58 -> 0 | V58: =+IF(I58<0,"ng","")
A59: 변경 | C59: 벌목 | D59: 5～8m미만 | E59: ㎡ | F59: 5268 | G59: =[5]내역서!F59 -> 5268 | H59: 0 | I59: =내역서!F59 -> 0 | J59: 0 | K59: =INT($I59*J59) -> 0 | L59: 661.1 | M59: =INT($I59*L59) -> 0 | N59: 49.9 | O59: =INT($I59*N59) -> 0 | P59: =+J59+L59+N59 -> 711 | Q59: =K59+M59+O59 -> 0 | R59: =I59-I58 -> 0 | S59: =P59-P58 -> 0 | T59: =Q59-Q58 -> 0 | V59: =+IF(I59<0,"ng","")
A60: 당초 | C60: 벌개제근공 | D60: - | E60: ㎡ | F60: 5268 | G60: =[5]내역서!F60 -> 5268 | H60: 0 | I60: =내역서!F60 -> 0 | J60: 0 | K60: =INT($I60*J60) -> 0 | L60: 413.8 | M60: =INT($I60*L60) -> 0 | N60: 0 | O60: =INT($I60*N60) -> 0 | P60: =+J60+L60+N60 -> 413.8 | Q60: =K60+M60+O60 -> 0 | V60: =+IF(I60<0,"ng","")
A61: 변경 | C61: 벌개제근공 | D61: - | E61: ㎡ | F61: 5268 | G61: =[5]내역서!F61 -> 5268 | H61: 0 | I61: =내역서!F61 -> 0 | J61: 0 | K61: =INT($I61*J61) -> 0 | L61: 413.8 | M61: =INT($I61*L61) -> 0 | N61: 0 | O61: =INT($I61*N61) -> 0 | P61: =+J61+L61+N61 -> 413.8 | Q61: =K61+M61+O61 -> 0 | R61: =I61-I60 -> 0 | S61: =P61-P60 -> 0 | T61: =Q61-Q60 -> 0 | V61: =+IF(I61<0,"ng","")
A62: 당초 | C62: 표토제거/답외구간 | D62: T=20cm | E62: ㎡ | F62: 6467 | G62: =[5]내역서!F62 -> 6467 | H62: 0 | I62: =내역서!F62 -> 0 | J62: 121.7 | K62: =INT($I62*J62) -> 0 | L62: 71.8 | M62: =INT($I62*L62) -> 0 | N62: 62.9 | O62: =INT($I62*N62) -> 0 | P62: =+J62+L62+N62 -> 256.4 | Q62: =K62+M62+O62 -> 0 | V62: =+IF(I62<0,"ng","")
A63: 변경 | C63: 표토제거/답외구간 | D63: T=20cm | E63: ㎡ | F63: 6467 | G63: =[5]내역서!F63 -> 6467 | H63: 0 | I63: =내역서!F63 -> 0 | J63: 121.7 | K63: =INT($I63*J63) -> 0 | L63: 71.8 | M63: =INT($I63*L63) -> 0 | N63: 62.9 | O63: =INT($I63*N63) -> 0 | P63: =+J63+L63+N63 -> 256.4 | Q63: =K63+M63+O63 -> 0 | R63: =I63-I62 -> 0 | S63: =P63-P62 -> 0 | T63: =Q63-Q62 -> 0 | V63: =+IF(I63<0,"ng","")
A64: 당초 | C64: 사토:토 사,L=5km | D64: (백호직상차+덤프+정지) | E64: ㎥ | F64: 85063 | G64: =[5]내역서!F64 -> 0 | H64: =G64 -> 0 | I64: =내역서!F64 -> 0 | J64: 1876 | K64: =INT($I64*J64) -> 0 | L64: 862.4 | M64: =INT($I64*L64) -> 0 | N64: 1068 | O64: =INT($I64*N64) -> 0 | P64: =+J64+L64+N64 -> 3806.4 | Q64: =K64+M64+O64 -> 0 | V64: =+IF(I64<0,"ng","")
A65: 변경 | C65: 사토:토 사,L=5km | D65: (백호직상차+덤프+정지) | E65: ㎥ | F65: 85063 | G65: =[5]내역서!F65 -> 0 | H65: =G65 -> 0 | I65: =내역서!F65 -> 0 | J65: 1876 | K65: =INT($I65*J65) -> 0 | L65: 862.4 | M65: =INT($I65*L65) -> 0 | N65: 1068 | O65: =INT($I65*N65) -> 0 | P65: =+J65+L65+N65 -> 3806.4 | Q65: =K65+M65+O65 -> 0 | R65: =I65-I64 -> 0 | S65: =P65-P64 -> 0 | T65: =Q65-Q64 -> 0 | V65: =+IF(I65<0,"ng","")
A66: 당초 | C66: 사토:매립토,L=6.76km | D66: (덤프) | E66: ㎥ | F66: 0 | G66: =[5]내역서!F66 -> 37897 | I66: =내역서!F66 -> 0 | J66: 2694 | K66: =INT($I66*J66) -> 0 | L66: 3080 | M66: =INT($I66*L66) -> 0 | N66: 1881 | O66: =INT($I66*N66) -> 0 | P66: =+J66+L66+N66 -> 7655 | Q66: =K66+M66+O66 -> 0 | U66: 신규단가 | V66: =+IF(I66<0,"ng","")
A67: 변경 | C67: 사토:매립토,L=6.76km | D67: (덤프) | E67: ㎥ | F67: 0 | G67: =[5]내역서!F67 -> 37897 | I67: =내역서!F67 -> 0 | J67: 2694 | K67: =INT($I67*J67) -> 0 | L67: 3080 | M67: =INT($I67*L67) -> 0 | N67: 1881 | O67: =INT($I67*N67) -> 0 | P67: =+J67+L67+N67 -> 7655 | Q67: =K67+M67+O67 -> 0 | R67: =I67-I66 -> 0 | S67: =P67-P66 -> 0 | T67: =Q67-Q66 -> 0 | U67: 신규단가 | V67: =+IF(I67<0,"ng","")
A68: 당초 | C68: 사토:매립토,L=6.76km | D68: (크람셀+덤프) | E68: ㎥ | F68: 0 | G68: =[5]내역서!F68 -> 24024 | I68: =내역서!F68 -> 0 | J68: 2124 | K68: =INT($I68*J68) -> 0 | L68: 4523 | M68: =INT($I68*L68) -> 0 | N68: 2627 | O68: =INT($I68*N68) -> 0 | P68: =+J68+L68+N68 -> 9274 | Q68: =K68+M68+O68 -> 0 | U68: 신규단가 | V68: =+IF(I68<0,"ng","")
A69: 변경 | C69: 사토:매립토,L=6.76km | D69: (크람셀+덤프) | E69: ㎥ | F69: 0 | G69: =[5]내역서!F69 -> 24024 | I69: =내역서!F69 -> 0 | J69: 2124 | K69: =INT($I69*J69) -> 0 | L69: 4523 | M69: =INT($I69*L69) -> 0 | N69: 2627 | O69: =INT($I69*N69) -> 0 | P69: =+J69+L69+N69 -> 9274 | Q69: =K69+M69+O69 -> 0 | R69: =I69-I68 -> 0 | S69: =P69-P68 -> 0 | T69: =Q69-Q68 -> 0 | U69: 신규단가 | V69: =+IF(I69<0,"ng","")
A70: 당초 | C70: 사토:매립토,L=15.09km | D70: (덤프) | E70: ㎥ | F70: 0 | G70: =[5]내역서!F70 -> 11132 | J70: 4212 | K70: =INT($I70*J70) -> 0 | L70: 5595 | M70: =INT($I70*L70) -> 0 | N70: 3218 | O70: =INT($I70*N70) -> 0 | P70: =+J70+L70+N70 -> 13025 | Q70: =K70+M70+O70 -> 0 | U70: 신규단가 | V70: =+IF(I70<0,"ng","")
A71: 변경 | C71: 사토:매립토,L=15.09km | D71: (덤프) | E71: ㎥ | F71: 0 | G71: =[5]내역서!F71 -> 11132 | J71: 4212 | K71: =INT($I71*J71) -> 0 | L71: 5595 | M71: =INT($I71*L71) -> 0 | N71: 3218 | O71: =INT($I71*N71) -> 0 | P71: =+J71+L71+N71 -> 13025 | Q71: =K71+M71+O71 -> 0 | R71: =I71-I70 -> 0 | S71: =P71-P70 -> 0 | T71: =Q71-Q70 -> 0 | U71: 신규단가 | V71: =+IF(I71<0,"ng","")
A72: 당초 | C72: 순성토운반(토취장→가적치장:L=10.0km) | D72: (백호상차+덤프운반) | E72: ㎥ | F72: 37348 | G72: =[5]내역서!F72 -> 0 | H72: =G72 -> 0 | J72: 3593.2 | K72: =INT($I72*J72) -> 0 | L72: 1963.1 | M72: =INT($I72*L72) -> 0 | N72: 2217.4 | O72: =INT($I72*N72) -> 0 | P72: =+J72+L72+N72 -> 7773.7 | Q72: =K72+M72+O72 -> 0 | V72: =+IF(I72<0,"ng","")
A73: 변경 | C73: 순성토운반(토취장→가적치장:L=10.0km) | D73: (백호상차+덤프운반) | E73: ㎥ | F73: 37348 | G73: =[5]내역서!F73 -> 0 | H73: =G73 -> 0 | J73: 3593.2 | K73: =INT($I73*J73) -> 0 | L73: 1963.1 | M73: =INT($I73*L73) -> 0 | N73: 2217.4 | O73: =INT($I73*N73) -> 0 | P73: =+J73+L73+N73 -> 7773.7 | Q73: =K73+M73+O73 -> 0 | R73: =I73-I72 -> 0 | S73: =P73-P72 -> 0 | T73: =Q73-Q72 -> 0 | V73: =+IF(I73<0,"ng","")
A74: 당초 | C74: 순성토운반(무대운반) | E74: ㎥ | G74: =[5]내역서!F74 -> 4693 | H74: 0 | K74: =INT($I74*J74) -> 0 | M74: =INT($I74*L74) -> 0 | O74: =INT($I74*N74) -> 0 | P74: =+J74+L74+N74 -> 0 | Q74: =K74+M74+O74 -> 0 | V74: =+IF(I74<0,"ng","")
A75: 변경 | C75: 순성토운반(무대운반) | E75: ㎥ | G75: =[5]내역서!F75 -> 4693 | H75: 0 | K75: =INT($I75*J75) -> 0 | M75: =INT($I75*L75) -> 0 | O75: =INT($I75*N75) -> 0 | P75: =+J75+L75+N75 -> 0 | Q75: =K75+M75+O75 -> 0 | R75: =I75-I74 -> 0 | S75: =P75-P74 -> 0 | T75: =Q75-Q74 -> 0 | V75: =+IF(I75<0,"ng","")
A76: 당초 | C76: 순성토운반(토취장→가적치장:L=17.15km) | D76: (백호상차+덤프운반) | E76: ㎥ | G76: =[5]내역서!F76 -> 6115 | H76: 0 | J76: 4267 | K76: =INT($I76*J76) -> 0 | L76: 5459 | M76: =INT($I76*L76) -> 0 | N76: 3011 | O76: =INT($I76*N76) -> 0 | P76: =+J76+L76+N76 -> 12737 | Q76: =K76+M76+O76 -> 0 | U76: 신규단가 | V76: =+IF(I76<0,"ng","")
A77: 변경 | C77: 순성토운반(토취장→가적치장:L=17.15km) | D77: (백호상차+덤프운반) | E77: ㎥ | G77: =[5]내역서!F77 -> 6115 | H77: 0 | J77: 4267 | K77: =INT($I77*J77) -> 0 | L77: 5459 | M77: =INT($I77*L77) -> 0 | N77: 3011 | O77: =INT($I77*N77) -> 0 | P77: =+J77+L77+N77 -> 12737 | Q77: =K77+M77+O77 -> 0 | R77: =I77-I76 -> 0 | S77: =P77-P76 -> 0 | T77: =Q77-Q76 -> 0 | U77: 신규단가 | V77: =+IF(I77<0,"ng","")
A78: 당초 | C78: 순성토운반(토취장→가적치장:L=25.70km) | D78: (백호상차+덤프운반) | E78: ㎥ | G78: =[5]내역서!F78 -> 3068 | H78: 0 | J78: 5331 | K78: =INT($I78*J78) -> 0 | L78: 7045 | M78: =INT($I78*L78) -> 0 | N78: 4027 | O78: =INT($I78*N78) -> 0 | P78: =+J78+L78+N78 -> 16403 | Q78: =K78+M78+O78 -> 0 | U78: 신규단가 | V78: =+IF(I78<0,"ng","")
A79: 변경 | C79: 순성토운반(토취장→가적치장:L=25.70km) | D79: (백호상차+덤프운반) | E79: ㎥ | G79: =[5]내역서!F79 -> 3068 | H79: 0 | J79: 5331 | K79: =INT($I79*J79) -> 0 | L79: 7045 | M79: =INT($I79*L79) -> 0 | N79: 4027 | O79: =INT($I79*N79) -> 0 | P79: =+J79+L79+N79 -> 16403 | Q79: =K79+M79+O79 -> 0 | R79: =I79-I78 -> 0 | S79: =P79-P78 -> 0 | T79: =Q79-Q78 -> 0 | U79: 신규단가 | V79: =+IF(I79<0,"ng","")
A80: 당초 | C80: 순성토운반(토취장→가적치장:L=20.65km) | D80: (백호상차+덤프운반) | E80: ㎥ | G80: =[5]내역서!F80 -> 13242 | H80: 0 | J80: 4973 | K80: =INT($I80*J80) -> 0 | L80: 6671 | M80: =INT($I80*L80) -> 0 | N80: 3732 | O80: =INT($I80*N80) -> 0 | P80: =+J80+L80+N80 -> 15376 | Q80: =K80+M80+O80 -> 0 | U80: 신규단가 | V80: =+IF(I80<0,"ng","")
A81: 변경 | C81: 순성토운반(토취장→가적치장:L=20.65km) | D81: (백호상차+덤프운반) | E81: ㎥ | G81: =[5]내역서!F81 -> 13242 | H81: 0 | J81: 4973 | K81: =INT($I81*J81) -> 0 | L81: 6671 | M81: =INT($I81*L81) -> 0 | N81: 3732 | O81: =INT($I81*N81) -> 0 | P81: =+J81+L81+N81 -> 15376 | Q81: =K81+M81+O81 -> 0 | R81: =I81-I80 -> 0 | S81: =P81-P80 -> 0 | T81: =Q81-Q80 -> 0 | U81: 신규단가 | V81: =+IF(I81<0,"ng","")
A82: 당초 | C82: 순성토운반(토취장→가적치장:L=10.60km) | D82: (백호상차+덤프운반) | E82: ㎥ | G82: =[5]내역서!F82 -> 1500 | H82: 0 | J82: 2892 | K82: =INT($I82*J82) -> 0 | L82: 3918 | M82: =INT($I82*L82) -> 0 | N82: 2181 | O82: =INT($I82*N82) -> 0 | P82: =+J82+L82+N82 -> 8991 | Q82: =K82+M82+O82 -> 0 | U82: 신규단가 | V82: =+IF(I82<0,"ng","")
A83: 변경 | C83: 순성토운반(토취장→가적치장:L=10.60km) | D83: (백호상차+덤프운반) | E83: ㎥ | G83: =[5]내역서!F83 -> 1500 | H83: 0 | J83: 2892 | K83: =INT($I83*J83) -> 0 | L83: 3918 | M83: =INT($I83*L83) -> 0 | N83: 2181 | O83: =INT($I83*N83) -> 0 | P83: =+J83+L83+N83 -> 8991 | Q83: =K83+M83+O83 -> 0 | R83: =I83-I82 -> 0 | S83: =P83-P82 -> 0 | T83: =Q83-Q82 -> 0 | U83: 신규단가 | V83: =+IF(I83<0,"ng","")
A84: 당초 | C84: 토사운반(가적치장→현장:L=500m) | D84: (백호상차+덤프운반) | E84: ㎥ | F84: 37348 | G84: =[5]내역서!F84 -> 0 | H84: =G84 -> 0 | J84: 1796.6 | K84: =INT($I84*J84) -> 0 | L84: 1122.7 | M84: =INT($I84*L84) -> 0 | N84: 1183.5 | O84: =INT($I84*N84) -> 0 | P84: =+J84+L84+N84 -> 4102.8 | Q84: =K84+M84+O84 -> 0 | V84: =+IF(I84<0,"ng","")
A85: 변경 | C85: 토사운반(가적치장→현장:L=500m) | D85: (백호상차+덤프운반) | E85: ㎥ | F85: 37348 | G85: =[5]내역서!F85 -> 0 | H85: =G85 -> 0 | J85: 1796.6 | K85: =INT($I85*J85) -> 0 | L85: 1122.7 | M85: =INT($I85*L85) -> 0 | N85: 1183.5 | O85: =INT($I85*N85) -> 0 | P85: =+J85+L85+N85 -> 4102.8 | Q85: =K85+M85+O85 -> 0 | R85: =I85-I84 -> 0 | S85: =P85-P84 -> 0 | T85: =Q85-Q84 -> 0 | V85: =+IF(I85<0,"ng","")
A86: 당초 | C86: 토사운반(가적치장→현장:L=534m) | D86: (백호상차+덤프운반) | E86: ㎥ | F86: 0 | G86: =[5]내역서!F86 -> 28618 | H86: 0 | J86: 975 | K86: =INT($I86*J86) -> 0 | L86: 1315 | M86: =INT($I86*L86) -> 0 | N86: 708 | O86: =INT($I86*N86) -> 0 | P86: =+J86+L86+N86 -> 2998 | Q86: =K86+M86+O86 -> 0 | U86: 신규단가 | V86: =+IF(I86<0,"ng","")
A87: 변경 | C87: 토사운반(가적치장→현장:L=534m) | D87: (백호상차+덤프운반) | E87: ㎥ | F87: 0 | G87: =[5]내역서!F87 -> 28618 | H87: 0 | J87: 975 | K87: =INT($I87*J87) -> 0 | L87: 1315 | M87: =INT($I87*L87) -> 0 | N87: 708 | O87: =INT($I87*N87) -> 0 | P87: =+J87+L87+N87 -> 2998 | Q87: =K87+M87+O87 -> 0 | R87: =I87-I86 -> 0 | S87: =P87-P86 -> 0 | T87: =Q87-Q86 -> 0 | U87: 신규단가 | V87: =+IF(I87<0,"ng","")
A88: 당초 | C88: 유용토운반 | D88: (B.H 1.0㎥+덤프운반) | E88: ㎥ | F88: 0 | G88: =[5]내역서!F88 -> 2549 | I88: =내역서!F88 -> 0 | J88: 1060 | K88: =INT($I88*J88) -> 0 | L88: 904.8 | M88: =INT($I88*L88) -> 0 | N88: 596.1 | O88: =INT($I88*N88) -> 0 | P88: =+J88+L88+N88 -> 2560.9 | Q88: =K88+M88+O88 -> 0 | U88: 기존단가 | V88: =+IF(I88<0,"ng","")
A89: 변경 | C89: 유용토운반 | D89: (B.H 1.0㎥+덤프운반) | E89: ㎥ | F89: 0 | G89: =[5]내역서!F89 -> 2549 | I89: =내역서!F89 -> 0 | J89: 1060 | K89: =INT($I89*J89) -> 0 | L89: 904.8 | M89: =INT($I89*L89) -> 0 | N89: 596.1 | O89: =INT($I89*N89) -> 0 | P89: =+J89+L89+N89 -> 2560.9 | Q89: =K89+M89+O89 -> 0 | R89: =I89-I88 -> 0 | S89: =P89-P88 -> 0 | T89: =Q89-Q88 -> 0 | U89: 기존단가 | V89: =+IF(I89<0,"ng","")
A90: 당초 | B90: 2. | C90: 구 조 물 공 | F90: 0 | G90: =[5]내역서!F90 -> 0 | H90: 0 | I90: =내역서!F90 -> 0 | K90: =K92+K230+K342+K456 -> 0 | M90: =M92+M230+M342+M456 -> 0 | O90: =O92+O230+O342+O456 -> 0 | Q90: =K90+M90+O90 -> 0 | V90: =+IF(I90<0,"ng","")
A91: 변경 | B91: 2. | C91: 구 조 물 공 | F91: 0 | G91: =[5]내역서!F91 -> 0 | H91: 0 | I91: =내역서!F91 -> 0 | K91: =K93+K231+K343+K457 -> 0 | M91: =M93+M231+M343+M457 -> 0 | O91: =O93+O231+O343+O457 -> 0 | Q91: =K91+M91+O91 -> 0 | R91: =I91-I90 -> 0 | S91: =P91-P90 -> 0 | T91: =Q91-Q90 -> 0 | V91: =+IF(I91<0,"ng","")
A92: 당초 | B92: 2.1. | C92: 활 성 탄 흡 착 지 | F92: 0 | G92: =[5]내역서!F92 -> 0 | H92: 0 | I92: =내역서!F92 -> 0 | K92: =K94+K218 -> 0 | M92: =M94+M218 -> 0 | O92: =O94+O218 -> 0 | Q92: =K92+M92+O92 -> 0 | V92: =+IF(I92<0,"ng","")
A93: 변경 | B93: 2.1. | C93: 활 성 탄 흡 착 지 | F93: 0 | G93: =[5]내역서!F93 -> 0 | H93: 0 | I93: =내역서!F93 -> 0 | K93: =K95+K219 -> 0 | M93: =M95+M219 -> 0 | O93: =O95+O219 -> 0 | Q93: =K93+M93+O93 -> 0 | R93: =I93-I92 -> 0 | S93: =P93-P92 -> 0 | T93: =Q93-Q92 -> 0 | V93: =+IF(I93<0,"ng","")
A94: 당초 | B94: (1) | C94: 구 체 공 | F94: 0 | G94: =[5]내역서!F94 -> 0 | H94: 0 | I94: =내역서!F94 -> 0 | K94: =SUMIF($A$96:$A$217,"당초",K96:K217) -> 0 | M94: =SUMIF($A$96:$A$217,"당초",M96:M217) -> 0 | O94: =SUMIF($A$96:$A$217,"당초",O96:O217) -> 0 | Q94: =K94+M94+O94 -> 0 | V94: =+IF(I94<0,"ng","")
A95: 변경 | B95: (1) | C95: 구 체 공 | F95: 0 | G95: =[5]내역서!F95 -> 0 | H95: 0 | I95: =내역서!F95 -> 0 | K95: =SUMIF($A$96:$A$217,"변경",K96:K217) -> 0 | M95: =SUMIF($A$96:$A$217,"변경",M96:M217) -> 0 | O95: =SUMIF($A$96:$A$217,"변경",O96:O217) -> 0 | Q95: =K95+M95+O95 -> 0 | R95: =I95-I94 -> 0 | S95: =P95-P94 -> 0 | T95: =Q95-Q94 -> 0 | V95: =+IF(I95<0,"ng","")
A96: 당초 | C96: 무근콘크리트 타설/펌프차 | D96: 양호(S15, 200㎥. 초과) | E96: ㎥ | F96: 1801.29 | G96: =[5]내역서!F96 -> 1801.29 | H96: =G96 -> 1801.29 | I96: =내역서!F96 -> 0 | J96: 1130.6 | K96: =INT($I96*J96) -> 0 | L96: 7690.9 | M96: =INT($I96*L96) -> 0 | N96: 2165.5 | O96: =INT($I96*N96) -> 0 | P96: =+J96+L96+N96 -> 10987 | Q96: =K96+M96+O96 -> 0 | V96: =+IF(I96<0,"ng","")
A97: 변경 | C97: 무근콘크리트 타설/펌프차 | D97: 양호(S15, 200㎥. 초과) | E97: ㎥ | F97: 1801.29 | G97: =[5]내역서!F97 -> 1801.29 | H97: =G97 -> 1801.29 | I97: =내역서!F97 -> 0 | J97: 1130.6 | K97: =INT($I97*J97) -> 0 | L97: 7690.9 | M97: =INT($I97*L97) -> 0 | N97: 2165.5 | O97: =INT($I97*N97) -> 0 | P97: =+J97+L97+N97 -> 10987 | Q97: =K97+M97+O97 -> 0 | R97: =I97-I96 -> 0 | S97: =P97-P96 -> 0 | T97: =Q97-Q96 -> 0 | V97: =+IF(I97<0,"ng","")
A98: 당초 | C98: 철근콘크리트 타설/펌프차 | D98: 보통(S15, 200㎥. 초과) | E98: ㎥ | F98: 7654.86 | G98: =[5]내역서!F98 -> 7654.86 | H98: =G98 -> 7654.86 | I98: =내역서!F98 -> 0 | J98: 1487.6 | K98: =INT($I98*J98) -> 0 | L98: 10074.7 | M98: =INT($I98*L98) -> 0 | N98: 2830.5 | O98: =INT($I98*N98) -> 0 | P98: =+J98+L98+N98 -> 14392.8 | Q98: =K98+M98+O98 -> 0 | V98: =+IF(I98<0,"ng","")
A99: 변경 | C99: 철근콘크리트 타설/펌프차 | D99: 보통(S15, 200㎥. 초과) | E99: ㎥ | F99: 7654.86 | G99: =[5]내역서!F99 -> 7654.86 | H99: =G99 -> 7654.86 | I99: =내역서!F99 -> 0 | J99: 1487.6 | K99: =INT($I99*J99) -> 0 | L99: 10074.7 | M99: =INT($I99*L99) -> 0 | N99: 2830.5 | O99: =INT($I99*N99) -> 0 | P99: =+J99+L99+N99 -> 14392.8 | Q99: =K99+M99+O99 -> 0 | R99: =I99-I98 -> 0 | S99: =P99-P98 -> 0 | T99: =Q99-Q98 -> 0 | V99: =+IF(I99<0,"ng","")
A100: 당초 | C100: 합판거푸집 | D100: 간단, 0 ∼ 7m | E100: ㎡ | F100: 91.48 | G100: =[5]내역서!F100 -> 91.48 | H100: =G100 -> 91.48 | I100: =내역서!F100 -> 0 | J100: 11266.1 | K100: =INT($I100*J100) -> 0 | L100: 26287.9 | M100: =INT($I100*L100) -> 0 | N100: 0 | O100: =INT($I100*N100) -> 0 | P100: =+J100+L100+N100 -> 37554 | Q100: =K100+M100+O100 -> 0 | V100: =+IF(I100<0,"ng","")
A101: 변경 | C101: 합판거푸집 | D101: 간단, 0 ∼ 7m | E101: ㎡ | F101: 91.48 | G101: =[5]내역서!F101 -> 91.48 | H101: =G101 -> 91.48 | I101: =내역서!F101 -> 0 | J101: 11266.1 | K101: =INT($I101*J101) -> 0 | L101: 26287.9 | M101: =INT($I101*L101) -> 0 | N101: 0 | O101: =INT($I101*N101) -> 0 | P101: =+J101+L101+N101 -> 37554 | Q101: =K101+M101+O101 -> 0 | R101: =I101-I100 -> 0 | S101: =P101-P100 -> 0 | T101: =Q101-Q100 -> 0 | V101: =+IF(I101<0,"ng","")
...

Sheet 원가(K2)
A1: 물가변동 (2회) 변경 원가계산서
A3: 공 사 명 : 수산정수장 고도정수처리시설 건설공사
A4: 비목 | C4: 구 분 | D4: 금 액 | E4: 증 감 | F4: 산 출 근 거 | G4: 요율 | H4: 비 고
A5: 순 공 사 원 가 | B5: 재 료 비 | C5: 직 접 재 료 비 | D5: ='내역(K2)'!L16 -> 0
C6: 직 접 재 료 비 | D6: ='내역(K2)'!L17 -> 0 | E6: =D6-D5 -> 0
C7: 소 계 | D7: =D5 -> 0
C8: 소 계 | D8: =D6 -> 0 | E8: =D8-D7 -> 0
B9: 노 부 비 | C9: 직 접 노 무 비 | D9: ='내역(K2)'!N16 -> 0
C10: 직 접 노 무 비 | D10: ='내역(K2)'!N17 -> 0 | E10: =D10-D9 -> 0
C11: 간 접 노 무 비 | D11: =ROUNDDOWN(D9*G11/100,0) -> 0 | F11: ="[직접노무비] ×"&ROUND(G11,5)&"%" -> [직접노무비] ×12.91613% | G11: 12.916131 | J11: 1034933073
C12: 간 접 노 무 비 | D12: =ROUNDDOWN(D10*G12/100,0) -> 0 | E12: =D12-D11 -> 0 | F12: ="[직접노무비] ×"&ROUND(G12,5)&"%" -> [직접노무비] ×12.91613% | G12: 12.916131 | J12: 1034933073
C13: 소 계 | D13: =D9+D11 -> 0
C14: 소 계 | D14: =D10+D12 -> 0 | E14: =D14-D13 -> 0
B15: 경 비 | C15: 산 출 경 비 | D15: ='내역(K2)'!P16 -> 0
C16: 산 출 경 비 | D16: ='내역(K2)'!P17 -> 0 | E16: =D16-D15 -> 0
C17: 산 재 보 험 료 | D17: =ROUNDDOWN(D$13*$G$18%,0) -> 0 | F17: ="[직접노무비+간접노무비] ×"&ROUND(G17,5)&"%" -> [직접노무비+간접노무비] ×3.7667% | G17: 3.7666992 | J17: 340797782
C18: 산 재 보 험 료 | D18: =ROUNDDOWN(D$14*$G$18%,0) -> 0 | E18: =D18-D17 -> 0 | F18: ="[직접노무비+간접노무비] ×"&ROUND(G18,5)&"%" -> [직접노무비+간접노무비] ×3.7667% | G18: 3.7666992 | J18: 340797782
C19: 고 용 보 험 료 | D19: =ROUNDDOWN(D$13*$G19%,0) -> 0 | F19: ="[직접노무비+간접노무비] ×"&ROUND(G19,5)&"%" -> [직접노무비+간접노무비] ×1.07955% | G19: 1.0795468 | J19: 97673622
C20: 고 용 보 험 료 | D20: =ROUNDDOWN(D$14*$G20%,0) -> 0 | E20: =D20-D19 -> 0 | F20: ="[직접노무비+간접노무비] ×"&ROUND(G20,5)&"%" -> [직접노무비+간접노무비] ×1.07955% | G20: 1.0795468 | J20: 97673622
C21: 건 강 보 험 료 | D21: =ROUNDDOWN(D$13*$G21%,0) -> 0 | F21: ="[직접노무비] ×"&ROUND(G21,5)&"%" -> [직접노무비] ×3.94231% | G21: 3.9423072 | J21: 315885941
C22: 건 강 보 험 료 | D22: =ROUNDDOWN(D$14*$G22%,0) -> 0 | E22: =D22-D21 -> 0 | F22: ="[직접노무비] ×"&ROUND(G22,5)&"%" -> [직접노무비] ×3.94231% | G22: 3.9423072 | J22: 315885941
C23: 노 인 장 기 요 양 보 험 료 | D23: =ROUNDDOWN(D$21*$G23%,0) -> 0 | F23: ="[건강보험료] ×"&ROUND(G23,5)&"%" -> [건강보험료] ×12.27% | G23: 12.27 | J23: 38759205
C24: 노 인 장 기 요 양 보 험 료 | D24: =ROUNDDOWN(D$22*$G24%,0) -> 0 | E24: =D24-D23 -> 0 | F24: ="[건강보험료] ×"&ROUND(G24,5)&"%" -> [건강보험료] ×12.27% | G24: 12.27 | J24: 38759205
C25: 국 민 연 금 보 험 료 | D25: =ROUNDDOWN(D$9*$G25%,0) -> 0 | F25: ="[직접노무비] ×"&ROUND(G25,5)&"%" -> [직접노무비] ×5.07593% | G25: 5.0759321 | J25: 406720097
C26: 국 민 연 금 보 험 료 | D26: =ROUNDDOWN(D$10*$G26%,0) -> 0 | E26: =D26-D25 -> 0 | F26: ="[직접노무비] ×"&ROUND(G26,5)&"%" -> [직접노무비] ×5.07593% | G26: 5.0759321 | J26: 406720097
C27: 퇴 직 공 제 부 금 비 | D27: =ROUNDDOWN(D$9*$G27%,0) -> 0 | F27: ="[직접노무비] ×"&ROUND(G27,5)&"%" -> [직접노무비] ×2.59437% | G27: 2.5943653 | J27: 207879160
C28: 퇴 직 공 제 부 금 비 | D28: =ROUNDDOWN(D$10*$G28%,0) -> 0 | E28: =D28-D27 -> 0 | F28: ="[직접노무비] ×"&ROUND(G28,5)&"%" -> [직접노무비] ×2.59437% | G28: 2.5943653 | J28: 207879160
C29: 산 업 안 전 보 건 관 리 비 | D29: =ROUNDDOWN(((D7+D9)*$G29%),0) -> 0 | F29: ="([직노+직재+간재] ×"&ROUND(G29,5)&"%" -> ([직노+직재+간재] ×2.62213% | G29: 2.6221306 | J29: 350533455
C30: 산 업 안 전 보 건 관 리 비 | D30: =ROUNDDOWN(((D8+D10)*$G30%),0) -> 0 | E30: =D30-D29 -> 0 | F30: ="([직노+직재+간재] ×"&ROUND(G30,5)&"%" -> ([직노+직재+간재] ×2.62213% | G30: 2.6221306 | J30: 350533455
C31: 안 전 관 리 비 | D31: =내역서!N1266 -> 0 | J31: 11905216
C32: 안 전 관 리 비 | D32: =내역서!N1267 -> 0 | E32: =D32-D31 -> 0 | J32: 11905216
C33: 품 질 관 리 비 | D33: =내역서!N1248 -> 0 | J33: 120582564 | L33: =J33-D33 -> 120582564
C34: 품 질 관 리 비 | D34: =내역서!N1249 -> 0 | E34: =D34-D33 -> 0 | J34: 120582564 | L34: =J34-D34 -> 120582564
C35: 환 경 보 전 비 | D35: =ROUNDDOWN((D7+D9+D15)*$G35%,0) -> 0 | F35: ="[재료비+직접노무비+산출경비] ×"&ROUND(G35,5)&"%" -> [재료비+직접노무비+산출경비] ×0.5% | G35: 0.5 | J35: 68581657 | L35: =D35-J35 -> -68581657
C36: 환 경 보 전 비 | D36: =ROUNDDOWN((D8+D10+D16)*$G36%,0) -> 0 | E36: =D36-D35 -> 0 | F36: ="[재료비+직접노무비+산출경비] ×"&ROUND(G36,5)&"%" -> [재료비+직접노무비+산출경비] ×0.5% | G36: 0.5 | J36: 68581657 | L36: =D36-J36 -> -68581657
C37: 공 사 이 행 보 증 수 수 료 | D37: 0 | F37: 공사이행 발급 수수료 계상 | G37: 0.0077
C38: 공 사 이 행 보 증 수 수 료 | D38: 0 | E38: =D38-D37 -> 0 | F38: 공사이행 발급 수수료 계상 | G38: 0.0077
C39: 하 도 급 대 금 지 급 보 증 수 수 료 | D39: =ROUNDDOWN((D5+D9+D15)*$G39%,0) -> 0 | F39: ="[재료비+직접노무비+산출경비] ×"&ROUND(G39,5)&"%" -> [재료비+직접노무비+산출경비] ×0.071% | G39: 0.071 | J39: 11346701
C40: 하 도 급 대 금 지 급 보 증 수 수 료 | D40: =ROUNDDOWN((D6+D10+D16)*$G40%,0) -> 0 | E40: =D40-D39 -> 0 | F40: ="[재료비+직접노무비+산출경비] ×"&ROUND(G40,5)&"%" -> [재료비+직접노무비+산출경비] ×0.071% | G40: 0.071 | J40: 11346701
C41: 건 설 기 계 대 여 금 지 급 보 증 금 액 | D41: =ROUNDDOWN((D7+D9+D15)*$G41%,0) -> 0 | F41: ="[재료비+직접노무비+산출경비] ×"&ROUND(G41,5)&"%" -> [재료비+직접노무비+산출경비] ×0.4% | G41: 0.4 | J41: 63925076
C42: 건 설 기 계 대 여 금 지 급 보 증 금 액 | D42: =ROUNDDOWN((D8+D10+D16)*$G42%,0) -> 0 | E42: =D42-D41 -> 0 | F42: ="[재료비+직접노무비+산출경비] ×"&ROUND(G42,5)&"%" -> [재료비+직접노무비+산출경비] ×0.4% | G42: 0.4 | J42: 63925076
C43: 기 타 경 비 | D43: =ROUNDDOWN((D7+D13)*$G43%,0) -> 0 | F43: ="[재료비+노무비] ×"&ROUND(G43,5)&"%" -> [재료비+노무비] ×10.00174% | G43: 10.001737
C44: 기 타 경 비 | D44: =ROUNDDOWN((D8+D14)*$G44%,0) -> 0 | E44: =D44-D43 -> 0 | F44: ="[재료비+노무비] ×"&ROUND(G44,5)&"%" -> [재료비+노무비] ×10.00174% | G44: 10.001737
C45: 소 계 | D45: =D15+D17+D19+D21+D23+D25+D27+D29+D31+D33+D35+D37+D39+D41+D43 -> 0
C46: 소 계 | D46: =D16+D18+D20+D22+D24+D26+D28+D30+D32+D34+D36+D38+D40+D42+D44 -> 0 | E46: =D46-D45 -> 0
A47: 순 공 사 원 가 | D47: =D7+D13+D45 -> 0
A48: 순 공 사 원 가 | D48: =D8+D14+D46 -> 0 | E48: =D48-D47 -> 0
A49: 일 반 관 리 비 | D49: =ROUNDDOWN((D47)*$G49%,0) -> 0 | F49: ="[순공사원가] ×"&ROUND(G49,5)&"%" -> [순공사원가] ×4.985% | G49: 4.985
A50: 일 반 관 리 비 | D50: =ROUNDDOWN((D48)*$G50%,0) -> 0 | E50: =D50-D49 -> 0 | F50: ="[순공사원가] ×"&ROUND(G50,5)&"%" -> [순공사원가] ×4.985% | G50: 4.985
A51: 제 요 율 적 용 제 외 공 종 | D51: ='내역(K2)'!R1234 -> 0
A52: 제 요 율 적 용 제 외 공 종 | D52: ='내역(K2)'!R1235 -> 0 | E52: =D52-D51 -> 0
A53: 물 가 변 동 대 상 금 액 | D53: =D47+D49+D51 -> 0
A54: 물 가 변 동 대 상 금 액 | D54: =D48+D50+D52 -> 0 | E54: =D54-D53 -> 0
A55: 부 가 가 치 세 | D55: =D53*0.1 -> 0
A56: 부 가 가 치 세 | D56: =D54*0.1 -> 0 | E56: =D56-D55 -> 0
A57: 소 계 | D57: =D53+D55 -> 0
A58: 소 계 | D58: =D54+D56 -> 0 | E58: =D58-D57 -> 0
A59: 물 가 변 동 적 용 대 가 | D59: =D57 -> 0
A60: 물 가 변 동 적 용 대 가 | D60: =D58 -> 0 | E60: =D60-D59 -> 0
A61: 물 가 변 동 적 용 금 액 (2회) | D61: =ROUNDDOWN((D59*G61/100),-3) -> 0 | G61: 3.72
A62: 물 가 변 동 적 용 금 액 (2회) | D62: =ROUNDDOWN((D60*G62/100),-3) -> 0 | E62: =D62-D61 -> 0 | G62: 3.72
A63: 물 가 변 동 적 용 금 액 (2회) | D63: =D61 -> 0
A64: 물 가 변 동 적 용 금 액 (2회) | D64: =D62 -> 0 | E64: =D64-D63 -> 0
A65: . | C65: 부가세제외 | D65: =ROUND(D63/1.1,0) -> 0
C66: 부가세제외 | D66: =ROUND(D64/1.1,0) -> 0

Sheet 내역(K2)
B1: 물가변동(2회) 변경 내역서
B3: 공 사 명 : 수산정수장 고도정수처리시설 건설공사
B4: 번호 | C4: 공 종 명 | D4: 규 격 | E4: 단위 | F4: 전체수량 | G4: 2회변경 설계수량 | H4: 2회시점 ES 수량 | I4: 비 대상 수량 | J4: 실정보고 적용수량 | K4: 재 료 비 | M4: 노 무 비 | O4: 경 비 | Q4: 합 계 | S4: 증 ·감 | V4: 비 고
K5: 단가 | L5: 금액 | M5: 단가 | N5: 금액 | O5: 단가 | P5: 금액 | Q5: 단가 | R5: 금액 | S5: 수량 | T5: 단가 | U5: 금액
A6: 당초 | B6: Ⅰ. | C6: 토목공사 | F6: 0 | H6: 0 | L6: =L18 -> 0 | N6: =N18 -> 0 | P6: =P18 -> 0 | R6: =L6+N6+P6 -> 0 | X6: 0
A7: 변경 | B7: Ⅰ. | C7: 토목공사 | F7: 0 | H7: 0 | L7: =L19 -> 0 | N7: =N19 -> 0 | P7: =P19 -> 0 | R7: =L7+N7+P7 -> 0 | S7: =J7-J6 -> 0 | T7: =Q7-Q6 -> 0 | U7: =R7-R6 -> 0 | X7: 0
A8: 당초 | B8: Ⅱ. | C8: 건축공사 | F8: 0 | H8: 0 | L8: =L1276 -> 0 | N8: =N1276 -> 0 | P8: =P1276 -> 0 | R8: =L8+N8+P8 -> 0 | X8: 0
A9: 변경 | B9: Ⅱ. | C9: 건축공사 | F9: 0 | H9: 0 | L9: =L1277 -> 0 | N9: =N1277 -> 0 | P9: =P1277 -> 0 | R9: =L9+N9+P9 -> 0 | S9: =J9-J8 -> 0 | T9: =Q9-Q8 -> 0 | U9: =R9-R8 -> 0 | X9: 0
A10: 당초 | B10: Ⅲ. | C10: 기계공사 | F10: 0 | H10: 0 | L10: =L2030 -> 0 | N10: =N2030 -> 0 | P10: =P2030 -> 0 | R10: =L10+N10+P10 -> 0 | X10: 0
A11: 변경 | B11: Ⅲ. | C11: 기계공사 | F11: 0 | H11: 0 | L11: =L2031 -> 0 | N11: =N2031 -> 0 | P11: =P2031 -> 0 | R11: =L11+N11+P11 -> 0 | S11: =J11-J10 -> 0 | T11: =Q11-Q10 -> 0 | U11: =R11-R10 -> 0 | X11: 0
A12: 당초 | B12: Ⅳ. | C12: 조경공사 | F12: 0 | H12: 0 | L12: =L2786 -> 0 | N12: =N2786 -> 0 | P12: =P2786 -> 0 | R12: =L12+N12+P12 -> 0 | X12: 0
A13: 변경 | B13: Ⅳ. | C13: 조경공사 | F13: 0 | H13: 0 | L13: =L2787 -> 0 | N13: =N2787 -> 0 | P13: =P2787 -> 0 | R13: =L13+N13+P13 -> 0 | S13: =J13-J12 -> 0 | T13: =Q13-Q12 -> 0 | U13: =R13-R12 -> 0 | X13: 0
A14: 당초 | B14: Ⅳ. | C14: 퇴수관로 | F14: 0 | H14: 0 | L14: =L3220 -> 0 | N14: =N3220 -> 0 | P14: =P3220 -> 0 | R14: =L14+N14+P14 -> 0 | X14: 0
A15: 변경 | B15: Ⅳ. | C15: 퇴수관로 | F15: 0 | H15: 0 | L15: =L3221 -> 0 | N15: =N3221 -> 0 | P15: =P3221 -> 0 | R15: =L15+N15+P15 -> 0 | S15: =J15-J14 -> 0 | T15: =Q15-Q14 -> 0 | U15: =R15-R14 -> 0 | X15: 0
A16: 당초 | C16: 직접공사비 계 | F16: 0 | H16: 0 | L16: =L6+L8+L10+L12+L14 -> 0 | N16: =N6+N8+N10+N12+N14 -> 0 | P16: =P6+P8+P10+P12+P14 -> 0 | R16: =L16+N16+P16 -> 0
A17: 변경 | C17: 직접공사비 계 | F17: 0 | H17: 0 | L17: =L7+L9+L11+L13+L15 -> 0 | N17: =N7+N9+N11+N13+N15 -> 0 | P17: =P7+P9+P11+P13+P15 -> 0 | R17: =L17+N17+P17 -> 0 | S17: =J17-J16 -> 0 | T17: =Q17-Q16 -> 0 | U17: =R17-R16 -> 0
A18: 당초 | B18: Ⅰ. | C18: 토목공사 | F18: 0 | H18: 0 | L18: =L20+L90+L466+L654+L708+L932+L1082+L1120+L1216 -> 0 | N18: =N20+N90+N466+N654+N708+N932+N1082+N1120+N1216 -> 0 | P18: =P20+P90+P466+P654+P708+P932+P1082+P1120+P1216 -> 0 | R18: =L18+N18+P18 -> 0 | W18: =+IF(J18<0,"ng","")
A19: 변경 | B19: Ⅰ. | C19: 토목공사 | F19: 0 | H19: 0 | L19: =L21+L91+L467+L655+L709+L933+L1083+L1121+L1217 -> 0 | N19: =N21+N91+N467+N655+N709+N933+N1083+N1121+N1217 -> 0 | P19: =P21+P91+P467+P655+P709+P933+P1083+P1121+P1217 -> 0 | R19: =L19+N19+P19 -> 0 | S19: =J19-J18 -> 0 | T19: =Q19-Q18 -> 0 | U19: =R19-R18 -> 0 | W19: =+IF(J19<0,"ng","")
A20: 당초 | B20: 1. | C20: 토 공 | F20: 0 | H20: 0 | L20: =SUMIF($A$22:$A$89,"당초",L22:L89) -> 0 | N20: =SUMIF($A$22:$A$89,"당초",N22:N89) -> 0 | P20: =SUMIF($A$22:$A$89,"당초",P22:P89) -> 0 | R20: =L20+N20+P20 -> 0 | W20: =+IF(J20<0,"ng","")
A21: 변경 | B21: 1. | C21: 토 공 | F21: 0 | H21: 0 | L21: =SUMIF($A$22:$A$89,"변경",L22:L89) -> 0 | N21: =SUMIF($A$22:$A$89,"변경",N22:N89) -> 0 | P21: =SUMIF($A$22:$A$89,"변경",P22:P89) -> 0 | R21: =L21+N21+P21 -> 0 | S21: =J21-J20 -> 0 | T21: =Q21-Q20 -> 0 | U21: =R21-R20 -> 0 | W21: =+IF(J21<0,"ng","")
A22: 당초 | C22: 굴착:토 사,L= 50m | D22: (B.H 1.0㎥+덤프운반) | E22: ㎥ | F22: 53731 | G22: =[5]내역서!F22 -> 28923 | H22: 0 | J22: =내역서!F22 -> 0 | K22: 1060 | L22: =INT($J22*K22) -> 0 | M22: 904.8 | N22: =INT($J22*M22) -> 0 | O22: 596.1 | P22: =INT($J22*O22) -> 0 | Q22: =+K22+M22+O22 -> 2560.9 | R22: =L22+N22+P22 -> 0 | W22: =+IF(J22<0,"ng","")
A23: 변경 | C23: 굴착:토 사,L= 50m | D23: (B.H 1.0㎥+덤프운반) | E23: ㎥ | F23: 53731 | G23: =[5]내역서!F23 -> 28923 | H23: 0 | J23: =내역서!F23 -> 0 | K23: 1060 | L23: =INT($J23*K23) -> 0 | M23: 904.8 | N23: =INT($J23*M23) -> 0 | O23: 596.1 | P23: =INT($J23*O23) -> 0 | Q23: =+K23+M23+O23 -> 2560.9 | R23: =L23+N23+P23 -> 0 | S23: =J23-J22 -> 0 | T23: =Q23-Q22 -> 0 | U23: =R23-R22 -> 0 | W23: =+IF(J23<0,"ng","")
A24: 당초 | C24: 굴착 (활성탄 흡착지 1구간) | D24: (B.H + 크람셀) | E24: ㎥ | F24: 0 | G24: =[5]내역서!F24 -> 6395 | J24: =내역서!F24 -> 0 | K24: 2468 | L24: =INT($J24*K24) -> 0 | M24: 7167 | N24: =INT($J24*M24) -> 0 | O24: 4630 | P24: =INT($J24*O24) -> 0 | Q24: =+K24+M24+O24 -> 14265 | R24: =+L24+N24+P24 -> 0 | V24: 신규단가 | W24: =+IF(J24<0,"ng","")
A25: 변경 | C25: 굴착 (활성탄 흡착지 1구간) | D25: (B.H + 크람셀) | E25: ㎥ | F25: 0 | G25: =[5]내역서!F25 -> 6395 | J25: =내역서!F25 -> 0 | K25: 2468 | L25: =INT($J25*K25) -> 0 | M25: 7167 | N25: =INT($J25*M25) -> 0 | O25: 4630 | P25: =INT($J25*O25) -> 0 | Q25: =+K25+M25+O25 -> 14265 | R25: =+L25+N25+P25 -> 0 | S25: =J25-J24 -> 0 | T25: =Q25-Q24 -> 0 | U25: =R25-R24 -> 0 | V25: 신규단가 | W25: =+IF(J25<0,"ng","")
A26: 당초 | C26: 굴착 (활성탄 흡착지 2구간) | D26: (B.H + 크람셀) | E26: ㎥ | F26: 0 | G26: =[5]내역서!F26 -> 8259 | J26: =내역서!F26 -> 0 | K26: 1477 | L26: =INT($J26*K26) -> 0 | M26: 2805 | N26: =INT($J26*M26) -> 0 | O26: 3398 | P26: =INT($J26*O26) -> 0 | Q26: =+K26+M26+O26 -> 7680 | R26: =+L26+N26+P26 -> 0 | V26: 신규단가 | W26: =+IF(J26<0,"ng","")
A27: 변경 | C27: 굴착 (활성탄 흡착지 2구간) | D27: (B.H + 크람셀) | E27: ㎥ | F27: 0 | G27: =[5]내역서!F27 -> 8259 | J27: =내역서!F27 -> 0 | K27: 1477 | L27: =INT($J27*K27) -> 0 | M27: 2805 | N27: =INT($J27*M27) -> 0 | O27: 3398 | P27: =INT($J27*O27) -> 0 | Q27: =+K27+M27+O27 -> 7680 | R27: =+L27+N27+P27 -> 0 | S27: =J27-J26 -> 0 | T27: =Q27-Q26 -> 0 | U27: =R27-R26 -> 0 | V27: 신규단가 | W27: =+IF(J27<0,"ng","")
A28: 당초 | C28: 굴착 (활성탄 흡착지 3구간) | D28: (B.H + 크람셀) | E28: ㎥ | F28: 0 | G28: =[5]내역서!F28 -> 9370 | J28: =내역서!F28 -> 0 | K28: 2041.2 | L28: =INT($J28*K28) -> 0 | M28: 4051 | N28: =INT($J28*M28) -> 0 | O28: 3888 | P28: =INT($J28*O28) -> 0 | Q28: =+K28+M28+O28 -> 9980.2 | R28: =+L28+N28+P28 -> 0 | V28: 신규단가 | W28: =+IF(J28<0,"ng","")
A29: 변경 | C29: 굴착 (활성탄 흡착지 3구간) | D29: (B.H + 크람셀) | E29: ㎥ | F29: 0 | G29: =[5]내역서!F29 -> 9370 | J29: =내역서!F29 -> 0 | K29: 2041.2 | L29: =INT($J29*K29) -> 0 | M29: 4051 | N29: =INT($J29*M29) -> 0 | O29: 3888 | P29: =INT($J29*O29) -> 0 | Q29: =+K29+M29+O29 -> 9980.2 | R29: =+L29+N29+P29 -> 0 | S29: =J29-J28 -> 0 | T29: =Q29-Q28 -> 0 | U29: =R29-R28 -> 0 | V29: 신규단가 | W29: =+IF(J29<0,"ng","")
A30: 당초 | C30: 절취:토 사,L= 50m | D30: (B.H 1.0㎥+덤프운반) | E30: ㎥ | F30: 8285 | G30: =[5]내역서!F30 -> 8285 | H30: 0 | J30: =내역서!F30 -> 0 | K30: 1060 | L30: =INT($J30*K30) -> 0 | M30: 904.8 | N30: =INT($J30*M30) -> 0 | O30: 596.1 | P30: =INT($J30*O30) -> 0 | Q30: =+K30+M30+O30 -> 2560.9 | R30: =L30+N30+P30 -> 0 | W30: =+IF(J30<0,"ng","")
A31: 변경 | C31: 절취:토 사,L= 50m | D31: (B.H 1.0㎥+덤프운반) | E31: ㎥ | F31: 8285 | G31: =[5]내역서!F31 -> 8285 | H31: 0 | J31: =내역서!F31 -> 0 | K31: 1060 | L31: =INT($J31*K31) -> 0 | M31: 904.8 | N31: =INT($J31*M31) -> 0 | O31: 596.1 | P31: =INT($J31*O31) -> 0 | Q31: =+K31+M31+O31 -> 2560.9 | R31: =L31+N31+P31 -> 0 | S31: =J31-J30 -> 0 | T31: =Q31-Q30 -> 0 | U31: =R31-R30 -> 0 | W31: =+IF(J31<0,"ng","")
A32: 당초 | C32: 상차(사토) | D32: (B.H 1.0㎥) | E32: ㎥ | F32: 0 | G32: =[5]내역서!F32 -> 5736 | H32: 0 | J32: =내역서!F32 -> 0 | K32: 454 | L32: =INT($J32*K32) -> 0 | M32: 693 | N32: =INT($J32*M32) -> 0 | O32: 373 | P32: =INT($J32*O32) -> 0 | Q32: =+K32+M32+O32 -> 1520 | R32: =L32+N32+P32 -> 0 | V32: 신규단가 | W32: =+IF(J32<0,"ng","")
A33: 변경 | C33: 상차(사토) | D33: (B.H 1.0㎥) | E33: ㎥ | F33: 0 | G33: =[5]내역서!F33 -> 5736 | H33: 0 | J33: =내역서!F33 -> 0 | K33: 454 | L33: =INT($J33*K33) -> 0 | M33: 693 | N33: =INT($J33*M33) -> 0 | O33: 373 | P33: =INT($J33*O33) -> 0 | Q33: =+K33+M33+O33 -> 1520 | R33: =L33+N33+P33 -> 0 | S33: =J33-J32 -> 0 | T33: =Q33-Q32 -> 0 | U33: =R33-R32 -> 0 | V33: 신규단가 | W33: =+IF(J33<0,"ng","")
A34: 당초 | C34: 기계터파기/보통토사/5m이하 | D34: 양호 | E34: ㎥ | F34: =+G34 -> 11087 | G34: =[5]내역서!F34 -> 11087 | H34: 10917 | I34: =G34-H34 -> 170 | J34: =내역서!F34 -> 0 | K34: 371.9 | L34: =INT($J34*K34) -> 0 | M34: 616.2 | N34: =INT($J34*M34) -> 0 | O34: 352 | P34: =INT($J34*O34) -> 0 | Q34: =+K34+M34+O34 -> 1340.1 | R34: =L34+N34+P34 -> 0 | W34: =+IF(J34<0,"ng","")
A35: 변경 | C35: 기계터파기/보통토사/5m이하 | D35: 양호 | E35: ㎥ | F35: =+G35 -> 11087 | G35: =[5]내역서!F35 -> 11087 | H35: 10917 | I35: =G35-H35 -> 170 | J35: =내역서!F35 -> 0 | K35: 371.9 | L35: =INT($J35*K35) -> 0 | M35: 616.2 | N35: =INT($J35*M35) -> 0 | O35: 352 | P35: =INT($J35*O35) -> 0 | Q35: =+K35+M35+O35 -> 1340.1 | R35: =L35+N35+P35 -> 0 | S35: =J35-J34 -> 0 | T35: =Q35-Q34 -> 0 | U35: =R35-R34 -> 0 | W35: =+IF(J35<0,"ng","")
A36: 당초 | C36: 기계터파기/보통토사/5m초과 | D36: 양호 | E36: ㎥ | F36: =G36 -> 936 | G36: =[5]내역서!F36 -> 936 | H36: 920 | I36: =G36-H36 -> 16 | J36: =내역서!F36 -> 0 | K36: 397.9 | L36: =INT($J36*K36) -> 0 | M36: 660.1 | N36: =INT($J36*M36) -> 0 | O36: 376.9 | P36: =INT($J36*O36) -> 0 | Q36: =+K36+M36+O36 -> 1434.9 | R36: =L36+N36+P36 -> 0 | W36: =+IF(J36<0,"ng","")
A37: 변경 | C37: 기계터파기/보통토사/5m초과 | D37: 양호 | E37: ㎥ | F37: =G37 -> 936 | G37: =[5]내역서!F37 -> 936 | H37: 920 | I37: =G37-H37 -> 16 | J37: =내역서!F37 -> 0 | K37: 397.9 | L37: =INT($J37*K37) -> 0 | M37: 660.1 | N37: =INT($J37*M37) -> 0 | O37: 376.9 | P37: =INT($J37*O37) -> 0 | Q37: =+K37+M37+O37 -> 1434.9 | R37: =L37+N37+P37 -> 0 | S37: =J37-J36 -> 0 | T37: =Q37-Q36 -> 0 | U37: =R37-R36 -> 0 | W37: =+IF(J37<0,"ng","")
A38: 당초 | C38: 되메우기:토사 | D38: (B.H 0.2㎥+핸드가이드식로울러) | E38: ㎥ | F38: =G38 -> 13334 | G38: =[5]내역서!F38 -> 13334 | H38: 7454 | I38: =G38-H38 -> 5880 | J38: =내역서!F38 -> 0 | K38: 630.4 | L38: =INT($J38*K38) -> 0 | M38: 2494.4 | N38: =INT($J38*M38) -> 0 | O38: 547.2 | P38: =INT($J38*O38) -> 0 | Q38: =+K38+M38+O38 -> 3672 | R38: =L38+N38+P38 -> 0 | W38: =+IF(J38<0,"ng","")
A39: 변경 | C39: 되메우기:토사 | D39: (B.H 0.2㎥+핸드가이드식로울러) | E39: ㎥ | F39: =G39 -> 13334 | G39: =[5]내역서!F39 -> 13334 | H39: 7454 | I39: =G39-H39 -> 5880 | J39: =내역서!F39 -> 0 | K39: 630.4 | L39: =INT($J39*K39) -> 0 | M39: 2494.4 | N39: =INT($J39*M39) -> 0 | O39: 547.2 | P39: =INT($J39*O39) -> 0 | Q39: =+K39+M39+O39 -> 3672 | R39: =L39+N39+P39 -> 0 | S39: =J39-J38 -> 0 | T39: =Q39-Q38 -> 0 | U39: =R39-R38 -> 0 | W39: =+IF(J39<0,"ng","")
A40: 당초 | C40: 되메우기:토[관상부] | D40: (B.H 1.0㎥+핸드가이드식로울러) | E40: ㎥ | F40: =G40 -> 6160 | G40: =[5]내역서!F40 -> 6160 | H40: 6098 | I40: =G40-H40 -> 62 | J40: =내역서!F40 -> 0 | K40: 600.7 | L40: =INT($J40*K40) -> 0 | M40: 1463.2 | N40: =INT($J40*M40) -> 0 | O40: 316.1 | P40: =INT($J40*O40) -> 0 | Q40: =+K40+M40+O40 -> 2380 | R40: =L40+N40+P40 -> 0 | W40: =+IF(J40<0,"ng","")
A41: 변경 | C41: 되메우기:토[관상부] | D41: (B.H 1.0㎥+핸드가이드식로울러) | E41: ㎥ | F41: =G41 -> 6160 | G41: =[5]내역서!F41 -> 6160 | H41: 6098 | I41: =G41-H41 -> 62 | J41: =내역서!F41 -> 0 | K41: 600.7 | L41: =INT($J41*K41) -> 0 | M41: 1463.2 | N41: =INT($J41*M41) -> 0 | O41: 316.1 | P41: =INT($J41*O41) -> 0 | Q41: =+K41+M41+O41 -> 2380 | R41: =L41+N41+P41 -> 0 | S41: =J41-J40 -> 0 | T41: =Q41-Q40 -> 0 | U41: =R41-R40 -> 0 | W41: =+IF(J41<0,"ng","")
A42: 당초 | C42: 관부사 | D42: (B.H 1.0 90+인력10%) | E42: ㎥ | F42: =G42 -> 3282 | G42: =[5]내역서!F42 -> 3282 | H42: 3170 | I42: =G42-H42 -> 112 | J42: =내역서!F42 -> 0 | K42: 515.2 | L42: =INT($J42*K42) -> 0 | M42: 1895.2 | N42: =INT($J42*M42) -> 0 | O42: 408.9 | P42: =INT($J42*O42) -> 0 | Q42: =+K42+M42+O42 -> 2819.3 | R42: =L42+N42+P42 -> 0 | W42: =+IF(J42<0,"ng","")
A43: 변경 | C43: 관부사 | D43: (B.H 1.0 90+인력10%) | E43: ㎥ | F43: =G43 -> 3282 | G43: =[5]내역서!F43 -> 3282 | H43: 3170 | I43: =G43-H43 -> 112 | J43: =내역서!F43 -> 0 | K43: 515.2 | L43: =INT($J43*K43) -> 0 | M43: 1895.2 | N43: =INT($J43*M43) -> 0 | O43: 408.9 | P43: =INT($J43*O43) -> 0 | Q43: =+K43+M43+O43 -> 2819.3 | R43: =L43+N43+P43 -> 0 | S43: =J43-J42 -> 0 | T43: =Q43-Q42 -> 0 | U43: =R43-R42 -> 0 | W43: =+IF(J43<0,"ng","")
A44: 당초 | C44: 잡석부설 | D44: 150mm이하 | E44: ㎥ | F44: =G44 -> 14 | G44: =[5]내역서!F44 -> 14 | H44: 14 | I44: =G44-H44 -> 0 | J44: =내역서!F44 -> 0 | K44: 471.6 | L44: =INT($J44*K44) -> 0 | M44: 3906.3 | N44: =INT($J44*M44) -> 0 | O44: 444.7 | P44: =INT($J44*O44) -> 0 | Q44: =+K44+M44+O44 -> 4822.6 | R44: =L44+N44+P44 -> 0 | W44: =+IF(J44<0,"ng","")
A45: 변경 | C45: 잡석부설 | D45: 150mm이하 | E45: ㎥ | F45: =G45 -> 14 | G45: =[5]내역서!F45 -> 14 | H45: 14 | I45: =G45-H45 -> 0 | J45: =내역서!F45 -> 0 | K45: 471.6 | L45: =INT($J45*K45) -> 0 | M45: 3906.3 | N45: =INT($J45*M45) -> 0 | O45: 444.7 | P45: =INT($J45*O45) -> 0 | Q45: =+K45+M45+O45 -> 4822.6 | R45: =L45+N45+P45 -> 0 | S45: =J45-J44 -> 0 | T45: =Q45-Q44 -> 0 | U45: =R45-R44 -> 0 | W45: =+IF(J45<0,"ng","")
A46: 당초 | C46: 흙쌓기/토사 | D46: 두께 30cm | E46: ㎥ | F46: =G46 -> 7777 | G46: =[5]내역서!F46 -> 7777 | H46: 7777 | I46: =G46-H46 -> 0 | J46: =내역서!F46 -> 0 | K46: 440.7 | L46: =INT($J46*K46) -> 0 | M46: 1055.9 | N46: =INT($J46*M46) -> 0 | O46: 496.6 | P46: =INT($J46*O46) -> 0 | Q46: =+K46+M46+O46 -> 1993.2 | R46: =L46+N46+P46 -> 0 | W46: =+IF(J46<0,"ng","")
A47: 변경 | C47: 흙쌓기/토사 | D47: 두께 30cm | E47: ㎥ | F47: =G47 -> 7777 | G47: =[5]내역서!F47 -> 7777 | H47: 7777 | I47: =G47-H47 -> 0 | J47: =내역서!F47 -> 0 | K47: 440.7 | L47: =INT($J47*K47) -> 0 | M47: 1055.9 | N47: =INT($J47*M47) -> 0 | O47: 496.6 | P47: =INT($J47*O47) -> 0 | Q47: =+K47+M47+O47 -> 1993.2 | R47: =L47+N47+P47 -> 0 | S47: =J47-J46 -> 0 | T47: =Q47-Q46 -> 0 | U47: =R47-R46 -> 0 | W47: =+IF(J47<0,"ng","")
A48: 당초 | C48: 비탈면보호공 | D48: 줄떼 | E48: ㎡ | F48: =G48 -> 1467 | G48: =[5]내역서!F48 -> 1467 | H48: 1467 | I48: =G48-H48 -> 0 | J48: =내역서!F48 -> 0 | K48: 770.7 | L48: =INT($J48*K48) -> 0 | M48: 4369.9 | N48: =INT($J48*M48) -> 0 | O48: 0 | P48: =INT($J48*O48) -> 0 | Q48: =+K48+M48+O48 -> 5140.6 | R48: =L48+N48+P48 -> 0 | W48: =+IF(J48<0,"ng","")
A49: 변경 | C49: 비탈면보호공 | D49: 줄떼 | E49: ㎡ | F49: =G49 -> 1467 | G49: =[5]내역서!F49 -> 1467 | H49: 1467 | I49: =G49-H49 -> 0 | J49: =내역서!F49 -> 0 | K49: 770.7 | L49: =INT($J49*K49) -> 0 | M49: 4369.9 | N49: =INT($J49*M49) -> 0 | O49: 0 | P49: =INT($J49*O49) -> 0 | Q49: =+K49+M49+O49 -> 5140.6 | R49: =L49+N49+P49 -> 0 | S49: =J49-J48 -> 0 | T49: =Q49-Q48 -> 0 | U49: =R49-R48 -> 0 | W49: =+IF(J49<0,"ng","")
A50: 당초 | C50: 비탈면보호공 | D50: 평떼 | E50: ㎡ | F50: =G50 -> 193 | G50: =[5]내역서!F50 -> 193 | H50: 193 | I50: =G50-H50 -> 0 | J50: =내역서!F50 -> 0 | K50: 1794.6 | L50: =INT($J50*K50) -> 0 | M50: 11022.9 | N50: =INT($J50*M50) -> 0 | O50: 0 | P50: =INT($J50*O50) -> 0 | Q50: =+K50+M50+O50 -> 12817.5 | R50: =L50+N50+P50 -> 0 | W50: =+IF(J50<0,"ng","")
A51: 변경 | C51: 비탈면보호공 | D51: 평떼 | E51: ㎡ | F51: =G51 -> 193 | G51: =[5]내역서!F51 -> 193 | H51: 193 | I51: =G51-H51 -> 0 | J51: =내역서!F51 -> 0 | K51: 1794.6 | L51: =INT($J51*K51) -> 0 | M51: 11022.9 | N51: =INT($J51*M51) -> 0 | O51: 0 | P51: =INT($J51*O51) -> 0 | Q51: =+K51+M51+O51 -> 12817.5 | R51: =L51+N51+P51 -> 0 | S51: =J51-J50 -> 0 | T51: =Q51-Q50 -> 0 | U51: =R51-R50 -> 0 | W51: =+IF(J51<0,"ng","")
A52: 당초 | C52: 성토면고르기 | E52: ㎡ | F52: =G52 -> 1467 | G52: =[5]내역서!F52 -> 1467 | H52: 1467 | I52: =G52-H52 -> 0 | J52: =내역서!F52 -> 0 | K52: 189.5 | L52: =INT($J52*K52) -> 0 | M52: 344 | N52: =INT($J52*M52) -> 0 | O52: 172.9 | P52: =INT($J52*O52) -> 0 | Q52: =+K52+M52+O52 -> 706.4 | R52: =L52+N52+P52 -> 0 | W52: =+IF(J52<0,"ng","")
A53: 변경 | C53: 성토면고르기 | E53: ㎡ | F53: =G53 -> 1467 | G53: =[5]내역서!F53 -> 1467 | H53: 1467 | I53: =G53-H53 -> 0 | J53: =내역서!F53 -> 0 | K53: 189.5 | L53: =INT($J53*K53) -> 0 | M53: 344 | N53: =INT($J53*M53) -> 0 | O53: 172.9 | P53: =INT($J53*O53) -> 0 | Q53: =+K53+M53+O53 -> 706.4 | R53: =L53+N53+P53 -> 0 | S53: =J53-J52 -> 0 | T53: =Q53-Q52 -> 0 | U53: =R53-R52 -> 0 | W53: =+IF(J53<0,"ng","")
A54: 당초 | C54: 쌓기비탈면다짐 | D54: - | E54: ㎡ | F54: =G54 -> 1467 | G54: =[5]내역서!F54 -> 1467 | H54: 1467 | I54: =G54-H54 -> 0 | J54: =내역서!F54 -> 0 | K54: 255.3 | L54: =INT($J54*K54) -> 0 | M54: 490.6 | N54: =INT($J54*M54) -> 0 | O54: 277.2 | P54: =INT($J54*O54) -> 0 | Q54: =+K54+M54+O54 -> 1023.1 | R54: =L54+N54+P54 -> 0 | W54: =+IF(J54<0,"ng","")
A55: 변경 | C55: 쌓기비탈면다짐 | D55: - | E55: ㎡ | F55: =G55 -> 1467 | G55: =[5]내역서!F55 -> 1467 | H55: 1467 | I55: =G55-H55 -> 0 | J55: =내역서!F55 -> 0 | K55: 255.3 | L55: =INT($J55*K55) -> 0 | M55: 490.6 | N55: =INT($J55*M55) -> 0 | O55: 277.2 | P55: =INT($J55*O55) -> 0 | Q55: =+K55+M55+O55 -> 1023.1 | R55: =L55+N55+P55 -> 0 | S55: =J55-J54 -> 0 | T55: =Q55-Q54 -> 0 | U55: =R55-R54 -> 0 | W55: =+IF(J55<0,"ng","")
A56: 당초 | C56: 절토면고르기 | D56: 토사 | E56: ㎡ | F56: =G56 -> 175 | G56: =[5]내역서!F56 -> 175 | H56: 0 | I56: =G56-H56 -> 175 | J56: =내역서!F56 -> 0 | K56: 494.6 | L56: =INT($J56*K56) -> 0 | M56: 1709.9 | N56: =INT($J56*M56) -> 0 | O56: 467.6 | P56: =INT($J56*O56) -> 0 | Q56: =+K56+M56+O56 -> 2672.1 | R56: =L56+N56+P56 -> 0 | W56: =+IF(J56<0,"ng","")
A57: 변경 | C57: 절토면고르기 | D57: 토사 | E57: ㎡ | F57: =G57 -> 175 | G57: =[5]내역서!F57 -> 175 | H57: 0 | I57: =G57-H57 -> 175 | J57: =내역서!F57 -> 0 | K57: 494.6 | L57: =INT($J57*K57) -> 0 | M57: 1709.9 | N57: =INT($J57*M57) -> 0 | O57: 467.6 | P57: =INT($J57*O57) -> 0 | Q57: =+K57+M57+O57 -> 2672.1 | R57: =L57+N57+P57 -> 0 | S57: =J57-J56 -> 0 | T57: =Q57-Q56 -> 0 | U57: =R57-R56 -> 0 | W57: =+IF(J57<0,"ng","")
A58: 당초 | C58: 벌목 | D58: 5～8m미만 | E58: ㎡ | F58: =G58 -> 5268 | G58: =[5]내역서!F58 -> 5268 | H58: 0 | I58: =G58-H58 -> 5268 | J58: =내역서!F58 -> 0 | K58: 0 | L58: =INT($J58*K58) -> 0 | M58: 661.1 | N58: =INT($J58*M58) -> 0 | O58: 49.9 | P58: =INT($J58*O58) -> 0 | Q58: =+K58+M58+O58 -> 711 | R58: =L58+N58+P58 -> 0 | W58: =+IF(J58<0,"ng","")
A59: 변경 | C59: 벌목 | D59: 5～8m미만 | E59: ㎡ | F59: =G59 -> 5268 | G59: =[5]내역서!F59 -> 5268 | H59: 0 | I59: =G59-H59 -> 5268 | J59: =내역서!F59 -> 0 | K59: 0 | L59: =INT($J59*K59) -> 0 | M59: 661.1 | N59: =INT($J59*M59) -> 0 | O59: 49.9 | P59: =INT($J59*O59) -> 0 | Q59: =+K59+M59+O59 -> 711 | R59: =L59+N59+P59 -> 0 | S59: =J59-J58 -> 0 | T59: =Q59-Q58 -> 0 | U59: =R59-R58 -> 0 | W59: =+IF(J59<0,"ng","")
A60: 당초 | C60: 벌개제근공 | D60: - | E60: ㎡ | F60: =G60 -> 5268 | G60: =[5]내역서!F60 -> 5268 | H60: 0 | I60: =G60-H60 -> 5268 | J60: =내역서!F60 -> 0 | K60: 0 | L60: =INT($J60*K60) -> 0 | M60: 413.8 | N60: =INT($J60*M60) -> 0 | O60: 0 | P60: =INT($J60*O60) -> 0 | Q60: =+K60+M60+O60 -> 413.8 | R60: =L60+N60+P60 -> 0 | W60: =+IF(J60<0,"ng","")
A61: 변경 | C61: 벌개제근공 | D61: - | E61: ㎡ | F61: =G61 -> 5268 | G61: =[5]내역서!F61 -> 5268 | H61: 0 | I61: =G61-H61 -> 5268 | J61: =내역서!F61 -> 0 | K61: 0 | L61: =INT($J61*K61) -> 0 | M61: 413.8 | N61: =INT($J61*M61) -> 0 | O61: 0 | P61: =INT($J61*O61) -> 0 | Q61: =+K61+M61+O61 -> 413.8 | R61: =L61+N61+P61 -> 0 | S61: =J61-J60 -> 0 | T61: =Q61-Q60 -> 0 | U61: =R61-R60 -> 0 | W61: =+IF(J61<0,"ng","")
A62: 당초 | C62: 표토제거/답외구간 | D62: T=20cm | E62: ㎡ | F62: =G62 -> 6467 | G62: =[5]내역서!F62 -> 6467 | H62: 0 | I62: =G62-H62 -> 6467 | J62: =내역서!F62 -> 0 | K62: 121.7 | L62: =INT($J62*K62) -> 0 | M62: 71.8 | N62: =INT($J62*M62) -> 0 | O62: 62.9 | P62: =INT($J62*O62) -> 0 | Q62: =+K62+M62+O62 -> 256.4 | R62: =L62+N62+P62 -> 0 | W62: =+IF(J62<0,"ng","")
A63: 변경 | C63: 표토제거/답외구간 | D63: T=20cm | E63: ㎡ | F63: =G63 -> 6467 | G63: =[5]내역서!F63 -> 6467 | H63: 0 | I63: =G63-H63 -> 6467 | J63: =내역서!F63 -> 0 | K63: 121.7 | L63: =INT($J63*K63) -> 0 | M63: 71.8 | N63: =INT($J63*M63) -> 0 | O63: 62.9 | P63: =INT($J63*O63) -> 0 | Q63: =+K63+M63+O63 -> 256.4 | R63: =L63+N63+P63 -> 0 | S63: =J63-J62 -> 0 | T63: =Q63-Q62 -> 0 | U63: =R63-R62 -> 0 | W63: =+IF(J63<0,"ng","")
A64: 당초 | C64: 사토:토 사,L=5km | D64: (백호직상차+덤프+정지) | E64: ㎥ | F64: =G64 -> 0 | G64: =[5]내역서!F64 -> 0 | H64: 0 | I64: =G64-H64 -> 0 | J64: =내역서!F64 -> 0 | K64: 1876 | L64: =INT($J64*K64) -> 0 | M64: 862.4 | N64: =INT($J64*M64) -> 0 | O64: 1068 | P64: =INT($J64*O64) -> 0 | Q64: =+K64+M64+O64 -> 3806.4 | R64: =L64+N64+P64 -> 0 | W64: =+IF(J64<0,"ng","")
A65: 변경 | C65: 사토:토 사,L=5km | D65: (백호직상차+덤프+정지) | E65: ㎥ | F65: =G65 -> 0 | G65: =[5]내역서!F65 -> 0 | H65: 0 | I65: =G65-H65 -> 0 | J65: =내역서!F65 -> 0 | K65: 1876 | L65: =INT($J65*K65) -> 0 | M65: 862.4 | N65: =INT($J65*M65) -> 0 | O65: 1068 | P65: =INT($J65*O65) -> 0 | Q65: =+K65+M65+O65 -> 3806.4 | R65: =L65+N65+P65 -> 0 | S65: =J65-J64 -> 0 | T65: =Q65-Q64 -> 0 | U65: =R65-R64 -> 0 | W65: =+IF(J65<0,"ng","")
A66: 당초 | C66: 사토:매립토,L=6.76km | D66: (덤프) | E66: ㎥ | F66: 0 | G66: =[5]내역서!F66 -> 37897 | H66: 0 | J66: =내역서!F66 -> 0 | K66: 2694 | L66: =INT($J66*K66) -> 0 | M66: 3080 | N66: =INT($J66*M66) -> 0 | O66: 1881 | P66: =INT($J66*O66) -> 0 | Q66: =+K66+M66+O66 -> 7655 | R66: =L66+N66+P66 -> 0 | V66: 신규단가 | W66: =+IF(J66<0,"ng","")
A67: 변경 | C67: 사토:매립토,L=6.76km | D67: (덤프) | E67: ㎥ | F67: 0 | G67: =[5]내역서!F67 -> 37897 | H67: 0 | J67: =내역서!F67 -> 0 | K67: 2694 | L67: =INT($J67*K67) -> 0 | M67: 3080 | N67: =INT($J67*M67) -> 0 | O67: 1881 | P67: =INT($J67*O67) -> 0 | Q67: =+K67+M67+O67 -> 7655 | R67: =L67+N67+P67 -> 0 | S67: =J67-J66 -> 0 | T67: =Q67-Q66 -> 0 | U67: =R67-R66 -> 0 | V67: 신규단가 | W67: =+IF(J67<0,"ng","")
A68: 당초 | C68: 사토:매립토,L=6.76km | D68: (크람셀+덤프) | E68: ㎥ | F68: 0 | G68: =[5]내역서!F68 -> 24024 | J68: =내역서!F68 -> 0 | K68: 2124 | L68: =INT($J68*K68) -> 0 | M68: 4523 | N68: =INT($J68*M68) -> 0 | O68: 2627 | P68: =INT($J68*O68) -> 0 | Q68: =+K68+M68+O68 -> 9274 | R68: =L68+N68+P68 -> 0 | V68: 신규단가 | W68: =+IF(J68<0,"ng","")
A69: 변경 | C69: 사토:매립토,L=6.76km | D69: (크람셀+덤프) | E69: ㎥ | F69: 0 | G69: =[5]내역서!F69 -> 24024 | J69: =내역서!F69 -> 0 | K69: 2124 | L69: =INT($J69*K69) -> 0 | M69: 4523 | N69: =INT($J69*M69) -> 0 | O69: 2627 | P69: =INT($J69*O69) -> 0 | Q69: =+K69+M69+O69 -> 9274 | R69: =L69+N69+P69 -> 0 | S69: =J69-J68 -> 0 | T69: =Q69-Q68 -> 0 | U69: =R69-R68 -> 0 | V69: 신규단가 | W69: =+IF(J69<0,"ng","")
A70: 당초 | C70: 사토:매립토,L=15.09km | D70: (덤프) | E70: ㎥ | F70: 0 | G70: =[5]내역서!F70 -> 11132 | K70: 4212 | L70: =INT($J70*K70) -> 0 | M70: 5595 | N70: =INT($J70*M70) -> 0 | O70: 3218 | P70: =INT($J70*O70) -> 0 | Q70: =+K70+M70+O70 -> 13025 | R70: =L70+N70+P70 -> 0 | V70: 신규단가 | W70: =+IF(J70<0,"ng","")
A71: 변경 | C71: 사토:매립토,L=15.09km | D71: (덤프) | E71: ㎥ | F71: 0 | G71: =[5]내역서!F71 -> 11132 | K71: 4212 | L71: =INT($J71*K71) -> 0 | M71: 5595 | N71: =INT($J71*M71) -> 0 | O71: 3218 | P71: =INT($J71*O71) -> 0 | Q71: =+K71+M71+O71 -> 13025 | R71: =L71+N71+P71 -> 0 | S71: =J71-J70 -> 0 | T71: =Q71-Q70 -> 0 | U71: =R71-R70 -> 0 | V71: 신규단가 | W71: =+IF(J71<0,"ng","")
A72: 당초 | C72: 순성토운반(토취장→가적치장:L=10.0km) | D72: (백호상차+덤프운반) | E72: ㎥ | F72: =G72 -> 0 | G72: =[5]내역서!F72 -> 0 | H72: 0 | I72: =G72-H72 -> 0 | K72: 3593.2 | L72: =INT($J72*K72) -> 0 | M72: 1963.1 | N72: =INT($J72*M72) -> 0 | O72: 2217.4 | P72: =INT($J72*O72) -> 0 | Q72: =+K72+M72+O72 -> 7773.7 | R72: =L72+N72+P72 -> 0 | W72: =+IF(J72<0,"ng","")
A73: 변경 | C73: 순성토운반(토취장→가적치장:L=10.0km) | D73: (백호상차+덤프운반) | E73: ㎥ | F73: =G73 -> 0 | G73: =[5]내역서!F73 -> 0 | H73: 0 | I73: =G73-H73 -> 0 | K73: 3593.2 | L73: =INT($J73*K73) -> 0 | M73: 1963.1 | N73: =INT($J73*M73) -> 0 | O73: 2217.4 | P73: =INT($J73*O73) -> 0 | Q73: =+K73+M73+O73 -> 7773.7 | R73: =L73+N73+P73 -> 0 | S73: =J73-J72 -> 0 | T73: =Q73-Q72 -> 0 | U73: =R73-R72 -> 0 | W73: =+IF(J73<0,"ng","")
A74: 당초 | C74: 순성토운반(무대운반) | E74: ㎥ | G74: =[5]내역서!F74 -> 4693 | H74: 0 | L74: =INT($J74*K74) -> 0 | N74: =INT($J74*M74) -> 0 | P74: =INT($J74*O74) -> 0 | Q74: =+K74+M74+O74 -> 0 | R74: =L74+N74+P74 -> 0 | W74: =+IF(J74<0,"ng","")
A75: 변경 | C75: 순성토운반(무대운반) | E75: ㎥ | G75: =[5]내역서!F75 -> 4693 | H75: 0 | L75: =INT($J75*K75) -> 0 | N75: =INT($J75*M75) -> 0 | P75: =INT($J75*O75) -> 0 | Q75: =+K75+M75+O75 -> 0 | R75: =L75+N75+P75 -> 0 | S75: =J75-J74 -> 0 | T75: =Q75-Q74 -> 0 | U75: =R75-R74 -> 0 | W75: =+IF(J75<0,"ng","")
A76: 당초 | C76: 순성토운반(토취장→가적치장:L=17.15km) | D76: (백호상차+덤프운반) | E76: ㎥ | G76: =[5]내역서!F76 -> 6115 | H76: 0 | K76: 4267 | L76: =INT($J76*K76) -> 0 | M76: 5459 | N76: =INT($J76*M76) -> 0 | O76: 3011 | P76: =INT($J76*O76) -> 0 | Q76: =+K76+M76+O76 -> 12737 | R76: =L76+N76+P76 -> 0 | V76: 신규단가 | W76: =+IF(J76<0,"ng","")
A77: 변경 | C77: 순성토운반(토취장→가적치장:L=17.15km) | D77: (백호상차+덤프운반) | E77: ㎥ | G77: =[5]내역서!F77 -> 6115 | H77: 0 | K77: 4267 | L77: =INT($J77*K77) -> 0 | M77: 5459 | N77: =INT($J77*M77) -> 0 | O77: 3011 | P77: =INT($J77*O77) -> 0 | Q77: =+K77+M77+O77 -> 12737 | R77: =L77+N77+P77 -> 0 | S77: =J77-J76 -> 0 | T77: =Q77-Q76 -> 0 | U77: =R77-R76 -> 0 | V77: 신규단가 | W77: =+IF(J77<0,"ng","")
A78: 당초 | C78: 순성토운반(토취장→가적치장:L=25.70km) | D78: (백호상차+덤프운반) | E78: ㎥ | G78: =[5]내역서!F78 -> 3068 | H78: 0 | K78: 5331 | L78: =INT($J78*K78) -> 0 | M78: 7045 | N78: =INT($J78*M78) -> 0 | O78: 4027 | P78: =INT($J78*O78) -> 0 | Q78: =+K78+M78+O78 -> 16403 | R78: =L78+N78+P78 -> 0 | V78: 신규단가 | W78: =+IF(J78<0,"ng","")
A79: 변경 | C79: 순성토운반(토취장→가적치장:L=25.70km) | D79: (백호상차+덤프운반) | E79: ㎥ | G79: =[5]내역서!F79 -> 3068 | H79: 0 | K79: 5331 | L79: =INT($J79*K79) -> 0 | M79: 7045 | N79: =INT($J79*M79) -> 0 | O79: 4027 | P79: =INT($J79*O79) -> 0 | Q79: =+K79+M79+O79 -> 16403 | R79: =L79+N79+P79 -> 0 | S79: =J79-J78 -> 0 | T79: =Q79-Q78 -> 0 | U79: =R79-R78 -> 0 | V79: 신규단가 | W79: =+IF(J79<0,"ng","")
A80: 당초 | C80: 순성토운반(토취장→가적치장:L=20.65km) | D80: (백호상차+덤프운반) | E80: ㎥ | G80: =[5]내역서!F80 -> 13242 | H80: 0 | K80: 4973 | L80: =INT($J80*K80) -> 0 | M80: 6671 | N80: =INT($J80*M80) -> 0 | O80: 3732 | P80: =INT($J80*O80) -> 0 | Q80: =+K80+M80+O80 -> 15376 | R80: =L80+N80+P80 -> 0 | V80: 신규단가 | W80: =+IF(J80<0,"ng","")
A81: 변경 | C81: 순성토운반(토취장→가적치장:L=20.65km) | D81: (백호상차+덤프운반) | E81: ㎥ | G81: =[5]내역서!F81 -> 13242 | H81: 0 | K81: 4973 | L81: =INT($J81*K81) -> 0 | M81: 6671 | N81: =INT($J81*M81) -> 0 | O81: 3732 | P81: =INT($J81*O81) -> 0 | Q81: =+K81+M81+O81 -> 15376 | R81: =L81+N81+P81 -> 0 | S81: =J81-J80 -> 0 | T81: =Q81-Q80 -> 0 | U81: =R81-R80 -> 0 | V81: 신규단가 | W81: =+IF(J81<0,"ng","")
A82: 당초 | C82: 순성토운반(토취장→가적치장:L=10.60km) | D82: (백호상차+덤프운반) | E82: ㎥ | G82: =[5]내역서!F82 -> 1500 | H82: 0 | K82: 2892 | L82: =INT($J82*K82) -> 0 | M82: 3918 | N82: =INT($J82*M82) -> 0 | O82: 2181 | P82: =INT($J82*O82) -> 0 | Q82: =+K82+M82+O82 -> 8991 | R82: =L82+N82+P82 -> 0 | V82: 신규단가 | W82: =+IF(J82<0,"ng","")
A83: 변경 | C83: 순성토운반(토취장→가적치장:L=10.60km) | D83: (백호상차+덤프운반) | E83: ㎥ | G83: =[5]내역서!F83 -> 1500 | H83: 0 | K83: 2892 | L83: =INT($J83*K83) -> 0 | M83: 3918 | N83: =INT($J83*M83) -> 0 | O83: 2181 | P83: =INT($J83*O83) -> 0 | Q83: =+K83+M83+O83 -> 8991 | R83: =L83+N83+P83 -> 0 | S83: =J83-J82 -> 0 | T83: =Q83-Q82 -> 0 | U83: =R83-R82 -> 0 | V83: 신규단가 | W83: =+IF(J83<0,"ng","")
A84: 당초 | C84: 토사운반(가적치장→현장:L=500m) | D84: (백호상차+덤프운반) | E84: ㎥ | F84: =G84 -> 0 | G84: =[5]내역서!F84 -> 0 | H84: 0 | I84: =G84-H84 -> 0 | K84: 1796.6 | L84: =INT($J84*K84) -> 0 | M84: 1122.7 | N84: =INT($J84*M84) -> 0 | O84: 1183.5 | P84: =INT($J84*O84) -> 0 | Q84: =+K84+M84+O84 -> 4102.8 | R84: =L84+N84+P84 -> 0 | W84: =+IF(J84<0,"ng","")
A85: 변경 | C85: 토사운반(가적치장→현장:L=500m) | D85: (백호상차+덤프운반) | E85: ㎥ | F85: =G85 -> 0 | G85: =[5]내역서!F85 -> 0 | H85: 0 | I85: =G85-H85 -> 0 | K85: 1796.6 | L85: =INT($J85*K85) -> 0 | M85: 1122.7 | N85: =INT($J85*M85) -> 0 | O85: 1183.5 | P85: =INT($J85*O85) -> 0 | Q85: =+K85+M85+O85 -> 4102.8 | R85: =L85+N85+P85 -> 0 | S85: =J85-J84 -> 0 | T85: =Q85-Q84 -> 0 | U85: =R85-R84 -> 0 | W85: =+IF(J85<0,"ng","")
A86: 당초 | C86: 토사운반(가적치장→현장:L=534m) | D86: (백호상차+덤프운반) | E86: ㎥ | F86: 0 | G86: =[5]내역서!F86 -> 28618 | H86: 0 | K86: 975 | L86: =INT($J86*K86) -> 0 | M86: 1315 | N86: =INT($J86*M86) -> 0 | O86: 708 | P86: =INT($J86*O86) -> 0 | Q86: =+K86+M86+O86 -> 2998 | R86: =L86+N86+P86 -> 0 | V86: 신규단가 | W86: =+IF(J86<0,"ng","")
A87: 변경 | C87: 토사운반(가적치장→현장:L=534m) | D87: (백호상차+덤프운반) | E87: ㎥ | F87: 0 | G87: =[5]내역서!F87 -> 28618 | H87: 0 | K87: 975 | L87: =INT($J87*K87) -> 0 | M87: 1315 | N87: =INT($J87*M87) -> 0 | O87: 708 | P87: =INT($J87*O87) -> 0 | Q87: =+K87+M87+O87 -> 2998 | R87: =L87+N87+P87 -> 0 | S87: =J87-J86 -> 0 | T87: =Q87-Q86 -> 0 | U87: =R87-R86 -> 0 | V87: 신규단가 | W87: =+IF(J87<0,"ng","")
A88: 당초 | C88: 유용토운반 | D88: (B.H 1.0㎥+덤프운반) | E88: ㎥ | F88: 0 | G88: =[5]내역서!F88 -> 2549 | H88: 0 | J88: =내역서!F88 -> 0 | K88: 1060 | L88: =INT($J88*K88) -> 0 | M88: 904.8 | N88: =INT($J88*M88) -> 0 | O88: 596.1 | P88: =INT($J88*O88) -> 0 | Q88: =+K88+M88+O88 -> 2560.9 | R88: =L88+N88+P88 -> 0 | V88: 기존단가 | W88: =+IF(J88<0,"ng","")
A89: 변경 | C89: 유용토운반 | D89: (B.H 1.0㎥+덤프운반) | E89: ㎥ | F89: 0 | G89: =[5]내역서!F89 -> 2549 | H89: 0 | J89: =내역서!F89 -> 0 | K89: 1060 | L89: =INT($J89*K89) -> 0 | M89: 904.8 | N89: =INT($J89*M89) -> 0 | O89: 596.1 | P89: =INT($J89*O89) -> 0 | Q89: =+K89+M89+O89 -> 2560.9 | R89: =L89+N89+P89 -> 0 | S89: =J89-J88 -> 0 | T89: =Q89-Q88 -> 0 | U89: =R89-R88 -> 0 | V89: 기존단가 | W89: =+IF(J89<0,"ng","")
A90: 당초 | B90: 2. | C90: 구 조 물 공 | F90: 0 | G90: =[5]내역서!F90 -> 0 | H90: 0 | J90: =내역서!F90 -> 0 | L90: =L92+L230+L342+L456 -> 0 | N90: =N92+N230+N342+N456 -> 0 | P90: =P92+P230+P342+P456 -> 0 | R90: =L90+N90+P90 -> 0 | W90: =+IF(J90<0,"ng","")
A91: 변경 | B91: 2. | C91: 구 조 물 공 | F91: 0 | G91: =[5]내역서!F91 -> 0 | H91: 0 | J91: =내역서!F91 -> 0 | L91: =L93+L231+L343+L457 -> 0 | N91: =N93+N231+N343+N457 -> 0 | P91: =P93+P231+P343+P457 -> 0 | R91: =L91+N91+P91 -> 0 | S91: =J91-J90 -> 0 | T91: =Q91-Q90 -> 0 | U91: =R91-R90 -> 0 | W91: =+IF(J91<0,"ng","")
A92: 당초 | B92: 2.1. | C92: 활 성 탄 흡 착 지 | F92: 0 | G92: =[5]내역서!F92 -> 0 | H92: 0 | J92: =내역서!F92 -> 0 | L92: =L94+L218 -> 0 | N92: =N94+N218 -> 0 | P92: =P94+P218 -> 0 | R92: =L92+N92+P92 -> 0 | W92: =+IF(J92<0,"ng","")
A93: 변경 | B93: 2.1. | C93: 활 성 탄 흡 착 지 | F93: 0 | G93: =[5]내역서!F93 -> 0 | H93: 0 | J93: =내역서!F93 -> 0 | L93: =L95+L219 -> 0 | N93: =N95+N219 -> 0 | P93: =P95+P219 -> 0 | R93: =L93+N93+P93 -> 0 | S93: =J93-J92 -> 0 | T93: =Q93-Q92 -> 0 | U93: =R93-R92 -> 0 | W93: =+IF(J93<0,"ng","")
A94: 당초 | B94: (1) | C94: 구 체 공 | F94: 0 | G94: =[5]내역서!F94 -> 0 | H94: 0 | J94: =내역서!F94 -> 0 | L94: =SUMIF($A$96:$A$217,"당초",L96:L217) -> 0 | N94: =SUMIF($A$96:$A$217,"당초",N96:N217) -> 0 | P94: =SUMIF($A$96:$A$217,"당초",P96:P217) -> 0 | R94: =L94+N94+P94 -> 0 | W94: =+IF(J94<0,"ng","")
A95: 변경 | B95: (1) | C95: 구 체 공 | F95: 0 | G95: =[5]내역서!F95 -> 0 | H95: 0 | J95: =내역서!F95 -> 0 | L95: =SUMIF($A$96:$A$217,"변경",L96:L217) -> 0 | N95: =SUMIF($A$96:$A$217,"변경",N96:N217) -> 0 | P95: =SUMIF($A$96:$A$217,"변경",P96:P217) -> 0 | R95: =L95+N95+P95 -> 0 | S95: =J95-J94 -> 0 | T95: =Q95-Q94 -> 0 | U95: =R95-R94 -> 0 | W95: =+IF(J95<0,"ng","")
A96: 당초 | C96: 무근콘크리트 타설/펌프차 | D96: 양호(S15, 200㎥. 초과) | E96: ㎥ | F96: =G96 -> 1801.29 | G96: =[5]내역서!F96 -> 1801.29 | H96: 1801.29 | I96: =G96-H96 -> 0 | J96: =내역서!F96 -> 0 | K96: 1130.6 | L96: =INT($J96*K96) -> 0 | M96: 7690.9 | N96: =INT($J96*M96) -> 0 | O96: 2165.5 | P96: =INT($J96*O96) -> 0 | Q96: =+K96+M96+O96 -> 10987 | R96: =L96+N96+P96 -> 0 | W96: =+IF(J96<0,"ng","")
A97: 변경 | C97: 무근콘크리트 타설/펌프차 | D97: 양호(S15, 200㎥. 초과) | E97: ㎥ | F97: =G97 -> 1801.29 | G97: =[5]내역서!F97 -> 1801.29 | H97: 1801.29 | I97: =G97-H97 -> 0 | J97: =내역서!F97 -> 0 | K97: 1130.6 | L97: =INT($J97*K97) -> 0 | M97: 7690.9 | N97: =INT($J97*M97) -> 0 | O97: 2165.5 | P97: =INT($J97*O97) -> 0 | Q97: =+K97+M97+O97 -> 10987 | R97: =L97+N97+P97 -> 0 | S97: =J97-J96 -> 0 | T97: =Q97-Q96 -> 0 | U97: =R97-R96 -> 0 | W97: =+IF(J97<0,"ng","")
A98: 당초 | C98: 철근콘크리트 타설/펌프차 | D98: 보통(S15, 200㎥. 초과) | E98: ㎥ | F98: =G98 -> 7654.86 | G98: =[5]내역서!F98 -> 7654.86 | H98: 7654.86 | I98: =G98-H98 -> 0 | J98: =내역서!F98 -> 0 | K98: 1487.6 | L98: =INT($J98*K98) -> 0 | M98: 10074.7 | N98: =INT($J98*M98) -> 0 | O98: 2830.5 | P98: =INT($J98*O98) -> 0 | Q98: =+K98+M98+O98 -> 14392.8 | R98: =L98+N98+P98 -> 0 | W98: =+IF(J98<0,"ng","")
A99: 변경 | C99: 철근콘크리트 타설/펌프차 | D99: 보통(S15, 200㎥. 초과) | E99: ㎥ | F99: =G99 -> 7654.86 | G99: =[5]내역서!F99 -> 7654.86 | H99: 7654.86 | I99: =G99-H99 -> 0 | J99: =내역서!F99 -> 0 | K99: 1487.6 | L99: =INT($J99*K99) -> 0 | M99: 10074.7 | N99: =INT($J99*M99) -> 0 | O99: 2830.5 | P99: =INT($J99*O99) -> 0 | Q99: =+K99+M99+O99 -> 14392.8 | R99: =L99+N99+P99 -> 0 | S99: =J99-J98 -> 0 | T99: =Q99-Q98 -> 0 | U99: =R99-R98 -> 0 | W99: =+IF(J99<0,"ng","")
A100: 당초 | C100: 합판거푸집 | D100: 간단, 0 ∼ 7m | E100: ㎡ | F100: =G100 -> 91.48 | G100: =[5]내역서!F100 -> 91.48 | H100: 91.48 | I100: =G100-H100 -> 0 | J100: =내역서!F100 -> 0 | K100: 11266.1 | L100: =INT($J100*K100) -> 0 | M100: 26287.9 | N100: =INT($J100*M100) -> 0 | O100: 0 | P100: =INT($J100*O100) -> 0 | Q100: =+K100+M100+O100 -> 37554 | R100: =L100+N100+P100 -> 0 | W100: =+IF(J100<0,"ng","")
A101: 변경 | C101: 합판거푸집 | D101: 간단, 0 ∼ 7m | E101: ㎡ | F101: =G101 -> 91.48 | G101: =[5]내역서!F101 -> 91.48 | H101: 91.48 | I101: =G101-H101 -> 0 | J101: =내역서!F101 -> 0 | K101: 11266.1 | L101: =INT($J101*K101) -> 0 | M101: 26287.9 | N101: =INT($J101*M101) -> 0 | O101: 0 | P101: =INT($J101*O101) -> 0 | Q101: =+K101+M101+O101 -> 37554 | R101: =L101+N101+P101 -> 0 | S101: =J101-J100 -> 0 | T101: =Q101-Q100 -> 0 | U101: =R101-R100 -> 0 | W101: =+IF(J101<0,"ng","")
...

Sheet 구매 요청서
A2: 관급자재 구매요청서
A3: 공사명: 영종도 해저송수관로 건설공사 | L3: 발주부서:인천광역시 상수도사업본부
A4: 순번 | B4: 물품식별번호 | C4: 품명 | D4: 규격 | E4: 단위 | F4: 수량 | G4: 단가 | H4: 소요금액 | I4: 납품기한 | J4: 공급업체명 | K4: 업체소재지 | L4: 구매방안 | M4: 납품조건 | N4: 비고
A5: 1 | B5: 25533541 | C5: 수질계측기 | D5: Aqua2000-6P(P1) | E5: ='설계가대비조사가비교표 (조달) '!C8 -> 개 | F5: 1 | G5: 32571000 | H5: =TRUNC(F5*G5,0) -> 32571000 | I5: ~2026.08.10 | J5: 블루센 주식회사 | K5: 대구광역시 달성군 | L5: 조달구매 (나라장터) | M5: 납품장소차상도 | N5: VAT포함
C8: 합 계 | H8: =SUM(H5:H7) -> 32571000
H13: .

Sheet 설계가대비조사가비교표 (조달) 
A2: 설계가 대비 조사가 비교표
A3: 공사명: 영종도 해저송수관로 건설공사 | I3: 발주부서:인천광역시 상수도사업본부
A4: 품 명 | B4: 규 격 | C4: 단위 | D4: 설계가ⓐ | G4: 조사가ⓑ | K4: 증감 (ⓑ-ⓐ)
D5: 수량 | E5: 단가 | F5: 소요금액 | G5: 수량 | H5: 단가 | I5: 소요금액 | J5: 비 고
A6: 관 급 자 재 대
A7: 영종도 해저송수관로 건설공사
A8: 수질계측기 | B8: Aqua2000-6P(P1) | C8: ='단가비교(토목)'!D7 -> 개 | D8: 1 | E8: 26850000 | F8: =TRUNC(D8*E8,0) -> 26850000 | G8: 1 | H8: 32571000 | I8: =G8*H8 -> 32571000 | J8: 블루센 주식회사 | K8: =I8-F8 -> 5721000
A14: 소 계 | F14: =SUM(F8:F11) -> 26850000 | I14: =SUM(I8:I11) -> 32571000 | K14: =I14-F14 -> 5721000
A15: 조 달 수 수 료 | B15: 자 재 비 의 % | C15: % | D15: 0.54 | E15: =F14 -> 26850000 | F15: =ROUNDDOWN(E15*D15/100,-1) -> 144990 | G15: 0.54 | H15: =I14 -> 32571000 | I15: =ROUNDDOWN(H15*G15/100,-1) -> 175880 | K15: =I15-F15 -> 30890
A16: 합 계 | F16: =SUM(F14:F15) -> 26994990 | I16: =SUM(I14:I15) -> 32746880 | K16: =I16-F16 -> 5751890
G23: =B23+D23+#REF! -> #REF!

Sheet 단가비교(토목)
A2: 관 급 자 재 단 가 비 교
A3: 공사명: 영종도 해저송수관로 건설공사
A4: 1) 수질계측기
A5: 순번 | B5: 품명 | C5: 규격 | D5: 단위 | E5: 수량 | F5: 블루센 주식회사
F6: 단가 | G6: 금액 | H6: 단가 | I6: 금액
A7: 1 | B7: 수질계측기 | C7: Aqua2000-6P(P1) | D7: 개 | E7: 1 | F7: 32571000 | G7: =TRUNC(E7*F7,0) -> 32571000
B10: 소 계 | G10: =SUM(G7:G9) -> 32571000
B11: 납품조건 | F11: 납품장소차상도
B12: 업체소재지 | F12: 대구광역시 달성군
B13: 적 용 | F13: ○

Sheet 나라장터비교
A1: 나라장터 품목별 자재현황
A2: <블루센 주식회사>
A4: #VALUE!

Sheet 관급자재(건축)
B1: 관 급 내 역 서 (건 축)
B3: 공 사 명 : 수산정수장 고도정수처리시설 건설공사 (관급_건축)
B4: 번호 | C4: 공 종 명 | D4: 규 격 | E4: 단위 | F4: 수 량 | G4: 재 료 비 | I4: 노 무 비 | K4: 경 비 | M4: 합 계 | O4: 증 ·감 | R4: 비 고 | T4: 수 량
G5: 단가 | H5: 금액 | I5: 단가 | J5: 금액 | K5: 단가 | L5: 금액 | M5: 단가 | N5: 금액 | O5: 수량 | P5: 단가 | Q5: 금액
A6: 당초 | C6: 0102 ◈ 관급자재비 | H6: =H8+H60 -> 0 | J6: =J8+J60 -> 0 | L6: =L8+L60 -> 0 | M6: =G6+I6+K6 -> 0 | N6: =H6+J6+L6 -> 0
A7: 변경 | C7: 0102 ◈ 관급자재비 | H7: =H9+H61 -> 0 | J7: =J9+J61 -> 0 | L7: =L9+L61 -> 0 | M7: =G7+I7+K7 -> 0 | N7: =H7+J7+L7 -> 0 | O7: =F7-F6 -> 0 | P7: =M7-M6 -> 0 | Q7: =N7-N6 -> 0
A8: 당초 | C8: 0102 ◈ 도급자관급자재비 | H8: =H10+H26+H42 -> 0 | J8: =J10+J26+J42 -> 0 | L8: =L10+L26+L42 -> 0 | M8: =G8+I8+K8 -> 0 | N8: =H8+J8+L8 -> 0
A9: 변경 | C9: 0102 ◈ 도급자관급자재비 | H9: =H11+H27+H43 -> 0 | J9: =J11+J27+J43 -> 0 | L9: =L11+L27+L43 -> 0 | M9: =G9+I9+K9 -> 0 | N9: =H9+J9+L9 -> 0 | O9: =F9-F8 -> 0 | P9: =M9-M8 -> 0 | Q9: =N9-N8 -> 0
A10: 당초 | C10: 010201 01. 활성탄흡착지동 | H10: =SUMIF($A$12:$A$25,$A12,H$12:H$25) -> 0 | J10: =SUMIF($A$12:$A$25,$A12,J$12:J$25) -> 0 | L10: =SUMIF($A$12:$A$25,$A12,L$12:L$25) -> 0 | M10: =G10+I10+K10 -> 0 | N10: =H10+J10+L10 -> 0
A11: 변경 | C11: 010201 01. 활성탄흡착지동 | H11: =SUMIF($A$12:$A$25,$A13,H$12:H$25) -> 0 | J11: =SUMIF($A$12:$A$25,$A13,J$12:J$25) -> 0 | L11: =SUMIF($A$12:$A$25,$A13,L$12:L$25) -> 0 | M11: =G11+I11+K11 -> 0 | N11: =H11+J11+L11 -> 0 | O11: =F11-F10 -> 0 | P11: =M11-M10 -> 0 | Q11: =N11-N10 -> 0
A12: 당초 | C12: 레미콘(무근) | D12: 레미콘, 인천(내륙), 25-21-120 | E12: M3 | G12: 97140 | H12: =TRUNC(G12*F12, 0) -> 0 | I12: 0 | J12: =TRUNC(I12*F12, 0) -> 0 | K12: 0 | L12: =TRUNC(K12*F12, 0) -> 0 | M12: =G12+I12+K12 -> 97140 | N12: =H12+J12+L12 -> 0 | R12: 자재 51 | T12: 226
A13: 변경 | C13: 레미콘(무근) | D13: 레미콘, 인천(내륙), 25-21-120 | E13: M3 | G13: 97140 | H13: =TRUNC(G13*F13, 0) -> 0 | I13: 0 | J13: =TRUNC(I13*F13, 0) -> 0 | K13: 0 | L13: =TRUNC(K13*F13, 0) -> 0 | M13: =G13+I13+K13 -> 97140 | N13: =H13+J13+L13 -> 0 | O13: =F13-F12 -> 0 | P13: =M13-M12 -> 0 | Q13: =N13-N12 -> 0 | R13: 자재 51 | T13: 226
A14: 당초 | C14: 레미콘(구체) | D14: 레미콘, 인천(내륙), 25-24-150 | E14: M3 | G14: 100530 | H14: =TRUNC(G14*F14, 0) -> 0 | I14: 0 | J14: =TRUNC(I14*F14, 0) -> 0 | K14: 0 | L14: =TRUNC(K14*F14, 0) -> 0 | M14: =G14+I14+K14 -> 100530 | N14: =H14+J14+L14 -> 0 | R14: 자재 52 | T14: 1226
A15: 변경 | C15: 레미콘(구체) | D15: 레미콘, 인천(내륙), 25-24-150 | E15: M3 | G15: 100530 | H15: =TRUNC(G15*F15, 0) -> 0 | I15: 0 | J15: =TRUNC(I15*F15, 0) -> 0 | K15: 0 | L15: =TRUNC(K15*F15, 0) -> 0 | M15: =G15+I15+K15 -> 100530 | N15: =H15+J15+L15 -> 0 | O15: =F15-F14 -> 0 | P15: =M15-M14 -> 0 | Q15: =N15-N14 -> 0 | R15: 자재 52 | T15: 1226
A16: 당초 | C16: 철근콘크리트용봉강 | D16: 철근콘크리트용봉강, 이형봉강(SD350/400), HD10, 생산공장상차도 | E16: TON | G16: 1076900 | H16: =TRUNC(G16*F16, 0) -> 0 | I16: 0 | J16: =TRUNC(I16*F16, 0) -> 0 | K16: 0 | L16: =TRUNC(K16*F16, 0) -> 0 | M16: =G16+I16+K16 -> 1076900 | N16: =H16+J16+L16 -> 0 | R16: 자재 24 | T16: 74.449
A17: 변경 | C17: 철근콘크리트용봉강 | D17: 철근콘크리트용봉강, 이형봉강(SD350/400), HD10, 생산공장상차도 | E17: TON | G17: 1076900 | H17: =TRUNC(G17*F17, 0) -> 0 | I17: 0 | J17: =TRUNC(I17*F17, 0) -> 0 | K17: 0 | L17: =TRUNC(K17*F17, 0) -> 0 | M17: =G17+I17+K17 -> 1076900 | N17: =H17+J17+L17 -> 0 | O17: =F17-F16 -> 0 | P17: =M17-M16 -> 0 | Q17: =N17-N16 -> 0 | R17: 자재 24 | T17: 74.449
A18: 당초 | C18: 철근콘크리트용봉강 | D18: 철근콘크리트용봉강, 이형봉강(SD350/400), HD13, 생산공장상차도 | E18: TON | G18: 1065900 | H18: =TRUNC(G18*F18, 0) -> 0 | I18: 0 | J18: =TRUNC(I18*F18, 0) -> 0 | K18: 0 | L18: =TRUNC(K18*F18, 0) -> 0 | M18: =G18+I18+K18 -> 1065900 | N18: =H18+J18+L18 -> 0 | R18: 자재 25 | T18: 0.468
A19: 변경 | C19: 철근콘크리트용봉강 | D19: 철근콘크리트용봉강, 이형봉강(SD350/400), HD13, 생산공장상차도 | E19: TON | G19: 1065900 | H19: =TRUNC(G19*F19, 0) -> 0 | I19: 0 | J19: =TRUNC(I19*F19, 0) -> 0 | K19: 0 | L19: =TRUNC(K19*F19, 0) -> 0 | M19: =G19+I19+K19 -> 1065900 | N19: =H19+J19+L19 -> 0 | O19: =F19-F18 -> 0 | P19: =M19-M18 -> 0 | Q19: =N19-N18 -> 0 | R19: 자재 25 | T19: 0.468
A20: 당초 | C20: 철근콘크리트용봉강 | D20: 철근콘크리트용봉강, 이형봉강(SD350/400), HD22, 생산공장상차도 | E20: TON | G20: 1060400 | H20: =TRUNC(G20*F20, 0) -> 0 | I20: 0 | J20: =TRUNC(I20*F20, 0) -> 0 | K20: 0 | L20: =TRUNC(K20*F20, 0) -> 0 | M20: =G20+I20+K20 -> 1060400 | N20: =H20+J20+L20 -> 0 | R20: 자재 26 | T20: 153.005
A21: 변경 | C21: 철근콘크리트용봉강 | D21: 철근콘크리트용봉강, 이형봉강(SD350/400), HD22, 생산공장상차도 | E21: TON | G21: 1060400 | H21: =TRUNC(G21*F21, 0) -> 0 | I21: 0 | J21: =TRUNC(I21*F21, 0) -> 0 | K21: 0 | L21: =TRUNC(K21*F21, 0) -> 0 | M21: =G21+I21+K21 -> 1060400 | N21: =H21+J21+L21 -> 0 | O21: =F21-F20 -> 0 | P21: =M21-M20 -> 0 | Q21: =N21-N20 -> 0 | R21: 자재 26 | T21: 153.005
A22: 당초 | C22: 섬유보강재 | E22: 포 | G22: 12100 | H22: =TRUNC(G22*F22, 0) -> 0 | I22: 0 | J22: =TRUNC(I22*F22, 0) -> 0 | K22: 0 | L22: =TRUNC(K22*F22, 0) -> 0 | M22: =G22+I22+K22 -> 12100 | N22: =H22+J22+L22 -> 0 | R22: 자재 49 | T22: 226
A23: 변경 | C23: 섬유보강재 | E23: 포 | G23: 12100 | H23: =TRUNC(G23*F23, 0) -> 0 | I23: 0 | J23: =TRUNC(I23*F23, 0) -> 0 | K23: 0 | L23: =TRUNC(K23*F23, 0) -> 0 | M23: =G23+I23+K23 -> 12100 | N23: =H23+J23+L23 -> 0 | O23: =F23-F22 -> 0 | P23: =M23-M22 -> 0 | Q23: =N23-N22 -> 0 | R23: 자재 49 | T23: 226
A24: 당초 | C24: 조달수수료 | D24: 주재료비의 0.54% | E24: 식 | G24: 1886996 | H24: =TRUNC(G24*F24, 0) -> 0 | I24: 0 | J24: =TRUNC(I24*F24, 0) -> 0 | K24: 0 | L24: =TRUNC(K24*F24, 0) -> 0 | M24: =G24+I24+K24 -> 1886996 | N24: =H24+J24+L24 -> 0 | R24: 자재 49 | T24: 1
A25: 변경 | C25: 조달수수료 | D25: 주재료비의 0.54% | E25: 식 | G25: 1886996 | H25: =TRUNC(G25*F25, 0) -> 0 | I25: 0 | J25: =TRUNC(I25*F25, 0) -> 0 | K25: 0 | L25: =TRUNC(K25*F25, 0) -> 0 | M25: =G25+I25+K25 -> 1886996 | N25: =H25+J25+L25 -> 0 | O25: =F25-F24 -> 0 | P25: =M25-M24 -> 0 | Q25: =N25-N24 -> 0 | R25: 자재 49 | T25: 1
A26: 당초 | C26: 010202 02. 중간 가압장 | H26: =SUMIF($A$28:$A$41,$A28,H$28:H$41) -> 0 | J26: =SUMIF($A$28:$A$41,$A28,J$28:J$41) -> 0 | L26: =SUMIF($A$28:$A$41,$A28,L$28:L$41) -> 0 | M26: =G26+I26+K26 -> 0 | N26: =H26+J26+L26 -> 0
A27: 변경 | C27: 010202 02. 중간 가압장 | H27: =SUMIF($A$28:$A$41,$A29,H$28:H$41) -> 0 | J27: =SUMIF($A$28:$A$41,$A29,J$28:J$41) -> 0 | L27: =SUMIF($A$28:$A$41,$A29,L$28:L$41) -> 0 | M27: =G27+I27+K27 -> 0 | N27: =H27+J27+L27 -> 0 | O27: =F27-F26 -> 0 | P27: =M27-M26 -> 0 | Q27: =N27-N26 -> 0
A28: 당초 | C28: 레미콘(무근) | D28: 레미콘, 인천(내륙), 25-21-120 | E28: M3 | G28: 97140 | H28: =TRUNC(G28*F28, 0) -> 0 | I28: 0 | J28: =TRUNC(I28*F28, 0) -> 0 | K28: 0 | L28: =TRUNC(K28*F28, 0) -> 0 | M28: =G28+I28+K28 -> 97140 | N28: =H28+J28+L28 -> 0 | R28: 자재 51 | T28: 48
A29: 변경 | C29: 레미콘(무근) | D29: 레미콘, 인천(내륙), 25-21-120 | E29: M3 | G29: 97140 | H29: =TRUNC(G29*F29, 0) -> 0 | I29: 0 | J29: =TRUNC(I29*F29, 0) -> 0 | K29: 0 | L29: =TRUNC(K29*F29, 0) -> 0 | M29: =G29+I29+K29 -> 97140 | N29: =H29+J29+L29 -> 0 | O29: =F29-F28 -> 0 | P29: =M29-M28 -> 0 | Q29: =N29-N28 -> 0 | R29: 자재 51 | T29: 48
A30: 당초 | C30: 레미콘(구체) | D30: 레미콘, 인천(내륙), 25-24-150 | E30: M3 | G30: 100530 | H30: =TRUNC(G30*F30, 0) -> 0 | I30: 0 | J30: =TRUNC(I30*F30, 0) -> 0 | K30: 0 | L30: =TRUNC(K30*F30, 0) -> 0 | M30: =G30+I30+K30 -> 100530 | N30: =H30+J30+L30 -> 0 | R30: 자재 52 | T30: 615
A31: 변경 | C31: 레미콘(구체) | D31: 레미콘, 인천(내륙), 25-24-150 | E31: M3 | G31: 100530 | H31: =TRUNC(G31*F31, 0) -> 0 | I31: 0 | J31: =TRUNC(I31*F31, 0) -> 0 | K31: 0 | L31: =TRUNC(K31*F31, 0) -> 0 | M31: =G31+I31+K31 -> 100530 | N31: =H31+J31+L31 -> 0 | O31: =F31-F30 -> 0 | P31: =M31-M30 -> 0 | Q31: =N31-N30 -> 0 | R31: 자재 52 | T31: 615
A32: 당초 | C32: 철근콘크리트용봉강 | D32: 철근콘크리트용봉강, 이형봉강(SD350/400), HD10, 생산공장상차도 | E32: TON | G32: 1076900 | H32: =TRUNC(G32*F32, 0) -> 0 | I32: 0 | J32: =TRUNC(I32*F32, 0) -> 0 | K32: 0 | L32: =TRUNC(K32*F32, 0) -> 0 | M32: =G32+I32+K32 -> 1076900 | N32: =H32+J32+L32 -> 0 | R32: 자재 24 | T32: 32.768
A33: 변경 | C33: 철근콘크리트용봉강 | D33: 철근콘크리트용봉강, 이형봉강(SD350/400), HD10, 생산공장상차도 | E33: TON | G33: 1076900 | H33: =TRUNC(G33*F33, 0) -> 0 | I33: 0 | J33: =TRUNC(I33*F33, 0) -> 0 | K33: 0 | L33: =TRUNC(K33*F33, 0) -> 0 | M33: =G33+I33+K33 -> 1076900 | N33: =H33+J33+L33 -> 0 | O33: =F33-F32 -> 0 | P33: =M33-M32 -> 0 | Q33: =N33-N32 -> 0 | R33: 자재 24 | T33: 32.768
A34: 당초 | C34: 철근콘크리트용봉강 | D34: 철근콘크리트용봉강, 이형봉강(SD350/400), HD13, 생산공장상차도 | E34: TON | G34: 1065900 | H34: =TRUNC(G34*F34, 0) -> 0 | I34: 0 | J34: =TRUNC(I34*F34, 0) -> 0 | K34: 0 | L34: =TRUNC(K34*F34, 0) -> 0 | M34: =G34+I34+K34 -> 1065900 | N34: =H34+J34+L34 -> 0 | R34: 자재 25 | T34: 1.57
A35: 변경 | C35: 철근콘크리트용봉강 | D35: 철근콘크리트용봉강, 이형봉강(SD350/400), HD13, 생산공장상차도 | E35: TON | G35: 1065900 | H35: =TRUNC(G35*F35, 0) -> 0 | I35: 0 | J35: =TRUNC(I35*F35, 0) -> 0 | K35: 0 | L35: =TRUNC(K35*F35, 0) -> 0 | M35: =G35+I35+K35 -> 1065900 | N35: =H35+J35+L35 -> 0 | O35: =F35-F34 -> 0 | P35: =M35-M34 -> 0 | Q35: =N35-N34 -> 0 | R35: 자재 25 | T35: 1.57
A36: 당초 | C36: 철근콘크리트용봉강 | D36: 철근콘크리트용봉강, 이형봉강(SD350/400), HD22, 생산공장상차도 | E36: TON | G36: 1060400 | H36: =TRUNC(G36*F36, 0) -> 0 | I36: 0 | J36: =TRUNC(I36*F36, 0) -> 0 | K36: 0 | L36: =TRUNC(K36*F36, 0) -> 0 | M36: =G36+I36+K36 -> 1060400 | N36: =H36+J36+L36 -> 0 | R36: 자재 26 | T36: 69.564
A37: 변경 | C37: 철근콘크리트용봉강 | D37: 철근콘크리트용봉강, 이형봉강(SD350/400), HD22, 생산공장상차도 | E37: TON | G37: 1060400 | H37: =TRUNC(G37*F37, 0) -> 0 | I37: 0 | J37: =TRUNC(I37*F37, 0) -> 0 | K37: 0 | L37: =TRUNC(K37*F37, 0) -> 0 | M37: =G37+I37+K37 -> 1060400 | N37: =H37+J37+L37 -> 0 | O37: =F37-F36 -> 0 | P37: =M37-M36 -> 0 | Q37: =N37-N36 -> 0 | R37: 자재 26 | T37: 69.564
A38: 당초 | C38: 섬유보강재 | E38: 포 | G38: 12100 | H38: =TRUNC(G38*F38, 0) -> 0 | I38: 0 | J38: =TRUNC(I38*F38, 0) -> 0 | K38: 0 | L38: =TRUNC(K38*F38, 0) -> 0 | M38: =G38+I38+K38 -> 12100 | N38: =H38+J38+L38 -> 0 | R38: 자재 49 | T38: 48
A39: 변경 | C39: 섬유보강재 | E39: 포 | G39: 12100 | H39: =TRUNC(G39*F39, 0) -> 0 | I39: 0 | J39: =TRUNC(I39*F39, 0) -> 0 | K39: 0 | L39: =TRUNC(K39*F39, 0) -> 0 | M39: =G39+I39+K39 -> 12100 | N39: =H39+J39+L39 -> 0 | O39: =F39-F38 -> 0 | P39: =M39-M38 -> 0 | Q39: =N39-N38 -> 0 | R39: 자재 49 | T39: 48
A40: 당초 | C40: 조달수수료 | D40: 주재료비의 0.54% | E40: 식 | G40: 858296 | H40: =TRUNC(G40*F40, 0) -> 0 | I40: 0 | J40: =TRUNC(I40*F40, 0) -> 0 | K40: 0 | L40: =TRUNC(K40*F40, 0) -> 0 | M40: =G40+I40+K40 -> 858296 | N40: =H40+J40+L40 -> 0 | R40: 자재 49 | T40: 1
A41: 변경 | C41: 조달수수료 | D41: 주재료비의 0.54% | E41: 식 | G41: 858296 | H41: =TRUNC(G41*F41, 0) -> 0 | I41: 0 | J41: =TRUNC(I41*F41, 0) -> 0 | K41: 0 | L41: =TRUNC(K41*F41, 0) -> 0 | M41: =G41+I41+K41 -> 858296 | N41: =H41+J41+L41 -> 0 | O41: =F41-F40 -> 0 | P41: =M41-M40 -> 0 | Q41: =N41-N40 -> 0 | R41: 자재 49 | T41: 1
A42: 당초 | C42: 010203 03. 오존 접촉조 | H42: =SUMIF($A$44:$A$59,$A44,H$44:H$59) -> 0 | J42: =SUMIF($A$44:$A$59,$A44,J$44:J$59) -> 0 | L42: =SUMIF($A$44:$A$59,$A44,L$44:L$59) -> 0 | M42: =G42+I42+K42 -> 0 | N42: =H42+J42+L42 -> 0
A43: 변경 | C43: 010203 03. 오존 접촉조 | H43: =SUMIF($A$44:$A$59,$A45,H$44:H$59) -> 0 | J43: =SUMIF($A$44:$A$59,$A45,J$44:J$59) -> 0 | L43: =SUMIF($A$44:$A$59,$A45,L$44:L$59) -> 0 | M43: =G43+I43+K43 -> 0 | N43: =H43+J43+L43 -> 0 | O43: =F43-F42 -> 0 | P43: =M43-M42 -> 0 | Q43: =N43-N42 -> 0
A44: 당초 | C44: 레미콘(무근) | D44: 레미콘, 인천(내륙), 25-21-120 | E44: M3 | G44: 97140 | H44: =TRUNC(G44*F44, 0) -> 0 | I44: 0 | J44: =TRUNC(I44*F44, 0) -> 0 | K44: 0 | L44: =TRUNC(K44*F44, 0) -> 0 | M44: =G44+I44+K44 -> 97140 | N44: =H44+J44+L44 -> 0 | R44: 자재 51 | T44: 7.1
A45: 변경 | C45: 레미콘(무근) | D45: 레미콘, 인천(내륙), 25-21-120 | E45: M3 | G45: 97140 | H45: =TRUNC(G45*F45, 0) -> 0 | I45: 0 | J45: =TRUNC(I45*F45, 0) -> 0 | K45: 0 | L45: =TRUNC(K45*F45, 0) -> 0 | M45: =G45+I45+K45 -> 97140 | N45: =H45+J45+L45 -> 0 | O45: =F45-F44 -> 0 | P45: =M45-M44 -> 0 | Q45: =N45-N44 -> 0 | R45: 자재 51 | T45: 7.1
A46: 당초 | C46: 레미콘(구체) | D46: 레미콘, 인천(내륙), 25-24-150 | E46: M3 | G46: 100530 | H46: =TRUNC(G46*F46, 0) -> 0 | I46: 0 | J46: =TRUNC(I46*F46, 0) -> 0 | K46: 0 | L46: =TRUNC(K46*F46, 0) -> 0 | M46: =G46+I46+K46 -> 100530 | N46: =H46+J46+L46 -> 0 | R46: 자재 52 | T46: 306
A47: 변경 | C47: 레미콘(구체) | D47: 레미콘, 인천(내륙), 25-24-150 | E47: M3 | G47: 100530 | H47: =TRUNC(G47*F47, 0) -> 0 | I47: 0 | J47: =TRUNC(I47*F47, 0) -> 0 | K47: 0 | L47: =TRUNC(K47*F47, 0) -> 0 | M47: =G47+I47+K47 -> 100530 | N47: =H47+J47+L47 -> 0 | O47: =F47-F46 -> 0 | P47: =M47-M46 -> 0 | Q47: =N47-N46 -> 0 | R47: 자재 52 | T47: 306
A48: 당초 | C48: 철근콘크리트용봉강 | D48: 철근콘크리트용봉강, 이형봉강(SD350/400), HD10, 생산공장상차도 | E48: TON | G48: 1076900 | H48: =TRUNC(G48*F48, 0) -> 0 | I48: 0 | J48: =TRUNC(I48*F48, 0) -> 0 | K48: 0 | L48: =TRUNC(K48*F48, 0) -> 0 | M48: =G48+I48+K48 -> 1076900 | N48: =H48+J48+L48 -> 0 | R48: 자재 24 | T48: 15.808
A49: 변경 | C49: 철근콘크리트용봉강 | D49: 철근콘크리트용봉강, 이형봉강(SD350/400), HD10, 생산공장상차도 | E49: TON | G49: 1076900 | H49: =TRUNC(G49*F49, 0) -> 0 | I49: 0 | J49: =TRUNC(I49*F49, 0) -> 0 | K49: 0 | L49: =TRUNC(K49*F49, 0) -> 0 | M49: =G49+I49+K49 -> 1076900 | N49: =H49+J49+L49 -> 0 | O49: =F49-F48 -> 0 | P49: =M49-M48 -> 0 | Q49: =N49-N48 -> 0 | R49: 자재 24 | T49: 15.808
A50: 당초 | C50: 철근콘크리트용봉강 | D50: 철근콘크리트용봉강, 이형봉강(SD350/400), HD13, 생산공장상차도 | E50: TON | G50: 1065900 | H50: =TRUNC(G50*F50, 0) -> 0 | I50: 0 | J50: =TRUNC(I50*F50, 0) -> 0 | K50: 0 | L50: =TRUNC(K50*F50, 0) -> 0 | M50: =G50+I50+K50 -> 1065900 | N50: =H50+J50+L50 -> 0 | R50: 자재 25 | T50: 0.249
A51: 변경 | C51: 철근콘크리트용봉강 | D51: 철근콘크리트용봉강, 이형봉강(SD350/400), HD13, 생산공장상차도 | E51: TON | G51: 1065900 | H51: =TRUNC(G51*F51, 0) -> 0 | I51: 0 | J51: =TRUNC(I51*F51, 0) -> 0 | K51: 0 | L51: =TRUNC(K51*F51, 0) -> 0 | M51: =G51+I51+K51 -> 1065900 | N51: =H51+J51+L51 -> 0 | O51: =F51-F50 -> 0 | P51: =M51-M50 -> 0 | Q51: =N51-N50 -> 0 | R51: 자재 25 | T51: 0.249
A52: 당초 | C52: 철근콘크리트용봉강 | D52: 철근콘크리트용봉강, 이형봉강(SD350/400), HD22, 생산공장상차도 | E52: TON | G52: 1060400 | H52: =TRUNC(G52*F52, 0) -> 0 | I52: 0 | J52: =TRUNC(I52*F52, 0) -> 0 | K52: 0 | L52: =TRUNC(K52*F52, 0) -> 0 | M52: =G52+I52+K52 -> 1060400 | N52: =H52+J52+L52 -> 0 | R52: 자재 26 | T52: 41.231
A53: 변경 | C53: 철근콘크리트용봉강 | D53: 철근콘크리트용봉강, 이형봉강(SD350/400), HD22, 생산공장상차도 | E53: TON | G53: 1060400 | H53: =TRUNC(G53*F53, 0) -> 0 | I53: 0 | J53: =TRUNC(I53*F53, 0) -> 0 | K53: 0 | L53: =TRUNC(K53*F53, 0) -> 0 | M53: =G53+I53+K53 -> 1060400 | N53: =H53+J53+L53 -> 0 | O53: =F53-F52 -> 0 | P53: =M53-M52 -> 0 | Q53: =N53-N52 -> 0 | R53: 자재 26 | T53: 41.231
A54: 당초 | C54: 섬유보강재 | E54: 포 | G54: 12100 | H54: =TRUNC(G54*F54, 0) -> 0 | I54: 0 | J54: =TRUNC(I54*F54, 0) -> 0 | K54: 0 | L54: =TRUNC(K54*F54, 0) -> 0 | M54: =G54+I54+K54 -> 12100 | N54: =H54+J54+L54 -> 0 | R54: 자재 49 | T54: 7.1
A55: 변경 | C55: 섬유보강재 | E55: 포 | G55: 12100 | H55: =TRUNC(G55*F55, 0) -> 0 | I55: 0 | J55: =TRUNC(I55*F55, 0) -> 0 | K55: 0 | L55: =TRUNC(K55*F55, 0) -> 0 | M55: =G55+I55+K55 -> 12100 | N55: =H55+J55+L55 -> 0 | O55: =F55-F54 -> 0 | P55: =M55-M54 -> 0 | Q55: =N55-N54 -> 0 | R55: 자재 49 | T55: 7.1
A56: 당초 | C56: 조달수수료 | D56: 주재료비의 0.54% | E56: 식 | G56: 451770 | H56: =TRUNC(G56*F56, 0) -> 0 | I56: 0 | J56: =TRUNC(I56*F56, 0) -> 0 | K56: 0 | L56: =TRUNC(K56*F56, 0) -> 0 | M56: =G56+I56+K56 -> 451770 | N56: =H56+J56+L56 -> 0 | R56: 자재 49 | T56: 1
A57: 변경 | C57: 조달수수료 | D57: 주재료비의 0.54% | E57: 식 | G57: 451770 | H57: =TRUNC(G57*F57, 0) -> 0 | I57: 0 | J57: =TRUNC(I57*F57, 0) -> 0 | K57: 0 | L57: =TRUNC(K57*F57, 0) -> 0 | M57: =G57+I57+K57 -> 451770 | N57: =H57+J57+L57 -> 0 | O57: =F57-F56 -> 0 | P57: =M57-M56 -> 0 | Q57: =N57-N56 -> 0 | R57: 자재 49 | T57: 1
A58: 당초 | C58: 단수정리 | E58: 식 | G58: -5930 | H58: =TRUNC(G58*F58, 0) -> 0 | I58: 0 | J58: =TRUNC(I58*F58, 0) -> 0 | K58: 0 | L58: =TRUNC(K58*F58, 0) -> 0 | M58: =G58+I58+K58 -> -5930 | N58: =H58+J58+L58 -> 0 | R58: 자재 179 | T58: 1
A59: 변경 | C59: 단수정리 | E59: 식 | G59: -5930 | H59: =TRUNC(G59*F59, 0) -> 0 | I59: 0 | J59: =TRUNC(I59*F59, 0) -> 0 | K59: 0 | L59: =TRUNC(K59*F59, 0) -> 0 | M59: =G59+I59+K59 -> -5930 | N59: =H59+J59+L59 -> 0 | O59: =F59-F58 -> 0 | P59: =M59-M58 -> 0 | Q59: =N59-N58 -> 0 | R59: 자재 179 | T59: 1
A60: 당초 | C60: 0103 ◈ 관급자관급자재비 | H60: =H62+H128+H162 -> 0 | J60: =J62+J128+J162 -> 0 | L60: =L62+L128+L162 -> 0 | M60: =G60+I60+K60 -> 0 | N60: =H60+J60+L60 -> 0
A61: 변경 | C61: 0103 ◈ 관급자관급자재비 | H61: =H63+H129+H163 -> 0 | J61: =J63+J129+J163 -> 0 | L61: =L63+L129+L163 -> 0 | M61: =G61+I61+K61 -> 0 | N61: =H61+J61+L61 -> 0 | O61: =F61-F60 -> 0 | P61: =M61-M60 -> 0 | Q61: =N61-N60 -> 0
A62: 당초 | C62: 010301 01. 활성탄흡착지동 | H62: =SUMIF($A$64:$A$127,$A64,H$64:H$127) -> 0 | J62: =SUMIF($A$64:$A$127,$A64,J$64:J$127) -> 0 | L62: =SUMIF($A$64:$A$127,$A64,L$64:L$127) -> 0 | M62: =G62+I62+K62 -> 0 | N62: =H62+J62+L62 -> 0
A63: 변경 | C63: 010301 01. 활성탄흡착지동 | H63: =SUMIF($A$64:$A$127,$A65,H$64:H$127) -> 0 | J63: =SUMIF($A$64:$A$127,$A65,J$64:J$127) -> 0 | L63: =SUMIF($A$64:$A$127,$A65,L$64:L$127) -> 0 | M63: =G63+I63+K63 -> 0 | N63: =H63+J63+L63 -> 0 | O63: =F63-F62 -> 0 | P63: =M63-M62 -> 0 | Q63: =N63-N62 -> 0
A64: 당초 | C64: AF01 | D64: 0.590 x 0.590 = 0.3481 | E64: EA | G64: 194480 | H64: =TRUNC(G64*F64, 0) -> 0 | I64: 0 | J64: =TRUNC(I64*F64, 0) -> 0 | K64: 0 | L64: =TRUNC(K64*F64, 0) -> 0 | M64: =G64+I64+K64 -> 194480 | N64: =H64+J64+L64 -> 0 | R64: 호표 45 | T64: 16
A65: 변경 | C65: AF01 | D65: 0.590 x 0.590 = 0.3481 | E65: EA | G65: 194480 | H65: =TRUNC(G65*F65, 0) -> 0 | I65: 0 | J65: =TRUNC(I65*F65, 0) -> 0 | K65: 0 | L65: =TRUNC(K65*F65, 0) -> 0 | M65: =G65+I65+K65 -> 194480 | N65: =H65+J65+L65 -> 0 | O65: =F65-F64 -> 0 | P65: =M65-M64 -> 0 | Q65: =N65-N64 -> 0 | R65: 호표 45 | T65: 16
A66: 당초 | C66: AG01 | D66: 1.800 x 1.100 = 1.980 | E66: EA | G66: 210375 | H66: =TRUNC(G66*F66, 0) -> 0 | I66: 0 | J66: =TRUNC(I66*F66, 0) -> 0 | K66: 0 | L66: =TRUNC(K66*F66, 0) -> 0 | M66: =G66+I66+K66 -> 210375 | N66: =H66+J66+L66 -> 0 | R66: 호표 46 | T66: 4
A67: 변경 | C67: AG01 | D67: 1.800 x 1.100 = 1.980 | E67: EA | G67: 210375 | H67: =TRUNC(G67*F67, 0) -> 0 | I67: 0 | J67: =TRUNC(I67*F67, 0) -> 0 | K67: 0 | L67: =TRUNC(K67*F67, 0) -> 0 | M67: =G67+I67+K67 -> 210375 | N67: =H67+J67+L67 -> 0 | O67: =F67-F66 -> 0 | P67: =M67-M66 -> 0 | Q67: =N67-N66 -> 0 | R67: 호표 46 | T67: 4
A68: 당초 | C68: AG02 | D68: 0.900 x 0.600 = 0.540 | E68: EA | G68: 76670 | H68: =TRUNC(G68*F68, 0) -> 0 | I68: 0 | J68: =TRUNC(I68*F68, 0) -> 0 | K68: 0 | L68: =TRUNC(K68*F68, 0) -> 0 | M68: =G68+I68+K68 -> 76670 | N68: =H68+J68+L68 -> 0 | R68: 호표 47 | T68: 2
A69: 변경 | C69: AG02 | D69: 0.900 x 0.600 = 0.540 | E69: EA | G69: 76670 | H69: =TRUNC(G69*F69, 0) -> 0 | I69: 0 | J69: =TRUNC(I69*F69, 0) -> 0 | K69: 0 | L69: =TRUNC(K69*F69, 0) -> 0 | M69: =G69+I69+K69 -> 76670 | N69: =H69+J69+L69 -> 0 | O69: =F69-F68 -> 0 | P69: =M69-M68 -> 0 | Q69: =N69-N68 -> 0 | R69: 호표 47 | T69: 2
A70: 당초 | C70: AG03 | D70: 0.700 x 0.500 = 0.350 | E70: EA | G70: 54230 | H70: =TRUNC(G70*F70, 0) -> 0 | I70: 0 | J70: =TRUNC(I70*F70, 0) -> 0 | K70: 0 | L70: =TRUNC(K70*F70, 0) -> 0 | M70: =G70+I70+K70 -> 54230 | N70: =H70+J70+L70 -> 0 | R70: 호표 48 | T70: 1
A71: 변경 | C71: AG03 | D71: 0.700 x 0.500 = 0.350 | E71: EA | G71: 54230 | H71: =TRUNC(G71*F71, 0) -> 0 | I71: 0 | J71: =TRUNC(I71*F71, 0) -> 0 | K71: 0 | L71: =TRUNC(K71*F71, 0) -> 0 | M71: =G71+I71+K71 -> 54230 | N71: =H71+J71+L71 -> 0 | O71: =F71-F70 -> 0 | P71: =M71-M70 -> 0 | Q71: =N71-N70 -> 0 | R71: 호표 48 | T71: 1
A72: 당초 | C72: AW01 | D72: 0.800 x 2.900 = 2.320 | E72: EA | G72: 1045740 | H72: =TRUNC(G72*F72, 0) -> 0 | I72: 0 | J72: =TRUNC(I72*F72, 0) -> 0 | K72: 0 | L72: =TRUNC(K72*F72, 0) -> 0 | M72: =G72+I72+K72 -> 1045740 | N72: =H72+J72+L72 -> 0 | R72: 호표 49 | T72: 45
A73: 변경 | C73: AW01 | D73: 0.800 x 2.900 = 2.320 | E73: EA | G73: 1045740 | H73: =TRUNC(G73*F73, 0) -> 0 | I73: 0 | J73: =TRUNC(I73*F73, 0) -> 0 | K73: 0 | L73: =TRUNC(K73*F73, 0) -> 0 | M73: =G73+I73+K73 -> 1045740 | N73: =H73+J73+L73 -> 0 | O73: =F73-F72 -> 0 | P73: =M73-M72 -> 0 | Q73: =N73-N72 -> 0 | R73: 호표 49 | T73: 45
A74: 당초 | C74: AW01A | D74: 0.800 x 3.400 = 2.720 | E74: EA | G74: 1468830 | H74: =TRUNC(G74*F74, 0) -> 0 | I74: 0 | J74: =TRUNC(I74*F74, 0) -> 0 | K74: 0 | L74: =TRUNC(K74*F74, 0) -> 0 | M74: =G74+I74+K74 -> 1468830 | N74: =H74+J74+L74 -> 0 | R74: 호표 50 | T74: 5
A75: 변경 | C75: AW01A | D75: 0.800 x 3.400 = 2.720 | E75: EA | G75: 1468830 | H75: =TRUNC(G75*F75, 0) -> 0 | I75: 0 | J75: =TRUNC(I75*F75, 0) -> 0 | K75: 0 | L75: =TRUNC(K75*F75, 0) -> 0 | M75: =G75+I75+K75 -> 1468830 | N75: =H75+J75+L75 -> 0 | O75: =F75-F74 -> 0 | P75: =M75-M74 -> 0 | Q75: =N75-N74 -> 0 | R75: 호표 50 | T75: 5
A76: 당초 | C76: AW01B | D76: 0.800 x 3.500 = 2.800 | E76: EA | G76: 1281980 | H76: =TRUNC(G76*F76, 0) -> 0 | I76: 0 | J76: =TRUNC(I76*F76, 0) -> 0 | K76: 0 | L76: =TRUNC(K76*F76, 0) -> 0 | M76: =G76+I76+K76 -> 1281980 | N76: =H76+J76+L76 -> 0 | R76: 호표 51 | T76: 2
A77: 변경 | C77: AW01B | D77: 0.800 x 3.500 = 2.800 | E77: EA | G77: 1281980 | H77: =TRUNC(G77*F77, 0) -> 0 | I77: 0 | J77: =TRUNC(I77*F77, 0) -> 0 | K77: 0 | L77: =TRUNC(K77*F77, 0) -> 0 | M77: =G77+I77+K77 -> 1281980 | N77: =H77+J77+L77 -> 0 | O77: =F77-F76 -> 0 | P77: =M77-M76 -> 0 | Q77: =N77-N76 -> 0 | R77: 호표 51 | T77: 2
A78: 당초 | C78: AW01C | D78: 0.800 x 2.000 = 1.600 | E78: EA | G78: 913110 | H78: =TRUNC(G78*F78, 0) -> 0 | I78: 0 | J78: =TRUNC(I78*F78, 0) -> 0 | K78: 0 | L78: =TRUNC(K78*F78, 0) -> 0 | M78: =G78+I78+K78 -> 913110 | N78: =H78+J78+L78 -> 0 | R78: 호표 52 | T78: 2
A79: 변경 | C79: AW01C | D79: 0.800 x 2.000 = 1.600 | E79: EA | G79: 913110 | H79: =TRUNC(G79*F79, 0) -> 0 | I79: 0 | J79: =TRUNC(I79*F79, 0) -> 0 | K79: 0 | L79: =TRUNC(K79*F79, 0) -> 0 | M79: =G79+I79+K79 -> 913110 | N79: =H79+J79+L79 -> 0 | O79: =F79-F78 -> 0 | P79: =M79-M78 -> 0 | Q79: =N79-N78 -> 0 | R79: 호표 52 | T79: 2
A80: 당초 | C80: AW02 | D80: 0.800 x 2.900 = 2.320 | E80: EA | G80: 597740 | H80: =TRUNC(G80*F80, 0) -> 0 | I80: 0 | J80: =TRUNC(I80*F80, 0) -> 0 | K80: 0 | L80: =TRUNC(K80*F80, 0) -> 0 | M80: =G80+I80+K80 -> 597740 | N80: =H80+J80+L80 -> 0 | R80: 호표 53 | T80: 2
A81: 변경 | C81: AW02 | D81: 0.800 x 2.900 = 2.320 | E81: EA | G81: 597740 | H81: =TRUNC(G81*F81, 0) -> 0 | I81: 0 | J81: =TRUNC(I81*F81, 0) -> 0 | K81: 0 | L81: =TRUNC(K81*F81, 0) -> 0 | M81: =G81+I81+K81 -> 597740 | N81: =H81+J81+L81 -> 0 | O81: =F81-F80 -> 0 | P81: =M81-M80 -> 0 | Q81: =N81-N80 -> 0 | R81: 호표 53 | T81: 2
A82: 당초 | C82: AW03 | D82: 0.800 x 1.200 = 0.960 | E82: EA | G82: 324610 | H82: =TRUNC(G82*F82, 0) -> 0 | I82: 0 | J82: =TRUNC(I82*F82, 0) -> 0 | K82: 0 | L82: =TRUNC(K82*F82, 0) -> 0 | M82: =G82+I82+K82 -> 324610 | N82: =H82+J82+L82 -> 0 | R82: 호표 54 | T82: 6
A83: 변경 | C83: AW03 | D83: 0.800 x 1.200 = 0.960 | E83: EA | G83: 324610 | H83: =TRUNC(G83*F83, 0) -> 0 | I83: 0 | J83: =TRUNC(I83*F83, 0) -> 0 | K83: 0 | L83: =TRUNC(K83*F83, 0) -> 0 | M83: =G83+I83+K83 -> 324610 | N83: =H83+J83+L83 -> 0 | O83: =F83-F82 -> 0 | P83: =M83-M82 -> 0 | Q83: =N83-N82 -> 0 | R83: 호표 54 | T83: 6
A84: 당초 | C84: AW04 | D84: Φ1600 | E84: EA | G84: 414700 | H84: =TRUNC(G84*F84, 0) -> 0 | I84: 0 | J84: =TRUNC(I84*F84, 0) -> 0 | K84: 0 | L84: =TRUNC(K84*F84, 0) -> 0 | M84: =G84+I84+K84 -> 414700 | N84: =H84+J84+L84 -> 0 | R84: 호표 55 | T84: 1
A85: 변경 | C85: AW04 | D85: Φ1600 | E85: EA | G85: 414700 | H85: =TRUNC(G85*F85, 0) -> 0 | I85: 0 | J85: =TRUNC(I85*F85, 0) -> 0 | K85: 0 | L85: =TRUNC(K85*F85, 0) -> 0 | M85: =G85+I85+K85 -> 414700 | N85: =H85+J85+L85 -> 0 | O85: =F85-F84 -> 0 | P85: =M85-M84 -> 0 | Q85: =N85-N84 -> 0 | R85: 호표 55 | T85: 1
A86: 당초 | C86: AW05 | D86: Φ1200 | E86: EA | G86: 311740 | H86: =TRUNC(G86*F86, 0) -> 0 | I86: 0 | J86: =TRUNC(I86*F86, 0) -> 0 | K86: 0 | L86: =TRUNC(K86*F86, 0) -> 0 | M86: =G86+I86+K86 -> 311740 | N86: =H86+J86+L86 -> 0 | R86: 호표 56 | T86: 2
A87: 변경 | C87: AW05 | D87: Φ1200 | E87: EA | G87: 311740 | H87: =TRUNC(G87*F87, 0) -> 0 | I87: 0 | J87: =TRUNC(I87*F87, 0) -> 0 | K87: 0 | L87: =TRUNC(K87*F87, 0) -> 0 | M87: =G87+I87+K87 -> 311740 | N87: =H87+J87+L87 -> 0 | O87: =F87-F86 -> 0 | P87: =M87-M86 -> 0 | Q87: =N87-N86 -> 0 | R87: 호표 56 | T87: 2
A88: 당초 | C88: AW06 | D88: Φ1000 | E88: EA | G88: 258830 | H88: =TRUNC(G88*F88, 0) -> 0 | I88: 0 | J88: =TRUNC(I88*F88, 0) -> 0 | K88: 0 | L88: =TRUNC(K88*F88, 0) -> 0 | M88: =G88+I88+K88 -> 258830 | N88: =H88+J88+L88 -> 0 | R88: 호표 57 | T88: 3
A89: 변경 | C89: AW06 | D89: Φ1000 | E89: EA | G89: 258830 | H89: =TRUNC(G89*F89, 0) -> 0 | I89: 0 | J89: =TRUNC(I89*F89, 0) -> 0 | K89: 0 | L89: =TRUNC(K89*F89, 0) -> 0 | M89: =G89+I89+K89 -> 258830 | N89: =H89+J89+L89 -> 0 | O89: =F89-F88 -> 0 | P89: =M89-M88 -> 0 | Q89: =N89-N88 -> 0 | R89: 호표 57 | T89: 3
A90: 당초 | C90: AW07 | D90: Φ 800 | E90: EA | G90: 207350 | H90: =TRUNC(G90*F90, 0) -> 0 | I90: 0 | J90: =TRUNC(I90*F90, 0) -> 0 | K90: 0 | L90: =TRUNC(K90*F90, 0) -> 0 | M90: =G90+I90+K90 -> 207350 | N90: =H90+J90+L90 -> 0 | R90: 호표 58 | T90: 1
A91: 변경 | C91: AW07 | D91: Φ 800 | E91: EA | G91: 207350 | H91: =TRUNC(G91*F91, 0) -> 0 | I91: 0 | J91: =TRUNC(I91*F91, 0) -> 0 | K91: 0 | L91: =TRUNC(K91*F91, 0) -> 0 | M91: =G91+I91+K91 -> 207350 | N91: =H91+J91+L91 -> 0 | O91: =F91-F90 -> 0 | P91: =M91-M90 -> 0 | Q91: =N91-N90 -> 0 | R91: 호표 58 | T91: 1
A92: 당초 | C92: AW08 | D92: 8.800 x 3.700 = 32.560 | E92: EA | G92: 7991470 | H92: =TRUNC(G92*F92, 0) -> 0 | I92: 0 | J92: =TRUNC(I92*F92, 0) -> 0 | K92: 0 | L92: =TRUNC(K92*F92, 0) -> 0 | M92: =G92+I92+K92 -> 7991470 | N92: =H92+J92+L92 -> 0 | R92: 호표 59 | T92: 2
A93: 변경 | C93: AW08 | D93: 8.800 x 3.700 = 32.560 | E93: EA | G93: 7991470 | H93: =TRUNC(G93*F93, 0) -> 0 | I93: 0 | J93: =TRUNC(I93*F93, 0) -> 0 | K93: 0 | L93: =TRUNC(K93*F93, 0) -> 0 | M93: =G93+I93+K93 -> 7991470 | N93: =H93+J93+L93 -> 0 | O93: =F93-F92 -> 0 | P93: =M93-M92 -> 0 | Q93: =N93-N92 -> 0 | R93: 호표 59 | T93: 2
A94: 당초 | C94: AW09 | D94: 6.400 x 6.800 = 43.520 | E94: EA | G94: 11352830 | H94: =TRUNC(G94*F94, 0) -> 0 | I94: 0 | J94: =TRUNC(I94*F94, 0) -> 0 | K94: 0 | L94: =TRUNC(K94*F94, 0) -> 0 | M94: =G94+I94+K94 -> 11352830 | N94: =H94+J94+L94 -> 0 | R94: 호표 60 | T94: 1
A95: 변경 | C95: AW09 | D95: 6.400 x 6.800 = 43.520 | E95: EA | G95: 11352830 | H95: =TRUNC(G95*F95, 0) -> 0 | I95: 0 | J95: =TRUNC(I95*F95, 0) -> 0 | K95: 0 | L95: =TRUNC(K95*F95, 0) -> 0 | M95: =G95+I95+K95 -> 11352830 | N95: =H95+J95+L95 -> 0 | O95: =F95-F94 -> 0 | P95: =M95-M94 -> 0 | Q95: =N95-N94 -> 0 | R95: 호표 60 | T95: 1
A96: 당초 | C96: AW10 | D96: 9.900 x 3.700 = 36.630 | E96: EA | G96: 9161250 | H96: =TRUNC(G96*F96, 0) -> 0 | I96: 0 | J96: =TRUNC(I96*F96, 0) -> 0 | K96: 0 | L96: =TRUNC(K96*F96, 0) -> 0 | M96: =G96+I96+K96 -> 9161250 | N96: =H96+J96+L96 -> 0 | R96: 호표 61 | T96: 2
A97: 변경 | C97: AW10 | D97: 9.900 x 3.700 = 36.630 | E97: EA | G97: 9161250 | H97: =TRUNC(G97*F97, 0) -> 0 | I97: 0 | J97: =TRUNC(I97*F97, 0) -> 0 | K97: 0 | L97: =TRUNC(K97*F97, 0) -> 0 | M97: =G97+I97+K97 -> 9161250 | N97: =H97+J97+L97 -> 0 | O97: =F97-F96 -> 0 | P97: =M97-M96 -> 0 | Q97: =N97-N96 -> 0 | R97: 호표 61 | T97: 2
A98: 당초 | C98: AW10A | D98: 6.600 x 3.700 = 24.420 | E98: EA | G98: 5242930 | H98: =TRUNC(G98*F98, 0) -> 0 | I98: 0 | J98: =TRUNC(I98*F98, 0) -> 0 | K98: 0 | L98: =TRUNC(K98*F98, 0) -> 0 | M98: =G98+I98+K98 -> 5242930 | N98: =H98+J98+L98 -> 0 | R98: 호표 62 | T98: 2
A99: 변경 | C99: AW10A | D99: 6.600 x 3.700 = 24.420 | E99: EA | G99: 5242930 | H99: =TRUNC(G99*F99, 0) -> 0 | I99: 0 | J99: =TRUNC(I99*F99, 0) -> 0 | K99: 0 | L99: =TRUNC(K99*F99, 0) -> 0 | M99: =G99+I99+K99 -> 5242930 | N99: =H99+J99+L99 -> 0 | O99: =F99-F98 -> 0 | P99: =M99-M98 -> 0 | Q99: =N99-N98 -> 0 | R99: 호표 62 | T99: 2
A100: 당초 | C100: AW11 | D100: 33.690 x 6.800 = 62.268 | E100: EA | G100: 15107965 | H100: =TRUNC(G100*F100, 0) -> 0 | I100: 0 | J100: =TRUNC(I100*F100, 0) -> 0 | K100: 0 | L100: =TRUNC(K100*F100, 0) -> 0 | M100: =G100+I100+K100 -> 15107965 | N100: =H100+J100+L100 -> 0 | R100: 호표 63 | T100: 1
A101: 변경 | C101: AW11 | D101: 33.690 x 6.800 = 62.268 | E101: EA | G101: 15107965 | H101: =TRUNC(G101*F101, 0) -> 0 | I101: 0 | J101: =TRUNC(I101*F101, 0) -> 0 | K101: 0 | L101: =TRUNC(K101*F101, 0) -> 0 | M101: =G101+I101+K101 -> 15107965 | N101: =H101+J101+L101 -> 0 | O101: =F101-F100 -> 0 | P101: =M101-M100 -> 0 | Q101: =N101-N100 -> 0 | R101: 호표 63 | T101: 1
...

Sheet 관급자재(기계)
B1: 관 급 내 역 서 (기 계)
B3: 공 사 명 : 수산정수장 고도정수처리시설 건설공사 (관급_기계)
B4: 번호 | C4: 공 종 명 | D4: 규 격 | E4: 단위 | F4: 수 량 | G4: 재 료 비 | I4: 노 무 비 | K4: 경 비 | M4: 합 계 | O4: 증 ·감 | R4: 비 고 | T4: 수 량
G5: 단가 | H5: 금액 | I5: 단가 | J5: 금액 | K5: 단가 | L5: 금액 | M5: 단가 | N5: 금액 | O5: 수량 | P5: 단가 | Q5: 금액
A6: 당초 | C6: 0102 ◈ 관급자재비 | H6: =H8+H82 -> 0 | J6: =J8+J82 -> 0 | L6: =L8+L82 -> 0 | M6: =G6+I6+K6 -> 0 | N6: =H6+J6+L6 -> 0
A7: 변경 | C7: 0102 ◈ 관급자재비 | H7: =H9+H83 -> 0 | J7: =J9+J83 -> 0 | L7: =L9+L83 -> 0 | M7: =G7+I7+K7 -> 0 | N7: =H7+J7+L7 -> 0 | O7: =F7-F6 -> 0 | P7: =M7-M6 -> 0 | Q7: =N7-N6 -> 0
A8: 당초 | C8: 0102 ◈ 도급자관급자재비 | H8: =H10+H32+H44+H74+H78 -> 0 | J8: =J10+J32+J44+J74+J78 -> 0 | L8: =L10+L32+L44+L74+L78 -> 0 | M8: =G8+I8+K8 -> 0 | N8: =H8+J8+L8 -> 0
A9: 변경 | C9: 0102 ◈ 도급자관급자재비 | H9: =H11+H33+H45+H75+H79 -> 0 | J9: =J11+J33+J45+J75+J79 -> 0 | L9: =L11+L33+L45+L75+L79 -> 0 | M9: =G9+I9+K9 -> 0 | N9: =H9+J9+L9 -> 0 | O9: =F9-F8 -> 0 | P9: =M9-M8 -> 0 | Q9: =N9-N8 -> 0
A10: 당초 | C10: 1) 중간가압장 설비 | H10: =SUMIF($A$12:$A$31,$A12,H$12:H$31) -> 0 | J10: =SUMIF($A$12:$A$31,$A12,J$12:J$31) -> 0 | L10: =SUMIF($A$12:$A$31,$A12,L$12:L$31) -> 0 | M10: =G10+I10+K10 -> 0 | N10: =H10+J10+L10 -> 0
A11: 변경 | C11: 1) 중간가압장 설비 | H11: =SUMIF($A$12:$A$31,$A13,H$12:H$31) -> 0 | J11: =SUMIF($A$12:$A$31,$A13,J$12:J$31) -> 0 | L11: =SUMIF($A$12:$A$31,$A13,L$12:L$31) -> 0 | M11: =G11+I11+K11 -> 0 | N11: =H11+J11+L11 -> 0 | O11: =F11-F10 -> 0 | P11: =M11-M10 -> 0 | Q11: =N11-N10 -> 0
A12: 당초 | C12: 2M-101 중간가압펌프 | D12: 입축사류펌프(VVVF), 56.0㎥/min x 11.0mH | E12: 대 | G12: 200000000 | H12: =TRUNC(G12*F12, 0) -> 0 | I12: 0 | J12: =TRUNC(I12*F12, 0) -> 0 | K12: 0 | L12: =TRUNC(K12*F12, 0) -> 0 | M12: =G12+I12+K12 -> 200000000 | N12: =H12+J12+L12 -> 0 | T12: 6
A13: 변경 | C13: 2M-101 중간가압펌프 | D13: 입축사류펌프(VVVF), 56.0㎥/min x 11.0mH | E13: 대 | G13: 200000000 | H13: =TRUNC(G13*F13, 0) -> 0 | I13: 0 | J13: =TRUNC(I13*F13, 0) -> 0 | K13: 0 | L13: =TRUNC(K13*F13, 0) -> 0 | M13: =G13+I13+K13 -> 200000000 | N13: =H13+J13+L13 -> 0 | O13: =F13-F12 -> 0 | P13: =M13-M12 -> 0 | Q13: =N13-N12 -> 0 | T13: 6
A14: 당초 | C14: 2M-102 중간가압펌프 체크밸브 | D14: 완폐식 체크밸브(대쉬포트 부착형), Φ800mm | E14: 대 | G14: 12000000 | H14: =TRUNC(G14*F14, 0) -> 0 | I14: 0 | J14: =TRUNC(I14*F14, 0) -> 0 | K14: 0 | L14: =TRUNC(K14*F14, 0) -> 0 | M14: =G14+I14+K14 -> 12000000 | N14: =H14+J14+L14 -> 0 | T14: 6
A15: 변경 | C15: 2M-102 중간가압펌프 체크밸브 | D15: 완폐식 체크밸브(대쉬포트 부착형), Φ800mm | E15: 대 | G15: 12000000 | H15: =TRUNC(G15*F15, 0) -> 0 | I15: 0 | J15: =TRUNC(I15*F15, 0) -> 0 | K15: 0 | L15: =TRUNC(K15*F15, 0) -> 0 | M15: =G15+I15+K15 -> 12000000 | N15: =H15+J15+L15 -> 0 | O15: =F15-F14 -> 0 | P15: =M15-M14 -> 0 | Q15: =N15-N14 -> 0 | T15: 6
A16: 당초 | C16: 2M-103 중간가압펌프 토출밸브 | D16: 전동 버터플라이 밸브(수평 일상식), Φ800mm(개도제어형) | E16: 대 | G16: 11700000 | H16: =TRUNC(G16*F16, 0) -> 0 | I16: 0 | J16: =TRUNC(I16*F16, 0) -> 0 | K16: 0 | L16: =TRUNC(K16*F16, 0) -> 0 | M16: =G16+I16+K16 -> 11700000 | N16: =H16+J16+L16 -> 0 | T16: 6
A17: 변경 | C17: 2M-103 중간가압펌프 토출밸브 | D17: 전동 버터플라이 밸브(수평 일상식), Φ800mm(개도제어형) | E17: 대 | G17: 11700000 | H17: =TRUNC(G17*F17, 0) -> 0 | I17: 0 | J17: =TRUNC(I17*F17, 0) -> 0 | K17: 0 | L17: =TRUNC(K17*F17, 0) -> 0 | M17: =G17+I17+K17 -> 11700000 | N17: =H17+J17+L17 -> 0 | O17: =F17-F16 -> 0 | P17: =M17-M16 -> 0 | Q17: =N17-N16 -> 0 | T17: 6
A18: 당초 | C18: 2M-104 유입수문 | D18: 전동식 비금속 슬루스게이트, W2.0mxH2.0m | E18: 대 | G18: 23582000 | H18: =TRUNC(G18*F18, 0) -> 0 | I18: 0 | J18: =TRUNC(I18*F18, 0) -> 0 | K18: 0 | L18: =TRUNC(K18*F18, 0) -> 0 | M18: =G18+I18+K18 -> 23582000 | N18: =H18+J18+L18 -> 0 | T18: 2
A19: 변경 | C19: 2M-104 유입수문 | D19: 전동식 비금속 슬루스게이트, W2.0mxH2.0m | E19: 대 | G19: 23582000 | H19: =TRUNC(G19*F19, 0) -> 0 | I19: 0 | J19: =TRUNC(I19*F19, 0) -> 0 | K19: 0 | L19: =TRUNC(K19*F19, 0) -> 0 | M19: =G19+I19+K19 -> 23582000 | N19: =H19+J19+L19 -> 0 | O19: =F19-F18 -> 0 | P19: =M19-M18 -> 0 | Q19: =N19-N18 -> 0 | T19: 2
A20: 당초 | C20: 2M-105 유지관리 수문 | D20: 전동식 비금속 슬루스게이트, W1.0mxH1.0m | E20: 대 | G20: 8200000 | H20: =TRUNC(G20*F20, 0) -> 0 | I20: 0 | J20: =TRUNC(I20*F20, 0) -> 0 | K20: 0 | L20: =TRUNC(K20*F20, 0) -> 0 | M20: =G20+I20+K20 -> 8200000 | N20: =H20+J20+L20 -> 0 | T20: 1
A21: 변경 | C21: 2M-105 유지관리 수문 | D21: 전동식 비금속 슬루스게이트, W1.0mxH1.0m | E21: 대 | G21: 8200000 | H21: =TRUNC(G21*F21, 0) -> 0 | I21: 0 | J21: =TRUNC(I21*F21, 0) -> 0 | K21: 0 | L21: =TRUNC(K21*F21, 0) -> 0 | M21: =G21+I21+K21 -> 8200000 | N21: =H21+J21+L21 -> 0 | O21: =F21-F20 -> 0 | P21: =M21-M20 -> 0 | Q21: =N21-N20 -> 0 | T21: 1
A22: 당초 | C22: 2M-107 지배수펌프 | D22: 수중오수펌프(호스 15m 포함), Φ100㎜x1.0㎥/minx12mH | E22: 대 | G22: 3900000 | H22: =TRUNC(G22*F22, 0) -> 0 | I22: 0 | J22: =TRUNC(I22*F22, 0) -> 0 | K22: 0 | L22: =TRUNC(K22*F22, 0) -> 0 | M22: =G22+I22+K22 -> 3900000 | N22: =H22+J22+L22 -> 0 | R22: 창고보관 | T22: 4
A23: 변경 | C23: 2M-107 지배수펌프 | D23: 수중오수펌프(호스 15m 포함), Φ100㎜x1.0㎥/minx12mH | E23: 대 | G23: 3900000 | H23: =TRUNC(G23*F23, 0) -> 0 | I23: 0 | J23: =TRUNC(I23*F23, 0) -> 0 | K23: 0 | L23: =TRUNC(K23*F23, 0) -> 0 | M23: =G23+I23+K23 -> 3900000 | N23: =H23+J23+L23 -> 0 | O23: =F23-F22 -> 0 | P23: =M23-M22 -> 0 | Q23: =N23-N22 -> 0 | R23: 창고보관 | T23: 4
A24: 당초 | C24: 2M-108 중간가압장 유입밸브 | D24: 전동 버터플라이 밸브(수평 일상식), Φ2,200㎜ | E24: 대 | G24: 54000000 | H24: =TRUNC(G24*F24, 0) -> 0 | I24: 0 | J24: =TRUNC(I24*F24, 0) -> 0 | K24: 0 | L24: =TRUNC(K24*F24, 0) -> 0 | M24: =G24+I24+K24 -> 54000000 | N24: =H24+J24+L24 -> 0 | T24: 1
A25: 변경 | C25: 2M-108 중간가압장 유입밸브 | D25: 전동 버터플라이 밸브(수평 일상식), Φ2,200㎜ | E25: 대 | G25: 54000000 | H25: =TRUNC(G25*F25, 0) -> 0 | I25: 0 | J25: =TRUNC(I25*F25, 0) -> 0 | K25: 0 | L25: =TRUNC(K25*F25, 0) -> 0 | M25: =G25+I25+K25 -> 54000000 | N25: =H25+J25+L25 -> 0 | O25: =F25-F24 -> 0 | P25: =M25-M24 -> 0 | Q25: =N25-N24 -> 0 | T25: 1
A26: 당초 | C26: 2M-109 제수변실 바닥배수펌프 | D26: 수중오수펌프, Φ50㎜ x 0.2㎥/min x 10mH | E26: 대 | G26: 990000 | H26: =TRUNC(G26*F26, 0) -> 0 | I26: 0 | J26: =TRUNC(I26*F26, 0) -> 0 | K26: 0 | L26: =TRUNC(K26*F26, 0) -> 0 | M26: =G26+I26+K26 -> 990000 | N26: =H26+J26+L26 -> 0 | T26: 2
A27: 변경 | C27: 2M-109 제수변실 바닥배수펌프 | D27: 수중오수펌프, Φ50㎜ x 0.2㎥/min x 10mH | E27: 대 | G27: 990000 | H27: =TRUNC(G27*F27, 0) -> 0 | I27: 0 | J27: =TRUNC(I27*F27, 0) -> 0 | K27: 0 | L27: =TRUNC(K27*F27, 0) -> 0 | M27: =G27+I27+K27 -> 990000 | N27: =H27+J27+L27 -> 0 | O27: =F27-F26 -> 0 | P27: =M27-M26 -> 0 | Q27: =N27-N26 -> 0 | T27: 2
A28: 당초 | C28: 2M-110 유량계실 바닥배수펌프 | D28: 수중오수펌프, Φ50㎜ x 0.2㎥/min x 10mH | E28: 대 | G28: 990000 | H28: =TRUNC(G28*F28, 0) -> 0 | I28: 0 | J28: =TRUNC(I28*F28, 0) -> 0 | K28: 0 | L28: =TRUNC(K28*F28, 0) -> 0 | M28: =G28+I28+K28 -> 990000 | N28: =H28+J28+L28 -> 0 | T28: 2
A29: 변경 | C29: 2M-110 유량계실 바닥배수펌프 | D29: 수중오수펌프, Φ50㎜ x 0.2㎥/min x 10mH | E29: 대 | G29: 990000 | H29: =TRUNC(G29*F29, 0) -> 0 | I29: 0 | J29: =TRUNC(I29*F29, 0) -> 0 | K29: 0 | L29: =TRUNC(K29*F29, 0) -> 0 | M29: =G29+I29+K29 -> 990000 | N29: =H29+J29+L29 -> 0 | O29: =F29-F28 -> 0 | P29: =M29-M28 -> 0 | Q29: =N29-N28 -> 0 | T29: 2
A30: 당초 | C30: 2M-111 유량조절지 가동수문 | D30: 전동식 비금속 웨어게이트, W1.5m x H1.2m | E30: 대 | G30: 13990000 | H30: =TRUNC(G30*F30, 0) -> 0 | I30: 0 | J30: =TRUNC(I30*F30, 0) -> 0 | K30: 0 | L30: =TRUNC(K30*F30, 0) -> 0 | M30: =G30+I30+K30 -> 13990000 | N30: =H30+J30+L30 -> 0 | T30: 5
A31: 변경 | C31: 2M-111 유량조절지 가동수문 | D31: 전동식 비금속 웨어게이트, W1.5m x H1.2m | E31: 대 | G31: 13990000 | H31: =TRUNC(G31*F31, 0) -> 0 | I31: 0 | J31: =TRUNC(I31*F31, 0) -> 0 | K31: 0 | L31: =TRUNC(K31*F31, 0) -> 0 | M31: =G31+I31+K31 -> 13990000 | N31: =H31+J31+L31 -> 0 | O31: =F31-F30 -> 0 | P31: =M31-M30 -> 0 | Q31: =N31-N30 -> 0 | T31: 5
A32: 당초 | C32: 2) 오존접촉지 설비 | H32: =SUMIF($A$34:$A$43,$A34,H$34:H$43) -> 0 | J32: =SUMIF($A$34:$A$43,$A34,J$34:J$43) -> 0 | L32: =SUMIF($A$34:$A$43,$A34,L$34:L$43) -> 0 | M32: =G32+I32+K32 -> 0 | N32: =H32+J32+L32 -> 0
A33: 변경 | C33: 2) 오존접촉지 설비 | H33: =SUMIF($A$34:$A$43,$A35,H$34:H$43) -> 0 | J33: =SUMIF($A$34:$A$43,$A35,J$34:J$43) -> 0 | L33: =SUMIF($A$34:$A$43,$A35,L$34:L$43) -> 0 | M33: =G33+I33+K33 -> 0 | N33: =H33+J33+L33 -> 0 | O33: =F33-F32 -> 0 | P33: =M33-M32 -> 0 | Q33: =N33-N32 -> 0
A34: 당초 | C34: 2M-202 오존접촉조 유입밸브 | D34: 전동 버터플라이 밸브(수평 일상식, SSC16), Φ1,500mm(ON/OFF형) | E34: 대 | G34: 61000000 | H34: =TRUNC(G34*F34, 0) -> 0 | I34: 0 | J34: =TRUNC(I34*F34, 0) -> 0 | K34: 0 | L34: =TRUNC(K34*F34, 0) -> 0 | M34: =G34+I34+K34 -> 61000000 | N34: =H34+J34+L34 -> 0 | T34: 2
A35: 변경 | C35: 2M-202 오존접촉조 유입밸브 | D35: 전동 버터플라이 밸브(수평 일상식, SSC16), Φ1,500mm(ON/OFF형) | E35: 대 | G35: 61000000 | H35: =TRUNC(G35*F35, 0) -> 0 | I35: 0 | J35: =TRUNC(I35*F35, 0) -> 0 | K35: 0 | L35: =TRUNC(K35*F35, 0) -> 0 | M35: =G35+I35+K35 -> 61000000 | N35: =H35+J35+L35 -> 0 | O35: =F35-F34 -> 0 | P35: =M35-M34 -> 0 | Q35: =N35-N34 -> 0 | T35: 2
A36: 당초 | C36: 2M-203 오존접촉조 유지관리용 밸브 | D36: 전동 버터플라이 밸브(수평 일상식, SSC16), Φ2,200mm(ON/OFF형) | E36: 대 | G36: 118500000 | H36: =TRUNC(G36*F36, 0) -> 0 | I36: 0 | J36: =TRUNC(I36*F36, 0) -> 0 | K36: 0 | L36: =TRUNC(K36*F36, 0) -> 0 | M36: =G36+I36+K36 -> 118500000 | N36: =H36+J36+L36 -> 0 | T36: 1
A37: 변경 | C37: 2M-203 오존접촉조 유지관리용 밸브 | D37: 전동 버터플라이 밸브(수평 일상식, SSC16), Φ2,200mm(ON/OFF형) | E37: 대 | G37: 118500000 | H37: =TRUNC(G37*F37, 0) -> 0 | I37: 0 | J37: =TRUNC(I37*F37, 0) -> 0 | K37: 0 | L37: =TRUNC(K37*F37, 0) -> 0 | M37: =G37+I37+K37 -> 118500000 | N37: =H37+J37+L37 -> 0 | O37: =F37-F36 -> 0 | P37: =M37-M36 -> 0 | Q37: =N37-N36 -> 0 | T37: 1
A38: 당초 | C38: 2M-204 오존접촉조 유출밸브 | D38: 전동 버터플라이 밸브(수평 일상식, SSC16), Φ1,500mm(ON/OFF형) | E38: 대 | G38: 61000000 | H38: =TRUNC(G38*F38, 0) -> 0 | I38: 0 | J38: =TRUNC(I38*F38, 0) -> 0 | K38: 0 | L38: =TRUNC(K38*F38, 0) -> 0 | M38: =G38+I38+K38 -> 61000000 | N38: =H38+J38+L38 -> 0 | T38: 2
A39: 변경 | C39: 2M-204 오존접촉조 유출밸브 | D39: 전동 버터플라이 밸브(수평 일상식, SSC16), Φ1,500mm(ON/OFF형) | E39: 대 | G39: 61000000 | H39: =TRUNC(G39*F39, 0) -> 0 | I39: 0 | J39: =TRUNC(I39*F39, 0) -> 0 | K39: 0 | L39: =TRUNC(K39*F39, 0) -> 0 | M39: =G39+I39+K39 -> 61000000 | N39: =H39+J39+L39 -> 0 | O39: =F39-F38 -> 0 | P39: =M39-M38 -> 0 | Q39: =N39-N38 -> 0 | T39: 2
A40: 당초 | C40: 2M-206 바닥배수펌프 | D40: 수중오수펌프, Φ50㎜ x 0.2㎥/min x 10mH | E40: 대 | G40: 990000 | H40: =TRUNC(G40*F40, 0) -> 0 | I40: 0 | J40: =TRUNC(I40*F40, 0) -> 0 | K40: 0 | L40: =TRUNC(K40*F40, 0) -> 0 | M40: =G40+I40+K40 -> 990000 | N40: =H40+J40+L40 -> 0 | T40: 2
A41: 변경 | C41: 2M-206 바닥배수펌프 | D41: 수중오수펌프, Φ50㎜ x 0.2㎥/min x 10mH | E41: 대 | G41: 990000 | H41: =TRUNC(G41*F41, 0) -> 0 | I41: 0 | J41: =TRUNC(I41*F41, 0) -> 0 | K41: 0 | L41: =TRUNC(K41*F41, 0) -> 0 | M41: =G41+I41+K41 -> 990000 | N41: =H41+J41+L41 -> 0 | O41: =F41-F40 -> 0 | P41: =M41-M40 -> 0 | Q41: =N41-N40 -> 0 | T41: 2
A42: 당초 | C42: 2M-207 지배수펌프 | D42: 수중오수펌프(호스 15m 포함, SSC16), Φ100mm x 1.0㎥/min x 15mH | E42: 대 | G42: 12000000 | H42: =TRUNC(G42*F42, 0) -> 0 | I42: 0 | J42: =TRUNC(I42*F42, 0) -> 0 | K42: 0 | L42: =TRUNC(K42*F42, 0) -> 0 | M42: =G42+I42+K42 -> 12000000 | N42: =H42+J42+L42 -> 0 | R42: 창고보관 | T42: 2
A43: 변경 | C43: 2M-207 지배수펌프 | D43: 수중오수펌프(호스 15m 포함, SSC16), Φ100mm x 1.0㎥/min x 15mH | E43: 대 | G43: 12000000 | H43: =TRUNC(G43*F43, 0) -> 0 | I43: 0 | J43: =TRUNC(I43*F43, 0) -> 0 | K43: 0 | L43: =TRUNC(K43*F43, 0) -> 0 | M43: =G43+I43+K43 -> 12000000 | N43: =H43+J43+L43 -> 0 | O43: =F43-F42 -> 0 | P43: =M43-M42 -> 0 | Q43: =N43-N42 -> 0 | R43: 창고보관 | T43: 2
A44: 당초 | C44: 3) 활성탄흡착지 설비 | H44: =SUMIF($A$46:$A$73,$A46,H$46:H$73) -> 0 | J44: =SUMIF($A$46:$A$73,$A46,J$46:J$73) -> 0 | L44: =SUMIF($A$46:$A$73,$A46,L$46:L$73) -> 0 | M44: =G44+I44+K44 -> 0 | N44: =H44+J44+L44 -> 0
A45: 변경 | C45: 3) 활성탄흡착지 설비 | H45: =SUMIF($A$46:$A$73,$A47,H$46:H$73) -> 0 | J45: =SUMIF($A$46:$A$73,$A47,J$46:J$73) -> 0 | L45: =SUMIF($A$46:$A$73,$A47,L$46:L$73) -> 0 | M45: =G45+I45+K45 -> 0 | N45: =H45+J45+L45 -> 0 | O45: =F45-F44 -> 0 | P45: =M45-M44 -> 0 | Q45: =N45-N44 -> 0
A46: 당초 | C46: 2M-301 원수 유입수문 | D46: 전동식 비금속 슬루스게이트, W0.8m x H1.0m, STS316L | E46: 대 | G46: 17000000 | H46: =TRUNC(G46*F46, 0) -> 0 | I46: 0 | J46: =TRUNC(I46*F46, 0) -> 0 | K46: 0 | L46: =TRUNC(K46*F46, 0) -> 0 | M46: =G46+I46+K46 -> 17000000 | N46: =H46+J46+L46 -> 0 | T46: 12
A47: 변경 | C47: 2M-301 원수 유입수문 | D47: 전동식 비금속 슬루스게이트, W0.8m x H1.0m, STS316L | E47: 대 | G47: 17000000 | H47: =TRUNC(G47*F47, 0) -> 0 | I47: 0 | J47: =TRUNC(I47*F47, 0) -> 0 | K47: 0 | L47: =TRUNC(K47*F47, 0) -> 0 | M47: =G47+I47+K47 -> 17000000 | N47: =H47+J47+L47 -> 0 | O47: =F47-F46 -> 0 | P47: =M47-M46 -> 0 | Q47: =N47-N46 -> 0 | T47: 12
A48: 당초 | C48: 2M-302 정수 유출밸브 | D48: 전동 버터플라이 밸브(수평 일상식), Φ800mm(개도제어형) | E48: 대 | G48: 11700000 | H48: =TRUNC(G48*F48, 0) -> 0 | I48: 0 | J48: =TRUNC(I48*F48, 0) -> 0 | K48: 0 | L48: =TRUNC(K48*F48, 0) -> 0 | M48: =G48+I48+K48 -> 11700000 | N48: =H48+J48+L48 -> 0 | T48: 12
A49: 변경 | C49: 2M-302 정수 유출밸브 | D49: 전동 버터플라이 밸브(수평 일상식), Φ800mm(개도제어형) | E49: 대 | G49: 11700000 | H49: =TRUNC(G49*F49, 0) -> 0 | I49: 0 | J49: =TRUNC(I49*F49, 0) -> 0 | K49: 0 | L49: =TRUNC(K49*F49, 0) -> 0 | M49: =G49+I49+K49 -> 11700000 | N49: =H49+J49+L49 -> 0 | O49: =F49-F48 -> 0 | P49: =M49-M48 -> 0 | Q49: =N49-N48 -> 0 | T49: 12
A50: 당초 | C50: 2M-303 역세수 유입밸브 | D50: 전동 버터플라이 밸브(수평 일상식), Φ800mm(개도제어형) | E50: 대 | G50: 11700000 | H50: =TRUNC(G50*F50, 0) -> 0 | I50: 0 | J50: =TRUNC(I50*F50, 0) -> 0 | K50: 0 | L50: =TRUNC(K50*F50, 0) -> 0 | M50: =G50+I50+K50 -> 11700000 | N50: =H50+J50+L50 -> 0 | T50: 12
A51: 변경 | C51: 2M-303 역세수 유입밸브 | D51: 전동 버터플라이 밸브(수평 일상식), Φ800mm(개도제어형) | E51: 대 | G51: 11700000 | H51: =TRUNC(G51*F51, 0) -> 0 | I51: 0 | J51: =TRUNC(I51*F51, 0) -> 0 | K51: 0 | L51: =TRUNC(K51*F51, 0) -> 0 | M51: =G51+I51+K51 -> 11700000 | N51: =H51+J51+L51 -> 0 | O51: =F51-F50 -> 0 | P51: =M51-M50 -> 0 | Q51: =N51-N50 -> 0 | T51: 12
A52: 당초 | C52: 2M-304 역세수 퇴수수문 | D52: 전동식 비금속 슬루스게이트, W0.7m x H0.8m, STS316L | E52: 대 | G52: 13000000 | H52: =TRUNC(G52*F52, 0) -> 0 | I52: 0 | J52: =TRUNC(I52*F52, 0) -> 0 | K52: 0 | L52: =TRUNC(K52*F52, 0) -> 0 | M52: =G52+I52+K52 -> 13000000 | N52: =H52+J52+L52 -> 0 | T52: 12
A53: 변경 | C53: 2M-304 역세수 퇴수수문 | D53: 전동식 비금속 슬루스게이트, W0.7m x H0.8m, STS316L | E53: 대 | G53: 13000000 | H53: =TRUNC(G53*F53, 0) -> 0 | I53: 0 | J53: =TRUNC(I53*F53, 0) -> 0 | K53: 0 | L53: =TRUNC(K53*F53, 0) -> 0 | M53: =G53+I53+K53 -> 13000000 | N53: =H53+J53+L53 -> 0 | O53: =F53-F52 -> 0 | P53: =M53-M52 -> 0 | Q53: =N53-N52 -> 0 | T53: 12
A54: 당초 | C54: 2M-305 역세공기 유입밸브 | D54: 전동 버터플라이 밸브(수평 일상식), Φ500mm(ON/OFF형) | E54: 대 | G54: 7000000 | H54: =TRUNC(G54*F54, 0) -> 0 | I54: 0 | J54: =TRUNC(I54*F54, 0) -> 0 | K54: 0 | L54: =TRUNC(K54*F54, 0) -> 0 | M54: =G54+I54+K54 -> 7000000 | N54: =H54+J54+L54 -> 0 | T54: 12
A55: 변경 | C55: 2M-305 역세공기 유입밸브 | D55: 전동 버터플라이 밸브(수평 일상식), Φ500mm(ON/OFF형) | E55: 대 | G55: 7000000 | H55: =TRUNC(G55*F55, 0) -> 0 | I55: 0 | J55: =TRUNC(I55*F55, 0) -> 0 | K55: 0 | L55: =TRUNC(K55*F55, 0) -> 0 | M55: =G55+I55+K55 -> 7000000 | N55: =H55+J55+L55 -> 0 | O55: =F55-F54 -> 0 | P55: =M55-M54 -> 0 | Q55: =N55-N54 -> 0 | T55: 12
A56: 당초 | C56: 2M-306 배수밸브 | D56: 전동 제수 밸브(수평 일상식), Φ200mm(ON/OFF형) | E56: 대 | G56: 3820000 | H56: =TRUNC(G56*F56, 0) -> 0 | I56: 0 | J56: =TRUNC(I56*F56, 0) -> 0 | K56: 0 | L56: =TRUNC(K56*F56, 0) -> 0 | M56: =G56+I56+K56 -> 3820000 | N56: =H56+J56+L56 -> 0 | T56: 12
A57: 변경 | C57: 2M-306 배수밸브 | D57: 전동 제수 밸브(수평 일상식), Φ200mm(ON/OFF형) | E57: 대 | G57: 3820000 | H57: =TRUNC(G57*F57, 0) -> 0 | I57: 0 | J57: =TRUNC(I57*F57, 0) -> 0 | K57: 0 | L57: =TRUNC(K57*F57, 0) -> 0 | M57: =G57+I57+K57 -> 3820000 | N57: =H57+J57+L57 -> 0 | O57: =F57-F56 -> 0 | P57: =M57-M56 -> 0 | Q57: =N57-N56 -> 0 | T57: 12
A58: 당초 | C58: 2M-307 역세척펌프 | D58: 양흡입 볼류트 펌프(VVVF), 44.0㎥/min x 8.0m | E58: 대 | G58: 140000000 | H58: =TRUNC(G58*F58, 0) -> 0 | I58: 0 | J58: =TRUNC(I58*F58, 0) -> 0 | K58: 0 | L58: =TRUNC(K58*F58, 0) -> 0 | M58: =G58+I58+K58 -> 140000000 | N58: =H58+J58+L58 -> 0 | T58: 3
A59: 변경 | C59: 2M-307 역세척펌프 | D59: 양흡입 볼류트 펌프(VVVF), 44.0㎥/min x 8.0m | E59: 대 | G59: 140000000 | H59: =TRUNC(G59*F59, 0) -> 0 | I59: 0 | J59: =TRUNC(I59*F59, 0) -> 0 | K59: 0 | L59: =TRUNC(K59*F59, 0) -> 0 | M59: =G59+I59+K59 -> 140000000 | N59: =H59+J59+L59 -> 0 | O59: =F59-F58 -> 0 | P59: =M59-M58 -> 0 | Q59: =N59-N58 -> 0 | T59: 3
A60: 당초 | C60: 2M-308 역세척펌프 체크밸브 | D60: 완폐식 체크밸브(대쉬포트 부착형), Φ600mm | E60: 대 | G60: 7000000 | H60: =TRUNC(G60*F60, 0) -> 0 | I60: 0 | J60: =TRUNC(I60*F60, 0) -> 0 | K60: 0 | L60: =TRUNC(K60*F60, 0) -> 0 | M60: =G60+I60+K60 -> 7000000 | N60: =H60+J60+L60 -> 0 | T60: 3
A61: 변경 | C61: 2M-308 역세척펌프 체크밸브 | D61: 완폐식 체크밸브(대쉬포트 부착형), Φ600mm | E61: 대 | G61: 7000000 | H61: =TRUNC(G61*F61, 0) -> 0 | I61: 0 | J61: =TRUNC(I61*F61, 0) -> 0 | K61: 0 | L61: =TRUNC(K61*F61, 0) -> 0 | M61: =G61+I61+K61 -> 7000000 | N61: =H61+J61+L61 -> 0 | O61: =F61-F60 -> 0 | P61: =M61-M60 -> 0 | Q61: =N61-N60 -> 0 | T61: 3
A62: 당초 | C62: 2M-309 역세척펌프 토출밸브 | D62: 전동 버터플라이 밸브(수평 일상식), Φ600mm(개도제어형) | E62: 대 | G62: 8910000 | H62: =TRUNC(G62*F62, 0) -> 0 | I62: 0 | J62: =TRUNC(I62*F62, 0) -> 0 | K62: 0 | L62: =TRUNC(K62*F62, 0) -> 0 | M62: =G62+I62+K62 -> 8910000 | N62: =H62+J62+L62 -> 0 | T62: 3
A63: 변경 | C63: 2M-309 역세척펌프 토출밸브 | D63: 전동 버터플라이 밸브(수평 일상식), Φ600mm(개도제어형) | E63: 대 | G63: 8910000 | H63: =TRUNC(G63*F63, 0) -> 0 | I63: 0 | J63: =TRUNC(I63*F63, 0) -> 0 | K63: 0 | L63: =TRUNC(K63*F63, 0) -> 0 | M63: =G63+I63+K63 -> 8910000 | N63: =H63+J63+L63 -> 0 | O63: =F63-F62 -> 0 | P63: =M63-M62 -> 0 | Q63: =N63-N62 -> 0 | T63: 3
A64: 당초 | C64: 2M-310 역세척 송풍기 | D64: 단단터보 송풍기(VVVF), 63.0㎥/min x 8,000mmAq | E64: 대 | G64: 60000000 | H64: =TRUNC(G64*F64, 0) -> 0 | I64: 0 | J64: =TRUNC(I64*F64, 0) -> 0 | K64: 0 | L64: =TRUNC(K64*F64, 0) -> 0 | M64: =G64+I64+K64 -> 60000000 | N64: =H64+J64+L64 -> 0 | T64: 3
A65: 변경 | C65: 2M-310 역세척 송풍기 | D65: 단단터보 송풍기(VVVF), 63.0㎥/min x 8,000mmAq | E65: 대 | G65: 60000000 | H65: =TRUNC(G65*F65, 0) -> 0 | I65: 0 | J65: =TRUNC(I65*F65, 0) -> 0 | K65: 0 | L65: =TRUNC(K65*F65, 0) -> 0 | M65: =G65+I65+K65 -> 60000000 | N65: =H65+J65+L65 -> 0 | O65: =F65-F64 -> 0 | P65: =M65-M64 -> 0 | Q65: =N65-N64 -> 0 | T65: 3
A66: 당초 | C66: 2M-313 바닥배수펌프 | D66: 수중오수펌프, Φ50㎜ x 0.2㎥/min x 10mH | E66: 대 | G66: 990000 | H66: =TRUNC(G66*F66, 0) -> 0 | I66: 0 | J66: =TRUNC(I66*F66, 0) -> 0 | K66: 0 | L66: =TRUNC(K66*F66, 0) -> 0 | M66: =G66+I66+K66 -> 990000 | N66: =H66+J66+L66 -> 0 | T66: 2
A67: 변경 | C67: 2M-313 바닥배수펌프 | D67: 수중오수펌프, Φ50㎜ x 0.2㎥/min x 10mH | E67: 대 | G67: 990000 | H67: =TRUNC(G67*F67, 0) -> 0 | I67: 0 | J67: =TRUNC(I67*F67, 0) -> 0 | K67: 0 | L67: =TRUNC(K67*F67, 0) -> 0 | M67: =G67+I67+K67 -> 990000 | N67: =H67+J67+L67 -> 0 | O67: =F67-F66 -> 0 | P67: =M67-M66 -> 0 | Q67: =N67-N66 -> 0 | T67: 2
A68: 당초 | C68: 2M-314 활성탄흡착지 유출밸브 | D68: 전동 버터플라이 밸브(수평 일상식), Φ2,200mm(ON/OFF형) | E68: 대 | G68: 54000000 | H68: =TRUNC(G68*F68, 0) -> 0 | I68: 0 | J68: =TRUNC(I68*F68, 0) -> 0 | K68: 0 | L68: =TRUNC(K68*F68, 0) -> 0 | M68: =G68+I68+K68 -> 54000000 | N68: =H68+J68+L68 -> 0 | T68: 1
A69: 변경 | C69: 2M-314 활성탄흡착지 유출밸브 | D69: 전동 버터플라이 밸브(수평 일상식), Φ2,200mm(ON/OFF형) | E69: 대 | G69: 54000000 | H69: =TRUNC(G69*F69, 0) -> 0 | I69: 0 | J69: =TRUNC(I69*F69, 0) -> 0 | K69: 0 | L69: =TRUNC(K69*F69, 0) -> 0 | M69: =G69+I69+K69 -> 54000000 | N69: =H69+J69+L69 -> 0 | O69: =F69-F68 -> 0 | P69: =M69-M68 -> 0 | Q69: =N69-N68 -> 0 | T69: 1
A70: 당초 | C70: 2M-315 제수변실 바닥배수펌프 | D70: 수중오수펌프, Φ50㎜ x 0.2㎥/min x 10mH | E70: 대 | G70: 990000 | H70: =TRUNC(G70*F70, 0) -> 0 | I70: 0 | J70: =TRUNC(I70*F70, 0) -> 0 | K70: 0 | L70: =TRUNC(K70*F70, 0) -> 0 | M70: =G70+I70+K70 -> 990000 | N70: =H70+J70+L70 -> 0 | T70: 2
A71: 변경 | C71: 2M-315 제수변실 바닥배수펌프 | D71: 수중오수펌프, Φ50㎜ x 0.2㎥/min x 10mH | E71: 대 | G71: 990000 | H71: =TRUNC(G71*F71, 0) -> 0 | I71: 0 | J71: =TRUNC(I71*F71, 0) -> 0 | K71: 0 | L71: =TRUNC(K71*F71, 0) -> 0 | M71: =G71+I71+K71 -> 990000 | N71: =H71+J71+L71 -> 0 | O71: =F71-F70 -> 0 | P71: =M71-M70 -> 0 | Q71: =N71-N70 -> 0 | T71: 2
A72: 당초 | C72: 2M-316 유량계실 바닥배수펌프 | D72: 수중오수펌프, Φ50㎜ x 0.2㎥/min x 10mH | E72: 대 | G72: 990000 | H72: =TRUNC(G72*F72, 0) -> 0 | I72: 0 | J72: =TRUNC(I72*F72, 0) -> 0 | K72: 0 | L72: =TRUNC(K72*F72, 0) -> 0 | M72: =G72+I72+K72 -> 990000 | N72: =H72+J72+L72 -> 0 | T72: 2
A73: 변경 | C73: 2M-316 유량계실 바닥배수펌프 | D73: 수중오수펌프, Φ50㎜ x 0.2㎥/min x 10mH | E73: 대 | G73: 990000 | H73: =TRUNC(G73*F73, 0) -> 0 | I73: 0 | J73: =TRUNC(I73*F73, 0) -> 0 | K73: 0 | L73: =TRUNC(K73*F73, 0) -> 0 | M73: =G73+I73+K73 -> 990000 | N73: =H73+J73+L73 -> 0 | O73: =F73-F72 -> 0 | P73: =M73-M72 -> 0 | Q73: =N73-N72 -> 0 | T73: 2
A74: 당초 | C74: 4) 도급자설치 관급자재 부가가치세 | H74: =H76 -> 0 | J74: =J76 -> 0 | L74: =L76 -> 0 | M74: =G74+I74+K74 -> 0 | N74: =H74+J74+L74 -> 0
A75: 변경 | C75: 4) 도급자설치 관급자재 부가가치세 | H75: =H77 -> 0 | J75: =J77 -> 0 | L75: =L77 -> 0 | M75: =G75+I75+K75 -> 0 | N75: =H75+J75+L75 -> 0 | O75: =F75-F74 -> 0 | P75: =M75-M74 -> 0 | Q75: =N75-N74 -> 0
A76: 당초 | C76: 4) 도급자설치 관급자재 부가가치세 | D76: 기자재비 x 10% | E76: 식 | G76: =SUM($H$10,$H$32,$H$44)*10% -> 0 | H76: =TRUNC(G76*F76, 0) -> 0 | I76: 0 | J76: =TRUNC(I76*F76, 0) -> 0 | K76: 0 | L76: =TRUNC(K76*F76, 0) -> 0 | M76: =G76+I76+K76 -> 0 | N76: =H76+J76+L76 -> 0 | T76: 1
A77: 변경 | C77: 4) 도급자설치 관급자재 부가가치세 | D77: 기자재비 x 10% | E77: 식 | G77: =SUM(H11,H33,H45)*10% -> 0 | H77: =TRUNC(G77*F77, 0) -> 0 | I77: 0 | J77: =TRUNC(I77*F77, 0) -> 0 | K77: 0 | L77: =TRUNC(K77*F77, 0) -> 0 | M77: =G77+I77+K77 -> 0 | N77: =H77+J77+L77 -> 0 | O77: =F77-F76 -> 0 | P77: =M77-M76 -> 0 | Q77: =N77-N76 -> 0 | T77: 1
A78: 당초 | C78: 5) 도급자설치 관급자재 조달수수료 | H78: =H80 -> 0 | J78: =J80 -> 0 | L78: =L80 -> 0 | M78: =G78+I78+K78 -> 0 | N78: =H78+J78+L78 -> 0
A79: 변경 | C79: 5) 도급자설치 관급자재 조달수수료 | H79: =H81 -> 0 | J79: =J81 -> 0 | L79: =L81 -> 0 | M79: =G79+I79+K79 -> 0 | N79: =H79+J79+L79 -> 0 | O79: =F79-F78 -> 0 | P79: =M79-M78 -> 0 | Q79: =N79-N78 -> 0
A80: 당초 | C80: 5) 도급자설치 관급자재 조달수수료 | D80: (기자재비+부가가치세) x 0.54% | E80: 식 | G80: =ROUNDDOWN((SUM($H$10,$H$32,$H$44)+G76)*0.54%,0) -> 0 | H80: =TRUNC(G80*F80, 0) -> 0 | I80: 0 | J80: =TRUNC(I80*F80, 0) -> 0 | K80: 0 | L80: =TRUNC(K80*F80, 0) -> 0 | M80: =G80+I80+K80 -> 0 | N80: =H80+J80+L80 -> 0 | T80: 1
A81: 변경 | C81: 5) 도급자설치 관급자재 조달수수료 | D81: (기자재비+부가가치세) x 0.54% | E81: 식 | G81: =ROUNDDOWN((SUM($H$10,$H$32,$H$44)+G77)*0.54%,0) -> 0 | H81: =TRUNC(G81*F81, 0) -> 0 | I81: 0 | J81: =TRUNC(I81*F81, 0) -> 0 | K81: 0 | L81: =TRUNC(K81*F81, 0) -> 0 | M81: =G81+I81+K81 -> 0 | N81: =H81+J81+L81 -> 0 | O81: =F81-F80 -> 0 | P81: =M81-M80 -> 0 | Q81: =N81-N80 -> 0 | T81: 1
A82: 당초 | C82: 0103 ◈ 관급자관급자재비 | H82: =H84+H88+H94+H102+H106 -> 0 | J82: =J84+J88+J94+J102+J106 -> 0 | L82: =L84+L88+L94+L102+L106 -> 0 | M82: =G82+I82+K82 -> 0 | N82: =H82+J82+L82 -> 0
A83: 변경 | C83: 0103 ◈ 관급자관급자재비 | H83: =H85+H89+H95+H103+H107 -> 0 | J83: =J85+J89+J95+J103+J107 -> 0 | L83: =L85+L89+L95+L103+L107 -> 0 | M83: =G83+I83+K83 -> 0 | N83: =H83+J83+L83 -> 0 | O83: =F83-F82 -> 0 | P83: =M83-M82 -> 0 | Q83: =N83-N82 -> 0
A84: 당초 | C84: 1) 중간가압장 설비 | H84: =SUMIF($A$86:$A$87,$A86,H$86:H$87) -> 0 | J84: =SUMIF($A$86:$A$87,$A86,J$86:J$87) -> 0 | L84: =SUMIF($A$86:$A$87,$A86,L$86:L$87) -> 0 | M84: =G84+I84+K84 -> 0 | N84: =H84+J84+L84 -> 0
A85: 변경 | C85: 1) 중간가압장 설비 | H85: =SUMIF($A$86:$A$87,$A87,H$86:H$87) -> 0 | J85: =SUMIF($A$86:$A$87,$A87,J$86:J$87) -> 0 | L85: =SUMIF($A$86:$A$87,$A87,L$86:L$87) -> 0 | M85: =G85+I85+K85 -> 0 | N85: =H85+J85+L85 -> 0 | O85: =F85-F84 -> 0 | P85: =M85-M84 -> 0 | Q85: =N85-N84 -> 0
A86: 당초 | C86: 2M-106 유지관리 크레인 | D86: 더블거더 오버헤드 크레인, 15Ton, 스판:10.0m, 주행거리:50m, 인양:12m | E86: 대 | G86: 143000000 | H86: =TRUNC(G86*F86, 0) -> 0 | I86: 0 | J86: =TRUNC(I86*F86, 0) -> 0 | K86: 0 | L86: =TRUNC(K86*F86, 0) -> 0 | M86: =G86+I86+K86 -> 143000000 | N86: =H86+J86+L86 -> 0 | R86: 호표 45 | T86: 1
A87: 변경 | C87: 2M-106 유지관리 크레인 | D87: 더블거더 오버헤드 크레인, 15Ton, 스판:10.0m, 주행거리:50m, 인양:12m | E87: 대 | G87: 143000000 | H87: =TRUNC(G87*F87, 0) -> 0 | I87: 0 | J87: =TRUNC(I87*F87, 0) -> 0 | K87: 0 | L87: =TRUNC(K87*F87, 0) -> 0 | M87: =G87+I87+K87 -> 143000000 | N87: =H87+J87+L87 -> 0 | O87: =F87-F86 -> 0 | P87: =M87-M86 -> 0 | Q87: =N87-N86 -> 0 | R87: 호표 45 | T87: 1
A88: 당초 | C88: 2) 오존접촉지 설비 | H88: =SUMIF($A$90:$A$93,$A90,H$90:H$93) -> 0 | J88: =SUMIF($A$90:$A$93,$A90,J$90:J$93) -> 0 | L88: =SUMIF($A$90:$A$93,$A90,L$90:L$93) -> 0 | M88: =G88+I88+K88 -> 0 | N88: =H88+J88+L88 -> 0
A89: 변경 | C89: 2) 오존접촉지 설비 | H89: =SUMIF($A$90:$A$93,$A91,H$90:H$93) -> 0 | J89: =SUMIF($A$90:$A$93,$A91,J$90:J$93) -> 0 | L89: =SUMIF($A$90:$A$93,$A91,L$90:L$93) -> 0 | M89: =G89+I89+K89 -> 0 | N89: =H89+J89+L89 -> 0 | O89: =F89-F88 -> 0 | P89: =M89-M88 -> 0 | Q89: =N89-N88 -> 0
A90: 당초 | C90: 2M-201 오존주입설비 | D90: 계획유량 : 399,000㎥/일, 최대주입율 : 오존 2.0ppm | E90: 식 | G90: 4003800000 | H90: =TRUNC(G90*F90, 0) -> 0 | I90: 0 | J90: =TRUNC(I90*F90, 0) -> 0 | K90: 0 | L90: =TRUNC(K90*F90, 0) -> 0 | M90: =G90+I90+K90 -> 4003800000 | N90: =H90+J90+L90 -> 0 | R90: 호표 76 | T90: 1
A91: 변경 | C91: 2M-201 오존주입설비 | D91: 계획유량 : 399,000㎥/일, 최대주입율 : 오존 2.0ppm | E91: 식 | G91: 4003800000 | H91: =TRUNC(G91*F91, 0) -> 0 | I91: 0 | J91: =TRUNC(I91*F91, 0) -> 0 | K91: 0 | L91: =TRUNC(K91*F91, 0) -> 0 | M91: =G91+I91+K91 -> 4003800000 | N91: =H91+J91+L91 -> 0 | O91: =F91-F90 -> 0 | P91: =M91-M90 -> 0 | Q91: =N91-N90 -> 0 | R91: 호표 76 | T91: 1
A92: 당초 | C92: 2M-205 유지관리용 호이스트 | D92: 전동 서스펜션 크레인, 10Ton, 스팬 11m, 주행 24m, 인양 12m | E92: 대 | G92: 130000000 | H92: =TRUNC(G92*F92, 0) -> 0 | I92: 0 | J92: =TRUNC(I92*F92, 0) -> 0 | K92: 0 | L92: =TRUNC(K92*F92, 0) -> 0 | M92: =G92+I92+K92 -> 130000000 | N92: =H92+J92+L92 -> 0 | R92: 호표 77 | T92: 1
A93: 변경 | C93: 2M-205 유지관리용 호이스트 | D93: 전동 서스펜션 크레인, 10Ton, 스팬 11m, 주행 24m, 인양 12m | E93: 대 | G93: 130000000 | H93: =TRUNC(G93*F93, 0) -> 0 | I93: 0 | J93: =TRUNC(I93*F93, 0) -> 0 | K93: 0 | L93: =TRUNC(K93*F93, 0) -> 0 | M93: =G93+I93+K93 -> 130000000 | N93: =H93+J93+L93 -> 0 | O93: =F93-F92 -> 0 | P93: =M93-M92 -> 0 | Q93: =N93-N92 -> 0 | R93: 호표 77 | T93: 1
A94: 당초 | C94: 3) 활성탄흡착지 설비 | H94: =SUMIF(A96:A101,A96,H96:H101) -> 0 | J94: =SUMIF(D96:D101,D96,J96:J101) -> 0 | L94: =SUMIF(F96:F101,F96,L96:L101) -> 0 | M94: =G94+I94+K94 -> 0 | N94: =H94+J94+L94 -> 0
A95: 변경 | C95: 3) 활성탄흡착지 설비 | H95: =SUMIF($A$97:$A$102,$A97,H$97:H$102) -> 0 | J95: =SUMIF($A$97:$A$102,$A97,J$97:J$102) -> 0 | L95: =SUMIF($A$97:$A$102,$A97,L$97:L$102) -> 0 | M95: =G95+I95+K95 -> 0 | N95: =H95+J95+L95 -> 0 | O95: =F95-F94 -> 0 | P95: =M95-M94 -> 0 | Q95: =N95-N94 -> 0
A96: 당초 | C96: 2M-311 펌프실 유지관리 크레인 | D96: 더블거더 천정형 크레인, 5Ton, 스판:12.0m, 주행거리:33.0m, 인양:12.0m | E96: 대 | G96: 117000000 | H96: =TRUNC(G96*F96, 0) -> 0 | I96: 0 | J96: =TRUNC(I96*F96, 0) -> 0 | K96: 0 | L96: =TRUNC(K96*F96, 0) -> 0 | M96: =G96+I96+K96 -> 117000000 | N96: =H96+J96+L96 -> 0 | R96: 호표 91 | T96: 1
A97: 변경 | C97: 2M-311 펌프실 유지관리 크레인 | D97: 더블거더 천정형 크레인, 5Ton, 스판:12.0m, 주행거리:33.0m, 인양:12.0m | E97: 대 | G97: 117000000 | H97: =TRUNC(G97*F97, 0) -> 0 | I97: 0 | J97: =TRUNC(I97*F97, 0) -> 0 | K97: 0 | L97: =TRUNC(K97*F97, 0) -> 0 | M97: =G97+I97+K97 -> 117000000 | N97: =H97+J97+L97 -> 0 | O97: =F97-F96 -> 0 | P97: =M97-M96 -> 0 | Q97: =N97-N96 -> 0 | R97: 호표 91 | T97: 1
A98: 당초 | C98: 2M-312 흡착지 유지관리 호이스트 | D98: 모노레일 호이스트, 2Ton, 주행거리:140m, 인양:12.0m(곡관 2개소) | E98: 대 | G98: 105000000 | H98: =TRUNC(G98*F98, 0) -> 0 | I98: 0 | J98: =TRUNC(I98*F98, 0) -> 0 | K98: 0 | L98: =TRUNC(K98*F98, 0) -> 0 | M98: =G98+I98+K98 -> 105000000 | N98: =H98+J98+L98 -> 0 | R98: 호표 92 | T98: 1
A99: 변경 | C99: 2M-312 흡착지 유지관리 호이스트 | D99: 모노레일 호이스트, 2Ton, 주행거리:140m, 인양:12.0m(곡관 2개소) | E99: 대 | G99: 105000000 | H99: =TRUNC(G99*F99, 0) -> 0 | I99: 0 | J99: =TRUNC(I99*F99, 0) -> 0 | K99: 0 | L99: =TRUNC(K99*F99, 0) -> 0 | M99: =G99+I99+K99 -> 105000000 | N99: =H99+J99+L99 -> 0 | O99: =F99-F98 -> 0 | P99: =M99-M98 -> 0 | Q99: =N99-N98 -> 0 | R99: 호표 92 | T99: 1
A100: 당초 | C100: 2M-317 차염주입설비 | D100: 처리수량 : 44.0㎥/min(혼합역세시), 다이아프램 펌프식(주입율 100.0㎎/ℓ), 약품 : NaOCl | E100: 식 | G100: 127000000 | H100: =TRUNC(G100*F100, 0) -> 0 | I100: 0 | J100: =TRUNC(I100*F100, 0) -> 0 | K100: 0 | L100: =TRUNC(K100*F100, 0) -> 0 | M100: =G100+I100+K100 -> 127000000 | N100: =H100+J100+L100 -> 0 | R100: 호표 93 | T100: 1
A101: 변경 | C101: 2M-317 차염주입설비 | D101: 처리수량 : 44.0㎥/min(혼합역세시), 다이아프램 펌프식(주입율 100.0㎎/ℓ), 약품 : NaOCl | E101: 식 | G101: 127000000 | H101: =TRUNC(G101*F101, 0) -> 0 | I101: 0 | J101: =TRUNC(I101*F101, 0) -> 0 | K101: 0 | L101: =TRUNC(K101*F101, 0) -> 0 | M101: =G101+I101+K101 -> 127000000 | N101: =H101+J101+L101 -> 0 | O101: =F101-F100 -> 0 | P101: =M101-M100 -> 0 | Q101: =N101-N100 -> 0 | R101: 호표 93 | T101: 1
...

Sheet 관급자재(퇴수관로)
C1: 관 급 내 역 서 (퇴수관로)
A3: 0.1 | C3: 공 사 명 : 수산정수장 고도정수처리시설 건설공사 (관급_퇴수관로)
A4: 0.2 | C4: 번호 | D4: 공 종 명 | E4: 규 격 | F4: 수량 | G4: 단위 | H4: 재 료 비 | K4: 노 무 비 | N4: 경 비 | Q4: 합 계 | S4: 증 ·감 | V4: 비 고 | W4: 수량
A5: 0.3 | H5: 설계단가 | I5: 단 가 | J5: 금 액 | K5: 설계단가 | L5: 단 가 | M5: 금 액 | N5: 설계단가 | O5: 단 가 | P5: 금 액 | Q5: 단 가 | R5: 금 액 | S5: 수량 | T5: 단가 | U5: 금액 | AC5: 할 증 | AD5: 화폐변환 | AE5: OP값 | AF5: EQ | AG5: LA | AH5: MA | AI5: 금액계상
B6: 당초 | C6: □ | D6: 관 급 자 재 대 | H6: 0 | J6: =J8 -> 0 | M6: =M8 -> 0 | P6: =P8 -> 0 | Q6: =I6+L6+O6 -> 0 | R6: =J6+M6+P6 -> 0
B7: 변경 | C7: □ | D7: 관 급 자 재 대 | H7: 0 | J7: =J9 -> 0 | M7: =M9 -> 0 | P7: =P9 -> 0 | Q7: =I7+L7+O7 -> 0 | R7: =J7+M7+P7 -> 0
B8: 당초 | C8: □ | D8: 도급자관급자재대 | H8: 0 | J8: =J10 -> 0 | M8: =M10 -> 0 | P8: =P10 -> 0 | Q8: =I8+L8+O8 -> 0 | R8: =J8+M8+P8 -> 0
B9: 변경 | C9: □ | D9: 도급자관급자재대 | H9: 0 | J9: =J11 -> 0 | M9: =M11 -> 0 | P9: =P11 -> 0 | Q9: =I9+L9+O9 -> 0 | R9: =J9+M9+P9 -> 0
A10: 785 | B10: 당초 | C10: Ⅴ. | D10: 퇴수관로 | G10: 식 | I10: =TRUNC(H10*94.3%) -> 0 | J10: =J12+J58 -> 0 | L10: =TRUNC(K10*94.3%) -> 0 | M10: =M12+M58 -> 0 | O10: =TRUNC(N10*94.3%) -> 0 | P10: =P12+P58 -> 0 | Q10: =I10+L10+O10 -> 0 | R10: =J10+M10+P10 -> 0 | W10: 1 | Y10: C100
A11: 786 | B11: 변경 | C11: Ⅴ. | D11: 퇴수관로 | G11: 식 | I11: =TRUNC(H11*94.3%) -> 0 | J11: =J13+J59 -> 0 | L11: =TRUNC(K11*94.3%) -> 0 | M11: =M13+M59 -> 0 | O11: =TRUNC(N11*94.3%) -> 0 | P11: =P13+P59 -> 0 | Q11: =I11+L11+O11 -> 0 | R11: =J11+M11+P11 -> 0 | U11: =R11-R10 -> 0 | W11: 1 | Y11: C100
A12: 787 | B12: 당초 | D12: 3.1.토목 | G12: 식 | I12: =TRUNC(H12*94.3%) -> 0 | J12: =J14+J24+J34+J44 -> 0 | L12: =TRUNC(K12*94.3%) -> 0 | M12: =M14+M24+M34+M44 -> 0 | O12: =TRUNC(N12*94.3%) -> 0 | P12: =P14+P24+P34+P44 -> 0 | Q12: =I12+L12+O12 -> 0 | R12: =J12+M12+P12 -> 0 | W12: 1 | Z12: 10
A13: 788 | B13: 변경 | D13: 3.1.토목 | G13: 식 | I13: =TRUNC(H13*94.3%) -> 0 | J13: =J15+J25+J35+J45 -> 0 | L13: =TRUNC(K13*94.3%) -> 0 | M13: =M15+M25+M35+M45 -> 0 | O13: =TRUNC(N13*94.3%) -> 0 | P13: =P15+P25+P35+P45 -> 0 | Q13: =I13+L13+O13 -> 0 | R13: =J13+M13+P13 -> 0 | U13: =R13-R12 -> 0 | W13: 1 | Z13: 10
A14: 789 | B14: 당초 | D14: 3.1.1.레미콘 | G14: 식 | I14: =TRUNC(H14*94.3%) -> 0 | J14: =J16+J18+J20 -> 0 | L14: =TRUNC(K14*94.3%) -> 0 | M14: =M16+M18+M20 -> 0 | O14: =TRUNC(N14*94.3%) -> 0 | P14: =P16+P18+P20 -> 0 | Q14: =I14+L14+O14 -> 0 | R14: =J14+M14+P14 -> 0 | W14: 1 | Z14: 20
A15: 790 | B15: 변경 | D15: 3.1.1.레미콘 | G15: 식 | I15: =TRUNC(H15*94.3%) -> 0 | J15: =J17+J19+J21 -> 0 | L15: =TRUNC(K15*94.3%) -> 0 | M15: =M17+M19+M21 -> 0 | O15: =TRUNC(N15*94.3%) -> 0 | P15: =P17+P19+P21 -> 0 | Q15: =I15+L15+O15 -> 0 | R15: =J15+M15+P15 -> 0 | U15: =R15-R14 -> 0 | W15: 1 | Z15: 20
A16: 791 | B16: 당초 | D16: 레미콘(관급) | E16: 25-30-150 | G16: m3 | H16: =[6]자재조서!$E$5 -> 227000 | I16: =H16 -> 227000 | J16: =TRUNC(I16*F16,0) -> 0 | K16: 0 | L16: =K16 -> 0 | N16: 0 | O16: =N16 -> 0 | Q16: =I16+L16+O16 -> 227000 | R16: =J16+M16+P16 -> 0 | Z16: 30 | AB16: M-A-00002
A17: 792 | B17: 변경 | D17: 레미콘(관급) | E17: 25-30-150 | G17: m3 | H17: =[6]자재조서!$E$5 -> 227000 | I17: =H17 -> 227000 | J17: =TRUNC(I17*F17,0) -> 0 | K17: 0 | L17: =K17 -> 0 | N17: 0 | O17: =N17 -> 0 | Q17: =I17+L17+O17 -> 227000 | R17: =J17+M17+P17 -> 0 | U17: =R17-R16 -> 0 | W17: 15 | Z17: 30 | AB17: M-A-00002
A18: 793 | B18: 당초 | D18: 레미콘(관급) | E18: 25-18-150 | G18: m3 | H18: =[6]자재조서!$E$4 -> 195000 | I18: =H18 -> 195000 | J18: =TRUNC(I18*F18,0) -> 0 | K18: 0 | L18: =K18 -> 0 | N18: 0 | O18: =N18 -> 0 | Q18: =I18+L18+O18 -> 195000 | R18: =J18+M18+P18 -> 0 | Z18: 40 | AB18: M-A-00001
A19: 794 | B19: 변경 | D19: 레미콘(관급) | E19: 25-18-150 | G19: m3 | H19: =[6]자재조서!$E$4 -> 195000 | I19: =H19 -> 195000 | J19: =TRUNC(I19*F19,0) -> 0 | K19: 0 | L19: =K19 -> 0 | N19: 0 | O19: =N19 -> 0 | Q19: =I19+L19+O19 -> 195000 | R19: =J19+M19+P19 -> 0 | U19: =R19-R18 -> 0 | W19: 44 | Z19: 40 | AB19: M-A-00001
A20: 795 | B20: 당초 | D20: 조달수수료 | E20: 재료비의 0.54% | G20: 식 | I20: =H20 -> 0 | J20: =(R18+R16)*0.54% -> 0 | L20: =K20 -> 0 | M20: 0 | O20: =N20 -> 0 | P20: 0 | Q20: =I20+L20+O20 -> 0 | R20: =J20+M20+P20 -> 0 | Z20: 50 | AB20: F | AH20: MA=MA(30,0,40)*0.54/100+(10000-9885)_x000D_
A21: 796 | B21: 변경 | D21: 조달수수료 | E21: 재료비의 0.54% | G21: 식 | I21: =H21 -> 0 | J21: =(R19+R17)*0.54% -> 0 | L21: =K21 -> 0 | M21: 0 | O21: =N21 -> 0 | P21: 0 | Q21: =I21+L21+O21 -> 0 | R21: =J21+M21+P21 -> 0 | U21: =R21-R20 -> 0 | W21: 1 | Z21: 50 | AB21: F | AH21: MA=MA(30,0,40)*0.54/100+(10000-9885)_x000D_
A22: 797 | B22: 당초 | I22: =H22 -> 0 | L22: =K22 -> 0 | O22: =N22 -> 0 | Q22: =I22+L22+O22 -> 0 | R22: =J22+M22+P22 -> 0 | Z22: 60 | AP22: =J24+J25+J26+J27+J28+J29+J30+J31+J34+J35+J36+J37+J38+J39+J40+J41+J42+J43+J44+J45+J46+J47+J48+J49+J50+J51+J52+J53+J54+J55 -> 0 | AQ22: =M24+M25+M26+M27+M28+M29+M30+M31+M34+M35+M36+M37+M38+M39+M40+M41+M42+M43+M44+M45+M46+M47+M48+M49+M50+M51+M52+M53+M54+M55 -> 0 | AR22: =P24+P25+P26+P27+P28+P29+P30+P31+P34+P35+P36+P37+P38+P39+P40+P41+P42+P43+P44+P45+P46+P47+P48+P49+P50+P51+P52+P53+P54+P55 -> 0
A23: 798 | B23: 변경 | I23: =H23 -> 0 | L23: =K23 -> 0 | O23: =N23 -> 0 | Q23: =I23+L23+O23 -> 0 | R23: =J23+M23+P23 -> 0 | U23: =R23-R22 -> 0 | Z23: 60 | AP23: =J56+J57+J58+J59+J60+J63+J64+J65+J66+J67+J68+J69+J70+J71+J72+J73+J74+J75+J76+J77+J78+J79+J80+J81+J82+J83+J84+J85+J86+J87 -> 0 | AQ23: =M56+M57+M58+M59+M60+M63+M64+M65+M66+M67+M68+M69+M70+M71+M72+M73+M74+M75+M76+M77+M78+M79+M80+M81+M82+M83+M84+M85+M86+M87 -> 0 | AR23: =P56+P57+P58+P59+P60+P63+P64+P65+P66+P67+P68+P69+P70+P71+P72+P73+P74+P75+P76+P77+P78+P79+P80+P81+P82+P83+P84+P85+P86+P87 -> 0
A24: 799 | B24: 당초 | D24: 3.1.2.아스콘 | G24: 식 | I24: =H24 -> 0 | J24: =J26+J28+J30 -> 0 | L24: =K24 -> 0 | M24: =M26+M28+M30 -> 0 | O24: =N24 -> 0 | P24: =P26+P28+P30 -> 0 | Q24: =I24+L24+O24 -> 0 | R24: =J24+M24+P24 -> 0 | W24: 1 | Z24: 70 | AP24: =#REF!+#REF!+#REF!+#REF!+#REF!+#REF!+#REF!+#REF!+#REF!+#REF!+#REF!+#REF!+#REF!+#REF!+#REF!+#REF!+#REF!+#REF!+#REF! -> #REF! | AQ24: =#REF!+#REF!+#REF!+#REF!+#REF!+#REF!+#REF!+#REF!+#REF!+#REF!+#REF!+#REF!+#REF!+#REF!+#REF!+#REF!+#REF!+#REF!+#REF! -> #REF! | AR24: =#REF!+#REF!+#REF!+#REF!+#REF!+#REF!+#REF!+#REF!+#REF!+#REF!+#REF!+#REF!+#REF!+#REF!+#REF!+#REF!+#REF!+#REF!+#REF! -> #REF!
A25: 800 | B25: 변경 | D25: 3.1.2.아스콘 | G25: 식 | I25: =H25 -> 0 | J25: =J27+J29+J31 -> 0 | L25: =K25 -> 0 | M25: =M27+M29+M31 -> 0 | O25: =N25 -> 0 | P25: =P27+P29+P31 -> 0 | Q25: =I25+L25+O25 -> 0 | R25: =J25+M25+P25 -> 0 | U25: =R25-R24 -> 0 | W25: 1 | Z25: 70
A26: 801 | B26: 당초 | D26: 아스콘(표층용) | E26: WC-2 (#78) | G26: Ton | H26: =[6]자재조서!$E$19 -> 95000 | I26: =H26 -> 95000 | J26: =TRUNC(I26*F26,0) -> 0 | K26: 0 | L26: =K26 -> 0 | N26: 0 | O26: =N26 -> 0 | Q26: =I26+L26+O26 -> 95000 | R26: =J26+M26+P26 -> 0 | Z26: 80 | AB26: M-A-00016
A27: 802 | B27: 변경 | D27: 아스콘(표층용) | E27: WC-2 (#78) | G27: Ton | H27: =[6]자재조서!$E$19 -> 95000 | I27: =H27 -> 95000 | J27: =TRUNC(I27*F27,0) -> 0 | K27: 0 | L27: =K27 -> 0 | N27: 0 | O27: =N27 -> 0 | Q27: =I27+L27+O27 -> 95000 | R27: =J27+M27+P27 -> 0 | U27: =R27-R26 -> 0 | W27: 80 | Z27: 80 | AB27: M-A-00016
A28: 803 | B28: 당초 | D28: 아스콘(기층용) | E28: BB-2 (#467) | G28: Ton | H28: =[6]자재조서!$E$20 -> 94890 | I28: =H28 -> 94890 | J28: =TRUNC(I28*F28,0) -> 0 | K28: 0 | L28: =K28 -> 0 | N28: 0 | O28: =N28 -> 0 | Q28: =I28+L28+O28 -> 94890 | R28: =J28+M28+P28 -> 0 | Z28: 90 | AB28: M-A-00017
A29: 804 | B29: 변경 | D29: 아스콘(기층용) | E29: BB-2 (#467) | G29: Ton | H29: =[6]자재조서!$E$20 -> 94890 | I29: =H29 -> 94890 | J29: =TRUNC(I29*F29,0) -> 0 | K29: 0 | L29: =K29 -> 0 | N29: 0 | O29: =N29 -> 0 | Q29: =I29+L29+O29 -> 94890 | R29: =J29+M29+P29 -> 0 | U29: =R29-R28 -> 0 | W29: 183 | Z29: 90 | AB29: M-A-00017
A30: 805 | B30: 당초 | D30: 조달수수료 | E30: 재료비의 0.54% | G30: 식 | I30: =H30 -> 0 | J30: =(R28+R26)*0.54% -> 0 | L30: =K30 -> 0 | M30: 0 | O30: =N30 -> 0 | P30: 0 | Q30: =I30+L30+O30 -> 0 | R30: =J30+M30+P30 -> 0 | Z30: 100 | AB30: F | AH30: MA=MA(80,0,90)*0.54/100_x000D_
A31: 806 | B31: 변경 | D31: 조달수수료 | E31: 재료비의 0.54% | G31: 식 | I31: =H31 -> 0 | J31: =(R29+R27)*0.54% -> 0 | L31: =K31 -> 0 | M31: 0 | O31: =N31 -> 0 | P31: 0 | Q31: =I31+L31+O31 -> 0 | R31: =J31+M31+P31 -> 0 | U31: =R31-R30 -> 0 | W31: 1 | Z31: 100 | AB31: F | AH31: MA=MA(80,0,90)*0.54/100_x000D_
A32: 807 | B32: 당초 | I32: =H32 -> 0 | L32: =K32 -> 0 | O32: =N32 -> 0 | Q32: =I32+L32+O32 -> 0 | R32: =J32+M32+P32 -> 0 | Z32: 110
A33: 808 | B33: 변경 | I33: =H33 -> 0 | L33: =K33 -> 0 | O33: =N33 -> 0 | Q33: =I33+L33+O33 -> 0 | R33: =J33+M33+P33 -> 0 | U33: =R33-R32 -> 0 | Z33: 110
A34: 809 | B34: 당초 | D34: 3.1.3.이형철근 | G34: 식 | I34: =H34 -> 0 | J34: =J36+J38+J40 -> 0 | L34: =K34 -> 0 | M34: =M36+M38+M40 -> 0 | O34: =N34 -> 0 | P34: =P36+P38+P40 -> 0 | Q34: =I34+L34+O34 -> 0 | R34: =J34+M34+P34 -> 0 | W34: 1 | Z34: 120
A35: 810 | B35: 변경 | D35: 3.1.3.이형철근 | G35: 식 | I35: =H35 -> 0 | J35: =J37+J39+J41 -> 0 | L35: =K35 -> 0 | M35: =M37+M39+M41 -> 0 | O35: =N35 -> 0 | P35: =P37+P39+P41 -> 0 | Q35: =I35+L35+O35 -> 0 | R35: =J35+M35+P35 -> 0 | U35: =R35-R34 -> 0 | W35: 1 | Z35: 120
A36: 811 | B36: 당초 | D36: 철근콘크리트용봉강 | E36: 이형봉강(SD350/400), HD-13, 하치장상차도 | G36: ton | H36: =[6]자재조서!$E$41 -> 856390 | I36: =H36 -> 856390 | J36: =TRUNC(I36*F36,0) -> 0 | K36: 0 | L36: =K36 -> 0 | N36: 0 | O36: =N36 -> 0 | Q36: =I36+L36+O36 -> 856390 | R36: =J36+M36+P36 -> 0 | Z36: 130 | AB36: M301016192016112B
A37: 812 | B37: 변경 | D37: 철근콘크리트용봉강 | E37: 이형봉강(SD350/400), HD-13, 하치장상차도 | G37: ton | H37: =[6]자재조서!$E$41 -> 856390 | I37: =H37 -> 856390 | J37: =TRUNC(I37*F37,0) -> 0 | K37: 0 | L37: =K37 -> 0 | N37: 0 | O37: =N37 -> 0 | Q37: =I37+L37+O37 -> 856390 | R37: =J37+M37+P37 -> 0 | U37: =R37-R36 -> 0 | W37: 0.595 | Z37: 130 | AB37: M301016192016112B
A38: 813 | B38: 당초 | D38: 철근콘크리트용봉강 | E38: 이형봉강(SD350/400), HD-16, 하치장상차도 | G38: ton | H38: =[6]자재조서!$E$42 -> 856390 | I38: =H38 -> 856390 | J38: =TRUNC(I38*F38,0) -> 0 | K38: 0 | L38: =K38 -> 0 | N38: 0 | O38: =N38 -> 0 | Q38: =I38+L38+O38 -> 856390 | R38: =J38+M38+P38 -> 0 | Z38: 140 | AB38: M301016192016112C
A39: 814 | B39: 변경 | D39: 철근콘크리트용봉강 | E39: 이형봉강(SD350/400), HD-16, 하치장상차도 | G39: ton | H39: =[6]자재조서!$E$42 -> 856390 | I39: =H39 -> 856390 | J39: =TRUNC(I39*F39,0) -> 0 | K39: 0 | L39: =K39 -> 0 | N39: 0 | O39: =N39 -> 0 | Q39: =I39+L39+O39 -> 856390 | R39: =J39+M39+P39 -> 0 | U39: =R39-R38 -> 0 | W39: 2.561 | Z39: 140 | AB39: M301016192016112C
A40: 815 | B40: 당초 | D40: 조달수수료 | E40: 재료비의 0.54% | G40: 식 | I40: =H40 -> 0 | J40: =(R38+R36)*0.54% -> 0 | L40: =K40 -> 0 | M40: 0 | O40: =N40 -> 0 | P40: 0 | Q40: =I40+L40+O40 -> 0 | R40: =J40+M40+P40 -> 0 | Z40: 150 | AB40: F | AH40: MA=MA(130,0,140)*0.54/100_x000D_
A41: 816 | B41: 변경 | D41: 조달수수료 | E41: 재료비의 0.54% | G41: 식 | I41: =H41 -> 0 | J41: =(R39+R37)*0.54% -> 0 | L41: =K41 -> 0 | M41: 0 | O41: =N41 -> 0 | P41: 0 | Q41: =I41+L41+O41 -> 0 | R41: =J41+M41+P41 -> 0 | U41: =R41-R40 -> 0 | W41: 1 | Z41: 150 | AB41: F | AH41: MA=MA(130,0,140)*0.54/100_x000D_
A42: 817 | B42: 당초 | I42: =H42 -> 0 | L42: =K42 -> 0 | O42: =N42 -> 0 | Q42: =I42+L42+O42 -> 0 | R42: =J42+M42+P42 -> 0 | Z42: 160
A43: 818 | B43: 변경 | I43: =H43 -> 0 | L43: =K43 -> 0 | O43: =N43 -> 0 | Q43: =I43+L43+O43 -> 0 | R43: =J43+M43+P43 -> 0 | U43: =R43-R42 -> 0 | Z43: 160
A44: 819 | B44: 당초 | D44: 3.1.4.DCIP주철관 | G44: 식 | I44: =H44 -> 0 | J44: =J46+J48+J50+J52+J54 -> 0 | L44: =K44 -> 0 | M44: =M46+M48+M50+M52+M54 -> 0 | O44: =N44 -> 0 | P44: =P46+P48+P50+P52+P54 -> 0 | Q44: =I44+L44+O44 -> 0 | R44: =J44+M44+P44 -> 0 | W44: 1 | Z44: 170
A45: 820 | B45: 변경 | D45: 3.1.4.DCIP주철관 | G45: 식 | I45: =H45 -> 0 | J45: =J47+J49+J51+J53+J55 -> 0 | L45: =K45 -> 0 | M45: =M47+M49+M51+M53+M55 -> 0 | O45: =N45 -> 0 | P45: =P47+P49+P51+P53+P55 -> 0 | Q45: =I45+L45+O45 -> 0 | R45: =J45+M45+P45 -> 0 | U45: =R45-R44 -> 0 | W45: 1 | Z45: 170
A46: 821 | B46: 당초 | D46: 닥타일주철관(D2KC-B) | E46: D600x6.0m | G46: 본 | H46: =[6]자재조서!$E$140 -> 1469990 | I46: =H46 -> 1469990 | J46: =TRUNC(I46*F46,0) -> 0 | K46: 0 | L46: =K46 -> 0 | N46: 0 | O46: =N46 -> 0 | Q46: =I46+L46+O46 -> 1469990 | R46: =J46+M46+P46 -> 0 | Z46: 180 | AB46: MW30065
A47: 822 | B47: 변경 | D47: 닥타일주철관(D2KC-B) | E47: D600x6.0m | G47: 본 | H47: =[6]자재조서!$E$140 -> 1469990 | I47: =H47 -> 1469990 | J47: =TRUNC(I47*F47,0) -> 0 | K47: 0 | L47: =K47 -> 0 | N47: 0 | O47: =N47 -> 0 | Q47: =I47+L47+O47 -> 1469990 | R47: =J47+M47+P47 -> 0 | U47: =R47-R46 -> 0 | W47: 41 | Z47: 180 | AB47: MW30065
A48: 823 | B48: 당초 | D48: 닥타일주철이형관 | E48: D80∼D600,에폭시분체도장 | G48: KG | H48: =[6]자재조서!$E$141 -> 3600 | I48: =H48 -> 3600 | J48: =TRUNC(I48*F48,0) -> 0 | K48: 0 | L48: =K48 -> 0 | N48: 0 | O48: =N48 -> 0 | Q48: =I48+L48+O48 -> 3600 | R48: =J48+M48+P48 -> 0 | Z48: 190 | AB48: MW30102
A49: 824 | B49: 변경 | D49: 닥타일주철이형관 | E49: D80∼D600,에폭시분체도장 | G49: KG | H49: =[6]자재조서!$E$141 -> 3600 | I49: =H49 -> 3600 | J49: =TRUNC(I49*F49,0) -> 0 | K49: 0 | L49: =K49 -> 0 | N49: 0 | O49: =N49 -> 0 | Q49: =I49+L49+O49 -> 3600 | R49: =J49+M49+P49 -> 0 | U49: =R49-R48 -> 0 | W49: 2297 | Z49: 190 | AB49: MW30102
A50: 825 | B50: 당초 | D50: KP접합부속 | E50: D600 | G50: 조 | H50: =[6]자재조서!$E$142 -> 111070 | I50: =H50 -> 111070 | J50: =TRUNC(I50*F50,0) -> 0 | K50: 0 | L50: =K50 -> 0 | N50: 0 | O50: =N50 -> 0 | Q50: =I50+L50+O50 -> 111070 | R50: =J50+M50+P50 -> 0 | Z50: 200 | AB50: MW30165
A51: 826 | B51: 변경 | D51: KP접합부속 | E51: D600 | G51: 조 | H51: =[6]자재조서!$E$142 -> 111070 | I51: =H51 -> 111070 | J51: =TRUNC(I51*F51,0) -> 0 | K51: 0 | L51: =K51 -> 0 | N51: 0 | O51: =N51 -> 0 | Q51: =I51+L51+O51 -> 111070 | R51: =J51+M51+P51 -> 0 | U51: =R51-R50 -> 0 | W51: 44 | Z51: 200 | AB51: MW30165
A52: 827 | B52: 당초 | D52: 플랜지접합부속 | E52: φ600 | G52: 조 | H52: =[6]자재!$D$133 -> 61290 | I52: =H52 -> 61290 | J52: =TRUNC(I52*F52,0) -> 0 | K52: 0 | L52: =K52 -> 0 | N52: 0 | O52: =N52 -> 0 | Q52: =I52+L52+O52 -> 61290 | R52: =J52+M52+P52 -> 0 | Z52: 210 | AB52: MS00734
A53: 828 | B53: 변경 | D53: 플랜지접합부속 | E53: φ600 | G53: 조 | H53: =[6]자재!$D$133 -> 61290 | I53: =H53 -> 61290 | J53: =TRUNC(I53*F53,0) -> 0 | K53: 0 | L53: =K53 -> 0 | N53: 0 | O53: =N53 -> 0 | Q53: =I53+L53+O53 -> 61290 | R53: =J53+M53+P53 -> 0 | U53: =R53-R52 -> 0 | W53: 1 | Z53: 210 | AB53: MS00734
A54: 829 | B54: 당초 | D54: 조달수수료 | E54: 재료비의 0.54% | G54: 식 | I54: =H54 -> 0 | J54: =(R52+R50+R48+R46)*0.54% -> 0 | L54: =K54 -> 0 | M54: 0 | O54: =N54 -> 0 | P54: 0 | Q54: =I54+L54+O54 -> 0 | R54: =J54+M54+P54 -> 0 | Z54: 220 | AB54: F | AH54: MA=MA(180,0,210)*0.54/100_x000D_
A55: 830 | B55: 변경 | D55: 조달수수료 | E55: 재료비의 0.54% | G55: 식 | I55: =H55 -> 0 | J55: =(R53+R51+R49+R47)*0.54% -> 0 | L55: =K55 -> 0 | M55: 0 | O55: =N55 -> 0 | P55: 0 | Q55: =I55+L55+O55 -> 0 | R55: =J55+M55+P55 -> 0 | U55: =R55-R54 -> 0 | W55: 1 | Z55: 220 | AB55: F | AH55: MA=MA(180,0,210)*0.54/100_x000D_
A56: 831 | B56: 당초 | I56: =H56 -> 0 | L56: =K56 -> 0 | O56: =N56 -> 0 | Q56: =I56+L56+O56 -> 0 | R56: =J56+M56+P56 -> 0 | Z56: 230
A57: 832 | B57: 변경 | I57: =H57 -> 0 | L57: =K57 -> 0 | O57: =N57 -> 0 | Q57: =I57+L57+O57 -> 0 | R57: =J57+M57+P57 -> 0 | U57: =R57-R56 -> 0 | Z57: 230
A58: 833 | B58: 당초 | D58: 3.2.기계 | G58: 식 | I58: =H58 -> 0 | J58: =J60+J76+J90 -> 0 | L58: =K58 -> 0 | M58: =M60+M76 -> 0 | O58: =N58 -> 0 | P58: =P60+P76 -> 0 | Q58: =I58+L58+O58 -> 0 | R58: =J58+M58+P58 -> 0 | W58: 1 | Z58: 240
A59: 834 | B59: 변경 | D59: 3.2.기계 | G59: 식 | I59: =H59 -> 0 | J59: =J61+J77+J91 -> 0 | L59: =K59 -> 0 | M59: =M61+M77 -> 0 | O59: =N59 -> 0 | P59: =P61+P77 -> 0 | Q59: =I59+L59+O59 -> 0 | R59: =J59+M59+P59 -> 0 | U59: =R59-R58 -> 0 | W59: 1 | Z59: 240
A60: 835 | B60: 당초 | D60: 3.2.1.밸브 | G60: 식 | I60: =H60 -> 0 | J60: =J62+J64+J66+J68+J70+J72 -> 0 | L60: =K60 -> 0 | M60: =M62+M64+M66+M68+M70+M72 -> 0 | O60: =N60 -> 0 | P60: =P62+P64+P66+P68+P70+P72 -> 0 | Q60: =I60+L60+O60 -> 0 | R60: =J60+M60+P60 -> 0 | W60: 1 | Z60: 250
A61: 836 | B61: 변경 | D61: 3.2.1.밸브 | G61: 식 | I61: =H61 -> 0 | J61: =J63+J65+J67+J69+J71+J73 -> 0 | L61: =K61 -> 0 | M61: =M63+M65+M67+M69+M71+M73 -> 0 | O61: =N61 -> 0 | P61: =P63+P65+P67+P69+P71+P73 -> 0 | Q61: =I61+L61+O61 -> 0 | R61: =J61+M61+P61 -> 0 | U61: =R61-R60 -> 0 | W61: 1 | Z61: 250
A62: 837 | B62: 당초 | D62: 2M-401역세척수펌프장유입주밸브 | E62: 전동1상식B.F밸브(900A, GCD450) | G62: 대 | H62: =[6]자재!$D$99 -> 14686000 | I62: =H62 -> 14686000 | J62: =TRUNC(I62*F62,0) -> 0 | K62: 0 | L62: =K62 -> 0 | N62: 0 | O62: =N62 -> 0 | Q62: =I62+L62+O62 -> 14686000 | R62: =J62+M62+P62 -> 0 | Z62: 260 | AB62: M7300010000002060
A63: 838 | B63: 변경 | D63: 2M-401역세척수펌프장유입주밸브 | E63: 전동1상식B.F밸브(900A, GCD450) | G63: 대 | H63: =[6]자재!$D$99 -> 14686000 | I63: =H63 -> 14686000 | J63: =TRUNC(I63*F63,0) -> 0 | K63: 0 | L63: =K63 -> 0 | N63: 0 | O63: =N63 -> 0 | Q63: =I63+L63+O63 -> 14686000 | R63: =J63+M63+P63 -> 0 | U63: =R63-R62 -> 0 | W63: 1 | Z63: 260 | AB63: M7300010000002060
A64: 839 | B64: 당초 | D64: 2M-402유입밸브 | E64: 수동 게이트 밸브(500A, GCD450) | G64: 대 | H64: =[6]자재!$D$100 -> 6117000 | I64: =H64 -> 6117000 | J64: =TRUNC(I64*F64,0) -> 0 | K64: 0 | L64: =K64 -> 0 | N64: 0 | O64: =N64 -> 0 | Q64: =I64+L64+O64 -> 6117000 | R64: =J64+M64+P64 -> 0 | Z64: 270 | AB64: M7300010000002120
A65: 840 | B65: 변경 | D65: 2M-402유입밸브 | E65: 수동 게이트 밸브(500A, GCD450) | G65: 대 | H65: =[6]자재!$D$100 -> 6117000 | I65: =H65 -> 6117000 | J65: =TRUNC(I65*F65,0) -> 0 | K65: 0 | L65: =K65 -> 0 | N65: 0 | O65: =N65 -> 0 | Q65: =I65+L65+O65 -> 6117000 | R65: =J65+M65+P65 -> 0 | U65: =R65-R64 -> 0 | W65: 6 | Z65: 270 | AB65: M7300010000002120
A66: 841 | B66: 당초 | D66: 2M-404체크밸브 | E66: 완폐식 역지변(350A, GCD450) | G66: 대 | H66: =[6]자재!$D$102 -> 4852000 | I66: =H66 -> 4852000 | J66: =TRUNC(I66*F66,0) -> 0 | K66: 0 | L66: =K66 -> 0 | N66: 0 | O66: =N66 -> 0 | Q66: =I66+L66+O66 -> 4852000 | R66: =J66+M66+P66 -> 0 | Z66: 280 | AB66: M7300010000002240
A67: 842 | B67: 변경 | D67: 2M-404체크밸브 | E67: 완폐식 역지변(350A, GCD450) | G67: 대 | H67: =[6]자재!$D$102 -> 4852000 | I67: =H67 -> 4852000 | J67: =TRUNC(I67*F67,0) -> 0 | K67: 0 | L67: =K67 -> 0 | N67: 0 | O67: =N67 -> 0 | Q67: =I67+L67+O67 -> 4852000 | R67: =J67+M67+P67 -> 0 | U67: =R67-R66 -> 0 | W67: 6 | Z67: 280 | AB67: M7300010000002240
A68: 843 | B68: 당초 | D68: 2M-405토출밸브 | E68: 수동 게이트 밸브(350A, GCD450) | G68: 대 | H68: =[6]자재!$D$103 -> 2181000 | I68: =H68 -> 2181000 | J68: =TRUNC(I68*F68,0) -> 0 | K68: 0 | L68: =K68 -> 0 | N68: 0 | O68: =N68 -> 0 | Q68: =I68+L68+O68 -> 2181000 | R68: =J68+M68+P68 -> 0 | Z68: 290 | AB68: M7300010000002360
A69: 844 | B69: 변경 | D69: 2M-405토출밸브 | E69: 수동 게이트 밸브(350A, GCD450) | G69: 대 | H69: =[6]자재!$D$103 -> 2181000 | I69: =H69 -> 2181000 | J69: =TRUNC(I69*F69,0) -> 0 | K69: 0 | L69: =K69 -> 0 | N69: 0 | O69: =N69 -> 0 | Q69: =I69+L69+O69 -> 2181000 | R69: =J69+M69+P69 -> 0 | U69: =R69-R68 -> 0 | W69: 6 | Z69: 290 | AB69: M7300010000002360
A70: 845 | B70: 당초 | D70: 2M-406역세척수펌프장토출주밸브 | E70: 전동1상식B.F밸브(600A, GCD450) | G70: 대 | H70: =[6]자재!$D$104 -> 9164000 | I70: =H70 -> 9164000 | J70: =TRUNC(I70*F70,0) -> 0 | K70: 0 | L70: =K70 -> 0 | N70: 0 | O70: =N70 -> 0 | Q70: =I70+L70+O70 -> 9164000 | R70: =J70+M70+P70 -> 0 | Z70: 300 | AB70: M7300010000002420
A71: 846 | B71: 변경 | D71: 2M-406역세척수펌프장토출주밸브 | E71: 전동1상식B.F밸브(600A, GCD450) | G71: 대 | H71: =[6]자재!$D$104 -> 9164000 | I71: =H71 -> 9164000 | J71: =TRUNC(I71*F71,0) -> 0 | K71: 0 | L71: =K71 -> 0 | N71: 0 | O71: =N71 -> 0 | Q71: =I71+L71+O71 -> 9164000 | R71: =J71+M71+P71 -> 0 | U71: =R71-R70 -> 0 | W71: 1 | Z71: 300 | AB71: M7300010000002420
A72: 847 | B72: 당초 | D72: 조달수수료(밸브) | E72: 총액기준 | G72: 식 | I72: =H72 -> 0 | J72: =(R70+R68+R66+R64+R62)*0.54% -> 0 | K72: 0 | L72: =K72 -> 0 | N72: 0 | O72: =N72 -> 0 | Q72: =I72+L72+O72 -> 0 | R72: =J72+M72+P72 -> 0 | Z72: 310 | AB72: M7320010000002090
A73: 848 | B73: 변경 | D73: 조달수수료(밸브) | E73: 총액기준 | G73: 식 | I73: =H73 -> 0 | J73: =(R71+R69+R67+R65+R63)*0.54% -> 0 | K73: 0 | L73: =K73 -> 0 | N73: 0 | O73: =N73 -> 0 | Q73: =I73+L73+O73 -> 0 | R73: =J73+M73+P73 -> 0 | U73: =R73-R72 -> 0 | W73: 1 | Z73: 310 | AB73: M7320010000002090
A74: 849 | B74: 당초 | I74: =H74 -> 0 | L74: =K74 -> 0 | O74: =N74 -> 0 | Q74: =I74+L74+O74 -> 0 | R74: =J74+M74+P74 -> 0 | Z74: 380
A75: 850 | B75: 변경 | I75: =H75 -> 0 | L75: =K75 -> 0 | O75: =N75 -> 0 | Q75: =I75+L75+O75 -> 0 | R75: =J75+M75+P75 -> 0 | U75: =R75-R74 -> 0 | Z75: 380
A76: 851 | B76: 당초 | D76: 3.2.2.육상및수중펌프 | G76: 식 | I76: =H76 -> 0 | J76: =J78+J80+J82+J84+J86 -> 0 | L76: =K76 -> 0 | M76: =M78+M80+M82+M84+M86 -> 0 | O76: =N76 -> 0 | P76: =P78+P80+P82+P84+P86 -> 0 | Q76: =I76+L76+O76 -> 0 | R76: =J76+M76+P76 -> 0 | W76: 1 | Z76: 390
A77: 852 | B77: 변경 | D77: 3.2.2.육상및수중펌프 | G77: 식 | I77: =H77 -> 0 | J77: =J79+J81+J83+J85+J87 -> 0 | L77: =K77 -> 0 | M77: =M79+M81+M83+M85+M87 -> 0 | O77: =N77 -> 0 | P77: =P79+P81+P83+P85+P87 -> 0 | Q77: =I77+L77+O77 -> 0 | R77: =J77+M77+P77 -> 0 | U77: =R77-R76 -> 0 | W77: 1 | Z77: 390
A78: 853 | B78: 당초 | D78: 2M-403역세척수펌프 | E78: 11㎥/min x 10mH, 30kW, 인라인 | G78: 대 | H78: =[6]자재!$D$101 -> 67000000 | I78: =H78 -> 67000000 | J78: =TRUNC(I78*F78,0) -> 0 | K78: 0 | L78: =K78 -> 0 | N78: 0 | O78: =N78 -> 0 | Q78: =I78+L78+O78 -> 67000000 | R78: =J78+M78+P78 -> 0 | Z78: 400 | AB78: M7300010000002180
A79: 854 | B79: 변경 | D79: 2M-403역세척수펌프 | E79: 11㎥/min x 10mH, 30kW, 인라인 | G79: 대 | H79: =[6]자재!$D$101 -> 67000000 | I79: =H79 -> 67000000 | J79: =TRUNC(I79*F79,0) -> 0 | K79: 0 | L79: =K79 -> 0 | N79: 0 | O79: =N79 -> 0 | Q79: =I79+L79+O79 -> 67000000 | R79: =J79+M79+P79 -> 0 | U79: =R79-R78 -> 0 | W79: 6 | Z79: 400 | AB79: M7300010000002180
A80: 855 | B80: 당초 | D80: 2M-407비상배수펌프 | E80: 2.0㎥/min x 10mH, 11kW, 수중 | G80: 대 | H80: =[6]자재!$D$105 -> 7500000 | I80: =H80 -> 7500000 | J80: =TRUNC(I80*F80,0) -> 0 | K80: 0 | L80: =K80 -> 0 | N80: 0 | O80: =N80 -> 0 | Q80: =I80+L80+O80 -> 7500000 | R80: =J80+M80+P80 -> 0 | Z80: 410 | AB80: M7300010000002540
A81: 856 | B81: 변경 | D81: 2M-407비상배수펌프 | E81: 2.0㎥/min x 10mH, 11kW, 수중 | G81: 대 | H81: =[6]자재!$D$105 -> 7500000 | I81: =H81 -> 7500000 | J81: =TRUNC(I81*F81,0) -> 0 | K81: 0 | L81: =K81 -> 0 | N81: 0 | O81: =N81 -> 0 | Q81: =I81+L81+O81 -> 7500000 | R81: =J81+M81+P81 -> 0 | U81: =R81-R80 -> 0 | W81: 1 | Z81: 410 | AB81: M7300010000002540
A82: 857 | B82: 당초 | D82: 2M-408바닥배수펌프 | E82: 0.15㎥/min x 10mH, 0.75kW, 수중 | G82: 대 | H82: =[6]자재!$D$106 -> 1800000 | I82: =H82 -> 1800000 | J82: =TRUNC(I82*F82,0) -> 0 | K82: 0 | L82: =K82 -> 0 | N82: 0 | O82: =N82 -> 0 | Q82: =I82+L82+O82 -> 1800000 | R82: =J82+M82+P82 -> 0 | Z82: 420 | AB82: M7300010000002600
A83: 858 | B83: 변경 | D83: 2M-408바닥배수펌프 | E83: 0.15㎥/min x 10mH, 0.75kW, 수중 | G83: 대 | H83: =[6]자재!$D$106 -> 1800000 | I83: =H83 -> 1800000 | J83: =TRUNC(I83*F83,0) -> 0 | K83: 0 | L83: =K83 -> 0 | N83: 0 | O83: =N83 -> 0 | Q83: =I83+L83+O83 -> 1800000 | R83: =J83+M83+P83 -> 0 | U83: =R83-R82 -> 0 | W83: 2 | Z83: 420 | AB83: M7300010000002600
A84: 859 | B84: 당초 | D84: 부가세(육상및수중펌프) | E84: 자재비의 10% | G84: 식 | H84: =[6]자재!$D$108 -> 41310000 | I84: =H84 -> 41310000 | J84: =TRUNC(I84*F84,0) -> 0 | K84: 0 | L84: =K84 -> 0 | N84: 0 | O84: =N84 -> 0 | Q84: =I84+L84+O84 -> 41310000 | R84: =J84+M84+P84 -> 0 | Z84: 430 | AB84: M7320010000002150
A85: 860 | B85: 변경 | D85: 부가세(육상및수중펌프) | E85: 자재비의 10% | G85: 식 | H85: =[6]자재!$D$108 -> 41310000 | I85: =H85 -> 41310000 | J85: =TRUNC(I85*F85,0) -> 0 | K85: 0 | L85: =K85 -> 0 | N85: 0 | O85: =N85 -> 0 | Q85: =I85+L85+O85 -> 41310000 | R85: =J85+M85+P85 -> 0 | U85: =R85-R84 -> 0 | W85: 1 | Z85: 430 | AB85: M7320010000002150
A86: 861 | B86: 당초 | D86: 조달수수료(육상및수중펌프) | E86: 총액기준 | G86: 식 | H86: =[6]자재!$D$109 -> 3010810 | J86: =(R78+R80+R82+R84)*0.54% -> 0 | K86: 0 | L86: =K86 -> 0 | N86: 0 | O86: =N86 -> 0 | Q86: =I86+L86+O86 -> 0 | R86: =J86+M86+P86 -> 0 | Z86: 440 | AB86: M7320010000002180
A87: 862 | B87: 변경 | D87: 조달수수료(육상및수중펌프) | E87: 총액기준 | G87: 식 | H87: =[6]자재!$D$109 -> 3010810 | J87: =(R79+R81+R83+R85)*0.54% -> 0 | K87: 0 | L87: =K87 -> 0 | N87: 0 | O87: =N87 -> 0 | Q87: =I87+L87+O87 -> 0 | R87: =J87+M87+P87 -> 0 | U87: =R87-R86 -> 0 | W87: 1 | Z87: 440 | AB87: M7320010000002180
A88: 849 | B88: 당초 | I88: =H88 -> 0 | L88: =K88 -> 0 | O88: =N88 -> 0 | Q88: =I88+L88+O88 -> 0 | R88: =J88+M88+P88 -> 0 | Z88: 380
A89: 850 | B89: 변경 | I89: =H89 -> 0 | L89: =K89 -> 0 | O89: =N89 -> 0 | Q89: =I89+L89+O89 -> 0 | R89: =J89+M89+P89 -> 0 | U89: =R89-R88 -> 0 | Z89: 380
A90: 469 | B90: 당초 | D90: 3.2.3.펌프배관실 자재 | G90: 식 | I90: =TRUNC(H90*94.3%) -> 0 | J90: =J92+J94+J96+J98+J100+J102+J104+J106+J108 -> 0 | L90: =TRUNC(K90*94.3%) -> 0 | M90: =M92+M94+M96+M98+M100+M102+M104+M106+M108 -> 0 | O90: =TRUNC(N90*94.3%) -> 0 | P90: =P92+P94+P96+P98+P100+P102+P104+P106+P108 -> 0 | Q90: =I90+L90+O90 -> 0 | R90: =J90+M90+P90 -> 0 | W90: 1 | Z90: 3300
A91: 470 | B91: 변경 | D91: 3.2.2.육상및수중펌프 | G91: 식 | I91: =TRUNC(H91*94.3%) -> 0 | J91: =J93+J95+J97+J99+J101+J103+J105+J107+J109+J111 -> 0 | L91: =TRUNC(K91*94.3%) -> 0 | M91: =M93+M95+M97+M99+M101+M103+M105+M107+M109 -> 0 | O91: =TRUNC(N91*94.3%) -> 0 | P91: =P93+P95+P97+P99+P101+P103+P105+P107+P109 -> 0 | Q91: =I91+L91+O91 -> 0 | R91: =J91+M91+P91 -> 0 | U91: =R91-R90 -> 0 | W91: 1 | Z91: 3300
A92: 473 | B92: 당초 | D92: 강관(SP,F12/7T),직관 | E92: D800, L=2.30m | G92: 개 | H92: =[6]자재!$D$145 -> 2096956 | I92: =H92 -> 2096956 | J92: =TRUNC(I92*F92,0) -> 0 | K92: 0 | L92: =TRUNC(K92*94.3%) -> 0 | N92: 0 | O92: =TRUNC(N92*94.3%) -> 0 | Q92: =I92+L92+O92 -> 2096956 | R92: =J92+M92+P92 -> 0 | Z92: 3320 | AB92: MZC001
A93: 474 | B93: 변경 | D93: 강관(SP,F12/7T),직관 | E93: D800, L=2.30m | G93: 개 | H93: =[6]자재!$D$145 -> 2096956 | I93: =H93 -> 2096956 | J93: =TRUNC(I93*F93,0) -> 0 | K93: 0 | L93: =TRUNC(K93*94.3%) -> 0 | N93: 0 | O93: =TRUNC(N93*94.3%) -> 0 | Q93: =I93+L93+O93 -> 2096956 | R93: =J93+M93+P93 -> 0 | U93: =R93-R92 -> 0 | W93: 1 | Z93: 3320 | AB93: MZC001
A94: 475 | B94: 당초 | D94: 강관(SP,F12/7T),직관 | E94: D800, L=0.80m | G94: 개 | H94: =[6]자재!$D$146 -> 729376 | I94: =H94 -> 729376 | J94: =TRUNC(I94*F94,0) -> 0 | K94: 0 | L94: =TRUNC(K94*94.3%) -> 0 | N94: 0 | O94: =TRUNC(N94*94.3%) -> 0 | Q94: =I94+L94+O94 -> 729376 | R94: =J94+M94+P94 -> 0 | Z94: 3330 | AB94: MZC002
A95: 476 | B95: 변경 | D95: 강관(SP,F12/7T),직관 | E95: D800, L=0.80m | G95: 개 | H95: =[6]자재!$D$146 -> 729376 | I95: =H95 -> 729376 | J95: =TRUNC(I95*F95,0) -> 0 | K95: 0 | L95: =TRUNC(K95*94.3%) -> 0 | N95: 0 | O95: =TRUNC(N95*94.3%) -> 0 | Q95: =I95+L95+O95 -> 729376 | R95: =J95+M95+P95 -> 0 | U95: =R95-R94 -> 0 | W95: 1 | Z95: 3330 | AB95: MZC002
A96: 477 | B96: 당초 | D96: 강관(SP,F12/7T),직관 | E96: D800, L=5.10m | G96: 개 | H96: =[6]자재!$D$147 -> 4649772 | I96: =H96 -> 4649772 | J96: =TRUNC(I96*F96,0) -> 0 | K96: 0 | L96: =TRUNC(K96*94.3%) -> 0 | N96: 0 | O96: =TRUNC(N96*94.3%) -> 0 | Q96: =I96+L96+O96 -> 4649772 | R96: =J96+M96+P96 -> 0 | Z96: 3340 | AB96: MZC003
A97: 478 | B97: 변경 | D97: 강관(SP,F12/7T),직관 | E97: D800, L=5.10m | G97: 개 | H97: =[6]자재!$D$147 -> 4649772 | I97: =H97 -> 4649772 | J97: =TRUNC(I97*F97,0) -> 0 | K97: 0 | L97: =TRUNC(K97*94.3%) -> 0 | N97: 0 | O97: =TRUNC(N97*94.3%) -> 0 | Q97: =I97+L97+O97 -> 4649772 | R97: =J97+M97+P97 -> 0 | U97: =R97-R96 -> 0 | W97: 1 | Z97: 3340 | AB97: MZC003
A98: 479 | B98: 당초 | D98: 강관(SP,F12/7T),직관 | E98: D800, L=3.40m | G98: 개 | H98: =[6]자재!$D$148 -> 3099848 | I98: =H98 -> 3099848 | J98: =TRUNC(I98*F98,0) -> 0 | K98: 0 | L98: =TRUNC(K98*94.3%) -> 0 | N98: 0 | O98: =TRUNC(N98*94.3%) -> 0 | Q98: =I98+L98+O98 -> 3099848 | R98: =J98+M98+P98 -> 0 | Z98: 3350 | AB98: MZC004
A99: 480 | B99: 변경 | D99: 강관(SP,F12/7T),직관 | E99: D800, L=3.40m | G99: 개 | H99: =[6]자재!$D$148 -> 3099848 | I99: =H99 -> 3099848 | J99: =TRUNC(I99*F99,0) -> 0 | K99: 0 | L99: =TRUNC(K99*94.3%) -> 0 | N99: 0 | O99: =TRUNC(N99*94.3%) -> 0 | Q99: =I99+L99+O99 -> 3099848 | R99: =J99+M99+P99 -> 0 | U99: =R99-R98 -> 0 | W99: 1 | Z99: 3350 | AB99: MZC004
A100: 481 | B100: 당초 | D100: 강관(SP,F12/7T),직관 | E100: D800, L=0.50m | G100: 개 | H100: =[6]자재!$D$149 -> 455860 | I100: =H100 -> 455860 | J100: =TRUNC(I100*F100,0) -> 0 | K100: 0 | L100: =TRUNC(K100*94.3%) -> 0 | N100: 0 | O100: =TRUNC(N100*94.3%) -> 0 | Q100: =I100+L100+O100 -> 455860 | R100: =J100+M100+P100 -> 0 | Z100: 3360 | AB100: MZC005
A101: 482 | B101: 변경 | D101: 강관(SP,F12/7T),직관 | E101: D800, L=0.50m | G101: 개 | H101: =[6]자재!$D$149 -> 455860 | I101: =H101 -> 455860 | J101: =TRUNC(I101*F101,0) -> 0 | K101: 0 | L101: =TRUNC(K101*94.3%) -> 0 | N101: 0 | O101: =TRUNC(N101*94.3%) -> 0 | Q101: =I101+L101+O101 -> 455860 | R101: =J101+M101+P101 -> 0 | U101: =R101-R100 -> 0 | W101: 1 | Z101: 3360 | AB101: MZC005
...

Sheet 건설계기물
B1: 건 설 폐 기 물
B3: 공 사 명 : 수산정수장 고도정수처리시설 건설공사 (건설폐기물)
B4: 번호 | C4: 공 종 명 | D4: 규 격 | E4: 단위 | F4: 수 량 | G4: 재 료 비 | I4: 노 무 비 | K4: 경 비 | M4: 합 계 | O4: 증 ·감 | R4: 비 고
G5: 단가 | H5: 금액 | I5: 단가 | J5: 금액 | K5: 단가 | L5: 금액 | M5: 단가 | N5: 금액 | O5: 수량 | P5: 단가 | Q5: 금액
A6: 당초 | C6: ◈ 폐기물처리용역 | H6: =H8+H20 -> 0 | J6: =J8+J20 -> 0 | L6: =L8+L20 -> 0 | M6: =G6+I6+K6 -> 0 | N6: =H6+J6+L6 -> 0
A7: 변경 | C7: ◈ 폐기물처리용역 | H7: =H9+H21 -> 0 | J7: =J9+J21 -> 0 | L7: =L9+L21 -> 0 | M7: =G7+I7+K7 -> 0 | N7: =H7+J7+L7 -> 0 | O7: =F7-F6 -> 0 | P7: =M7-M6 -> 0 | Q7: =N7-N6 -> 0
A8: 당초 | C8: 1.정 수 장 | H8: =H10+H12+H14 -> 0 | J8: =J10+J12+J14 -> 0 | L8: =L10+L12+L14 -> 0 | M8: =G8+I8+K8 -> 0 | N8: =H8+J8+L8 -> 0
A9: 변경 | C9: 1.정 수 장 | H9: =H11+H13+H15 -> 0 | J9: =J11+J13+J15 -> 0 | L9: =L11+L13+L15 -> 0 | M9: =G9+I9+K9 -> 0 | N9: =H9+J9+L9 -> 0 | O9: =F9-F8 -> 0 | P9: =M9-M8 -> 0 | Q9: =N9-N8 -> 0
A10: 당초 | C10: 1) 폐자재처리비 | D10: 폐콘크리트 | E10: 식 | F10: 1 | H10: =TRUNC(G10*F10, 0) -> 0 | I10: 0 | J10: =TRUNC(I10*F10, 0) -> 0 | L10: =TRUNC(K10*F10, 0) -> 0 | M10: =G10+I10+K10 -> 0 | N10: =H10+J10+L10 -> 0 | S10: 6353200000 | T10: =S10-N10 -> 6353200000
A11: 변경 | C11: 1) 폐자재처리비 | D11: 폐콘크리트 | E11: 식 | F11: 1 | H11: =TRUNC(G11*F11, 0) -> 0 | I11: 0 | J11: =TRUNC(I11*F11, 0) -> 0 | L11: =TRUNC(K11*F11, 0) -> 0 | M11: =G11+I11+K11 -> 0 | N11: =H11+J11+L11 -> 0 | O11: =F11-F10 -> 0 | P11: =M11-M10 -> 0 | Q11: =N11-N10 -> 0 | S11: 6353200000 | T11: =S11-N11 -> 6353200000
A12: 당초 | C12: 2) 폐자재처리비 | D12: 폐아스콘 | E12: 식 | F12: 1 | H12: =TRUNC(G12*F12, 0) -> 0 | I12: 0 | J12: =TRUNC(I12*F12, 0) -> 0 | L12: =TRUNC(K12*F12, 0) -> 0 | M12: =G12+I12+K12 -> 0 | N12: =H12+J12+L12 -> 0 | S12: 595300000 | T12: =S12-N12 -> 595300000
A13: 변경 | C13: 2) 폐자재처리비 | D13: 폐아스콘 | E13: 식 | F13: 1 | H13: =TRUNC(G13*F13, 0) -> 0 | I13: 0 | J13: =TRUNC(I13*F13, 0) -> 0 | L13: =TRUNC(K13*F13, 0) -> 0 | M13: =G13+I13+K13 -> 0 | N13: =H13+J13+L13 -> 0 | O13: =F13-F12 -> 0 | P13: =M13-M12 -> 0 | Q13: =N13-N12 -> 0 | S13: 595300000 | T13: =S13-N13 -> 595300000
A14: 당초 | C14: 3) 폐자재처리비 | D14: 혼합폐기물 | E14: 식 | F14: 1 | H14: =TRUNC(G14*F14, 0) -> 0 | I14: 0 | J14: =TRUNC(I14*F14, 0) -> 0 | L14: =TRUNC(K14*F14, 0) -> 0 | M14: =G14+I14+K14 -> 0 | N14: =H14+J14+L14 -> 0 | S14: 3768900000 | T14: =S14-N14 -> 3768900000
A15: 변경 | C15: 3) 폐자재처리비 | D15: 혼합폐기물 | E15: 식 | F15: 1 | H15: =TRUNC(G15*F15, 0) -> 0 | I15: 0 | J15: =TRUNC(I15*F15, 0) -> 0 | L15: =TRUNC(K15*F15, 0) -> 0 | M15: =G15+I15+K15 -> 0 | N15: =H15+J15+L15 -> 0 | O15: =F15-F14 -> 0 | P15: =M15-M14 -> 0 | Q15: =N15-N14 -> 0 | S15: 3768900000 | T15: =S15-N15 -> 3768900000
A16: 당초 | C16: 4) 폐자재운반비 | D16: L=20km까지 | E16: 식 | F16: 1 | H16: =TRUNC(G16*F16, 0) -> 0 | I16: 0 | J16: =TRUNC(I16*F16, 0) -> 0 | L16: =TRUNC(K16*F16, 0) -> 0 | M16: =G16+I16+K16 -> 0 | N16: =H16+J16+L16 -> 0 | S16: 3768900000 | T16: =S16-N16 -> 3768900000
A17: 변경 | C17: 4) 폐자재운반비 | D17: L=20km까지 | E17: 식 | F17: 1 | H17: =TRUNC(G17*F17, 0) -> 0 | I17: 0 | J17: =TRUNC(I17*F17, 0) -> 0 | L17: =TRUNC(K17*F17, 0) -> 0 | M17: =G17+I17+K17 -> 0 | N17: =H17+J17+L17 -> 0 | O17: =F17-F16 -> 0 | P17: =M17-M16 -> 0 | Q17: =N17-N16 -> 0 | S17: 3768900000 | T17: =S17-N17 -> 3768900000
A18: 당초 | C18: 5) 부가가치세 | D18: 자재비의 10% | E18: 식 | F18: 1 | H18: =TRUNC(G18*F18, 0) -> 0 | I18: 0 | J18: =TRUNC(I18*F18, 0) -> 0 | L18: =TRUNC(K18*F18, 0) -> 0 | M18: =G18+I18+K18 -> 0 | N18: =H18+J18+L18 -> 0 | S18: 3768900000 | T18: =S18-N18 -> 3768900000
