Workbook

Sheet 원가계산서
B1: 공 사 원 가 계 산 서
B2: 공사명 : 광주우산초 외벽보수공사 | F2: ="금액 : " & NUMBERSTRING(E28,1) & "원정 " & "(￦ " & TEXT(E28,"##,###,###") & ")" -> 금액 : 영원정 (￦ )
B3: 비 목 | E3: 금 액 | F3: 구 성 비 | G3: 비 고
A4: A1 | B4: 순 공 사 원 가 | C4: 재 료 비 | D4: 직 접 재 료 비
A5: A2 | D5: 간 접 재 료 비
A6: A3 | D6: 작업설, 부산물(△)
A7: AS | D7: [ 소 계 ]
A8: B1 | C8: 노 무 비 | D8: 직 접 노 무 비
A9: B2 | D9: 간 접 노 무 비 | F9: 직접노무비 * 17.5%
A10: BS | D10: [ 소 계 ]
A11: C2 | C11: 경 비 | D11: 경 비
A12: C4 | D12: 산 재 보 험 료 | F12: 노무비 * 3.56%
A13: C5 | D13: 고 용 보 험 료 | F13: 노무비 * 1.01%
A14: C8 | D14: 퇴직 공제 부금비 | F14: 직접노무비 * 2.3%
A15: CA | D15: 산업안전보건관리비 | F15: (재료비+직노+관급자재비) * 3.11%
A16: CG | D16: 기 타 경 비 | F16: (재료비+노무비) * 4.831%
D17: 석 면 분 담 금 | F17: 노무비 * 0.006%
D18: 임 금 채 권 분 담 금 | F18: 노무비 * 0.09%
A19: CS | D19: [ 소 계 ]
A20: S1 | B20: 계
A21: D1 | B21: 일 반 관 리 비 | F21: 계 * 8%
A22: D2 | B22: 이 윤 | F22: (노무비+경비+일반관리비) * 15%
A23: D4 | B23: 구조안전성검토
A24: D5 | B24: 폐기물처리비
A25: D9 | B25: 공 급 가 액
A26: DB | B26: 부 가 가 치 세 | F26: 공급가액 * 10%
A27: DH | B27: 도 급 액
A28: S2 | B28: 총 공 사 비

Sheet 공종별집계표
A1: 공 종 별 집 계 표
A2: [ 광주우산초 외벽보수공사 ]
A3: 품 명 | B3: 규 격 | C3: 단위 | D3: 수량 | E3: 재 료 비 | G3: 노 무 비 | I3: 경 비 | K3: 합 계 | M3: 비 고 | N3: 공종코드 | O3: 변수 | P3: 상위공종 | Q3: 공종구분 | R3: 공종레벨 | S3: 공종소계 | T3: 원가계산서 연결금액
E4: 단 가 | F4: 금 액 | G4: 단 가 | H4: 금 액 | I4: 단 가 | J4: 금 액 | K4: 단 가 | L4: 금 액
A5: 01 광주우산초 외벽보수공사 | D5: 1 | N5: 01 | R5: 1
A6: 0101 가 설 공 사 | D6: 1 | N6: 0101 | P6: 01 | R6: 2
A7: 0102 금 속 공 사 | D7: 1 | N7: 0102 | P7: 01 | R7: 2
A8: 0103 외 벽 공 사 | D8: 1 | N8: 0103 | P8: 01 | R8: 2
A9: 0104 철 거 공 사 | D9: 1 | N9: 0104 | P9: 01 | R9: 2
A10: 0105 폐 기 물 처 리 비 | D10: 1 | N10: 0105 | Q10: 6 | R10: 2 | T10: =L10*1 -> 0
A25: [ 합 계 ]

Sheet 공종별내역서
A1: [ 광주우산초 외벽보수공사 ]
A2: 품 명 | B2: 규 격 | C2: 단위 | D2: 수량 | E2: 재 료 비 | G2: 노 무 비 | I2: 경 비 | K2: 합 계 | M2: 비 고 | N2: 품목코드 | O2: 변수 | P2: 설정 | Q2: 공종코드 | R2: 일위 | S2: 단산 | T2: 자재 | U2: 손료적용 | V2: 손료저장 | W2: 적용율 | X2: JUK1 | Y2: JUK2 | Z2: JUK3 | AA2: JUK4 | AB2: JUK5 | AC2: JUK6 | AD2: JUK7 | AE2: JUK8 | AF2: JUK9 | AG2: JUK10 | AH2: JUK11 | AI2: JUK12 | AJ2: JUK13 | AK2: JUK14 | AL2: JUK15 | AM2: JUK16 | AN2: JUK17 | AO2: JUK18 | AP2: JUK19 | AQ2: JUK20 | AR2: 자재구분 | AS2: 공종구분 | AT2: 공종레벨 | AU2: 공종+자재 | AV2: 고유번호
E3: 단 가 | F3: 금 액 | G3: 단 가 | H3: 금 액 | I3: 단 가 | J3: 금 액 | K3: 단 가 | L3: 금 액
A4: 0101 가 설 공 사 | Q4: 0101
A5: 건축물현장정리및물품보양,기자재이동 | C5: 인 | N5: 5CAFE37B5967872E8C721063A02EC6 | Q5: 0101 | R5: T | S5: F | T5: F | AU5: 01015CAFE37B5967872E8C721063A02EC6 | AV5: 7
A6: 고소작업차 | B6: 3ton,작업높이 26m,통과높이 3m, 폭2m 적용 | C6: 일 | N6: 5BB0A3DB5BCD57582F1B1064B45800C8E990C990 | Q6: 0101 | R6: T | S6: F | T6: F | AU6: 01015BB0A3DB5BCD57582F1B1064B45800C8E990C990 | AV6: 8
A7: 청렴현수막 설치 | B7: 시안제공 | C7: EA | N7: 5CAFE37B5967872E8C721063A028BB | Q7: 0101 | R7: T | S7: F | T7: F | AU7: 01015CAFE37B5967872E8C721063A028BB | AV7: 9
Q8: 0101
Q9: 0101
Q10: 0101
Q11: 0101
Q12: 0101
Q13: 0101
Q14: 0101
Q15: 0101
Q16: 0101
Q17: 0101
Q18: 0101
Q19: 0101
... Q24: 0101
A25: [ 합 계 ] | N25: TOTAL
A26: 0102 금 속 공 사 | Q26: 0102
A27: AL후레싱 | B27: T:1.2mm | C27: M2 | N27: 5CAF53705D752716D08D10220BBBF6 | Q27: 0102 | R27: T | S27: F | T27: F | AU27: 01025CAF53705D752716D08D10220BBBF6 | AV27: 13
Q28: 0102
Q29: 0102
Q30: 0102
Q31: 0102
Q32: 0102
Q33: 0102
Q34: 0102
Q35: 0102
Q36: 0102
Q37: 0102
Q38: 0102
Q39: 0102
... Q46: 0102
A47: [ 합 계 ] | N47: TOTAL
A48: 0103 외 벽 공 사 | Q48: 0103
A49: FBD고밀도 섬유패널 설치 | B49: 8T, 하지포함 | C49: M | N49: 5CAF13D45CE1F7DA233310B488E6F2 | Q49: 0103 | R49: T | S49: F | T49: F | AU49: 01035CAF13D45CE1F7DA233310B488E6F2 | AV49: 11
A50: 스카시 글자 시공 | B50: 600*600 기준 | C50: 개소 | N50: 5BED93F6505647D9D81F1042A2D5F6419785DF | Q50: 0103 | R50: F | S50: F | T50: T | AU50: 01035BED93F6505647D9D81F1042A2D5F6419785DF | AV50: 14
...

Sheet 일위대가목록
B1: 일 위 대 가 목 록
B2: [ 광주우산초 외벽보수공사 ]
A3: 코 드 | B3: 품 명 | C3: 규 격 | D3: 단위 | E3: 재 료 비 | F3: 노 무 비 | G3: 경 비 | H3: 합 계 | I3: 번 호 | J3: 비 고 | K3: 노임계수 | L3: 할증 | M3: 품셈개요 | N3: 장비일위
A4: 5CAFE37B5967872E8C721063A02EC6 | B4: 건축물현장정리및물품보양,기자재이동 | D4: 인 | I4: 호표 1
A5: 5BB0A3DB5BCD57582F1B1064B45800C8E990C990 | B5: 고소작업차 | C5: 3ton,작업높이 26m,통과높이 3m, 폭2m 적용 | D5: 일 | I5: 호표 2 | N5: T
A6: 5CAFE37B5967872E8C721063A028BB | B6: 청렴현수막 설치 | C6: 시안제공 | D6: EA | I6: 호표 3
A7: 5CAF53705D752716D08D10220BBBF6 | B7: AL후레싱 | C7: T:1.2mm | D7: M2 | I7: 호표 4
A8: 5CAF13D45CE1F7DA233310B488E6F2 | B8: FBD고밀도 섬유패널 설치 | C8: 하지포함 | D8: M | I8: 호표 5
A9: 5CAEE392503567EA4F0D10E8D3E69E | B9: 정면시계, 경광등 등 | D9: EA | I9: 호표 6
A10: 5CAEE392503567EA4F0D10E8D3E69F | B10: 구조물 해체 후 재설치 | C10: 정면시계, 경광등 등 | D10: 식 | I10: 호표 7
A11: 5BB0A3DB5BCD57582F1B1064B45800C8E990C9E1 | B11: 고소작업차 | C11: 3ton | D11: HR | I11: 호표 8 | N11: T
A12: 5CAF536F5CDAC79680FD10F46BDA33 | B12: 잡철물 제작 및 설치 | C12: 규격철물 설치, 일반철재 | D12: kg | I12: 호표 9

Sheet 일위대가
A1: [ 광주우산초 외벽보수공사 ]
A2: 품 명 | B2: 규 격 | C2: 단위 | D2: 수량 | E2: 재 료 비 | G2: 노 무 비 | I2: 경 비 | K2: 합 계 | M2: 비 고 | N2: 일위대가 | O2: 품목코드 | P2: 일위 | Q2: 단산 | R2: 자재 | S2: 손료적용 | T2: 손료저장 | U2: 적용율 | V2: JUK1 | W2: JUK2 | X2: JUK3 | Y2: JUK4 | Z2: JUK5 | AA2: JUK6 | AB2: JUK7 | AC2: JUK8 | AD2: JUK9 | AE2: JUK10 | AF2: JUK11 | AG2: JUK12 | AH2: JUK13 | AI2: JUK14 | AJ2: JUK15 | AK2: JUK16 | AL2: JUK17 | AM2: JUK18 | AN2: JUK19 | AO2: JUK20 | AP2: 할증적용 | AQ2: 할증저장 | AR2: 할증율 | AS2: HAL1 | AT2: HAL2 | AU2: HAL3 | AV2: 자재구분 | AW2: 일위대가+자재 | AX2: 장비일위 | AY2: 설정 | AZ2: 할증체크
E3: 단 가 | F3: 금 액 | G3: 단 가 | H3: 금 액 | I3: 단 가 | J3: 금 액 | K3: 단 가 | L3: 금 액
A4: 건축물현장정리및물품보양,기자재이동 인 ( 호표 1 ) | N4: 5CAFE37B5967872E8C721063A02EC6
A5: 보통인부 | B5: 일반공사 직종 | C5: 인 | D5: 1 | E5: =단가대비표!O15 -> 0 | F5: =TRUNC(E5*D5,1) -> 0 | G5: =단가대비표!P15 -> 0 | H5: =TRUNC(G5*D5,1) -> 0 | I5: =단가대비표!V15 -> 0 | J5: =TRUNC(I5*D5,1) -> 0 | K5: =TRUNC(E5+G5+I5,1) -> 0 | L5: =TRUNC(F5+H5+J5,1) -> 0 | N5: 5CAFE37B5967872E8C721063A02EC6 | O5: 5C73B30451E1F73A7A0110B4FCCC52116740B2 | P5: F | Q5: F | R5: T | AW5: 5CAFE37B5967872E8C721063A02EC65C73B30451E1F73A7A0110B4FCCC52116740B2
A6: [ 합 계 ] | F6: =TRUNC(SUMIF(N5:N5, N4, F5:F5),0) -> 0 | H6: =TRUNC(SUMIF(N5:N5, N4, H5:H5),0) -> 0 | J6: =TRUNC(SUMIF(N5:N5, N4, J5:J5),0) -> 0 | L6: =F6+H6+J6 -> 0 | N6: TOTAL | O6: TOTAL
A8: 고소작업차 3ton,작업높이 26m,통과높이 3m, 폭2m 적용 일 ( 호표 2 ) | N8: 5BB0A3DB5BCD57582F1B1064B45800C8E990C990
A9: 고소작업차 | B9: 3ton | C9: HR | D9: 8 | E9: =일위대가목록!E11 -> 0 | F9: =TRUNC(E9*D9,1) -> 0 | G9: =일위대가목록!F11 -> 0 | H9: =TRUNC(G9*D9,1) -> 0 | I9: =일위대가목록!G11 -> 0 | J9: =TRUNC(I9*D9,1) -> 0 | K9: =TRUNC(E9+G9+I9,1) -> 0 | L9: =TRUNC(F9+H9+J9,1) -> 0 | N9: 5BB0A3DB5BCD57582F1B1064B45800C8E990C990 | O9: 5BB0A3DB5BCD57582F1B1064B45800C8E990C9E1 | P9: T | Q9: F | R9: F | AW9: 5BB0A3DB5BCD57582F1B1064B45800C8E990C9905BB0A3DB5BCD57582F1B1064B45800C8E990C9E1
A10: [ 합 계 ] | F10: =TRUNC(SUMIF(N9:N9, N8, F9:F9),0) -> 0 | H10: =TRUNC(SUMIF(N9:N9, N8, H9:H9),0) -> 0 | J10: =TRUNC(SUMIF(N9:N9, N8, J9:J9),0) -> 0 | L10: =F10+H10+J10 -> 0 | N10: TOTAL | O10: TOTAL
A12: 청렴현수막 설치 시안제공 EA ( 호표 3 ) | N12: 5CAFE37B5967872E8C721063A028BB
A13: 청렴현수막 | C13: EA | N13: 5CAFE37B5967872E8C721063A028BB | O13: 5CAFE37B5967B7E20BFB10C7E14E7F3332D20B | P13: F | Q13: F | R13: T | AW13: 5CAFE37B5967872E8C721063A028BB5CAFE37B5967B7E20BFB10C7E14E7F3332D20B
A14: [ 합 계 ] | N14: TOTAL | O14: TOTAL
A16: AL후레싱 T:1.2mm M2 ( 호표 4 ) | N16: 5CAF53705D752716D08D10220BBBF6
A17: AL강판 | B17: AL강판, 1.5mm | C17: kg | N17: 5CAF53705D752716D08D10220BBBF6 | O17: 5B8B53F75987075DBBCA100D90816E8AC2D63B | P17: F | Q17: F | R17: T | AW17: 5CAF53705D752716D08D10220BBBF65B8B53F75987075DBBCA100D90816E8AC2D63B
A18: 잡철물 제작 및 설치 | B18: 규격철물 설치, 일반철재 | C18: kg | N18: 5CAF53705D752716D08D10220BBBF6 | O18: 5CAF536F5CDAC79680FD10F46BDA33 | P18: T | Q18: F | R18: F | AW18: 5CAF53705D752716D08D10220BBBF65CAF536F5CDAC79680FD10F46BDA33
A19: 철강설 | B19: 철강설, 스텐레스, 작업설부산물 | C19: kg | M19: 수집상차도 | N19: 5CAF53705D752716D08D10220BBBF6 | O19: 5BA6234A58B7377E278B101BA33787E4EC2FA0 | P19: F | Q19: F | R19: T | AW19: 5CAF53705D752716D08D10220BBBF65BA6234A58B7377E278B101BA33787E4EC2FA0
A20: [ 합 계 ] | N20: TOTAL | O20: TOTAL
A22: FBD고밀도 섬유패널 설치 하지포함 M ( 호표 5 ) | N22: 5CAF13D45CE1F7DA233310B488E6F2
A23: FBD 고밀도 섬유패널 | B23: 600*2400*8T | C23: ㎡ | N23: 5CAF13D45CE1F7DA233310B488E6F2 | O23: 5BED93F6505647D9D81F1042A2D5F6419785DE | P23: F | Q23: F | R23: T | AW23: 5CAF13D45CE1F7DA233310B488E6F25BED93F6505647D9D81F1042A2D5F6419785DE
A24: [ 합 계 ] | N24: TOTAL | O24: TOTAL
A26: 정면시계, 경광등 등 EA ( 호표 6 ) | N26: 5CAEE392503567EA4F0D10E8D3E69E
A27: 보통인부 | B27: 일반공사 직종 | C27: 인 | N27: 5CAEE392503567EA4F0D10E8D3E69E | O27: 5C73B30451E1F73A7A0110B4FCCC52116740B2 | P27: F | Q27: F | R27: T | V27: 1 | AW27: 5CAEE392503567EA4F0D10E8D3E69E5C73B30451E1F73A7A0110B4FCCC52116740B2
A28: 잡재료 | B28: 인력품의 5% | C28: 식 | N28: 5CAEE392503567EA4F0D10E8D3E69E | O28: 5DB4139C524A2744F87C10AAF105001 | P28: F | Q28: F | R28: F | S28: 1 | T28: 0 | U28: 0.05 | AW28: 5CAEE392503567EA4F0D10E8D3E69E5DB4139C524A2744F87C10AAF105001
A29: [ 합 계 ] | N29: TOTAL | O29: TOTAL
A31: 구조물 해체 후 재설치 정면시계, 경광등 등 식 ( 호표 7 ) | N31: 5CAEE392503567EA4F0D10E8D3E69F
A32: 보통인부 | B32: 일반공사 직종 | C32: 인 | N32: 5CAEE392503567EA4F0D10E8D3E69F | O32: 5C73B30451E1F73A7A0110B4FCCC52116740B2 | P32: F | Q32: F | R32: T | V32: 1 | AW32: 5CAEE392503567EA4F0D10E8D3E69F5C73B30451E1F73A7A0110B4FCCC52116740B2
A33: 잡재료 | B33: 인력품의 5% | C33: 식 | N33: 5CAEE392503567EA4F0D10E8D3E69F | O33: 5DB4139C524A2744F87C10AAF105001 | P33: F | Q33: F | R33: F | S33: 1 | T33: 0 | U33: 0.05 | AW33: 5CAEE392503567EA4F0D10E8D3E69F5DB4139C524A2744F87C10AAF105001
A34: [ 합 계 ] | N34: TOTAL | O34: TOTAL
A36: 고소작업차 3ton HR ( 호표 8 ) | N36: 5BB0A3DB5BCD57582F1B1064B45800C8E990C9E1
A37: 고소작업차 | B37: 3ton | C37: 대 | M37: 천원 | N37: 5BB0A3DB5BCD57582F1B1064B45800C8E990C9E1 | O37: 5BB0A3DB5BCD57582F1B1064B45800C8E990C9 | P37: F | Q37: F | R37: T | AW37: 5BB0A3DB5BCD57582F1B1064B45800C8E990C9E15BB0A3DB5BCD57582F1B1064B45800C8E990C9
A38: 경유 | B38: 경유, 저유황 | C38: L | N38: 5BB0A3DB5BCD57582F1B1064B45800C8E990C9E1 | O38: 5BA66327500437D2AFAB101F8F52087EC136A0 | P38: F | Q38: F | R38: T | V38: 1 | AW38: 5BB0A3DB5BCD57582F1B1064B45800C8E990C9E15BA66327500437D2AFAB101F8F52087EC136A0
A39: 잡재료 | B39: 주재료비의 20% | C39: 식 | N39: 5BB0A3DB5BCD57582F1B1064B45800C8E990C9E1 | O39: 5DB4139C524A2744F87C10AAF105001 | P39: F | Q39: F | R39: F | S39: 0 | T39: 0 | U39: 0.2 | AW39: 5BB0A3DB5BCD57582F1B1064B45800C8E990C9E15DB4139C524A2744F87C10AAF105001
A40: 화물차운전사 | B40: 일반공사 직종 | C40: 인 | N40: 5BB0A3DB5BCD57582F1B1064B45800C8E990C9E1 | O40: 5C73B30451E1F73A7A0110B4FCCC5211674422 | P40: F | Q40: F | R40: T | AW40: 5BB0A3DB5BCD57582F1B1064B45800C8E990C9E15C73B30451E1F73A7A0110B4FCCC5211674422 | AX40: T
A41: [ 합 계 ] | N41: TOTAL | O41: TOTAL
A43: 잡철물 제작 및 설치 규격철물 설치, 일반철재 kg ( 호표 9 ) | N43: 5CAF536F5CDAC79680FD10F46BDA33
A44: 철공 | B44: 일반공사 직종 | C44: 인 | N44: 5CAF536F5CDAC79680FD10F46BDA33 | O44: 5C73B30451E1F73A7A0110B4FCCC52116740B9 | P44: F | Q44: F | R44: T | V44: 1 | W44: 2 | AW44: 5CAF536F5CDAC79680FD10F46BDA335C73B30451E1F73A7A0110B4FCCC52116740B9
A45: 용접공 | B45: 일반공사 직종 | C45: 인 | N45: 5CAF536F5CDAC79680FD10F46BDA33 | O45: 5C73B30451E1F73A7A0110B4FCCC5211674155 | P45: F | Q45: F | R45: T | V45: 1 | W45: 2 | AW45: 5CAF536F5CDAC79680FD10F46BDA335C73B30451E1F73A7A0110B4FCCC5211674155
A46: 특별인부 | B46: 일반공사 직종 | C46: 인 | N46: 5CAF536F5CDAC79680FD10F46BDA33 | O46: 5C73B30451E1F73A7A0110B4FCCC52116740B3 | P46: F | Q46: F | R46: T | V46: 1 | W46: 2 | AW46: 5CAF536F5CDAC79680FD10F46BDA335C73B30451E1F73A7A0110B4FCCC52116740B3
A47: 보통인부 | B47: 일반공사 직종 | C47: 인 | N47: 5CAF536F5CDAC79680FD10F46BDA33 | O47: 5C73B30451E1F73A7A0110B4FCCC52116740B2 | P47: F | Q47: F | R47: T | V47: 1 | W47: 2 | AW47: 5CAF536F5CDAC79680FD10F46BDA335C73B30451E1F73A7A0110B4FCCC52116740B2
A48: 공구손료 | B48: 인력품의 5% | C48: 식 | N48: 5CAF536F5CDAC79680FD10F46BDA33 | O48: 5DB4139C524A2744F87C10AAF105001 | P48: F | Q48: F | R48: F | S48: 1 | T48: 2 | U48: 0.05 | AW48: 5CAF536F5CDAC79680FD10F46BDA335DB4139C524A2744F87C10AAF105001
...

Sheet 단가대비표
A1: 단 가 대 비 표
A2: [ 광주우산초 외벽보수공사 ]
A3: 코 드 | B3: 품 명 | C3: 규격 | D3: 단위 | E3: 재 료 비 | P3: 노 무 비 | Q3: 경 비 | W3: 번 호 | X3: 비 고 | Y3: 품목구분 | Z3: 노임구분 | AA3: 소수점처리 | AB3: 자재구분
E4: 조달청가격 | F4: PAGE | G4: 거래가격 | H4: PAGE | I4: 유통물가 | J4: PAGE | K4: 물가자료 | L4: PAGE | M4: 조사가격 | N4: PAGE | O4: 적용단가 | Q4: 조달청가격 | R4: 거래가격 | S4: 유통물가 | T4: 물가자료 | U4: 조사가격 | V4: 적용단가
A5: 5BB0A3DB5BCD57582F1B1064B45800C8E990C9 | B5: 고소작업차 | C5: 3ton | D5: 대 | W5: 자재 1 | X5: 천원 | Y5: C
A6: 5BA6234A58B7377E278B101BA33787E4EC2FA0 | B6: 철강설 | C6: 철강설, 스텐레스, 작업설부산물 | D6: kg | W6: 자재 2 | X6: 수집상차도
A7: 5BA66327500437D2AFAB101F8F52087EC136A0 | B7: 경유 | C7: 경유, 저유황 | D7: L | W7: 자재 3
A8: 5B8B53F75987075DBBCA100D90816E8AC2D63B | B8: AL강판 | C8: AL강판, 1.5mm | D8: kg | W8: 자재 4
A9: 5BED93F6505647D9D81F1042A2D5F6419785DE | B9: FBD 고밀도 섬유패널 | C9: 600*2400*8T | D9: ㎡ | W9: 자재 5
A10: 5BED93F6505647D9D81F1042A2D5F6419785DF | B10: 스카시 글자 시공 | C10: 600*600 기준 | D10: 개소 | W10: 자재 6
A11: 5CAFE37B5967B7E20BFB10C7E14E7F3332D20B | B11: 청렴현수막 | D11: EA | W11: 자재 7
A12: 5CE6A3D35A6067AC705C10883905C21A6B412E | B12: 혼합건설폐기물(매립)불연성+가연성 | C12: 불연성 건설폐기물에 가연성 5% 이하 혼합(폐유리,폐타일,폐자기) | D12: TON | W12: 자재 8 | Y12: C
A13: 5CE6A3D35A6067AC705C108839043DB6DD8BF8 | B13: 혼합건설폐기물 운반비 | C13: 16톤 암롤트럭, 30km | D13: TON | W13: 자재 9 | Y13: C
A14: 5CE6A3D35A6067AC705C108839043DB6DDFF6B | B14: 건설폐기물 상차비 - 부피 기준 | C14: 매립지 반입대상, 16ton 암롤트럭 | D14: M3 | W14: 자재 10 | Y14: C
A15: 5C73B30451E1F73A7A0110B4FCCC52116740B2 | B15: 보통인부 | C15: 일반공사 직종 | D15: 인 | W15: 노임 1 | Y15: B
A16: 5C73B30451E1F73A7A0110B4FCCC52116740B3 | B16: 특별인부 | C16: 일반공사 직종 | D16: 인 | W16: 노임 2 | Y16: B
A17: 5C73B30451E1F73A7A0110B4FCCC52116740B9 | B17: 철공 | C17: 일반공사 직종 | D17: 인 | W17: 노임 3 | Y17: B
A18: 5C73B30451E1F73A7A0110B4FCCC5211674155 | B18: 용접공 | C18: 일반공사 직종 | D18: 인 | W18: 노임 4 | Y18: B
A19: 5C73B30451E1F73A7A0110B4FCCC5211674422 | B19: 화물차운전사 | C19: 일반공사 직종 | D19: 인 | W19: 노임 5 | Y19: B

Sheet  공사설정 
A1: 이 Sheet는 수정하지 마십시요
A2: 공사구분 | B2: A | C2: 타이틀
A3: 확정내역 | B3: 원내역
A4: 자재단가적용 | B4: 5
A5: 경비단가적용 | B5: 5
A6: 품목코드형식 | B6: XXXX-XXXX-XXXXXXXXX
A7: 내역금액소수점처리 | B7: C | C7: T
A8: 일위대가내역소수점처리 | B8: C | C8: 2
A9: 단가명 | B9: 조달청가격 | C9: 거래가격 | D9: 유통물가 | E9: 물가자료 | F9: 조사가격 | G9: TTTTT
A10: 환율 | B10: 1289 | C10: 0 | D10: 0
A11: 시간당작업량 | B11: R | C11: 4
A12: 1회 사이클시간 | B12: R | C12: 4
A13: 시간당 작업사이클 | B13: R | C13: 3
A14: 일반변수 | B14: R | C14: 5
A15: 시간당 노임산출 계수 | B15: A | C15: 1/8*16/12*25/20 | D15: 1/8*16/12*25/20 | E15: 1/8*16/12*25/20 | F15: 1
A16: 재료비 할증 계수 | B16: 1.11 | C16: 1.12
A17: 노무비 할증 계수 | B17: 1 | C17: 1.5 | D17: 1.16 | E17: 1.6 | F17: 1.6 | G17: 1.6 | H17: 1.94 | I17: 1.94 | J17: 1.94 | K17: 1 | L17: 1 | M17: 1
A18: 경비 할증 계수 | B18: 1.25 | C18: 1.071
A19: 내역,일위대가 품명,규격,단위 따로적용
A20: 내역단가 소수점처리 | B20: C | C20: 1
A21: 코드 | B21: 공종구분명 | C21: 원가비목코드
A22: 1 | B22: 작 업 부 산 물 | C22: A3
A23: 2 | B23: 운 반 비 | C23: C1
A24: 3 | B24: 관 급 자 재 비 | C24: DJ
A25: 4 | B25: 사 급 자 재 비 | C25: D3
A26: 5 | B26: 외 자 재
A27: 6 | B27: 폐기물처리비 | C27: D5
A28: 7 | B28: ...
A29: 8 | B29: ...
A30: 9 | B30: ...
A31: A | B31: ....
A32: B | B32: .....
A33: C | B33: ....
A34: D | B34: ....
A35: E | B35: ....
A36: F | B36: ....
A37: G | B37: ....
A38: H | B38: ....
A39: I | B39: ....
A40: J | B40: ....
...
