Workbook
Name __std1: #REF!
Name __std2: #REF!
Name _2: #N/A
Name _3: #N/A
Name _3_1._총투자사업비: #REF!
Name _3_5: #REF!
Name _4_3._에너지절약을_위한_개선안: #REF!
Name _E7_E9_E11_E13_: #N/A
Name _std1: #REF!
Name _std2: #REF!
Name _W: #N/A
Name \0: #N/A
Name \1: #REF!
Name \a: #N/A
Name \aa: #REF!
Name \b: #N/A
Name \c: #N/A
Name \d: #N/A
Name \e: #N/A
Name \f: #N/A
Name \g: #N/A
Name \h: #REF!
Name \i: #N/A
Name \l: #REF!
Name \n: #REF!
Name \p: '[5]일위_파일'!#REF!
Name \q: #N/A
Name \r: #REF!
Name \s: #N/A
Name \u: #REF!
Name \w: #N/A
Name \x: #N/A
Name \z: #N/A
Name A: #REF!
Name A8.36: #REF!
Name aaa.: #REF!
Name All실내기: #REF!
Name All실외기: #REF!
Name all실외기1: #REF!
Name ATED: #REF!
Name B: #REF!
Name B2B: #REF!
Name B2B1: #REF!
Name B2B2: #REF!
Name BBDT: #REF!
Name C_: #N/A
Name CA: #REF!
Name CC: #REF!
Name cccc: cccc
Name CELLNOTE4: '[8]노무비'!#REF!
Name CELLNOTE5: '[9]노무비'!#REF!
Name CELLNOTE6: '[8]노무비'!#REF!
Name CNY: #REF!
Name code: #REF!
Name code1: #REF!
Name COM: #N/A
Name comp: '[http://lgekrhqms01.lge.com/windows/TEMP/c2_bom_000531.xls]Summary'!$B$3:$E$48
Name CR: #REF!
Name CRa: #REF!
Name CRb: #REF!

Sheet 원가계산서
B1: 원 가 계 산 서
A2: 건명: | B2: =공종별집계표!A2 -> 태전초 급식실 현대화 냉난방기 구매 및 설치
A3: 구분 | B3: 비 목 | E3: 금액 | F3: 요율 | G3: 구 성 비 | H3: 비 고
A4: 원 가 계 산 서 | B4: 재 료 비 | D4: 직 접 재 료 비
D5: 간 접 재 료 비
D6: [ 소 계 ]
B7: 노 무 비 | D7: 직 접 노 무 비
D8: [ 소 계 ]
B9: 경 비 | D9: 기계경비 | K9: * 냉난방기 제조분야 : 안전관리비(도급자 설치 물품 포함) 적용 ⓐ ⓑ 중에 작은 금액 적용
D10: 산 재 보 험 료 | F10: 0.0356 | G10: 노무비x3.56% | H10: 모든 건설공사에 적용 | K10: ※. 산업안전보건관리비 대상금액 (도급금액+도급자관급금액) - 2천만원이상
D11: 고 용 보 험 료 | F11: 0.0101 | G11: 노무비x1.01% | H11: 모든 건설공사에 적용
D12: 건 강 보 험 료 | F12: 0.03595 | G12: 직접노무비x3.595% | H12: 30일 이상 모든 건설공사 | K12: 산업안전보건관리비 계상 | M12: =L15 -> 5억미만 | N12: =E25 -> 0 | O12: =IF(N12<20000000,"미적용","적용") -> 미적용
D13: 연 금 보 험 료 | F13: 0.0475 | G13: 직접노무비x4.75% | H13: 30일 이상 모든 건설공사 | K13: [산업안전보건관리비 공사규모] ⇒ [재료비+직접노무비+도급자관급/1.1, 포함] | O13: =IF(M15<500000000,0,4325000) -> 0
D14: 노인장기 요양보험료 | F14: 0.1314 | G14: 건강보험료x13.14% | H14: 30일 이상 모든 건설공사 | K14: 구 분 | M14: 대상금액 | N14: 율 | O14: 산출값 | P14: 적용값 | Q14: 비고
D15: 산업안전보건관리비 | F15: =N15 -> 0.0311 | G15: ⓑ [(재+직노)*율]*1.2 | H15: ⓐ,ⓑ 작은 금액 적용 | I15: =O12 -> 미적용 | J15: =P15 -> 0 | K15: ⓐ [재+직노+도급/1.1]*율+기초액 | L15: =IF(M15<500000000,"5억미만","5억~50억미만") -> 5억미만 | M15: =E6+E7+E22 -> 0 | N15: =IF(M15<500000000,3.11%,2.28%) -> 0.0311 | O15: =M15*N15+O13 -> 0 | P15: =IF(M15<20000000,"0",O15) -> 0 | Q15: =IF($M$15<$M$16,"적용",) -> 0 | R15: =TRUNC((E6+E8+E9+E10+E11+E12+E13+E14)*1.1) -> 0 | S15: =$R15 -> 0
D16: 퇴직공제부금비 | F16: 0.023 | G16: 직접노무비x2.3% | H16: 추정금액 1억이상 | I16: =M19 -> 추적금액 1억이상 | J16: =$P22 -> 0 | K16: ⓑ [(재+직노)*율+기초액]*1.2 | L16: =IF(M16<500000000,"5억미만","5억~50억미만") -> 5억미만 | M16: =E6+E7 -> 0 | N16: =IF(M16<500000000,3.11%,2.28%) -> 0.0311 | O16: =TRUNC((M16*N16+O13)*1.2,) -> 0 | P16: =O16 -> 0 | Q16: =IF(AND($O$15>$O$16,$M$16>=500000000),"적용",) -> 0
D17: 환경보전비 | F17: 0.003 | G17: 직접공사비x0.3% | H17: 전문공사(직접공사비*율) | K17: ⓑ [(재+직노)*율]*1.2 | L17: =IF(M17<500000000,"5억미만","5억~50억미만") -> 5억미만 | M17: =E6+E7 -> 0 | N17: =IF(M17<500000000,3.11%,0%) -> 0.0311 | O17: =TRUNC((M17*N17)*1.2) -> 0 | P17: =O17 -> 0 | Q17: =IF(AND($O$16>=$O$17,$M$17<500000000),"적용",) -> 적용
D18: 석면분담금 | F18: 6e-05 | G18: 노무비x0.006% | H18: 모든 건설공사에 적용 | K18: 퇴직공제부금비
D19: 임금채권부담금 | F19: 0.0009 | G19: 노무비x0.09% | H19: 모든 건설공사에 적용 | K19: 설치공사(부가세포함) | L19: =(E4+E7+E9+E10+E11+E12+E13+E14+E15+E17+E18+E19+E22)*1.1 -> 0 | M19: 추적금액 1억이상
D20: [ 소 계 ] | K20: [공사 대상 : 추정금액 1억원 이상] ⇒ [직노*1.2] | M20: =IF(L18<100000000,"미적용","적용") -> 미적용
B21: 계(설치분야) | K21: 구 분 | M21: 직접노무비 | N21: 율 | O21: 산출값 | P21: 적용값 | Q21: 비고
B22: 제조물품 | K22: ⓐ [직노]*율 | L22: 1억이상 | M22: =E7 -> 0 | N22: 0.023 | O22: =M22*N22 -> 0 | P22: =IF(L19<100000000,"0",O22) -> 0
B23: 공 급 가 액(설치분야+제조물품)
B24: 부 가 가 치 세 | F24: 0.1 | G24: 공급가액x10%
B25: 합 계 | E25: =ROUNDDOWN((E24+E23),-3) -> 0

Sheet 공종별집계표
A1: 공 종 별 집 계 표
A2: 태전초 급식실 현대화 냉난방기 구매 및 설치
A3: 품 명 | B3: 규 격 | C3: 단위 | D3: 수량 | E3: 재 료 비 | G3: 노 무 비 | I3: 경 비 | K3: 합 계 | M3: 비 고 | N3: 공종코드 | O3: 변수 | P3: 상위공종 | Q3: 공종구분 | R3: 공종레벨 | S3: 공종소계 | T3: 원가계산서 연결금액
E4: 단 가 | F4: 금 액 | G4: 단 가 | H4: 금 액 | I4: 단 가 | J4: 금 액 | K4: 단 가 | L4: 금 액
A5: 태전초급식실 교육환경개선 관급자재(냉난방기) 구매 설치 | D5: 1 | E5: =F6+F7 -> 0 | F5: =E5*D5 -> 0 | G5: =H6+H7 -> 0 | H5: =G5*D5 -> 0 | I5: =J6+J7 -> 0 | J5: =I5*D5 -> 0 | K5: =E5+G5+I5 -> 0 | L5: =F5+H5+J5 -> 0 | N5: 01 | R5: 1
A6: 히트펌프 냉난방기(물품) | B6: 제조사 | D6: 1 | E6: =공종별내역서!F20 -> 0 | F6: =E6*D6 -> 0 | G6: =공종별내역서!H20 -> 0 | H6: =G6*D6 -> 0 | I6: =공종별내역서!J20 -> 0 | J6: =I6*D6 -> 0 | K6: =E6+G6+I6 -> 0 | L6: =F6+H6+J6 -> 0 | N6: 0101 | P6: 01 | R6: 2
A7: 히트펌프 냉난방기(공사) | B7: 시공사 | D7: 1 | E7: =F8+F9+F10+F11+F12+F13 -> 0 | F7: =E7*D7 -> 0 | G7: =H8+H9+H10+H11+H12+H13 -> 0 | H7: =G7*D7 -> 0 | I7: =J8+J9+J10+J11+J12+J13 -> 0 | J7: =I7*D7 -> 0 | K7: =E7+G7+I7 -> 0 | L7: =F7+H7+J7 -> 0 | N7: 0102 | P7: 01 | R7: 2
A8: 장비설치공사 | D8: 1 | E8: =공종별내역서!F35 -> 0 | F8: =E8*D8 -> 0 | G8: =공종별내역서!H35 -> 0 | H8: =G8*D8 -> 0 | I8: =공종별내역서!J35 -> 0 | J8: =I8*D8 -> 0 | K8: =E8+G8+I8 -> 0 | L8: =F8+H8+J8 -> 0 | N8: 010201 | P8: 0102 | R8: 3
A9: 냉매배관공사 | D9: 1 | E9: =공종별내역서!F83 -> 0 | F9: =E9*D9 -> 0 | G9: =공종별내역서!H83 -> 0 | H9: =G9*D9 -> 0 | I9: =공종별내역서!J83 -> 0 | J9: =I9*D9 -> 0 | K9: =E9+G9+I9 -> 0 | L9: =F9+H9+J9 -> 0 | N9: 010202 | P9: 0102 | R9: 3
A10: 드레인배관공사 | D10: 1 | E10: =공종별내역서!F111 -> 0 | F10: =E10*D10 -> 0 | G10: =공종별내역서!H111 -> 0 | H10: =G10*D10 -> 0 | I10: =공종별내역서!J111 -> 0 | J10: =I10*D10 -> 0 | K10: =E10+G10+I10 -> 0 | L10: =F10+H10+J10 -> 0 | N10: 010203 | P10: 0102 | R10: 3
A11: 제어기 및 제어선 설치공사 | D11: 1 | E11: =공종별내역서!F136 -> 0 | F11: =E11*D11 -> 0 | G11: =공종별내역서!H136 -> 0 | H11: =G11*D11 -> 0 | I11: =공종별내역서!J136 -> 0 | J11: =I11*D11 -> 0 | K11: =E11+G11+I11 -> 0 | L11: =F11+H11+J11 -> 0 | N11: 010204 | P11: 0102 | R11: 3
A12: 매립덕트배관 설치공사 | D12: 1 | E12: =공종별내역서!F154 -> 0 | F12: =E12*D12 -> 0 | G12: =공종별내역서!H154 -> 0 | H12: =G12*D12 -> 0 | I12: =공종별내역서!J154 -> 0 | J12: =I12*D12 -> 0 | K12: =E12+G12+I12 -> 0 | L12: =F12+H12+J12 -> 0 | N12: 010205 | P12: 0102 | R12: 3
A13: 배관커버 및 트레이 설치공사 | D13: 1 | E13: =공종별내역서!F165 -> 0 | F13: =E13*D13 -> 0 | G13: =공종별내역서!H165 -> 0 | H13: =G13*D13 -> 0 | I13: =공종별내역서!J165 -> 0 | J13: =I13*D13 -> 0 | K13: =E13+G13+I13 -> 0 | L13: =F13+H13+J13 -> 0 | N13: 010206 | P13: 0102 | R13: 3
A29: [ 합 계 ] | F29: =F5 -> 0 | H29: =H5 -> 0 | J29: =J5 -> 0 | L29: =L5 -> 0

Sheet 공종별내역서
A1: =공종별집계표!A2 -> 태전초 급식실 현대화 냉난방기 구매 및 설치
A2: 품 명 | B2: 규 격 | C2: 단위 | D2: 수량 | E2: 재 료 비 | G2: 노 무 비 | I2: 경 비 | K2: 합 계 | M2: 비 고 | N2: 품목코드 | O2: 변수 | P2: 설정 | Q2: 공종코드 | R2: 일위 | S2: 단산 | T2: 자재 | U2: 손료적용 | V2: 손료저장 | W2: 적용율 | X2: JUK1 | Y2: JUK2 | Z2: JUK3 | AA2: JUK4 | AB2: JUK5 | AC2: JUK6 | AD2: JUK7 | AE2: JUK8 | AF2: JUK9 | AG2: JUK10 | AH2: JUK11 | AI2: JUK12 | AJ2: JUK13 | AK2: JUK14 | AL2: JUK15 | AM2: JUK16 | AN2: JUK17 | AO2: JUK18 | AP2: JUK19 | AQ2: JUK20 | AR2: 자재구분 | AS2: 공종구분 | AT2: 공종레벨 | AU2: 공종+자재 | AV2: 고유번호
E3: 단 가 | F3: 금 액 | G3: 단 가 | H3: 금 액 | I3: 단 가 | J3: 금 액 | K3: 단 가 | L3: 금 액
A4: 히트펌프 냉난방기(물품) | B4: 제조사 | Q4: 0101
A5: 전기히트펌프(실외기),에너지효율1등급 | B5: 12.0HP | C5: 대 | D5: 1 | N5: 51CFB2726208E8B2DF1171CD0348FA72AA0C50 | Q5: 0101 | R5: F | S5: F | T5: T | AU5: 010151CFB2726208E8B2DF1171CD0348FA72AA0C50 | AV5: 4113
A6: 전기히트펌프(실외기),에너지효율1등급 | B6: 20.0HP | C6: 대 | D6: 1 | N6: 51CFB2726208E8B2DF1171CD0348FA72AA0D7D | Q6: 0101 | R6: F | S6: F | T6: T | AU6: 010151CFB2726208E8B2DF1171CD0348FA72AA0D7D | AV6: 4117
A7: 히트펌프용실내기 | B7: 1-WAY, 1.0HP | C7: 대 | D7: 1 | N7: 51CFB2726208E8B2DF1171CD0348FA72AA0F28 | Q7: 0101 | R7: F | S7: F | T7: T | AU7: 010151CFB2726208E8B2DF1171CD0348FA72AA0F28 | AV7: 4131
A8: 히트펌프용실내기 | B8: 4-WAY, 1.5HP | C8: 대 | D8: 1 | N8: 51CFB2726208E8B2DF1171CD0348FA72AA08FB | Q8: 0101 | R8: F | S8: F | T8: T | AU8: 010151CFB2726208E8B2DF1171CD0348FA72AA08FB | AV8: 4139
A9: 히트펌프용실내기 | B9: 4-WAY, 4.0HP | C9: 대 | D9: 2 | N9: 51CFB2726208E8B2DF1171CD0348FA72AA08FE | Q9: 0101 | R9: F | S9: F | T9: T | AU9: 010151CFB2726208E8B2DF1171CD0348FA72AA08FE | AV9: 4144
A10: 히트펌프용실내기 | B10: 매립덕트(고정압),5.0HP | C10: 대 | D10: 4 | N10: 51CFB2726208E8B2DF1171CD0348FA72AA0AA8 | Q10: 0101 | R10: F | S10: F | T10: T | AU10: 010151CFB2726208E8B2DF1171CD0348FA72AA0AA8 | AV10: 4152
A11: 실내기 판넬(1way)-중 | C11: 개 | D11: 1 | N11: 51CFB2726208E8B2DF1171CD0348FA72AA0AAC | Q11: 0101 | R11: F | S11: F | T11: T | AU11: 010151CFB2726208E8B2DF1171CD0348FA72AA0AAC | AV11: 4557
A12: 실내기 판넬(4way)-중 | C12: 개 | D12: 3 | N12: 51CFB2726208E8B2DF1171CD0348FA72AA0AAE | Q12: 0101 | R12: F | S12: F | T12: T | AU12: 010151CFB2726208E8B2DF1171CD0348FA72AA0AAE | AV12: 4559
A13: 냉난방기용Y분기관설치 | C13: 개 | D13: 4 | N13: 51CFB2726208E8B2DF1171CD0348FA72AA0B4E | Q13: 0101 | R13: F | S13: F | T13: T | AU13: 010151CFB2726208E8B2DF1171CD0348FA72AA0B4E | AV13: 4156
A14: 냉난방기용Y분기관(대)설치 | C14: 개 | D14: 2 | N14: 51CFB2726208E8B2DF1171CD0348FA72AA0B4D | Q14: 0101 | R14: F | S14: F | T14: T | AU14: 010151CFB2726208E8B2DF1171CD0348FA72AA0B4D | AV14: 4157
A15: 유선룸컨트롤러 | C15: 개 | D15: 8 | N15: 51CFB2726208E8B2DF1171CD0348FA72AA0B4A | Q15: 0101 | R15: F | S15: F | T15: T | AU15: 010151CFB2726208E8B2DF1171CD0348FA72AA0B4A | AV15: 4160
A16: 중앙제어기 | B16: 16실 제어기 | C16: 개 | D16: 1 | N16: 51CFB2726208E8B2DF1171CD0348FA72AA0B49 | Q16: 0101 | R16: F | S16: F | T16: T | AU16: 010151CFB2726208E8B2DF1171CD0348FA72AA0B49 | AV16: 4161
A17: 제어통합관리장치 | B17: 신설용 | C17: 개 | D17: 1 | N17: 51CFB2726208E8B2DF1171CD0348FA72AA0B48 | Q17: 0101 | R17: F | S17: F | T17: T | AU17: 010151CFB2726208E8B2DF1171CD0348FA72AA0B48 | AV17: 4162
A18: 공기청정키트 | B18: 1-WAY용 | C18: 대 | D18: 1 | N18: 51CFB2726208E8B2DF1171CD0348FA72AA0B47 | Q18: 0101 | R18: F | S18: F | T18: T | AU18: 010151CFB2726208E8B2DF1171CD0348FA72AA0B47 | AV18: 4163
A19: 공기청정키트 | B19: 4-WAY용 | C19: 대 | D19: 3 | N19: 51CFB2726208E8B2DF1171CD0348FA72AA0B46 | Q19: 0101 | R19: F | S19: F | T19: T | AU19: 010151CFB2726208E8B2DF1171CD0348FA72AA0B46 | AV19: 4164
A20: [ 합 계 ] | N20: TOTAL
A21: 장비설치공사 | Q21: 010201
A22: 전기히트펌프(실외기) | B22: 4.0HP~20.0HP | C22: 대 | D22: 2 | N22: 51CFB2726208E8859131B99271E9C2 | Q22: 010201 | R22: T | S22: F | T22: F | AU22: 01020151CFB2726208E8859131B99271E9C2 | AV22: 4359
A23: 히트펌프용실내기 | B23: 1-WAY, 0.7HP~2.5HP | C23: 대 | D23: 1 | N23: 51CFB2726208E8859131B99271EE44 | Q23: 010201 | R23: T | S23: F | T23: F | AU23: 01020151CFB2726208E8859131B99271EE44 | AV23: 4382
A24: 히트펌프용실내기 | B24: 4-WAY, 1.5HP~5.0HP | C24: 대 | D24: 6 | M24: 3대 실내기 이설 설치 | N24: 51CFB2726208E8859131B99271EDBD | Q24: 010201 | R24: T | S24: F | T24: F | AU24: 01020151CFB2726208E8859131B99271EDBD | AV24: 4392
A25: 히트펌프용실내기 | B25: 매립덕트, 4.0HP~5.0HP | C25: 대 | D25: 4 | N25: 51CFB2726208E8859131B99271EDB5 | Q25: 010201 | R25: T | S25: F | T25: F | AU25: 01020151CFB2726208E8859131B99271EDB5 | AV25: 4400
A26: 받침대(EHP) | B26: 평균990×830×130mm | C26: 개 | D26: 2 | N26: 51CFB2726208E8B2DF1171CD0348FA72AA0402 | Q26: 010201 | R26: F | S26: F | T26: T | AU26: 01020151CFB2726208E8B2DF1171CD0348FA72AA0402 | AV26: 4167
A27: 크레인(타이어) | B27: 50ton | C27: HR | D27: 6 | N27: 56772282E23876F13A51B7BDC3D063A657AE3B32 | Q27: 010201 | R27: T | S27: F | T27: F | AU27: 01020156772282E23876F13A51B7BDC3D063A657AE3B32 | AV27: 4482
Q28: 010201
Q29: 010201
Q30: 010201
Q31: 010201
Q32: 010201
Q33: 010201
Q34: 010201
A35: [ 합 계 ] | N35: TOTAL
A36: 냉매배관공사 | Q36: 010202
A37: 동관옥내배관(L-TYPE) | B37: D6(6.35) | C37: M | D37: 21 | N37: 51A98232E2B81DC271C106F0A44167 | Q37: 010202 | R37: T | S37: F | T37: F | AU37: 01020251A98232E2B81DC271C106F0A44167 | AV37: 4536
A38: 동관옥내배관(L-TYPE) | B38: D8(9.52) | C38: M | D38: 48 | N38: 51A98232E2B81DC271D12CF31B9366 | Q38: 010202 | R38: T | S38: F | T38: F | AU38: 01020251A98232E2B81DC271D12CF31B9366 | AV38: 4537
A39: 동관옥내배관(L-TYPE) | B39: D10(12.7) | C39: M | D39: 55 | N39: 51A98232E2B81DC260D1DE38E29F27 | Q39: 010202 | R39: T | S39: F | T39: F | AU39: 01020251A98232E2B81DC260D1DE38E29F27 | AV39: 4175
A40: 동관옥내배관(L-TYPE) | B40: D15(15.88) | C40: M | D40: 29 | N40: 51A98232E2B81DDCF631EE6E334A32 | Q40: 010202 | R40: T | S40: F | T40: F | AU40: 01020251A98232E2B81DDCF631EE6E334A32 | AV40: 4176
A41: 동관옥내배관(L-TYPE) | B41: D20(22.22) | C41: M | D41: 9 | N41: 51A98232E2B81DED54E1B3291502DD | Q41: 010202 | R41: T | S41: F | T41: F | AU41: 01020251A98232E2B81DED54E1B3291502DD | AV41: 4178
A42: 동관옥내배관(L-TYPE) | B42: D25(28.58) | C42: M | D42: 75 | N42: 51A98232E2B81DFFAAA1A119DD479A | Q42: 010202 | R42: T | S42: F | T42: F | AU42: 01020251A98232E2B81DFFAAA1A119DD479A | AV42: 4180
A43: 관보온(고무발포,동관용) | B43: 9TxD6, 액관 | C43: M | D43: 21 | N43: 51A9E2A242386931E7F1ED6EA49216 | Q43: 010202 | R43: T | S43: F | T43: F | AU43: 01020251A9E2A242386931E7F1ED6EA49216 | AV43: 4538
A44: 관보온(고무발포,동관용) | B44: 9TxD8, 액관 | C44: M | D44: 48 | N44: 51A9E2A242386931E7F1ED6EA49215 | Q44: 010202 | R44: T | S44: F | T44: F | AU44: 01020251A9E2A242386931E7F1ED6EA49215 | AV44: 4539
A45: 관보온(고무발포,동관용) | B45: 13TxD10, 액관 | C45: M | D45: 34 | N45: 51A9E2A242386931E7F1ED6EA4979A | Q45: 010202 | R45: T | S45: F | T45: F | AU45: 01020251A9E2A242386931E7F1ED6EA4979A | AV45: 4540
A46: 관보온(고무발포,동관용) | B46: 13TxD15, 액관 | C46: M | D46: 41 | N46: 51A9E2A242386931E7F1ED6EA4979B | Q46: 010202 | R46: T | S46: F | T46: F | AU46: 01020251A9E2A242386931E7F1ED6EA4979B | AV46: 4541
A47: 관보온(고무발포,동관용) | B47: 13TxD10, 가스관 | C47: M | D47: 21 | N47: 51A9E2A242386931E7F1ED6EA49A6D | Q47: 010202 | R47: T | S47: F | T47: F | AU47: 01020251A9E2A242386931E7F1ED6EA49A6D | AV47: 4554
A48: 관보온(고무발포,동관용) | B48: 13TxD15, 가스관 | C48: M | D48: 39 | N48: 51A9E2A242386931E7F1ED6EA49A6C | Q48: 010202 | R48: T | S48: F | T48: F | AU48: 01020251A9E2A242386931E7F1ED6EA49A6C | AV48: 4555
... A66: 냉매 | B66: R-410A | C66: KG | D66: 38 | N66: 51CFB2726208E8B2DF1171CD0348FA72AB1348 | Q66: 010202 | R66: F | S66: F | T66: T | AU66: 01020251CFB2726208E8B2DF1171CD0348FA72AB1348 | AV66: 4405
A67: 질소 | C67: KG | D67: 80 | N67: 51CFB2726208E8B2DF1171CD0348FA72AB1349 | Q67: 010202 | R67: F | S67: F | T67: T | AU67: 01020251CFB2726208E8B2DF1171CD0348FA72AB1349 | AV67: 4406
A68: 내화충전재(바닥관통) | B68: 강관 125A, 25T | C68: 개소 | D68: 4 | M68: 호표 181 | Q68: 010202
A69: 구멍뚫기(코어드릴) | B69: D150, 콘크리트 150mm | C69: 개소 | D69: 4 | M69: 호표 171 | Q69: 010202
A70: 구멍뚫기(코어드릴) | B70: D75, 콘크리트 150mm, 벽 | C70: 개소 | D70: 7 | M70: 호표 167 | Q70: 010202
A71: 구멍뚫기(코어드릴) | B71: D150, 콘크리트 150mm, 벽 | C71: 개소 | D71: 12 | M71: 호표 172 | Q71: 010202
A72: 구멍뚫기(코어드릴) | B72: D350, 콘크리트 150mm, 벽 | C72: 개소 | D72: 12 | M72: 호표 176 | Q72: 010202
Q73: 010202
Q74: 010202
Q75: 010202
Q76: 010202
Q77: 010202
Q78: 010202
Q79: 010202
Q80: 010202
Q81: 010202
Q82: 010202
A83: [ 합 계 ] | N83: TOTAL
A84: 드레인배관공사 | Q84: 010203
A85: 경질염화비닐관(접착제) | B85: PVC관(VG1), D25 | C85: M | D85: 34 | N85: 51A9823242B816019AD1551CE4A49D | Q85: 010203 | R85: T | S85: F | T85: F | AU85: 01020351A9823242B816019AD1551CE4A49D | AV85: 4204
A86: 경질염화비닐관(접착제) | B86: PVC관(VG1), D40 | C86: M | D86: 46 | N86: 51A9823242B8166A1F112EA1179389 | Q86: 010203 | R86: T | S86: F | T86: F | AU86: 01020351A9823242B8166A1F112EA1179389 | AV86: 4206
A87: 일반용경질폴리염화비닐이음관 | B87: ∮25mm, 90˚단곡관(DTS) | C87: 개 | D87: 7 | N87: 56397232C218E226158192B4A4EBA286FEA9EE | Q87: 010203 | R87: F | S87: F | T87: T | AU87: 01020356397232C218E226158192B4A4EBA286FEA9EE | AV87: 4222
A88: 일반용경질폴리염화비닐이음관 | B88: ∮40mm, 90˚단곡관(DTS) | C88: 개 | D88: 8 | N88: 56397232C218E226158192B4A4EBA286FEA9EC | Q88: 010203 | R88: F | S88: F | T88: T | AU88: 01020356397232C218E226158192B4A4EBA286FEA9EC | AV88: 4224
A89: 일반용경질폴리염화비닐이음관 | B89: ∮25mm, PVC티, DTS | C89: 개 | D89: 10 | N89: 56397232C218E226158192B4A4EBA286FD9AAF | Q89: 010203 | R89: F | S89: F | T89: T | AU89: 01020356397232C218E226158192B4A4EBA286FD9AAF | AV89: 4467
A90: 일반용경질폴리염화비닐이음관 | B90: ∮40mm, PVC티, DTS | C90: 개 | D90: 22 | N90: 56397232C218E226158192B4A4EBA286FD9D7B | Q90: 010203 | R90: F | S90: F | T90: T | AU90: 01020356397232C218E226158192B4A4EBA286FD9D7B | AV90: 4227
A91: 일반용경질폴리염화비닐이음관 | B91: ∮40mm, PVC소켓, DTS | C91: 개 | D91: 7 | N91: 56397232C218E226158192B4A4EBA286FD9E07 | Q91: 010203 | R91: F | S91: F | T91: T | AU91: 01020356397232C218E226158192B4A4EBA286FD9E07 | AV91: 4231
A92: 관보온(아티론) | B92: 10t*D25 | C92: M | D92: 34 | N92: 51A9E2A27288510134B1D7F92EE876 | Q92: 010203 | R92: T | S92: F | T92: F | AU92: 01020351A9E2A27288510134B1D7F92EE876 | AV92: 4451
A93: 관보온(아티론) | B93: 10t*D40 | C93: M | D93: 46 | N93: 51A9E2A27288516BAA11560DAE5497 | Q93: 010203 | R93: T | S93: F | T93: F | AU93: 01020351A9E2A27288516BAA11560DAE5497 | AV93: 4452
A94: 일반행가(전산볼트) | B94: D65 | C94: 개소 | D94: 40 | N94: 51A9225212287EB4133163DEFB7451 | Q94: 010203 | R94: T | S94: F | T94: F | AU94: 01020351A9225212287EB4133163DEFB7451 | AV94: 4436
Q95: 010203
Q96: 010203
Q97: 010203
Q98: 010203
Q99: 010203
Q100: 010203
Q101: 010203
Q102: 010203
Q103: 010203
Q104: 010203
Q105: 010203
Q106: 010203
... Q110: 010203
A111: [ 합 계 ] | N111: TOTAL
A112: 제어기 및 제어선 설치공사 | Q112: 010204
A113: 중앙제어기 | B113: 16실 제어기 | C113: 개 | D113: 1 | N113: 51CFB2726208E8859131B99271E3BF | Q113: 010204 | R113: T | S113: F | T113: F | AU113: 01020451CFB2726208E8859131B99271E3BF | AV113: 4411
A114: 유선룸컨트롤러 | C114: 개 | D114: 8 | N114: 51CFB2726208E8859131B99271E3BC | Q114: 010204 | R114: T | S114: F | T114: F | AU114: 01020451CFB2726208E8859131B99271E3BC | AV114: 4410
A115: 제어통합관리장치 | C115: 개 | D115: 1 | N115: 51CFB2726208E8859131B99271E3B1 | Q115: 010204 | R115: T | S115: F | T115: F | AU115: 01020451CFB2726208E8859131B99271E3B1 | AV115: 4413
A116: 유선제어선(룸컨트롤러) | B116: AWG22 0.5㎟ x 3C | C116: M | D116: 82 | N116: 51CFB2726208E8859131B99270C58F | Q116: 010204 | R116: T | S116: F | T116: F | AU116: 01020451CFB2726208E8859131B99270C58F | AV116: 4418
A117: 제어선(통신선+중앙제어선) | B117: CVV-SB 1.0㎟ x 2C | C117: M | D117: 225 | N117: 51CFB2726208E8859131B99270C58D | Q117: 010204 | R117: T | S117: F | T117: F | AU117: 01020451CFB2726208E8859131B99270C58D | AV117: 4416
A118: 금속가요전선관 | B118: 16C,방수, 옥상노출 | C118: M | D118: 143 | M118: 옥상 | N118: 51CFB2726208E8859131B99270C58E | Q118: 010204 | R118: T | S118: F | T118: F | AU118: 01020451CFB2726208E8859131B99270C58E | AV118: 4419
A119: 금속가요전선관 | B119: 16C,비방수, 실내은폐 | C119: M | D119: 82 | M119: 실내 | N119: 51CFB2726208E8859131B99270C589 | Q119: 010204 | R119: T | S119: F | T119: F | AU119: 01020451CFB2726208E8859131B99270C589 | AV119: 4420
Q120: 010204
...

Sheet  공사설정 
A1: 이 Sheet는 수정하지 마십시요
A2: 공사구분 | B2: C | C2: 타이틀
A3: 확정내역 | B3: 원내역
A4: 자재단가적용 | B4: 5
A5: 경비단가적용 | B5: 5
A6: 품목코드형식 | B6: XXXX-XXXX-XXXXXXXXX
A7: 내역금액소수점처리 | B7: C | C7: 1
A8: 일위대가내역소수점처리 | B8: C | C8: 2
A9: 단가명 | B9: 조달청가격 | C9: 거래가격 | D9: 유통물가 | E9: 조사가격1 | F9: 조사가격2 | G9: TTTTT
A10: 환율 | B10: 1466 | C10: 0 | D10: 0
A11: 시간당작업량 | B11: R | C11: 4
A12: 1회 사이클시간 | B12: R | C12: 4
A13: 시간당 작업사이클 | B13: R | C13: 3
A14: 일반변수 | B14: R | C14: 5
A15: 시간당 노임산출 계수 | B15: A | C15: 1/8*16/12*25/20 | D15: 1/8*16/12*25/20 | E15: 1/8*16/12*25/20 | F15: 1
A16: 재료비 할증 계수 | B16: 1.11 | C16: 1.12
A17: 노무비 할증 계수 | B17: 1 | C17: 1.5 | D17: 1.16 | E17: 1.6 | F17: 1.6 | G17: 1.6 | H17: 1.94 | I17: 1.94 | J17: 1.94 | K17: 1 | L17: 1 | M17: 1
A18: 경비 할증 계수 | B18: 1.25 | C18: 1.071
A19: 내역,일위대가 품명,규격,단위 따로적용
A20: 내역단가 소수점처리 | B20: C | C20: 1
A21: 코드 | B21: 공종구분명 | C21: 원가비목코드
A22: 1 | B22: 작 업 부 산 물 | C22: A3
A23: 2 | B23: 운 반 비 | C23: C1
A24: 3 | B24: 관 급 자 재 비 | C24: DJ
A25: 4 | B25: 사 급 자 재 비 | C25: D3
A26: 5 | B26: 폐기물처리비 | C26: D5
A27: 6 | B27: ...
A28: 7 | B28: ...
A29: 8 | B29: ...
A30: 9 | B30: ...
A43: 단가 순서 | B43: 1234

Sheet 가격정보(구형 참조)
A1: 2026년 1
A3: 물품분류번호 | B3: 물품식별번호 | C3: 품명 | D3: 규격 | E3: 인도조건 | F3: 부가세여부 | G3: 게시일자 | H3: 단위 | I3: 가격
A4: 40142388 | B4: 20970431 | C4: 용접식 관이음쇠 | D4: 흑캡 (용접 S#40) D80 | E4: 납품장소도 | F4: 부가가치세별도 | G4: 2025-10-23 00:00:00.0 | H4: 개 | I4: 4220
A5: 40142388 | B5: 20970432 | C5: 용접식 관이음쇠 | D5: 흑캡 (용접 S#40) D100 | E5: 납품장소도 | F5: 부가가치세별도 | G5: 2025-10-23 00:00:00.0 | H5: 개 | I5: 5814
A6: 40142388 | B6: 20970433 | C6: 용접식 관이음쇠 | D6: 흑캡 (용접 S#40) D125 | E6: 납품장소도 | F6: 부가가치세별도 | G6: 2025-10-23 00:00:00.0 | H6: 개 | I6: 9562
A7: 40142388 | B7: 20970434 | C7: 용접식 관이음쇠 | D7: 흑캡 (용접 S#40) D150 | E7: 납품장소도 | F7: 부가가치세별도 | G7: 2025-10-23 00:00:00.0 | H7: 개 | I7: 13940
A8: 40142388 | B8: 20970435 | C8: 용접식 관이음쇠 | D8: 흑캡 (용접 S#40) D200 | E8: 납품장소도 | F8: 부가가치세별도 | G8: 2025-10-23 00:00:00.0 | H8: 개 | I8: 27090
A9: 40142388 | B9: 20970436 | C9: 용접식 관이음쇠 | D9: 흑캡 (용접 S#40) D250 | E9: 납품장소도 | F9: 부가가치세별도 | G9: 2025-10-23 00:00:00.0 | H9: 개 | I9: 55780
A10: 40142388 | B10: 20970437 | C10: 용접식 관이음쇠 | D10: 흑캡 (용접 S#40) D300 | E10: 납품장소도 | F10: 부가가치세별도 | G10: 2025-10-23 00:00:00.0 | H10: 개 | I10: 75701
A11: 40142388 | B11: 20970438 | C11: 용접식 관이음쇠 | D11: 흑캡 (용접 S#40) D350 | E11: 납품장소도 | F11: 부가가치세별도 | G11: 2025-10-23 00:00:00.0 | H11: 개 | I11: 94030
A12: 40142388 | B12: 20970439 | C12: 용접식 관이음쇠 | D12: 흑캡 (용접 S#40) D400 | E12: 납품장소도 | F12: 부가가치세별도 | G12: 2025-10-23 00:00:00.0 | H12: 개 | I12: 127500
A13: 40142398 | B13: 20126761 | C13: 나사식 강관제 관이음쇠 | D13: 백엘보 (나사) D15 | E13: 납품장소도 | F13: 부가가치세별도 | G13: 2025-10-23 00:00:00.0 | H13: 개 | I13: 700
A14: 40142398 | B14: 20126762 | C14: 나사식 강관제 관이음쇠 | D14: 백엘보 (나사) D20 | E14: 납품장소도 | F14: 부가가치세별도 | G14: 2025-10-23 00:00:00.0 | H14: 개 | I14: 1020
A15: 40142398 | B15: 20126763 | C15: 나사식 강관제 관이음쇠 | D15: 백엘보 (나사) D25 | E15: 납품장소도 | F15: 부가가치세별도 | G15: 2025-10-23 00:00:00.0 | H15: 개 | I15: 1632
... A7787: 40172513 | B7787: 22510060 | C7787: 플렉시블죠인트 스테인레스(러버 10k) | D7787: 플랙시블조인트, Φ50mm*0.98MPa, 스테인리스(러버) | E7787: 납품장소도 | F7787: 부가가치세별도 | G7787: 2024-10-17 09:29:48.0 | H7787: EA | I7787: 86270
