Workbook

Sheet 원가계산서
B1: 공 사 원 가 계 산 서
B2: 공사명 : 난우중학교 관리실 환경개선공사
B3: 비 목 | E3: 금 액 | F3: 구 성 비 | G3: 비 고
A4: A1 | B4: 순 공 사 원 가 | C4: 재 료 비 | D4: 직 접 재 료 비 | E4: =TRUNC(공종별집계표!F5,0) -> 0
A5: A2 | D5: 간 접 재 료 비 | E5: 0
A6: A3 | D6: 작 업 부 산 물 | E6: =TRUNC(공종별집계표!T55,0) -> 0
A7: AS | D7: [ 소 계 ] | E7: =TRUNC(E4+E5-E6,0) -> 0
A8: B1 | C8: 노 무 비 | D8: 직 접 노 무 비 | E8: =TRUNC(공종별집계표!H5,0) -> 0
A9: B2 | D9: 간 접 노 무 비 | E9: =TRUNC(E8*0.175,0) -> 0 | F9: 직접노무비 * 17.5%
A10: BS | D10: [ 소 계 ] | E10: =TRUNC(E8+E9,0) -> 0
A11: C2 | C11: 경 비 | D11: 경 비 | E11: =TRUNC(공종별집계표!J5,0) -> 0
A12: C4 | D12: 산 재 보 험 료 | E12: =TRUNC(E10*0.0356,0) -> 0 | F12: 노무비 * 3.56%
A13: C5 | D13: 고 용 보 험 료 | E13: =TRUNC(E10*0.0101,0) -> 0 | F13: 노무비 * 1.01%
A14: C6 | D14: 국민 건강 보험료 | E14: =TRUNC(E8*0.03595,0) -> 0 | F14: 직접노무비 * 3.595%
A15: C7 | D15: 국민 연금 보험료 | E15: =TRUNC(E8*0.0475,0) -> 0 | F15: 직접노무비 * 4.75%
A16: C8 | D16: 퇴직 공제 부금비 | F16: 직접노무비 * 2.3%
A17: CA | D17: 산업안전보건관리비 | E17: =TRUNC((E7+E8+(0/1.1))*0.0311,0) -> 0 | F17: (재료비+직노+관급자재비) * 3.11%
A18: CB | D18: 노인장기요양보험료 | E18: =TRUNC(E14*0.1314,0) -> 0 | F18: 건강보험료 * 13.14%
A19: CG | D19: 기 타 경 비 | E19: =TRUNC((E7+E10)*0.05,0) -> 0 | F19: (재료비+노무비) * 5%
A20: CH | D20: 환 경 보 전 비 | E20: =TRUNC((E7+E8+E11)*0.003,0) -> 0 | F20: (재료비+직노+경비) * 0.3%
A21: CK | D21: 하도급지급보증수수료 | E21: =TRUNC((E7+E8+E11)*0.00081,0) -> 0 | F21: (재료비+직노+경비) * 0.081% | G21: 최저가대상공사
A22: CL | D22: 건설기계대여금지급보증서발급수수료 | E22: =TRUNC((E7+E8+E11)*0.0007,0) -> 0 | F22: (재료비+직노+경비) * 0.07%
A23: CM | D23: 석 면 분 담 금 | E23: =TRUNC(E10*0.00006,0) -> 0 | F23: 노무비 * 0.006%
A24: CN | D24: 임 금 채 권 부 담 금 | E24: =TRUNC(E10*0.0009,0) -> 0 | F24: 노무비 * 0.09%
A25: CS | D25: [ 소 계 ]
A26: S1 | B26: 계
A27: D1 | B27: 일 반 관 리 비 | F27: 계 * 8%
A28: D2 | B28: 이 윤 | F28: (노무비+경비+일반관리비) * 15%
A29: D4 | B29: 폐기물 처리비
A30: D9 | B30: 공 급 가 액
A31: DB | B31: 부 가 가 치 세 | F31: 공급가액 * 10%
A32: DH | B32: 도 급 액
A33: S2 | B33: 총 공 사 비

Sheet 공종별집계표
A1: 공 종 별 집 계 표
A2: [ 난우중학교 관리실 환경개선공사 ]
A3: 품 명 | B3: 규 격 | C3: 단위 | D3: 수량 | E3: 재 료 비 | G3: 노 무 비 | I3: 경 비 | K3: 합 계 | M3: 비 고 | N3: 공종코드 | O3: 변수 | P3: 상위공종 | Q3: 공종구분 | R3: 공종레벨 | S3: 공종소계 | T3: 원가계산서 연결금액
E4: 단 가 | F4: 금 액 | G4: 단 가 | H4: 금 액 | I4: 단 가 | J4: 금 액 | K4: 단 가 | L4: 금 액
A5: 01 난우중학교 관리실 환경개선공사 | D5: 1 | E5: =F6+F10+F16+F24+F32+F40+F43+F56+F61 -> 0 | F5: =E5*D5 -> 0 | G5: =H6+H10+H16+H24+H32+H40+H43+H56+H61 -> 0 | H5: =G5*D5 -> 0 | I5: =J6+J10+J16+J24+J32+J40+J43+J56+J61 -> 0 | J5: =I5*D5 -> 0 | K5: =E5+G5+I5 -> 0 | L5: =F5+H5+J5 -> 0 | N5: 01 | R5: 1
N6: 0101 | P6: 01 | R6: 2
N7: 010101 | P7: 0101 | R7: 3
N8: 010102 | P8: 0101 | R8: 3
N9: 010103 | P9: 0101 | R9: 3
N10: 0102 | P10: 01 | R10: 2
N11: 010201 | P11: 0102 | R11: 3
N12: 010202 | P12: 0102 | R12: 3
N13: 010203 | P13: 0102 | R13: 3
N14: 010204 | P14: 0102 | R14: 3
N15: 010205 | Q15: 6 | R15: 3 | T15: =L15*1 -> 0
A16: 0103 3. 3층 1학년부실 | D16: 1 | E16: =F17+F18+F19+F20+F21+F22 -> 0 | F16: =E16*D16 -> 0 | G16: =H17+H18+H19+H20+H21+H22 -> 0 | H16: =G16*D16 -> 0 | I16: =J17+J18+J19+J20+J21+J22 -> 0 | J16: =I16*D16 -> 0 | K16: =E16+G16+I16 -> 0 | L16: =F16+H16+J16 -> 0 | N16: 0103 | P16: 01 | R16: 2
A17: 010301 가 설 공 사 | D17: 1 | E17: =공종별내역서!F27 -> 0 | F17: =E17*D17 -> 0 | G17: =공종별내역서!H27 -> 0 | H17: =G17*D17 -> 0 | I17: =공종별내역서!J27 -> 0 | J17: =I17*D17 -> 0 | K17: =E17+G17+I17 -> 0 | L17: =F17+H17+J17 -> 0 | N17: 010301 | P17: 0103 | R17: 3
A18: 010302 돌 공 사 | D18: 1 | E18: =공종별내역서!F51 -> 0 | F18: =E18*D18 -> 0 | G18: =공종별내역서!H51 -> 0 | H18: =G18*D18 -> 0 | I18: =공종별내역서!J51 -> 0 | J18: =I18*D18 -> 0 | K18: =E18+G18+I18 -> 0 | L18: =F18+H18+J18 -> 0 | N18: 010302 | P18: 0103 | R18: 3
A19: 010303 목공사및수장공사 | D19: 1 | E19: =공종별내역서!F75 -> 0 | F19: =E19*D19 -> 0 | G19: =공종별내역서!H75 -> 0 | H19: =G19*D19 -> 0 | I19: =공종별내역서!J75 -> 0 | J19: =I19*D19 -> 0 | K19: =E19+G19+I19 -> 0 | L19: =F19+H19+J19 -> 0 | N19: 010303 | P19: 0103 | R19: 3
A20: 010304 금 속 공 사 | D20: 1 | E20: =공종별내역서!F99 -> 0 | F20: =E20*D20 -> 0 | G20: =공종별내역서!H99 -> 0 | H20: =G20*D20 -> 0 | I20: =공종별내역서!J99 -> 0 | J20: =I20*D20 -> 0 | K20: =E20+G20+I20 -> 0 | L20: =F20+H20+J20 -> 0 | N20: 010304 | P20: 0103 | R20: 3
A21: 010305 칠 공 사 | D21: 1 | E21: =공종별내역서!F123 -> 0 | F21: =E21*D21 -> 0 | G21: =공종별내역서!H123 -> 0 | H21: =G21*D21 -> 0 | I21: =공종별내역서!J123 -> 0 | J21: =I21*D21 -> 0 | K21: =E21+G21+I21 -> 0 | L21: =F21+H21+J21 -> 0 | N21: 010305 | P21: 0103 | R21: 3
A22: 010306 철 거 공 사 | D22: 1 | E22: =공종별내역서!F147 -> 0 | F22: =E22*D22 -> 0 | G22: =공종별내역서!H147 -> 0 | H22: =G22*D22 -> 0 | I22: =공종별내역서!J147 -> 0 | J22: =I22*D22 -> 0 | K22: =E22+G22+I22 -> 0 | L22: =F22+H22+J22 -> 0 | N22: 010306 | P22: 0103 | R22: 3
A23: 010307 건설폐기물처리비 | D23: 1 | E23: =공종별내역서!F171 -> 0 | F23: =E23*D23 -> 0 | G23: =공종별내역서!H171 -> 0 | H23: =G23*D23 -> 0 | I23: =공종별내역서!J171 -> 0 | J23: =I23*D23 -> 0 | K23: =E23+G23+I23 -> 0 | L23: =F23+H23+J23 -> 0 | N23: 010307 | Q23: 6 | R23: 3 | T23: =L23*1 -> 0
A24: 0104 4. 3층 창의체험부 | D24: 1 | E24: =F25+F26+F27+F28+F29+F30 -> 0 | F24: =E24*D24 -> 0 | G24: =H25+H26+H27+H28+H29+H30 -> 0 | H24: =G24*D24 -> 0 | I24: =J25+J26+J27+J28+J29+J30 -> 0 | J24: =I24*D24 -> 0 | K24: =E24+G24+I24 -> 0 | L24: =F24+H24+J24 -> 0 | N24: 0104 | P24: 01 | R24: 2
A25: 010401 가 설 공 사 | D25: 1 | E25: =공종별내역서!F195 -> 0 | F25: =E25*D25 -> 0 | G25: =공종별내역서!H195 -> 0 | H25: =G25*D25 -> 0 | I25: =공종별내역서!J195 -> 0 | J25: =I25*D25 -> 0 | K25: =E25+G25+I25 -> 0 | L25: =F25+H25+J25 -> 0 | N25: 010401 | P25: 0104 | R25: 3
A26: 010402 목공사및수장공사 | D26: 1 | E26: =공종별내역서!F219 -> 0 | F26: =E26*D26 -> 0 | G26: =공종별내역서!H219 -> 0 | H26: =G26*D26 -> 0 | I26: =공종별내역서!J219 -> 0 | J26: =I26*D26 -> 0 | K26: =E26+G26+I26 -> 0 | L26: =F26+H26+J26 -> 0 | N26: 010402 | P26: 0104 | R26: 3
A27: 010403 금 속 공 사 | D27: 1 | E27: =공종별내역서!F243 -> 0 | F27: =E27*D27 -> 0 | G27: =공종별내역서!H243 -> 0 | H27: =G27*D27 -> 0 | I27: =공종별내역서!J243 -> 0 | J27: =I27*D27 -> 0 | K27: =E27+G27+I27 -> 0 | L27: =F27+H27+J27 -> 0 | N27: 010403 | P27: 0104 | R27: 3
A28: 010404 칠 공 사 | D28: 1 | E28: =공종별내역서!F267 -> 0 | F28: =E28*D28 -> 0 | G28: =공종별내역서!H267 -> 0 | H28: =G28*D28 -> 0 | I28: =공종별내역서!J267 -> 0 | J28: =I28*D28 -> 0 | K28: =E28+G28+I28 -> 0 | L28: =F28+H28+J28 -> 0 | N28: 010404 | P28: 0104 | R28: 3
A29: 010405 기 타 공 사 | D29: 1 | E29: =공종별내역서!F291 -> 0 | F29: =E29*D29 -> 0 | G29: =공종별내역서!H291 -> 0 | H29: =G29*D29 -> 0 | I29: =공종별내역서!J291 -> 0 | J29: =I29*D29 -> 0 | K29: =E29+G29+I29 -> 0 | L29: =F29+H29+J29 -> 0 | N29: 010405 | P29: 0104 | R29: 3
A30: 010406 철 거 공 사 | D30: 1 | E30: =공종별내역서!F315 -> 0 | F30: =E30*D30 -> 0 | G30: =공종별내역서!H315 -> 0 | H30: =G30*D30 -> 0 | I30: =공종별내역서!J315 -> 0 | J30: =I30*D30 -> 0 | K30: =E30+G30+I30 -> 0 | L30: =F30+H30+J30 -> 0 | N30: 010406 | P30: 0104 | R30: 3
A31: 010407 건설폐기물처리비 | D31: 1 | E31: =공종별내역서!F339 -> 0 | F31: =E31*D31 -> 0 | G31: =공종별내역서!H339 -> 0 | H31: =G31*D31 -> 0 | I31: =공종별내역서!J339 -> 0 | J31: =I31*D31 -> 0 | K31: =E31+G31+I31 -> 0 | L31: =F31+H31+J31 -> 0 | N31: 010407 | Q31: 6 | R31: 3 | T31: =L31*1 -> 0
A32: 0105 5. 3층 교육복지실 | D32: 1 | E32: =F33+F34+F35+F36+F37+F38 -> 0 | F32: =E32*D32 -> 0 | G32: =H33+H34+H35+H36+H37+H38 -> 0 | H32: =G32*D32 -> 0 | I32: =J33+J34+J35+J36+J37+J38 -> 0 | J32: =I32*D32 -> 0 | K32: =E32+G32+I32 -> 0 | L32: =F32+H32+J32 -> 0 | N32: 0105 | P32: 01 | R32: 2
A33: 010501 가 설 공 사 | D33: 1 | E33: =공종별내역서!F363 -> 0 | F33: =E33*D33 -> 0 | G33: =공종별내역서!H363 -> 0 | H33: =G33*D33 -> 0 | I33: =공종별내역서!J363 -> 0 | J33: =I33*D33 -> 0 | K33: =E33+G33+I33 -> 0 | L33: =F33+H33+J33 -> 0 | N33: 010501 | P33: 0105 | R33: 3
A34: 010502 목공사및수장공사 | D34: 1 | E34: =공종별내역서!F387 -> 0 | F34: =E34*D34 -> 0 | G34: =공종별내역서!H387 -> 0 | H34: =G34*D34 -> 0 | I34: =공종별내역서!J387 -> 0 | J34: =I34*D34 -> 0 | K34: =E34+G34+I34 -> 0 | L34: =F34+H34+J34 -> 0 | N34: 010502 | P34: 0105 | R34: 3
A35: 010503 금 속 공 사 | D35: 1 | E35: =공종별내역서!F411 -> 0 | F35: =E35*D35 -> 0 | G35: =공종별내역서!H411 -> 0 | H35: =G35*D35 -> 0 | I35: =공종별내역서!J411 -> 0 | J35: =I35*D35 -> 0 | K35: =E35+G35+I35 -> 0 | L35: =F35+H35+J35 -> 0 | N35: 010503 | P35: 0105 | R35: 3
A36: 010504 칠 공 사 | D36: 1 | E36: =공종별내역서!F435 -> 0 | F36: =E36*D36 -> 0 | G36: =공종별내역서!H435 -> 0 | H36: =G36*D36 -> 0 | I36: =공종별내역서!J435 -> 0 | J36: =I36*D36 -> 0 | K36: =E36+G36+I36 -> 0 | L36: =F36+H36+J36 -> 0 | N36: 010504 | P36: 0105 | R36: 3
A37: 010505 기 타 공 사 | D37: 1 | E37: =공종별내역서!F459 -> 0 | F37: =E37*D37 -> 0 | G37: =공종별내역서!H459 -> 0 | H37: =G37*D37 -> 0 | I37: =공종별내역서!J459 -> 0 | J37: =I37*D37 -> 0 | K37: =E37+G37+I37 -> 0 | L37: =F37+H37+J37 -> 0 | N37: 010505 | P37: 0105 | R37: 3
A38: 010506 철 거 공 사 | D38: 1 | E38: =공종별내역서!F483 -> 0 | F38: =E38*D38 -> 0 | G38: =공종별내역서!H483 -> 0 | H38: =G38*D38 -> 0 | I38: =공종별내역서!J483 -> 0 | J38: =I38*D38 -> 0 | K38: =E38+G38+I38 -> 0 | L38: =F38+H38+J38 -> 0 | N38: 010506 | P38: 0105 | R38: 3
A39: 010507 건설폐기물처리비 | D39: 1 | E39: =공종별내역서!F507 -> 0 | F39: =E39*D39 -> 0 | G39: =공종별내역서!H507 -> 0 | H39: =G39*D39 -> 0 | I39: =공종별내역서!J507 -> 0 | J39: =I39*D39 -> 0 | K39: =E39+G39+I39 -> 0 | L39: =F39+H39+J39 -> 0 | N39: 010507 | Q39: 6 | R39: 3 | T39: =L39*1 -> 0
A40: 0106 6. 3층 상담복지부 | D40: 1 | E40: =F41+F42 -> 0 | F40: =E40*D40 -> 0 | G40: =H41+H42 -> 0 | H40: =G40*D40 -> 0 | I40: =J41+J42 -> 0 | J40: =I40*D40 -> 0 | K40: =E40+G40+I40 -> 0 | L40: =F40+H40+J40 -> 0 | N40: 0106 | P40: 01 | R40: 2
A41: 010601 가 설 공 사 | D41: 1 | E41: =공종별내역서!F531 -> 0 | F41: =E41*D41 -> 0 | G41: =공종별내역서!H531 -> 0 | H41: =G41*D41 -> 0 | I41: =공종별내역서!J531 -> 0 | J41: =I41*D41 -> 0 | K41: =E41+G41+I41 -> 0 | L41: =F41+H41+J41 -> 0 | N41: 010601 | P41: 0106 | R41: 3
A42: 010602 칠 공 사 | D42: 1 | E42: =공종별내역서!F555 -> 0 | F42: =E42*D42 -> 0 | G42: =공종별내역서!H555 -> 0 | H42: =G42*D42 -> 0 | I42: =공종별내역서!J555 -> 0 | J42: =I42*D42 -> 0 | K42: =E42+G42+I42 -> 0 | L42: =F42+H42+J42 -> 0 | N42: 010602 | P42: 0106 | R42: 3
A43: 0107 7. 3층 학습도움실 | D43: 1 | E43: =F44+F45+F46+F47+F48+F49+F50+F51+F52+F53 -> 0 | F43: =E43*D43 -> 0 | G43: =H44+H45+H46+H47+H48+H49+H50+H51+H52+H53 -> 0 | H43: =G43*D43 -> 0 | I43: =J44+J45+J46+J47+J48+J49+J50+J51+J52+J53 -> 0 | J43: =I43*D43 -> 0 | K43: =E43+G43+I43 -> 0 | L43: =F43+H43+J43 -> 0 | N43: 0107 | P43: 01 | R43: 2
A44: 010701 가 설 공 사 | D44: 1 | E44: =공종별내역서!F579 -> 0 | F44: =E44*D44 -> 0 | G44: =공종별내역서!H579 -> 0 | H44: =G44*D44 -> 0 | I44: =공종별내역서!J579 -> 0 | J44: =I44*D44 -> 0 | K44: =E44+G44+I44 -> 0 | L44: =F44+H44+J44 -> 0 | N44: 010701 | P44: 0107 | R44: 3
A45: 010702 타 일 공 사 | D45: 1 | E45: =공종별내역서!F603 -> 0 | F45: =E45*D45 -> 0 | G45: =공종별내역서!H603 -> 0 | H45: =G45*D45 -> 0 | I45: =공종별내역서!J603 -> 0 | J45: =I45*D45 -> 0 | K45: =E45+G45+I45 -> 0 | L45: =F45+H45+J45 -> 0 | N45: 010702 | P45: 0107 | R45: 3
A46: 010703 목공사및수장공사 | D46: 1 | E46: =공종별내역서!F627 -> 0 | F46: =E46*D46 -> 0 | G46: =공종별내역서!H627 -> 0 | H46: =G46*D46 -> 0 | I46: =공종별내역서!J627 -> 0 | J46: =I46*D46 -> 0 | K46: =E46+G46+I46 -> 0 | L46: =F46+H46+J46 -> 0 | N46: 010703 | P46: 0107 | R46: 3
A47: 010704 방 수 공 사 | D47: 1 | E47: =공종별내역서!F651 -> 0 | F47: =E47*D47 -> 0 | G47: =공종별내역서!H651 -> 0 | H47: =G47*D47 -> 0 | I47: =공종별내역서!J651 -> 0 | J47: =I47*D47 -> 0 | K47: =E47+G47+I47 -> 0 | L47: =F47+H47+J47 -> 0 | N47: 010704 | P47: 0107 | R47: 3
A48: 010705 금 속 공 사 | D48: 1 | E48: =공종별내역서!F675 -> 0 | F48: =E48*D48 -> 0 | G48: =공종별내역서!H675 -> 0 | H48: =G48*D48 -> 0 | I48: =공종별내역서!J675 -> 0 | J48: =I48*D48 -> 0 | K48: =E48+G48+I48 -> 0 | L48: =F48+H48+J48 -> 0 | N48: 010705 | P48: 0107 | R48: 3
A49: 010706 미 장 공 사 | D49: 1 | E49: =공종별내역서!F699 -> 0 | F49: =E49*D49 -> 0 | G49: =공종별내역서!H699 -> 0 | H49: =G49*D49 -> 0 | I49: =공종별내역서!J699 -> 0 | J49: =I49*D49 -> 0 | K49: =E49+G49+I49 -> 0 | L49: =F49+H49+J49 -> 0 | N49: 010706 | P49: 0107 | R49: 3
A50: 010707 창호 및 유리공사 | D50: 1 | E50: =공종별내역서!F723 -> 0 | F50: =E50*D50 -> 0 | G50: =공종별내역서!H723 -> 0 | H50: =G50*D50 -> 0 | I50: =공종별내역서!J723 -> 0 | J50: =I50*D50 -> 0 | K50: =E50+G50+I50 -> 0 | L50: =F50+H50+J50 -> 0 | N50: 010707 | P50: 0107 | R50: 3
A51: 010708 칠 공 사 | D51: 1 | E51: =공종별내역서!F747 -> 0 | F51: =E51*D51 -> 0 | G51: =공종별내역서!H747 -> 0 | H51: =G51*D51 -> 0 | I51: =공종별내역서!J747 -> 0 | J51: =I51*D51 -> 0 | K51: =E51+G51+I51 -> 0 | L51: =F51+H51+J51 -> 0 | N51: 010708 | P51: 0107 | R51: 3
A52: 010709 기 타 공 사 | D52: 1 | E52: =공종별내역서!F771 -> 0 | F52: =E52*D52 -> 0 | G52: =공종별내역서!H771 -> 0 | H52: =G52*D52 -> 0 | I52: =공종별내역서!J771 -> 0 | J52: =I52*D52 -> 0 | K52: =E52+G52+I52 -> 0 | L52: =F52+H52+J52 -> 0 | N52: 010709 | P52: 0107 | R52: 3
A53: 010710 철 거 공 사 | D53: 1 | E53: =공종별내역서!F795 -> 0 | F53: =E53*D53 -> 0 | G53: =공종별내역서!H795 -> 0 | H53: =G53*D53 -> 0 | I53: =공종별내역서!J795 -> 0 | J53: =I53*D53 -> 0 | K53: =E53+G53+I53 -> 0 | L53: =F53+H53+J53 -> 0 | N53: 010710 | P53: 0107 | R53: 3
A54: 010711 건설폐기물처리비 | D54: 1 | E54: =공종별내역서!F819 -> 0 | F54: =E54*D54 -> 0 | G54: =공종별내역서!H819 -> 0 | H54: =G54*D54 -> 0 | I54: =공종별내역서!J819 -> 0 | J54: =I54*D54 -> 0 | K54: =E54+G54+I54 -> 0 | L54: =F54+H54+J54 -> 0 | N54: 010711 | Q54: 6 | R54: 3 | T54: =L54*1 -> 0
A55: 010712 작 업 부 산 물 | D55: 1 | E55: =공종별내역서!F843 -> 0 | F55: =E55*D55 -> 0 | G55: =공종별내역서!H843 -> 0 | H55: =G55*D55 -> 0 | I55: =공종별내역서!J843 -> 0 | J55: =I55*D55 -> 0 | K55: =E55+G55+I55 -> 0 | L55: =F55+H55+J55 -> 0 | N55: 010712 | Q55: 1 | R55: 3 | T55: =L55*1 -> 0
A56: 0108 8. 4층 2학년부실 | D56: 1 | E56: =F57+F58+F59+F60 -> 0 | F56: =E56*D56 -> 0 | G56: =H57+H58+H59+H60 -> 0 | H56: =G56*D56 -> 0 | I56: =J57+J58+J59+J60 -> 0 | J56: =I56*D56 -> 0 | K56: =E56+G56+I56 -> 0 | L56: =F56+H56+J56 -> 0 | N56: 0108 | P56: 01 | R56: 2
A57: 010801 가 설 공 사 | D57: 1 | E57: =공종별내역서!F867 -> 0 | F57: =E57*D57 -> 0 | G57: =공종별내역서!H867 -> 0 | H57: =G57*D57 -> 0 | I57: =공종별내역서!J867 -> 0 | J57: =I57*D57 -> 0 | K57: =E57+G57+I57 -> 0 | L57: =F57+H57+J57 -> 0 | N57: 010801 | P57: 0108 | R57: 3
A58: 010802 목공사및수장공사 | D58: 1 | E58: =공종별내역서!F891 -> 0 | F58: =E58*D58 -> 0 | G58: =공종별내역서!H891 -> 0 | H58: =G58*D58 -> 0 | I58: =공종별내역서!J891 -> 0 | J58: =I58*D58 -> 0 | K58: =E58+G58+I58 -> 0 | L58: =F58+H58+J58 -> 0 | N58: 010802 | P58: 0108 | R58: 3
A59: 010803 금 속 공 사 | D59: 1 | E59: =공종별내역서!F915 -> 0 | F59: =E59*D59 -> 0 | G59: =공종별내역서!H915 -> 0 | H59: =G59*D59 -> 0 | I59: =공종별내역서!J915 -> 0 | J59: =I59*D59 -> 0 | K59: =E59+G59+I59 -> 0 | L59: =F59+H59+J59 -> 0 | N59: 010803 | P59: 0108 | R59: 3
A60: 010804 칠 공 사 | D60: 1 | E60: =공종별내역서!F939 -> 0 | F60: =E60*D60 -> 0 | G60: =공종별내역서!H939 -> 0 | H60: =G60*D60 -> 0 | I60: =공종별내역서!J939 -> 0 | J60: =I60*D60 -> 0 | K60: =E60+G60+I60 -> 0 | L60: =F60+H60+J60 -> 0 | N60: 010804 | P60: 0108 | R60: 3
A61: 0109 9. 5층 3학년부실 | D61: 1 | E61: =F62+F63+F64+F65+F66 -> 0 | F61: =E61*D61 -> 0 | G61: =H62+H63+H64+H65+H66 -> 0 | H61: =G61*D61 -> 0 | I61: =J62+J63+J64+J65+J66 -> 0 | J61: =I61*D61 -> 0 | K61: =E61+G61+I61 -> 0 | L61: =F61+H61+J61 -> 0 | N61: 0109 | P61: 01 | R61: 2
A62: 010901 가 설 공 사 | D62: 1 | E62: =공종별내역서!F963 -> 0 | F62: =E62*D62 -> 0 | G62: =공종별내역서!H963 -> 0 | H62: =G62*D62 -> 0 | I62: =공종별내역서!J963 -> 0 | J62: =I62*D62 -> 0 | K62: =E62+G62+I62 -> 0 | L62: =F62+H62+J62 -> 0 | N62: 010901 | P62: 0109 | R62: 3
A63: 010902 목공사및수장공사 | D63: 1 | E63: =공종별내역서!F987 -> 0 | F63: =E63*D63 -> 0 | G63: =공종별내역서!H987 -> 0 | H63: =G63*D63 -> 0 | I63: =공종별내역서!J987 -> 0 | J63: =I63*D63 -> 0 | K63: =E63+G63+I63 -> 0 | L63: =F63+H63+J63 -> 0 | N63: 010902 | P63: 0109 | R63: 3
A64: 010903 미 장 공 사 | D64: 1 | E64: =공종별내역서!F1011 -> 0 | F64: =E64*D64 -> 0 | G64: =공종별내역서!H1011 -> 0 | H64: =G64*D64 -> 0 | I64: =공종별내역서!J1011 -> 0 | J64: =I64*D64 -> 0 | K64: =E64+G64+I64 -> 0 | L64: =F64+H64+J64 -> 0 | N64: 010903 | P64: 0109 | R64: 3
A65: 010904 칠 공 사 | D65: 1 | E65: =공종별내역서!F1035 -> 0 | F65: =E65*D65 -> 0 | G65: =공종별내역서!H1035 -> 0 | H65: =G65*D65 -> 0 | I65: =공종별내역서!J1035 -> 0 | J65: =I65*D65 -> 0 | K65: =E65+G65+I65 -> 0 | L65: =F65+H65+J65 -> 0 | N65: 010904 | P65: 0109 | R65: 3
A66: 010905 철 거 공 사 | D66: 1 | E66: =공종별내역서!F1059 -> 0 | F66: =E66*D66 -> 0 | G66: =공종별내역서!H1059 -> 0 | H66: =G66*D66 -> 0 | I66: =공종별내역서!J1059 -> 0 | J66: =I66*D66 -> 0 | K66: =E66+G66+I66 -> 0 | L66: =F66+H66+J66 -> 0 | N66: 010905 | P66: 0109 | R66: 3
A67: 010906 건설폐기물처리비 | D67: 1 | E67: =공종별내역서!F1083 -> 0 | F67: =E67*D67 -> 0 | G67: =공종별내역서!H1083 -> 0 | H67: =G67*D67 -> 0 | I67: =공종별내역서!J1083 -> 0 | J67: =I67*D67 -> 0 | K67: =E67+G67+I67 -> 0 | L67: =F67+H67+J67 -> 0 | N67: 010906 | Q67: 6 | R67: 3 | T67: =L67*1 -> 0
A70: [ 합 계 ] | F70: =F5 -> 0 | H70: =H5 -> 0 | J70: =J5 -> 0 | L70: =L5 -> 0

Sheet 공종별내역서
A1: [ 난우중학교 관리실 환경개선공사 ]
A2: 품 명 | B2: 규 격 | C2: 단위 | D2: 수량 | E2: 재 료 비 | G2: 노 무 비 | I2: 경 비 | K2: 합 계 | M2: 비 고 | N2: 품목코드 | O2: 변수 | P2: 설정 | Q2: 공종코드 | R2: 일위 | S2: 단산 | T2: 자재 | U2: 손료적용 | V2: 손료저장 | W2: 적용율 | X2: JUK1 | Y2: JUK2 | Z2: JUK3 | AA2: JUK4 | AB2: JUK5 | AC2: JUK6 | AD2: JUK7 | AE2: JUK8 | AF2: JUK9 | AG2: JUK10 | AH2: JUK11 | AI2: JUK12 | AJ2: JUK13 | AK2: JUK14 | AL2: JUK15 | AM2: JUK16 | AN2: JUK17 | AO2: JUK18 | AP2: JUK19 | AQ2: JUK20 | AR2: 자재구분 | AS2: 공종구분 | AT2: 공종레벨 | AU2: 공종+자재 | AV2: 고유번호
E3: 단 가 | F3: 금 액 | G3: 단 가 | H3: 금 액 | I3: 단 가 | J3: 금 액 | K3: 단 가 | L3: 금 액
A4: 010301 가 설 공 사 | B4: 3. 3층 1학년부실 | Q4: 010301
A5: 강관 조립말비계(이동식)설치 및 해체 | B5: 높이 2m, 3개월 | C5: 대 | D5: 1 | E5: =TRUNC(일위대가목록!E7,0) -> 0 | F5: =TRUNC(E5*D5,0) -> 0 | G5: =TRUNC(일위대가목록!F7,0) -> 0 | H5: =TRUNC(G5*D5,0) -> 0 | I5: =TRUNC(일위대가목록!G7,0) -> 0 | J5: =TRUNC(I5*D5,0) -> 0 | K5: =TRUNC(E5+G5+I5,0) -> 0 | L5: =TRUNC(F5+H5+J5,0) -> 0 | M5: 호표 4 | N5: 465C91B9069D12D2840360DE58853 | Q5: 010301 | R5: T | S5: F | T5: F | AU5: 010301465C91B9069D12D2840360DE58853 | AV5: 35
A6: 건축물 현장정리 | B6: 개보수 | C6: M2 | D6: 65.85 | E6: =TRUNC(일위대가목록!E8,0) -> 0 | F6: =TRUNC(E6*D6,0) -> 0 | G6: =TRUNC(일위대가목록!F8,0) -> 0 | H6: =TRUNC(G6*D6,0) -> 0 | I6: =TRUNC(일위대가목록!G8,0) -> 0 | J6: =TRUNC(I6*D6,0) -> 0 | K6: =TRUNC(E6+G6+I6,0) -> 0 | L6: =TRUNC(F6+H6+J6,0) -> 0 | M6: 호표 5 | N6: 465C91BCDBC6324254B6F693AC012 | Q6: 010301 | R6: T | S6: F | T6: F | AU6: 010301465C91BCDBC6324254B6F693AC012 | AV6: 245
A7: 준공청소 | B7: 개보수/습건식 청소 | C7: M2 | D7: 65.85 | E7: =TRUNC(일위대가목록!E10,0) -> 0 | F7: =TRUNC(E7*D7,0) -> 0 | G7: =TRUNC(일위대가목록!F10,0) -> 0 | H7: =TRUNC(G7*D7,0) -> 0 | I7: =TRUNC(일위대가목록!G10,0) -> 0 | J7: =TRUNC(I7*D7,0) -> 0 | K7: =TRUNC(E7+G7+I7,0) -> 0 | L7: =TRUNC(F7+H7+J7,0) -> 0 | M7: 호표 7 | N7: 465C91BCDE951212841B4F50BB7B2 | Q7: 010301 | R7: T | S7: F | T7: F | AU7: 010301465C91BCDE951212841B4F50BB7B2 | AV7: 37
A8: 비닐보양 - 바닥 | B8: 폴리에틸렌필름, 두께, 0.05mm, 2겹 | C8: M2 | D8: 131.69 | E8: =TRUNC(일위대가목록!E98,0) -> 0 | F8: =TRUNC(E8*D8,0) -> 0 | G8: =TRUNC(일위대가목록!F98,0) -> 0 | H8: =TRUNC(G8*D8,0) -> 0 | I8: =TRUNC(일위대가목록!G98,0) -> 0 | J8: =TRUNC(I8*D8,0) -> 0 | K8: =TRUNC(E8+G8+I8,0) -> 0 | L8: =TRUNC(F8+H8+J8,0) -> 0 | M8: 호표 95 | N8: 465C9FD37B2C52E284BFFF7DC468D | Q8: 010301 | R8: T | S8: F | T8: F | AU8: 010301465C9FD37B2C52E284BFFF7DC468D | AV8: 38
Q9: 010301
Q10: 010301
Q11: 010301
Q12: 010301
Q13: 010301
Q14: 010301
Q15: 010301
Q16: 010301
Q17: 010301
Q18: 010301
Q19: 010301
Q20: 010301
... Q26: 010301
A27: [ 합 계 ] | F27: =SUMIF(Q5:Q26,"010301",F5:F26) -> 0 | H27: =SUMIF(Q5:Q26,"010301",H5:H26) -> 0 | J27: =SUMIF(Q5:Q26,"010301",J5:J26) -> 0 | L27: =SUMIF(Q5:Q26,"010301",L5:L26) -> 0 | N27: TOTAL
A28: 010302 돌 공 사 | B28: 3. 3층 1학년부실 | Q28: 010302
A29: 시멘트 | B29: 건재상 | C29: 포 | D29: 1 | E29: =TRUNC(단가대비표!O25,0) -> 0 | F29: =TRUNC(E29*D29,0) -> 0 | G29: =TRUNC(단가대비표!P25,0) -> 0 | H29: =TRUNC(G29*D29,0) -> 0 | I29: =TRUNC(단가대비표!V25,0) -> 0 | J29: =TRUNC(I29*D29,0) -> 0 | K29: =TRUNC(E29+G29+I29,0) -> 0 | L29: =TRUNC(F29+H29+J29,0) -> 0 | N29: 417092BD5691424254EB5C47002D953E10EC7 | Q29: 010302 | R29: F | S29: F | T29: T | AU29: 010302417092BD5691424254EB5C47002D953E10EC7 | AV29: 246
A30: 모래 | B30: 모래, 자연사, 도착도 | C30: M3 | D30: 0.1 | E30: =TRUNC(단가대비표!O8,0) -> 0 | F30: =TRUNC(E30*D30,0) -> 0 | G30: =TRUNC(단가대비표!P8,0) -> 0 | H30: =TRUNC(G30*D30,0) -> 0 | I30: =TRUNC(단가대비표!V8,0) -> 0 | J30: =TRUNC(I30*D30,0) -> 0 | K30: =TRUNC(E30+G30+I30,0) -> 0 | L30: =TRUNC(F30+H30+J30,0) -> 0 | N30: 415594C051094242A4398C1BF38C48A888DA5 | Q30: 010302 | R30: F | S30: F | T30: T | AU30: 010302415594C051094242A4398C1BF38C48A888DA5 | AV30: 247
A31: 인조대리석붙임(습식, 물갈기) | B31: 창대, 인조대리석 250*40mm, 모르타르 30mm | C31: M | D31: 7.64 | E31: =TRUNC(일위대가목록!E57,0) -> 0 | F31: =TRUNC(E31*D31,0) -> 0 | G31: =TRUNC(일위대가목록!F57,0) -> 0 | H31: =TRUNC(G31*D31,0) -> 0 | I31: =TRUNC(일위대가목록!G57,0) -> 0 | J31: =TRUNC(I31*D31,0) -> 0 | K31: =TRUNC(E31+G31+I31,0) -> 0 | L31: =TRUNC(F31+H31+J31,0) -> 0 | M31: 호표 54 | N31: 465C9D8BEA5D0212F4DA47D886363 | Q31: 010302 | R31: T | S31: F | T31: F | AU31: 010302465C9D8BEA5D0212F4DA47D886363 | AV31: 248
Q32: 010302
Q33: 010302
Q34: 010302
Q35: 010302
Q36: 010302
Q37: 010302
Q38: 010302
Q39: 010302
Q40: 010302
Q41: 010302
Q42: 010302
Q43: 010302
... Q50: 010302
A51: [ 합 계 ] | F51: =SUMIF(Q29:Q50,"010302",F29:F50) -> 0 | H51: =SUMIF(Q29:Q50,"010302",H29:H50) -> 0 | J51: =SUMIF(Q29:Q50,"010302",J29:J50) -> 0 | L51: =SUMIF(Q29:Q50,"010302",L29:L50) -> 0 | N51: TOTAL
A52: 010303 목공사및수장공사 | B52: 3. 3층 1학년부실 | Q52: 010303
A53: 벽체틀 설치 | B53: 30*30, @450*600, 미송 | C53: M2 | D53: 7.78 | E53: =TRUNC(일위대가목록!E26,0) -> 0 | F53: =TRUNC(E53*D53,0) -> 0 | G53: =TRUNC(일위대가목록!F26,0) -> 0 | H53: =TRUNC(G53*D53,0) -> 0 | I53: =TRUNC(일위대가목록!G26,0) -> 0 | J53: =TRUNC(I53*D53,0) -> 0 | K53: =TRUNC(E53+G53+I53,0) -> 0 | L53: =TRUNC(F53+H53+J53,0) -> 0 | M53: 호표 23 | N53: 465C996CD17732A2141DA803D8977 | Q53: 010303 | R53: T | S53: F | T53: F | AU53: 010303465C996CD17732A2141DA803D8977 | AV53: 249
A54: 석고판 설치(나사고정) - 바탕용 | B54: 벽, 9.5t*2겹 붙임 | C54: M2 | D54: 7.78 | E54: =TRUNC(일위대가목록!E95,0) -> 0 | F54: =TRUNC(E54*D54,0) -> 0 | G54: =TRUNC(일위대가목록!F95,0) -> 0 | H54: =TRUNC(G54*D54,0) -> 0 | I54: =TRUNC(일위대가목록!G95,0) -> 0 | J54: =TRUNC(I54*D54,0) -> 0 | K54: =TRUNC(E54+G54+I54,0) -> 0 | L54: =TRUNC(F54+H54+J54,0) -> 0 | M54: 호표 92 | N54: 465C9FD41D172292046EBFC4789B5 | Q54: 010303 | R54: T | S54: F | T54: F | AU54: 010303465C9FD41D172292046EBFC4789B5 | AV54: 251
A55: 무석면텍스 설치 | B55: 천장, 300*600*9t | C55: M2 | D55: 62.1 | E55: =TRUNC(일위대가목록!E93,0) -> 0 | F55: =TRUNC(E55*D55,0) -> 0 | G55: =TRUNC(일위대가목록!F93,0) -> 0 | H55: =TRUNC(G55*D55,0) -> 0 | I55: =TRUNC(일위대가목록!G93,0) -> 0 | J55: =TRUNC(I55*D55,0) -> 0 | K55: =TRUNC(E55+G55+I55,0) -> 0 | L55: =TRUNC(F55+H55+J55,0) -> 0 | M55: 호표 90 | N55: 465C9FD41E3FD2927426B216A8E79 | Q55: 010303 | R55: T | S55: F | T55: F | AU55: 010303465C9FD41E3FD2927426B216A8E79 | AV55: 250
Q56: 010303
Q57: 010303
Q58: 010303
Q59: 010303
Q60: 010303
Q61: 010303
Q62: 010303
Q63: 010303
Q64: 010303
Q65: 010303
Q66: 010303
Q67: 010303
... Q74: 010303
A75: [ 합 계 ] | F75: =SUMIF(Q53:Q74,"010303",F53:F74) -> 0 | H75: =SUMIF(Q53:Q74,"010303",H53:H74) -> 0 | J75: =SUMIF(Q53:Q74,"010303",J53:J74) -> 0 | L75: =SUMIF(Q53:Q74,"010303",L53:L74) -> 0 | N75: TOTAL
A76: 010304 금 속 공 사 | B76: 3. 3층 1학년부실 | Q76: 010304
A77: 경량천장철골틀 설치 | B77: M-BAR | C77: M2 | D77: 62.1 | E77: =TRUNC(일위대가목록!E30,0) -> 0 | F77: =TRUNC(E77*D77,0) -> 0 | G77: =TRUNC(일위대가목록!F30,0) -> 0 | H77: =TRUNC(G77*D77,0) -> 0 | I77: =TRUNC(일위대가목록!G30,0) -> 0 | J77: =TRUNC(I77*D77,0) -> 0 | K77: =TRUNC(E77+G77+I77,0) -> 0 | L77: =TRUNC(F77+H77+J77,0) -> 0 | M77: 호표 27 | N77: 465C9A5C08C6329244E816F85DFD5 | Q77: 010304 | R77: T | S77: F | T77: F | AU77: 010304465C9A5C08C6329244E816F85DFD5 | AV77: 49
A78: AL몰딩 설치 | B78: W형, 15*15*15*15*1.0mm | C78: M | D78: 38.92 | E78: =TRUNC(일위대가목록!E102,0) -> 0 | F78: =TRUNC(E78*D78,0) -> 0 | G78: =TRUNC(일위대가목록!F102,0) -> 0 | H78: =TRUNC(G78*D78,0) -> 0 | I78: =TRUNC(일위대가목록!G102,0) -> 0 | J78: =TRUNC(I78*D78,0) -> 0 | K78: =TRUNC(E78+G78+I78,0) -> 0 | L78: =TRUNC(F78+H78+J78,0) -> 0 | M78: 호표 99 | N78: 465C9FDE00AB9202841DFF16E2F98 | Q78: 010304 | R78: T | S78: F | T78: F | AU78: 010304465C9FDE00AB9202841DFF16E2F98 | AV78: 51
A79: 철재커텐박스(ㄱ자형) | B79: 100*100*1.2t, STL(도장 유) | C79: M | D79: 7.64 | E79: =TRUNC(일위대가목록!E100,0) -> 0 | F79: =TRUNC(E79*D79,0) -> 0 | G79: =TRUNC(일위대가목록!F100,0) -> 0 | H79: =TRUNC(G79*D79,0) -> 0 | I79: =TRUNC(일위대가목록!G100,0) -> 0 | J79: =TRUNC(I79*D79,0) -> 0 | K79: =TRUNC(E79+G79+I79,0) -> 0 | L79: =TRUNC(F79+H79+J79,0) -> 0 | M79: 호표 97 | N79: 465C9FDF285D82A244A1D7874D65B | Q79: 010304 | R79: T | S79: F | T79: F | AU79: 010304465C9FDF285D82A244A1D7874D65B | AV79: 50
Q80: 010304
Q81: 010304
Q82: 010304
Q83: 010304
Q84: 010304
Q85: 010304
Q86: 010304
Q87: 010304
Q88: 010304
Q89: 010304
Q90: 010304
Q91: 010304
... Q98: 010304
A99: [ 합 계 ] | F99: =SUMIF(Q77:Q98,"010304",F77:F98) -> 0 | H99: =SUMIF(Q77:Q98,"010304",H77:H98) -> 0 | J99: =SUMIF(Q77:Q98,"010304",J77:J98) -> 0 | L99: =SUMIF(Q77:Q98,"010304",L77:L98) -> 0 | N99: TOTAL
A100: 010305 칠 공 사 | B100: 3. 3층 1학년부실 | Q100: 010305
A101: 바탕만들기+걸레받이용 페인트칠 | B101: 붓칠 2회, con'c·mortar면 | C101: M2 | D101: 3.1 | E101: =TRUNC(일위대가목록!E66,0) -> 0 | F101: =TRUNC(E101*D101,0) -> 0 | G101: =TRUNC(일위대가목록!F66,0) -> 0 | H101: =TRUNC(G101*D101,0) -> 0 | I101: =TRUNC(일위대가목록!G66,0) -> 0 | J101: =TRUNC(I101*D101,0) -> 0 | K101: =TRUNC(E101+G101+I101,0) -> 0 | L101: =TRUNC(F101+H101+J101,0) -> 0 | M101: 호표 63 | N101: 465C9EF24425224204336E47714AD | Q101: 010305 | R101: T | S101: F | T101: F | AU101: 010305465C9EF24425224204336E47714AD | AV101: 53
A102: 바탕만들기+걸레받이용 페인트칠 | B102: 붓칠 2회, G.B.면(줄퍼티) | C102: M2 | D102: 0.2 | E102: =TRUNC(일위대가목록!E67,0) -> 0 | F102: =TRUNC(E102*D102,0) -> 0 | G102: =TRUNC(일위대가목록!F67,0) -> 0 | H102: =TRUNC(G102*D102,0) -> 0 | I102: =TRUNC(일위대가목록!G67,0) -> 0 | J102: =TRUNC(I102*D102,0) -> 0 | K102: =TRUNC(E102+G102+I102,0) -> 0 | L102: =TRUNC(F102+H102+J102,0) -> 0 | M102: 호표 64 | N102: 465C9EF24425224204336E477165B | Q102: 010305 | R102: T | S102: F | T102: F | AU102: 010305465C9EF24425224204336E477165B | AV102: 54
A103: 바탕만들기+수성페인트 롤러칠 | B103: 내부 2회, con'c·mortar면, 친환경 | C103: M2 | D103: 67.12 | E103: =TRUNC(일위대가목록!E73,0) -> 0 | F103: =TRUNC(E103*D103,0) -> 0 | G103: =TRUNC(일위대가목록!F73,0) -> 0 | H103: =TRUNC(G103*D103,0) -> 0 | I103: =TRUNC(일위대가목록!G73,0) -> 0 | J103: =TRUNC(I103*D103,0) -> 0 | K103: =TRUNC(E103+G103+I103,0) -> 0 | L103: =TRUNC(F103+H103+J103,0) -> 0 | M103: 호표 70 | N103: 465C9EF36CD7D28224ABF09F5C9EB | Q103: 010305 | R103: T | S103: F | T103: F | AU103: 010305465C9EF36CD7D28224ABF09F5C9EB | AV103: 55
A104: 바탕만들기+수성페인트 롤러칠 | B104: 내부 2회, G.B.면 줄퍼티, 친환경 | C104: M2 | D104: 2.94 | E104: =TRUNC(일위대가목록!E74,0) -> 0 | F104: =TRUNC(E104*D104,0) -> 0 | G104: =TRUNC(일위대가목록!F74,0) -> 0 | H104: =TRUNC(G104*D104,0) -> 0 | I104: =TRUNC(일위대가목록!G74,0) -> 0 | J104: =TRUNC(I104*D104,0) -> 0 | K104: =TRUNC(E104+G104+I104,0) -> 0 | L104: =TRUNC(F104+H104+J104,0) -> 0 | M104: 호표 71 | N104: 465C9EF36CD7D28224ABF0E770492 | Q104: 010305 | R104: T | S104: F | T104: F | AU104: 010305465C9EF36CD7D28224ABF0E770492 | AV104: 56
A105: 바탕만들기+수성페인트 롤러칠 | B105: 내부 3회, G.B.면 줄퍼티, 친환경 | C105: M2 | D105: 7.78 | E105: =TRUNC(일위대가목록!E75,0) -> 0 | F105: =TRUNC(E105*D105,0) -> 0 | G105: =TRUNC(일위대가목록!F75,0) -> 0 | H105: =TRUNC(G105*D105,0) -> 0 | I105: =TRUNC(일위대가목록!G75,0) -> 0 | J105: =TRUNC(I105*D105,0) -> 0 | K105: =TRUNC(E105+G105+I105,0) -> 0 | L105: =TRUNC(F105+H105+J105,0) -> 0 | M105: 호표 72 | N105: 465C9EF36CD7D28224ABE64388EE1 | Q105: 010305 | R105: T | S105: F | T105: F | AU105: 010305465C9EF36CD7D28224ABE64388EE1 | AV105: 57
A106: 바탕만들기+수성페인트 롤러칠 | B106: 내천장 2회, con'c·mortar면, 친환경 | C106: M2 | D106: 6.55 | E106: =TRUNC(일위대가목록!E76,0) -> 0 | F106: =TRUNC(E106*D106,0) -> 0 | G106: =TRUNC(일위대가목록!F76,0) -> 0 | H106: =TRUNC(G106*D106,0) -> 0 | I106: =TRUNC(일위대가목록!G76,0) -> 0 | J106: =TRUNC(I106*D106,0) -> 0 | K106: =TRUNC(E106+G106+I106,0) -> 0 | L106: =TRUNC(F106+H106+J106,0) -> 0 | M106: 호표 73 | N106: 465C9EF36CD7D28224AB5049ACDBB | Q106: 010305 | R106: T | S106: F | T106: F | AU106: 010305465C9EF36CD7D28224AB5049ACDBB | AV106: 58
Q107: 010305
Q108: 010305
Q109: 010305
Q110: 010305
Q111: 010305
Q112: 010305
Q113: 010305
Q114: 010305
Q115: 010305
Q116: 010305
Q117: 010305
Q118: 010305
... Q122: 010305
A123: [ 합 계 ] | F123: =SUMIF(Q101:Q122,"010305",F101:F122) -> 0 | H123: =SUMIF(Q101:Q122,"010305",H101:H122) -> 0 | J123: =SUMIF(Q101:Q122,"010305",J101:J122) -> 0 | L123: =SUMIF(Q101:Q122,"010305",L101:L122) -> 0 | N123: TOTAL
A124: 010306 철 거 공 사 | B124: 3. 3층 1학년부실 | Q124: 010306
A125: 인조대리석 창대 철거 | B125: 250*40t, 불임몰탈 포함 | C125: M | D125: 7.64 | E125: =TRUNC(일위대가목록!E108,0) -> 0 | F125: =TRUNC(E125*D125,0) -> 0 | G125: =TRUNC(일위대가목록!F108,0) -> 0 | H125: =TRUNC(G125*D125,0) -> 0 | I125: =TRUNC(일위대가목록!G108,0) -> 0 | J125: =TRUNC(I125*D125,0) -> 0 | K125: =TRUNC(E125+G125+I125,0) -> 0 | L125: =TRUNC(F125+H125+J125,0) -> 0 | M125: 호표 105 | N125: 465D9125C48B1292F483116E08767 | Q125: 010306 | R125: T | S125: F | T125: F | AU125: 010306465D9125C48B1292F483116E08767 | AV125: 60
A126: 건설폐재류 상차비 | C126: TON | D126: 0.2 | E126: =TRUNC(단가대비표!O92,0) -> 0 | F126: =TRUNC(E126*D126,0) -> 0 | G126: =TRUNC(단가대비표!P92,0) -> 0 | H126: =TRUNC(G126*D126,0) -> 0 | I126: =TRUNC(단가대비표!V92,0) -> 0 | J126: =TRUNC(I126*D126,0) -> 0 | K126: =TRUNC(E126+G126+I126,0) -> 0 | L126: =TRUNC(F126+H126+J126,0) -> 0 | N126: 461D95C51647D2028490164FAA86325C2275D | Q126: 010306 | R126: F | S126: F | T126: T | AU126: 010306461D95C51647D2028490164FAA86325C2275D | AV126: 63
...

Sheet 일위대가목록
B1: 일 위 대 가 목 록
B2: [ 난우중학교 관리실 환경개선공사 ]
A3: 코 드 | B3: 품 명 | C3: 규 격 | D3: 단위 | E3: 재 료 비 | F3: 노 무 비 | G3: 경 비 | H3: 합 계 | I3: 번 호 | J3: 비 고 | K3: 노임계수 | L3: 할증 | M3: 품셈개요 | N3: 장비일위
A4: 41449EF6491E8202845683DFF8268B659C74E61 | B4: 소형브레이커(전기식) | C4: 1.5kw | D4: HR | E4: =일위대가!F6 -> 0 | F4: =일위대가!H6 -> 0 | G4: =일위대가!J6 -> 0 | H4: =E4+F4+G4 -> 0 | I4: 호표 1 | M4: 공통 8-3(5220) | N4: T
A5: 41449EF6491CD23234347E8AB5497FFA9098989 | B5: 용접기(교류) | C5: 500Amp | D5: HR | E5: =일위대가!F10 -> 0 | F5: =일위대가!H10 -> 0 | G5: =일위대가!J10 -> 0 | H5: =E5+F5+G5 -> 0 | I5: 호표 2 | K5: A | M5: 공통 8-3(7611) | N5: T
A6: 465C91B9069D12D2840360CDFBF53 | B6: 강관 조립말비계(이동식)설치 및 해체 | C6: 높이 2m, 노무비 | D6: 대 | E6: =일위대가!F15 -> 0 | F6: =일위대가!H15 -> 0 | G6: =일위대가!J15 -> 0 | H6: =E6+F6+G6 -> 0 | I6: 호표 3 | M6: 공통 2-7-6
A7: 465C91B9069D12D2840360DE58853 | B7: 강관 조립말비계(이동식)설치 및 해체 | C7: 높이 2m, 3개월 | D7: 대 | E7: =일위대가!F28 -> 0 | F7: =일위대가!H28 -> 0 | G7: =일위대가!J28 -> 0 | H7: =E7+F7+G7 -> 0 | I7: 호표 4 | M7: 공통 2-7-6, 2-2-5
A8: 465C91BCDBC6324254B6F693AC012 | B8: 건축물 현장정리 | C8: 개보수 | D8: M2 | E8: =일위대가!F32 -> 0 | F8: =일위대가!H32 -> 0 | G8: =일위대가!J32 -> 0 | H8: =E8+F8+G8 -> 0 | I8: 호표 5 | M8: 공통 2-11-2
A9: 465C91BCD80C22429437E6F6BC67B | B9: 건축물 보양 - 타일 | C9: 톱밥 - 조달자원 대체 | D9: M2 | E9: =일위대가!F37 -> 0 | F9: =일위대가!H37 -> 0 | G9: =일위대가!J37 -> 0 | H9: =E9+F9+G9 -> 0 | I9: 호표 6 | M9: 건축 2-9
A10: 465C91BCDE951212841B4F50BB7B2 | B10: 준공청소 | C10: 개보수 | D10: M2 | E10: =일위대가!F41 -> 0 | F10: =일위대가!H41 -> 0 | G10: =일위대가!J41 -> 0 | H10: =E10+F10+G10 -> 0 | I10: 호표 7
A11: 465C91BCDE951212841B4F50BB7B6 | B11: 집기류 및 가구 등 이전 재설치 | C11: 붙박이장제외(종이박스6호 제공 실당5개이상)선풍기,비석면에 붙은 모든 제품들 | D11: M2 | E11: =일위대가!F46 -> 0 | F11: =일위대가!H46 -> 0 | G11: =일위대가!J46 -> 0 | H11: =E11+F11+G11 -> 0 | I11: 호표 8
A12: 465C9720ED8C4212A4EA040F5E0E7 | B12: 모르타르 배합 | C12: 모래채가름 포함 | D12: M3 | E12: =일위대가!F50 -> 0 | F12: =일위대가!H50 -> 0 | G12: =일위대가!J50 -> 0 | H12: =E12+F12+G12 -> 0 | I12: 호표 9 | M12: 건축 9-1-1
A13: 465C9720ED8C4212A4EA0434AC6B8 | B13: 모르타르 배합(배합품 포함) | C13: 배합용적비 1:3, 시멘트, 모래 별도 | D13: M3 | E13: =일위대가!F56 -> 0 | F13: =일위대가!H56 -> 0 | G13: =일위대가!J56 -> 0 | H13: =E13+F13+G13 -> 0 | I13: 호표 10 | M13: 건축 9-1-1
A14: 465C9720EE92A2C294355A88ECE03 | B14: 바탕 정리 | D14: M2 | E14: =일위대가!F61 -> 0 | F14: =일위대가!H61 -> 0 | G14: =일위대가!J61 -> 0 | H14: =E14+F14+G14 -> 0 | I14: 호표 11
A15: 465C972BF72BF2B2043B9917C01FC | B15: 코너비드 | C15: 코너비드, SUS 타일코너, 10mm | D15: M | E15: =일위대가!F66 -> 0 | F15: =일위대가!H66 -> 0 | G15: =일위대가!J66 -> 0 | H15: =E15+F15+G15 -> 0 | I15: 호표 12 | M15: 건축 8-1-2
A16: 465C98019ECE12A26425C49C62AB8 | B16: 수밀코킹 | C16: 재료비 별도 | D16: M | E16: =일위대가!F70 -> 0 | F16: =일위대가!H70 -> 0 | G16: =일위대가!J70 -> 0 | H16: =E16+F16+G16 -> 0 | I16: 호표 13 | M16: 건축 6-6-1
A17: 465C98019C00C292B408B83034F7B | B17: 유리주위 코킹 | C17: 5*5, 실리콘 | D17: M | E17: =일위대가!F74 -> 0 | F17: =일위대가!H74 -> 0 | G17: =일위대가!J74 -> 0 | H17: =E17+F17+G17 -> 0 | I17: 호표 14 | M17: 건축 6-6-1
A18: 465C98019D252272A4F1196AB7B64 | B18: 수밀코킹(실리콘) | C18: 삼각, 10mm, 창호주위 | D18: M | E18: =일위대가!F79 -> 0 | F18: =일위대가!H79 -> 0 | G18: =일위대가!J79 -> 0 | H18: =E18+F18+G18 -> 0 | I18: 호표 15 | M18: 건축 6-6-1
A19: 465C980E5522D2227495292FBFF67 | B19: 시멘트 액체방수 바름 | C19: 바닥 | D19: M2 | E19: =일위대가!F85 -> 0 | F19: =일위대가!H85 -> 0 | G19: =일위대가!J85 -> 0 | H19: =E19+F19+G19 -> 0 | I19: 호표 16 | M19: 건축 6-4-1
A20: 465C980E5522D222749518B8988A4 | B20: 시멘트 액체방수 바름 | C20: 수직부 | D20: M2 | E20: =일위대가!F91 -> 0 | F20: =일위대가!H91 -> 0 | G20: =일위대가!J91 -> 0 | H20: =E20+F20+G20 -> 0 | I20: 호표 17 | M20: 건축 6-4-1
A21: 465C980E541BE21244992E4EFC13A | B21: 시멘트 액체방수 | C21: 바닥, 1종 | D21: M2 | E21: =일위대가!F98 -> 0 | F21: =일위대가!H98 -> 0 | G21: =일위대가!J98 -> 0 | H21: =E21+F21+G21 -> 0 | I21: 호표 18 | M21: 건축 12-7-2
A22: 465C980E541BE21244992E4EFC138 | B22: 시멘트 액체방수 | C22: 벽, 1종 | D22: M2 | E22: =일위대가!F105 -> 0 | F22: =일위대가!H105 -> 0 | G22: =일위대가!J105 -> 0 | H22: =E22+F22+G22 -> 0 | I22: 호표 19 | M22: 건축 12-7-2
A23: 465C980D4E31220264AABE808B607 | B23: 보호모르타르 / 바닥 | C23: 콘크리트면, 20mm | D23: M2 | E23: =일위대가!F110 -> 0 | F23: =일위대가!H110 -> 0 | G23: =일위대가!J110 -> 0 | H23: =E23+F23+G23 -> 0 | I23: 호표 20
A24: 465C996FA20482A25476C030C3FF7 | B24: 플로어링 마루 설치 | D24: M2 | E24: =일위대가!F116 -> 0 | F24: =일위대가!H116 -> 0 | G24: =일위대가!J116 -> 0 | H24: =E24+F24+G24 -> 0 | I24: 호표 21 | M24: 건축 5-1-3
A25: 465C996CD17612421402F550AC07B | B25: 벽체틀 설치 | C25: 자재 별도 | D25: M2 | E25: =일위대가!F122 -> 0 | F25: =일위대가!H122 -> 0 | G25: =일위대가!J122 -> 0 | H25: =E25+F25+G25 -> 0 | I25: 호표 22 | M25: 건축 4-2-1
A26: 465C996CD17732A2141DA803D8977 | B26: 벽체틀 설치 | C26: 30*30, @450*600, 미송 | D26: M2 | E26: =일위대가!F127 -> 0 | F26: =일위대가!H127 -> 0 | G26: =일위대가!J127 -> 0 | H26: =E26+F26+G26 -> 0 | I26: 호표 23 | M26: 건축 4-2-1
A27: 465C996CDB7A62B284F453FCEFACA | B27: 토대설치 | D27: M | E27: =일위대가!F133 -> 0 | F27: =일위대가!H133 -> 0 | G27: =일위대가!J133 -> 0 | H27: =E27+F27+G27 -> 0 | I27: 호표 24 | M27: 건축 4-3-1
A28: 465C9A5C09EDC232B4681A3DB622B | B28: 인서트설치 - 16년 상 개정 삭제 | C28: 거푸집용 | D28: 개 | E28: =일위대가!F138 -> 0 | F28: =일위대가!H138 -> 0 | G28: =일위대가!J138 -> 0 | H28: =E28+F28+G28 -> 0 | I28: 호표 25 | M28: 건축 14-7.1
A29: 465C9A5C08C6329244E816F85DFD4 | B29: 경량천장철골틀 설치 | C29: BAR 간격 300mm | D29: M2 | E29: =일위대가!F144 -> 0 | F29: =일위대가!H144 -> 0 | G29: =일위대가!J144 -> 0 | H29: =E29+F29+G29 -> 0 | I29: 호표 26 | M29: 건축 8-2-4
A30: 465C9A5C08C6329244E816F85DFD5 | B30: 경량천장철골틀 설치 | C30: M-BAR | D30: M2 | E30: =일위대가!F160 -> 0 | F30: =일위대가!H160 -> 0 | G30: =일위대가!J160 -> 0 | H30: =E30+F30+G30 -> 0 | I30: 호표 27
A31: 465C9A58AF43F25224AD4790F9330 | B31: 각종 잡철물 제작 - 22-1/4삭제 | C31: 스테인리스, 간단(강판의 가공설치) | D31: kg | E31: =일위대가!F173 -> 0 | F31: =일위대가!H173 -> 0 | G31: =일위대가!J173 -> 0 | H31: =E31+F31+G31 -> 0 | I31: 호표 28 | M31: 건축 8-4-1
A32: 465C9A58AF43F25224AD478693012 | B32: 각종 잡철물 설치 - 22-1/4삭제 | C32: 스테인리스, 간단(강판의 가공설치) | D32: kg | E32: =일위대가!F186 -> 0 | F32: =일위대가!H186 -> 0 | G32: =일위대가!J186 -> 0 | H32: =E32+F32+G32 -> 0 | I32: 호표 29 | M32: 건축 8-4-1
A33: 465C9A58AF43F252249CC61B510AD | B33: 각종 잡철물 제작 설치 - 22-1/4삭제 | C33: 스테인리스, 간단(강판의 가공설치) | D33: kg | E33: =일위대가!F191 -> 0 | F33: =일위대가!H191 -> 0 | G33: =일위대가!J191 -> 0 | H33: =E33+F33+G33 -> 0 | I33: 호표 30 | M33: 건축 8-4-1
A34: 465C9A58AC8F320204EDFB03C941A | B34: 잡철물 제작 및 설치 | C34: 현장제작 설치, 일반철재 | D34: kg | E34: =일위대가!F200 -> 0 | F34: =일위대가!H200 -> 0 | G34: =일위대가!J200 -> 0 | H34: =E34+F34+G34 -> 0 | I34: 호표 31 | M34: 건축 8-3-1
A35: 465C9A58AC8F320204EDD83C78421 | B35: 잡철물 제작 및 설치 | C35: 현장제작 설치, 경량철재 | D35: kg | E35: =일위대가!F209 -> 0 | F35: =일위대가!H209 -> 0 | G35: =일위대가!J209 -> 0 | H35: =E35+F35+G35 -> 0 | I35: 호표 32 | M35: 건축 8-3-1
A36: 465C9CA38DE232A2746CC116BDAB6 | B36: SSD1[7. 3층 학습도움실] | C36: 2.100 x 2.700 = 5.670 | D36: EA | E36: =일위대가!F215 -> 0 | F36: =일위대가!H215 -> 0 | G36: =일위대가!J215 -> 0 | H36: =E36+F36+G36 -> 0 | I36: 호표 33
A37: 465C9CA38DE232A2746CC116BDAB4 | B37: WD1[7. 3층 학습도움실] | C37: 0.900 x 2.100 = 1.890 | D37: EA | E37: =일위대가!F219 -> 0 | F37: =일위대가!H219 -> 0 | G37: =일위대가!J219 -> 0 | H37: =E37+F37+G37 -> 0 | I37: 호표 34
A38: 465C9CA38E8892E234CC5006FD424 | B38: 목재창호 설치 / 여닫이 | C38: 창호면적 m2, 1.0 이하 | D38: 개소 | E38: =일위대가!F225 -> 0 | F38: =일위대가!H225 -> 0 | G38: =일위대가!J225 -> 0 | H38: =E38+F38+G38 -> 0 | I38: 호표 35 | M38: 건축 10-1-1
A39: 465C9CA03A8AA2D2542DE20DDAF3A | B39: 알루미늄창호 설치 | C39: 창호면적 m2, 1.0 이하 | D39: 개소 | E39: =일위대가!F231 -> 0 | F39: =일위대가!H231 -> 0 | G39: =일위대가!J231 -> 0 | H39: =E39+F39+G39 -> 0 | I39: 호표 36 | M39: 건축 10-1-3
A40: 465C9CA49225B212F4ACA8E717378 | B40: 도어록 설치 / 일반도어록 강재창호 | C40: 재료비 별도 | D40: 개소 | E40: =일위대가!F236 -> 0 | F40: =일위대가!H236 -> 0 | G40: =일위대가!J236 -> 0 | H40: =E40+F40+G40 -> 0 | I40: 호표 37 | M40: 건축 10-2-3
A41: 465C9CA497A85212D40020054758F | B41: 창호주위 발포우레탄 충전 | D41: M | E41: =일위대가!F242 -> 0 | F41: =일위대가!H242 -> 0 | G41: =일위대가!J242 -> 0 | H41: =E41+F41+G41 -> 0 | I41: 호표 38 | M41: 건축 9-3-2
A42: 465C9CA5BBFD62C2149F22C9621B9 | B42: 창호유리설치 / 판유리 | C42: 유리두께 5mm 이하 | D42: M2 | E42: =일위대가!F247 -> 0 | F42: =일위대가!H247 -> 0 | G42: =일위대가!J247 -> 0 | H42: =E42+F42+G42 -> 0 | I42: 호표 39 | M42: 건축 10-3-1
A43: 465C9CA5BBFD62C2149F22C9627C2 | B43: 창호유리설치 / 판유리 | C43: 유리두께 12mm 이하 | D43: M2 | E43: =일위대가!F252 -> 0 | F43: =일위대가!H252 -> 0 | G43: =일위대가!J252 -> 0 | H43: =E43+F43+G43 -> 0 | I43: 호표 40 | M43: 건축 10-3-1
A44: 465C9CABC71CF272640184863A43F | B44: 방습거울설치 | C44: 5mm | D44: M2 | E44: =일위대가!F259 -> 0 | F44: =일위대가!H259 -> 0 | G44: =일위대가!J259 -> 0 | H44: =E44+F44+G44 -> 0 | I44: 호표 41
A45: 465C9D8818ED52326442EAD70CF9E | B45: 바탕 고르기 | C45: 벽, 24mm 이하 기준, 45m2/일당 | D45: M2 | E45: =일위대가!F265 -> 0 | F45: =일위대가!H265 -> 0 | G45: =일위대가!J265 -> 0 | H45: =E45+F45+G45 -> 0 | I45: 호표 42 | M45: 건축 3-1-1
A46: 465C9D8818ED52326442EAE17B90F | B46: 바탕 고르기 | C46: 바닥, 24mm 이하 기준, 62m2/일당 | D46: M2 | E46: =일위대가!F271 -> 0 | F46: =일위대가!H271 -> 0 | G46: =일위대가!J271 -> 0 | H46: =E46+F46+G46 -> 0 | I46: 호표 43 | M46: 건축 3-1-1
A47: 465C9D8818EC4292B4FB4A9515B20 | B47: 타일 압착 붙이기(바탕 18mm+압 6mm) | C47: 벽, 200*400(타일C, 백색줄눈) | D47: M2 | E47: =일위대가!F277 -> 0 | F47: =일위대가!H277 -> 0 | G47: =일위대가!J277 -> 0 | H47: =E47+F47+G47 -> 0 | I47: 호표 44
A48: 465C9D8818EC4292B4FB4A95AB7E8 | B48: 타일 붙임 / 압착 붙이기 | C48: 벽, 타일 0.04 ~ 0.10m2 이하, 15m2/일당 | D48: M2 | E48: =일위대가!F283 -> 0 | F48: =일위대가!H283 -> 0 | G48: =일위대가!J283 -> 0 | H48: =E48+F48+G48 -> 0 | I48: 호표 45 | M48: 건축 3-2-2
A49: 465C9D8818E47252142DCF8DD8A9A | B49: 타일줄눈 설치 / 벽면 | C49: 타일규격 m2, 0.04 ~ 0.10 이하 | D49: M2 | E49: =일위대가!F287 -> 0 | F49: =일위대가!H287 -> 0 | G49: =일위대가!J287 -> 0 | H49: =E49+F49+G49 -> 0 | I49: 호표 46 | M49: 건축 3-1-2
A50: 465C9D8818E47252142DCF8D80880 | B50: 타일줄눈 설치 / 바닥면 | C50: 타일규격 m2, 0.04 ∼ 0.10 이하 | D50: M2 | E50: =일위대가!F291 -> 0 | F50: =일위대가!H291 -> 0 | G50: =일위대가!J291 -> 0 | H50: =E50+F50+G50 -> 0 | I50: 호표 47 | M50: 건축 3-1-2
A51: 465C9D881A9A2252E42D5CDB9E6B1 | B51: 타일 붙임 / 압착 붙이기 | C51: 바닥, 타일 0.04 ~ 0.10m2 이하, 18m2/일당 | D51: M2 | E51: =일위대가!F297 -> 0 | F51: =일위대가!H297 -> 0 | G51: =일위대가!J297 -> 0 | H51: =E51+F51+G51 -> 0 | I51: 호표 48 | M51: 건축 3-2-2
A52: 465C9D881A9A2242C404DA333E664 | B52: 압착 붙이기, 바닥면, 바름두께 5mm | C52: 0.04∼0.10 이하, 타일C, 백색줄눈 | D52: M2 | E52: =일위대가!F304 -> 0 | F52: =일위대가!H304 -> 0 | G52: =일위대가!J304 -> 0 | H52: =E52+F52+G52 -> 0 | I52: 호표 49 | M52: 건축 3-2-2, -1-2
A53: 465C9D881A9A2242C4155BB8E30EC | B53: 타일 압착 붙이기(바탕 24mm+압 5mm) | C53: 바닥, 200*200(타일C, 백색줄눈) | D53: M2 | E53: =일위대가!F310 -> 0 | F53: =일위대가!H310 -> 0 | G53: =일위대가!J310 -> 0 | H53: =E53+F53+G53 -> 0 | I53: 호표 50 | M53: 건축 3-2-2, -1-2
A54: 465C9D881A9A2242C43031796FEBE | B54: 압착 붙이기, 벽면, 바름두께 6mm | C54: 0.04∼0.10 이하, 타일C, 백색줄눈 | D54: M2 | E54: =일위대가!F317 -> 0 | F54: =일위대가!H317 -> 0 | G54: =일위대가!J317 -> 0 | H54: =E54+F54+G54 -> 0 | I54: 호표 51 | M54: 건축 3-2-2, -1-2
A55: 465C9D8BED12E2F254417825A5E88 | B55: 모르타르비빔 - 돌붙임(바닥) | C55: 배합용적비 1:3, 시멘트, 모래 별도 | D55: M3 | E55: =일위대가!F323 -> 0 | F55: =일위대가!H323 -> 0 | G55: =일위대가!J323 -> 0 | H55: =E55+F55+G55 -> 0 | I55: 호표 52 | M55: 건축 9-1-1
A56: 465C9D8BEE3A92F28416CE6AF017E | B56: 석재판 붙임 - 습식공법(화강석) | C56: 바닥부, 시공량 12m2/일당 | D56: M2 | E56: =일위대가!F330 -> 0 | F56: =일위대가!H330 -> 0 | G56: =일위대가!J330 -> 0 | H56: =E56+F56+G56 -> 0 | I56: 호표 53 | M56: 공통 7-4-1
A57: 465C9D8BEA5D0212F4DA47D886363 | B57: 인조대리석붙임(습식, 물갈기) | C57: 창대, 인조대리석 250*40mm, 모르타르 30mm | D57: M | E57: =일위대가!F336 -> 0 | F57: =일위대가!H336 -> 0 | G57: =일위대가!J336 -> 0 | H57: =E57+F57+G57 -> 0 | I57: 호표 54
A58: 465C9EF1A00E02921434774967AC2 | B58: 녹막이 페인트칠 | C58: 철재면 1회 노무비 | D58: M2 | E58: =일위대가!F342 -> 0 | F58: =일위대가!H342 -> 0 | G58: =일위대가!J342 -> 0 | H58: =E58+F58+G58 -> 0 | I58: 호표 55 | M58: 건축 11-2-6
A59: 465C9EF1A00E0292143466E4A05D0 | B59: 녹막이 페인트칠 재료비(20년 품셈기준) | C59: 철재면, 1회, 2종 | D59: M2 | E59: =일위대가!F347 -> 0 | F59: =일위대가!H347 -> 0 | G59: =일위대가!J347 -> 0 | H59: =E59+F59+G59 -> 0 | I59: 호표 56
A60: 465C9EF1A00E0292142A2B9C7907C | B60: 녹막이페인트 붓칠(재료비 미포함) | C60: 철재면, 1회 2종 | D60: M2 | E60: =일위대가!F351 -> 0 | F60: =일위대가!H351 -> 0 | G60: =일위대가!J351 -> 0 | H60: =E60+F60+G60 -> 0 | I60: 호표 57 | M60: 건축 11-2-6
A61: 465C9EF246D082B2C4CE718644BDA | B61: 유성페인트 붓칠 | C61: 철재면 2회 노무비 | D61: M2 | E61: =일위대가!F359 -> 0 | F61: =일위대가!H359 -> 0 | G61: =일위대가!J359 -> 0 | H61: =E61+F61+G61 -> 0 | I61: 호표 58 | M61: 건축 11-2-4
A62: 465C9EF246D082B2C4CE718667728 | B62: 유성페인트 붓칠 재료비(20년 품셈기준) | C62: 철재면, 2회, 1급 | D62: M2 | E62: =일위대가!F364 -> 0 | F62: =일위대가!H364 -> 0 | G62: =일위대가!J364 -> 0 | H62: =E62+F62+G62 -> 0 | I62: 호표 59
A63: 465C9EF246D082B2C4CE71CDF51E8 | B63: 유성페인트 붓칠(재료비 미포함) | C63: 철재면, 2회 1급 | D63: M2 | E63: =일위대가!F368 -> 0 | F63: =일위대가!H368 -> 0 | G63: =일위대가!J368 -> 0 | H63: =E63+F63+G63 -> 0 | I63: 호표 60 | M63: 건축 11-2-4
A64: 465C9EF24425224204336E624EB50 | B64: 걸레받이용 페인트칠 | C64: 붓칠 2회 노무비 | D64: M2 | E64: =일위대가!F374 -> 0 | F64: =일위대가!H374 -> 0 | G64: =일위대가!J374 -> 0 | H64: =E64+F64+G64 -> 0 | I64: 호표 61 | M64: 건축 11-2-10
A65: 465C9EF24425224204336E7CB13A5 | B65: 걸레받이용 페인트칠 재료비(20년 품셈기준) | C65: 붓칠, 2회 | D65: M2 | E65: =일위대가!F381 -> 0 | F65: =일위대가!H381 -> 0 | G65: =일위대가!J381 -> 0 | H65: =E65+F65+G65 -> 0 | I65: 호표 62
A66: 465C9EF24425224204336E47714AD | B66: 바탕만들기+걸레받이용 페인트칠 | C66: 붓칠 2회, con'c·mortar면 | D66: M2 | E66: =일위대가!F388 -> 0 | F66: =일위대가!H388 -> 0 | G66: =일위대가!J388 -> 0 | H66: =E66+F66+G66 -> 0 | I66: 호표 63 | M66: 건축 11-2-10
A67: 465C9EF24425224204336E477165B | B67: 바탕만들기+걸레받이용 페인트칠 | C67: 붓칠 2회, G.B.면(줄퍼티) | D67: M2 | E67: =일위대가!F395 -> 0 | F67: =일위대가!H395 -> 0 | G67: =일위대가!J395 -> 0 | H67: =E67+F67+G67 -> 0 | I67: 호표 64 | M67: 건축 11-2-10
A68: 465C9EF36CD7D28224F3F95FAA1E4 | B68: 수성페인트 롤러칠 | C68: 2회 노무비 | D68: M2 | E68: =일위대가!F403 -> 0 | F68: =일위대가!H403 -> 0 | G68: =일위대가!J403 -> 0 | H68: =E68+F68+G68 -> 0 | I68: 호표 65 | M68: 건축 11-2-2
A69: 465C9EF36CD7D28224F3F95FAA0DD | B69: 수성페인트 롤러칠 | C69: 3회 노무비 | D69: M2 | E69: =일위대가!F413 -> 0 | F69: =일위대가!H413 -> 0 | G69: =일위대가!J413 -> 0 | H69: =E69+F69+G69 -> 0 | I69: 호표 66 | M69: 건축 11-2-2
A70: 465C9EF36CD7D282248F3A217404C | B70: 수성페인트 롤러칠 | C70: 천장 2회 노무비 | D70: M2 | E70: =일위대가!F422 -> 0 | F70: =일위대가!H422 -> 0 | G70: =일위대가!J422 -> 0 | H70: =E70+F70+G70 -> 0 | I70: 호표 67 | M70: 건축 11-2-2
A71: 465C9EF36CD7D28224ABD5B19C059 | B71: 수성페인트 롤러칠 재료비(20년 품셈기준) | C71: 내부, 2회, 친환경페인트(진품) | D71: M2 | E71: =일위대가!F426 -> 0 | F71: =일위대가!H426 -> 0 | G71: =일위대가!J426 -> 0 | H71: =E71+F71+G71 -> 0 | I71: 호표 68
A72: 465C9EF36CD7D28224ABD5B19C160 | B72: 수성페인트 롤러칠 재료비(20년 품셈기준) | C72: 내부, 3회, 친환경페인트(진품) | D72: M2 | E72: =일위대가!F430 -> 0 | F72: =일위대가!H430 -> 0 | G72: =일위대가!J430 -> 0 | H72: =E72+F72+G72 -> 0 | I72: 호표 69
A73: 465C9EF36CD7D28224ABF09F5C9EB | B73: 바탕만들기+수성페인트 롤러칠 | C73: 내부 2회, con'c·mortar면, 친환경 | D73: M2 | E73: =일위대가!F437 -> 0 | F73: =일위대가!H437 -> 0 | G73: =일위대가!J437 -> 0 | H73: =E73+F73+G73 -> 0 | I73: 호표 70 | M73: 건축 11-1-1,-2-2
A74: 465C9EF36CD7D28224ABF0E770492 | B74: 바탕만들기+수성페인트 롤러칠 | C74: 내부 2회, G.B.면 줄퍼티, 친환경 | D74: M2 | E74: =일위대가!F444 -> 0 | F74: =일위대가!H444 -> 0 | G74: =일위대가!J444 -> 0 | H74: =E74+F74+G74 -> 0 | I74: 호표 71 | M74: 건축 11-1-2,-2-2
A75: 465C9EF36CD7D28224ABE64388EE1 | B75: 바탕만들기+수성페인트 롤러칠 | C75: 내부 3회, G.B.면 줄퍼티, 친환경 | D75: M2 | E75: =일위대가!F451 -> 0 | F75: =일위대가!H451 -> 0 | G75: =일위대가!J451 -> 0 | H75: =E75+F75+G75 -> 0 | I75: 호표 72 | M75: 건축 11-1-2,-2-2
A76: 465C9EF36CD7D28224AB5049ACDBB | B76: 바탕만들기+수성페인트 롤러칠 | C76: 내천장 2회, con'c·mortar면, 친환경 | D76: M2 | E76: =일위대가!F458 -> 0 | F76: =일위대가!H458 -> 0 | G76: =일위대가!J458 -> 0 | H76: =E76+F76+G76 -> 0 | I76: 호표 73 | M76: 건축 11-1-1,-2-2
A77: 465C9EF36CD7D28224AB5049ACDB8 | B77: 바탕만들기+수성페인트 롤러칠 | C77: 내천장 2회, 텍스면, 친환경 | D77: M2 | E77: =일위대가!F465 -> 0 | F77: =일위대가!H465 -> 0 | G77: =일위대가!J465 -> 0 | H77: =E77+F77+G77 -> 0 | I77: 호표 74
A78: 465C9EE3C0432232A489EDC9F6E61 | B78: 콘크리트·모르타르면 바탕만들기 | C78: 노무비 | D78: M2 | E78: =일위대가!F471 -> 0 | F78: =일위대가!H471 -> 0 | G78: =일위대가!J471 -> 0 | H78: =E78+F78+G78 -> 0 | I78: 호표 75 | M78: 건축 11-1-1
A79: 465C9EE3C0432232A489ED3A05EB2 | B79: 콘크리트·모르타르면 바탕만들기 재료비 | C79: (20년 품셈 기준) | D79: M2 | E79: =일위대가!F475 -> 0 | F79: =일위대가!H475 -> 0 | G79: =일위대가!J475 -> 0 | H79: =E79+F79+G79 -> 0 | I79: 호표 76
A80: 465C9EE3C0432232A489FE1C3901B | B80: 석고보드면 바탕만들기 | C80: 줄퍼티 노무비 | D80: M2 | E80: =일위대가!F481 -> 0 | F80: =일위대가!H481 -> 0 | G80: =일위대가!J481 -> 0 | H80: =E80+F80+G80 -> 0 | I80: 호표 77 | M80: 건축 11-1-2
A81: 465C9EE3C0432232A489FE03C02A7 | B81: 석고보드면 바탕만들기 | C81: 줄퍼티 친환경 노무비 | D81: M2 | E81: =일위대가!F487 -> 0 | F81: =일위대가!H487 -> 0 | G81: =일위대가!J487 -> 0 | H81: =E81+F81+G81 -> 0 | I81: 호표 78 | M81: 건축 11-1-2
A82: 465C9EE3C0432232A489FE03FD7EB | B82: 석고보드면 바탕만들기 | C82: 줄퍼티 천장 친환경, 노무비 | D82: M2 | E82: =일위대가!F494 -> 0 | F82: =일위대가!H494 -> 0 | G82: =일위대가!J494 -> 0 | H82: =E82+F82+G82 -> 0 | I82: 호표 79 | M82: 건축 11-1-2
A83: 465C9EE3C0432232A489FE03ECC1F | B83: 석고보드면 바탕만들기 재료비 | C83: 줄퍼티(20년 품셈 기준) | D83: M2 | E83: =일위대가!F499 -> 0 | F83: =일위대가!H499 -> 0 | G83: =일위대가!J499 -> 0 | H83: =E83+F83+G83 -> 0 | I83: 호표 80
A84: 465C9EE3C0432232A489FE0394EE0 | B84: 석고보드면 바탕만들기 재료비 | C84: 줄퍼티, 친환경(20년 품셈 기준) | D84: M2 | E84: =일위대가!F504 -> 0 | F84: =일위대가!H504 -> 0 | G84: =일위대가!J504 -> 0 | H84: =E84+F84+G84 -> 0 | I84: 호표 81
A85: 465C9EE3C0432232A489C28DD45C2 | B85: con'c, mortar면 바탕만들기 | C85: 내부 친환경 노무비 | D85: M2 | E85: =일위대가!F510 -> 0 | F85: =일위대가!H510 -> 0 | G85: =일위대가!J510 -> 0 | H85: =E85+F85+G85 -> 0 | I85: 호표 82 | M85: 건축 11-1-1
A86: 465C9EE3C0432232A489C2B910CD0 | B86: con'c, mortar면 바탕만들기 | C86: 내천장 친환경 노무비 | D86: M2 | E86: =일위대가!F517 -> 0 | F86: =일위대가!H517 -> 0 | G86: =일위대가!J517 -> 0 | H86: =E86+F86+G86 -> 0 | I86: 호표 83 | M86: 건축 11-1-1
A87: 465C9EE3C0432232A489C2B968EE9 | B87: con'c, mortar면 바탕만들기 재료비 | C87: 내부, 친환경(20년 품셈 기준) | D87: M2 | E87: =일위대가!F521 -> 0 | F87: =일위대가!H521 -> 0 | G87: =일위대가!J521 -> 0 | H87: =E87+F87+G87 -> 0 | I87: 호표 84
A88: 465C9FD6CD7FA242B4E266E6E554D | B88: PVC계 바닥재 설치 - 타일형 | C88: 주재료 제외 | D88: M2 | E88: =일위대가!F527 -> 0 | F88: =일위대가!H527 -> 0 | G88: =일위대가!J527 -> 0 | H88: =E88+F88+G88 -> 0 | I88: 호표 85 | M88: 건축 5-1-1
A89: 465C9FD6CD7FA242B4E266E6E54A6 | B89: PVC계 바닥재 설치 - 시트형 | C89: 주재료 제외, 전면접착 방식 | D89: M2 | E89: =일위대가!F533 -> 0 | F89: =일위대가!H533 -> 0 | G89: =일위대가!J533 -> 0 | H89: =E89+F89+G89 -> 0 | I89: 호표 86 | M89: 건축 5-1-1
A90: 465C9FD6CD7FA242B4A4B9CD12D6C | B90: 비닐타일 깔기 | C90: 비닐타일, 3*450*450mm, 데코타일 | D90: M2 | E90: =일위대가!F538 -> 0 | F90: =일위대가!H538 -> 0 | G90: =일위대가!J538 -> 0 | H90: =E90+F90+G90 -> 0 | I90: 호표 87 | M90: 건축 5-1-1
A91: 465C9FD6CD7FA252444D2880BF235 | B91: 비닐시트 깔기 - 전면접착 방식 | C91: 비닐시트, 1.8mm, 모노륨 | D91: M2 | E91: =일위대가!F543 -> 0 | F91: =일위대가!H543 -> 0 | G91: =일위대가!J543 -> 0 | H91: =E91+F91+G91 -> 0 | I91: 호표 88 | M91: 건축 5-1-1
A92: 465C9FD6CD7FA252444D288083DAB | B92: 비닐시트 깔기 - 전면접착 방식 | C92: 비닐시트, 2.7mm | D92: M2 | E92: =일위대가!F548 -> 0 | F92: =일위대가!H548 -> 0 | G92: =일위대가!J548 -> 0 | H92: =E92+F92+G92 -> 0 | I92: 호표 89
A93: 465C9FD41E3FD2927426B216A8E79 | B93: 무석면텍스 설치 | C93: 천장, 300*600*9t | D93: M2 | E93: =일위대가!F556 -> 0 | F93: =일위대가!H556 -> 0 | G93: =일위대가!J556 -> 0 | H93: =E93+F93+G93 -> 0 | I93: 호표 90
A94: 465C9FD41D172292046EBFC4789B6 | B94: 석고판 설치(나사고정) - 바탕용 | C94: 벽, 2겹 붙임 | D94: M2 | E94: =일위대가!F562 -> 0 | F94: =일위대가!H562 -> 0 | G94: =일위대가!J562 -> 0 | H94: =E94+F94+G94 -> 0 | I94: 호표 91 | M94: 건축 5-3-1
A95: 465C9FD41D172292046EBFC4789B5 | B95: 석고판 설치(나사고정) - 바탕용 | C95: 벽, 9.5t*2겹 붙임 | D95: M2 | E95: =일위대가!F567 -> 0 | F95: =일위대가!H567 -> 0 | G95: =일위대가!J567 -> 0 | H95: =E95+F95+G95 -> 0 | I95: 호표 92 | M95: 건축 5-3-1
A96: 465C9FD41B6942F284B5F916ADD56 | B96: 목재 루버 | C96: 벽, 100*30 | D96: M | E96: =일위대가!F573 -> 0 | F96: =일위대가!H573 -> 0 | G96: =일위대가!J573 -> 0 | H96: =E96+F96+G96 -> 0 | I96: 호표 93
A97: 465C9FD37B2C52C2D4D03D7409E63 | B97: 방습필름 설치 | C97: 바닥 | D97: M2 | E97: =일위대가!F578 -> 0 | F97: =일위대가!H578 -> 0 | G97: =일위대가!J578 -> 0 | H97: =E97+F97+G97 -> 0 | I97: 호표 94 | M97: 건축 5-4-8
A98: 465C9FD37B2C52E284BFFF7DC468D | B98: 비닐보양 - 바닥 | C98: 폴리에틸렌필름, 두께, 0.05mm, 2겹 | D98: M2 | E98: =일위대가!F583 -> 0 | F98: =일위대가!H583 -> 0 | G98: =일위대가!J583 -> 0 | H98: =E98+F98+G98 -> 0 | I98: 호표 95
A99: 465C9FD0A582F2D2F4572CD9119DC | B99: 스테인리스재료분리대 | C99: 바닥, W45*H20*1.5t | D99: M | E99: =일위대가!F593 -> 0 | F99: =일위대가!H593 -> 0 | G99: =일위대가!J593 -> 0 | H99: =E99+F99+G99 -> 0 | I99: 호표 96
A100: 465C9FDF285D82A244A1D7874D65B | B100: 철재커텐박스(ㄱ자형) | C100: 100*100*1.2t, STL(도장 유) | D100: M | E100: =일위대가!F604 -> 0 | F100: =일위대가!H604 -> 0 | G100: =일위대가!J604 -> 0 | H100: =E100+F100+G100 -> 0 | I100: 호표 97
...

Sheet 일위대가
A1: [ 난우중학교 관리실 환경개선공사 ]
A2: 품 명 | B2: 규 격 | C2: 단위 | D2: 수량 | E2: 재 료 비 | G2: 노 무 비 | I2: 경 비 | K2: 합 계 | M2: 비 고 | N2: 일위대가 | O2: 품목코드 | P2: 일위 | Q2: 단산 | R2: 자재 | S2: 손료적용 | T2: 손료저장 | U2: 적용율 | V2: JUK1 | W2: JUK2 | X2: JUK3 | Y2: JUK4 | Z2: JUK5 | AA2: JUK6 | AB2: JUK7 | AC2: JUK8 | AD2: JUK9 | AE2: JUK10 | AF2: JUK11 | AG2: JUK12 | AH2: JUK13 | AI2: JUK14 | AJ2: JUK15 | AK2: JUK16 | AL2: JUK17 | AM2: JUK18 | AN2: JUK19 | AO2: JUK20 | AP2: 할증적용 | AQ2: 할증저장 | AR2: 할증율 | AS2: HAL1 | AT2: HAL2 | AU2: HAL3 | AV2: 자재구분 | AW2: 일위대가+자재 | AX2: 장비일위 | AY2: 설정 | AZ2: 할증체크
E3: 단 가 | F3: 금 액 | G3: 단 가 | H3: 금 액 | I3: 단 가 | J3: 금 액 | K3: 단 가 | L3: 금 액
A4: 소형브레이커(전기식) 1.5kw HR 공통 8-3(5220) ( 호표 1 ) | N4: 41449EF6491E8202845683DFF8268B659C74E61
A5: 소형브레이커(전기식) | B5: 1.5kw | C5: 대 | D5: 0.25 | E5: =단가대비표!O5 -> 0 | F5: =TRUNC(E5*D5,1) -> 0 | G5: =단가대비표!P5 -> 0 | H5: =TRUNC(G5*D5,1) -> 0 | I5: =단가대비표!V5 -> 0 | J5: =TRUNC(I5*D5,1) -> 0 | K5: =TRUNC(E5+G5+I5,1) -> 0 | L5: =TRUNC(F5+H5+J5,1) -> 0 | M5: 천원 | N5: 41449EF6491E8202845683DFF8268B659C74E61 | O5: 41449EF6491E8202845683DFF8268B659C74E | P5: F | Q5: F | R5: T | AW5: 41449EF6491E8202845683DFF8268B659C74E6141449EF6491E8202845683DFF8268B659C74E
A6: [ 합 계 ] | F6: =TRUNC(SUMIF(N5:N5,N4,F5:F5),0) -> 0 | H6: =TRUNC(SUMIF(N5:N5,N4,H5:H5),0) -> 0 | J6: =TRUNC(SUMIF(N5:N5,N4,J5:J5),0) -> 0 | L6: =F6+H6+J6 -> 0 | N6: TOTAL | O6: TOTAL
A8: 용접기(교류) 500Amp HR 공통 8-3(7611) ( 호표 2 ) | N8: 41449EF6491CD23234347E8AB5497FFA9098989
A9: 용접기(교류) | B9: 500Amp | C9: 대 | D9: 0.2362 | E9: =단가대비표!O6 -> 0 | F9: =TRUNC(E9*D9,1) -> 0 | G9: =단가대비표!P6 -> 0 | H9: =TRUNC(G9*D9,1) -> 0 | I9: =단가대비표!V6 -> 0 | J9: =TRUNC(I9*D9,1) -> 0 | K9: =TRUNC(E9+G9+I9,1) -> 0 | L9: =TRUNC(F9+H9+J9,1) -> 0 | M9: 천원 | N9: 41449EF6491CD23234347E8AB5497FFA9098989 | O9: 41449EF6491CD23234347E8AB5497FFA90989 | P9: F | Q9: F | R9: T | AW9: 41449EF6491CD23234347E8AB5497FFA909898941449EF6491CD23234347E8AB5497FFA90989
A10: [ 합 계 ] | F10: =TRUNC(SUMIF(N9:N9,N8,F9:F9),0) -> 0 | H10: =TRUNC(SUMIF(N9:N9,N8,H9:H9),0) -> 0 | J10: =TRUNC(SUMIF(N9:N9,N8,J9:J9),0) -> 0 | L10: =F10+H10+J10 -> 0 | N10: TOTAL | O10: TOTAL | AX10: T
A12: 강관 조립말비계(이동식)설치 및 해체 높이 2m, 노무비 대 공통 2-7-6 ( 호표 3 ) | N12: 465C91B9069D12D2840360CDFBF53
A13: 비계공 | B13: 일반공사 직종 | C13: 인 | D13: 0.25 | E13: =단가대비표!O98 -> 0 | F13: =TRUNC(E13*D13,1) -> 0 | G13: =단가대비표!P98 -> 0 | H13: =TRUNC(G13*D13,1) -> 0 | I13: =단가대비표!V98 -> 0 | J13: =TRUNC(I13*D13,1) -> 0 | K13: =TRUNC(E13+G13+I13,1) -> 0 | L13: =TRUNC(F13+H13+J13,1) -> 0 | N13: 465C91B9069D12D2840360CDFBF53 | O13: 468095FBD87A721254725B2C083040784F209 | P13: F | Q13: F | R13: T | AW13: 465C91B9069D12D2840360CDFBF53468095FBD87A721254725B2C083040784F209
A14: 보통인부 | B14: 일반공사 직종 | C14: 인 | D14: 0.14 | E14: =단가대비표!O96 -> 0 | F14: =TRUNC(E14*D14,1) -> 0 | G14: =단가대비표!P96 -> 0 | H14: =TRUNC(G14*D14,1) -> 0 | I14: =단가대비표!V96 -> 0 | J14: =TRUNC(I14*D14,1) -> 0 | K14: =TRUNC(E14+G14+I14,1) -> 0 | L14: =TRUNC(F14+H14+J14,1) -> 0 | N14: 465C91B9069D12D2840360CDFBF53 | O14: 468095FBD87A721254725B2C083040784F20D | P14: F | Q14: F | R14: T | AW14: 465C91B9069D12D2840360CDFBF53468095FBD87A721254725B2C083040784F20D
A15: [ 합 계 ] | F15: =TRUNC(SUMIF(N13:N14,N12,F13:F14),0) -> 0 | H15: =TRUNC(SUMIF(N13:N14,N12,H13:H14),0) -> 0 | J15: =TRUNC(SUMIF(N13:N14,N12,J13:J14),0) -> 0 | L15: =F15+H15+J15 -> 0 | N15: TOTAL | O15: TOTAL
A17: 강관 조립말비계(이동식)설치 및 해체 높이 2m, 3개월 대 공통 2-7-6, 2-2-5 ( 호표 4 ) | N17: 465C91B9069D12D2840360DE58853
A18: 비계안정장치 | B18: 비계안정장치, 비계기본틀, 기둥, 1.2*1.7m | C18: 개 | D18: 0.14 | E18: =단가대비표!O55 -> 0 | F18: =TRUNC(E18*D18,1) -> 0 | G18: =단가대비표!P55 -> 0 | H18: =TRUNC(G18*D18,1) -> 0 | I18: =단가대비표!V55 -> 0 | J18: =TRUNC(I18*D18,1) -> 0 | K18: =TRUNC(E18+G18+I18,1) -> 0 | L18: =TRUNC(F18+H18+J18,1) -> 0 | N18: 465C91B9069D12D2840360DE58853 | O18: 417092BD5EE732C2841A35D0BCD7FCD6C95CE | P18: F | Q18: F | R18: T | AW18: 465C91B9069D12D2840360DE58853417092BD5EE732C2841A35D0BCD7FCD6C95CE
A19: 비계안정장치 | B19: 비계안정장치, 가새, 1.2*1.9m | C19: 개 | D19: 0.14 | E19: =단가대비표!O56 -> 0 | F19: =TRUNC(E19*D19,1) -> 0 | G19: =단가대비표!P56 -> 0 | H19: =TRUNC(G19*D19,1) -> 0 | I19: =단가대비표!V56 -> 0 | J19: =TRUNC(I19*D19,1) -> 0 | K19: =TRUNC(E19+G19+I19,1) -> 0 | L19: =TRUNC(F19+H19+J19,1) -> 0 | N19: 465C91B9069D12D2840360DE58853 | O19: 417092BD5EE732C2841A35D0BCD7FCD6C95C0 | P19: F | Q19: F | R19: T | AW19: 465C91B9069D12D2840360DE58853417092BD5EE732C2841A35D0BCD7FCD6C95C0
A20: 비계안정장치 | B20: 비계안정장치, 수평띠장, 1829mm | C20: 개 | D20: 0.28 | E20: =단가대비표!O57 -> 0 | F20: =TRUNC(E20*D20,1) -> 0 | G20: =단가대비표!P57 -> 0 | H20: =TRUNC(G20*D20,1) -> 0 | I20: =단가대비표!V57 -> 0 | J20: =TRUNC(I20*D20,1) -> 0 | K20: =TRUNC(E20+G20+I20,1) -> 0 | L20: =TRUNC(F20+H20+J20,1) -> 0 | N20: 465C91B9069D12D2840360DE58853 | O20: 417092BD5EE732C2841A35D0BCD7FCD6C9A48 | P20: F | Q20: F | R20: T | AW20: 465C91B9069D12D2840360DE58853417092BD5EE732C2841A35D0BCD7FCD6C9A48
A21: 비계안정장치 | B21: 비계안정장치, 손잡이기둥 | C21: 개 | D21: 0.28 | E21: =단가대비표!O60 -> 0 | F21: =TRUNC(E21*D21,1) -> 0 | G21: =단가대비표!P60 -> 0 | H21: =TRUNC(G21*D21,1) -> 0 | I21: =단가대비표!V60 -> 0 | J21: =TRUNC(I21*D21,1) -> 0 | K21: =TRUNC(E21+G21+I21,1) -> 0 | L21: =TRUNC(F21+H21+J21,1) -> 0 | N21: 465C91B9069D12D2840360DE58853 | O21: 417092BD5EE732C2841A35D0BCD7FCD6C9A4F | P21: F | Q21: F | R21: T | AW21: 465C91B9069D12D2840360DE58853417092BD5EE732C2841A35D0BCD7FCD6C9A4F
A22: 비계안정장치 | B22: 비계안정장치, 손잡이, 1229mm | C22: 개 | D22: 0.14 | E22: =단가대비표!O58 -> 0 | F22: =TRUNC(E22*D22,1) -> 0 | G22: =단가대비표!P58 -> 0 | H22: =TRUNC(G22*D22,1) -> 0 | I22: =단가대비표!V58 -> 0 | J22: =TRUNC(I22*D22,1) -> 0 | K22: =TRUNC(E22+G22+I22,1) -> 0 | L22: =TRUNC(F22+H22+J22,1) -> 0 | N22: 465C91B9069D12D2840360DE58853 | O22: 417092BD5EE732C2841A35D0BCD7FCD6C9A49 | P22: F | Q22: F | R22: T | AW22: 465C91B9069D12D2840360DE58853417092BD5EE732C2841A35D0BCD7FCD6C9A49
A23: 비계안정장치 | B23: 비계안정장치, 손잡이, 1829mm | C23: 개 | D23: 0.28 | E23: =단가대비표!O59 -> 0 | F23: =TRUNC(E23*D23,1) -> 0 | G23: =단가대비표!P59 -> 0 | H23: =TRUNC(G23*D23,1) -> 0 | I23: =단가대비표!V59 -> 0 | J23: =TRUNC(I23*D23,1) -> 0 | K23: =TRUNC(E23+G23+I23,1) -> 0 | L23: =TRUNC(F23+H23+J23,1) -> 0 | N23: 465C91B9069D12D2840360DE58853 | O23: 417092BD5EE732C2841A35D0BCD7FCD6C9A4E | P23: F | Q23: F | R23: T | AW23: 465C91B9069D12D2840360DE58853417092BD5EE732C2841A35D0BCD7FCD6C9A4E
A24: 비계안정장치 | B24: 비계안정장치, 바퀴 | C24: 개 | D24: 0.36 | E24: =단가대비표!O61 -> 0 | F24: =TRUNC(E24*D24,1) -> 0 | G24: =단가대비표!P61 -> 0 | H24: =TRUNC(G24*D24,1) -> 0 | I24: =단가대비표!V61 -> 0 | J24: =TRUNC(I24*D24,1) -> 0 | K24: =TRUNC(E24+G24+I24,1) -> 0 | L24: =TRUNC(F24+H24+J24,1) -> 0 | N24: 465C91B9069D12D2840360DE58853 | O24: 417092BD5EE732C2841A35D0BCD7FCD6C9A4C | P24: F | Q24: F | R24: T | AW24: 465C91B9069D12D2840360DE58853417092BD5EE732C2841A35D0BCD7FCD6C9A4C
A25: 비계안정장치 | B25: 비계안정장치, 쟈키 | C25: 개 | D25: 0.36 | E25: =단가대비표!O62 -> 0 | F25: =TRUNC(E25*D25,1) -> 0 | G25: =단가대비표!P62 -> 0 | H25: =TRUNC(G25*D25,1) -> 0 | I25: =단가대비표!V62 -> 0 | J25: =TRUNC(I25*D25,1) -> 0 | K25: =TRUNC(E25+G25+I25,1) -> 0 | L25: =TRUNC(F25+H25+J25,1) -> 0 | N25: 465C91B9069D12D2840360DE58853 | O25: 417092BD5EE732C2841A35D0BCD7FCD6C9A4D | P25: F | Q25: F | R25: T | AW25: 465C91B9069D12D2840360DE58853417092BD5EE732C2841A35D0BCD7FCD6C9A4D
A26: 비계안정장치 | B26: 비계안정장치, 발판, 40*200*2000 | C26: 장 | D26: 0.63 | E26: =단가대비표!O63 -> 0 | F26: =TRUNC(E26*D26,1) -> 0 | G26: =단가대비표!P63 -> 0 | H26: =TRUNC(G26*D26,1) -> 0 | I26: =단가대비표!V63 -> 0 | J26: =TRUNC(I26*D26,1) -> 0 | K26: =TRUNC(E26+G26+I26,1) -> 0 | L26: =TRUNC(F26+H26+J26,1) -> 0 | N26: 465C91B9069D12D2840360DE58853 | O26: 417092BD5EE732C2841A35D091C0FB63DC335 | P26: F | Q26: F | R26: T | AW26: 465C91B9069D12D2840360DE58853417092BD5EE732C2841A35D091C0FB63DC335
A27: 강관 조립말비계(이동식)설치 및 해체 | B27: 높이 2m, 노무비 | C27: 대 | D27: 1 | E27: =일위대가목록!E6 -> 0 | F27: =TRUNC(E27*D27,1) -> 0 | G27: =일위대가목록!F6 -> 0 | H27: =TRUNC(G27*D27,1) -> 0 | I27: =일위대가목록!G6 -> 0 | J27: =TRUNC(I27*D27,1) -> 0 | K27: =TRUNC(E27+G27+I27,1) -> 0 | L27: =TRUNC(F27+H27+J27,1) -> 0 | M27: 호표 3 | N27: 465C91B9069D12D2840360DE58853 | O27: 465C91B9069D12D2840360CDFBF53 | P27: T | Q27: F | R27: F | AW27: 465C91B9069D12D2840360DE58853465C91B9069D12D2840360CDFBF53
A28: [ 합 계 ] | F28: =TRUNC(SUMIF(N18:N27,N17,F18:F27),0) -> 0 | H28: =TRUNC(SUMIF(N18:N27,N17,H18:H27),0) -> 0 | J28: =TRUNC(SUMIF(N18:N27,N17,J18:J27),0) -> 0 | L28: =F28+H28+J28 -> 0 | N28: TOTAL | O28: TOTAL
A30: 건축물 현장정리 개보수 M2 공통 2-11-2 ( 호표 5 ) | N30: 465C91BCDBC6324254B6F693AC012
A31: 보통인부 | B31: 일반공사 직종 | C31: 인 | D31: =0.025 -> 0.025 | E31: =단가대비표!O96 -> 0 | F31: =TRUNC(E31*D31,1) -> 0 | G31: =단가대비표!P96 -> 0 | H31: =TRUNC(G31*D31,1) -> 0 | I31: =단가대비표!V96 -> 0 | J31: =TRUNC(I31*D31,1) -> 0 | K31: =TRUNC(E31+G31+I31,1) -> 0 | L31: =TRUNC(F31+H31+J31,1) -> 0 | N31: 465C91BCDBC6324254B6F693AC012 | O31: 468095FBD87A721254725B2C083040784F20D | P31: F | Q31: F | R31: T | AW31: 465C91BCDBC6324254B6F693AC012468095FBD87A721254725B2C083040784F20D
A32: [ 합 계 ] | F32: =TRUNC(SUMIF(N31:N31,N30,F31:F31),0) -> 0 | H32: =TRUNC(SUMIF(N31:N31,N30,H31:H31),0) -> 0 | J32: =TRUNC(SUMIF(N31:N31,N30,J31:J31),0) -> 0 | L32: =F32+H32+J32 -> 0 | N32: TOTAL | O32: TOTAL
A34: 건축물 보양 - 타일 톱밥 - 조달자원 대체 M2 건축 2-9 ( 호표 6 ) | N34: 465C91BCD80C22429437E6F6BC67B
A35: 톱밥 | B35: 톱밥, 건설용톱밥 | C35: L | D35: 30 | E35: =단가대비표!O9 -> 0 | F35: =TRUNC(E35*D35,1) -> 0 | G35: =단가대비표!P9 -> 0 | H35: =TRUNC(G35*D35,1) -> 0 | I35: =단가대비표!V9 -> 0 | J35: =TRUNC(I35*D35,1) -> 0 | K35: =TRUNC(E35+G35+I35,1) -> 0 | L35: =TRUNC(F35+H35+J35,1) -> 0 | N35: 465C91BCD80C22429437E6F6BC67B | O35: 415594C0522EB282742323D0037697A1D4C0F | P35: F | Q35: F | R35: T | AW35: 465C91BCD80C22429437E6F6BC67B415594C0522EB282742323D0037697A1D4C0F
A36: 보통인부 | B36: 일반공사 직종 | C36: 인 | D36: 0.002 | E36: =단가대비표!O96 -> 0 | F36: =TRUNC(E36*D36,1) -> 0 | G36: =단가대비표!P96 -> 0 | H36: =TRUNC(G36*D36,1) -> 0 | I36: =단가대비표!V96 -> 0 | J36: =TRUNC(I36*D36,1) -> 0 | K36: =TRUNC(E36+G36+I36,1) -> 0 | L36: =TRUNC(F36+H36+J36,1) -> 0 | N36: 465C91BCD80C22429437E6F6BC67B | O36: 468095FBD87A721254725B2C083040784F20D | P36: F | Q36: F | R36: T | AW36: 465C91BCD80C22429437E6F6BC67B468095FBD87A721254725B2C083040784F20D
A37: [ 합 계 ] | F37: =TRUNC(SUMIF(N35:N36,N34,F35:F36),0) -> 0 | H37: =TRUNC(SUMIF(N35:N36,N34,H35:H36),0) -> 0 | J37: =TRUNC(SUMIF(N35:N36,N34,J35:J36),0) -> 0 | L37: =F37+H37+J37 -> 0 | N37: TOTAL | O37: TOTAL
A39: 준공청소 개보수 M2 ( 호표 7 ) | N39: 465C91BCDE951212841B4F50BB7B2
A40: 보통인부 | B40: 일반공사 직종 | C40: 인 | D40: =0.01*4 -> 0.04 | E40: =단가대비표!O96 -> 0 | F40: =TRUNC(E40*D40,1) -> 0 | G40: =단가대비표!P96 -> 0 | H40: =TRUNC(G40*D40,1) -> 0 | I40: =단가대비표!V96 -> 0 | J40: =TRUNC(I40*D40,1) -> 0 | K40: =TRUNC(E40+G40+I40,1) -> 0 | L40: =TRUNC(F40+H40+J40,1) -> 0 | N40: 465C91BCDE951212841B4F50BB7B2 | O40: 468095FBD87A721254725B2C083040784F20D | P40: F | Q40: F | R40: T | AW40: 465C91BCDE951212841B4F50BB7B2468095FBD87A721254725B2C083040784F20D
A41: [ 합 계 ] | F41: =TRUNC(SUMIF(N40:N40,N39,F40:F40),0) -> 0 | H41: =TRUNC(SUMIF(N40:N40,N39,H40:H40),0) -> 0 | J41: =TRUNC(SUMIF(N40:N40,N39,J40:J40),0) -> 0 | L41: =F41+H41+J41 -> 0 | N41: TOTAL | O41: TOTAL
A43: 집기류 및 가구 등 이전 재설치 붙박이장제외(종이박스6호 제공 실당5개이상)선풍기,비석면에 붙은 모든 제품들 M2 ( 호표 8 ) | N43: 465C91BCDE951212841B4F50BB7B6
A44: 보통인부 | B44: 일반공사 직종 | C44: 인 | D44: =0.044*4.2 -> 0.1848 | E44: =단가대비표!O96 -> 0 | F44: =TRUNC(E44*D44,1) -> 0 | G44: =단가대비표!P96 -> 0 | H44: =TRUNC(G44*D44,1) -> 0 | I44: =단가대비표!V96 -> 0 | J44: =TRUNC(I44*D44,1) -> 0 | K44: =TRUNC(E44+G44+I44,1) -> 0 | L44: =TRUNC(F44+H44+J44,1) -> 0 | N44: 465C91BCDE951212841B4F50BB7B6 | O44: 468095FBD87A721254725B2C083040784F20D | P44: F | Q44: F | R44: T | AW44: 465C91BCDE951212841B4F50BB7B6468095FBD87A721254725B2C083040784F20D
A45: 종이박스 | B45: 52*48*40 | C45: 개 | D45: 0.0417 | E45: =단가대비표!O14 -> 0 | F45: =TRUNC(E45*D45,1) -> 0 | G45: =단가대비표!P14 -> 0 | H45: =TRUNC(G45*D45,1) -> 0 | I45: =단가대비표!V14 -> 0 | J45: =TRUNC(I45*D45,1) -> 0 | K45: =TRUNC(E45+G45+I45,1) -> 0 | L45: =TRUNC(F45+H45+J45,1) -> 0 | N45: 465C91BCDE951212841B4F50BB7B6 | O45: 4155968F8A542262B46C153627086DAC96A78 | P45: F | Q45: F | R45: T | AW45: 465C91BCDE951212841B4F50BB7B64155968F8A542262B46C153627086DAC96A78
A46: [ 합 계 ] | F46: =TRUNC(SUMIF(N44:N45,N43,F44:F45),0) -> 0 | H46: =TRUNC(SUMIF(N44:N45,N43,H44:H45),0) -> 0 | J46: =TRUNC(SUMIF(N44:N45,N43,J44:J45),0) -> 0 | L46: =F46+H46+J46 -> 0 | N46: TOTAL | O46: TOTAL
A48: 모르타르 배합 모래채가름 포함 M3 건축 9-1-1 ( 호표 9 ) | N48: 465C9720ED8C4212A4EA040F5E0E7
A49: 보통인부 | B49: 일반공사 직종 | C49: 인 | D49: 0.66 | E49: =단가대비표!O96 -> 0 | F49: =TRUNC(E49*D49,1) -> 0 | G49: =단가대비표!P96 -> 0 | H49: =TRUNC(G49*D49,1) -> 0 | I49: =단가대비표!V96 -> 0 | J49: =TRUNC(I49*D49,1) -> 0 | K49: =TRUNC(E49+G49+I49,1) -> 0 | L49: =TRUNC(F49+H49+J49,1) -> 0 | N49: 465C9720ED8C4212A4EA040F5E0E7 | O49: 468095FBD87A721254725B2C083040784F20D | P49: F | Q49: F | R49: T | AW49: 465C9720ED8C4212A4EA040F5E0E7468095FBD87A721254725B2C083040784F20D
A50: [ 합 계 ] | F50: =TRUNC(SUMIF(N49:N49,N48,F49:F49),0) -> 0 | H50: =TRUNC(SUMIF(N49:N49,N48,H49:H49),0) -> 0 | J50: =TRUNC(SUMIF(N49:N49,N48,J49:J49),0) -> 0 | L50: =F50+H50+J50 -> 0 | N50: TOTAL | O50: TOTAL
A52: 모르타르 배합(배합품 포함) 배합용적비 1:3, 시멘트, 모래 별도 M3 건축 9-1-1 ( 호표 10 ) | N52: 465C9720ED8C4212A4EA0434AC6B8
A53: 시멘트 | B53: 시멘트(별도) | C53: kg | D53: 510 | E53: =단가대비표!O24 -> 0 | F53: =TRUNC(E53*D53,1) -> 0 | G53: =단가대비표!P24 -> 0 | H53: =TRUNC(G53*D53,1) -> 0 | I53: =단가대비표!V24 -> 0 | J53: =TRUNC(I53*D53,1) -> 0 | K53: =TRUNC(E53+G53+I53,1) -> 0 | L53: =TRUNC(F53+H53+J53,1) -> 0 | M53: 별도 | N53: 465C9720ED8C4212A4EA0434AC6B8 | O53: 417092BD5691424254EB5C47002D953E10EC3 | P53: F | Q53: F | R53: T | AW53: 465C9720ED8C4212A4EA0434AC6B8417092BD5691424254EB5C47002D953E10EC3
A54: 모래 | B54: (별도) | C54: M3 | D54: 1.1 | E54: =단가대비표!O7 -> 0 | F54: =TRUNC(E54*D54,1) -> 0 | G54: =단가대비표!P7 -> 0 | H54: =TRUNC(G54*D54,1) -> 0 | I54: =단가대비표!V7 -> 0 | J54: =TRUNC(I54*D54,1) -> 0 | K54: =TRUNC(E54+G54+I54,1) -> 0 | L54: =TRUNC(F54+H54+J54,1) -> 0 | M54: 별도 | N54: 465C9720ED8C4212A4EA0434AC6B8 | O54: 415594C051094242A4398C1BE2B43A0A76584 | P54: F | Q54: F | R54: T | AW54: 465C9720ED8C4212A4EA0434AC6B8415594C051094242A4398C1BE2B43A0A76584
A55: 보통인부 | B55: 일반공사 직종 | C55: 인 | D55: 0.66 | E55: =단가대비표!O96 -> 0 | F55: =TRUNC(E55*D55,1) -> 0 | G55: =단가대비표!P96 -> 0 | H55: =TRUNC(G55*D55,1) -> 0 | I55: =단가대비표!V96 -> 0 | J55: =TRUNC(I55*D55,1) -> 0 | K55: =TRUNC(E55+G55+I55,1) -> 0 | L55: =TRUNC(F55+H55+J55,1) -> 0 | N55: 465C9720ED8C4212A4EA0434AC6B8 | O55: 468095FBD87A721254725B2C083040784F20D | P55: F | Q55: F | R55: T | AW55: 465C9720ED8C4212A4EA0434AC6B8468095FBD87A721254725B2C083040784F20D
A56: [ 합 계 ] | F56: =TRUNC(SUMIF(N53:N55,N52,F53:F55),0) -> 0 | H56: =TRUNC(SUMIF(N53:N55,N52,H53:H55),0) -> 0 | J56: =TRUNC(SUMIF(N53:N55,N52,J53:J55),0) -> 0 | L56: =F56+H56+J56 -> 0 | N56: TOTAL | O56: TOTAL
A58: 바탕 정리 M2 ( 호표 11 ) | N58: 465C9720EE92A2C294355A88ECE03
A59: 미장공 | B59: 일반공사 직종 | C59: 인 | D59: 0.0118 | E59: =단가대비표!O108 -> 0 | F59: =TRUNC(E59*D59,1) -> 0 | G59: =단가대비표!P108 -> 0 | H59: =TRUNC(G59*D59,1) -> 0 | I59: =단가대비표!V108 -> 0 | J59: =TRUNC(I59*D59,1) -> 0 | K59: =TRUNC(E59+G59+I59,1) -> 0 | L59: =TRUNC(F59+H59+J59,1) -> 0 | N59: 465C9720EE92A2C294355A88ECE03 | O59: 468095FBD87A721254725B2C083040784F045 | P59: F | Q59: F | R59: T | AW59: 465C9720EE92A2C294355A88ECE03468095FBD87A721254725B2C083040784F045
A60: 보통인부 | B60: 일반공사 직종 | C60: 인 | D60: 0.0059 | E60: =단가대비표!O96 -> 0 | F60: =TRUNC(E60*D60,1) -> 0 | G60: =단가대비표!P96 -> 0 | H60: =TRUNC(G60*D60,1) -> 0 | I60: =단가대비표!V96 -> 0 | J60: =TRUNC(I60*D60,1) -> 0 | K60: =TRUNC(E60+G60+I60,1) -> 0 | L60: =TRUNC(F60+H60+J60,1) -> 0 | N60: 465C9720EE92A2C294355A88ECE03 | O60: 468095FBD87A721254725B2C083040784F20D | P60: F | Q60: F | R60: T | AW60: 465C9720EE92A2C294355A88ECE03468095FBD87A721254725B2C083040784F20D
A61: [ 합 계 ] | F61: =TRUNC(SUMIF(N59:N60,N58,F59:F60),0) -> 0 | H61: =TRUNC(SUMIF(N59:N60,N58,H59:H60),0) -> 0 | J61: =TRUNC(SUMIF(N59:N60,N58,J59:J60),0) -> 0 | L61: =F61+H61+J61 -> 0 | N61: TOTAL | O61: TOTAL
A63: 코너비드 코너비드, SUS 타일코너, 10mm M 건축 8-1-2 ( 호표 12 ) | N63: 465C972BF72BF2B2043B9917C01FC
A64: 코너비드 | B64: 코너비드, SUS 타일코너, 10mm | C64: M | D64: 1 | E64: =단가대비표!O31 -> 0 | F64: =TRUNC(E64*D64,1) -> 0 | G64: =단가대비표!P31 -> 0 | H64: =TRUNC(G64*D64,1) -> 0 | I64: =단가대비표!V31 -> 0 | J64: =TRUNC(I64*D64,1) -> 0 | K64: =TRUNC(E64+G64+I64,1) -> 0 | L64: =TRUNC(F64+H64+J64,1) -> 0 | N64: 465C972BF72BF2B2043B9917C01FC | O64: 417092BD5234A2C2441F50D6A46CFFD8AAB8C | P64: F | Q64: F | R64: T | AW64: 465C972BF72BF2B2043B9917C01FC417092BD5234A2C2441F50D6A46CFFD8AAB8C
A65: 미장공 | B65: 일반공사 직종 | C65: 인 | D65: 0.024 | E65: =단가대비표!O108 -> 0 | F65: =TRUNC(E65*D65,1) -> 0 | G65: =단가대비표!P108 -> 0 | H65: =TRUNC(G65*D65,1) -> 0 | I65: =단가대비표!V108 -> 0 | J65: =TRUNC(I65*D65,1) -> 0 | K65: =TRUNC(E65+G65+I65,1) -> 0 | L65: =TRUNC(F65+H65+J65,1) -> 0 | N65: 465C972BF72BF2B2043B9917C01FC | O65: 468095FBD87A721254725B2C083040784F045 | P65: F | Q65: F | R65: T | AW65: 465C972BF72BF2B2043B9917C01FC468095FBD87A721254725B2C083040784F045
A66: [ 합 계 ] | F66: =TRUNC(SUMIF(N64:N65,N63,F64:F65),0) -> 0 | H66: =TRUNC(SUMIF(N64:N65,N63,H64:H65),0) -> 0 | J66: =TRUNC(SUMIF(N64:N65,N63,J64:J65),0) -> 0 | L66: =F66+H66+J66 -> 0 | N66: TOTAL | O66: TOTAL
A68: 수밀코킹 재료비 별도 M 건축 6-6-1 ( 호표 13 ) | N68: 465C98019ECE12A26425C49C62AB8
A69: 코킹공 | B69: 기타 직종 | C69: 인 | D69: 0.025 | E69: =단가대비표!O116 -> 0 | F69: =TRUNC(E69*D69,1) -> 0 | G69: =단가대비표!P116 -> 0 | H69: =TRUNC(G69*D69,1) -> 0 | I69: =단가대비표!V116 -> 0 | J69: =TRUNC(I69*D69,1) -> 0 | K69: =TRUNC(E69+G69+I69,1) -> 0 | L69: =TRUNC(F69+H69+J69,1) -> 0 | N69: 465C98019ECE12A26425C49C62AB8 | O69: 468095FBD87A721254721D771B95326798398 | P69: F | Q69: F | R69: T | AW69: 465C98019ECE12A26425C49C62AB8468095FBD87A721254721D771B95326798398
A70: [ 합 계 ] | F70: =TRUNC(SUMIF(N69:N69,N68,F69:F69),0) -> 0 | H70: =TRUNC(SUMIF(N69:N69,N68,H69:H69),0) -> 0 | J70: =TRUNC(SUMIF(N69:N69,N68,J69:J69),0) -> 0 | L70: =F70+H70+J70 -> 0 | N70: TOTAL | O70: TOTAL
A72: 유리주위 코킹 5*5, 실리콘 M 건축 6-6-1 ( 호표 14 ) | N72: 465C98019C00C292B408B83034F7B
A73: 실링재 | B73: 실링재, 실리콘, 비초산, 유리용, 창호주위 | C73: L | D73: 0.03 | E73: =단가대비표!O78 -> 0 | F73: =TRUNC(E73*D73,1) -> 0 | G73: =단가대비표!P78 -> 0 | H73: =TRUNC(G73*D73,1) -> 0 | I73: =단가대비표!V78 -> 0 | J73: =TRUNC(I73*D73,1) -> 0 | K73: =TRUNC(E73+G73+I73,1) -> 0 | L73: =TRUNC(F73+H73+J73,1) -> 0 | N73: 465C98019C00C292B408B83034F7B | O73: 4170934154919242C461BABE85B8AF9358373 | P73: F | Q73: F | R73: T | AW73: 465C98019C00C292B408B83034F7B4170934154919242C461BABE85B8AF9358373
A74: [ 합 계 ] | F74: =TRUNC(SUMIF(N73:N73,N72,F73:F73),0) -> 0 | H74: =TRUNC(SUMIF(N73:N73,N72,H73:H73),0) -> 0 | J74: =TRUNC(SUMIF(N73:N73,N72,J73:J73),0) -> 0 | L74: =F74+H74+J74 -> 0 | N74: TOTAL | O74: TOTAL
A76: 수밀코킹(실리콘) 삼각, 10mm, 창호주위 M 건축 6-6-1 ( 호표 15 ) | N76: 465C98019D252272A4F1196AB7B64
A77: 실링재 | B77: 실링재, 실리콘, 비초산, 유리용, 창호주위 | C77: L | D77: 0.06 | E77: =단가대비표!O78 -> 0 | F77: =TRUNC(E77*D77,1) -> 0 | G77: =단가대비표!P78 -> 0 | H77: =TRUNC(G77*D77,1) -> 0 | I77: =단가대비표!V78 -> 0 | J77: =TRUNC(I77*D77,1) -> 0 | K77: =TRUNC(E77+G77+I77,1) -> 0 | L77: =TRUNC(F77+H77+J77,1) -> 0 | N77: 465C98019D252272A4F1196AB7B64 | O77: 4170934154919242C461BABE85B8AF9358373 | P77: F | Q77: F | R77: T | AW77: 465C98019D252272A4F1196AB7B644170934154919242C461BABE85B8AF9358373
A78: 수밀코킹 | B78: 재료비 별도 | C78: M | D78: 1 | E78: =일위대가목록!E16 -> 0 | F78: =TRUNC(E78*D78,1) -> 0 | G78: =일위대가목록!F16 -> 0 | H78: =TRUNC(G78*D78,1) -> 0 | I78: =일위대가목록!G16 -> 0 | J78: =TRUNC(I78*D78,1) -> 0 | K78: =TRUNC(E78+G78+I78,1) -> 0 | L78: =TRUNC(F78+H78+J78,1) -> 0 | M78: 호표 13 | N78: 465C98019D252272A4F1196AB7B64 | O78: 465C98019ECE12A26425C49C62AB8 | P78: T | Q78: F | R78: F | AW78: 465C98019D252272A4F1196AB7B64465C98019ECE12A26425C49C62AB8
A79: [ 합 계 ] | F79: =TRUNC(SUMIF(N77:N78,N76,F77:F78),0) -> 0 | H79: =TRUNC(SUMIF(N77:N78,N76,H77:H78),0) -> 0 | J79: =TRUNC(SUMIF(N77:N78,N76,J77:J78),0) -> 0 | L79: =F79+H79+J79 -> 0 | N79: TOTAL | O79: TOTAL
A81: 시멘트 액체방수 바름 바닥 M2 건축 6-4-1 ( 호표 16 ) | N81: 465C980E5522D2227495292FBFF67
A82: 방수공 | B82: 일반공사 직종 | C82: 인 | D82: 0.075 | E82: =단가대비표!O107 -> 0 | F82: =TRUNC(E82*D82,1) -> 0 | G82: =단가대비표!P107 -> 0 | H82: =TRUNC(G82*D82,1) -> 0 | I82: =단가대비표!V107 -> 0 | J82: =TRUNC(I82*D82,1) -> 0 | K82: =TRUNC(E82+G82+I82,1) -> 0 | L82: =TRUNC(F82+H82+J82,1) -> 0 | N82: 465C980E5522D2227495292FBFF67 | O82: 468095FBD87A721254725B2C083040784F044 | P82: F | Q82: F | R82: T | V82: 1 | AW82: 465C980E5522D2227495292FBFF67468095FBD87A721254725B2C083040784F044
A83: 보통인부 | B83: 일반공사 직종 | C83: 인 | D83: 0.04 | E83: =단가대비표!O96 -> 0 | F83: =TRUNC(E83*D83,1) -> 0 | G83: =단가대비표!P96 -> 0 | H83: =TRUNC(G83*D83,1) -> 0 | I83: =단가대비표!V96 -> 0 | J83: =TRUNC(I83*D83,1) -> 0 | K83: =TRUNC(E83+G83+I83,1) -> 0 | L83: =TRUNC(F83+H83+J83,1) -> 0 | N83: 465C980E5522D2227495292FBFF67 | O83: 468095FBD87A721254725B2C083040784F20D | P83: F | Q83: F | R83: T | V83: 1 | AW83: 465C980E5522D2227495292FBFF67468095FBD87A721254725B2C083040784F20D
A84: 공구손료 | B84: 인력품의 3% | C84: 식 | D84: 1 | E84: 0 | F84: =TRUNC(E84*D84,1) -> 0 | G84: 0 | H84: =TRUNC(G84*D84,1) -> 0 | I84: =TRUNC(SUMIF(V82:V84,RIGHTB(O84,1),H82:H84)*U84,2) -> 0 | J84: =TRUNC(I84*D84,1) -> 0 | K84: =TRUNC(E84+G84+I84,1) -> 0 | L84: =TRUNC(F84+H84+J84,1) -> 0 | N84: 465C980E5522D2227495292FBFF67 | O84: 474596BFA2AC0252F41B83D7F95001 | P84: F | Q84: F | R84: F | S84: 1 | T84: 2 | U84: 0.03 | AW84: 465C980E5522D2227495292FBFF67474596BFA2AC0252F41B83D7F95001
A85: [ 합 계 ] | F85: =TRUNC(SUMIF(N82:N84,N81,F82:F84),0) -> 0 | H85: =TRUNC(SUMIF(N82:N84,N81,H82:H84),0) -> 0 | J85: =TRUNC(SUMIF(N82:N84,N81,J82:J84),0) -> 0 | L85: =F85+H85+J85 -> 0 | N85: TOTAL | O85: TOTAL
A87: 시멘트 액체방수 바름 수직부 M2 건축 6-4-1 ( 호표 17 ) | N87: 465C980E5522D222749518B8988A4
A88: 방수공 | B88: 일반공사 직종 | C88: 인 | D88: 0.06 | E88: =단가대비표!O107 -> 0 | F88: =TRUNC(E88*D88,1) -> 0 | G88: =단가대비표!P107 -> 0 | H88: =TRUNC(G88*D88,1) -> 0 | I88: =단가대비표!V107 -> 0 | J88: =TRUNC(I88*D88,1) -> 0 | K88: =TRUNC(E88+G88+I88,1) -> 0 | L88: =TRUNC(F88+H88+J88,1) -> 0 | N88: 465C980E5522D222749518B8988A4 | O88: 468095FBD87A721254725B2C083040784F044 | P88: F | Q88: F | R88: T | V88: 1 | AW88: 465C980E5522D222749518B8988A4468095FBD87A721254725B2C083040784F044
A89: 보통인부 | B89: 일반공사 직종 | C89: 인 | D89: 0.03 | E89: =단가대비표!O96 -> 0 | F89: =TRUNC(E89*D89,1) -> 0 | G89: =단가대비표!P96 -> 0 | H89: =TRUNC(G89*D89,1) -> 0 | I89: =단가대비표!V96 -> 0 | J89: =TRUNC(I89*D89,1) -> 0 | K89: =TRUNC(E89+G89+I89,1) -> 0 | L89: =TRUNC(F89+H89+J89,1) -> 0 | N89: 465C980E5522D222749518B8988A4 | O89: 468095FBD87A721254725B2C083040784F20D | P89: F | Q89: F | R89: T | V89: 1 | AW89: 465C980E5522D222749518B8988A4468095FBD87A721254725B2C083040784F20D
A90: 공구손료 | B90: 인력품의 3% | C90: 식 | D90: 1 | E90: 0 | F90: =TRUNC(E90*D90,1) -> 0 | G90: 0 | H90: =TRUNC(G90*D90,1) -> 0 | I90: =TRUNC(SUMIF(V88:V90,RIGHTB(O90,1),H88:H90)*U90,2) -> 0 | J90: =TRUNC(I90*D90,1) -> 0 | K90: =TRUNC(E90+G90+I90,1) -> 0 | L90: =TRUNC(F90+H90+J90,1) -> 0 | N90: 465C980E5522D222749518B8988A4 | O90: 474596BFA2AC0252F41B83D7F95001 | P90: F | Q90: F | R90: F | S90: 1 | T90: 2 | U90: 0.03 | AW90: 465C980E5522D222749518B8988A4474596BFA2AC0252F41B83D7F95001
A91: [ 합 계 ] | F91: =TRUNC(SUMIF(N88:N90,N87,F88:F90),0) -> 0 | H91: =TRUNC(SUMIF(N88:N90,N87,H88:H90),0) -> 0 | J91: =TRUNC(SUMIF(N88:N90,N87,J88:J90),0) -> 0 | L91: =F91+H91+J91 -> 0 | N91: TOTAL | O91: TOTAL
A93: 시멘트 액체방수 바닥, 1종 M2 건축 12-7-2 ( 호표 18 ) | N93: 465C980E541BE21244992E4EFC13A
A94: 시멘트 | B94: 시멘트(별도) | C94: kg | D94: 13.05 | E94: =단가대비표!O24 -> 0 | F94: =TRUNC(E94*D94,1) -> 0 | G94: =단가대비표!P24 -> 0 | H94: =TRUNC(G94*D94,1) -> 0 | I94: =단가대비표!V24 -> 0 | J94: =TRUNC(I94*D94,1) -> 0 | K94: =TRUNC(E94+G94+I94,1) -> 0 | L94: =TRUNC(F94+H94+J94,1) -> 0 | M94: 별도 | N94: 465C980E541BE21244992E4EFC13A | O94: 417092BD5691424254EB5C47002D953E10EC3 | P94: F | Q94: F | R94: T | AW94: 465C980E541BE21244992E4EFC13A417092BD5691424254EB5C47002D953E10EC3
A95: 모래 | B95: (별도) | C95: M3 | D95: 0.017 | E95: =단가대비표!O7 -> 0 | F95: =TRUNC(E95*D95,1) -> 0 | G95: =단가대비표!P7 -> 0 | H95: =TRUNC(G95*D95,1) -> 0 | I95: =단가대비표!V7 -> 0 | J95: =TRUNC(I95*D95,1) -> 0 | K95: =TRUNC(E95+G95+I95,1) -> 0 | L95: =TRUNC(F95+H95+J95,1) -> 0 | M95: 별도 | N95: 465C980E541BE21244992E4EFC13A | O95: 415594C051094242A4398C1BE2B43A0A76584 | P95: F | Q95: F | R95: T | AW95: 465C980E541BE21244992E4EFC13A415594C051094242A4398C1BE2B43A0A76584
A96: 기타도막방수재 | B96: 기타도막방수재, 방수액고점도(1:50희석) | C96: L | D96: 0.655 | E96: =단가대비표!O13 -> 0 | F96: =TRUNC(E96*D96,1) -> 0 | G96: =단가대비표!P13 -> 0 | H96: =TRUNC(G96*D96,1) -> 0 | I96: =단가대비표!V13 -> 0 | J96: =TRUNC(I96*D96,1) -> 0 | K96: =TRUNC(E96+G96+I96,1) -> 0 | L96: =TRUNC(F96+H96+J96,1) -> 0 | N96: 465C980E541BE21244992E4EFC13A | O96: 41559794C934C2F2746378C4C0807D2A30AEF | P96: F | Q96: F | R96: T | AW96: 465C980E541BE21244992E4EFC13A41559794C934C2F2746378C4C0807D2A30AEF
A97: 시멘트 액체방수 바름 | B97: 바닥 | C97: M2 | D97: 1 | E97: =일위대가목록!E19 -> 0 | F97: =TRUNC(E97*D97,1) -> 0 | G97: =일위대가목록!F19 -> 0 | H97: =TRUNC(G97*D97,1) -> 0 | I97: =일위대가목록!G19 -> 0 | J97: =TRUNC(I97*D97,1) -> 0 | K97: =TRUNC(E97+G97+I97,1) -> 0 | L97: =TRUNC(F97+H97+J97,1) -> 0 | M97: 호표 16 | N97: 465C980E541BE21244992E4EFC13A | O97: 465C980E5522D2227495292FBFF67 | P97: T | Q97: F | R97: F | AW97: 465C980E541BE21244992E4EFC13A465C980E5522D2227495292FBFF67
A98: [ 합 계 ] | F98: =TRUNC(SUMIF(N94:N97,N93,F94:F97),0) -> 0 | H98: =TRUNC(SUMIF(N94:N97,N93,H94:H97),0) -> 0 | J98: =TRUNC(SUMIF(N94:N97,N93,J94:J97),0) -> 0 | L98: =F98+H98+J98 -> 0 | N98: TOTAL | O98: TOTAL
A100: 시멘트 액체방수 벽, 1종 M2 건축 12-7-2 ( 호표 19 ) | N100: 465C980E541BE21244992E4EFC138
A101: 시멘트 | B101: 시멘트(별도) | C101: kg | D101: 13.05 | E101: =단가대비표!O24 -> 0 | F101: =TRUNC(E101*D101,1) -> 0 | G101: =단가대비표!P24 -> 0 | H101: =TRUNC(G101*D101,1) -> 0 | I101: =단가대비표!V24 -> 0 | J101: =TRUNC(I101*D101,1) -> 0 | K101: =TRUNC(E101+G101+I101,1) -> 0 | L101: =TRUNC(F101+H101+J101,1) -> 0 | M101: 별도 | N101: 465C980E541BE21244992E4EFC138 | O101: 417092BD5691424254EB5C47002D953E10EC3 | P101: F | Q101: F | R101: T | AW101: 465C980E541BE21244992E4EFC138417092BD5691424254EB5C47002D953E10EC3
A102: 모래 | B102: (별도) | C102: M3 | D102: 0.017 | E102: =단가대비표!O7 -> 0 | F102: =TRUNC(E102*D102,1) -> 0 | G102: =단가대비표!P7 -> 0 | H102: =TRUNC(G102*D102,1) -> 0 | I102: =단가대비표!V7 -> 0 | J102: =TRUNC(I102*D102,1) -> 0 | K102: =TRUNC(E102+G102+I102,1) -> 0 | L102: =TRUNC(F102+H102+J102,1) -> 0 | M102: 별도 | N102: 465C980E541BE21244992E4EFC138 | O102: 415594C051094242A4398C1BE2B43A0A76584 | P102: F | Q102: F | R102: T | AW102: 465C980E541BE21244992E4EFC138415594C051094242A4398C1BE2B43A0A76584
A103: 기타도막방수재 | B103: 기타도막방수재, 방수액고점도(1:50희석) | C103: L | D103: 0.655 | E103: =단가대비표!O13 -> 0 | F103: =TRUNC(E103*D103,1) -> 0 | G103: =단가대비표!P13 -> 0 | H103: =TRUNC(G103*D103,1) -> 0 | I103: =단가대비표!V13 -> 0 | J103: =TRUNC(I103*D103,1) -> 0 | K103: =TRUNC(E103+G103+I103,1) -> 0 | L103: =TRUNC(F103+H103+J103,1) -> 0 | N103: 465C980E541BE21244992E4EFC138 | O103: 41559794C934C2F2746378C4C0807D2A30AEF | P103: F | Q103: F | R103: T | AW103: 465C980E541BE21244992E4EFC13841559794C934C2F2746378C4C0807D2A30AEF
A104: 시멘트 액체방수 바름 | B104: 수직부 | C104: M2 | D104: 1 | E104: =일위대가목록!E20 -> 0 | F104: =TRUNC(E104*D104,1) -> 0 | G104: =일위대가목록!F20 -> 0 | H104: =TRUNC(G104*D104,1) -> 0 | I104: =일위대가목록!G20 -> 0 | J104: =TRUNC(I104*D104,1) -> 0 | K104: =TRUNC(E104+G104+I104,1) -> 0 | L104: =TRUNC(F104+H104+J104,1) -> 0 | M104: 호표 17 | N104: 465C980E541BE21244992E4EFC138 | O104: 465C980E5522D222749518B8988A4 | P104: T | Q104: F | R104: F | AW104: 465C980E541BE21244992E4EFC138465C980E5522D222749518B8988A4
A105: [ 합 계 ] | F105: =TRUNC(SUMIF(N101:N104,N100,F101:F104),0) -> 0 | H105: =TRUNC(SUMIF(N101:N104,N100,H101:H104),0) -> 0 | J105: =TRUNC(SUMIF(N101:N104,N100,J101:J104),0) -> 0 | L105: =F105+H105+J105 -> 0 | N105: TOTAL | O105: TOTAL
A107: 보호모르타르 / 바닥 콘크리트면, 20mm M2 ( 호표 20 ) | N107: 465C980D4E31220264AABE808B607
A108: 모르타르 배합(배합품 포함) | B108: 배합용적비 1:3, 시멘트, 모래 별도 | C108: M3 | D108: 0.02 | E108: =일위대가목록!E13 -> 0 | F108: =TRUNC(E108*D108,1) -> 0 | G108: =일위대가목록!F13 -> 0 | H108: =TRUNC(G108*D108,1) -> 0 | I108: =일위대가목록!G13 -> 0 | J108: =TRUNC(I108*D108,1) -> 0 | K108: =TRUNC(E108+G108+I108,1) -> 0 | L108: =TRUNC(F108+H108+J108,1) -> 0 | M108: 호표 10 | N108: 465C980D4E31220264AABE808B607 | O108: 465C9720ED8C4212A4EA0434AC6B8 | P108: T | Q108: F | R108: F | AW108: 465C980D4E31220264AABE808B607465C9720ED8C4212A4EA0434AC6B8
A109: 바탕 고르기 | B109: 바닥, 24mm 이하 기준, 62m2/일당 | C109: M2 | D109: 1 | E109: =일위대가목록!E46 -> 0 | F109: =TRUNC(E109*D109,1) -> 0 | G109: =일위대가목록!F46 -> 0 | H109: =TRUNC(G109*D109,1) -> 0 | I109: =일위대가목록!G46 -> 0 | J109: =TRUNC(I109*D109,1) -> 0 | K109: =TRUNC(E109+G109+I109,1) -> 0 | L109: =TRUNC(F109+H109+J109,1) -> 0 | M109: 호표 43 | N109: 465C980D4E31220264AABE808B607 | O109: 465C9D8818ED52326442EAE17B90F | P109: T | Q109: F | R109: F | AW109: 465C980D4E31220264AABE808B607465C9D8818ED52326442EAE17B90F
A110: [ 합 계 ] | F110: =TRUNC(SUMIF(N108:N109,N107,F108:F109),0) -> 0 | H110: =TRUNC(SUMIF(N108:N109,N107,H108:H109),0) -> 0 | J110: =TRUNC(SUMIF(N108:N109,N107,J108:J109),0) -> 0 | L110: =F110+H110+J110 -> 0 | N110: TOTAL | O110: TOTAL
A112: 플로어링 마루 설치 M2 건축 5-1-3 ( 호표 21 ) | N112: 465C996FA20482A25476C030C3FF7
A113: 내장공 | B113: 일반공사 직종 | C113: 인 | D113: 0.04 | E113: =단가대비표!O111 -> 0 | F113: =TRUNC(E113*D113,1) -> 0 | G113: =단가대비표!P111 -> 0 | H113: =TRUNC(G113*D113,1) -> 0 | I113: =단가대비표!V111 -> 0 | J113: =TRUNC(I113*D113,1) -> 0 | K113: =TRUNC(E113+G113+I113,1) -> 0 | L113: =TRUNC(F113+H113+J113,1) -> 0 | N113: 465C996FA20482A25476C030C3FF7 | O113: 468095FBD87A721254725B2C083040784F168 | P113: F | Q113: F | R113: T | V113: 1 | AW113: 465C996FA20482A25476C030C3FF7468095FBD87A721254725B2C083040784F168
A114: 보통인부 | B114: 일반공사 직종 | C114: 인 | D114: 0.02 | E114: =단가대비표!O96 -> 0 | F114: =TRUNC(E114*D114,1) -> 0 | G114: =단가대비표!P96 -> 0 | H114: =TRUNC(G114*D114,1) -> 0 | I114: =단가대비표!V96 -> 0 | J114: =TRUNC(I114*D114,1) -> 0 | K114: =TRUNC(E114+G114+I114,1) -> 0 | L114: =TRUNC(F114+H114+J114,1) -> 0 | N114: 465C996FA20482A25476C030C3FF7 | O114: 468095FBD87A721254725B2C083040784F20D | P114: F | Q114: F | R114: T | V114: 1 | AW114: 465C996FA20482A25476C030C3FF7468095FBD87A721254725B2C083040784F20D
A115: 공구손료 | B115: 인력품의 2% | C115: 식 | D115: 1 | E115: 0 | F115: =TRUNC(E115*D115,1) -> 0 | G115: 0 | H115: =TRUNC(G115*D115,1) -> 0 | I115: =TRUNC(SUMIF(V113:V115,RIGHTB(O115,1),H113:H115)*U115,2) -> 0 | J115: =TRUNC(I115*D115,1) -> 0 | K115: =TRUNC(E115+G115+I115,1) -> 0 | L115: =TRUNC(F115+H115+J115,1) -> 0 | N115: 465C996FA20482A25476C030C3FF7 | O115: 474596BFA2AC0252F41B83D7F95001 | P115: F | Q115: F | R115: F | S115: 1 | T115: 2 | U115: 0.02 | AW115: 465C996FA20482A25476C030C3FF7474596BFA2AC0252F41B83D7F95001
A116: [ 합 계 ] | F116: =TRUNC(SUMIF(N113:N115,N112,F113:F115),0) -> 0 | H116: =TRUNC(SUMIF(N113:N115,N112,H113:H115),0) -> 0 | J116: =TRUNC(SUMIF(N113:N115,N112,J113:J115),0) -> 0 | L116: =F116+H116+J116 -> 0 | N116: TOTAL | O116: TOTAL
A118: 벽체틀 설치 자재 별도 M2 건축 4-2-1 ( 호표 22 ) | N118: 465C996CD17612421402F550AC07B
A119: 건축목공 | B119: 일반공사 직종 | C119: 인 | D119: 0.027 | E119: =단가대비표!O104 -> 0 | F119: =TRUNC(E119*D119,1) -> 0 | G119: =단가대비표!P104 -> 0 | H119: =TRUNC(G119*D119,1) -> 0 | I119: =단가대비표!V104 -> 0 | J119: =TRUNC(I119*D119,1) -> 0 | K119: =TRUNC(E119+G119+I119,1) -> 0 | L119: =TRUNC(F119+H119+J119,1) -> 0 | N119: 465C996CD17612421402F550AC07B | O119: 468095FBD87A721254725B2C083040784F041 | P119: F | Q119: F | R119: T | V119: 1 | AW119: 465C996CD17612421402F550AC07B468095FBD87A721254725B2C083040784F041
A120: 보통인부 | B120: 일반공사 직종 | C120: 인 | D120: 0.013 | E120: =단가대비표!O96 -> 0 | F120: =TRUNC(E120*D120,1) -> 0 | G120: =단가대비표!P96 -> 0 | H120: =TRUNC(G120*D120,1) -> 0 | I120: =단가대비표!V96 -> 0 | J120: =TRUNC(I120*D120,1) -> 0 | K120: =TRUNC(E120+G120+I120,1) -> 0 | L120: =TRUNC(F120+H120+J120,1) -> 0 | N120: 465C996CD17612421402F550AC07B | O120: 468095FBD87A721254725B2C083040784F20D | P120: F | Q120: F | R120: T | V120: 1 | AW120: 465C996CD17612421402F550AC07B468095FBD87A721254725B2C083040784F20D
A121: 공구손료 | B121: 인력품의 2% | C121: 식 | D121: 1 | E121: 0 | F121: =TRUNC(E121*D121,1) -> 0 | G121: 0 | H121: =TRUNC(G121*D121,1) -> 0 | I121: =TRUNC(SUMIF(V119:V121,RIGHTB(O121,1),H119:H121)*U121,2) -> 0 | J121: =TRUNC(I121*D121,1) -> 0 | K121: =TRUNC(E121+G121+I121,1) -> 0 | L121: =TRUNC(F121+H121+J121,1) -> 0 | N121: 465C996CD17612421402F550AC07B | O121: 474596BFA2AC0252F41B83D7F95001 | P121: F | Q121: F | R121: F | S121: 1 | T121: 2 | U121: 0.02 | AW121: 465C996CD17612421402F550AC07B474596BFA2AC0252F41B83D7F95001
...

Sheet 단가산출목록
B1: 단 가 산 출 목 록
B2: [ 난우중학교 관리실 환경개선공사 ]
A3: 코 드 | B3: 품 명 | C3: 규 격 | D3: 단위 | E3: 재 료 비 | F3: 노 무 비 | G3: 경 비 | H3: 합 계 | I3: 번 호 | J3: 비 고 | K3: START | L3: 품셈개요

Sheet 단가산출서
A1: 단 가 산 출 서
A2: [ 난우중학교 관리실 환경개선공사 ]
A3: 산 출 내 역 | B3: 재 료 비 | C3: 노 무 비 | D3: 경 비 | E3: 합 계 | F3: 비 고 | G3: START | H3: 코드 | I3: 품명 | J3: 규격 | K3: 단위 | L3: 수량 | M3: 변수 | N3: 값 | O3: 소계 | P3: 소계 | Q3: 소계 | R3: 소계 | S3: 소계 | T3: 총계
A4: ( )
A6: 총 계 | B6: =TRUNC(SUMIF(T5:T5,"TT",B5:B5),0) -> 0 | C6: =TRUNC(SUMIF(T5:T5,"TT",C5:C5),0) -> 0 | D6: =TRUNC(SUMIF(T5:T5,"TT",D5:D5),0) -> 0 | E6: =TRUNC(SUM(B6,C6,D6),0) -> 0

Sheet 단가대비표
A1: 단 가 대 비 표
A2: [ 난우중학교 관리실 환경개선공사 ]
A3: 코 드 | B3: 품 명 | C3: 규격 | D3: 단위 | E3: 재 료 비 | P3: 노 무 비 | Q3: 경 비 | W3: 번 호 | X3: 비 고 | Y3: 품목구분 | Z3: 노임구분 | AA3: 소수점처리 | AB3: 자재구분
E4: 조달청가격 | F4: PAGE | G4: 거래가격 | H4: PAGE | I4: 유통물가 | J4: PAGE | K4: 물가자료 | L4: PAGE | M4: 조사가격 | N4: PAGE | O4: 적용단가 | Q4: 조달청가격 | R4: 거래가격 | S4: 유통물가 | T4: 물가자료 | U4: 조사가격 | V4: 적용단가
A5: 41449EF6491E8202845683DFF8268B659C74E | B5: 소형브레이커(전기식) | C5: 1.5kw | D5: 대 | W5: 자재 1 | X5: 천원
A6: 41449EF6491CD23234347E8AB5497FFA90989 | B6: 용접기(교류) | C6: 500Amp | D6: 대 | W6: 자재 2 | X6: 천원
A7: 415594C051094242A4398C1BE2B43A0A76584 | B7: 모래 | C7: (별도) | D7: M3 | W7: 자재 3 | X7: 별도
A8: 415594C051094242A4398C1BF38C48A888DA5 | B8: 모래 | C8: 모래, 자연사, 도착도 | D8: M3 | W8: 자재 4
A9: 415594C0522EB282742323D0037697A1D4C0F | B9: 톱밥 | C9: 톱밥, 건설용톱밥 | D9: L | W9: 자재 5
A10: 415594C0595F32A234928BAF486B82B2697C7 | B10: 철강설 | C10: 철강설, 고철, 작업설부산물 | D10: kg | W10: 자재 6 | X10: 수집상차도
A11: 415594C0595F32A234928BAF486B82B26963F | B11: 철강설 | C11: 철강설, 스텐레스, 작업설부산물 | D11: kg | W11: 자재 7 | X11: 수집상차도
A12: 41559794CBFF42C2B40816075328350268E6B | B12: 산소가스 | C12: 기체 | D12: L | W12: 자재 8 | X12: 대기압상태기준
A13: 41559794C934C2F2746378C4C0807D2A30AEF | B13: 기타도막방수재 | C13: 기타도막방수재, 방수액고점도(1:50희석) | D13: L | W13: 자재 9
A14: 4155968F8A542262B46C153627086DAC96A78 | B14: 종이박스 | C14: 52*48*40 | D14: 개 | W14: 자재 10
A15: 4155968F8B7CD242F43A0BA7C49C67965CED4 | B15: 폴리에틸렌필름 | C15: 폴리에틸렌필름, 두께, 0.05mm | D15: M2 | W15: 자재 11
A16: 415590672FD20292B486373F8DD639952E653 | B16: 아세틸렌가스 | C16: 아세틸렌가스, kg | D16: kg | W16: 자재 12
A17: 41679814811AC22274413729793D1F3F819B1 | B17: 스테인리스강용피복아크용접봉 | C17: 스테인리스강용피복아크용접봉, ∮3.2mm, AWSE309 | D17: kg | W17: 자재 13
A18: 417092BD57B6B2B2E4150FB4ECD0ABF29DFDE | B18: ㄱ형강 | C18: ㄱ형강, 등변, 25*25*3mm | D18: kg | W18: 자재 14
A19: 417092BD57B59252F4E902901D3ECF25B5634 | B19: 일반구조용압연강판 | C19: 일반구조용압연강판, 1.2mm | D19: kg | W19: 자재 15
A20: 417092BD57B59252F4E902901D3ECF25B5636 | B20: 일반구조용압연강판 | C20: 일반구조용압연강판, 1.6mm | D20: kg | W20: 자재 16
A21: 417092BD57B59252F4E902901D3ECF25B5631 | B21: 일반구조용압연강판 | C21: 일반구조용압연강판, 2.3mm | D21: kg | W21: 자재 17
A22: 417092BD57B59252F4E913073CA0FD36D8203 | B22: 스테인리스강판 | C22: 스테인리스강판, STS304, 1.5mm | D22: kg | W22: 자재 18
A23: 417092BD57B4F262443FD2F245454F82FFE96 | B23: 각재 | C23: 각재, 미송 | D23: 재 | W23: 자재 19
A24: 417092BD5691424254EB5C47002D953E10EC3 | B24: 시멘트 | C24: 시멘트(별도) | D24: kg | W24: 자재 20 | X24: 별도
A25: 417092BD5691424254EB5C47002D953E10EC7 | B25: 시멘트 | C25: 건재상 | D25: 포 | W25: 자재 21
A26: 417092BD5691424254EB5C47002D9559354F6 | B26: 타일시멘트 | C26: 타일시멘트, 압착용, 회색 | D26: kg | W26: 자재 22
A27: 417092BD5691424254EB5C47002D9559CB99C | B27: 타일시멘트 | C27: 타일시멘트, 줄눈용, 백색 | D27: kg | W27: 자재 23
A28: 417092BD54E2D282646CEAB2B48CB6C4CA20F | B28: 자기질타일(논스립) | C28: 바닥, 200*200mm | D28: M2 | W28: 자재 24
A29: 417092BD54E2D282646CEAB2B48CB6C4CA201 | B29: 자기질타일 | C29: 벽, 200*400mm | D29: M2 | W29: 자재 25
A30: 417092BD53DD92E204F90DE40529E6F663A4C | B30: 발포우레탄폼 | C30: 50mm | D30: M2 | W30: 자재 26
A31: 417092BD5234A2C2441F50D6A46CFFD8AAB8C | B31: 코너비드 | C31: 코너비드, SUS 타일코너, 10mm | D31: M | W31: 자재 27
A32: 417092BD512F6252942C5AC48C02D4FE4B3CA | B32: 석고보드 | C32: 석고보드, 평보드, 9.5*900*1800mm(㎡) | D32: M2 | W32: 자재 28
A33: 417092BD512F6262B48CD85FA398C111A1CA4 | B33: 불연천장재 | C33: 불연천장재, 석고텍스, 9mm | D33: M2 | W33: 자재 29
A34: 417092BD512F6262B48CBDBFA7EF90AAFAA23 | B34: 경량철골천장틀 | C34: 경량철골천장틀, M-BAR더블, 50*19*0.5mm | D34: M | W34: 자재 30
A35: 417092BD512F6262B48CBDBFA7EF90AAFADFC | B35: 경량철골천장틀 | C35: 경량철골천장틀, 달대볼트, 상6*1000mm | D35: 개 | W35: 자재 31
A36: 417092BD512F6262B48CBDBFA7EF90AAFAE82 | B36: 경량철골천장틀 | C36: 경량철골천장틀, 캐링찬넬, 38*12*1.2mm | D36: M | W36: 자재 32
... A42: 417092BD512F6262B48CBDBFA7EF90AAFAE85 | B42: 경량철골천장틀 | C42: 경량철골천장틀, BAR조인트, 더블 | D42: 개 | W42: 자재 38
A43: 417092BD512F6262B48CBDBFA7EF90AAFAFAE | B43: 경량철골천장틀 | C43: 경량철골천장틀, 피스, 3*16mm | D43: 개 | W43: 자재 39 | X43: 필요시 계상
A44: 417092BD512F6262B48CBDBFA7EF90AAFA021 | B44: 경량철골천장틀 | C44: 경량철골천장틀, 몰딩(알루미늄), W형, 15*15*15*15*1.0mm | D44: M | W44: 자재 40
A45: 417092BD512F627254FBCFBB751D4E865A2AF | B45: 목재루버 | C45: 100*30 | D45: M | W45: 자재 41
A46: 417092BD512F627254FBF4FF75E9F7B8B3F2F | B46: 인조대리석 | C46: 인조대리석, 40mm | D46: M2 | W46: 자재 42
A47: 417092BD512F627254FBEA5B8C9DFB848D676 | B47: 비닐타일 | C47: 비닐타일, 3*450*450mm, 데코타일 | D47: M2 | W47: 자재 43
A48: 417092BD512F627254FBEA5B8C9DFBDC18CAB | B48: 비닐시트 | C48: 비닐시트, 1.8mm, 모노륨 | D48: M2 | W48: 자재 44 | X48: LG 청맥기준
A49: 417092BD512F627254FBEA5BAF52E4DF50732 | B49: 비닐시트 | C49: 비닐시트, 2.7mm | D49: M2 | W49: 자재 45
A50: 417092BD50097282E4EC6A912C02690E9842F | B50: 목재문 및 문틀 | C50: 외여닫이문 | D50: M2 | W50: 자재 46 | X50: 시공도
A51: 417092BD500972A294CB88A8BD0D78C8BABA6 | B51: 강화유리 | C51: 강화유리, 투명, 12mm | D51: M2 | W51: 자재 47
A52: 417092BD5F8CF222A4DF0167F3FC5C1260B15 | B52: 세면기-인조대리석 | C52: W:600*270 | D52: M | W52: 자재 48
A53: 417092BD5F8CF222A4DFCC7C793BE44635C99 | B53: 샤워 칸막이 | C53: 450*1800*8t, 엣칭유리 | D53: EA | W53: 자재 49
A54: 417092BD5F8CF222A4CE776CC4A18BE7CF62E | B54: 수도꼭지 | C54: 수도꼭지, 샤워기, 레버식 | D54: 개 | W54: 자재 50
A55: 417092BD5EE732C2841A35D0BCD7FCD6C95CE | B55: 비계안정장치 | C55: 비계안정장치, 비계기본틀, 기둥, 1.2*1.7m | D55: 개 | W55: 자재 51
A56: 417092BD5EE732C2841A35D0BCD7FCD6C95C0 | B56: 비계안정장치 | C56: 비계안정장치, 가새, 1.2*1.9m | D56: 개 | W56: 자재 52
A57: 417092BD5EE732C2841A35D0BCD7FCD6C9A48 | B57: 비계안정장치 | C57: 비계안정장치, 수평띠장, 1829mm | D57: 개 | W57: 자재 53
A58: 417092BD5EE732C2841A35D0BCD7FCD6C9A49 | B58: 비계안정장치 | C58: 비계안정장치, 손잡이, 1229mm | D58: 개 | W58: 자재 54
A59: 417092BD5EE732C2841A35D0BCD7FCD6C9A4E | B59: 비계안정장치 | C59: 비계안정장치, 손잡이, 1829mm | D59: 개 | W59: 자재 55
A60: 417092BD5EE732C2841A35D0BCD7FCD6C9A4F | B60: 비계안정장치 | C60: 비계안정장치, 손잡이기둥 | D60: 개 | W60: 자재 56
A61: 417092BD5EE732C2841A35D0BCD7FCD6C9A4C | B61: 비계안정장치 | C61: 비계안정장치, 바퀴 | D61: 개 | W61: 자재 57
A62: 417092BD5EE732C2841A35D0BCD7FCD6C9A4D | B62: 비계안정장치 | C62: 비계안정장치, 쟈키 | D62: 개 | W62: 자재 58
... A70: 4170934155B6829214DD42C62380C1ED04EC3 | B70: 퍼티 | C70: 퍼티, 친환경, 내부 | D70: kg | W70: 자재 66
A71: 4170934155B6829214DD42C62380C1ED303AE | B71: 퍼티 | C71: 퍼티, 319퍼티, 회색 | D71: kg | W71: 자재 67 | X71: 1L=1.55kg
A72: 4170934155B6829214DD42C62380C1ED30289 | B72: 퍼티 | C72: 퍼티, 319퍼티, 백색 | D72: kg | W72: 자재 68 | X72: 1L=1.55kg
A73: 4170934155B6829214DD42C62380C1ED27DE6 | B73: 휠러 | D73: kg | W73: 자재 69
A74: 4170934154919262F4418D235E37D2D30C0F6 | B74: 수성페인트 | C74: 수성페인트, 친환경(진품) | D74: L | W74: 자재 70
A75: 4170934154919262F44124AD3FDD10C347414 | B75: 아크릴수지페인트 | C75: 아크릴수지페인트, KSM6020-2종1급, 흑색 | D75: L | W75: 자재 71
A76: 4170934154919262F4D749149D9166C907585 | B76: 방청페인트 | C76: 방청페인트, KSM6030-1종2류, 광명단페인트 | D76: L | W76: 자재 72
A77: 4170934154919262F4D703A34E1EA856F14F6 | B77: 조합페인트 | C77: 조합페인트, KSM6020-1종1급, 백색 | D77: L | W77: 자재 73
A78: 4170934154919242C461BABE85B8AF9358373 | B78: 실링재 | C78: 실링재, 실리콘, 비초산, 유리용, 창호주위 | D78: L | W78: 자재 74
A79: 41709341549192B27454D0F75DF32C70A7400 | B79: 시너 | C79: 시너, KSM6060, 1종 | D79: L | W79: 자재 75
A80: 41709341549192B27454D0F75DF32C70A7401 | B80: 시너 | C80: 시너, KSM6060, 2종 | D80: L | W80: 자재 76
A81: 410D94B591E2A202841600193AF4306559C19 | B81: 싱크대 설치 | C81: 900*550*850H | D81: EA | W81: 자재 77
A82: 411F98884383B222A47B62EEC2B8E2A90FEF5 | B82: 암막블라인드 | C82: 방염 | D82: M2 | W82: 자재 78
A83: 411F9C65DED0027214954C69AEFF80E09CF40 | B83: 거울 | C83: 거울, 1000*1000*5mm | D83: 개 | W83: 자재 79 | X83: A * M2단가
A84: 465C9CA38FACD23204990123D9EC1 | B84: 스텐창호(헤어라인)-문틀 | C84: 100*40*1.2T | D84: m | W84: 자재 80 | Y84: 2
A85: 465C9CA38FACD23204990123D9FE8 | B85: 스텐창호(헤어라인)-문틀 | C85: 100*40*1.5T | D85: m | W85: 자재 81 | Y85: 2
A86: 465C9CA38FACD23204990100B2170 | B86: 스텐창호(헤어라인)-밑틀 | C86: 100*40*1.5T | D86: m | W86: 자재 82 | Y86: 2
A87: 465C9D8BEA5D0202D469F1A7AB2C9 | B87: 창대석 | C87: T30-T50*W240-W280 | D87: m | W87: 자재 83 | Y87: 2
A88: 461D95C51647D202849016584CFE6ABCDC868 | B88: 일반경비 | C88: 전력 | D88: kwh | W88: 자재 84
A89: 461D95C51647D2028490164FAA908E21C636D | B89: 건설폐재류 | C89: 가연성이 제거된 재활용이 가능한 혼합물 | D89: TON | W89: 자재 85 | Y89: C
A90: 461D95C51647D2028490164FAA908E21B5D03 | B90: 혼합건설폐기물 | C90: 불연성 건설폐기물에 가연성 5% 이하 혼합 | D90: TON | W90: 자재 86 | Y90: C
A91: 461D95C51647D2028490164FAA908E21AB7A0 | B91: 혼합건설폐기물 | C91: 그 밖의 건설폐기물에 가연성 5% 이하 혼합 | D91: TON | W91: 자재 87 | Y91: C
A92: 461D95C51647D2028490164FAA86325C2275D | B92: 건설폐재류 상차비 | D92: TON | W92: 자재 88 | Y92: C
A93: 461D95C51647D2028490164FAA86325C2275E | B93: 혼합건설폐기물 상차비 | C93: (매립지반입대상 폐기물 포함) | D93: TON | W93: 자재 89 | Y93: C
A94: 461D95C51647D2028490164FAA86325C226B4 | B94: 건설폐재류 운반비 | C94: 24톤 덤프트럭, 30km | D94: TON | W94: 자재 90 | Y94: C
A95: 461D95C51647D2028490164FAA86325C223E0 | B95: 혼합건설폐기물 운반비 | C95: 24톤 암롤트럭, 30km | D95: TON | W95: 자재 91 | Y95: C
A96: 468095FBD87A721254725B2C083040784F20D | B96: 보통인부 | C96: 일반공사 직종 | D96: 인 | W96: 노임 1 | Y96: B
A97: 468095FBD87A721254725B2C083040784F20C | B97: 특별인부 | C97: 일반공사 직종 | D97: 인 | W97: 노임 2 | Y97: B
A98: 468095FBD87A721254725B2C083040784F209 | B98: 비계공 | C98: 일반공사 직종 | D98: 인 | W98: 노임 3 | Y98: B
A99: 468095FBD87A721254725B2C083040784F208 | B99: 형틀목공 | C99: 일반공사 직종 | D99: 인 | W99: 노임 4 | Y99: B
A100: 468095FBD87A721254725B2C083040784F206 | B100: 철공 | C100: 일반공사 직종 | D100: 인 | W100: 노임 5 | Y100: B
A101: 468095FBD87A721254725B2C083040784F316 | B101: 철판공 | C101: 일반공사 직종 | D101: 인 | W101: 노임 6 | Y101: B
A102: 468095FBD87A721254725B2C083040784F314 | B102: 용접공 | C102: 일반공사 직종 | D102: 인 | W102: 노임 7 | Y102: B
A103: 468095FBD87A721254725B2C083040784F313 | B103: 착암공 | C103: 일반공사 직종 | D103: 인 | W103: 노임 8 | Y103: B
A104: 468095FBD87A721254725B2C083040784F041 | B104: 건축목공 | C104: 일반공사 직종 | D104: 인 | W104: 노임 9 | Y104: B
... A116: 468095FBD87A721254721D771B95326798398 | B116: 코킹공 | C116: 기타 직종 | D116: 인 | W116: 노임 21 | Y116: B
A117: 47E498D6E439120234A9BED513A09689C23E1 | B117: 수납장 설치 | C117: H:770 | D117: M | W117: 자재 92
A118: 47E498D6E439120234A9BED513A09689C23E2 | B118: 싱크대 설치 | C118: 2450*600*850H | D118: EA | W118: 자재 93
A119: 47E498D6E439120234A9BED513A09689C23E3 | B119: 싱크대 상부장 설치 | C119: 2450*400*800H | D119: EA | W119: 자재 94
A120: 47E498D6E439120234A9BED513A09689C23E4 | B120: 가구 설치 | C120: 학습도움실 | D120: M | W120: 자재 95

Sheet  공사설정 
A1: 이 Sheet는 수정하지 마십시요
A2: 공사구분 | B2: A | C2: 타이틀
A3: 확정내역 | B3: 원내역
A4: 자재단가적용 | B4: 5
A5: 경비단가적용 | B5: 5
A6: 품목코드형식 | B6: XXXX-XXXX-XXXXXXXXX
A7: 내역금액소수점처리 | B7: C | C7: T
A8: 일위대가내역소수점처리 | B8: C | C8: 2
A9: 단가명 | B9: 조달청가격 | C9: 거래가격 | D9: 유통물가 | E9: 물가자료 | F9: 조사가격 | G9: TTTTT
A10: 환율 | B10: 1472 | C10: 0 | D10: 0
A11: 시간당작업량 | B11: R | C11: 4
A12: 1회 사이클시간 | B12: R | C12: 4
A13: 시간당 작업사이클 | B13: R | C13: 3
A14: 일반변수 | B14: R | C14: 5
A15: 시간당 노임산출 계수 | B15: A | C15: 1/8*16/12*25/20 | D15: 1/8*16/12*25/20 | E15: 1/8*16/12*25/20 | F15: 1
A16: 재료비 할증 계수 | B16: 1.11 | C16: 1.12
A17: 노무비 할증 계수 | B17: 1 | C17: 1.5 | D17: 1.16 | E17: 1.6 | F17: 1.6 | G17: 1.6 | H17: 1.94 | I17: 1.94 | J17: 1.94 | K17: 1 | L17: 1 | M17: 1
A18: 경비 할증 계수 | B18: 1.25 | C18: 1.071
A19: 내역,일위대가 품명,규격,단위 따로적용
A20: 내역단가 소수점처리 | B20: C | C20: 1
A21: 코드 | B21: 공종구분명 | C21: 원가비목코드
A22: 1 | B22: 작 업 부 산 물 | C22: A3
A23: 2 | B23: 운 반 비 | C23: C1
A24: 3 | B24: 관 급 자 재 비 | C24: DJ
A25: 4 | B25: 사 급 자 재 비 | C25: D3
A26: 5 | B26: 외 자 재
A27: 6 | B27: 폐기물 처리비 | C27: D4
A28: 7 | B28: ...
A29: 8 | B29: ...
A30: 9 | B30: ...
A31: A | B31: ....
A32: B | B32: .....
A33: C | B33: ....
A34: D | B34: ....
A35: E | B35: ....
A36: F | B36: ....
A37: G | B37: ....
A38: H | B38: ....
A39: I | B39: ....
A40: J | B40: ....
A43: 단가 순서 | B43: 1234

Sheet Sheet1
