Workbook

Sheet 원가계산서
B1: 공 사 원 가 계 산 서
B2: 공사명 : 난우중학교 관리실 환경개선공사
B3: 비 목 | E3: 금 액 | F3: 구 성 비 | G3: 비 고
A4: A1 | B4: 순 공 사 원 가 | C4: 재 료 비 | D4: 직 접 재 료 비 | E4: =TRUNC(공종별집계표!F5,0) -> 0
A5: A2 | D5: 간 접 재 료 비 | E5: 0
A6: A3 | D6: 작 업 부 산 물 | E6: =TRUNC(공종별집계표!T55,0) -> 0
A7: AS | D7: [ 소 계 ] | E7: =TRUNC(E4+E5-E6,0) -> 0
A8: B1 | C8: 노 무 비 | D8: 직 접 노 무 비 | E8: =TRUNC(공종별집계표!H5,0) -> 0
A9: B2 | D9: 간 접 노 무 비 | E9: =TRUNC(E8*0.175,0) -> 0 | F9: 직접노무비 * 17.5%
A10: BS | D10: [ 소 계 ] | E10: =TRUNC(E8+E9,0) -> 0
A11: C2 | C11: 경 비 | D11: 경 비 | E11: =TRUNC(공종별집계표!J5,0) -> 0
A12: C4 | D12: 산 재 보 험 료 | E12: =TRUNC(E10*0.0356,0) -> 0 | F12: 노무비 * 3.56%
A13: C5 | D13: 고 용 보 험 료 | E13: =TRUNC(E10*0.0101,0) -> 0 | F13: 노무비 * 1.01%
A14: C6 | D14: 국민 건강 보험료 | E14: =TRUNC(E8*0.03595,0) -> 0 | F14: 직접노무비 * 3.595%
A15: C7 | D15: 국민 연금 보험료 | E15: =TRUNC(E8*0.0475,0) -> 0 | F15: 직접노무비 * 4.75%
A16: C8 | D16: 퇴직 공제 부금비 | F16: 직접노무비 * 2.3%
A17: CA | D17: 산업안전보건관리비 | E17: =TRUNC((E7+E8+(0/1.1))*0.0311,0) -> 0 | F17: (재료비+직노+관급자재비) * 3.11%
A18: CB | D18: 노인장기요양보험료 | E18: =TRUNC(E14*0.1314,0) -> 0 | F18: 건강보험료 * 13.14%
A19: CG | D19: 기 타 경 비 | E19: =TRUNC((E7+E10)*0.05,0) -> 0 | F19: (재료비+노무비) * 5%
A20: CH | D20: 환 경 보 전 비 | E20: =TRUNC((E7+E8+E11)*0.003,0) -> 0 | F20: (재료비+직노+경비) * 0.3%
A21: CK | D21: 하도급지급보증수수료 | E21: =TRUNC((E7+E8+E11)*0.00081,0) -> 0 | F21: (재료비+직노+경비) * 0.081% | G21: 최저가대상공사
A22: CL | D22: 건설기계대여금지급보증서발급수수료 | E22: =TRUNC((E7+E8+E11)*0.0007,0) -> 0 | F22: (재료비+직노+경비) * 0.07%
A23: CM | D23: 석 면 분 담 금 | E23: =TRUNC(E10*0.00006,0) -> 0 | F23: 노무비 * 0.006%
A24: CN | D24: 임 금 채 권 부 담 금 | E24: =TRUNC(E10*0.0009,0) -> 0 | F24: 노무비 * 0.09%
A25: CS | D25: [ 소 계 ]
A26: S1 | B26: 계
A27: D1 | B27: 일 반 관 리 비 | F27: 계 * 8%
A28: D2 | B28: 이 윤 | F28: (노무비+경비+일반관리비) * 15%
A29: D4 | B29: 폐기물 처리비
A30: D9 | B30: 공 급 가 액
A31: DB | B31: 부 가 가 치 세 | F31: 공급가액 * 10%
A32: DH | B32: 도 급 액
A33: S2 | B33: 총 공 사 비

Sheet 공종별집계표
A1: 공 종 별 집 계 표
A2: [ 난우중학교 관리실 환경개선공사 ]
A3: 품 명 | B3: 규 격 | C3: 단위 | D3: 수량 | E3: 재 료 비 | G3: 노 무 비 | I3: 경 비 | K3: 합 계 | M3: 비 고 | N3: 공종코드 | O3: 변수 | P3: 상위공종 | Q3: 공종구분 | R3: 공종레벨 | S3: 공종소계 | T3: 원가계산서 연결금액
E4: 단 가 | F4: 금 액 | G4: 단 가 | H4: 금 액 | I4: 단 가 | J4: 금 액 | K4: 단 가 | L4: 금 액
A5: 01 난우중학교 관리실 환경개선공사 | D5: 1 | E5: =F6+F10+F16+F24+F32+F40+F43+F56+F61 -> 0 | F5: =E5*D5 -> 0 | G5: =H6+H10+H16+H24+H32+H40+H43+H56+H61 -> 0 | H5: =G5*D5 -> 0 | I5: =J6+J10+J16+J24+J32+J40+J43+J56+J61 -> 0 | J5: =I5*D5 -> 0 | K5: =E5+G5+I5 -> 0 | L5: =F5+H5+J5 -> 0 | N5: 01 | R5: 1
N6: 0101 | P6: 01 | R6: 2
N7: 010101 | P7: 0101 | R7: 3
N8: 010102 | P8: 0101 | R8: 3
N9: 010103 | P9: 0101 | R9: 3
N10: 0102 | P10: 01 | R10: 2
N11: 010201 | P11: 0102 | R11: 3
N12: 010202 | P12: 0102 | R12: 3
N13: 010203 | P13: 0102 | R13: 3
N14: 010204 | P14: 0102 | R14: 3
N15: 010205 | Q15: 6 | R15: 3 | T15: =L15*1 -> 0
A16: 0103 3. 3층 1학년부실 | D16: 1 | E16: =F17+F18+F19+F20+F21+F22 -> 0 | F16: =E16*D16 -> 0 | G16: =H17+H18+H19+H20+H21+H22 -> 0 | H16: =G16*D16 -> 0 | I16: =J17+J18+J19+J20+J21+J22 -> 0 | J16: =I16*D16 -> 0 | K16: =E16+G16+I16 -> 0 | L16: =F16+H16+J16 -> 0 | N16: 0103 | P16: 01 | R16: 2
A17: 010301 가 설 공 사 | D17: 1 | E17: =공종별내역서!F27 -> 0 | F17: =E17*D17 -> 0 | G17: =공종별내역서!H27 -> 0 | H17: =G17*D17 -> 0 | I17: =공종별내역서!J27 -> 0 | J17: =I17*D17 -> 0 | K17: =E17+G17+I17 -> 0 | L17: =F17+H17+J17 -> 0 | N17: 010301 | P17: 0103 | R17: 3
A18: 010302 돌 공 사 | D18: 1 | E18: =공종별내역서!F51 -> 0 | F18: =E18*D18 -> 0 | G18: =공종별내역서!H51 -> 0 | H18: =G18*D18 -> 0 | I18: =공종별내역서!J51 -> 0 | J18: =I18*D18 -> 0 | K18: =E18+G18+I18 -> 0 | L18: =F18+H18+J18 -> 0 | N18: 010302 | P18: 0103 | R18: 3
A19: 010303 목공사및수장공사 | D19: 1 | E19: =공종별내역서!F75 -> 0 | F19: =E19*D19 -> 0 | G19: =공종별내역서!H75 -> 0 | H19: =G19*D19 -> 0 | I19: =공종별내역서!J75 -> 0 | J19: =I19*D19 -> 0 | K19: =E19+G19+I19 -> 0 | L19: =F19+H19+J19 -> 0 | N19: 010303 | P19: 0103 | R19: 3
A20: 010304 금 속 공 사 | D20: 1 | E20: =공종별내역서!F99 -> 0 | F20: =E20*D20 -> 0 | G20: =공종별내역서!H99 -> 0 | H20: =G20*D20 -> 0 | I20: =공종별내역서!J99 -> 0 | J20: =I20*D20 -> 0 | K20: =E20+G20+I20 -> 0 | L20: =F20+H20+J20 -> 0 | N20: 010304 | P20: 0103 | R20: 3
A21: 010305 칠 공 사 | D21: 1 | E21: =공종별내역서!F123 -> 0 | F21: =E21*D21 -> 0 | G21: =공종별내역서!H123 -> 0 | H21: =G21*D21 -> 0 | I21: =공종별내역서!J123 -> 0 | J21: =I21*D21 -> 0 | K21: =E21+G21+I21 -> 0 | L21: =F21+H21+J21 -> 0 | N21: 010305 | P21: 0103 | R21: 3
A22: 010306 철 거 공 사 | D22: 1 | E22: =공종별내역서!F147 -> 0 | F22: =E22*D22 -> 0 | G22: =공종별내역서!H147 -> 0 | H22: =G22*D22 -> 0 | I22: =공종별내역서!J147 -> 0 | J22: =I22*D22 -> 0 | K22: =E22+G22+I22 -> 0 | L22: =F22+H22+J22 -> 0 | N22: 010306 | P22: 0103 | R22: 3
A23: 010307 건설폐기물처리비 | D23: 1 | E23: =공종별내역서!F171 -> 0 | F23: =E23*D23 -> 0 | G23: =공종별내역서!H171 -> 0 | H23: =G23*D23 -> 0 | I23: =공종별내역서!J171 -> 0 | J23: =I23*D23 -> 0 | K23: =E23+G23+I23 -> 0 | L23: =F23+H23+J23 -> 0 | N23: 010307 | Q23: 6 | R23: 3 | T23: =L23*1 -> 0
A24: 0104 4. 3층 창의체험부 | D24: 1 | E24: =F25+F26+F27+F28+F29+F30 -> 0 | F24: =E24*D24 -> 0 | G24: =H25+H26+H27+H28+H29+H30 -> 0 | H24: =G24*D24 -> 0 | I24: =J25+J26+J27+J28+J29+J30 -> 0 | J24: =I24*D24 -> 0 | K24: =E24+G24+I24 -> 0 | L24: =F24+H24+J24 -> 0 | N24: 0104 | P24: 01 | R24: 2
A25: 010401 가 설 공 사 | D25: 1 | E25: =공종별내역서!F195 -> 0 | F25: =E25*D25 -> 0 | G25: =공종별내역서!H195 -> 0 | H25: =G25*D25 -> 0 | I25: =공종별내역서!J195 -> 0 | J25: =I25*D25 -> 0 | K25: =E25+G25+I25 -> 0 | L25: =F25+H25+J25 -> 0 | N25: 010401 | P25: 0104 | R25: 3
A26: 010402 목공사및수장공사 | D26: 1 | E26: =공종별내역서!F219 -> 0 | F26: =E26*D26 -> 0 | G26: =공종별내역서!H219 -> 0 | H26: =G26*D26 -> 0 | I26: =공종별내역서!J219 -> 0 | J26: =I26*D26 -> 0 | K26: =E26+G26+I26 -> 0 | L26: =F26+H26+J26 -> 0 | N26: 010402 | P26: 0104 | R26: 3
A27: 010403 금 속 공 사 | D27: 1 | E27: =공종별내역서!F243 -> 0 | F27: =E27*D27 -> 0 | G27: =공종별내역서!H243 -> 0 | H27: =G27*D27 -> 0 | I27: =공종별내역서!J243 -> 0 | J27: =I27*D27 -> 0 | K27: =E27+G27+I27 -> 0 | L27: =F27+H27+J27 -> 0 | N27: 010403 | P27: 0104 | R27: 3
A28: 010404 칠 공 사 | D28: 1 | E28: =공종별내역서!F267 -> 0 | F28: =E28*D28 -> 0 | G28: =공종별내역서!H267 -> 0 | H28: =G28*D28 -> 0 | I28: =공종별내역서!J267 -> 0 | J28: =I28*D28 -> 0 | K28: =E28+G28+I28 -> 0 | L28: =F28+H28+J28 -> 0 | N28: 010404 | P28: 0104 | R28: 3
A29: 010405 기 타 공 사 | D29: 1 | E29: =공종별내역서!F291 -> 0 | F29: =E29*D29 -> 0 | G29: =공종별내역서!H291 -> 0 | H29: =G29*D29 -> 0 | I29: =공종별내역서!J291 -> 0 | J29: =I29*D29 -> 0 | K29: =E29+G29+I29 -> 0 | L29: =F29+H29+J29 -> 0 | N29: 010405 | P29: 0104 | R29: 3
A30: 010406 철 거 공 사 | D30: 1 | E30: =공종별내역서!F315 -> 0 | F30: =E30*D30 -> 0 | G30: =공종별내역서!H315 -> 0 | H30: =G30*D30 -> 0 | I30: =공종별내역서!J315 -> 0 | J30: =I30*D30 -> 0 | K30: =E30+G30+I30 -> 0 | L30: =F30+H30+J30 -> 0 | N30: 010406 | P30: 0104 | R30: 3
A31: 010407 건설폐기물처리비 | D31: 1 | E31: =공종별내역서!F339 -> 0 | F31: =E31*D31 -> 0 | G31: =공종별내역서!H339 -> 0 | H31: =G31*D31 -> 0 | I31: =공종별내역서!J339 -> 0 | J31: =I31*D31 -> 0 | K31: =E31+G31+I31 -> 0 | L31: =F31+H31+J31 -> 0 | N31: 010407 | Q31: 6 | R31: 3 | T31: =L31*1 -> 0
A32: 0105 5. 3층 교육복지실 | D32: 1 | E32: =F33+F34+F35+F36+F37+F38 -> 0 | F32: =E32*D32 -> 0 | G32: =H33+H34+H35+H36+H37+H38 -> 0 | H32: =G32*D32 -> 0 | I32: =J33+J34+J35+J36+J37+J38 -> 0 | J32: =I32*D32 -> 0 | K32: =E32+G32+I32 -> 0 | L32: =F32+H32+J32 -> 0 | N32: 0105 | P32: 01 | R32: 2
A33: 010501 가 설 공 사 | D33: 1 | E33: =공종별내역서!F363 -> 0 | F33: =E33*D33 -> 0 | G33: =공종별내역서!H363 -> 0 | H33: =G33*D33 -> 0 | I33: =공종별내역서!J363 -> 0 | J33: =I33*D33 -> 0 | K33: =E33+G33+I33 -> 0 | L33: =F33+H33+J33 -> 0 | N33: 010501 | P33: 0105 | R33: 3
A34: 010502 목공사및수장공사 | D34: 1 | E34: =공종별내역서!F387 -> 0 | F34: =E34*D34 -> 0 | G34: =공종별내역서!H387 -> 0 | H34: =G34*D34 -> 0 | I34: =공종별내역서!J387 -> 0 | J34: =I34*D34 -> 0 | K34: =E34+G34+I34 -> 0 | L34: =F34+H34+J34 -> 0 | N34: 010502 | P34: 0105 | R34: 3
A35: 010503 금 속 공 사 | D35: 1 | E35: =공종별내역서!F411 -> 0 | F35: =E35*D35 -> 0 | G35: =공종별내역서!H411 -> 0 | H35: =G35*D35 -> 0 | I35: =공종별내역서!J411 -> 0 | J35: =I35*D35 -> 0 | K35: =E35+G35+I35 -> 0 | L35: =F35+H35+J35 -> 0 | N35: 010503 | P35: 0105 | R35: 3
A36: 010504 칠 공 사 | D36: 1 | E36: =공종별내역서!F435 -> 0 | F36: =E36*D36 -> 0 | G36: =공종별내역서!H435 -> 0 | H36: =G36*D36 -> 0 | I36: =공종별내역서!J435 -> 0 | J36: =I36*D36 -> 0 | K36: =E36+G36+I36 -> 0 | L36: =F36+H36+J36 -> 0 | N36: 010504 | P36: 0105 | R36: 3
A37: 010505 기 타 공 사 | D37: 1 | E37: =공종별내역서!F459 -> 0 | F37: =E37*D37 -> 0 | G37: =공종별내역서!H459 -> 0 | H37: =G37*D37 -> 0 | I37: =공종별내역서!J459 -> 0 | J37: =I37*D37 -> 0 | K37: =E37+G37+I37 -> 0 | L37: =F37+H37+J37 -> 0 | N37: 010505 | P37: 0105 | R37: 3
A38: 010506 철 거 공 사 | D38: 1 | E38: =공종별내역서!F483 -> 0 | F38: =E38*D38 -> 0 | G38: =공종별내역서!H483 -> 0 | H38: =G38*D38 -> 0 | I38: =공종별내역서!J483 -> 0 | J38: =I38*D38 -> 0 | K38: =E38+G38+I38 -> 0 | L38: =F38+H38+J38 -> 0 | N38: 010506 | P38: 0105 | R38: 3
A39: 010507 건설폐기물처리비 | D39: 1 | E39: =공종별내역서!F507 -> 0 | F39: =E39*D39 -> 0 | G39: =공종별내역서!H507 -> 0 | H39: =G39*D39 -> 0 | I39: =공종별내역서!J507 -> 0 | J39: =I39*D39 -> 0 | K39: =E39+G39+I39 -> 0 | L39: =F39+H39+J39 -> 0 | N39: 010507 | Q39: 6 | R39: 3 | T39: =L39*1 -> 0
A40: 0106 6. 3층 상담복지부 | D40: 1 | E40: =F41+F42 -> 0 | F40: =E40*D40 -> 0 | G40: =H41+H42 -> 0 | H40: =G40*D40 -> 0 | I40: =J41+J42 -> 0 | J40: =I40*D40 -> 0 | K40: =E40+G40+I40 -> 0 | L40: =F40+H40+J40 -> 0 | N40: 0106 | P40: 01 | R40: 2
...

Sheet 공종별내역서
A1: [ 난우중학교 관리실 환경개선공사 ]
A2: 품 명 | B2: 규 격 | C2: 단위 | D2: 수량 | E2: 재 료 비 | G2: 노 무 비 | I2: 경 비 | K2: 합 계 | M2: 비 고 | N2: 품목코드 | O2: 변수 | P2: 설정 | Q2: 공종코드 | R2: 일위 | S2: 단산 | T2: 자재 | U2: 손료적용 | V2: 손료저장 | W2: 적용율 | X2: JUK1 | Y2: JUK2 | Z2: JUK3 | AA2: JUK4 | AB2: JUK5 | AC2: JUK6 | AD2: JUK7 | AE2: JUK8 | AF2: JUK9 | AG2: JUK10 | AH2: JUK11 | AI2: JUK12 | AJ2: JUK13 | AK2: JUK14 | AL2: JUK15 | AM2: JUK16 | AN2: JUK17 | AO2: JUK18 | AP2: JUK19 | AQ2: JUK20 | AR2: 자재구분 | AS2: 공종구분 | AT2: 공종레벨 | AU2: 공종+자재 | AV2: 고유번호
E3: 단 가 | F3: 금 액 | G3: 단 가 | H3: 금 액 | I3: 단 가 | J3: 금 액 | K3: 단 가 | L3: 금 액
A4: 010301 가 설 공 사 | B4: 3. 3층 1학년부실 | Q4: 010301
A5: 강관 조립말비계(이동식)설치 및 해체 | B5: 높이 2m, 3개월 | C5: 대 | D5: 1 | E5: =TRUNC(일위대가목록!E7,0) -> 0 | F5: =TRUNC(E5*D5,0) -> 0 | G5: =TRUNC(일위대가목록!F7,0) -> 0 | H5: =TRUNC(G5*D5,0) -> 0 | I5: =TRUNC(일위대가목록!G7,0) -> 0 | J5: =TRUNC(I5*D5,0) -> 0 | K5: =TRUNC(E5+G5+I5,0) -> 0 | L5: =TRUNC(F5+H5+J5,0) -> 0 | M5: 호표 4 | N5: 465C91B9069D12D2840360DE58853 | Q5: 010301 | R5: T | S5: F | T5: F | AU5: 010301465C91B9069D12D2840360DE58853 | AV5: 35
A6: 건축물 현장정리 | B6: 개보수 | C6: M2 | D6: 65.85 | E6: =TRUNC(일위대가목록!E8,0) -> 0 | F6: =TRUNC(E6*D6,0) -> 0 | G6: =TRUNC(일위대가목록!F8,0) -> 0 | H6: =TRUNC(G6*D6,0) -> 0 | I6: =TRUNC(일위대가목록!G8,0) -> 0 | J6: =TRUNC(I6*D6,0) -> 0 | K6: =TRUNC(E6+G6+I6,0) -> 0 | L6: =TRUNC(F6+H6+J6,0) -> 0 | M6: 호표 5 | N6: 465C91BCDBC6324254B6F693AC012 | Q6: 010301 | R6: T | S6: F | T6: F | AU6: 010301465C91BCDBC6324254B6F693AC012 | AV6: 245
A7: 준공청소 | B7: 개보수/습건식 청소 | C7: M2 | D7: 65.85 | E7: =TRUNC(일위대가목록!E10,0) -> 0 | F7: =TRUNC(E7*D7,0) -> 0 | G7: =TRUNC(일위대가목록!F10,0) -> 0 | H7: =TRUNC(G7*D7,0) -> 0 | I7: =TRUNC(일위대가목록!G10,0) -> 0 | J7: =TRUNC(I7*D7,0) -> 0 | K7: =TRUNC(E7+G7+I7,0) -> 0 | L7: =TRUNC(F7+H7+J7,0) -> 0 | M7: 호표 7 | N7: 465C91BCDE951212841B4F50BB7B2 | Q7: 010301 | R7: T | S7: F | T7: F | AU7: 010301465C91BCDE951212841B4F50BB7B2 | AV7: 37
A8: 비닐보양 - 바닥 | B8: 폴리에틸렌필름, 두께, 0.05mm, 2겹 | C8: M2 | D8: 131.69 | E8: =TRUNC(일위대가목록!E98,0) -> 0 | F8: =TRUNC(E8*D8,0) -> 0 | G8: =TRUNC(일위대가목록!F98,0) -> 0 | H8: =TRUNC(G8*D8,0) -> 0 | I8: =TRUNC(일위대가목록!G98,0) -> 0 | J8: =TRUNC(I8*D8,0) -> 0 | K8: =TRUNC(E8+G8+I8,0) -> 0 | L8: =TRUNC(F8+H8+J8,0) -> 0 | M8: 호표 95 | N8: 465C9FD37B2C52E284BFFF7DC468D | Q8: 010301 | R8: T | S8: F | T8: F | AU8: 010301465C9FD37B2C52E284BFFF7DC468D | AV8: 38
Q9: 010301
Q10: 010301
Q11: 010301
Q12: 010301
Q13: 010301
Q14: 010301
Q15: 010301
Q16: 010301
Q17: 010301
Q18: 010301
Q19: 010301
Q20: 010301
... Q26: 010301
A27: [ 합 계 ] | F27: =SUMIF(Q5:Q26,"010301",F5:F26) -> 0 | H27: =SUMIF(Q5:Q26,"010301",H5:H26) -> 0 | J27: =SUMIF(Q5:Q26,"010301",J5:J26) -> 0 | L27: =SUMIF(Q5:Q26,"010301",L5:L26) -> 0 | N27: TOTAL
A28: 010302 돌 공 사 | B28: 3. 3층 1학년부실 | Q28: 010302
A29: 시멘트 | B29: 건재상 | C29: 포 | D29: 1 | E29: =TRUNC(단가대비표!O25,0) -> 0 | F29: =TRUNC(E29*D29,0) -> 0 | G29: =TRUNC(단가대비표!P25,0) -> 0 | H29: =TRUNC(G29*D29,0) -> 0 | I29: =TRUNC(단가대비표!V25,0) -> 0 | J29: =TRUNC(I29*D29,0) -> 0 | K29: =TRUNC(E29+G29+I29,0) -> 0 | L29: =TRUNC(F29+H29+J29,0) -> 0 | N29: 417092BD5691424254EB5C47002D953E10EC7 | Q29: 010302 | R29: F | S29: F | T29: T | AU29: 010302417092BD5691424254EB5C47002D953E10EC7 | AV29: 246
A30: 모래 | B30: 모래, 자연사, 도착도 | C30: M3 | D30: 0.1 | E30: =TRUNC(단가대비표!O8,0) -> 0 | F30: =TRUNC(E30*D30,0) -> 0 | G30: =TRUNC(단가대비표!P8,0) -> 0 | H30: =TRUNC(G30*D30,0) -> 0 | I30: =TRUNC(단가대비표!V8,0) -> 0 | J30: =TRUNC(I30*D30,0) -> 0 | K30: =TRUNC(E30+G30+I30,0) -> 0 | L30: =TRUNC(F30+H30+J30,0) -> 0 | N30: 415594C051094242A4398C1BF38C48A888DA5 | Q30: 010302 | R30: F | S30: F | T30: T | AU30: 010302415594C051094242A4398C1BF38C48A888DA5 | AV30: 247
A31: 인조대리석붙임(습식, 물갈기) | B31: 창대, 인조대리석 250*40mm, 모르타르 30mm | C31: M | D31: 7.64 | E31: =TRUNC(일위대가목록!E57,0) -> 0 | F31: =TRUNC(E31*D31,0) -> 0 | G31: =TRUNC(일위대가목록!F57,0) -> 0 | H31: =TRUNC(G31*D31,0) -> 0 | I31: =TRUNC(일위대가목록!G57,0) -> 0 | J31: =TRUNC(I31*D31,0) -> 0 | K31: =TRUNC(E31+G31+I31,0) -> 0 | L31: =TRUNC(F31+H31+J31,0) -> 0 | M31: 호표 54 | N31: 465C9D8BEA5D0212F4DA47D886363 | Q31: 010302 | R31: T | S31: F | T31: F | AU31: 010302465C9D8BEA5D0212F4DA47D886363 | AV31: 248
Q32: 010302
Q33: 010302
Q34: 010302
Q35: 010302
Q36: 010302
Q37: 010302
Q38: 010302
Q39: 010302
Q40: 010302
Q41: 010302
Q42: 010302
Q43: 010302
... Q50: 010302
A51: [ 합 계 ] | F51: =SUMIF(Q29:Q50,"010302",F29:F50) -> 0 | H51: =SUMIF(Q29:Q50,"010302",H29:H50) -> 0 | J51: =SUMIF(Q29:Q50,"010302",J29:J50) -> 0 | L51: =SUMIF(Q29:Q50,"010302",L29:L50) -> 0 | N51: TOTAL
...

Sheet 일위대가목록
B1: 일 위 대 가 목 록
B2: [ 난우중학교 관리실 환경개선공사 ]
A3: 코 드 | B3: 품 명 | C3: 규 격 | D3: 단위 | E3: 재 료 비 | F3: 노 무 비 | G3: 경 비 | H3: 합 계 | I3: 번 호 | J3: 비 고 | K3: 노임계수 | L3: 할증 | M3: 품셈개요 | N3: 장비일위
A4: 41449EF6491E8202845683DFF8268B659C74E61 | B4: 소형브레이커(전기식) | C4: 1.5kw | D4: HR | E4: =일위대가!F6 -> 0 | F4: =일위대가!H6 -> 0 | G4: =일위대가!J6 -> 0 | H4: =E4+F4+G4 -> 0 | I4: 호표 1 | M4: 공통 8-3(5220) | N4: T
A5: 41449EF6491CD23234347E8AB5497FFA9098989 | B5: 용접기(교류) | C5: 500Amp | D5: HR | E5: =일위대가!F10 -> 0 | F5: =일위대가!H10 -> 0 | G5: =일위대가!J10 -> 0 | H5: =E5+F5+G5 -> 0 | I5: 호표 2 | K5: A | M5: 공통 8-3(7611) | N5: T
A6: 465C91B9069D12D2840360CDFBF53 | B6: 강관 조립말비계(이동식)설치 및 해체 | C6: 높이 2m, 노무비 | D6: 대 | E6: =일위대가!F15 -> 0 | F6: =일위대가!H15 -> 0 | G6: =일위대가!J15 -> 0 | H6: =E6+F6+G6 -> 0 | I6: 호표 3 | M6: 공통 2-7-6
A7: 465C91B9069D12D2840360DE58853 | B7: 강관 조립말비계(이동식)설치 및 해체 | C7: 높이 2m, 3개월 | D7: 대 | E7: =일위대가!F28 -> 0 | F7: =일위대가!H28 -> 0 | G7: =일위대가!J28 -> 0 | H7: =E7+F7+G7 -> 0 | I7: 호표 4 | M7: 공통 2-7-6, 2-2-5
A8: 465C91BCDBC6324254B6F693AC012 | B8: 건축물 현장정리 | C8: 개보수 | D8: M2 | E8: =일위대가!F32 -> 0 | F8: =일위대가!H32 -> 0 | G8: =일위대가!J32 -> 0 | H8: =E8+F8+G8 -> 0 | I8: 호표 5 | M8: 공통 2-11-2
A9: 465C91BCD80C22429437E6F6BC67B | B9: 건축물 보양 - 타일 | C9: 톱밥 - 조달자원 대체 | D9: M2 | E9: =일위대가!F37 -> 0 | F9: =일위대가!H37 -> 0 | G9: =일위대가!J37 -> 0 | H9: =E9+F9+G9 -> 0 | I9: 호표 6 | M9: 건축 2-9
A10: 465C91BCDE951212841B4F50BB7B2 | B10: 준공청소 | C10: 개보수 | D10: M2 | E10: =일위대가!F41 -> 0 | F10: =일위대가!H41 -> 0 | G10: =일위대가!J41 -> 0 | H10: =E10+F10+G10 -> 0 | I10: 호표 7
A11: 465C91BCDE951212841B4F50BB7B6 | B11: 집기류 및 가구 등 이전 재설치 | C11: 붙박이장제외(종이박스6호 제공 실당5개이상)선풍기,비석면에 붙은 모든 제품들 | D11: M2 | E11: =일위대가!F46 -> 0 | F11: =일위대가!H46 -> 0 | G11: =일위대가!J46 -> 0 | H11: =E11+F11+G11 -> 0 | I11: 호표 8
A12: 465C9720ED8C4212A4EA040F5E0E7 | B12: 모르타르 배합 | C12: 모래채가름 포함 | D12: M3 | E12: =일위대가!F50 -> 0 | F12: =일위대가!H50 -> 0 | G12: =일위대가!J50 -> 0 | H12: =E12+F12+G12 -> 0 | I12: 호표 9 | M12: 건축 9-1-1
A13: 465C9720ED8C4212A4EA0434AC6B8 | B13: 모르타르 배합(배합품 포함) | C13: 배합용적비 1:3, 시멘트, 모래 별도 | D13: M3 | E13: =일위대가!F56 -> 0 | F13: =일위대가!H56 -> 0 | G13: =일위대가!J56 -> 0 | H13: =E13+F13+G13 -> 0 | I13: 호표 10 | M13: 건축 9-1-1
A14: 465C9720EE92A2C294355A88ECE03 | B14: 바탕 정리 | D14: M2 | E14: =일위대가!F61 -> 0 | F14: =일위대가!H61 -> 0 | G14: =일위대가!J61 -> 0 | H14: =E14+F14+G14 -> 0 | I14: 호표 11
A15: 465C972BF72BF2B2043B9917C01FC | B15: 코너비드 | C15: 코너비드, SUS 타일코너, 10mm | D15: M | E15: =일위대가!F66 -> 0 | F15: =일위대가!H66 -> 0 | G15: =일위대가!J66 -> 0 | H15: =E15+F15+G15 -> 0 | I15: 호표 12 | M15: 건축 8-1-2
A16: 465C98019ECE12A26425C49C62AB8 | B16: 수밀코킹 | C16: 재료비 별도 | D16: M | E16: =일위대가!F70 -> 0 | F16: =일위대가!H70 -> 0 | G16: =일위대가!J70 -> 0 | H16: =E16+F16+G16 -> 0 | I16: 호표 13 | M16: 건축 6-6-1
A17: 465C98019C00C292B408B83034F7B | B17: 유리주위 코킹 | C17: 5*5, 실리콘 | D17: M | E17: =일위대가!F74 -> 0 | F17: =일위대가!H74 -> 0 | G17: =일위대가!J74 -> 0 | H17: =E17+F17+G17 -> 0 | I17: 호표 14 | M17: 건축 6-6-1
A18: 465C98019D252272A4F1196AB7B64 | B18: 수밀코킹(실리콘) | C18: 삼각, 10mm, 창호주위 | D18: M | E18: =일위대가!F79 -> 0 | F18: =일위대가!H79 -> 0 | G18: =일위대가!J79 -> 0 | H18: =E18+F18+G18 -> 0 | I18: 호표 15 | M18: 건축 6-6-1
A19: 465C980E5522D2227495292FBFF67 | B19: 시멘트 액체방수 바름 | C19: 바닥 | D19: M2 | E19: =일위대가!F85 -> 0 | F19: =일위대가!H85 -> 0 | G19: =일위대가!J85 -> 0 | H19: =E19+F19+G19 -> 0 | I19: 호표 16 | M19: 건축 6-4-1
A20: 465C980E5522D222749518B8988A4 | B20: 시멘트 액체방수 바름 | C20: 수직부 | D20: M2 | E20: =일위대가!F91 -> 0 | F20: =일위대가!H91 -> 0 | G20: =일위대가!J91 -> 0 | H20: =E20+F20+G20 -> 0 | I20: 호표 17 | M20: 건축 6-4-1
A21: 465C980E541BE21244992E4EFC13A | B21: 시멘트 액체방수 | C21: 바닥, 1종 | D21: M2 | E21: =일위대가!F98 -> 0 | F21: =일위대가!H98 -> 0 | G21: =일위대가!J98 -> 0 | H21: =E21+F21+G21 -> 0 | I21: 호표 18 | M21: 건축 12-7-2
A22: 465C980E541BE21244992E4EFC138 | B22: 시멘트 액체방수 | C22: 벽, 1종 | D22: M2 | E22: =일위대가!F105 -> 0 | F22: =일위대가!H105 -> 0 | G22: =일위대가!J105 -> 0 | H22: =E22+F22+G22 -> 0 | I22: 호표 19 | M22: 건축 12-7-2
A23: 465C980D4E31220264AABE808B607 | B23: 보호모르타르 / 바닥 | C23: 콘크리트면, 20mm | D23: M2 | E23: =일위대가!F110 -> 0 | F23: =일위대가!H110 -> 0 | G23: =일위대가!J110 -> 0 | H23: =E23+F23+G23 -> 0 | I23: 호표 20
A24: 465C996FA20482A25476C030C3FF7 | B24: 플로어링 마루 설치 | D24: M2 | E24: =일위대가!F116 -> 0 | F24: =일위대가!H116 -> 0 | G24: =일위대가!J116 -> 0 | H24: =E24+F24+G24 -> 0 | I24: 호표 21 | M24: 건축 5-1-3
A25: 465C996CD17612421402F550AC07B | B25: 벽체틀 설치 | C25: 자재 별도 | D25: M2 | E25: =일위대가!F122 -> 0 | F25: =일위대가!H122 -> 0 | G25: =일위대가!J122 -> 0 | H25: =E25+F25+G25 -> 0 | I25: 호표 22 | M25: 건축 4-2-1
A26: 465C996CD17732A2141DA803D8977 | B26: 벽체틀 설치 | C26: 30*30, @450*600, 미송 | D26: M2 | E26: =일위대가!F127 -> 0 | F26: =일위대가!H127 -> 0 | G26: =일위대가!J127 -> 0 | H26: =E26+F26+G26 -> 0 | I26: 호표 23 | M26: 건축 4-2-1
A27: 465C996CDB7A62B284F453FCEFACA | B27: 토대설치 | D27: M | E27: =일위대가!F133 -> 0 | F27: =일위대가!H133 -> 0 | G27: =일위대가!J133 -> 0 | H27: =E27+F27+G27 -> 0 | I27: 호표 24 | M27: 건축 4-3-1
A28: 465C9A5C09EDC232B4681A3DB622B | B28: 인서트설치 - 16년 상 개정 삭제 | C28: 거푸집용 | D28: 개 | E28: =일위대가!F138 -> 0 | F28: =일위대가!H138 -> 0 | G28: =일위대가!J138 -> 0 | H28: =E28+F28+G28 -> 0 | I28: 호표 25 | M28: 건축 14-7.1
A29: 465C9A5C08C6329244E816F85DFD4 | B29: 경량천장철골틀 설치 | C29: BAR 간격 300mm | D29: M2 | E29: =일위대가!F144 -> 0 | F29: =일위대가!H144 -> 0 | G29: =일위대가!J144 -> 0 | H29: =E29+F29+G29 -> 0 | I29: 호표 26 | M29: 건축 8-2-4
A30: 465C9A5C08C6329244E816F85DFD5 | B30: 경량천장철골틀 설치 | C30: M-BAR | D30: M2 | E30: =일위대가!F160 -> 0 | F30: =일위대가!H160 -> 0 | G30: =일위대가!J160 -> 0 | H30: =E30+F30+G30 -> 0 | I30: 호표 27
A31: 465C9A58AF43F25224AD4790F9330 | B31: 각종 잡철물 제작 - 22-1/4삭제 | C31: 스테인리스, 간단(강판의 가공설치) | D31: kg | E31: =일위대가!F173 -> 0 | F31: =일위대가!H173 -> 0 | G31: =일위대가!J173 -> 0 | H31: =E31+F31+G31 -> 0 | I31: 호표 28 | M31: 건축 8-4-1
A32: 465C9A58AF43F25224AD478693012 | B32: 각종 잡철물 설치 - 22-1/4삭제 | C32: 스테인리스, 간단(강판의 가공설치) | D32: kg | E32: =일위대가!F186 -> 0 | F32: =일위대가!H186 -> 0 | G32: =일위대가!J186 -> 0 | H32: =E32+F32+G32 -> 0 | I32: 호표 29 | M32: 건축 8-4-1
A33: 465C9A58AF43F252249CC61B510AD | B33: 각종 잡철물 제작 설치 - 22-1/4삭제 | C33: 스테인리스, 간단(강판의 가공설치) | D33: kg | E33: =일위대가!F191 -> 0 | F33: =일위대가!H191 -> 0 | G33: =일위대가!J191 -> 0 | H33: =E33+F33+G33 -> 0 | I33: 호표 30 | M33: 건축 8-4-1
A34: 465C9A58AC8F320204EDFB03C941A | B34: 잡철물 제작 및 설치 | C34: 현장제작 설치, 일반철재 | D34: kg | E34: =일위대가!F200 -> 0 | F34: =일위대가!H200 -> 0 | G34: =일위대가!J200 -> 0 | H34: =E34+F34+G34 -> 0 | I34: 호표 31 | M34: 건축 8-3-1
A35: 465C9A58AC8F320204EDD83C78421 | B35: 잡철물 제작 및 설치 | C35: 현장제작 설치, 경량철재 | D35: kg | E35: =일위대가!F209 -> 0 | F35: =일위대가!H209 -> 0 | G35: =일위대가!J209 -> 0 | H35: =E35+F35+G35 -> 0 | I35: 호표 32 | M35: 건축 8-3-1
A36: 465C9CA38DE232A2746CC116BDAB6 | B36: SSD1[7. 3층 학습도움실] | C36: 2.100 x 2.700 = 5.670 | D36: EA | E36: =일위대가!F215 -> 0 | F36: =일위대가!H215 -> 0 | G36: =일위대가!J215 -> 0 | H36: =E36+F36+G36 -> 0 | I36: 호표 33
A37: 465C9CA38DE232A2746CC116BDAB4 | B37: WD1[7. 3층 학습도움실] | C37: 0.900 x 2.100 = 1.890 | D37: EA | E37: =일위대가!F219 -> 0 | F37: =일위대가!H219 -> 0 | G37: =일위대가!J219 -> 0 | H37: =E37+F37+G37 -> 0 | I37: 호표 34
A38: 465C9CA38E8892E234CC5006FD424 | B38: 목재창호 설치 / 여닫이 | C38: 창호면적 m2, 1.0 이하 | D38: 개소 | E38: =일위대가!F225 -> 0 | F38: =일위대가!H225 -> 0 | G38: =일위대가!J225 -> 0 | H38: =E38+F38+G38 -> 0 | I38: 호표 35 | M38: 건축 10-1-1
A39: 465C9CA03A8AA2D2542DE20DDAF3A | B39: 알루미늄창호 설치 | C39: 창호면적 m2, 1.0 이하 | D39: 개소 | E39: =일위대가!F231 -> 0 | F39: =일위대가!H231 -> 0 | G39: =일위대가!J231 -> 0 | H39: =E39+F39+G39 -> 0 | I39: 호표 36 | M39: 건축 10-1-3
A40: 465C9CA49225B212F4ACA8E717378 | B40: 도어록 설치 / 일반도어록 강재창호 | C40: 재료비 별도 | D40: 개소 | E40: =일위대가!F236 -> 0 | F40: =일위대가!H236 -> 0 | G40: =일위대가!J236 -> 0 | H40: =E40+F40+G40 -> 0 | I40: 호표 37 | M40: 건축 10-2-3
...

Sheet 일위대가
A1: [ 난우중학교 관리실 환경개선공사 ]
A2: 품 명 | B2: 규 격 | C2: 단위 | D2: 수량 | E2: 재 료 비 | G2: 노 무 비 | I2: 경 비 | K2: 합 계 | M2: 비 고 | N2: 일위대가 | O2: 품목코드 | P2: 일위 | Q2: 단산 | R2: 자재 | S2: 손료적용 | T2: 손료저장 | U2: 적용율 | V2: JUK1 | W2: JUK2 | X2: JUK3 | Y2: JUK4 | Z2: JUK5 | AA2: JUK6 | AB2: JUK7 | AC2: JUK8 | AD2: JUK9 | AE2: JUK10 | AF2: JUK11 | AG2: JUK12 | AH2: JUK13 | AI2: JUK14 | AJ2: JUK15 | AK2: JUK16 | AL2: JUK17 | AM2: JUK18 | AN2: JUK19 | AO2: JUK20 | AP2: 할증적용 | AQ2: 할증저장 | AR2: 할증율 | AS2: HAL1 | AT2: HAL2 | AU2: HAL3 | AV2: 자재구분 | AW2: 일위대가+자재 | AX2: 장비일위 | AY2: 설정 | AZ2: 할증체크
E3: 단 가 | F3: 금 액 | G3: 단 가 | H3: 금 액 | I3: 단 가 | J3: 금 액 | K3: 단 가 | L3: 금 액
A4: 소형브레이커(전기식) 1.5kw HR 공통 8-3(5220) ( 호표 1 ) | N4: 41449EF6491E8202845683DFF8268B659C74E61
A5: 소형브레이커(전기식) | B5: 1.5kw | C5: 대 | D5: 0.25 | E5: =단가대비표!O5 -> 0 | F5: =TRUNC(E5*D5,1) -> 0 | G5: =단가대비표!P5 -> 0 | H5: =TRUNC(G5*D5,1) -> 0 | I5: =단가대비표!V5 -> 0 | J5: =TRUNC(I5*D5,1) -> 0 | K5: =TRUNC(E5+G5+I5,1) -> 0 | L5: =TRUNC(F5+H5+J5,1) -> 0 | M5: 천원 | N5: 41449EF6491E8202845683DFF8268B659C74E61 | O5: 41449EF6491E8202845683DFF8268B659C74E | P5: F | Q5: F | R5: T | AW5: 41449EF6491E8202845683DFF8268B659C74E6141449EF6491E8202845683DFF8268B659C74E
A6: [ 합 계 ] | F6: =TRUNC(SUMIF(N5:N5,N4,F5:F5),0) -> 0 | H6: =TRUNC(SUMIF(N5:N5,N4,H5:H5),0) -> 0 | J6: =TRUNC(SUMIF(N5:N5,N4,J5:J5),0) -> 0 | L6: =F6+H6+J6 -> 0 | N6: TOTAL | O6: TOTAL
A8: 용접기(교류) 500Amp HR 공통 8-3(7611) ( 호표 2 ) | N8: 41449EF6491CD23234347E8AB5497FFA9098989
A9: 용접기(교류) | B9: 500Amp | C9: 대 | D9: 0.2362 | E9: =단가대비표!O6 -> 0 | F9: =TRUNC(E9*D9,1) -> 0 | G9: =단가대비표!P6 -> 0 | H9: =TRUNC(G9*D9,1) -> 0 | I9: =단가대비표!V6 -> 0 | J9: =TRUNC(I9*D9,1) -> 0 | K9: =TRUNC(E9+G9+I9,1) -> 0 | L9: =TRUNC(F9+H9+J9,1) -> 0 | M9: 천원 | N9: 41449EF6491CD23234347E8AB5497FFA9098989 | O9: 41449EF6491CD23234347E8AB5497FFA90989 | P9: F | Q9: F | R9: T | AW9: 41449EF6491CD23234347E8AB5497FFA909898941449EF6491CD23234347E8AB5497FFA90989
A10: [ 합 계 ] | F10: =TRUNC(SUMIF(N9:N9,N8,F9:F9),0) -> 0 | H10: =TRUNC(SUMIF(N9:N9,N8,H9:H9),0) -> 0 | J10: =TRUNC(SUMIF(N9:N9,N8,J9:J9),0) -> 0 | L10: =F10+H10+J10 -> 0 | N10: TOTAL | O10: TOTAL | AX10: T
A12: 강관 조립말비계(이동식)설치 및 해체 높이 2m, 노무비 대 공통 2-7-6 ( 호표 3 ) | N12: 465C91B9069D12D2840360CDFBF53
A13: 비계공 | B13: 일반공사 직종 | C13: 인 | D13: 0.25 | E13: =단가대비표!O98 -> 0 | F13: =TRUNC(E13*D13,1) -> 0 | G13: =단가대비표!P98 -> 0 | H13: =TRUNC(G13*D13,1) -> 0 | I13: =단가대비표!V98 -> 0 | J13: =TRUNC(I13*D13,1) -> 0 | K13: =TRUNC(E13+G13+I13,1) -> 0 | L13: =TRUNC(F13+H13+J13,1) -> 0 | N13: 465C91B9069D12D2840360CDFBF53 | O13: 468095FBD87A721254725B2C083040784F209 | P13: F | Q13: F | R13: T | AW13: 465C91B9069D12D2840360CDFBF53468095FBD87A721254725B2C083040784F209
A14: 보통인부 | B14: 일반공사 직종 | C14: 인 | D14: 0.14 | E14: =단가대비표!O96 -> 0 | F14: =TRUNC(E14*D14,1) -> 0 | G14: =단가대비표!P96 -> 0 | H14: =TRUNC(G14*D14,1) -> 0 | I14: =단가대비표!V96 -> 0 | J14: =TRUNC(I14*D14,1) -> 0 | K14: =TRUNC(E14+G14+I14,1) -> 0 | L14: =TRUNC(F14+H14+J14,1) -> 0 | N14: 465C91B9069D12D2840360CDFBF53 | O14: 468095FBD87A721254725B2C083040784F20D | P14: F | Q14: F | R14: T | AW14: 465C91B9069D12D2840360CDFBF53468095FBD87A721254725B2C083040784F20D
A15: [ 합 계 ] | F15: =TRUNC(SUMIF(N13:N14,N12,F13:F14),0) -> 0 | H15: =TRUNC(SUMIF(N13:N14,N12,H13:H14),0) -> 0 | J15: =TRUNC(SUMIF(N13:N14,N12,J13:J14),0) -> 0 | L15: =F15+H15+J15 -> 0 | N15: TOTAL | O15: TOTAL
A17: 강관 조립말비계(이동식)설치 및 해체 높이 2m, 3개월 대 공통 2-7-6, 2-2-5 ( 호표 4 ) | N17: 465C91B9069D12D2840360DE58853
A18: 비계안정장치 | B18: 비계안정장치, 비계기본틀, 기둥, 1.2*1.7m | C18: 개 | D18: 0.14 | E18: =단가대비표!O55 -> 0 | F18: =TRUNC(E18*D18,1) -> 0 | G18: =단가대비표!P55 -> 0 | H18: =TRUNC(G18*D18,1) -> 0 | I18: =단가대비표!V55 -> 0 | J18: =TRUNC(I18*D18,1) -> 0 | K18: =TRUNC(E18+G18+I18,1) -> 0 | L18: =TRUNC(F18+H18+J18,1) -> 0 | N18: 465C91B9069D12D2840360DE58853 | O18: 417092BD5EE732C2841A35D0BCD7FCD6C95CE | P18: F | Q18: F | R18: T | AW18: 465C91B9069D12D2840360DE58853417092BD5EE732C2841A35D0BCD7FCD6C95CE
A19: 비계안정장치 | B19: 비계안정장치, 가새, 1.2*1.9m | C19: 개 | D19: 0.14 | E19: =단가대비표!O56 -> 0 | F19: =TRUNC(E19*D19,1) -> 0 | G19: =단가대비표!P56 -> 0 | H19: =TRUNC(G19*D19,1) -> 0 | I19: =단가대비표!V56 -> 0 | J19: =TRUNC(I19*D19,1) -> 0 | K19: =TRUNC(E19+G19+I19,1) -> 0 | L19: =TRUNC(F19+H19+J19,1) -> 0 | N19: 465C91B9069D12D2840360DE58853 | O19: 417092BD5EE732C2841A35D0BCD7FCD6C95C0 | P19: F | Q19: F | R19: T | AW19: 465C91B9069D12D2840360DE58853417092BD5EE732C2841A35D0BCD7FCD6C95C0
A20: 비계안정장치 | B20: 비계안정장치, 수평띠장, 1829mm | C20: 개 | D20: 0.28 | E20: =단가대비표!O57 -> 0 | F20: =TRUNC(E20*D20,1) -> 0 | G20: =단가대비표!P57 -> 0 | H20: =TRUNC(G20*D20,1) -> 0 | I20: =단가대비표!V57 -> 0 | J20: =TRUNC(I20*D20,1) -> 0 | K20: =TRUNC(E20+G20+I20,1) -> 0 | L20: =TRUNC(F20+H20+J20,1) -> 0 | N20: 465C91B9069D12D2840360DE58853 | O20: 417092BD5EE732C2841A35D0BCD7FCD6C9A48 | P20: F | Q20: F | R20: T | AW20: 465C91B9069D12D2840360DE58853417092BD5EE732C2841A35D0BCD7FCD6C9A48
A21: 비계안정장치 | B21: 비계안정장치, 손잡이기둥 | C21: 개 | D21: 0.28 | E21: =단가대비표!O60 -> 0 | F21: =TRUNC(E21*D21,1) -> 0 | G21: =단가대비표!P60 -> 0 | H21: =TRUNC(G21*D21,1) -> 0 | I21: =단가대비표!V60 -> 0 | J21: =TRUNC(I21*D21,1) -> 0 | K21: =TRUNC(E21+G21+I21,1) -> 0 | L21: =TRUNC(F21+H21+J21,1) -> 0 | N21: 465C91B9069D12D2840360DE58853 | O21: 417092BD5EE732C2841A35D0BCD7FCD6C9A4F | P21: F | Q21: F | R21: T | AW21: 465C91B9069D12D2840360DE58853417092BD5EE732C2841A35D0BCD7FCD6C9A4F
A22: 비계안정장치 | B22: 비계안정장치, 손잡이, 1229mm | C22: 개 | D22: 0.14 | E22: =단가대비표!O58 -> 0 | F22: =TRUNC(E22*D22,1) -> 0 | G22: =단가대비표!P58 -> 0 | H22: =TRUNC(G22*D22,1) -> 0 | I22: =단가대비표!V58 -> 0 | J22: =TRUNC(I22*D22,1) -> 0 | K22: =TRUNC(E22+G22+I22,1) -> 0 | L22: =TRUNC(F22+H22+J22,1) -> 0 | N22: 465C91B9069D12D2840360DE58853 | O22: 417092BD5EE732C2841A35D0BCD7FCD6C9A49 | P22: F | Q22: F | R22: T | AW22: 465C91B9069D12D2840360DE58853417092BD5EE732C2841A35D0BCD7FCD6C9A49
A23: 비계안정장치 | B23: 비계안정장치, 손잡이, 1829mm | C23: 개 | D23: 0.28 | E23: =단가대비표!O59 -> 0 | F23: =TRUNC(E23*D23,1) -> 0 | G23: =단가대비표!P59 -> 0 | H23: =TRUNC(G23*D23,1) -> 0 | I23: =단가대비표!V59 -> 0 | J23: =TRUNC(I23*D23,1) -> 0 | K23: =TRUNC(E23+G23+I23,1) -> 0 | L23: =TRUNC(F23+H23+J23,1) -> 0 | N23: 465C91B9069D12D2840360DE58853 | O23: 417092BD5EE732C2841A35D0BCD7FCD6C9A4E | P23: F | Q23: F | R23: T | AW23: 465C91B9069D12D2840360DE58853417092BD5EE732C2841A35D0BCD7FCD6C9A4E
A24: 비계안정장치 | B24: 비계안정장치, 바퀴 | C24: 개 | D24: 0.36 | E24: =단가대비표!O61 -> 0 | F24: =TRUNC(E24*D24,1) -> 0 | G24: =단가대비표!P61 -> 0 | H24: =TRUNC(G24*D24,1) -> 0 | I24: =단가대비표!V61 -> 0 | J24: =TRUNC(I24*D24,1) -> 0 | K24: =TRUNC(E24+G24+I24,1) -> 0 | L24: =TRUNC(F24+H24+J24,1) -> 0 | N24: 465C91B9069D12D2840360DE58853 | O24: 417092BD5EE732C2841A35D0BCD7FCD6C9A4C | P24: F | Q24: F | R24: T | AW24: 465C91B9069D12D2840360DE58853417092BD5EE732C2841A35D0BCD7FCD6C9A4C
A25: 비계안정장치 | B25: 비계안정장치, 쟈키 | C25: 개 | D25: 0.36 | E25: =단가대비표!O62 -> 0 | F25: =TRUNC(E25*D25,1) -> 0 | G25: =단가대비표!P62 -> 0 | H25: =TRUNC(G25*D25,1) -> 0 | I25: =단가대비표!V62 -> 0 | J25: =TRUNC(I25*D25,1) -> 0 | K25: =TRUNC(E25+G25+I25,1) -> 0 | L25: =TRUNC(F25+H25+J25,1) -> 0 | N25: 465C91B9069D12D2840360DE58853 | O25: 417092BD5EE732C2841A35D0BCD7FCD6C9A4D | P25: F | Q25: F | R25: T | AW25: 465C91B9069D12D2840360DE58853417092BD5EE732C2841A35D0BCD7FCD6C9A4D
A26: 비계안정장치 | B26: 비계안정장치, 발판, 40*200*2000 | C26: 장 | D26: 0.63 | E26: =단가대비표!O63 -> 0 | F26: =TRUNC(E26*D26,1) -> 0 | G26: =단가대비표!P63 -> 0 | H26: =TRUNC(G26*D26,1) -> 0 | I26: =단가대비표!V63 -> 0 | J26: =TRUNC(I26*D26,1) -> 0 | K26: =TRUNC(E26+G26+I26,1) -> 0 | L26: =TRUNC(F26+H26+J26,1) -> 0 | N26: 465C91B9069D12D2840360DE58853 | O26: 417092BD5EE732C2841A35D091C0FB63DC335 | P26: F | Q26: F | R26: T | AW26: 465C91B9069D12D2840360DE58853417092BD5EE732C2841A35D091C0FB63DC335
A27: 강관 조립말비계(이동식)설치 및 해체 | B27: 높이 2m, 노무비 | C27: 대 | D27: 1 | E27: =일위대가목록!E6 -> 0 | F27: =TRUNC(E27*D27,1) -> 0 | G27: =일위대가목록!F6 -> 0 | H27: =TRUNC(G27*D27,1) -> 0 | I27: =일위대가목록!G6 -> 0 | J27: =TRUNC(I27*D27,1) -> 0 | K27: =TRUNC(E27+G27+I27,1) -> 0 | L27: =TRUNC(F27+H27+J27,1) -> 0 | M27: 호표 3 | N27: 465C91B9069D12D2840360DE58853 | O27: 465C91B9069D12D2840360CDFBF53 | P27: T | Q27: F | R27: F | AW27: 465C91B9069D12D2840360DE58853465C91B9069D12D2840360CDFBF53
A28: [ 합 계 ] | F28: =TRUNC(SUMIF(N18:N27,N17,F18:F27),0) -> 0 | H28: =TRUNC(SUMIF(N18:N27,N17,H18:H27),0) -> 0 | J28: =TRUNC(SUMIF(N18:N27,N17,J18:J27),0) -> 0 | L28: =F28+H28+J28 -> 0 | N28: TOTAL | O28: TOTAL
A30: 건축물 현장정리 개보수 M2 공통 2-11-2 ( 호표 5 ) | N30: 465C91BCDBC6324254B6F693AC012
A31: 보통인부 | B31: 일반공사 직종 | C31: 인 | D31: =0.025 -> 0.025 | E31: =단가대비표!O96 -> 0 | F31: =TRUNC(E31*D31,1) -> 0 | G31: =단가대비표!P96 -> 0 | H31: =TRUNC(G31*D31,1) -> 0 | I31: =단가대비표!V96 -> 0 | J31: =TRUNC(I31*D31,1) -> 0 | K31: =TRUNC(E31+G31+I31,1) -> 0 | L31: =TRUNC(F31+H31+J31,1) -> 0 | N31: 465C91BCDBC6324254B6F693AC012 | O31: 468095FBD87A721254725B2C083040784F20D | P31: F | Q31: F | R31: T | AW31: 465C91BCDBC6324254B6F693AC012468095FBD87A721254725B2C083040784F20D
A32: [ 합 계 ] | F32: =TRUNC(SUMIF(N31:N31,N30,F31:F31),0) -> 0 | H32: =TRUNC(SUMIF(N31:N31,N30,H31:H31),0) -> 0 | J32: =TRUNC(SUMIF(N31:N31,N30,J31:J31),0) -> 0 | L32: =F32+H32+J32 -> 0 | N32: TOTAL | O32: TOTAL
A34: 건축물 보양 - 타일 톱밥 - 조달자원 대체 M2 건축 2-9 ( 호표 6 ) | N34: 465C91BCD80C22429437E6F6BC67B
A35: 톱밥 | B35: 톱밥, 건설용톱밥 | C35: L | D35: 30 | E35: =단가대비표!O9 -> 0 | F35: =TRUNC(E35*D35,1) -> 0 | G35: =단가대비표!P9 -> 0 | H35: =TRUNC(G35*D35,1) -> 0 | I35: =단가대비표!V9 -> 0 | J35: =TRUNC(I35*D35,1) -> 0 | K35: =TRUNC(E35+G35+I35,1) -> 0 | L35: =TRUNC(F35+H35+J35,1) -> 0 | N35: 465C91BCD80C22429437E6F6BC67B | O35: 415594C0522EB282742323D0037697A1D4C0F | P35: F | Q35: F | R35: T | AW35: 465C91BCD80C22429437E6F6BC67B415594C0522EB282742323D0037697A1D4C0F
A36: 보통인부 | B36: 일반공사 직종 | C36: 인 | D36: 0.002 | E36: =단가대비표!O96 -> 0 | F36: =TRUNC(E36*D36,1) -> 0 | G36: =단가대비표!P96 -> 0 | H36: =TRUNC(G36*D36,1) -> 0 | I36: =단가대비표!V96 -> 0 | J36: =TRUNC(I36*D36,1) -> 0 | K36: =TRUNC(E36+G36+I36,1) -> 0 | L36: =TRUNC(F36+H36+J36,1) -> 0 | N36: 465C91BCD80C22429437E6F6BC67B | O36: 468095FBD87A721254725B2C083040784F20D | P36: F | Q36: F | R36: T | AW36: 465C91BCD80C22429437E6F6BC67B468095FBD87A721254725B2C083040784F20D
A37: [ 합 계 ] | F37: =TRUNC(SUMIF(N35:N36,N34,F35:F36),0) -> 0 | H37: =TRUNC(SUMIF(N35:N36,N34,H35:H36),0) -> 0 | J37: =TRUNC(SUMIF(N35:N36,N34,J35:J36),0) -> 0 | L37: =F37+H37+J37 -> 0 | N37: TOTAL | O37: TOTAL
A39: 준공청소 개보수 M2 ( 호표 7 ) | N39: 465C91BCDE951212841B4F50BB7B2
A40: 보통인부 | B40: 일반공사 직종 | C40: 인 | D40: =0.01*4 -> 0.04 | E40: =단가대비표!O96 -> 0 | F40: =TRUNC(E40*D40,1) -> 0 | G40: =단가대비표!P96 -> 0 | H40: =TRUNC(G40*D40,1) -> 0 | I40: =단가대비표!V96 -> 0 | J40: =TRUNC(I40*D40,1) -> 0 | K40: =TRUNC(E40+G40+I40,1) -> 0 | L40: =TRUNC(F40+H40+J40,1) -> 0 | N40: 465C91BCDE951212841B4F50BB7B2 | O40: 468095FBD87A721254725B2C083040784F20D | P40: F | Q40: F | R40: T | AW40: 465C91BCDE951212841B4F50BB7B2468095FBD87A721254725B2C083040784F20D
A41: [ 합 계 ] | F41: =TRUNC(SUMIF(N40:N40,N39,F40:F40),0) -> 0 | H41: =TRUNC(SUMIF(N40:N40,N39,H40:H40),0) -> 0 | J41: =TRUNC(SUMIF(N40:N40,N39,J40:J40),0) -> 0 | L41: =F41+H41+J41 -> 0 | N41: TOTAL | O41: TOTAL
A43: 집기류 및 가구 등 이전 재설치 붙박이장제외(종이박스6호 제공 실당5개이상)선풍기,비석면에 붙은 모든 제품들 M2 ( 호표 8 ) | N43: 465C91BCDE951212841B4F50BB7B6
A44: 보통인부 | B44: 일반공사 직종 | C44: 인 | D44: =0.044*4.2 -> 0.1848 | E44: =단가대비표!O96 -> 0 | F44: =TRUNC(E44*D44,1) -> 0 | G44: =단가대비표!P96 -> 0 | H44: =TRUNC(G44*D44,1) -> 0 | I44: =단가대비표!V96 -> 0 | J44: =TRUNC(I44*D44,1) -> 0 | K44: =TRUNC(E44+G44+I44,1) -> 0 | L44: =TRUNC(F44+H44+J44,1) -> 0 | N44: 465C91BCDE951212841B4F50BB7B6 | O44: 468095FBD87A721254725B2C083040784F20D | P44: F | Q44: F | R44: T | AW44: 465C91BCDE951212841B4F50BB7B6468095FBD87A721254725B2C083040784F20D
A45: 종이박스 | B45: 52*48*40 | C45: 개 | D45: 0.0417 | E45: =단가대비표!O14 -> 0 | F45: =TRUNC(E45*D45,1) -> 0 | G45: =단가대비표!P14 -> 0 | H45: =TRUNC(G45*D45,1) -> 0 | I45: =단가대비표!V14 -> 0 | J45: =TRUNC(I45*D45,1) -> 0 | K45: =TRUNC(E45+G45+I45,1) -> 0 | L45: =TRUNC(F45+H45+J45,1) -> 0 | N45: 465C91BCDE951212841B4F50BB7B6 | O45: 4155968F8A542262B46C153627086DAC96A78 | P45: F | Q45: F | R45: T | AW45: 465C91BCDE951212841B4F50BB7B64155968F8A542262B46C153627086DAC96A78
A46: [ 합 계 ] | F46: =TRUNC(SUMIF(N44:N45,N43,F44:F45),0) -> 0 | H46: =TRUNC(SUMIF(N44:N45,N43,H44:H45),0) -> 0 | J46: =TRUNC(SUMIF(N44:N45,N43,J44:J45),0) -> 0 | L46: =F46+H46+J46 -> 0 | N46: TOTAL | O46: TOTAL
A48: 모르타르 배합 모래채가름 포함 M3 건축 9-1-1 ( 호표 9 ) | N48: 465C9720ED8C4212A4EA040F5E0E7
...

Sheet 단가산출목록
B1: 단 가 산 출 목 록
B2: [ 난우중학교 관리실 환경개선공사 ]
A3: 코 드 | B3: 품 명 | C3: 규 격 | D3: 단위 | E3: 재 료 비 | F3: 노 무 비 | G3: 경 비 | H3: 합 계 | I3: 번 호 | J3: 비 고 | K3: START | L3: 품셈개요

Sheet 단가산출서
A1: 단 가 산 출 서
A2: [ 난우중학교 관리실 환경개선공사 ]
A3: 산 출 내 역 | B3: 재 료 비 | C3: 노 무 비 | D3: 경 비 | E3: 합 계 | F3: 비 고 | G3: START | H3: 코드 | I3: 품명 | J3: 규격 | K3: 단위 | L3: 수량 | M3: 변수 | N3: 값 | O3: 소계 | P3: 소계 | Q3: 소계 | R3: 소계 | S3: 소계 | T3: 총계
A4: ( )
A6: 총 계 | B6: =TRUNC(SUMIF(T5:T5,"TT",B5:B5),0) -> 0 | C6: =TRUNC(SUMIF(T5:T5,"TT",C5:C5),0) -> 0 | D6: =TRUNC(SUMIF(T5:T5,"TT",D5:D5),0) -> 0 | E6: =TRUNC(SUM(B6,C6,D6),0) -> 0

Sheet 단가대비표
A1: 단 가 대 비 표
A2: [ 난우중학교 관리실 환경개선공사 ]
A3: 코 드 | B3: 품 명 | C3: 규격 | D3: 단위 | E3: 재 료 비 | P3: 노 무 비 | Q3: 경 비 | W3: 번 호 | X3: 비 고 | Y3: 품목구분 | Z3: 노임구분 | AA3: 소수점처리 | AB3: 자재구분
E4: 조달청가격 | F4: PAGE | G4: 거래가격 | H4: PAGE | I4: 유통물가 | J4: PAGE | K4: 물가자료 | L4: PAGE | M4: 조사가격 | N4: PAGE | O4: 적용단가 | Q4: 조달청가격 | R4: 거래가격 | S4: 유통물가 | T4: 물가자료 | U4: 조사가격 | V4: 적용단가
A5: 41449EF6491E8202845683DFF8268B659C74E | B5: 소형브레이커(전기식) | C5: 1.5kw | D5: 대 | W5: 자재 1 | X5: 천원
A6: 41449EF6491CD23234347E8AB5497FFA90989 | B6: 용접기(교류) | C6: 500Amp | D6: 대 | W6: 자재 2 | X6: 천원
A7: 415594C051094242A4398C1BE2B43A0A76584 | B7: 모래 | C7: (별도) | D7: M3 | W7: 자재 3 | X7: 별도
A8: 415594C051094242A4398C1BF38C48A888DA5 | B8: 모래 | C8: 모래, 자연사, 도착도 | D8: M3 | W8: 자재 4
A9: 415594C0522EB282742323D0037697A1D4C0F | B9: 톱밥 | C9: 톱밥, 건설용톱밥 | D9: L | W9: 자재 5
A10: 415594C0595F32A234928BAF486B82B2697C7 | B10: 철강설 | C10: 철강설, 고철, 작업설부산물 | D10: kg | W10: 자재 6 | X10: 수집상차도
A11: 415594C0595F32A234928BAF486B82B26963F | B11: 철강설 | C11: 철강설, 스텐레스, 작업설부산물 | D11: kg | W11: 자재 7 | X11: 수집상차도
A12: 41559794CBFF42C2B40816075328350268E6B | B12: 산소가스 | C12: 기체 | D12: L | W12: 자재 8 | X12: 대기압상태기준
A13: 41559794C934C2F2746378C4C0807D2A30AEF | B13: 기타도막방수재 | C13: 기타도막방수재, 방수액고점도(1:50희석) | D13: L | W13: 자재 9
A14: 4155968F8A542262B46C153627086DAC96A78 | B14: 종이박스 | C14: 52*48*40 | D14: 개 | W14: 자재 10
A15: 4155968F8B7CD242F43A0BA7C49C67965CED4 | B15: 폴리에틸렌필름 | C15: 폴리에틸렌필름, 두께, 0.05mm | D15: M2 | W15: 자재 11
A16: 415590672FD20292B486373F8DD639952E653 | B16: 아세틸렌가스 | C16: 아세틸렌가스, kg | D16: kg | W16: 자재 12
A17: 41679814811AC22274413729793D1F3F819B1 | B17: 스테인리스강용피복아크용접봉 | C17: 스테인리스강용피복아크용접봉, ∮3.2mm, AWSE309 | D17: kg | W17: 자재 13
A18: 417092BD57B6B2B2E4150FB4ECD0ABF29DFDE | B18: ㄱ형강 | C18: ㄱ형강, 등변, 25*25*3mm | D18: kg | W18: 자재 14
A19: 417092BD57B59252F4E902901D3ECF25B5634 | B19: 일반구조용압연강판 | C19: 일반구조용압연강판, 1.2mm | D19: kg | W19: 자재 15
A20: 417092BD57B59252F4E902901D3ECF25B5636 | B20: 일반구조용압연강판 | C20: 일반구조용압연강판, 1.6mm | D20: kg | W20: 자재 16
A21: 417092BD57B59252F4E902901D3ECF25B5631 | B21: 일반구조용압연강판 | C21: 일반구조용압연강판, 2.3mm | D21: kg | W21: 자재 17
A22: 417092BD57B59252F4E913073CA0FD36D8203 | B22: 스테인리스강판 | C22: 스테인리스강판, STS304, 1.5mm | D22: kg | W22: 자재 18
A23: 417092BD57B4F262443FD2F245454F82FFE96 | B23: 각재 | C23: 각재, 미송 | D23: 재 | W23: 자재 19
A24: 417092BD5691424254EB5C47002D953E10EC3 | B24: 시멘트 | C24: 시멘트(별도) | D24: kg | W24: 자재 20 | X24: 별도
A25: 417092BD5691424254EB5C47002D953E10EC7 | B25: 시멘트 | C25: 건재상 | D25: 포 | W25: 자재 21
A26: 417092BD5691424254EB5C47002D9559354F6 | B26: 타일시멘트 | C26: 타일시멘트, 압착용, 회색 | D26: kg | W26: 자재 22
A27: 417092BD5691424254EB5C47002D9559CB99C | B27: 타일시멘트 | C27: 타일시멘트, 줄눈용, 백색 | D27: kg | W27: 자재 23
A28: 417092BD54E2D282646CEAB2B48CB6C4CA20F | B28: 자기질타일(논스립) | C28: 바닥, 200*200mm | D28: M2 | W28: 자재 24
A29: 417092BD54E2D282646CEAB2B48CB6C4CA201 | B29: 자기질타일 | C29: 벽, 200*400mm | D29: M2 | W29: 자재 25
A30: 417092BD53DD92E204F90DE40529E6F663A4C | B30: 발포우레탄폼 | C30: 50mm | D30: M2 | W30: 자재 26
A31: 417092BD5234A2C2441F50D6A46CFFD8AAB8C | B31: 코너비드 | C31: 코너비드, SUS 타일코너, 10mm | D31: M | W31: 자재 27
A32: 417092BD512F6252942C5AC48C02D4FE4B3CA | B32: 석고보드 | C32: 석고보드, 평보드, 9.5*900*1800mm(㎡) | D32: M2 | W32: 자재 28
A33: 417092BD512F6262B48CD85FA398C111A1CA4 | B33: 불연천장재 | C33: 불연천장재, 석고텍스, 9mm | D33: M2 | W33: 자재 29
A34: 417092BD512F6262B48CBDBFA7EF90AAFAA23 | B34: 경량철골천장틀 | C34: 경량철골천장틀, M-BAR더블, 50*19*0.5mm | D34: M | W34: 자재 30
A35: 417092BD512F6262B48CBDBFA7EF90AAFADFC | B35: 경량철골천장틀 | C35: 경량철골천장틀, 달대볼트, 상6*1000mm | D35: 개 | W35: 자재 31
A36: 417092BD512F6262B48CBDBFA7EF90AAFAE82 | B36: 경량철골천장틀 | C36: 경량철골천장틀, 캐링찬넬, 38*12*1.2mm | D36: M | W36: 자재 32
... A42: 417092BD512F6262B48CBDBFA7EF90AAFAE85 | B42: 경량철골천장틀 | C42: 경량철골천장틀, BAR조인트, 더블 | D42: 개 | W42: 자재 38
A43: 417092BD512F6262B48CBDBFA7EF90AAFAFAE | B43: 경량철골천장틀 | C43: 경량철골천장틀, 피스, 3*16mm | D43: 개 | W43: 자재 39 | X43: 필요시 계상
A44: 417092BD512F6262B48CBDBFA7EF90AAFA021 | B44: 경량철골천장틀 | C44: 경량철골천장틀, 몰딩(알루미늄), W형, 15*15*15*15*1.0mm | D44: M | W44: 자재 40
A45: 417092BD512F627254FBCFBB751D4E865A2AF | B45: 목재루버 | C45: 100*30 | D45: M | W45: 자재 41
...

Sheet  공사설정 
A1: 이 Sheet는 수정하지 마십시요
A2: 공사구분 | B2: A | C2: 타이틀
A3: 확정내역 | B3: 원내역
A4: 자재단가적용 | B4: 5
A5: 경비단가적용 | B5: 5
A6: 품목코드형식 | B6: XXXX-XXXX-XXXXXXXXX
A7: 내역금액소수점처리 | B7: C | C7: T
A8: 일위대가내역소수점처리 | B8: C | C8: 2
A9: 단가명 | B9: 조달청가격 | C9: 거래가격 | D9: 유통물가 | E9: 물가자료 | F9: 조사가격 | G9: TTTTT
A10: 환율 | B10: 1472 | C10: 0 | D10: 0
A11: 시간당작업량 | B11: R | C11: 4
A12: 1회 사이클시간 | B12: R | C12: 4
A13: 시간당 작업사이클 | B13: R | C13: 3
A14: 일반변수 | B14: R | C14: 5
A15: 시간당 노임산출 계수 | B15: A | C15: 1/8*16/12*25/20 | D15: 1/8*16/12*25/20 | E15: 1/8*16/12*25/20 | F15: 1
A16: 재료비 할증 계수 | B16: 1.11 | C16: 1.12
A17: 노무비 할증 계수 | B17: 1 | C17: 1.5 | D17: 1.16 | E17: 1.6 | F17: 1.6 | G17: 1.6 | H17: 1.94 | I17: 1.94 | J17: 1.94 | K17: 1 | L17: 1 | M17: 1
A18: 경비 할증 계수 | B18: 1.25 | C18: 1.071
A19: 내역,일위대가 품명,규격,단위 따로적용
A20: 내역단가 소수점처리 | B20: C | C20: 1
A21: 코드 | B21: 공종구분명 | C21: 원가비목코드
A22: 1 | B22: 작 업 부 산 물 | C22: A3
A23: 2 | B23: 운 반 비 | C23: C1
A24: 3 | B24: 관 급 자 재 비 | C24: DJ
A25: 4 | B25: 사 급 자 재 비 | C25: D3
A26: 5 | B26: 외 자 재
A27: 6 | B27: 폐기물 처리비 | C27: D4
A28: 7 | B28: ...
A29: 8 | B29: ...
A30: 9 | B30: ...
A31: A | B31: ....
A32: B | B32: .....
A33: C | B33: ....
A34: D | B34: ....
A35: E | B35: ....
A36: F | B36: ....
A37: G | B37: ....
A38: H | B38: ....
A39: I | B39: ....
A40: J | B40: ....
...

Sheet Sheet1
