Workbook
Name ___________A81620: [2]설계개요!#REF!
Name ___________H600000: #REF!
Name ___________p1: #REF!
Name ___________PVC100: #REF!
Name ___________PVC125: #REF!
Name ___________PVC150: #REF!
Name _1: [6]계화총괄!#REF!
Name _12: #N/A
Name _13: #N/A
Name _2: #N/A
Name _3: #N/A
Name _4: #REF!
Name _5: #REF!
Name _6: #REF!
Name _8: #REF!
Name _9: #REF!
Name \0: #REF!
Name \a: [18]내역!#REF!
Name \b: [18]내역!#REF!
Name \c: #N/A
Name \d: #N/A
Name \e: #N/A
Name \f: #REF!
Name \g: #REF!
Name \h: [19]가공비!#REF!
Name \i: #N/A
Name \j: #N/A
Name \k: #REF!
Name \l: #N/A
Name \m: #REF!
Name \n: #N/A
Name \o: #REF!
Name \p: #REF!
Name \q: #REF!
Name \r: #REF!
Name \s: #REF!
Name \t: #REF!
Name \u: #N/A
Name \v: [19]가공비!#REF!
Name \w: #REF!
Name \x: [20]VXXXXX!#REF!
Name \z: #REF!
Name AAWEFFAF: #REF!
Name AAWER: #REF!
Name AB: #N/A
Name ABC: #REF!
Name AF: #REF!
Name AFAAFDFAS: #REF!
Name AFAEFAAEF: #REF!
Name AFAWEF: #REF!
Name AFFAAFAWEF: #REF!
Name AFFAFF: #REF!
Name AFWEF: #REF!
Name AGFAF: #REF!
Name AGRAWGR: #REF!
Name AGRGRGREF: #REF!
Name ALSLDFㅁ일ㄴ: #REF!
Name ARGTAGR: #REF!
Name ARGWERG: #REF!
Name asdf: #REF!

Sheet 표지
A1: 충청남도 당진시 | K1: 2026. 7.
A7: 2026년 거산양수장 외 기계설비 보수공사 | J7: 계획서
A16: 한국농어촌공사 당진지사

Sheet 사업개요
A1: 사 업 계 획 개 요
B3: Ⅰ. 구 역 : 충청남도 당진시 일원
B5: ="Ⅱ. 공 사 명 : "&표지!A7 -> Ⅱ. 공 사 명 : 2026년 거산양수장 외 기계설비 보수공사
B7: Ⅲ. 주 요 사 업 내 역
C8: =내역서!A8 -> 1. 거산양수장 양흡입펌프 보수
C9: =내역서!A9 -> 2. 광천양수장 수중펌프 보수
C10: =내역서!A10 -> 3. 강문양수장 공기밸브 교체
C11: =내역서!A11 -> 4. 합덕3양수장 수중펌프 보수
C12: =내역서!A12 -> 5. 승산2양수장 수중펌프 및 신축관 보수
C13: =내역서!A13 -> 6. 신평양수장 입축사류펌프 보수
B24: Ⅳ. 사 업 비 : | E24: =총괄표!L31 -> 42669000 | F24: 원, 지급자재 ( | G24: =총괄표!L6 -> 0 | H24: )원 포함
B26: Ⅴ. 사 업 효 과
B27: ㅇ 보수가 필요한 농업생산기반시설을 수리보강하여, 급수기 안정적인 농업용수배수로 농업인의 영농편익증진 및
B28: 시설물의 선량한 유지관리 제고.
B30: Ⅵ. 사 업 기 간 : 착공일로부터 10일
B32: Ⅶ. 사업시행자 : 한국농어촌공사 당진지사

Sheet 시방서
A1: 양수장 및 수문 유지관리보수 시방서
A2: [개 요]
A3: 본 공사는 우리지사 기계설비의 유지관리공사로서 원할한 영농급수를 위해 기일을 엄수하여 공사를 완료하여야 한다.
A5: [보 수 세 칙]
A6: 1. 기계일반 시방서 적용.
A8: 2. 모든 기계류 보수에 앞서 설계도서를 숙지하고 모든 수리 부품은 설계도서에 명시된 규격 및 재질을 사용 하여야 한다.
A10: 3. 기계류 분해조립시 기체에 손상이 가지 않도록 신중이 취급하여야 하며 만일 기체 손상시에는 시공자가 변상 책임져야 한다.
A12: 4. 본 공사의 현장대리인은 시공시 현장에서 이탈을 금하며 공사기간중 고의 또는 과실로 인하여 인명 사고가 발생시에는 시공자.
A14: 책임하에 수습되도록 하여야 하며 우리공사에서는 일체 책임을 지지 않는다
A16: 5. 시공시 모든기계 부품을 현장에서 외부로 반출시에는 감독원의 입회하에 실시하여야 한다.
A18: 6. 모든 기계부품 조립설치시에는 감독원의 입회하에 조립작업을 실시하고 기계시운전은 동력부활후 감독원의 입회하에 실시한다.
A20: 7. 기타 모든 공사 시공시 문제점에 대하여 공사감독자와 협의 처리 한다.
... A26: 10. 도급자는 계약과 동시에 공정표를 제출하며 공정계획대로 완전 시공이 될 수 있도록 한다.

Sheet 공사기간 산정
A1: ="["&표지!A7&"]" -> [2026년 거산양수장 외 기계설비 보수공사]
A2: 적정 공사기간 산정
A3: □ 산정기준
A4: ○ ｢공공 건설공사의 공사기간 산정기준(국토교통부 훈령)｣
A5: ○ 공사기간 산출
B6: 공사기간 | C6: = | D6: 준비기간 | E6: + | F6: 비작업일수 | G6: + | H6: 작업일수 | I6: + | J6: 정리기간
B7: - 준비기간 : 도면검토, 자재 준비 등 공사 착수 준비에 필요한 기간
B8: - 비작업 일수 : 건설현장의 공사 진행이 불가능한 날짜
B9: ∙ 법정공휴일수 + 기상조건으로 인한 비작업일수 – 중복일수
B10: - 작업일수 : 당해 공사의 공종별 수량을 시공하는 데 필요한 총 작업일수
B11: - 정리기간 : 준공검사를 위한 행정절차 및 현장 정리에 소요되는 기간
A13: □ 공사기간 산정방법
A14: ○ 준비기간 : 1일 적용
A15: ○ 비작업일수 : 2일 적용
B16: - 법정 공휴일수 : 2일(1주 ✕ 2일) + 일() = 2일 적용
B17: - 기후여건으로 작업이 불가능한 일수 : 0일 적용
B18: - 중복일수 : 0일 적용
A19: ○ 작업일수 : 6일
B20: - 소규모 유지관리보수 작업으로 약 5일 ~ 10일 소요(주40시간 근무제)
A21: ○ 정리기간 : 1일 적용
A23: □ 산정결과
A24: ○ 공사기간 = 1일 + 2일 + 6일 + 1일 = 10일 적용

Sheet 사진대지
B2: 사 진 대 지 | I2: 사 진 대 지
B8: 시 설 명 | D8: 거산양수장 | I8: 시 설 명 | K8: 합덕3양수장
B9: 사진설명 | D9: 슬리브 마모상태(마모로 인한 진공 불량) | I9: 사진설명 | K9: 수중모터펌프 절연 불량(전동기 소손)
B14: 시 설 명 | D14: 거산양수장 | I14: 시 설 명 | K14: 승산2양수장
B15: 사진설명 | D15: 진공탱크 용접부 부식으로 인한 누수 | I15: 사진설명 | K15: 수중모터펌프 토출물량 감소 및 신축관이음 불량으로 인한 누수
B20: 시 설 명 | D20: 광천양수장 | I20: 시 설 명 | K20: 신평양수장
B21: 사진설명 | D21: 수중모터펌프 토출물량 감소 | I21: 사진설명 | K21: 입축사류펌프(1호기) 패킹부 누수
B26: 시 설 명 | D26: 강문양수장 | I26: 시 설 명 | K26: 상궁양수장
B27: 사진설명 | D27: 공기밸브 및 배관 부식으로 인한 누수 | I27: 사진설명 | K27: 신축관이음(6호기) 누수

Sheet 총괄표
A2: 기 계 공 사 비 총 괄 표
B3: ="공사명 : "&표지!A7 -> 공사명 : 2026년 거산양수장 외 기계설비 보수공사
A4: 일 금: | C4: =L30 -> 42669000 | D4: 원
A5: 구 분 | G5: 거산양수장 외 | L5: 계
A6: 지 급 자 재 대 | L6: =SUM(G6:K6) -> 0
B7: 노 | C7: 직접노무비 | G7: =내역서!H15 -> 13272935 | L7: =SUM(G7:K7) -> 13272935
A8: 순 | B8: 무 | C8: 간접노무비 | D8: ( | E8: 0.165 | F8: ) | G8: =INT(G7*$E8) -> 2190034 | J8: =INT(J7*$E8) -> 0 | K8: =INT(K7*$E8) -> 0 | L8: =SUM(G8:K8) -> 2190034
B9: 비 | C9: 소 계 | G9: =G7+G8 -> 15462969 | J9: =J7+J8 -> 0 | K9: =K7+K8 -> 0 | L9: =SUM(G9:K9) -> 15462969
B10: 재 료 비 | G10: =내역서!J15 -> 9771771 | L10: =SUM(G10:K10) -> 9771771
C11: 경 비 | G11: =내역서!L15 -> 4435347 | L11: =SUM(G11:K11) -> 4435347
A12: 공 | C12: 산재보험료 | D12: ( | E12: 0.0356 | F12: ) | G12: =INT(G9*$E12) -> 550481 | J12: =INT(J9*$E12) -> 0 | K12: =INT(K9*$E12) -> 0 | L12: =SUM(G12:K12) -> 550481
B13: 경 | C13: 고용보험료 | D13: ( | E13: 0.0101 | F13: ) | G13: =INT(G9*$E13) -> 156175 | J13: =INT(J9*$E13) -> 0 | K13: =INT(K9*$E13) -> 0 | L13: =SUM(G13:K13) -> 156175
C14: 국민건강보험료 | D14: ( | F14: ) | G14: =INT(G7*$E14) -> 0 | J14: =INT(J7*$E14) -> 0 | K14: =INT(K7*$E14) -> 0 | L14: =SUM(G14:K14) -> 0
C15: 노인장기요양보험료 | D15: ( | F15: ) | G15: =INT(G14*$E15) -> 0 | J15: =INT(J14*$E15) -> 0 | K15: =INT(K14*$E15) -> 0 | L15: =SUM(G15:K15) -> 0
A16: 사 | C16: 국민연금보험료 | D16: ( | F16: ) | G16: =INT(G7*$E16) -> 0 | J16: =INT(J7*$E16) -> 0 | K16: =INT(K7*$E16) -> 0 | L16: =SUM(G16:K16) -> 0
C17: 퇴직공제부금 | D17: ( | F17: ) | G17: =INT(G7*$E17) -> 0 | J17: =INT(J7*$E17) -> 0 | K17: =INT(K7*$E17) -> 0 | L17: =SUM(G17:K17) -> 0
C18: 건설기계대여 | D18: ( | F18: ) | G18: =INT((G10+G7+G11)*$E18) -> 0 | J18: =INT((J10+J7+J11)*$E18) -> 0 | K18: =INT((K10+K7+K11)*$E18) -> 0 | L18: =SUM(G18:K18) -> 0
C19: 산업안전보건관리비 | D19: ( | E19: 0.0315 | F19: ) | G19: =INT((G7+G10+G6)*$E19) -> 725908 | J19: =INT((J7+J10+J6)*$E19) -> 0 | K19: =INT((K7+K10+K6)*$E19) -> 0 | L19: =SUM(G19:K19) -> 725908
C20: 환경보전비 | D20: ( | E20: 0 | F20: ) | G20: =INT((G10+G7+G11)*$E20) -> 0 | J20: =INT((J10+J7+J11)*$E20) -> 0 | K20: =INT((K10+K7+K11)*$E20) -> 0 | L20: =SUM(G20:K20) -> 0
A21: 비 | B21: 비 | C21: 하도급수수료 | D21: ( | F21: ) | G21: =INT((G10+G7+G11)*$E21) -> 0 | J21: =INT((J10+J7+J11)*$E21) -> 0 | K21: =INT((K10+K7+K11)*$E21) -> 0 | L21: =SUM(G21:K21) -> 0
C22: 기타 경비 | D22: ( | E22: 0.052 | F22: ) | G22: =INT((G9+G10)*$E22) -> 1312206 | J22: =INT((J9+J10)*$E22) -> 0 | K22: =INT((K9+K10)*$E22) -> 0 | L22: =SUM(G22:K22) -> 1312206
C23: 소 계 | G23: =SUM(G11:G22) -> 7180117 | J23: =SUM(J11:J22) -> 0 | K23: =SUM(K11:K22) -> 0 | L23: =SUM(G23:K23) -> 7180117
C24: 계 | G24: =G9+G10+G23 -> 32414857 | J24: =J9+J10+J23 -> 0 | K24: =K9+K10+K23 -> 0 | L24: =SUM(G24:K24) -> 32414857
A25: 일 반 관 리 비 | D25: ( | E25: 0.08 | F25: ) | G25: =INT(G24*$E25) -> 2593188 | J25: =INT(J24*$E25) -> 0 | K25: =INT(K24*$E25) -> 0 | L25: =SUM(G25:K25) -> 2593188
A26: 공 사 비 계 | G26: =G10+G9+G23+G25 -> 35008045 | J26: =J10+J9+J23+J25 -> 0 | K26: =K10+K9+K23+K25 -> 0 | L26: =SUM(G26:K26) -> 35008045
A27: 이 윤 | D27: ( | E27: 0.15 | F27: ) | G27: =G28-G26 -> 3781955 | J27: =J28-J26 -> 0 | K27: =K28-K26 -> 0 | L27: =SUM(G27:K27) -> 3781955
A28: 총 원 가 | G28: =INT((((G26-G10)*$E27)+G26)/10000)*10000 -> 38790000 | J28: =INT((((J26-J10)*$E27)+J26)/10000)*10000 -> 0 | K28: =INT((((K26-K10)*$E27)+K26)/10000)*10000 -> 0 | L28: =SUM(G28:K28) -> 38790000
A29: 부 가 가 치 세 | D29: ( | E29: 0.1 | F29: ) | G29: =INT((G28)*$E29) -> 3879000 | J29: =INT((J28)*$E29) -> 0 | K29: =INT((K28)*$E29) -> 0 | L29: =SUM(G29:K29) -> 3879000
A30: 합 계 | G30: =SUM(G28:G29) -> 42669000 | J30: =SUM(J28:J29) -> 0 | K30: =SUM(K28:K29) -> 0 | L30: =SUM(G30:K30) -> 42669000
A31: 총 계 | G31: =G6+G30 -> 42669000 | J31: =J6+J30 -> 0 | K31: =K6+K30 -> 0 | L31: =SUM(G31:K31) -> 42669000

Sheet 내역서
A2: =총괄표!B3 -> 공사명 : 2026년 거산양수장 외 기계설비 보수공사
A3: 공 사 비 명 세 서
A5: 일 금 : | B5: =F15 -> 27480053 | C5: 원
A6: 종 별 | B6: 재료 또는 | C6: 원수 | D6: 단위 | E6: 총 액 | G6: 노 무 비 | I6: 재 료 비 | K6: 경 비 | M6: 비고
B7: 치 수 | E7: 단가 | F7: 금 액 | G7: 단 가 | H7: 금 액 | I7: 단 가 | J7: 금 액 | K7: 단 가 | L7: 금 액
A8: 1. 거산양수장 양흡입펌프 보수 | C8: 1 | D8: 식 | F8: =SUM(H8,J8,L8) -> 11529053 | H8: =H41 -> 4254342 | J8: =J41 -> 7267550 | L8: =L41 -> 7161
A9: 2. 광천양수장 수중펌프 보수 | C9: 1 | D9: 식 | F9: =SUM(H9,J9,L9) -> 740040 | H9: =H46 -> 661888 | J9: =J46 -> 33684 | L9: =L46 -> 44468
A10: 3. 강문양수장 공기밸브 교체 | C10: 1 | D10: 식 | F10: =SUM(H10,J10,L10) -> 888380 | H10: =H59 -> 190807 | J10: =J59 -> 693353 | L10: =L59 -> 4220
A11: 4. 합덕3양수장 수중펌프 보수 | C11: 1 | D11: 식 | F11: =SUM(H11,J11,L11) -> 12197736 | H11: =H75 -> 6386912 | J11: =J75 -> 1546170 | L11: =L75 -> 4264654
A12: 5. 승산2양수장 수중펌프 및 신축관 보수 | C12: 1 | D12: 식 | F12: =SUM(H12,J12,L12) -> 1545490 | H12: =H85 -> 1250544 | J12: =J85 -> 183014 | L12: =L85 -> 111932
A13: 6. 신평양수장 입축사류펌프 보수 | C13: 1 | D13: 식 | F13: =SUM(H13,J13,L13) -> 382809 | H13: =H90 -> 382809 | J13: =J90 -> 0 | L13: =L90 -> 0
A14: 7. 상궁양수장 신축이음관 보수 | C14: 1 | D14: 식 | F14: =SUM(H14,J14,L14) -> 196545 | H14: =H96 -> 145633 | J14: =J96 -> 48000 | L14: =L96 -> 2912
A15: 계 | F15: =SUM(H15,J15,L15) -> 27480053 | H15: =SUM(H8:H14) -> 13272935 | J15: =SUM(J8:J14) -> 9771771 | L15: =SUM(L8:L14) -> 4435347
A31: =A8 -> 1. 거산양수장 양흡입펌프 보수
A32: 1.1. 양흡입펌프(2,3호기) 슬리브 교체 등 | J32: =INT($C32*I32) -> 0
A33: 슬리브 | B33: SSC, D150×d130×L340 | C33: 4 | D33: 개 | F33: =SUM(H33,J33,L33) -> 4800000 | H33: =INT($C33*G33) -> 0 | I33: =SUMIFS('단가조사서(미출력)'!P:P,'단가조사서(미출력)'!A:A,A33,'단가조사서(미출력)'!B:B,B33) -> 1200000 | J33: =INT($C33*I33) -> 4800000 | L33: =INT($C33*K33) -> 0
A34: 볼베어링 | B34: 6324 | C34: 2 | D34: 개 | F34: =SUM(H34,J34,L34) -> 797980 | H34: =INT($C34*G34) -> 0 | I34: =SUMIFS('단가조사서(미출력)'!P:P,'단가조사서(미출력)'!A:A,A34,'단가조사서(미출력)'!B:B,B34) -> 398990 | J34: =INT($C34*I34) -> 797980 | L34: =INT($C34*K34) -> 0 | M34: 부하측
A35: 볼베어링 | B35: 6324 | C35: 4 | D35: 개 | F35: =SUM(H35,J35,L35) -> 1595960 | H35: =INT($C35*G35) -> 0 | I35: =SUMIFS('단가조사서(미출력)'!P:P,'단가조사서(미출력)'!A:A,A35,'단가조사서(미출력)'!B:B,B35) -> 398990 | J35: =INT($C35*I35) -> 1595960 | L35: =INT($C35*K35) -> 0 | M35: 반부하측
A36: 그랜드패킹 | B36: 그리스+윤활유+면사, 3/4"(19mm) | C36: =ROUND((410*5*2*2)/1000,0) -> 8 | D36: m | F36: =SUM(H36,J36,L36) -> 136400 | H36: =INT($C36*G36) -> 0 | I36: =SUMIFS('단가조사서(미출력)'!P:P,'단가조사서(미출력)'!A:A,A36,'단가조사서(미출력)'!B:B,B36) -> 17050 | J36: =INT($C36*I36) -> 136400 | L36: =INT($C36*K36) -> 0
A37: 펌프 분해,조립 | B37: 700Ø, 3600CMH | C37: 2 | D37: 대 | F37: =SUM(H37,J37,L37) -> 4137160 | G37: ='개보수적산(펌프)'!H10+'개보수적산(펌프)'!H14+'개보수적산(펌프)'!H18+'개보수적산(펌프)'!H22+'개보수적산(펌프)'!H26 -> 2068580 | H37: =INT($C37*G37) -> 4137160 | I37: ='개보수적산(펌프)'!J10+'개보수적산(펌프)'!J14+'개보수적산(펌프)'!J18+'개보수적산(펌프)'!J22+'개보수적산(펌프)'!J26 -> 0 | J37: =INT($C37*I37) -> 0 | K37: ='개보수적산(펌프)'!L10+'개보수적산(펌프)'!L14+'개보수적산(펌프)'!L18+'개보수적산(펌프)'!L22+'개보수적산(펌프)'!L26 -> 0 | L37: =INT($C37*K37) -> 0 | N37: =60*60 -> 3600
A38: 고재대 | B38: 스테인리스설 | C38: =N38 -> 47 | D38: kg | F38: =SUM(H38,J38,L38) -> -72850 | H38: =INT($C38*G38) -> 0 | I38: ='단가조사서(미출력)'!P7 -> -1550 | J38: =INT($C38*I38) -> -72850 | L38: =INT($C38*K38) -> 0 | M38: 슬리브 | N38: =INT((((((PI()*150^2-PI()*130^2)/4)*0.34*7.93)*4))/1000) -> 47 | O38: kg
A39: 1.2. 진공탱크 보수 | J39: =INT($C39*I39) -> 0
A40: 진공탱크 전기아크용접 | B40: V형 6mm(횡향) | C40: =(0.9+0.7)*2*2 -> 6.4 | D40: m | F40: =SUM(H40,J40,L40) -> 134403 | G40: =양배일위!H136 -> 18309.7 | H40: =INT($C40*G40) -> 117182 | I40: =양배일위!J136 -> 1572 | J40: =INT($C40*I40) -> 10060 | K40: =양배일위!L136 -> 1119 | L40: =INT($C40*K40) -> 7161
A41: 계 | F41: =SUM(H41,J41,L41) -> 11529053 | H41: =SUM(H33:H40) -> 4254342 | J41: =SUM(J33:J40) -> 7267550 | K41: =SUM(K37:K37) -> 0 | L41: =SUM(L33:L40) -> 7161
A43: =A9 -> 2. 광천양수장 수중펌프 보수
A44: 수중펌프 인양점검 | B44: Ø200×15kW×4P | C44: 1 | D44: 대 | F44: =SUM(H44,J44,L44) -> 462776 | G44: ='개보수적산(펌프)'!H42+'개보수적산(펌프)'!H45+'개보수적산(펌프)'!H48 -> 462776 | H44: =INT($C44*G44) -> 462776 | I44: ='개보수적산(펌프)'!J42+'개보수적산(펌프)'!J45+'개보수적산(펌프)'!J48 -> 0 | J44: =INT($C44*I44) -> 0 | K44: ='개보수적산(펌프)'!L42+'개보수적산(펌프)'!L45+'개보수적산(펌프)'!L48 -> 0 | L44: =INT($C44*K44) -> 0 | N44: =5.64*60 -> 338.4
A45: 이동식 크레인 | B45: 5ton, 4hr | C45: 1 | D45: 회 | F45: =SUM(H45,J45,L45) -> 277264 | G45: =양배일위!H156 -> 199112 | H45: =INT($C45*G45) -> 199112 | I45: =양배일위!J156 -> 33684 | J45: =INT($C45*I45) -> 33684 | K45: =양배일위!L156 -> 44468 | L45: =INT($C45*K45) -> 44468
A46: 계 | F46: =SUM(H46,J46,L46) -> 740040 | H46: =SUM(H44:H45) -> 661888 | J46: =SUM(J44:J45) -> 33684 | L46: =SUM(L44:L45) -> 44468
A48: =A10 -> 3. 강문양수장 공기밸브 교체
A49: 급속공기밸브 | B49: 80Ø,10K | C49: 1 | D49: 대 | F49: =SUM(H49,J49,L49) -> 378000 | H49: =INT($C49*G49) -> 0 | I49: =SUMIFS('단가조사서(미출력)'!P:P,'단가조사서(미출력)'!A:A,A49,'단가조사서(미출력)'!B:B,B49) -> 378000 | J49: =INT($C49*I49) -> 378000 | L49: =INT($C49*K49) -> 0
A50: 소프트실제수밸브 | B50: 80Ø,10K(핸들부착형) | C50: 1 | D50: 대 | F50: =SUM(H50,J50,L50) -> 317000 | H50: =INT($C50*G50) -> 0 | I50: =SUMIFS('단가조사서(미출력)'!P:P,'단가조사서(미출력)'!A:A,A50,'단가조사서(미출력)'!B:B,B50) -> 317000 | J50: =INT($C50*I50) -> 317000 | L50: =INT($C50*K50) -> 0
A51: 플랜지 | B51: 80Ø,10K | C51: 1 | D51: 매 | F51: =SUM(H51,J51,L51) -> 0 | H51: =INT($C51*G51) -> 0 | I51: =SUMIFS('단가조사서(미출력)'!P:P,'단가조사서(미출력)'!A:A,A51,'단가조사서(미출력)'!B:B,B51) -> 0 | J51: =INT($C51*I51) -> 0 | L51: =INT($C51*K51) -> 0
A52: 플랜지용 고무패킹 | B52: 80Ø | C52: 2 | D52: 매 | F52: =SUM(H52,J52,L52) -> 0 | H52: =INT($C52*G52) -> 0 | I52: =SUMIFS('단가조사서(미출력)'!P:P,'단가조사서(미출력)'!A:A,A52,'단가조사서(미출력)'!B:B,B52) -> 0 | J52: =INT($C52*I52) -> 0 | L52: =INT($C52*K52) -> 0
A53: 체결볼트/너트 | B53: M16×70L | C53: =8*C52 -> 16 | D53: 개 | F53: =SUM(H53,J53,L53) -> 11344 | H53: =INT($C53*G53) -> 0 | I53: =SUMIFS('단가조사서(미출력)'!P:P,'단가조사서(미출력)'!A:A,A53,'단가조사서(미출력)'!B:B,B53) -> 709 | J53: =INT($C53*I53) -> 11344 | L53: =INT($C53*K53) -> 0
A54: 강관절단 | B54: 80Ø | C54: 1 | D54: 개소 | F54: =SUM(H54,J54,L54) -> 23054 | G54: =양배일위!H142 -> 22602 | H54: =INT($C54*G54) -> 22602 | I54: =양배일위!J142 -> 0 | J54: =INT($C54*I54) -> 0 | K54: =양배일위!L142 -> 452 | L54: =INT($C54*K54) -> 452
A55: 플랜지 취부(용접) | B55: 80Ø | C55: =C51 -> 1 | D55: 매 | F55: =SUM(H55,J55,L55) -> 31570 | G55: =양배일위!H46 -> 30347 | H55: =INT($C55*G55) -> 30347 | I55: =양배일위!J46 -> 209 | J55: =INT($C55*I55) -> 209 | K55: =양배일위!L46 -> 1014 | L55: =INT($C55*K55) -> 1014
A56: 밸브류 설치 | B56: 80Ø | C56: =C49+C50 -> 2 | D56: 대 | F56: =SUM(H56,J56,L56) -> 100438 | G56: =양배일위!H125 -> 49235 | H56: =INT($C56*G56) -> 98470 | I56: =양배일위!J125 -> 0 | J56: =INT($C56*I56) -> 0 | K56: =양배일위!L125 -> 984 | L56: =INT($C56*K56) -> 1968
A57: 밸브류 철거 | B57: 80Ø | C57: =C50+C51 -> 2 | D57: 대 | F57: =SUM(H57,J57,L57) -> 40174 | G57: =양배일위!H126 -> 19694 | H57: =INT($C57*G57) -> 39388 | I57: =양배일위!J126 -> 0 | J57: =INT($C57*I57) -> 0 | K57: =양배일위!L126 -> 393 | L57: =INT($C57*K57) -> 786
A58: 고재대 | B58: 중량설 | C58: 40 | D58: kg | F58: =SUM(H58,J58,L58) -> -13200 | H58: =INT($C58*G58) -> 0 | I58: ='단가조사서(미출력)'!P6 -> -330 | J58: =INT($C58*I58) -> -13200 | L58: =INT($C58*K58) -> 0
A59: 계 | F59: =SUM(H59,J59,L59) -> 888380 | H59: =SUM(H49:H58) -> 190807 | J59: =SUM(J49:J58) -> 693353 | L59: =SUM(L49:L58) -> 4220
...

Sheet 양배일위
E1: 양,배수장 단위 가격 총괄 | P1: [ 자료입력 내용]
E2: *************************
B3: 재료또는 | E3: 총 액 | G3: 노 무 비 | I3: 재 료 비 | K3: 경 비
A4: 종 별 | B4: 치 수 | C4: 원 수 | D4: 단위 | E4: 단가 | F4: 금 액 | G4: 단가 | H4: 금 액 | I4: 단가 | J4: 금 액 | K4: 단가 | L4: 금 액 | M4: 비 고
P5: 용 접 봉 | Q5: 2620 | T5: 표준단가표
P6: 소 요 전 력 | Q6: 95 | R6: (일반용 갑, 저압)
P7: STS304 용 접 봉(4t) 308-16 | Q7: 9160 | R7: (설비협회)
P8: Argon 가스 | Q8: 6.1 | R8: (유물 P1190)
P9: 신 너(ℓ) | Q9: 3740 | T9: 설계단가(토목, EPOXY THINNER)
P10: 프라이머(㎏) | Q10: 18938 | T10: 설계단가(토목, 강관외부도장)
P11: 에폭시(㎏) | Q11: 5600 | T11: 토목표준단가
P12: 액상접착제(kg) | Q12: 20746 | T12: 설계단가(토목부분)
P13: 매스틱(m) | Q13: 3500 | T13: 설계단가(토목부분)
P14: 안쪽층테이프(㎡) | Q14: 7733 | T14: 설계단가(토목부분)
P15: 바깥층테이프(㎡) | Q15: 7400 | T15: 설계단가(토목부분)
Q16: 노무비 | R16: 재료비 | S16: 손료 | U16: 합 계
P17: 발전기 손료(25kw) | Q17: 26248 | R17: 7336 | S17: 3413 | U17: =Q17+R17+S17 -> 36997 | V17: 표준단가표
P18: 발전기 손료(50kw) | Q18: 26248 | R18: 14844 | S18: 4689 | U18: =Q18+R18+S18 -> 45781 | V18: 표준단가표
P19: 경 유 | Q19: 1421 | V19: 표준단가표
P20: 용접기 손료(교류300A) | Q20: 119 | V20: 표준단가표
Q21: 노무비 | R21: 재료비 | S21: 경비 | U21: 합 계
O22: 크레인(타이어)(10ton) | Q22: 59020 | R22: 7268 | S22: 31344 | U22: =Q22+R22+S22 -> 97632 | V22: 표준단가표
O23: 크레인(타이어)(15ton) | Q23: =Q22 -> 59020 | R23: 8989 | S23: 43014 | U23: =Q23+R23+S23 -> 111023 | V23: 표준단가표
O24: 크레인(타이어)(20ton) | Q24: =Q22 -> 59020 | R24: 10328 | S24: 53629 | U24: =Q24+R24+S24 -> 122977 | V24: 표준단가표
O25: 트럭탑재형크레인(2ton) | Q25: 49778 | R25: 4788 | S25: 9172 | U25: =Q25+R25+S25 -> 63738 | V25: 표준단가표
O26: 트럭탑재형크레인(3ton) | Q26: =Q25 -> 49778 | R26: 5118 | S26: 10149 | U26: =Q26+R26+S26 -> 65045 | V26: 표준단가표
O27: 트럭탑재형크레인(5ton) | Q27: =Q25 -> 49778 | R27: 8421 | S27: 11117 | U27: =Q27+R27+S27 -> 69316 | V27: 표준단가표
O28: 트럭탑재형크레인(10ton) | Q28: =Q25 -> 49778 | R28: 17007 | S28: 23795 | U28: =Q28+R28+S28 -> 90580 | V28: 표준단가표
O29: 트럭탑재형크레인(15ton) | Q29: =Q25 -> 49778 | R29: 18163 | S29: 31327 | U29: =Q29+R29+S29 -> 99268 | V29: 표준단가표
O30: 트럭탑재형크레인(18ton) | Q30: =Q25 -> 49778 | R30: 18658 | S30: 33328 | U30: =Q30+R30+S30 -> 101764 | V30: 표준단가표
O31: 굴착기(무한궤도)(0.2㎥) | Q31: 59020 | R31: 8324 | S31: 13873 | U31: =Q31+R31+S31 -> 81217 | V31: 표준단가표
O32: 굴착기(무한궤도)(0.4㎥) | Q32: =Q31 -> 59020 | R32: 16619 | S32: 17514 | U32: =Q32+R32+S32 -> 93153 | V32: 표준단가표
O33: 굴착기(무한궤도)(0.6㎥) | Q33: =Q31 -> 59020 | R33: 17122 | S33: 23423 | U33: =Q33+R33+S33 -> 99565 | V33: 표준단가표
O34: 굴착기(무한궤도)(0.8㎥) | Q34: =Q31 -> 59020 | R34: 25684 | S34: 27018 | U34: =Q34+R34+S34 -> 111722 | V34: 표준단가표
O35: 굴착기(무한궤도)(1.0㎥) | Q35: =Q32 -> 59020 | R35: 32735 | S35: 29621 | U35: =Q35+R35+S35 -> 121376 | V35: 표준단가표
B36: 재료또는 | E36: 총 액 | G36: 노 무 비 | I36: 재 료 비 | K36: 경 비
A37: 종 별 | B37: 치 수 | C37: 원 수 | D37: 단위 | E37: 단가 | F37: 금 액 | G37: 단가 | H37: 금 액 | I37: 단가 | J37: 금 액 | K37: 단가 | L37: 금 액 | M37: 비 고
A38: ▣ 플랜지 취부(용접) (매당) | F38: ※ 건설공사 표준품셈(기계설비부문) 13-1-4, 13-1-5 적용
A39: ▶ 80 Φ
A40: 용 접 봉 | C40: 0.08 | D40: ㎏ | F40: =H40+J40+L40 -> 209.6 | I40: =$Q$5 -> 2620 | J40: =TRUNC(I40*$C40,1) -> 209.6
...

Sheet 개보수적산(펌프)
E1: 양,배수장 단위 가격 총괄
E2: ************************* | N2: =총괄표!L31 -> 42669000
B3: 재료또는 | E3: 총 액 | G3: 노 무 비 | I3: 재 료 비 | K3: 경 비
A4: 종 별 | B4: 치 수 | C4: 원 수 | D4: 단위 | E4: 단가 | F4: 금 액 | G4: 단가 | H4: 금 액 | I4: 단가 | J4: 금 액 | K4: 단가 | L4: 금 액 | M4: 비 고
A5: ▣ 원심펌프 보수 (1대당)
A6: ▶ 3001 - 5000 ㎥/h
A7: 작업준비 및 정리 | B7: 플랜트기계설치공 | C7: 0.31 | D7: 인 | F7: =H7+J7+L7 -> 71416.5 | G7: =노임단가!$E$64 -> 230376 | H7: =TRUNC(G7*$C7,1) -> 71416.5
B8: 특별인부 | C8: 0.51 | D8: 인 | F8: =H8+J8+L8 -> 115322.2 | G8: =노임단가!$E$7 -> 226122 | H8: =TRUNC(G8*$C8,1) -> 115322.2
B9: 기계설치공 | C9: 0.1 | D9: 인 | F9: =H9+J9+L9 -> 24169.8 | G9: =노임단가!$E$55 -> 241698 | H9: =TRUNC(G9*$C9,1) -> 24169.8
A10: 소 계 | F10: =L10+J10+H10 -> 210908.5 | H10: =SUM(H7:H9) -> 210908.5 | L10: =SUM(L7:L9) -> 0
A11: 커플링 분해조립 | B11: 플랜트기계설치공 | C11: 0.59 | D11: 인 | F11: =H11+J11+L11 -> 135921.8 | G11: =노임단가!$E$64 -> 230376 | H11: =TRUNC(G11*$C11,1) -> 135921.8
B12: 특별인부 | C12: 0.97 | D12: 인 | F12: =H12+J12+L12 -> 219338.3 | G12: =노임단가!$E$7 -> 226122 | H12: =TRUNC(G12*$C12,1) -> 219338.3
B13: 기계설치공 | C13: 0.2 | D13: 인 | F13: =H13+J13+L13 -> 48339.6 | G13: =노임단가!$E$55 -> 241698 | H13: =TRUNC(G13*$C13,1) -> 48339.6
A14: 소 계 | F14: =L14+J14+H14 -> 403599.7 | H14: =SUM(H11:H13) -> 403599.7 | L14: =SUM(L11:L13) -> 0
A15: 케이싱 분해조립 | B15: 플랜트기계설치공 | C15: 0.6 | D15: 인 | F15: =H15+J15+L15 -> 138225.6 | G15: =노임단가!$E$64 -> 230376 | H15: =TRUNC(G15*$C15,1) -> 138225.6
B16: 특별인부 | C16: 0.98 | D16: 인 | F16: =H16+J16+L16 -> 221599.5 | G16: =노임단가!$E$7 -> 226122 | H16: =TRUNC(G16*$C16,1) -> 221599.5
B17: 기계설치공 | C17: 0.2 | D17: 인 | F17: =H17+J17+L17 -> 48339.6 | G17: =노임단가!$E$55 -> 241698 | H17: =TRUNC(G17*$C17,1) -> 48339.6
A18: 소 계 | F18: =L18+J18+H18 -> 408164.7 | H18: =SUM(H15:H17) -> 408164.7 | L18: =SUM(L15:L17) -> 0
A19: 베어링 교체 | B19: 플랜트기계설치공 | C19: 0.38 | D19: 인 | F19: =H19+J19+L19 -> 87542.8 | G19: =노임단가!$E$64 -> 230376 | H19: =TRUNC(G19*$C19,1) -> 87542.8
B20: 특별인부 | C20: 1.2 | D20: 인 | F20: =H20+J20+L20 -> 271346.4 | G20: =노임단가!$E$7 -> 226122 | H20: =TRUNC(G20*$C20,1) -> 271346.4
B21: 기계설치공 | C21: 0.67 | D21: 인 | F21: =H21+J21+L21 -> 161937.6 | G21: =노임단가!$E$55 -> 241698 | H21: =TRUNC(G21*$C21,1) -> 161937.6
A22: 소 계 | F22: =L22+J22+H22 -> 520826.8 | H22: =SUM(H19:H21) -> 520826.8 | L22: =SUM(L19:L21) -> 0
A23: 슬리브 및 웨어링 교체 | B23: 플랜트기계설치공 | C23: 0.39 | D23: 인 | F23: =H23+J23+L23 -> 89846.6 | G23: =노임단가!$E$64 -> 230376 | H23: =TRUNC(G23*$C23,1) -> 89846.6
B24: 특별인부 | C24: 1.23 | D24: 인 | F24: =H24+J24+L24 -> 278130 | G24: =노임단가!$E$7 -> 226122 | H24: =TRUNC(G24*$C24,1) -> 278130
B25: 기계설치공 | C25: 0.65 | D25: 인 | F25: =H25+J25+L25 -> 157103.7 | G25: =노임단가!$E$55 -> 241698 | H25: =TRUNC(G25*$C25,1) -> 157103.7
A26: 소 계 | F26: =L26+J26+H26 -> 525080.3 | H26: =SUM(H23:H25) -> 525080.3 | L26: =SUM(L23:L25) -> 0
A28: ▣ 입축펌프 보수 (1대당)
A29: ▶ 1001 - 3000 ㎥/h이하
A30: 작업준비 및 정리 | B30: 플랜트기계설치공 | C30: 0.56 | D30: 인 | F30: =H30+J30+L30 -> 129010.5 | G30: =노임단가!$E$64 -> 230376 | H30: =TRUNC(G30*$C30,1) -> 129010.5
B31: 특별인부 | C31: 0.93 | D31: 인 | F31: =H31+J31+L31 -> 210293.4 | G31: =노임단가!$E$7 -> 226122 | H31: =TRUNC(G31*$C31,1) -> 210293.4
B32: 기계설치공 | C32: 0.18 | D32: 인 | F32: =H32+J32+L32 -> 43505.6 | G32: =노임단가!$E$55 -> 241698 | H32: =TRUNC(G32*$C32,1) -> 43505.6
A33: 소 계 | F33: =L33+J33+H33 -> 382809.5 | H33: =SUM(H30:H32) -> 382809.5 | L33: =SUM(L30:L32) -> 0
A34: 커플링 분해조립 | B34: 플랜트기계설치공 | C34: 0.83 | D34: 인 | F34: =H34+J34+L34 -> 191212 | G34: =노임단가!$E$64 -> 230376 | H34: =TRUNC(G34*$C34,1) -> 191212
B35: 특별인부 | C35: 1.31 | D35: 인 | F35: =H35+J35+L35 -> 296219.8 | G35: =노임단가!$E$7 -> 226122 | H35: =TRUNC(G35*$C35,1) -> 296219.8
B36: 기계설치공 | C36: 0.28 | D36: 인 | F36: =H36+J36+L36 -> 67675.4 | G36: =노임단가!$E$55 -> 241698 | H36: =TRUNC(G36*$C36,1) -> 67675.4
A37: 소 계 | F37: =L37+J37+H37 -> 555107.2 | H37: =SUM(H34:H36) -> 555107.2 | L37: =SUM(L34:L36) -> 0
A38: ▣ 수중펌프 보수 (1대당)
A39: ▶ 201 - 400 ㎥/h이하
A40: 작업준비 및 정리 | B40: 플랜트기계설치공 | C40: 0.03 | D40: 인 | F40: =H40+J40+L40 -> 6911.2 | G40: =노임단가!$E$64 -> 230376 | H40: =TRUNC(G40*$C40,1) -> 6911.2
B41: 특별인부 | C41: 0.35 | D41: 인 | F41: =H41+J41+L41 -> 79142.7 | G41: =노임단가!$E$7 -> 226122 | H41: =TRUNC(G41*$C41,1) -> 79142.7
...

Sheet 단가조사서(미출력)
Q2: =총괄표!L31 -> 42669000
A3: 품 명 | B3: 규 격 | D3: 단 위 | E3: 시중 물가정보지 | K3: 업체견적가 | N3: 한국농어촌공사 | P3: 적용단가
E4: 물가정보 | F4: PAGE | G4: 유통물가 | H4: PAGE | I4: 물가자료 | J4: PAGE | K4: A 社 | L4: B 社 | M4: C 社 | N4: 설계단가 | O4: PAGE
A5: [고재대] | P5: =MIN(E5,G5,I5,K5,L5,M5,N5) -> 0
A6: 고철 | B6: 중량 | I6: -330 | J6: 47 | P6: =MIN(E6,G6,I6,K6,L6,M6,N6) -> -330
A7: 스테인리스설 | B7: 27종 | I7: -1550 | J7: 47 | K7: -1500 | P7: =MIN(E7,G7,I7,K7,L7,M7,N7) -> -1550
A8: 급속공기밸브 | B8: 80Ø,10K | C8: 1 | D8: 개 | I8: 378000 | J8: 838 | P8: =MIN(E8,G8,I8,K8,L8,M8,N8) -> 378000
A9: 소프트실제수밸브 | B9: 80Ø,10K(핸들부착형) | C9: 1 | D9: 대 | E9: 317000 | F9: 813 | P9: =MIN(E9,G9,I9,K9,L9,M9,N9) -> 317000
A10: 아연도강관 | B10: 250Ø | C10: 3 | D10: m | I10: 75300 | J10: 706 | N10: 69110 | P10: =MIN(E10,G10,I10,K10,L10,M10,N10) -> 69110
A11: 플랜지 | B11: 250Ø,10K | C11: 1 | D11: 매 | I11: 53550 | J11: 718 | N11: 53550 | P11: =MIN(E11,G11,I11,K11,L11,M11,N11) -> 53550
A12: 체결볼트/너트 | B12: M16×70L | C12: 32 | D12: 개 | I12: =INT(618+91.4) -> 709 | J12: 47,51 | P12: =MIN(E12,G12,I12,K12,L12,M12,N12) -> 709
A13: 체결볼트/너트 | B13: M16×100L | C13: 32 | D13: 개 | I13: =INT(839+91.4) -> 930 | J13: 47,52 | P13: =MIN(E13,G13,I13,K13,L13,M13,N13) -> 930
A14: 체결볼트/너트 | B14: M20×80L | C14: 76 | D14: 개 | I14: =INT(1136+179.3) -> 1315 | J14: 47,53 | P14: =MIN(E14,G14,I14,K14,L14,M14,N14) -> 1315
A15: 체결볼트/너트 | B15: M22×90L | C15: 32 | D15: 개 | I15: =INT(1544+228.3) -> 1772 | J15: 47,54 | P15: =MIN(E15,G15,I15,K15,L15,M15,N15) -> 1772
A16: 체결볼트/너트 | B16: M24×90L | C16: 16 | D16: 개 | I16: =INT(1865+315.7) -> 2180 | J16: 47,55 | P16: =MIN(E16,G16,I16,K16,L16,M16,N16) -> 2180
A17: 체결볼트/너트 | B17: M24×100L | C17: 76 | D17: 개 | I17: =INT(2001+315.7) -> 2316 | J17: 47,56 | P17: =MIN(E17,G17,I17,K17,L17,M17,N17) -> 2316
A18: 체결볼트/너트 | B18: M30×120L | C18: 32 | D18: 개 | P18: =MIN(E18,G18,I18,K18,L18,M18,N18) -> 0
A19: 체결볼트/너트 | B19: M36×140L | C19: 16 | D19: 개 | P19: =MIN(E19,G19,I19,K19,L19,M19,N19) -> 0
A20: 체결볼트/너트 | B20: M42×160L | C20: 76 | D20: 개 | P20: =MIN(E20,G20,I20,K20,L20,M20,N20) -> 0
A21: 체결볼트/너트 | B21: M16×70L(STS304) | C21: 32 | D21: 개 | I21: =INT(1246+438.7) -> 1684 | J21: 48 | P21: =MIN(E21,G21,I21,K21,L21,M21,N21) -> 1684
A22: 체결볼트/너트 | B22: M16×100L(STS304) | C22: 32 | D22: 개 | I22: =INT(1622+438.7) -> 2060 | J22: 48 | P22: =MIN(E22,G22,I22,K22,L22,M22,N22) -> 2060
A23: 체결볼트/너트 | B23: M20×80L(STS304) | C23: 76 | D23: 개 | I23: =INT(2312+829.5) -> 3141 | J23: 48 | P23: =MIN(E23,G23,I23,K23,L23,M23,N23) -> 3141
A24: 체결볼트/너트 | B24: M22×90L(STS304) | C24: 32 | D24: 개 | P24: =MIN(E24,G24,I24,K24,L24,M24,N24) -> 0
A25: 체결볼트/너트 | B25: M24×90L(STS304) | C25: 16 | D25: 개 | P25: =MIN(E25,G25,I25,K25,L25,M25,N25) -> 0
A26: 체결볼트/너트 | B26: M24×100L(STS304) | C26: 76 | D26: 개 | P26: =MIN(E26,G26,I26,K26,L26,M26,N26) -> 0
A27: 볼베어링 | B27: 6316 | D27: 개 | I27: 77480 | J27: 1418 | P27: =MIN(E27,G27,I27,K27,L27,M27,N27) -> 77480
A28: 볼베어링 | B28: 6316ZZ | D28: 개 | I28: 96830 | J28: 1418 | P28: =MIN(E28,G28,I28,K28,L28,M28,N28) -> 96830
A29: 볼베어링 | B29: 6322 | D29: 개 | I29: 219370 | J29: 1418 | P29: =MIN(E29,G29,I29,K29,L29,M29,N29) -> 219370
A30: 볼베어링 | B30: 6322ZZ | D30: 개 | I30: 283380 | J30: 1418 | P30: =MIN(E30,G30,I30,K30,L30,M30,N30) -> 283380
A31: 볼베어링 | B31: 6324 | D31: 개 | I31: 398990 | J31: 1418 | P31: =MIN(E31,G31,I31,K31,L31,M31,N31) -> 398990
A32: 볼베어링 | B32: 6324ZZ | D32: 개 | I32: 515450 | J32: 1418 | P32: =MIN(E32,G32,I32,K32,L32,M32,N32) -> 515450
A33: 볼베어링 | B33: 6326ZZ | D33: 개 | J33: 1418 | P33: =MIN(E33,G33,I33,K33,L33,M33,N33) -> 0
A34: 롤러베어링 | B34: NU320 | D34: 개 | I34: 182100 | J34: 1418 | P34: =MIN(E34,G34,I34,K34,L34,M34,N34) -> 182100
A35: 롤러베어링 | B35: NU321 | D35: 개 | I35: 237670 | J35: 1418 | P35: =MIN(E35,G35,I35,K35,L35,M35,N35) -> 237670
A36: 롤러베어링 | B36: NU322 | D36: 개 | I36: 241300 | J36: 1418 | P36: =MIN(E36,G36,I36,K36,L36,M36,N36) -> 241300
A37: 롤러베어링 | B37: NU326 | D37: 개 | I37: 298400 | J37: 1418 | P37: =MIN(E37,G37,I37,K37,L37,M37,N37) -> 298400
A38: 메커니컬씰 | B38: 수중펌프용 70Ø | D38: 개 | E38: =475200+((475200-411840)/(50-45)*(70-50)) -> 728640 | F38: 753 | P38: =MIN(E38,G38,I38,K38,L38,M38,N38) -> 728640
A39: 그랜드패킹 | B39: 그리스+윤활유+면사, 5/16"(8mm) | D39: m | K39: =ROUNDUP(3000/88%,-1) -> 3410 | P39: =MIN(E39,G39,I39,K39,L39,M39,N39) -> 3410
A40: 그랜드패킹 | B40: 그리스+윤활유+면사, 3/8"(9.6mm) | D40: m | K40: =ROUNDUP(5000/88%,-1) -> 5690 | P40: =MIN(E40,G40,I40,K40,L40,M40,N40) -> 5690
A41: 그랜드패킹 | B41: 그리스+윤활유+면사, 1/2"(12.7mm) | D41: m | K41: =ROUNDUP(8000/88%,-1) -> 9100 | P41: =MIN(E41,G41,I41,K41,L41,M41,N41) -> 9100
...

Sheet 노임단가
A1: ◇ 2026년도 상반기 적용 노임단가 | H1: (금액단위:원)
A3: 직종코드 | B3: 직종명 | C3: 규격 | D3: 단위 | E3: 2026년(상) | F3: 2026년(상) | G3: 2021년(상) | H3: 비고
A5: L001010101000001 | B5: 작업반장 | C5: 일반공사 직종 | D5: 인 | E5: 215907 | F5: 213033 | G5: 180013 | H5: 2026년 상반기 | J5: =IF(H5="2026년(상) 증가율","2026년(상) 증가율",IF(H5="2026년도","2026년도",""))
A6: L001010101000002 | B6: 보통인부 | C6: 일반공사 직종 | D6: 인 | E6: 172068 | F6: 169804 | G6: 141096 | H6: 2026년 상반기 | J6: =IF(H6="2026년(상) 증가율","2026년(상) 증가율",IF(H6="2026년도","2026년도",""))
A7: L001010101000003 | B7: 특별인부 | C7: 일반공사 직종 | D7: 인 | E7: 226122 | F7: 221506 | G7: 179203 | H7: 2026년 상반기 | J7: =IF(H7="2026년(상) 증가율","2026년(상) 증가율",IF(H7="2026년도","2026년도",""))
A8: L001010101000004 | B8: 조력공 | C8: 일반공사 직종 | D8: 인 | E8: 179028 | F8: 180331 | G8: 152740 | H8: 2026년 상반기 | J8: =IF(H8="2026년(상) 증가율","2026년(상) 증가율",IF(H8="2026년도","2026년도",""))
A9: L001010101000005 | B9: 제도사 | C9: 일반공사 직종 | D9: 인 | E9: 237324 | F9: 232099 | G9: 186251 | H9: 2026년 상반기 | J9: =IF(H9="2026년(상) 증가율","2026년(상) 증가율",IF(H9="2026년도","2026년도",""))
A10: L001010101000006 | B10: 비계공 | C10: 일반공사 직종 | D10: 인 | E10: 281939 | F10: 279433 | G10: 247977 | H10: 2026년 상반기 | J10: =IF(H10="2026년(상) 증가율","2026년(상) 증가율",IF(H10="2026년도","2026년도",""))
A11: L001010101000007 | B11: 형틀목공 | C11: 일반공사 직종 | D11: 인 | E11: 275790 | F11: 272831 | G11: 226280 | H11: 2026년 상반기 | J11: =IF(H11="2026년(상) 증가율","2026년(상) 증가율",IF(H11="2026년도","2026년도",""))
A12: L001010101000008 | B12: 철근공 | C12: 일반공사 직종 | D12: 인 | E12: 268187 | F12: 264104 | G12: 228896 | H12: 2026년 상반기 | J12: =IF(H12="2026년(상) 증가율","2026년(상) 증가율",IF(H12="2026년도","2026년도",""))
A13: L001010101000009 | B13: 철공 | C13: 일반공사 직종 | D13: 인 | E13: 239808 | F13: 237754 | G13: 200155 | H13: 2026년 상반기 | J13: =IF(H13="2026년(상) 증가율","2026년(상) 증가율",IF(H13="2026년도","2026년도",""))
A14: L001010101000010 | B14: 철판공 | C14: 일반공사 직종 | D14: 인 | E14: 221481 | F14: 219236 | G14: 181604 | H14: 2026년 상반기 | J14: =IF(H14="2026년(상) 증가율","2026년(상) 증가율",IF(H14="2026년도","2026년도",""))
A15: L001010101000011 | B15: 철골공 | C15: 일반공사 직종 | D15: 인 | E15: 252641 | F15: 250239 | G15: 205246 | H15: 2026년 상반기 | J15: =IF(H15="2026년(상) 증가율","2026년(상) 증가율",IF(H15="2026년도","2026년도",""))
A16: L001010101000012 | B16: 용접공 | C16: 일반공사 직종 | D16: 인 | E16: 282536 | F16: 278326 | G16: 225966 | H16: 2026년 상반기 | J16: =IF(H16="2026년(상) 증가율","2026년(상) 증가율",IF(H16="2026년도","2026년도",""))
... A110: L001010301000106 | B110: 화공 | C110: 문화재 직종 | D110: 인 | E110: 322920 | F110: 311263 | G110: 246537 | H110: 2026년(상) 증가율 | J110: =IF(H110="2026년(상) 증가율","2026년(상) 증가율",IF(H110="2026년도","2026년도","")) -> 2026년(상) 증가율
A111: L001010301000500 | B111: 드잡이공편수 | D111: 인 | E111: 352814 | F111: 352814 | G111: 295019 | H111: 2026년(상) 증가율 | J111: =IF(H111="2026년(상) 증가율","2026년(상) 증가율",IF(H111="2026년도","2026년도","")) -> 2026년(상) 증가율
A112: L001010301000600 | B112: 한식미장공편수 | D112: 인 | E112: 369199 | F112: 369199 | G112: 261429 | H112: 2026년 상반기 | J112: =IF(H112="2026년(상) 증가율","2026년(상) 증가율",IF(H112="2026년도","2026년도",""))
A113: L001010301000700 | B113: 한식와공편수 | D113: 인 | E113: 457143 | F113: 457143 | G113: 365113 | H113: 2026년(상) 증가율 | J113: =IF(H113="2026년(상) 증가율","2026년(상) 증가율",IF(H113="2026년도","2026년도","")) -> 2026년(상) 증가율
A114: L001010301000800 | B114: 한식단청공편수 | D114: 인 | E114: 286887 | F114: 286394 | G114: 247727 | H114: 2026년(상) 증가율 | J114: =IF(H114="2026년(상) 증가율","2026년(상) 증가율",IF(H114="2026년도","2026년도","")) -> 2026년(상) 증가율
A115: L001010301000900 | B115: 한식석공조공 | D115: 인 | E115: 321250 | F115: 311114 | G115: 256000 | H115: 2026년 상반기 | J115: =IF(H115="2026년(상) 증가율","2026년(상) 증가율",IF(H115="2026년도","2026년도",""))
A116: L001010301001000 | B116: 한식미장공조공 | D116: 인 | E116: 250000 | F116: 249266 | G116: 220000 | H116: 2026년(상) 증가율 | J116: =IF(H116="2026년(상) 증가율","2026년(상) 증가율",IF(H116="2026년도","2026년도","")) -> 2026년(상) 증가율
A117: L001010401000107 | B117: 원자력플랜트전공 | C117: 원자력 직종 | D117: 인 | E117: 221727 | F117: 226275 | G117: 219796 | H117: 2026년 상반기 | J117: =IF(H117="2026년(상) 증가율","2026년(상) 증가율",IF(H117="2026년도","2026년도",""))
A118: L001010401000108 | B118: 원자력용접공 | C118: 원자력 직종 | D118: 인 | E118: 217203 | F118: 215662 | G118: 201040 | H118: 2026년 상반기 | J118: =IF(H118="2026년(상) 증가율","2026년(상) 증가율",IF(H118="2026년도","2026년도",""))
A119: L001010401000109 | B119: 원자력기계설치공 | C119: 원자력 직종 | D119: 인 | E119: 229770 | F119: 227074 | G119: 214418 | H119: 2026년 상반기 | J119: =IF(H119="2026년(상) 증가율","2026년(상) 증가율",IF(H119="2026년도","2026년도",""))
A120: L001010401000110 | B120: 원자력품질관리사 | C120: 원자력 직종 | D120: 인 | E120: 285759 | F120: 270376 | G120: 261522 | H120: 2026년 상반기 | J120: =IF(H120="2026년(상) 증가율","2026년(상) 증가율",IF(H120="2026년도","2026년도",""))
A121: L001010501000111 | B121: 통신관련기사 | C121: 기타 직종 | D121: 인 | E121: 320449 | F121: 316183 | G121: 257342 | H121: 2026년 상반기 | J121: =IF(H121="2026년(상) 증가율","2026년(상) 증가율",IF(H121="2026년도","2026년도",""))
A122: L001010501000112 | B122: 통신관련산업기사 | C122: 기타 직종 | D122: 인 | E122: 304509 | F122: 297137 | G122: 254403 | H122: 2026년 상반기 | J122: =IF(H122="2026년(상) 증가율","2026년(상) 증가율",IF(H122="2026년도","2026년도",""))
A123: L001010501000113 | B123: 통신관련기능사 | C123: 기타 직종 | D123: 인 | E123: 249822 | F123: 244717 | G123: 206555 | H123: 2026년 상반기 | J123: =IF(H123="2026년(상) 증가율","2026년(상) 증가율",IF(H123="2026년도","2026년도",""))
A124: L001010501000114 | B124: 전기공사기사 | C124: 기타 직종 | D124: 인 | E124: 335319 | F124: 327381 | G124: 263081 | H124: 2026년 상반기 | J124: =IF(H124="2026년(상) 증가율","2026년(상) 증가율",IF(H124="2026년도","2026년도",""))
A125: L001010501000115 | B125: 전기공사산업기사 | C125: 기타 직종 | D125: 인 | E125: 294135 | F125: 289211 | G125: 241167 | H125: 2026년 상반기 | J125: =IF(H125="2026년(상) 증가율","2026년(상) 증가율",IF(H125="2026년도","2026년도",""))
A126: L001010501000116 | B126: 변전전공 | C126: 기타 직종 | D126: 인 | E126: 485075 | F126: 477832 | G126: 369045 | H126: 2026년 상반기 | J126: =IF(H126="2026년(상) 증가율","2026년(상) 증가율",IF(H126="2026년도","2026년도",""))
A127: L001010501000117 | B127: 코킹공 | C127: 기타 직종 | D127: 인 | E127: 209131 | F127: 206732 | G127: 187843 | H127: 2026년 상반기 | J127: =IF(H127="2026년(상) 증가율","2026년(상) 증가율",IF(H127="2026년도","2026년도",""))
A128: L001010501000118 | B128: 특급품질관리기술인 | D128: 인 | E128: 271869 | F128: 261200 | G128: 265082 | H128: 2026년도 | J128: =IF(H128="2026년(상) 증가율","2026년(상) 증가율",IF(H128="2026년도","2026년도","")) -> 2026년도
A129: L001010501000119 | B129: 고급품질관리기술인 | D129: 인 | E129: 220394 | F129: 212471 | G129: 206730 | H129: 2026년도 | J129: =IF(H129="2026년(상) 증가율","2026년(상) 증가율",IF(H129="2026년도","2026년도","")) -> 2026년도
A130: L001010501000120 | B130: 중급품질관리기술인 | D130: 인 | E130: 192523 | F130: 183944 | G130: 180381 | H130: 2026년도 | J130: =IF(H130="2026년(상) 증가율","2026년(상) 증가율",IF(H130="2026년도","2026년도","")) -> 2026년도
A131: L001010501000121 | B131: 초급품질관리기술인 | D131: 인 | E131: 167155 | F131: 159901 | G131: 150360 | H131: 2026년도 | J131: =IF(H131="2026년(상) 증가율","2026년(상) 증가율",IF(H131="2026년도","2026년도","")) -> 2026년도 | L131: 글로텍 직종코드
A132: L001020101000118 | B132: 기술사 | C132: 건설부분 | D132: 인 | E132: 467217 | F132: 432440 | G132: 371891 | H132: 2026년도 | J132: =IF(H132="2026년(상) 증가율","2026년(상) 증가율",IF(H132="2026년도","2026년도","")) -> 2026년도 | L132: L001020701000025
A133: L001020101000119 | B133: 특급기술자 | C133: 건설부분 | D133: 인 | E133: 373353 | F133: 335638 | G133: 292249 | H133: 2026년도 | J133: =IF(H133="2026년(상) 증가율","2026년(상) 증가율",IF(H133="2026년도","2026년도","")) -> 2026년도 | L133: L001020701000026
A134: L001020101000120 | B134: 고급기술자 | C134: 건설부분 | D134: 인 | E134: 310884 | F134: 282545 | G134: 242055 | H134: 2026년도 | J134: =IF(H134="2026년(상) 증가율","2026년(상) 증가율",IF(H134="2026년도","2026년도","")) -> 2026년도 | L134: L001020701000027
A135: L001020101000121 | B135: 중급기술자 | C135: 건설부분 | D135: 인 | E135: 295138 | F135: 261571 | G135: 220497 | H135: 2026년도 | J135: =IF(H135="2026년(상) 증가율","2026년(상) 증가율",IF(H135="2026년도","2026년도","")) -> 2026년도 | L135: L001020701000028
...
