Workbook
Name _??±?????³?¿ª: #REF!
Name _?_컛?___i: #REF!
Name ____C100000: #REF!
Name ____R69496: '[2]입출재고현황 (2)'!$R$62503
Name ____R70000: '[2]입출재고현황 (2)'!$R$60007
Name ____R80000: '[2]입출재고현황 (2)'!$R$20007
Name ____R90000: '[2]입출재고현황 (2)'!$R$20007
Name ____R99000: '[2]입출재고현황 (2)'!$R$11947
Name ____vat39: [3]개산견적원본!$K$41
Name ____VAT47: [3]개산견적원본!$K$42
Name ____VAT52: [3]개산견적원본!$K$43
Name ___C100000: #REF!
Name ___R69496: '[2]입출재고현황 (2)'!$R$62503
Name ___R70000: '[2]입출재고현황 (2)'!$R$60007
Name ___R80000: '[2]입출재고현황 (2)'!$R$20007
Name ___R90000: '[2]입출재고현황 (2)'!$R$20007
Name ___R99000: '[2]입출재고현황 (2)'!$R$11947
Name ___vat39: [3]개산견적원본!$K$41
Name ___VAT47: [3]개산견적원본!$K$42
Name ___VAT52: [3]개산견적원본!$K$43
Name __10: #REF!
Name __11: #REF!
Name __6: #REF!
Name __7: #REF!
Name __8: #REF!
Name __9: #REF!
Name __C100000: #REF!
Name __R69496: '[2]입출재고현황 (2)'!$R$62503
Name __R70000: '[2]입출재고현황 (2)'!$R$60007
Name __R80000: '[2]입출재고현황 (2)'!$R$20007
Name __R90000: '[2]입출재고현황 (2)'!$R$20007
Name __R99000: '[2]입출재고현황 (2)'!$R$11947
Name __vat39: [3]개산견적원본!$K$41
Name __VAT47: [3]개산견적원본!$K$42
Name __VAT52: [3]개산견적원본!$K$43
Name _\D: #REF!
Name _\X: #REF!
Name _\Z: [5]결과조달!$GU$5658:$IV$7860
Name _1: #N/A
Name _10: #N/A
Name _10A_: [6]연돌일위집계!#REF!
Name _10A_1: [6]연돌일위집계!#REF!
Name _10A_10: [6]연돌일위집계!#REF!
Name _10A_11: [6]연돌일위집계!#REF!
Name _10A_12: [6]연돌일위집계!#REF!
Name _10A_13: [6]연돌일위집계!#REF!
Name _10A_14: [6]연돌일위집계!#REF!
Name _10A_15: [6]연돌일위집계!#REF!
Name _10A_16: [6]연돌일위집계!#REF!
Name _10A_17: [6]연돌일위집계!#REF!
Name _10A_18: [6]연돌일위집계!#REF!
Name _10A_19: [6]연돌일위집계!#REF!
Name _10A_2: [6]연돌일위집계!#REF!
Name _10A_20: [6]연돌일위집계!#REF!
Name _10A_21: [6]연돌일위집계!#REF!
Name _10A_22: [6]연돌일위집계!#REF!
Name _10A_23: [6]연돌일위집계!#REF!
Name _10A_24: [6]연돌일위집계!#REF!
Name _10A_25: [6]연돌일위집계!#REF!
Name _10A_26: [6]연돌일위집계!#REF!

Sheet 사업개요(M1-2-2)
A1: 주택건설공사 감리자 모집에 따른 사업개요(건축)
A2: 1. 사 업 명 : | B2: 화성동탄(1) M1-2-2 주상복합 신축공사
A3: 2. 사업주체 : | B3: ㈜무궁화신탁
B4: 서울특별시 강남구 테헤란로 134 포스코타워 역삼 22층
A5: 3. 시 공 사 : | B5: ㈜포스코이앤씨
B6: 인천광역시 연수구 인천타워대로 241
A7: 4. 설 계 자 : | B7: ㈜무영종합건축사사무소
B8: 서울특별시 강남구 테헤란로 26길 12 (역삼동, 제일비젼타워 4층~8층)
A9: 5. 사업개요
A10: ▶ 대지위치 : | B10: 경기도 화성시 반송동 99번지
A11: ▶ 대지면적 : | B11: 18,545.70㎡ (실사용 대지면적 : 17,675.70㎡)
A12: ▶ 연 면 적 : | B12: 232,830.3794㎡
A13: ▶ 사업규모 : | B13: 공동주택 4개동(B7~48F) 및 부대·복리시설, 판매시설, 문화 및 복지시설
A14: ▶ 세 대 수 : | B14: 아파트 996세대
A15: ▶ 공사기간 : | B15: 2026.08.01 ~ 2031.01.31 (54개월)
A16: ▶ 사업계획승인일 : | B16: 2026.06.23
A17: 6. 사업비 내역
A18: ▶ 총사업비 : | B18: 1304110901 | C18: 천원 | D18: (부가가치세 포함)
A19: ▶ 대 지 비 : | B19: 305398185 | C19: 천원
A20: ▶ 총공사비 : | B20: 616833714 | C20: 천원 | D20: (일반관리비, 이윤, 발코니 확장공사비 포함)
A21: 가. 감리대상 제외 공사비 : | C21: 천원 | D21: (해당없음)
A22: 나. 감리대상 건축 공사비 : | B22: 535665592 | C22: 천원 | D22: (일반관리비, 이윤 포함, 부가가치세 제외)
A23: 다. 타법 감리대상 공사비 : | B23: 81168122 | C23: 천원 | D23: (일반관리비, 이윤 포함, 부가가치세 제외)

Sheet 총사업비 산출총괄표
B1: 총사업비 산출 총괄표
B2: 공사명 : 화성동탄(1) M1-2-2블럭 주상복합 신축공사 | H2: (단위 : 천원)
B3: 구분 | E3: 전체 | F3: 건축감리 | G3: 감리제외 | H3: 타법감리
B4: 총공사비 | C4: 순공사비 | D4: 토목공사 | E4: ='공종별 총공사비 구성현황표'!E17 -> 67819587 | F4: =+E4 -> 67819587 | G4: 0 | H4: 0 | I4: =E4/E10 -> 0.12216436 | J4: =I4*J10 -> 4.9716462e+09
D5: 건축공사 | E5: ='공종별 총공사비 구성현황표'!E41 -> 362787034 | F5: =+E5 -> 362787034 | G5: 0 | H5: 0 | I5: =E5/E10 -> 0.65349331 | J5: =I5*J10 -> 2.6594806e+10
D6: 기계설비공사 | E6: ='공종별 총공사비 구성현황표'!E51 -> 51492411 | F6: =+E6 -> 51492411 | G6: 0 | H6: 0 | I6: =E6/E10 -> 0.092753993 | J6: =I6*J10 -> 3.7747509e+09
D7: 전기공사 | E7: ='공종별 총공사비 구성현황표'!E52 -> 39386533 | G7: 0 | H7: =E7 -> 39386533 | I7: =E7/E10 -> 0.070947507 | J7: =I7*J10 -> 2.8873061e+09
D8: 정보통신공사 | E8: ='공종별 총공사비 구성현황표'!E53 -> 11407747 | H8: =E8 -> 11407747 | I8: =E8/E10 -> 0.020548933 | J8: =I8*J10 -> 8.3626699e+08
D9: 소방공사 | E9: ='공종별 총공사비 구성현황표'!E54 -> 22257030 | G9: 0 | H9: =E9 -> 22257030 | I9: =E9/E10 -> 0.040091896 | J9: =I9*J10 -> 1.6315947e+09
D10: 소계 | E10: =SUM(E4:E9) -> 555150342 | F10: =SUM(F4:F9) -> 482099032 | G10: =SUM(G4:G9) -> 0 | H10: =SUM(H4:H9) -> 73051310 | I10: =E10/E13 -> 0.9 | J10: =I10*I13 -> 4.0696371e+10
C11: 일반관리비 | E11: ='공종별 총공사비 구성현황표'!E55 -> 30841686 | F11: =F10*$E$11/$E$10 -> 26783280 | G11: =G10*$E$11/$E$10 -> 0 | H11: 4058406 | I11: =E11/E13 -> 0.05 | J11: =I11*I13 -> 2.2609095e+09
C12: 이윤 | E12: ='공종별 총공사비 구성현황표'!E56 -> 30841686 | F12: =F10*$E$12/$E$10 -> 26783280 | G12: =G10*$E$12/$E$10 -> 0 | H12: 4058406 | I12: =E12/E13 -> 0.05 | J12: =I12*I13 -> 2.2609095e+09
C13: 소 계 | E13: =E10+E11+E12 -> 616833714 | F13: =F10+F11+F12 -> 5.3566559e+08 | G13: =G10+G11+G12 -> 0 | H13: =SUM(H10:H12) -> 81168122 | I13: =356346294000-311128104000 -> 45218190000 | J13: =J10+J11+J12 -> 45218190000
B14: 간접비 | C14: 설계비 | E14: 8664933 | G14: =E14 -> 8664933
C15: 감리비 | E15: 12127550 | G15: =E15 -> 12127550
C16: 일반분양시설 경비 | E16: 44561943 | G16: =E16 -> 44561943
C17: 분담금 및 부담금 | E17: 18751679 | G17: =E17 -> 18751679
C18: 보상비 | E18: 5000000 | G18: =E18 -> 5000000
C19: 기타 사업비성 경비 | E19: =194386285+92282725 -> 286669010 | G19: =E19 -> 286669010
C20: 소 계 | E20: =SUM(E14:E19) -> 375775115 | G20: =E20 -> 375775115
B21: 대지비 | E21: 305398185 | G21: =E21 -> 305398185
B22: 부가가치세액 | E22: =(E13+E14+E15+E16)*((240*4+234*1+220*1+147*78)/143950.6209)*0.1 -> 6103887 | G22: =E22 -> 6103887
B23: 총 사업비 계 | E23: =E13+E20+E21+E22 -> 1.3041109e+09 | I23: 37288923
B24: 주 1 : 순공사비란 재료비, 노무비, 경비를 합한 금액임.
B25: 2 : 일반관리비와 이윤에 대한 정의 및 산정방법은 '원가계산에 의한 예정가격작성준칙(회계예규)'에 따름
B26: 3 : 부가가치세액의 정의의 산정방법은 '부가가치세법'에 따름
B27: 4 : 간접비란 사업비 중 총공사비를 제외한 설계비, 감리비, 일반분양시설경비 등 사업비성경비를 말하며,
B28: 세부 비목은 다음과 같음.
B29: · 일반분양시설경비 : 시공비, 운영비, 광고홍보비
B30: · 분담금 및 부담금 : 인입분담금(가스, 전기, 수도, 지역난방), 진입도로, 학교용지확보부담금
B31: · 보상비 : 이주대책비, 이주보상비
B32: · 기타사업비성 경비 : 제세공과금, 측량교통환경영향평가 수수료, 취득세, 등록세, 건물보존등기비 및
B33: 입주관리비, 감정평가수수료, 분양임대보증 및 하자보증수수료 등 기타 사업경비
B34: · 대지비 : 대지구입비, 대지 구입 관련 금융비용 및 제세공과금

Sheet 공종별 총공사비 구성현황표
B1: 공종별 총공사비 구성 현황표(건축)
B2: ='총사업비 산출총괄표'!B2 -> 공사명 : 화성동탄(1) M1-2-2블럭 주상복합 신축공사 | H2: (단위 : 천원)
B3: 구분 | C3: 분야 | D3: 공종 | E3: 전체 | F3: 건축감리 | G3: 감리제외 | H3: 타법감리 | I3: 비율 | J3: 증가액 | K3: 전체 | L3: 변경승인 건축비
B4: 순공사비 | C4: 토목 (13개공종) | D4: 토공사 | E4: 10950105 | F4: 10950105 | I4: 0.25306654 | J4: 7.134437e+08 | K4: 4908918000 | L4: 5.6223617e+09
D5: 흙막이공사 | E5: 10933269 | F5: 10933269 | I5: 0.040626545 | J5: 1.1453412e+08 | K5: 788063000 | L5: 9.0259712e+08
D6: 비탈면보호공사 | K6: 0
D7: 옹벽공사 | I7: 0.018174234 | J7: 51236694 | K7: 352539000 | L7: 4.0377569e+08
D8: 석축공사 | K8: 0
D9: 우오수공사 | E9: 4542218 | F9: 4542218 | I9: 0.097283621 | J9: 2.7426141e+08 | K9: 1887082000 | L9: 2.1613434e+09
D10: 공동구공사 | K10: 0
D11: 지하저수조 및 급수공사 | K11: 0
D12: 도로포장공사 | E12: 4382386 | F12: 4382386 | I12: 0.10481146 | J12: 2.9548384e+08 | K12: 2033105000 | L12: 2.3285888e+09
D13: 교통안전시설물공사 | K13: 0
D14: 정화조시설공사 | K14: 0
D15: 조경공사 | E15: 28894476 | F15: 28894476 | I15: 0.4860376 | J15: 1.3702343e+09 | K15: 9428029000 | L15: 1.0798263e+10
D16: 부대시설공사 | E16: 8117133 | F16: 8117133 | K16: 0
D17: 소계 | E17: =SUM(E4:E16) -> 67819587 | F17: =SUM(F4:F16) -> 67819587 | G17: =SUM(G4:G16) -> 0 | H17: =SUM(H4:H16) -> 0 | I17: 1 | J17: 2.8191941e+09 | K17: 19397736000 | L17: 2.221693e+10
C18: 건축 (23개공종) | D18: 공통가설공사 | E18: 23823538 | F18: 23823538 | I18: 0.019891287 | J18: 5.6319422e+08 | K18: 3875112000 | L18: 4.4383062e+09
D19: 가시설물공사 | E19: 3207756 | F19: 3207756 | I19: 0.019570423 | J19: 5.541094e+08 | K19: 3812603000 | L19: 4.3667124e+09
D20: 지정 및 기초공사 | E20: 5613573 | F20: 5613573 | I20: 0.025000003 | J20: 7.0784041e+08 | K20: 4870364000 | L20: 5.5782044e+09
D21: 철골공사 | K21: 0 | L21: 0
D22: 철근콘크리트공사 | E22: 185041911 | F22: 185041911 | I22: 0.36334347 | J22: 1.0287566e+10 | K22: 70784590000 | L22: 8.1072156e+10
D23: 용접공사 | K23: 0 | L23: 0
D24: 조적공사 | E24: 6136576 | F24: 6136576 | I24: 0.021550691 | J24: 6.1017794e+08 | K24: 4198388000 | L24: 4.8085659e+09
D25: 미장공사 | E25: 15839098 | F25: 15839098 | I25: 0.070877831 | J25: 2.0068075e+09 | K25: 13808032000 | L25: 1.581484e+10
D26: 단열공사 | E26: 3347223 | F26: 3347223 | I26: 0.011972607 | J26: 3.3898778e+08 | K26: 2332438000 | L26: 2.6714258e+09
D27: 방수/방습공사 | E27: 6031976 | F27: 6031976 | I27: 0.024136776 | J27: 6.8339936e+08 | K27: 4702195000 | L27: 5.3855944e+09
D28: 목공사 | E28: 4881367 | F28: 4881367 | I28: 0.041712564 | J28: 1.1810334e+09 | K28: 8126214000 | L28: 9.3072474e+09
D29: 가구공사 | E29: 19352495 | F29: 19352495 | I29: 0.12058809 | J29: 3.4142847e+09 | K29: 23492314000 | L29: 2.6906599e+10
D30: 금속공사 | E30: 11785016 | F30: 11785016 | I30: 0.0083329355 | J30: 2.3593552e+08 | K30: 1623377000 | L30: 1.8593125e+09
D31: 지붕 및 홈통공사 | E31: 2789353 | F31: 2789353 | I31: 0.0084766055 | J31: 2.4000333e+08 | K31: 1651366000 | L31: 1.8913693e+09
D32: 창호공사 | E32: 21276976 | F32: 21276976 | I32: 0.056542484 | J32: 1.600922e+09 | K32: 11015298000 | L32: 1.261622e+10
D33: 유리공사 | E33: 2893954 | F33: 2893954 | I33: 0.010887237 | J33: 3.0825701e+08 | K33: 2120992000 | L33: 2.429249e+09
D34: 타일공사 | E34: 12342886 | F34: 12342886 | I34: 0.042861934 | J34: 1.2135762e+09 | K34: 8350128000 | L34: 9.5637042e+09
D35: 돌공사 | E35: 6799048 | F35: 6799048 | I35: 0.028542695 | J35: 8.0814683e+08 | K35: 5560532000 | L35: 6.3686788e+09
... D40: 잡공사 | E40: 3033421 | F40: 3033421 | I40: 0.039844834 | J40: 1.1281512e+09 | K40: 7762353000 | L40: 8.8905042e+09
D41: 소계 | E41: =SUM(E18:E40) -> 362787034 | F41: =SUM(F18:F40) -> 362787034 | G41: =SUM(G18:G40) -> 0 | H41: =SUM(H18:H40) -> 0 | I41: 1 | J41: 2.8313613e+10 | K41: 194814540000 | L41: 2.2312815e+11
C42: 기계설비 (9개공종) | D42: 급수설비공사 | E42: 5322290 | F42: 5322290 | I42: 0.22765415 | J42: 1.1203832e+09 | K42: 7708904000 | L42: 8.8292872e+09
D43: 급탕설비공사 | E43: 3193374 | F43: 3193374 | I43: 0.21627142 | J43: 1.0643639e+09 | K43: 7323458000 | L43: 8.3878219e+09
D44: 오배수 및 통기설비공사 | E44: 4257832 | F44: 4257832 | I44: 0.091061642 | J44: 4.4815317e+08 | K44: 3083561000 | L44: 3.5317142e+09
...

Sheet 사업개요서(전기)
B2: 1. 사 업 개 요
B4: 구 분 | C4: 내 용
B5: 사업명 | C5: 신용동 현대지역주택조합 주택건설사업
B6: 사업주체 | C6: 법인명 | D6: 신용동 현대지역주택조합 대표 백성기
C7: 주소 | D7: 광주광역시 광산구 임방울대로 779(쌍암동) 쌍둥이빌딩 301호
C8: 전화 | D8: ☎ (062) 571-5993
C9: 법인명 | D9: 현대건설 주식회사 대표이사 박동욱
C10: 주소 | D10: 서울특별시 종로구 율곡로 75(계동) 현대빌딩
C11: 전화 | D11: ☎ (02) 746-2658
B12: 시공사 | C12: 법인명 | D12: 현대건설 주식회사 대표이사 박동욱
C13: 주소 | D13: 서울특별시 종로구 율곡로 75(계동) 현대빌딩
C14: 전화 | D14: ☎ (02) 746-2658
B15: 설계자 | C15: 법인명 | D15: 건축사사무소 제로스튜디오 대표 백철현
C16: 주소 | D16: 서울특별시 강남구 역삼동 699-27 청담빌딩 3,4층
C17: 전화 | D17: ☎ (02) 554-5162
C18: 법인명 | D18: (주)나우엔지니어링 건축사사무소 대표 김민국
C19: 주소 | D19: 광주광역시 남구 월산동 919-7 나우빌딩 5층
C20: 전화 | D20: ☎ (062) 369-3592~4
B21: 사업개요 | C21: 대지위치 | D21: 광주광역시 북구 신용동 81번지 일원
C22: 대지면적 | D22: 93,937.00㎡
C23: 사업규모 | D23: 지하2층, 지상16층~29층 / 25동(19개 주동, 6개 부속동)
C24: 공급규모 | D24: 아파트 1,647 세대(74㎡형 83세대, 84㎡형 1379세대, 104㎡형 175세대, 135㎡형 10세대) (전용면적 계 : 142,934.35㎡, 공급면적 계 : 184,933.58㎡)
C25: 연면적 | D25: 265,539.99㎡
C26: 공사기간 | D26: 2020년 01월 01일 ~ 2022년 09월 30일(33개월)
C27: 공사기간(전기) | D27: 2020년 07월 01일 ~ 2022년 09월 30일(27개월)
C28: 사업 승인일 | D28: 43279
C29: 사업 승인신청일 | D29: 42598
B30: 사업비 | C30: 총 사업비 | D30: =#REF! -> #REF! | H30: 천원
C31: 대 지 비 | D31: =#REF! -> #REF! | H31: 천원
C32: 총 공사비 | D32: =#REF! -> #REF! | H32: 천원 (타법감리포함)
C33: 감리구분 | D33: 감리대상 건축공사비 (건축, 전체 발코니 확장공사 포함) | I33: 천원
D34: 감리대상 전기공사비 | G34: 21013250 | I34: 천원
D35: 타법감리 대상공사비 | G35: 335333044 | I35: 천원
D36: 소 계 | G36: =SUM(G34:H35) -> 356346294 | I36: 천원

Sheet 전기공사비 구성표
A2: 3. 공종별 총 공사비 구성 현황표
A4: 신용동 현대지역주택조합 주택건설사업 신축공사 | G4: (단위 : 천원)
A6: 구분 | B6: 분야 | C6: 공종 | D6: 전체 | E6: 전기감리 | F6: 타법감리 | G6: 감리제외 | H6: 비고 | I6: 증가액 | J6: 전체 | K6: 변경승인 건축비
A7: 총공사비 | B7: 순공사비 | C7: 아파트 전등전열공사 | D7: =K7 -> 1.0923528e+10 | E7: =D7 -> 1.0923528e+10 | I7: 1.3861297e+09 | J7: 9537398460 | K7: 1.0923528e+10
C8: 전력간선전기공사 | D8: =K8 -> 1.3414859e+09 | E8: =D8 -> 1.3414859e+09 | I8: 1.7022645e+08 | J8: 1171259460 | K8: 1.3414859e+09
C9: 수변전설비 전기공사 | D9: =K9 -> 1.3414859e+09 | E9: =D9 -> 1.3414859e+09 | I9: 1.7022645e+08 | J9: 1171259460 | K9: 1.3414859e+09
C10: 상가 전기공사 | D10: =K10 -> 1.5331268e+09 | E10: =D10 -> 1.5331268e+09 | I10: 1.9454451e+08 | J10: 1338582240 | K10: 1.5331268e+09
C11: 지하주차장 전등전열공사 | D11: =K11 -> 1.9164084e+09 | E11: =D11 -> 1.9164084e+09 | I11: 2.4318064e+08 | J11: 1673227800 | K11: 1.9164084e+09
C12: 관리노인정 전등전열공사 | D12: =K12 -> 0 | E12: =D12 -> 0 | J12: 0 | K12: 0
C13: 커뮤니티 전등전열공사 | D13: =K13 -> 5.7492253e+08 | E13: =D13 -> 5.7492253e+08 | I13: 72954193 | J13: 501968340 | K13: 5.7492253e+08
C14: 접지설비공사 | D14: =K14 -> 5.7492253e+08 | E14: =D14 -> 5.7492253e+08 | I14: 72954193 | J14: 501968340 | K14: 5.7492253e+08
C15: 신재생에너지설비공사 | D15: =K15 -> 9.5820422e+08 | E15: =D15 -> 9.5820422e+08 | I15: 1.2159032e+08 | J15: 836613900 | K15: 9.5820422e+08
C16: 소계 | D16: =SUM(D7:D15) -> 1.9164084e+10 | E16: =SUM(E7:E15) -> 1.9164084e+10 | F16: =SUM(F7:F15) -> 0 | G16: =SUM(G7:G15) -> 0 | H16: =SUM(H7:H15) -> 0 | I16: 2.4318064e+09 | J16: 16732278000 | K16: 1.9164084e+10
B17: 토목 | D17: 22216930 | F17: 22216930 | I17: =SUM(#REF!) -> #REF! | J17: 0.25306654 | K17: 7.134437e+08 | L17: 4908918000 | M17: 5.6223617e+09
B18: 건축 | D18: 223128153 | F18: 223128153 | I18: 0.019891287 | J18: 0.040626545 | K18: 1.1453412e+08 | L18: 788063000 | M18: 9.0259712e+08
B19: 기계설비 | D19: 38783774 | F19: 38783774 | I19: 0.019570423 | L19: 0
B20: 정보통신 | D20: 9936933 | F20: 9936933 | I20: 0.025000003 | J20: 0.018174234 | K20: 51236694 | L20: 352539000 | M20: 4.0377569e+08
B21: 소방설비 | D21: 11750687 | F21: 11750687 | L21: 0
A22: 소계 | D22: 324980561 | E22: 19164084 | F22: =SUM(F17:F21) -> 305816477
A23: 일반관리비 | D23: 18890726 | E23: 1113702 | F23: 17777022 | I23: 0.36334347 | J23: 0.097283621 | K23: 2.7426141e+08 | L23: 1887082000 | M23: 2.1613434e+09
A24: 이 윤 | D24: 12475007 | E24: 735464 | F24: 11739543 | L24: 0
A25: 총공사비 계 | D25: 356346294 | E25: 21013250 | F25: 335333044 | I25: 0.021550691 | L25: 0
I26: 0.070877831 | J26: 0.10481146 | K26: 2.9548384e+08 | L26: 2033105000 | M26: 2.3285888e+09
I27: 0.011972607 | L27: 0
I28: 0.024136776 | L28: 0
I29: 0.041712564 | J29: 0.4860376 | K29: 1.3702343e+09 | L29: 9428029000 | M29: 1.0798263e+10
I30: 0.12058809 | L30: 0
I31: 0.0083329355 | J31: 1 | K31: 2.8191941e+09 | L31: 19397736000 | M31: 2.221693e+10
I32: 0.0084766055 | J32: 5.6319422e+08 | K32: 3875112000 | L32: 4.4383062e+09
I33: 0.056542484 | J33: 5.541094e+08 | K33: 3812603000 | L33: 4.3667124e+09
I34: 0.010887237 | J34: 7.0784041e+08 | K34: 4870364000 | L34: 5.5782044e+09
I35: 0.042861934 | K35: 0 | L35: 0
I36: 0.028542695 | J36: 1.0287566e+10 | K36: 70784590000 | L36: 8.1072156e+10
I37: 0.012403622 | K37: 0 | L37: 0
I38: 0.014750249 | J38: 6.1017794e+08 | K38: 4198388000 | L38: 4.8085659e+09
I39: 0.024040993 | J39: 2.0068075e+09 | K39: 13808032000 | L39: 1.581484e+10
I40: 0.034672669 | J40: 3.3898778e+08 | K40: 2332438000 | L40: 2.6714258e+09
I41: 0.039844834 | J41: 6.8339936e+08 | K41: 4702195000 | L41: 5.3855944e+09
I42: 1 | J42: 1.1810334e+09 | K42: 8126214000 | L42: 9.3072474e+09
I43: 0.22765415 | J43: 3.4142847e+09 | K43: 23492314000 | L43: 2.6906599e+10
...

Sheet 전기공사예정공정표
B2: 4. 공사 예정 공정표(총괄)
B4: ▣ 공사명 : | E4: 신용동 현대지역주택조합 주택건설사업 신축공사
B6: ▣ 착공예정일 : | E6: 43831
B8: ▣ 공사 규모 : | E8: 지하2층, 지상16층~29층 / 25동(19개 주동, 6개 부속동) / 아파트 1,647 세대
B10: ▣ 공사 기간 : | E10: 2020년 01월 01일 ~ 2022년 09월 30일 (33개월)
B12: 공종 | D12: 2019년 | G12: 2020년 | S12: 2021년 | AE12: 2022년 | AN12: 비고
D13: 10 | E13: 11 | F13: 12 | G13: 1 | H13: 2 | I13: 3 | J13: 4 | K13: 5 | L13: 6 | M13: 7 | N13: 8 | O13: 9 | P13: 10 | Q13: 11 | R13: 12 | S13: 1 | T13: 2 | U13: 3 | V13: 4 | W13: 5 | X13: 6 | Y13: 7 | Z13: 8 | AA13: 9 | AB13: 10 | AC13: 11 | AD13: 12 | AE13: 1 | AF13: 2 | AG13: 3 | AH13: 4 | AI13: 5 | AJ13: 6 | AK13: 7 | AL13: 8 | AM13: 9
B14: 전체공정 | AN14: 2020.01.01~ 2022.09.30 (33개월)
B17: 전기공사 | AN17: 2020.07.01~ 2022.09.30 (27개월)
