Workbook

Sheet 원가계산서
B1: 공 사 원 가 계 산 서
B2: 공사명 : 내갈지구 취약지역생활여건개조사업 생활폐기물처리 용역 | F2: 금액 : 10,995,160원
B3: 비 목 | E3: 금 액 | F3: 구 성 비 | G3: 비 고
A4: A1 | B4: 순 공 사 원 가 | C4: 재 료 비 | D4: 직 접 재 료 비 | E4: =TRUNC(공종별집계표!F5, 0) -> 0
A5: A2 | D5: 간 접 재 료 비 | E5: 0
A6: A3 | D6: 작업설, 부산물(△) | E6: 0
A7: AS | D7: [ 소 계 ] | E7: =TRUNC(E4+E5-E6, 0) -> 0
A8: B1 | C8: 노 무 비 | D8: 직 접 노 무 비 | E8: =TRUNC(공종별집계표!H5, 0) -> 0
A9: B2 | D9: 간 접 노 무 비 | E9: =TRUNC(E8*0.15, 0) -> 0 | F9: 직접노무비 * 15%
A10: BS | D10: [ 소 계 ] | E10: =TRUNC(E8+E9, 0) -> 0
A11: C2 | C11: 경 비 | D11: 경 비 | E11: =TRUNC(공종별집계표!J5, 0) -> 0
A12: C4 | D12: 산 재 보 험 료 | E12: =TRUNC(E10*0.0356, 0) -> 0 | F12: 노무비 * 3.56%
A13: C5 | D13: 고 용 보 험 료 | E13: =TRUNC(E10*0.0101, 0) -> 0 | F13: 노무비 * 1.01%
A14: C6 | D14: 국민 건강 보험료 | E14: =TRUNC(E8*0.03595, 0) -> 0 | F14: 직접노무비 * 3.595%
A15: CB | D15: 노인장기요양보험료 | E15: =TRUNC(E14*0.1314, 0) -> 0 | F15: 건강보험료 * 13.14%
A16: C7 | D16: 국민 연금 보험료 | E16: =TRUNC(E8*0.0475, 0) -> 0 | F16: 직접노무비 * 4.75%
A17: C8 | D17: 퇴직 공제 부금비 | E17: =TRUNC(E8*0.023, 0) -> 0 | F17: 직접노무비 * 2.3%
A18: CA | D18: 산업안전보건관리비 | E18: =TRUNC((E7+E8+(0/1.1))*0.0311, 0) -> 0 | F18: (재료비+직노+관급자재비) * 3.11%
A19: CG | D19: 기 타 경 비 | E19: =TRUNC((E7+E10)*0.046, 0) -> 0 | F19: (재료비+노무비) * 4.6%
A20: CH | D20: 환 경 보 전 비 | E20: =TRUNC((E7+E8+E11)*0.003, 0) -> 0 | F20: (재료비+직노+경비) * 0.3%
A21: CK | D21: 하도급지급보증수수료 | E21: =TRUNC((E7+E8+E11)*0.00081, 0) -> 0 | F21: (재료비+직노+경비) * 0.081% | G21: 최저가대상공사
A22: CL | D22: 건설기계대여금지급보증서발급수수료 | E22: =TRUNC((E7+E8+E11)*0.0068, 0) -> 0 | F22: (재료비+직노+경비) * 0.68%
A23: D1 | D23: 일 반 관 리 비 | E23: =TRUNC(S1*0.08, 0) -> 0 | F23: 계 * 8%
A24: D2 | D24: 이 윤 | E24: =TRUNC((E10+E23)*0.15-0/1.1, 0) -> 0 | F24: (노무비+경비+일반관리비) * 15%
A25: D4 | D25: 건설폐기물처리 | E25: =TRUNC(공종별집계표!T7, 0) -> 9995600
A26: D5 | D26: 지정폐기물처리 | E26: 0
A27: D9 | D27: 공 급 가 액 | E27: =TRUNC(E23+E24+E25+E26, 0) -> 9995600
A28: DB | D28: 부 가 가 치 세 | E28: =TRUNC(E27*0.1, 0) -> 999560 | F28: 공급가액 * 10%
A29: DH | D29: 도 급 액 | E29: =TRUNC(E27+E28, 0) -> 10995160
A30: S2 | D30: 총 공 사 비 | E30: =TRUNC(E29+0, 0) -> 10995160

Sheet 공종별집계표
A1: 공 종 별 집 계 표
A2: [ 내갈지구 취약지역생활여건개조사업 생활폐기물처리 용역 ]
A3: 품 명 | B3: 규 격 | C3: 단위 | D3: 수량 | E3: 재 료 비 | G3: 노 무 비 | I3: 경 비 | K3: 합 계 | M3: 비 고 | N3: 공종코드 | O3: 변수 | P3: 상위공종 | Q3: 공종구분 | R3: 공종레벨 | S3: 공종소계 | T3: 원가계산서 연결금액
E4: 단 가 | F4: 금 액 | G4: 단 가 | H4: 금 액 | I4: 단 가 | J4: 금 액 | K4: 단 가 | L4: 금 액
A5: 01 내갈지구 취약지역생활여건개조사업 생활폐기물처리 용역 | D5: 1 | E5: =F6 -> 0 | F5: =E5*D5 -> 0 | G5: =H6 -> 0 | H5: =G5*D5 -> 0 | I5: =J6 -> 0 | J5: =I5*D5 -> 0 | K5: =E5+G5+I5 -> 0 | L5: =F5+H5+J5 -> 0 | N5: 01 | R5: 1
A6: 0101 01. 폐기물처리 | B6: 전체총괄합산 | D6: 1 | F6: =E6*D6 -> 0 | H6: =G6*D6 -> 0 | J6: =I6*D6 -> 0 | K6: =E6+G6+I6 -> 0 | L6: =F6+H6+J6 -> 0 | N6: 0101 | P6: 01 | R6: 2
A7: 010101 생활폐기물처리 | D7: 1 | E7: =공종별내역서!F22 -> 0 | F7: =E7*D7 -> 0 | G7: =공종별내역서!H22 -> 0 | H7: =G7*D7 -> 0 | I7: =공종별내역서!J22 -> 9995600 | J7: =I7*D7 -> 9995600 | K7: =E7+G7+I7 -> 9995600 | L7: =F7+H7+J7 -> 9995600 | N7: 010101 | Q7: 6 | R7: 3 | T7: =L7*1 -> 9995600
A26: [ 합 계 ] | F26: =F5 -> 0 | H26: =H5 -> 0 | J26: =J5 -> 0 | L26: =L5 -> 0

Sheet 공종별내역서
A1: [ 내갈지구 취약지역생활여건개조사업 생활폐기물처리 용역 ]
A2: 품 명 | B2: 규 격 | C2: 단위 | D2: 수량 | E2: 재 료 비 | G2: 노 무 비 | I2: 경 비 | K2: 합 계 | M2: 비 고 | N2: 품목코드 | O2: 변수 | P2: 설정 | Q2: 공종코드 | R2: 일위 | S2: 단산 | T2: 자재 | U2: 손료적용 | V2: 손료저장 | W2: 적용율 | X2: JUK1 | Y2: JUK2 | Z2: JUK3 | AA2: JUK4 | AB2: JUK5 | AC2: JUK6 | AD2: JUK7 | AE2: JUK8 | AF2: JUK9 | AG2: JUK10 | AH2: JUK11 | AI2: JUK12 | AJ2: JUK13 | AK2: JUK14 | AL2: JUK15 | AM2: JUK16 | AN2: JUK17 | AO2: JUK18 | AP2: JUK19 | AQ2: JUK20 | AR2: 자재구분 | AS2: 공종구분 | AT2: 공종레벨 | AU2: 공종+자재 | AV2: 고유번호
E3: 단 가 | F3: 금 액 | G3: 단 가 | H3: 금 액 | I3: 단 가 | J3: 금 액 | K3: 단 가 | L3: 금 액
A4: 010101 생활폐기물처리 | B4: 01. 폐기물처리 | Q4: 010101
A5: 건설폐기물 | B5: 폐목재류 | C5: TON | D5: 30 | E5: =TRUNC(일위대가목록!E6,0) -> 0 | F5: =TRUNC(E5*D5, 0) -> 0 | G5: =TRUNC(일위대가목록!F6,0) -> 0 | H5: =TRUNC(G5*D5, 0) -> 0 | I5: =TRUNC(일위대가목록!G6,0) -> 40910 | J5: =TRUNC(I5*D5, 0) -> 1227300 | K5: =TRUNC(E5+G5+I5, 0) -> 40910 | L5: =TRUNC(F5+H5+J5, 0) -> 1227300 | M5: 호표 3 | N5: 58F6A519FA2F99F441E81401376A03 | Q5: 010101 | R5: T | S5: F | T5: F | AU5: 01010158F6A519FA2F99F441E81401376A03 | AV5: 399
A6: 생활폐기물 | B6: 폐합성수지류 | C6: TON | D6: 40 | E6: =TRUNC(일위대가목록!E7,0) -> 0 | F6: =TRUNC(E6*D6, 0) -> 0 | G6: =TRUNC(일위대가목록!F7,0) -> 0 | H6: =TRUNC(G6*D6, 0) -> 0 | I6: =TRUNC(일위대가목록!G7,0) -> 120000 | J6: =TRUNC(I6*D6, 0) -> 4800000 | K6: =TRUNC(E6+G6+I6, 0) -> 120000 | L6: =TRUNC(F6+H6+J6, 0) -> 4800000 | M6: 호표 4 | N6: 58F6A519FA2F99F4428F94ADA7D1DA | Q6: 010101 | R6: T | S6: F | T6: F | AU6: 01010158F6A519FA2F99F4428F94ADA7D1DA | AV6: 400 | AZ6: 26
A7: 생활폐기물 | B7: 폐목재및폐가구류 | C7: TON | D7: 0 | E7: =TRUNC(일위대가목록!E8,0) -> 0 | F7: =TRUNC(E7*D7, 0) -> 0 | G7: =TRUNC(일위대가목록!F8,0) -> 0 | H7: =TRUNC(G7*D7, 0) -> 0 | I7: =TRUNC(일위대가목록!G8,0) -> 40910 | J7: =TRUNC(I7*D7, 0) -> 0 | K7: =TRUNC(E7+G7+I7, 0) -> 40910 | L7: =TRUNC(F7+H7+J7, 0) -> 0 | M7: 호표 5 | N7: 58F6A519FA2F99F4428F94ADA7D763 | Q7: 010101 | R7: T | S7: F | T7: F | AU7: 01010158F6A519FA2F99F4428F94ADA7D763 | AV7: 401
A8: 혼합폐기물운반비 | B8: 24톤덤프, 30km | C8: TON | D8: 70 | E8: =TRUNC(일위대가목록!E11,0) -> 0 | F8: =TRUNC(E8*D8, 0) -> 0 | G8: =TRUNC(일위대가목록!F11,0) -> 0 | H8: =TRUNC(G8*D8, 0) -> 0 | I8: =TRUNC(일위대가목록!G11,0) -> 56690 | J8: =TRUNC(I8*D8, 0) -> 3968300 | K8: =TRUNC(E8+G8+I8, 0) -> 56690 | L8: =TRUNC(F8+H8+J8, 0) -> 3968300 | M8: 호표 8 | N8: 58F6A519FA2F99F567EE4406879DF1 | Q8: 010101 | R8: T | S8: F | T8: F | AU8: 01010158F6A519FA2F99F567EE4406879DF1 | AV8: 404
A9: 단수정리 | D9: 0 | E9: =TRUNC(단가대비표!O12,0) -> 0 | F9: =TRUNC(E9*D9, 0) -> 0 | G9: =TRUNC(단가대비표!P12,0) -> 0 | H9: =TRUNC(G9*D9, 0) -> 0 | I9: 0 | J9: =TRUNC(I9*D9, 0) -> 0 | K9: =TRUNC(E9+G9+I9, 0) -> 0 | L9: =TRUNC(F9+H9+J9, 0) -> 0 | N9: 594EC5663D2C9262C58C94A2577CAFDA732F15 | Q9: 010101 | R9: F | S9: F | T9: T | AU9: 010101594EC5663D2C9262C58C94A2577CAFDA732F15 | AV9: 407
Q10: 010101
Q11: 010101
Q12: 010101
Q13: 010101
Q14: 010101
Q15: 010101
Q16: 010101
Q17: 010101
Q18: 010101
Q19: 010101
Q20: 010101
Q21: 010101
A22: [ 합 계 ] | F22: =SUMIF(Q5:Q21,"010101",F5:F21) -> 0 | H22: =SUMIF(Q5:Q21,"010101",H5:H21) -> 0 | J22: =SUMIF(Q5:Q21,"010101",J5:J21) -> 9995600 | L22: =SUMIF(Q5:Q21,"010101",L5:L21) -> 9995600 | N22: TOTAL

Sheet 일위대가목록
B1: 일 위 대 가 목 록
B2: [ 내갈지구 취약지역생활여건개조사업 생활폐기물처리 용역 ]
A3: 코 드 | B3: 품 명 | C3: 규 격 | D3: 단위 | E3: 재 료 비 | F3: 노 무 비 | G3: 경 비 | H3: 합 계 | I3: 번 호 | J3: 비 고 | K3: 노임계수 | L3: 할증 | M3: 품셈개요 | N3: 장비일위
A4: 58F6A519FA2F99F441E81448D76F46 | B4: 건설폐기물 -중간처리 | C4: 폐콘크리트 | D4: TON | E4: =일위대가!F6 -> 0 | F4: =일위대가!H6 -> 0 | G4: =일위대가!J6 -> 29396 | H4: =E4+F4+G4 -> 29396 | I4: 호표 1
A5: 58F6A519FA2F99F441E81448F71D22 | B5: 건설폐기물 -중간처리 | C5: 건설(건축)폐재류 | D5: TON | E5: =일위대가!F10 -> 0 | F5: =일위대가!H10 -> 0 | G5: =일위대가!J10 -> 48021 | H5: =E5+F5+G5 -> 48021 | I5: 호표 2
A6: 58F6A519FA2F99F441E81401376A03 | B6: 건설폐기물 | C6: 폐목재류 | D6: TON | E6: =일위대가!F14 -> 0 | F6: =일위대가!H14 -> 0 | G6: =일위대가!J14 -> 40910 | H6: =E6+F6+G6 -> 40910 | I6: 호표 3
A7: 58F6A519FA2F99F4428F94ADA7D1DA | B7: 생활폐기물 | C7: 폐합성수지류 | D7: TON | E7: =일위대가!F18 -> 0 | F7: =일위대가!H18 -> 0 | G7: =일위대가!J18 -> 120000 | H7: =E7+F7+G7 -> 120000 | I7: 호표 4
A8: 58F6A519FA2F99F4428F94ADA7D763 | B8: 생활폐기물 | C8: 폐목재및폐가구류 | D8: TON | E8: =일위대가!F22 -> 0 | F8: =일위대가!H22 -> 0 | G8: =일위대가!J22 -> 40910 | H8: =E8+F8+G8 -> 40910 | I8: 호표 5
A9: 58F6A519FA2F99F4428F94ADA7DA37 | B9: 건설폐기물 | C9: 혼합건설폐기물 | D9: TON | E9: =일위대가!F26 -> 0 | F9: =일위대가!H26 -> 0 | G9: =일위대가!J26 -> 68563 | H9: =E9+F9+G9 -> 68563 | I9: 호표 6
A10: 58F6A519FA2F99F567EE4406F7CD0B | B10: 건설폐기물운반비 | C10: 24톤덤프, 30km | D10: TON | E10: =일위대가!F30 -> 0 | F10: =일위대가!H30 -> 0 | G10: =일위대가!J30 -> 15990 | H10: =E10+F10+G10 -> 15990 | I10: 호표 7
A11: 58F6A519FA2F99F567EE4406879DF1 | B11: 혼합폐기물운반비 | C11: 24톤덤프, 30km | D11: TON | E11: =일위대가!F34 -> 0 | F11: =일위대가!H34 -> 0 | G11: =일위대가!J34 -> 56690 | H11: =E11+F11+G11 -> 56690 | I11: 호표 8

Sheet 일위대가
A1: [ 내갈지구 취약지역생활여건개조사업 생활폐기물처리 용역 ]
A2: 품 명 | B2: 규 격 | C2: 단위 | D2: 수량 | E2: 재 료 비 | G2: 노 무 비 | I2: 경 비 | K2: 합 계 | M2: 비 고 | N2: 일위대가 | O2: 품목코드 | P2: 일위 | Q2: 단산 | R2: 자재 | S2: 손료적용 | T2: 손료저장 | U2: 적용율 | V2: JUK1 | W2: JUK2 | X2: JUK3 | Y2: JUK4 | Z2: JUK5 | AA2: JUK6 | AB2: JUK7 | AC2: JUK8 | AD2: JUK9 | AE2: JUK10 | AF2: JUK11 | AG2: JUK12 | AH2: JUK13 | AI2: JUK14 | AJ2: JUK15 | AK2: JUK16 | AL2: JUK17 | AM2: JUK18 | AN2: JUK19 | AO2: JUK20 | AP2: 할증적용 | AQ2: 할증저장 | AR2: 할증율 | AS2: HAL1 | AT2: HAL2 | AU2: HAL3 | AV2: 자재구분 | AW2: 일위대가+자재 | AX2: 장비일위 | AY2: 설정 | AZ2: 할증체크
E3: 단 가 | F3: 금 액 | G3: 단 가 | H3: 금 액 | I3: 단 가 | J3: 금 액 | K3: 단 가 | L3: 금 액
A4: 건설폐기물 -중간처리 폐콘크리트 TON ( 호표 1 ) | N4: 58F6A519FA2F99F441E81448D76F46
A5: 폐콘크리트 | B5: 이물질이 없는 순수한 폐콘크리트 | C5: TON | D5: 1 | E5: =단가대비표!O7 -> 0 | F5: =TRUNC(E5*D5,1) -> 0 | G5: =단가대비표!P7 -> 0 | H5: =TRUNC(G5*D5,1) -> 0 | I5: =단가대비표!V7 -> 29396 | J5: =TRUNC(I5*D5,1) -> 29396 | K5: =TRUNC(E5+G5+I5,1) -> 29396 | L5: =TRUNC(F5+H5+J5,1) -> 29396 | N5: 58F6A519FA2F99F441E81448D76F46 | O5: 58BA05CFFC2892230CDFB41C7780F28021A206 | P5: F | Q5: F | R5: T | AW5: 58F6A519FA2F99F441E81448D76F4658BA05CFFC2892230CDFB41C7780F28021A206
A6: [ 합 계 ] | F6: =TRUNC(SUMIF(N5:N5, N4, F5:F5),0) -> 0 | H6: =TRUNC(SUMIF(N5:N5, N4, H5:H5),0) -> 0 | J6: =TRUNC(SUMIF(N5:N5, N4, J5:J5),0) -> 29396 | L6: =F6+H6+J6 -> 29396 | N6: TOTAL | O6: TOTAL
A8: 건설폐기물 -중간처리 건설(건축)폐재류 TON ( 호표 2 ) | N8: 58F6A519FA2F99F441E81448F71D22
A9: 건설폐재류 | B9: 가연성이 제거된 재활용이 가능한 혼합물 | C9: TON | D9: 1 | E9: =단가대비표!O8 -> 0 | F9: =TRUNC(E9*D9,1) -> 0 | G9: =단가대비표!P8 -> 0 | H9: =TRUNC(G9*D9,1) -> 0 | I9: =단가대비표!V8 -> 48021 | J9: =TRUNC(I9*D9,1) -> 48021 | K9: =TRUNC(E9+G9+I9,1) -> 48021 | L9: =TRUNC(F9+H9+J9,1) -> 48021 | N9: 58F6A519FA2F99F441E81448F71D22 | O9: 58BA05CFFC2892230CDFB41C7780F28021A204 | P9: F | Q9: F | R9: T | AW9: 58F6A519FA2F99F441E81448F71D2258BA05CFFC2892230CDFB41C7780F28021A204
A10: [ 합 계 ] | F10: =TRUNC(SUMIF(N9:N9, N8, F9:F9),0) -> 0 | H10: =TRUNC(SUMIF(N9:N9, N8, H9:H9),0) -> 0 | J10: =TRUNC(SUMIF(N9:N9, N8, J9:J9),0) -> 48021 | L10: =F10+H10+J10 -> 48021 | N10: TOTAL | O10: TOTAL
A12: 건설폐기물 폐목재류 TON ( 호표 3 ) | N12: 58F6A519FA2F99F441E81401376A03
A13: 생활폐기물 | B13: 폐목재및폐가구류 | C13: TON | D13: 1 | E13: =단가대비표!O5 -> 0 | F13: =TRUNC(E13*D13,1) -> 0 | G13: =단가대비표!P5 -> 0 | H13: =TRUNC(G13*D13,1) -> 0 | I13: =단가대비표!V5 -> 40910 | J13: =TRUNC(I13*D13,1) -> 40910 | K13: =TRUNC(E13+G13+I13,1) -> 40910 | L13: =TRUNC(F13+H13+J13,1) -> 40910 | N13: 58F6A519FA2F99F441E81401376A03 | O13: 58F6A519FA2F99F441E81413A77DC9 | P13: F | Q13: F | R13: T | AW13: 58F6A519FA2F99F441E81401376A0358F6A519FA2F99F441E81413A77DC9
A14: [ 합 계 ] | F14: =TRUNC(SUMIF(N13:N13, N12, F13:F13),0) -> 0 | H14: =TRUNC(SUMIF(N13:N13, N12, H13:H13),0) -> 0 | J14: =TRUNC(SUMIF(N13:N13, N12, J13:J13),0) -> 40910 | L14: =F14+H14+J14 -> 40910 | N14: TOTAL | O14: TOTAL
A16: 생활폐기물 폐합성수지류 TON ( 호표 4 ) | N16: 58F6A519FA2F99F4428F94ADA7D1DA
A17: 생활폐기물 | B17: 폐합성수지류 | C17: TON | D17: 1 | E17: =단가대비표!O6 -> 0 | F17: =TRUNC(E17*D17,1) -> 0 | G17: =단가대비표!P6 -> 0 | H17: =TRUNC(G17*D17,1) -> 0 | I17: =단가대비표!V6 -> 120000 | J17: =TRUNC(I17*D17,1) -> 120000 | K17: =TRUNC(E17+G17+I17,1) -> 120000 | L17: =TRUNC(F17+H17+J17,1) -> 120000 | N17: 58F6A519FA2F99F4428F94ADA7D1DA | O17: 58F6A519FA2F99F441E81413171BFD | P17: F | Q17: F | R17: T | AW17: 58F6A519FA2F99F4428F94ADA7D1DA58F6A519FA2F99F441E81413171BFD
A18: [ 합 계 ] | F18: =TRUNC(SUMIF(N17:N17, N16, F17:F17),0) -> 0 | H18: =TRUNC(SUMIF(N17:N17, N16, H17:H17),0) -> 0 | J18: =TRUNC(SUMIF(N17:N17, N16, J17:J17),0) -> 120000 | L18: =F18+H18+J18 -> 120000 | N18: TOTAL | O18: TOTAL
A20: 생활폐기물 폐목재및폐가구류 TON ( 호표 5 ) | N20: 58F6A519FA2F99F4428F94ADA7D763
A21: 생활폐기물 | B21: 폐목재및폐가구류 | C21: TON | D21: 1 | E21: =단가대비표!O5 -> 0 | F21: =TRUNC(E21*D21,1) -> 0 | G21: =단가대비표!P5 -> 0 | H21: =TRUNC(G21*D21,1) -> 0 | I21: =단가대비표!V5 -> 40910 | J21: =TRUNC(I21*D21,1) -> 40910 | K21: =TRUNC(E21+G21+I21,1) -> 40910 | L21: =TRUNC(F21+H21+J21,1) -> 40910 | N21: 58F6A519FA2F99F4428F94ADA7D763 | O21: 58F6A519FA2F99F441E81413A77DC9 | P21: F | Q21: F | R21: T | AW21: 58F6A519FA2F99F4428F94ADA7D76358F6A519FA2F99F441E81413A77DC9
A22: [ 합 계 ] | F22: =TRUNC(SUMIF(N21:N21, N20, F21:F21),0) -> 0 | H22: =TRUNC(SUMIF(N21:N21, N20, H21:H21),0) -> 0 | J22: =TRUNC(SUMIF(N21:N21, N20, J21:J21),0) -> 40910 | L22: =F22+H22+J22 -> 40910 | N22: TOTAL | O22: TOTAL
A24: 건설폐기물 혼합건설폐기물 TON ( 호표 6 ) | N24: 58F6A519FA2F99F4428F94ADA7DA37
A25: 혼합건설폐기물 | B25: 건설폐재류에 가연성 5% 이하 혼합 | C25: TON | D25: 1 | E25: =단가대비표!O9 -> 0 | F25: =TRUNC(E25*D25,1) -> 0 | G25: =단가대비표!P9 -> 0 | H25: =TRUNC(G25*D25,1) -> 0 | I25: =단가대비표!V9 -> 68563 | J25: =TRUNC(I25*D25,1) -> 68563 | K25: =TRUNC(E25+G25+I25,1) -> 68563 | L25: =TRUNC(F25+H25+J25,1) -> 68563 | N25: 58F6A519FA2F99F4428F94ADA7DA37 | O25: 58BA05CFFC2892230CDFB41C7780F28021A5DB | P25: F | Q25: F | R25: T | AW25: 58F6A519FA2F99F4428F94ADA7DA3758BA05CFFC2892230CDFB41C7780F28021A5DB
A26: [ 합 계 ] | F26: =TRUNC(SUMIF(N25:N25, N24, F25:F25),0) -> 0 | H26: =TRUNC(SUMIF(N25:N25, N24, H25:H25),0) -> 0 | J26: =TRUNC(SUMIF(N25:N25, N24, J25:J25),0) -> 68563 | L26: =F26+H26+J26 -> 68563 | N26: TOTAL | O26: TOTAL
A28: 건설폐기물운반비 24톤덤프, 30km TON ( 호표 7 ) | N28: 58F6A519FA2F99F567EE4406F7CD0B
A29: 건설폐재류 운반비 | B29: 24톤 덤프트럭, 30km | C29: TON | D29: 1 | E29: =단가대비표!O10 -> 0 | F29: =TRUNC(E29*D29,1) -> 0 | G29: =단가대비표!P10 -> 0 | H29: =TRUNC(G29*D29,1) -> 0 | I29: =단가대비표!V10 -> 15990 | J29: =TRUNC(I29*D29,1) -> 15990 | K29: =TRUNC(E29+G29+I29,1) -> 15990 | L29: =TRUNC(F29+H29+J29,1) -> 15990 | N29: 58F6A519FA2F99F567EE4406F7CD0B | O29: 58BA05CFFC2892230CDFB41C77819B38207B3B | P29: F | Q29: F | R29: T | AW29: 58F6A519FA2F99F567EE4406F7CD0B58BA05CFFC2892230CDFB41C77819B38207B3B
A30: [ 합 계 ] | F30: =TRUNC(SUMIF(N29:N29, N28, F29:F29),0) -> 0 | H30: =TRUNC(SUMIF(N29:N29, N28, H29:H29),0) -> 0 | J30: =TRUNC(SUMIF(N29:N29, N28, J29:J29),0) -> 15990 | L30: =F30+H30+J30 -> 15990 | N30: TOTAL | O30: TOTAL
A32: 혼합폐기물운반비 24톤덤프, 30km TON ( 호표 8 ) | N32: 58F6A519FA2F99F567EE4406879DF1
A33: 혼합건설폐기물 운반비 | B33: 24톤 암롤트럭, 30km | C33: TON | D33: 1 | E33: =단가대비표!O11 -> 0 | F33: =TRUNC(E33*D33,1) -> 0 | G33: =단가대비표!P11 -> 0 | H33: =TRUNC(G33*D33,1) -> 0 | I33: =단가대비표!V11 -> 56690 | J33: =TRUNC(I33*D33,1) -> 56690 | K33: =TRUNC(E33+G33+I33,1) -> 56690 | L33: =TRUNC(F33+H33+J33,1) -> 56690 | N33: 58F6A519FA2F99F567EE4406879DF1 | O33: 58BA05CFFC2892230CDFB41C77819B38207E8F | P33: F | Q33: F | R33: T | AW33: 58F6A519FA2F99F567EE4406879DF158BA05CFFC2892230CDFB41C77819B38207E8F
A34: [ 합 계 ] | F34: =TRUNC(SUMIF(N33:N33, N32, F33:F33),0) -> 0 | H34: =TRUNC(SUMIF(N33:N33, N32, H33:H33),0) -> 0 | J34: =TRUNC(SUMIF(N33:N33, N32, J33:J33),0) -> 56690 | L34: =F34+H34+J34 -> 56690 | N34: TOTAL | O34: TOTAL

Sheet 단가대비표
A1: 단 가 대 비 표
A2: [ 내갈지구 취약지역생활여건개조사업 생활폐기물처리 용역 ]
A3: 코 드 | B3: 품 명 | C3: 규격 | D3: 단위 | E3: 재 료 비 | P3: 노 무 비 | Q3: 경 비 | W3: 번 호 | X3: 비 고 | Y3: 품목구분 | Z3: 노임구분 | AA3: 소수점처리 | AB3: 자재구분
E4: 조달청가격 | F4: PAGE | G4: 거래가격 | H4: PAGE | I4: 유통물가 | J4: PAGE | K4: 물가자료 | L4: PAGE | M4: 조사가격 | N4: PAGE | O4: 적용단가 | Q4: 조달청가격 | R4: 거래가격 | S4: 유통물가 | T4: 물가자료 | U4: 조사가격 | V4: 적용단가
A5: 58F6A519FA2F99F441E81413A77DC9 | B5: 생활폐기물 | C5: 폐목재및폐가구류 | D5: TON | E5: 0 | G5: 0 | I5: 0 | K5: 0 | L5: 부.149 | M5: 0 | N5: 물정.부411 | O5: 0 | P5: 0 | Q5: 0 | R5: 0 | S5: 0 | T5: 40910 | U5: 86206.9 | V5: =SMALL(Q5:U5,COUNTIF(Q5:U5,0)+1) -> 40910 | W5: 자재 1 | Y5: C
A6: 58F6A519FA2F99F441E81413171BFD | B6: 건설폐기물 | C6: 폐합성수지류 | D6: TON | E6: 0 | G6: 0 | I6: 0 | K6: 0 | M6: 0 | N6: 물정.부411 | O6: 0 | P6: 0 | Q6: 0 | R6: 0 | S6: 0 | T6: 0 | U6: 120000 | V6: =SMALL(Q6:U6,COUNTIF(Q6:U6,0)+1) -> 120000 | W6: 자재 2 | Y6: C
A7: 58BA05CFFC2892230CDFB41C7780F28021A206 | B7: 폐콘크리트 | C7: 이물질이 없는 순수한 폐콘크리트 | D7: TON | E7: 0 | G7: 0 | I7: 0 | K7: 0 | M7: 0 | O7: 0 | P7: 0 | Q7: 0 | R7: 0 | S7: 0 | T7: 0 | U7: 29396 | V7: =SMALL(Q7:U7,COUNTIF(Q7:U7,0)+1) -> 29396 | W7: 자재 3 | Y7: C
A8: 58BA05CFFC2892230CDFB41C7780F28021A204 | B8: 건설폐재류 | C8: 가연성이 제거된 재활용이 가능한 혼합물 | D8: TON | E8: 0 | G8: 0 | I8: 0 | K8: 0 | M8: 0 | O8: 0 | P8: 0 | Q8: 0 | R8: 0 | S8: 0 | T8: 0 | U8: 48021 | V8: =SMALL(Q8:U8,COUNTIF(Q8:U8,0)+1) -> 48021 | W8: 자재 4 | Y8: C
A9: 58BA05CFFC2892230CDFB41C7780F28021A5DB | B9: 혼합건설폐기물 | C9: 건설폐재류에 가연성 5% 이하 혼합 | D9: TON | E9: 0 | G9: 0 | I9: 0 | K9: 0 | M9: 0 | O9: 0 | P9: 0 | Q9: 0 | R9: 0 | S9: 0 | T9: 0 | U9: 68563 | V9: =SMALL(Q9:U9,COUNTIF(Q9:U9,0)+1) -> 68563 | W9: 자재 5 | Y9: C
A10: 58BA05CFFC2892230CDFB41C77819B38207B3B | B10: 건설폐재류 운반비 | C10: 24톤 덤프트럭, 30km | D10: TON | E10: 0 | G10: 0 | I10: 0 | K10: 0 | M10: 0 | N10: 1584 | O10: 0 | P10: 0 | Q10: 0 | R10: 0 | S10: 0 | T10: 0 | U10: 15990 | V10: =SMALL(Q10:U10,COUNTIF(Q10:U10,0)+1) -> 15990 | W10: 자재 6 | Y10: C
A11: 58BA05CFFC2892230CDFB41C77819B38207E8F | B11: 혼합건설폐기물 운반비 | C11: 24톤 암롤트럭, 30km | D11: TON | E11: 0 | G11: 0 | I11: 0 | K11: 0 | M11: 0 | N11: 1584 | O11: 0 | P11: 0 | Q11: 0 | R11: 0 | S11: 0 | T11: 0 | U11: 56690 | V11: =SMALL(Q11:U11,COUNTIF(Q11:U11,0)+1) -> 56690 | W11: 자재 7 | Y11: C
A12: 594EC5663D2C9262C58C94A2577CAFDA732F15 | B12: 단수정리 | E12: 0 | G12: 0 | I12: 0 | K12: 0 | M12: 0 | O12: 0 | P12: 0 | Q12: 0 | R12: 0 | S12: 0 | T12: 0 | U12: 426 | V12: =SMALL(Q12:U12,COUNTIF(Q12:U12,0)+1) -> 426 | W12: 자재 8

Sheet  공사설정 
A1: 이 Sheet는 수정하지 마십시요
A2: 공사구분 | B2: A | C2: 타이틀
A3: 확정내역 | B3: 원내역
A4: 자재단가적용 | B4: 5
A5: 경비단가적용 | B5: 5
A6: 품목코드형식 | B6: XXXX-XXXX-XXXXXXXXX
A7: 내역금액소수점처리 | B7: C | C7: T
A8: 일위대가내역소수점처리 | B8: C | C8: 2
A9: 단가명 | B9: 조달청가격 | C9: 거래가격 | D9: 유통물가 | E9: 물가자료 | F9: 조사가격 | G9: TTTTT
A10: 환율 | B10: 1466 | C10: 0 | D10: 0
A11: 시간당작업량 | B11: R | C11: 4
A12: 1회 사이클시간 | B12: R | C12: 4
A13: 시간당 작업사이클 | B13: R | C13: 3
A14: 일반변수 | B14: R | C14: 5
A15: 시간당 노임산출 계수 | B15: A | C15: 1/8*16/12*25/20 | D15: 1/8*16/12*25/20 | E15: 1/8*16/12*25/20 | F15: 1
A16: 재료비 할증 계수 | B16: 1.11 | C16: 1.12
A17: 노무비 할증 계수 | B17: 1 | C17: 1.5 | D17: 1.16 | E17: 1.6 | F17: 1.6 | G17: 1.6 | H17: 1.94 | I17: 1.94 | J17: 1.94 | K17: 1 | L17: 1 | M17: 1
A18: 경비 할증 계수 | B18: 1.25 | C18: 1.071
A19: 내역,일위대가 품명,규격,단위 따로적용
A20: 내역단가 소수점처리 | B20: C | C20: 1
A21: 코드 | B21: 공종구분명 | C21: 원가비목코드
A22: 1 | B22: 작 업 부 산 물 | C22: A3
A23: 2 | B23: 운 반 비 | C23: C1
A24: 3 | B24: 관 급 자 재 비 | C24: DJ
A25: 4 | B25: 사 급 자 재 비 | C25: D3
A26: 5 | B26: 외 자 재
A27: 6 | B27: 건설폐기물처리 | C27: D4
A28: 7 | B28: 지정폐기물처리 | C28: D5
A29: 8 | B29: ...
A30: 9 | B30: ...
A31: A | B31: ....
A32: B | B32: .....
A33: C | B33: ....
A34: D | B34: ....
A35: E | B35: ....
A36: F | B36: ....
A37: G | B37: ....
A38: H | B38: ....
A39: I | B39: ....
A40: J | B40: ....
...

Sheet Sheet1
