Workbook
Name ____OIU1: [0]!BlankMacro1
Name ___CDT2: #REF!
Name ___DOG1: #REF!
Name ___DOG2: #REF!
Name ___DOG22: #REF!
Name ___DOG3: #REF!
Name ___DOG33: #REF!
Name ___DOG4: #REF!
Name ___H66766: [1]단가조사표!#REF!
Name ___NMB96: #REF!
Name ___OIU1: [0]!BlankMacro1
Name ___PI48: #REF!
Name ___PI60: #REF!
Name ___RO110: #REF!
Name ___RO22: #REF!
Name ___RO35: #REF!
Name ___RO45: #REF!
Name ___RO60: #REF!
Name ___RO80: #REF!
Name ___SUB1: #REF!
Name ___SUB2: #REF!
Name ___SUB3: #REF!
Name ___sub4: #REF!
Name ___sub5: #REF!
Name ___TON1: #REF!
Name ___TON2: #REF!
Name ___WW2: #REF!
Name ___WW3: #REF!
Name ___WW6: #REF!
Name ___WW7: #REF!
Name ___WW8: #REF!
Name __CDT2: #REF!
Name __DOG1: #REF!
Name __DOG2: #REF!
Name __DOG22: #REF!
Name __DOG3: #REF!
Name __DOG33: #REF!
Name __DOG4: #REF!
Name __H66766: [1]단가조사표!#REF!
Name __IL1: #REF!
Name __NMB96: #REF!
Name __OIU1: [0]!BlankMacro1
Name __PI48: #REF!
Name __PI60: #REF!
Name __RO110: #REF!
Name __RO22: #REF!
Name __RO35: #REF!
Name __RO45: #REF!
Name __RO60: #REF!
Name __RO80: #REF!
Name __SUB1: #REF!
Name __SUB2: #REF!
Name __SUB3: #REF!
Name __sub4: #REF!
Name __sub5: #REF!
Name __TON1: #REF!
Name __TON2: #REF!
Name __WW2: #REF!
Name __WW3: #REF!
Name __WW6: #REF!

Sheet 표지
B2: =P2 -> 2026 년도 | O2: 연 도 : | P2: 2026 년도
O3: 제 목 : | P3: 스마트팜 LED 조명(생장등)추가 설치 및 기타 전기공사
O4: 주최기관 : | P4: 공주시 농업기술센터
O5: 위 치 : | P5: 충남 공주시 내산목천길 52-15
O6: 공사기간 : | P6: 본 공사의 공사기간은 착공일로부터 | T6: 10 | U6: 일간으로 한다. | W6: 착공일로부터 | Y6: =T6 -> 10 | Z6: 일간
B7: =P3 -> 스마트팜 LED 조명(생장등)추가 설치 및 기타 전기공사 | O7: 공 사 명 : | P7: =P3 -> 스마트팜 LED 조명(생장등)추가 설치 및 기타 전기공사
O8: 공사목적 : | P8: 본 공사는 | R8: =P3 -> 스마트팜 LED 조명(생장등)추가 설치 및 기타 전기공사 | W8: 로 전기시설물의 안정적인 사용과 전기안전을 위함이다
D17: =P4 -> 공주시 농업기술센터

Sheet 간지
A6: 목 차
A9: 1.설 계 설 명 서
A10: 2.공 사 시 방 서
A11: 3.예 정 공 정 표
A12: 4.설 계 내 역 서
A13: 5.단 가 대 비 표
A14: 6.도 면
A35: 1.설 계 설 명 서

Sheet 설명
A1: 설 계 설 명 서
A3: 1. 공사명 : | B3: =표지!B7 -> 스마트팜 LED 조명(생장등)추가 설치 및 기타 전기공사
A4: 2. 위 치 : | B4: =표지!P5 -> 충남 공주시 내산목천길 52-15
A5: 3. 공사목적
A6: =표지!P8 -> 본 공사는 | C6: =표지!R8 -> 스마트팜 LED 조명(생장등)추가 설치 및 기타 전기공사 | G6: =표지!W8 -> 로 전기시설물의 안정적인 사용과 전기안전을 위함이다
A8: 4. 공사개요
A9: 4.1 전기 공사
A10: =C6 -> 스마트팜 LED 조명(생장등)추가 설치 및 기타 전기공사 | G10: - 1식
A12: 5. 공사기간
A13: =표지!P6 -> 본 공사의 공사기간은 착공일로부터 | F13: =표지!T6 -> 10 | G13: =표지!U6 -> 일간으로 한다.
A14: 단, 천재지변이나 시행청의 지시에 의하여 중지될 때는 그 기간만큼 연장할 수 있다.
A15: 6. 설계변경
A16: 다음과 같은 사유가 발생시에는 설계변경 할 수 있다.
A17: ○조사 측량 당시 조사불능부분 및 조사후 변동사항의 발생과 시공측량 결과 지형의 차이등 현지 여건에 맞추어 변경이 필요할 때.
A18: ○공법의 변경 및 자재단가와 중기적산 기준이 변동 되었을 때.
A19: ○시공관리 및 시행청의 사정에 의하여 변경이 불가피 할 때.
A20: 7. 공사의 책임
A21: 본 공사 시공중 제반 안전사고에 대해서는 도급자의 책임으로 한다.

Sheet 일반
A1: 1. 일 반 시 방 서
A3: 1. 공 사 개 요
A4: 1.1 공 사 명 : | B4: =설명!B3 -> 스마트팜 LED 조명(생장등)추가 설치 및 기타 전기공사
A5: 1.2 위 치 : | B5: =설명!B4 -> 충남 공주시 내산목천길 52-15
A6: 1.3 개 요
A7: 1.전기 공사
A8: =설명!A10 -> 스마트팜 LED 조명(생장등)추가 설치 및 기타 전기공사
A10: 2. 일 반 사 항
A11: 2.1 적 용 범 위
A12: 2.1.1 본 시방서는 | B12: =B4 -> 스마트팜 LED 조명(생장등)추가 설치 및 기타 전기공사 | G12: 의 일부로써 타 시방서에 우선하여 적용한다.
A13: 2.1.2 본 시방서에 기재된 이외의 사항은 건설부 제정 표준시방서(이하 '표준시방서'라 한다)에 따른다.
A14: 2.1.3 본 시방서 이외의 공사진행 중 감독자의 별도 지시사항도 시방서로 간주한다.
A15: 2.2 관련법규 및 규준
A16: 2.2.1 관련규준은 특기가 없는 한 KS규격에 의한다.
A17: 2.2.2 KS기준에 없거나 공사의 특수성으로 외국의 기준을 적용해야 하는 경우에는 구조 및 기능상 본 공사에 적합해야 하며 동시에 국내관련 법규에 적합해야 한다.
A18: 2.2.3 시공자는 본 공사에 적용되는 관계법령 및 기타 관련 법규에 준해 성실히 공사를 이행하여야 한다.
A19: (내선규정,전기설비기술기준에 관한 규칙,전기공급규정,전기사업법,동시행령,동시행규칙,산업안전보건법 및 관계령,규칙,기준)
A20: 2.3 용 어 정 의
A21: 2.3.1 건축주(발주자)라 함은 금강유역환경청을 말한다.
A22: 2.3.2 ⓐ감독자(현장 감독관)라 함은 도급공사 또는 직영공사에서 건축주가 지정한 감독 책임을 맡은 기술자로서 공사의 시행을 지휘,감독(공사 관리,기술 관리),검사,승인 또는 시험입회 등
A23: 공사전반에 걸친 공사관리,기술관리에 대한 모든 책임과 권한을 위임받은 자를 말한다.
A24: ⓑ감독자의 중요한 지시 및 승인은 문서로 하고 경시한 사항은 현장에서 구두로 지시 및 승인할 수 있다
... A56: 2.8 공사기간
A57: =설명!A13 -> 본 공사의 공사기간은 착공일로부터 | D57: =표지!T6 -> 10 | E57: =표지!U6 -> 일간으로 한다.
A58: 3. 공 사 현 장 관 리
A59: 3.1 일반사항
A60: 공사현장관리는, 원칙적으로 시공자가 자주적으로 한다.
A61: 3.2 관계법규의 준수
A62: 공사현장의 관리는, 건축법, 건설산업기본법, 건설기술관리법, 근로기준법, 산업안전보법, 소방법, 도로교통법, 전기사업법 기타 관계법규에 따라 빠짐없이 시행한다.
A63: 3.3 정리 정비 청소
A64: 공사현장에 있어서는, 항상 장내의 여러재료, 여러 기계기구, 기타의 정리정돈, 점검, 정비, 청소등을 충분히 하고, 장내를 청결히 유지하도록 한다.
A65: 3.4 사고 재해 및 공해의 방지
A66: 공사시공에 따른 재해 및 공해를 방지하기 위하여, 시공자는 책임지고, 관계법령 등에 따라 다음 사항을 시행한다.
A67: 3.4.1 공사현장 주변의 건축물, 도로, 매설물, 통행인 등 제3자에 재해가 미치지 않도록 한다.
A68: 3.4.2 공사현장내의 사고, 화재, 도난의 방지에 노력하고, 특히 위험한 곳의 점검은 꼼꼼히 한다.
A69: 3.4.3 공사중의 소음, 진동, 먼지, 섬광 기타에 대하여 적절한 조치를 하여 공해가 일어나지 않도록 한다.
... A172: 합성수지전선관 및 부속품은 다음과 같으며, 해당규격에 적합한 제품을 사용하여야 한다.
A174: 종 류 | D174: 해 당 규 격
A175: 일반용 경질 비닐전선관 | D175: KS C 8431
A176: 내충격용 경질 비닐전선관
A177: 합성수지제 가요전선관 | D177: KS C 8454
A178: 파상형경질 폴리에틸렌 전선관 | D178: KS C 8455
A179: 합성수지제 가요전선관 부속품 | D179: KS C 8456
A180: 2.2.2 박스 및 부속류
A181: 가. 합성수지관공사에 사용하여야 하는 박스, 커버 및 기타 부속류는 해당 규격에 적합한 제품을 사용하여야 한다.
A182: 종 류 | E182: 해당규격
A183: 스위치 박스 | D183: 1개용 | E183: KS C 8436
A184: 스위치 박스 | D184: 2개용
A185: 4각 아웃렛박스 | D185: 중심형
A186: 4각 콘크리트박스 | D186: 중심형
A187: 8각 콘크리트 박스 | D187: 심 형
A188: 커 플 링(TS) | D188: 1호 | E188: KS C 8433
A189: 커 넥 터 | D189: 1호 | E189: KS C 8434
A190: 노 멀 밴 드 | C190: KS C 8441 | E190: KS C 8441
A191: 나. 220V 접지극부 콘센트용 박스의 경우 커버의 형태는 오목형 콘센트 커버 규격을 사용하여야 한다.
A192: 2.2.3 재질
A193: 내충격성 경질비닐전선관 부속품의 재질은 염화비닐수지에 내충격성 증진을 위한 재료를 첨가한 제품이어야 한다.
A194: 2.3 금속제 가요 전선관
A195: 2.3.1 전선관
A196: 가요전선관은 KS 규격에 적합한 제품을 사용하여야 한다.
A197: 2.3.2 부속품
A198: 가요 전선관용 부속품은 KS 규격에 적합한 제품을 사용하여야 한다.
A199: 2.4 풀박스
A200: 2.4.1 재질 및 도장
A201: 가. 풀박스는 함 1.2㎜, 뚜껑 1.6㎜ 이상의 두께를 갖는 철판을 사용하여야 하다.
A202: 나. 도장은 광명단을 사용하여 내․외부에 1회를 칠한 후, 지정색의 조합페인트를 사용하여 2회를 칠하여야 한다.
... A297: 전선의 색구별은 다음과 같이 하여 부하평형을 점검할 수 있도록 하고 부분적으로 색구별이 불가능할 경우 절연튜브(흑색, 적색, 청색 등)로 구별하여야 한다.
A298: 구 분 | B298: 전 압 류 | D298: 접지측 (중성선) | F298: 접 지
A299: 교 류 | B299: 갈색, 흑색, 회색 | D299: 청색 | F299: 녹/황 교차
A300: 직 류 | B300: 청색, 적색
A301: 3.3 통신선과의 이격거리
A302: 옥내 강전류 전선과 통신선과의 이격거리는 다음과 같이 유지하여야 한다.
A303: 가. 전압 300V미만 : 6㎝이상(잘 보이지 않는 장소 : 12㎝이상)
A304: 나. 전압 300V이상 : 15㎝이상(잘 보이지 않는 장소 : 30㎝이상)
A305: 다. 강전류전선이 케이블일 경우에는 접촉되지 않도록 시설
A306: 3.4 입상간선의 고정
A307: 입상간선은 풀박스내에 U찬넬을 설치하고 고무패킹을 씌워 클램프로 고정하여야 한다.
A308: 3.5 전력간선의 말단처리
A309: 전력간선의 말단은 반드시 규격에 맞는 동선용 압착단자를 사용하여 고정하여야 한다.
A310: 3.6 전선의 시공
A311: 가.전선의 배관내 입선시에는 절연물에 손상이 없도록 하고, 동선의 인장강도에 영향을미치지 않도록 시공하여야 한다.
A312: 나.전선의 접속은 전선의 전기저항 증가와 절연저항 및 인장강도의 저하가 발생하지 않도록 시행되어야 한다.
... A412: (1) 각 접지공사의 접지저항값은 다음 표의 값을 참고한다.
A413: 접지공사의 종류 | C413: 접 지 저 항 값
A414: 제1종 접지공사 | C414: 10Ω 이하 (NEC 규정 적용시 권고 : 5Ω 이하)
A415: 제2종 접지공사 | C415: 현장 사정에 따라 계산된 접지 저항값
C416: (NEC 규정 적용시 권고 : 5Ω 이하)
A417: 제3종 접지공사 | C417: 100Ω 이하 (NEC 규정 적용시 권고 : 5Ω 이하)
A418: 특별 제3종 접지공사 | C418: 10Ω 이하 (NEC 규정 적용시 권고 : 5Ω 이하)
A419: (2) 지상 각 접속부분을 검사하고, 기타 손상된 곳이 없는 가를 점검한다.
A421: 5. 분 전 반
A423: 1. 적용기준
A424: 다음 규준은 이 시방서에 명시되어 있는 범위내에서 이 시방서의 일부를 구성하고 있는 것으로 본다.
A425: KS C 4613 누전 차단기
A426: KS C 8320 분전반 통칙
A427: KS C 8321 배선용 차단기
A428: 2. 제 출 물
A429: 2.1 제작도면은 골조공사 착수 전까지 제출하여 감독관의 승인을 득한 후 사용 또는 설치하여야 한다.
A430: 2.2. 제작도면
A431: 1)분전반 외형도
...

Sheet 공정
A1: 예 정 공 정 표
A3: ○ 공 사 명 : | C3: =표지!B7 -> 스마트팜 LED 조명(생장등)추가 설치 및 기타 전기공사
A6: ○ 공사 기간 : | C6: =표지!W6 -> 착공일로부터 | F6: =표지!Y6 -> 10 | G6: =표지!Z6 -> 일간
A9: 구 분 | C9: 공 정 표 | M9: 비고
C10: 1 ~ 2 | E10: 3 ~ 4 | G10: 5 ~ 6 | I10: 7 ~ 8 | K10: 9 ~ 10
A11: 현장 조사 및 자재 준비
A13: 배관 및 배선 생장등 설치
A17: 현장 정리 및 준공

Sheet 결재 (2)
A1: 시장 | C1: 부시장 | E1: 국장 | G1: 과장 | I1: 팀장 | K1: 담당자 | M1: 설계자
B6: =표지!P2 -> 2026 년도 | D6: ` | K6: 위치 : | L6: =표지!P5 -> 충남 공주시 내산목천길 52-15
A10: =표지!B7 -> 스마트팜 LED 조명(생장등)추가 설치 및 기타 전기공사
K15: 공 사 개 요
K16: =설명!A10 -> 스마트팜 LED 조명(생장등)추가 설치 및 기타 전기공사
E21: 총 공 사 비 : | G21: =원가계산!D27 -> 29318000 | J21: =G21 -> 29318000
E23: 도 급 공 사 비 : | G23: =G21 -> 29318000 | J23: =G23 -> 29318000

Sheet 원가계산
A1: 공 사 원 가 계 산 서
A2: 공 사 명 : | B2: =표지!P3 -> 스마트팜 LED 조명(생장등)추가 설치 및 기타 전기공사
C3: 구분 | D3: 금 액 | E3: 구성비(%) | F3: 비 고
A4: 비목
A5: 순 공 사 원 가 | B5: 재료비 | C5: 직 접 재 료 비 | D5: =총괄표!J5 -> 10443676
C6: 간 접 재 료 비
C7: 작업설,부산물등
C8: 소 계 | D8: =TRUNC(D5) -> 10443676
B9: 노무비 | C9: 직 접 노 무 비 | D9: =총괄표!L28 -> 9516752
C10: 간 접 노 무 비 | D10: =TRUNC(D9*E10,0) -> 1427512 | E10: 0.15 | F10: 직접노무비 * 구성비
C11: 소 계 | D11: =SUM(D9:D10) -> 10944264
B12: 경 비 | C12: 기 계 경 비 | D12: =총괄표!N28 -> 0
C13: 산 재 보 험 료 | D13: =TRUNC((D11*E13),0) -> 389615 | E13: 0.0356 | F13: 노무비 * 구성비
C14: 고 용 보 험 료 | D14: =TRUNC(D11*E14,0) -> 110537 | E14: 0.0101 | F14: 노무비 * 구성비
C15: 건 강 보 험 료
C16: 연 금 보 험 료
C17: 노인장기요양보험료
C18: 안 전 관 리 비 | D18: =TRUNC(INT((D8+D11)*E18),0) -> 442730 | E18: 0.0207 | F18: (재료비+노무비) *구성비
C19: 기 타 경 비 | D19: =TRUNC(INT((D8+D11)*E19),0) -> 983845 | E19: 0.046 | F19: (재료비+노무비) *구성비
C20: 소 계 | D20: =TRUNC(SUM(D12:D19),0) -> 1926727
B21: 계 | D21: =D8+D11+D20 -> 23314667
A22: 일 반 관 리 비 | D22: =TRUNC(INT(D21*E22),0) -> 1865173 | E22: 0.08 | F22: 순공사원가 * 구성비
A23: 이 윤 | D23: =TRUNC((D11+D20+D22)*E23,0) -> 1473616 | E23: 0.1 | F23: (노무비+경비+일반관리비) * 구성비
A24: 공 급 가 액 | D24: =(D21+D22+D23) -> 26653456
A25: 부 가 가 치 세 | D25: =INT(D24*E25) -> 2665345 | E25: 0.1 | F25: 공급가액 * 구성비
A26: 공 사 비 합 계 | D26: =ROUNDDOWN(SUM(D24+D25),-3) -> 29318000
A27: 총 공 사 금 액 | D27: =D26 -> 29318000

Sheet 총괄표
D1: 공사명 : | E1: =원가계산!B2 -> 스마트팜 LED 조명(생장등)추가 설치 및 기타 전기공사
A2: 번호 | B2: 공종코드 | D2: 품명 | F2: 규격 | G2: 단위 | H2: 수량 | I2: 재 료 비 | K2: 노 무 비 | M2: 경 비 | O2: 합 계 | P2: 비 고
I3: 단 가 | J3: 금 액 | K3: 단 가 | L3: 금 액 | M3: 단 가 | N3: 금 액
A4: 1 | B4: 01 | D4: 1. 전기공사 | G4: 식 | H4: 1 | I4: =SUM(I5:I6) -> 0 | J4: =SUM(J5:J6) -> 10443676 | K4: =SUM(K5:K6) -> 0 | L4: =SUM(L5:L6) -> 9516752 | M4: =내역서!J34 -> 0 | N4: =TRUNC((M4)*IF(OR(NOT(ISNUMBER(H4)),H4=0),0,H4),0) -> 0 | O4: =TRUNC(SUM(J4,L4,N4)) -> 19960428 | U4: =IF(OR(LEN(Y4)<1,Y4=0,Y4=9),IF(J4<>0,J4,""),"") -> 10443676 | V4: =IF(OR(LEN(Y4)<1,Y4=0,Y4=9),IF(L4<>0,L4,""),"") -> 9516752 | W4: =IF(OR(LEN(Y4)<1,Y4=0,Y4=9),IF(N4<>0,N4,""),"") | X4: =IF(OR(LEN(Y4)<1,Y4=0,Y4=9),IF(O4<>0,O4,""),"") -> 19960428 | Z4: 1
A5: 2 | D5: 1-1. LED 생장등 설치 및 기타 전기공사 | I5: =내역서!E34 -> 0 | J5: =내역서!F34 -> 10443676 | K5: =내역서!G34 -> 0 | L5: =내역서!H34 -> 9516752 | M5: =내역서!J22 -> 0 | N5: =M5 -> 0 | O5: =TRUNC(SUM(J5,L5,N5)) -> 19960428 | U5: =IF(OR(LEN(Y5)<1,Y5=0,Y5=9),IF(J5<>0,J5,""),"") -> 10443676 | V5: =IF(OR(LEN(Y5)<1,Y5=0,Y5=9),IF(L5<>0,L5,""),"") -> 9516752 | W5: =IF(OR(LEN(Y5)<1,Y5=0,Y5=9),IF(N5<>0,N5,""),"") | X5: =IF(OR(LEN(Y5)<1,Y5=0,Y5=9),IF(O5<>0,O5,""),"") -> 19960428 | Z5: -9999
A7: 4 | I7: 0 | J7: =TRUNC((I7)*IF(OR(NOT(ISNUMBER(H7)),H7=0),0,H7),0) -> 0 | K7: 0 | L7: =TRUNC((K7)*IF(OR(NOT(ISNUMBER(H7)),H7=0),0,H7),0) -> 0 | M7: 0 | N7: =TRUNC((M7)*IF(OR(NOT(ISNUMBER(H7)),H7=0),0,H7),0) -> 0 | U7: =IF(OR(LEN(Y7)<1,Y7=0,Y7=9),IF(J7<>0,J7,""),"") | V7: =IF(OR(LEN(Y7)<1,Y7=0,Y7=9),IF(L7<>0,L7,""),"") | W7: =IF(OR(LEN(Y7)<1,Y7=0,Y7=9),IF(N7<>0,N7,""),"") | X7: =IF(OR(LEN(Y7)<1,Y7=0,Y7=9),IF(O7<>0,O7,""),"") | Z7: -9999
A8: 5 | I8: 0 | J8: =TRUNC((I8)*IF(OR(NOT(ISNUMBER(H8)),H8=0),0,H8),0) -> 0 | K8: 0 | L8: =TRUNC((K8)*IF(OR(NOT(ISNUMBER(H8)),H8=0),0,H8),0) -> 0 | M8: 0 | N8: =TRUNC((M8)*IF(OR(NOT(ISNUMBER(H8)),H8=0),0,H8),0) -> 0 | U8: =IF(OR(LEN(Y8)<1,Y8=0,Y8=9),IF(J8<>0,J8,""),"") | V8: =IF(OR(LEN(Y8)<1,Y8=0,Y8=9),IF(L8<>0,L8,""),"") | W8: =IF(OR(LEN(Y8)<1,Y8=0,Y8=9),IF(N8<>0,N8,""),"") | X8: =IF(OR(LEN(Y8)<1,Y8=0,Y8=9),IF(O8<>0,O8,""),"") | Z8: -9999
A9: 6 | I9: 0 | J9: =TRUNC((I9)*IF(OR(NOT(ISNUMBER(H9)),H9=0),0,H9),0) -> 0 | K9: 0 | L9: =TRUNC((K9)*IF(OR(NOT(ISNUMBER(H9)),H9=0),0,H9),0) -> 0 | M9: 0 | N9: =TRUNC((M9)*IF(OR(NOT(ISNUMBER(H9)),H9=0),0,H9),0) -> 0 | U9: =IF(OR(LEN(Y9)<1,Y9=0,Y9=9),IF(J9<>0,J9,""),"") | V9: =IF(OR(LEN(Y9)<1,Y9=0,Y9=9),IF(L9<>0,L9,""),"") | W9: =IF(OR(LEN(Y9)<1,Y9=0,Y9=9),IF(N9<>0,N9,""),"") | X9: =IF(OR(LEN(Y9)<1,Y9=0,Y9=9),IF(O9<>0,O9,""),"") | Z9: -9999
A10: 7 | I10: 0 | J10: =TRUNC((I10)*IF(OR(NOT(ISNUMBER(H10)),H10=0),0,H10),0) -> 0 | K10: 0 | L10: =TRUNC((K10)*IF(OR(NOT(ISNUMBER(H10)),H10=0),0,H10),0) -> 0 | M10: 0 | N10: =TRUNC((M10)*IF(OR(NOT(ISNUMBER(H10)),H10=0),0,H10),0) -> 0 | U10: =IF(OR(LEN(Y10)<1,Y10=0,Y10=9),IF(J10<>0,J10,""),"") | V10: =IF(OR(LEN(Y10)<1,Y10=0,Y10=9),IF(L10<>0,L10,""),"") | W10: =IF(OR(LEN(Y10)<1,Y10=0,Y10=9),IF(N10<>0,N10,""),"") | X10: =IF(OR(LEN(Y10)<1,Y10=0,Y10=9),IF(O10<>0,O10,""),"") | Z10: -9999
A11: 8 | I11: 0 | J11: =TRUNC((I11)*IF(OR(NOT(ISNUMBER(H11)),H11=0),0,H11),0) -> 0 | K11: 0 | L11: =TRUNC((K11)*IF(OR(NOT(ISNUMBER(H11)),H11=0),0,H11),0) -> 0 | M11: 0 | N11: =TRUNC((M11)*IF(OR(NOT(ISNUMBER(H11)),H11=0),0,H11),0) -> 0 | U11: =IF(OR(LEN(Y11)<1,Y11=0,Y11=9),IF(J11<>0,J11,""),"") | V11: =IF(OR(LEN(Y11)<1,Y11=0,Y11=9),IF(L11<>0,L11,""),"") | W11: =IF(OR(LEN(Y11)<1,Y11=0,Y11=9),IF(N11<>0,N11,""),"") | X11: =IF(OR(LEN(Y11)<1,Y11=0,Y11=9),IF(O11<>0,O11,""),"") | Z11: -9999
A12: 9 | I12: 0 | J12: =TRUNC((I12)*IF(OR(NOT(ISNUMBER(H12)),H12=0),0,H12),0) -> 0 | K12: 0 | L12: =TRUNC((K12)*IF(OR(NOT(ISNUMBER(H12)),H12=0),0,H12),0) -> 0 | M12: 0 | N12: =TRUNC((M12)*IF(OR(NOT(ISNUMBER(H12)),H12=0),0,H12),0) -> 0 | U12: =IF(OR(LEN(Y12)<1,Y12=0,Y12=9),IF(J12<>0,J12,""),"") | V12: =IF(OR(LEN(Y12)<1,Y12=0,Y12=9),IF(L12<>0,L12,""),"") | W12: =IF(OR(LEN(Y12)<1,Y12=0,Y12=9),IF(N12<>0,N12,""),"") | X12: =IF(OR(LEN(Y12)<1,Y12=0,Y12=9),IF(O12<>0,O12,""),"") | Z12: -9999
A13: 10 | I13: 0 | J13: =TRUNC((I13)*IF(OR(NOT(ISNUMBER(H13)),H13=0),0,H13),0) -> 0 | K13: 0 | L13: =TRUNC((K13)*IF(OR(NOT(ISNUMBER(H13)),H13=0),0,H13),0) -> 0 | M13: 0 | N13: =TRUNC((M13)*IF(OR(NOT(ISNUMBER(H13)),H13=0),0,H13),0) -> 0 | U13: =IF(OR(LEN(Y13)<1,Y13=0,Y13=9),IF(J13<>0,J13,""),"") | V13: =IF(OR(LEN(Y13)<1,Y13=0,Y13=9),IF(L13<>0,L13,""),"") | W13: =IF(OR(LEN(Y13)<1,Y13=0,Y13=9),IF(N13<>0,N13,""),"") | X13: =IF(OR(LEN(Y13)<1,Y13=0,Y13=9),IF(O13<>0,O13,""),"") | Z13: -9999
A18: 11 | I18: 0 | J18: =TRUNC((I18)*IF(OR(NOT(ISNUMBER(H18)),H18=0),0,H18),0) -> 0 | K18: 0 | L18: =TRUNC((K18)*IF(OR(NOT(ISNUMBER(H18)),H18=0),0,H18),0) -> 0 | M18: 0 | N18: =TRUNC((M18)*IF(OR(NOT(ISNUMBER(H18)),H18=0),0,H18),0) -> 0 | U18: =IF(OR(LEN(Y18)<1,Y18=0,Y18=9),IF(J18<>0,J18,""),"") | V18: =IF(OR(LEN(Y18)<1,Y18=0,Y18=9),IF(L18<>0,L18,""),"") | W18: =IF(OR(LEN(Y18)<1,Y18=0,Y18=9),IF(N18<>0,N18,""),"") | X18: =IF(OR(LEN(Y18)<1,Y18=0,Y18=9),IF(O18<>0,O18,""),"") | Z18: -9999
A19: 17 | I19: 0 | J19: =TRUNC((I19)*IF(OR(NOT(ISNUMBER(H19)),H19=0),0,H19),0) -> 0 | K19: 0 | L19: =TRUNC((K19)*IF(OR(NOT(ISNUMBER(H19)),H19=0),0,H19),0) -> 0 | M19: 0 | N19: =TRUNC((M19)*IF(OR(NOT(ISNUMBER(H19)),H19=0),0,H19),0) -> 0 | U19: =IF(OR(LEN(Y19)<1,Y19=0,Y19=9),IF(J19<>0,J19,""),"") | V19: =IF(OR(LEN(Y19)<1,Y19=0,Y19=9),IF(L19<>0,L19,""),"") | W19: =IF(OR(LEN(Y19)<1,Y19=0,Y19=9),IF(N19<>0,N19,""),"") | X19: =IF(OR(LEN(Y19)<1,Y19=0,Y19=9),IF(O19<>0,O19,""),"") | Z19: -9999
A20: 18 | I20: 0 | J20: =TRUNC((I20)*IF(OR(NOT(ISNUMBER(H20)),H20=0),0,H20),0) -> 0 | K20: 0 | L20: =TRUNC((K20)*IF(OR(NOT(ISNUMBER(H20)),H20=0),0,H20),0) -> 0 | M20: 0 | N20: =TRUNC((M20)*IF(OR(NOT(ISNUMBER(H20)),H20=0),0,H20),0) -> 0 | U20: =IF(OR(LEN(Y20)<1,Y20=0,Y20=9),IF(J20<>0,J20,""),"") | V20: =IF(OR(LEN(Y20)<1,Y20=0,Y20=9),IF(L20<>0,L20,""),"") | W20: =IF(OR(LEN(Y20)<1,Y20=0,Y20=9),IF(N20<>0,N20,""),"") | X20: =IF(OR(LEN(Y20)<1,Y20=0,Y20=9),IF(O20<>0,O20,""),"") | Z20: -9999
A21: 19 | I21: 0 | J21: =TRUNC((I21)*IF(OR(NOT(ISNUMBER(H21)),H21=0),0,H21),0) -> 0 | K21: 0 | L21: =TRUNC((K21)*IF(OR(NOT(ISNUMBER(H21)),H21=0),0,H21),0) -> 0 | M21: 0 | N21: =TRUNC((M21)*IF(OR(NOT(ISNUMBER(H21)),H21=0),0,H21),0) -> 0 | U21: =IF(OR(LEN(Y21)<1,Y21=0,Y21=9),IF(J21<>0,J21,""),"") | V21: =IF(OR(LEN(Y21)<1,Y21=0,Y21=9),IF(L21<>0,L21,""),"") | W21: =IF(OR(LEN(Y21)<1,Y21=0,Y21=9),IF(N21<>0,N21,""),"") | X21: =IF(OR(LEN(Y21)<1,Y21=0,Y21=9),IF(O21<>0,O21,""),"") | Z21: -9999
A22: 20 | I22: 0 | J22: =TRUNC((I22)*IF(OR(NOT(ISNUMBER(H22)),H22=0),0,H22),0) -> 0 | K22: 0 | L22: =TRUNC((K22)*IF(OR(NOT(ISNUMBER(H22)),H22=0),0,H22),0) -> 0 | M22: 0 | N22: =TRUNC((M22)*IF(OR(NOT(ISNUMBER(H22)),H22=0),0,H22),0) -> 0 | U22: =IF(OR(LEN(Y22)<1,Y22=0,Y22=9),IF(J22<>0,J22,""),"") | V22: =IF(OR(LEN(Y22)<1,Y22=0,Y22=9),IF(L22<>0,L22,""),"") | W22: =IF(OR(LEN(Y22)<1,Y22=0,Y22=9),IF(N22<>0,N22,""),"") | X22: =IF(OR(LEN(Y22)<1,Y22=0,Y22=9),IF(O22<>0,O22,""),"") | Z22: -9999
... A27: 27 | I27: 0 | J27: =TRUNC((I27)*IF(OR(NOT(ISNUMBER(H27)),H27=0),0,H27),0) -> 0 | K27: 0 | L27: =TRUNC((K27)*IF(OR(NOT(ISNUMBER(H27)),H27=0),0,H27),0) -> 0 | M27: 0 | N27: =TRUNC((M27)*IF(OR(NOT(ISNUMBER(H27)),H27=0),0,H27),0) -> 0 | U27: =IF(OR(LEN(Y27)<1,Y27=0,Y27=9),IF(J27<>0,J27,""),"") | V27: =IF(OR(LEN(Y27)<1,Y27=0,Y27=9),IF(L27<>0,L27,""),"") | W27: =IF(OR(LEN(Y27)<1,Y27=0,Y27=9),IF(N27<>0,N27,""),"") | X27: =IF(OR(LEN(Y27)<1,Y27=0,Y27=9),IF(O27<>0,O27,""),"") | Z27: -9999
A28: 28 | B28: ETOT | D28: 합 계 | J28: =J4 -> 10443676 | L28: =L4 -> 9516752 | N28: =N4 -> 0 | O28: =SUM(J28,L28,N28) -> 19960428 | U28: =IF(OR(LEN(Y28)<1,Y28=0,Y28=9),IF(J28<>0,J28,""),"") -> 10443676 | V28: =IF(OR(LEN(Y28)<1,Y28=0,Y28=9),IF(L28<>0,L28,""),"") -> 9516752 | W28: =IF(OR(LEN(Y28)<1,Y28=0,Y28=9),IF(N28<>0,N28,""),"") | X28: =IF(OR(LEN(Y28)<1,Y28=0,Y28=9),IF(O28<>0,O28,""),"") -> 19960428 | Z28: -99999

Sheet 내역서
A1: 내역서
A2: 품명 | B2: 규격 | C2: 단위 | D2: 수량 | E2: 재 료 비 | G2: 노 무 비 | I2: 경 비 | K2: 합 계 | L2: 비 고
E3: 단 가 | F3: 금 액 | G3: 단 가 | H3: 금 액 | I3: 단 가 | J3: 금 액
A4: =총괄표!D5 -> 1-1. LED 생장등 설치 및 기타 전기공사
A5: =단가조사!A5 -> 조명기구 생장등 | B5: =단가조사!B5 -> LED 150W,체인 연결부속 포함 | C5: =단가조사!C5 -> EA | D5: =노임근거!I5 -> 27 | E5: =단가조사!D5 -> 260000 | F5: =TRUNC(E5*D5) -> 7020000 | K5: =SUM(F5,H5,J5) -> 7020000
A6: =단가조사!A6 -> 전등 분전함 | B6: =단가조사!B6 -> 600*700*150 | C6: =단가조사!C6 -> 면 | D6: =노임근거!I6 -> 1 | E6: =단가조사!D6 -> 1800000 | F6: =TRUNC(E6*D6) -> 1800000 | K6: =SUM(F6,H6,J6) -> 1800000
A7: =단가조사!A7 -> 1종 금속제 가요전선관 | B7: =단가조사!B7 -> 1종 금속제 가요전선관, 22mm, 방수 | C7: =단가조사!C7 -> M | D7: =노임근거!I7 -> 290 | E7: =단가조사!D7 -> 1380 | F7: =TRUNC(E7*D7) -> 400200 | K7: =SUM(F7,H7,J7) -> 400200
A8: =단가조사!A8 -> 방수용콘넥타 | B8: =단가조사!B8 -> 22㎜, 방수형 | C8: =단가조사!C8 -> EA | D8: 60 | E8: =단가조사!D8 -> 1000 | F8: =TRUNC(E8*D8) -> 60000 | K8: =SUM(F8,H8,J8) -> 60000
A9: =단가조사!A9 -> 600V 폴리에틸렌 케이블 | B9: =단가조사!B9 -> 600V폴리에틸렌케이블, 0.6/1kv, F-CV, 3C*2.5㎟ | C9: =단가조사!C9 -> M | D9: =노임근거!I8 -> 300 | E9: =단가조사!D9 -> 2280 | F9: =TRUNC(E9*D9) -> 684000 | K9: =SUM(F9,H9,J9) -> 684000
A10: =단가조사!A10 -> 0.6/1kV 가교폴리에틸렌 케이블 | B10: =단가조사!B10 -> 0.6/1kV 가교폴리에틸렌, F-CV 10SQ*4C | C10: =단가조사!C10 -> M | D10: =노임근거!I9 -> 10 | E10: =단가조사!D10 -> 9134 | F10: =TRUNC(E10*D10) -> 91340
A11: =단가조사!A11 -> 0.6/1kV 가교폴리에틸렌 접지용전선 | B11: =단가조사!B11 -> 0.6/1kV, F-GV 10SQ | C11: =단가조사!C11 -> M | D11: =노임근거!I10 -> 10 | E11: =단가조사!D11 -> 2616 | F11: =TRUNC(E11*D11) -> 26160
A12: =단가조사!A12 -> 아웃렛박스 | B12: =단가조사!B12 -> 아웃렛 박스, 8각, 54mm | C12: =단가조사!C12 -> EA | D12: =노임근거!I11 -> 30 | E12: =단가조사!D12 -> 845 | F12: =TRUNC(E12*D12) -> 25350
A13: =단가조사!A13 -> 아웃렛박스 | B13: =단가조사!B13 -> 아웃렛 박스, 커버, 8각, 둥근구멍, 평 | C13: =단가조사!C13 -> EA | D13: 30 | E13: =단가조사!D13 -> 343 | F13: =TRUNC(E13*D13) -> 10290
A14: =단가조사!A14 -> 강제전선관용부품 | B14: =단가조사!B14 -> 새들, 22㎜ | C14: =단가조사!C14 -> EA | D14: 150 | E14: =단가조사!D14 -> 104 | F14: =TRUNC(E14*D14) -> 15600
A15: =단가조사!A15 -> 0 | B15: =단가조사!B15 -> 0
A16: 노무비 | B16: 내선전공 | C16: 인 | D16: =노임근거!U6 -> 27.8944 | G16: 273676 | H16: =TRUNC(G16*D16) -> 7634027
A17: 노무비 | B17: 저압케이블전공 | C17: 인 | D17: =노임근거!U7 -> 6.19 | G17: 304156 | H17: =TRUNC(G17*D17) -> 1882725
A18: =단가조사!A17 -> 0
A19: 잡재료비 | B19: 배관 및 배선의 2% | C19: 식 | D19: 1 | E19: =TRUNC(SUM(F7:F11))*2% -> 25234 | F19: =TRUNC(E19*D19) -> 25234
A20: 공구손료 | B20: 노무비의 3% | C20: 식 | D20: 1 | E20: =TRUNC(SUM(H16:H17))*3% -> 285502.56 | F20: =TRUNC(E20*D20) -> 285502 | K20: =SUM(F20,H20,J20) -> 285502
A21: =단가조사!A20 -> 0
A34: 합 계 | F34: =SUM(F5:F32) -> 10443676 | H34: =SUM(H6:H32) -> 9516752 | K34: =SUM(F34,H34,J34) -> 19960428

Sheet 노임근거
C1: 노임 산출근거
A2: 번호 | B2: 공종코드 | C2: 코드 | D2: 품명 | E2: 규격 | F2: 단위 | G2: 수량 | J2: 공량산출 | N2: 품셈근거 | O2: 비고
G3: 결정수량 | H3: 할증 | I3: 산출수량 | J3: 명칭 | K3: 품셈 | L3: 할증 | M3: 공량
A4: 1 | D4: =총괄표!D5 -> 1-1. LED 생장등 설치 및 기타 전기공사 | S4: 1
D5: =단가조사!A5 -> 조명기구 생장등 | E5: =단가조사!B5 -> LED 150W,체인 연결부속 포함 | F5: =단가조사!C5 -> EA | G5: 27 | H5: 0 | I5: =G5+(G5*H5) -> 27 | J5: 내선전공 | K5: 0.269 | L5: 0.8 | M5: =(I5*K5)*L5 -> 5.8104 | N5: 전기 5-26-4
D6: =단가조사!A6 -> 전등 분전함 | E6: =단가조사!B6 -> 600*700*150 | F6: =단가조사!C6 -> 면 | G6: 1 | H6: 0 | I6: =G6+(G6*H6) -> 1 | J6: 내선전공 | K6: 0.43 | L6: 1 | M6: =(I6*K6)*L6 -> 0.43 | N6: 전기 5-18 | U6: =SUM(M5,M6,M7,M10,M11) -> 27.8944 | V6: 내선
D7: =단가조사!A7 -> 1종 금속제 가요전선관 | E7: =단가조사!B7 -> 1종 금속제 가요전선관, 22mm, 방수 | F7: =단가조사!C7 -> M | G7: 290 | H7: 0 | I7: =G7+(G7*H7) -> 290 | J7: 내선전공 | K7: 0.059 | L7: 0.9 | M7: =(I7*K7)*L7 -> 15.399 | N7: 전기 5-1 | U7: =SUM(M8+M9) -> 6.19 | V7: 저압케이블
D8: =단가조사!A9 -> 600V 폴리에틸렌 케이블 | E8: =단가조사!B9 -> 600V폴리에틸렌케이블, 0.6/1kv, F-CV, 3C*2.5㎟ | F8: =단가조사!C9 -> M | G8: 300 | H8: 0 | I8: =G8+(G8*H8) -> 300 | J8: 저압케이블전공 | K8: 0.019 | L8: 1 | M8: =(I8*K8)*L8 -> 5.7 | N8: 전기 5-13
D9: =단가조사!A10 -> 0.6/1kV 가교폴리에틸렌 케이블 | E9: =단가조사!B10 -> 0.6/1kV 가교폴리에틸렌, F-CV 10SQ*4C | F9: =단가조사!C10 -> M | G9: 10 | H9: 0 | I9: =G9+(G9*H9) -> 10 | J9: 저압케이블전공 | K9: 0.049 | L9: 1 | M9: =(I9*K9)*L9 -> 0.49 | N9: 전기 5-13 | V9: =원가계산!D26 -> 29318000
A10: 5 | B10: 01 | C10: M7000142627 | D10: =단가조사!A11 -> 0.6/1kV 가교폴리에틸렌 접지용전선 | E10: =단가조사!B11 -> 0.6/1kV, F-GV 10SQ | F10: =단가조사!C11 -> M | G10: 10 | H10: 0 | I10: =G10+(G10*H10) -> 10 | J10: 내선전공 | K10: 0.097 | L10: 1.5 | M10: =(I10*K10)*L10 -> 1.455 | N10: 전기 3-38 | Q10: 0 | R10: 1 | S10: 0 | T10: 4
D11: =단가조사!A12 -> 아웃렛박스 | E11: =단가조사!B12 -> 아웃렛 박스, 8각, 54mm | F11: =단가조사!C12 -> EA | G11: 30 | H11: 0 | I11: =G11+(G11*H11) -> 30 | J11: 내선전공 | K11: 0.2 | L11: 0.8 | M11: =(I11*K11)*L11 -> 4.8 | N11: 전기 5-3
D13: =단가조사!A15 -> 0 | I13: =G13+(G13*H13) -> 0 | M13: =(I13*K13)*L13 -> 0
D16: =단가조사!A16 -> 0 | I16: =G16+(G16*H16) -> 0 | M16: =(I16*K16)*L16 -> 0
D17: =단가조사!A17 -> 0 | E17: =단가조사!B17 -> 0 | I17: =G17+(G17*H17) -> 0 | M17: =(I17*K17)*L17 -> 0
I18: =G18+(G18*H18) -> 0 | M18: =(I18*K18)*L18 -> 0
I19: =G19+(G19*H19) -> 0 | M19: =(I19*K19)*L19 -> 0
I20: =G20+(G20*H20) -> 0 | M20: =(I20*K20)*L20 -> 0
I21: =G21+(G21*H21) -> 0 | M21: =(I21*K21)*L21 -> 0
I22: =G22+(G22*H22) -> 0 | M22: =(I22*K22)*L22 -> 0
I23: =G23+(G23*H23) -> 0 | M23: =(I23*K23)*L23 -> 0
A24: 13 | B24: 01 | C24: 56900017016 | I24: =G24+(G24*H24) -> 0 | M24: =(I24*K24)*L24 -> 0 | Q24: 0 | R24: 1 | S24: 0 | T24: 12
I25: =G25+(G25*H25) -> 0 | M25: =(I25*K25)*L25 -> 0
A26: 14 | B26: 01 | I26: =G26+(G26*H26) -> 0 | M26: =(I26*K26)*L26 -> 0 | Q26: 0 | R26: 1 | S26: 0 | T26: -9999
A27: 15 | B27: 01 | I27: =G27+(G27*H27) -> 0 | M27: =(I27*K27)*L27 -> 0 | Q27: 0 | R27: 1 | S27: 0 | T27: -9999

Sheet 단가조사
A1: 단가조사표
A2: 품명 | B2: 규격 | C2: 단위 | D2: 적용단가 | E2: 1 유통물가 | G2: 2 물가자료 | I2: 3 거래가격 | K2: 4 조사가격 | M2: 비고
E3: 단가 | F3: PAGE | G3: 단가 | H3: PAGE | I3: 단가3 | J3: PAGE | K3: 단가 | L3: PAGE
A5: 조명기구 생장등 | B5: LED 150W,체인 연결부속 포함 | C5: EA | D5: =MIN(E5,G5,I5,K5) -> 260000 | K5: 260000
A6: 전등 분전함 | B6: 600*700*150 | C6: 면 | D6: =MIN(E6,G6,I6,K6) -> 1800000 | K6: 1800000 | M6: 시세적용
A7: 1종 금속제 가요전선관 | B7: 1종 금속제 가요전선관, 22mm, 방수 | C7: M | D7: =MIN(E7,G7,I7,K7) -> 1380 | E7: 1380 | F7: 860 | V7: MIN(B7:B13)
A8: 방수용콘넥타 | B8: 22㎜, 방수형 | C8: EA | D8: =MIN(E8,G8,I8,K8) -> 1000 | E8: 1000 | F8: 860
A9: 600V 폴리에틸렌 케이블 | B9: 600V폴리에틸렌케이블, 0.6/1kv, F-CV, 3C*2.5㎟ | C9: M | D9: =MIN(E9,G9,I9,K9) -> 2280 | E9: 2280 | F9: 834 | V9: =원가계산!D27 -> 29318000
A10: 0.6/1kV 가교폴리에틸렌 케이블 | B10: 0.6/1kV 가교폴리에틸렌, F-CV 10SQ*4C | C10: M | D10: =MIN(E10,G10,I10,K10) -> 9134 | E10: 9134 | F10: 834 | V10: =원가계산!D26 -> 29318000
A11: 0.6/1kV 가교폴리에틸렌 접지용전선 | B11: 0.6/1kV, F-GV 10SQ | C11: M | D11: =MIN(E11,G11,I11,K11) -> 2616 | E11: 2616 | F11: 833
A12: 아웃렛박스 | B12: 아웃렛 박스, 8각, 54mm | C12: EA | D12: =MIN(E12,G12,I12,K12) -> 845 | E12: 845 | F12: 873
A13: 아웃렛박스 | B13: 아웃렛 박스, 커버, 8각, 둥근구멍, 평 | C13: EA | D13: =MIN(E13,G13,I13,K13) -> 343 | E13: 343 | F13: 873
A14: 강제전선관용부품 | B14: 새들, 22㎜ | C14: EA | D14: =MIN(E14,G14,I14,K14) -> 104 | E14: 104 | F14: 864
