Workbook
Name ___________aab42: #REF!
Name __________aab42: #REF!
Name __________DIA1: #REF!
Name __________DIA2: #REF!
Name __________DIA4: #REF!
Name __________pa1: #REF!
Name __________pa2: #REF!
Name __________Ted1: #REF!
Name __________Ts1: #REF!
Name __________XX6: #REF!
Name __________XX7: #REF!
Name _________DIA1: #REF!
Name _________DIA2: #REF!
Name _________DIA4: #REF!
Name _________GHH1: #REF!
Name _________GHH2: #REF!
Name _________LL1: #REF!
Name _________LL2: #REF!
Name _________LL3: #REF!
Name _________LL4: #REF!
Name _________LL5: #REF!
Name _________pa1: #REF!
Name _________pa2: #REF!
Name _________SBB1: #REF!
Name _________SBB2: #REF!
Name _________SBB3: #REF!
Name _________SBB4: #REF!
Name _________SBB5: #REF!
Name _________SHH1: #REF!
Name _________SHH2: #REF!
Name _________SHH3: #REF!
Name _________ST1: #REF!
Name _________ST2: #REF!
Name _________Ted1: #REF!
Name _________Ts1: #REF!
Name _________TT1: #REF!
Name _________TT2: #REF!
Name _________TT3: #REF!
Name _________Ty1: #REF!
Name _________Ty2: #REF!
Name _________XX6: #REF!
Name _________XX7: #REF!
Name ________a1: '[1]1호맨홀토공'!$R$12
Name ________B2: '[2]단면 (2)'!$K$55
Name ________GHH1: #REF!
Name ________GHH2: #REF!
Name ________IU69997: #REF!
Name ________IU79997: #REF!
Name ________IV65999: #REF!
Name ________IV67999: #REF!
Name ________IV68999: #REF!
Name ________IV69999: #REF!
Name ________IV88888: #REF!
Name ________IV99999: #REF!
Name ________IV999999: #REF!
Name ________LL1: #REF!
Name ________LL2: #REF!
Name ________LL3: #REF!
Name ________LL4: #REF!
Name ________LL5: #REF!

Sheet 원가계산서
A1: 원 가 계 산 서
G2: 공사기간 :착공일로부터 25일
A3: =#REF! -> #REF! | E3: ="금액:"&" "&NUMBERSTRING(G3,1)&"원"&""&"정" -> 금액: 영원정 | G3: =D42 -> 0
A4: 구 분 | D4: 금 액 | E4: 구 성 비 | G4: 비 고
A5: 순 공 사 원 가 | B5: 재료비 | C5: 직 접 재 료 비
C6: 간 접 재 료 비
C7: 작 업 설, 부 산 물(△)
C8: [ 소 계 ]
B9: 노 무 비 | C9: 직 접 노 무 비
C10: 간 접 노 무 비 | E10: 직접노무비 * | F10: 0.191
C11: [ 소 계 ]
B12: 경 비 | C12: 운 반 비
C13: 기 계 경 비
C14: 산 재 보 험 료 | E14: 노무비 * | F14: 0.0356
C15: 고 용 보 험 료 | E15: 노무비 * | F15: 0.0101
C16: 국 민 건 강 보 험 료 | E16: 직접노무비 * | F16: 0.03595
C17: 국 민 연 금 보 험 료 | E17: 직접노무비 * | F17: 0.0475
C18: 노 인 장 기 요 양 보 험 료 | E18: 건강보험료* | F18: 0.1314
C19: 퇴 직 금 공 제 부 금 비 | E19: 직접노무비 * | F19: 0.023
C20: 산 업 안 전 보 건 관 리 비 | E20: (A)적용 | F20: 0.0315 | G20: 산출식 적은금액 적용
C21: (A) | E21: (재료비+직접노무비) * 1.2 * | F21: 0.0315
C22: (B) | E22: (재료비+직접노무비+도관재/1.1)* | F22: 0.0315 | G22: =내역서!F33 -> 0
C23: 기 타 경 비 | E23: (재료비+노무비) * | F23: 0.055
C24: 환 경 보 전 비 | E24: (재료비+직접노무비+기계경비) * | F24: 0.008
C25: 폐 기 물 상 차 비 | E25: (재료비+직접노무비+기계경비) * | F25: 0.008
C26: 건설하도급대금지급보증서발급수수료 | E26: (재료비+직접노무비+기계경비) * | F26: 0.00081
C27: 건설기계대여대금지급보증서발급금액 | E27: (재료비+직접노무비+기계경비) * | F27: 0.0068
C28: 법정부담금(석면분담금)금액 | E28: (노무비) * | F28: 6e-05
C29: 법정분담금(임금채권부담금)금액 | E29: (노무비) * | F29: 0.0009
C30: [ 소 계 ]
A31: 계
A32: 일 반 관 리 비 | E32: 계 * | F32: 0.08
A33: 이 윤 | E33: (노무비+경비+일반관리비) * | F33: 0.15
A34: 안 전 관 리 비
A35: 폐 기 물 처 리 비
A36: 공 급 가 액
A37: 부 가 가 치 세 | E37: 공급가액 * | F37: 0.1
A38: 도 급 금 액
A39: 관급 금액 | B39: 도급자설치 관급자재대
B40: 관급자설치 관급자재대
...

Sheet 내역서
A1: 내 역 서
A2: 공 종 명 | B2: 규 격 | C2: 수량 | D2: 단위 | E2: 재 료 비 | G2: 노 무 비 | I2: 경 비 | K2: 합 계 | M2: 비 고
S3: 할 증 | T3: 화폐변환 | U3: OP값 | V3: EQ | W3: LA | X3: MA | Y3: 금액계상
A4: 청운중학교 외부환경개선 및 기타공사 | B4: 아스팔트 포장 외 | O4: A
A5: 1. 토공 | C5: 1 | D5: 식 | P5: 20 | R5: A001 | BI5: =HYPERLINK("#내역서!A43","A001 →") -> A001 →
A6: 2. 포장공 | C6: 1 | D6: 식 | P6: 30 | R6: A003 | BI6: =HYPERLINK("#내역서!A47","A003 →") -> A003 →
A7: 3. 시설물공 | C7: 1 | D7: 식 | P7: 30 | R7: A003 | BI7: =HYPERLINK("#내역서!A47","A003 →") -> A003 →
A8: 4. 부대공 | C8: 1 | D8: 식 | P8: 45 | R8: A004 | BI8: =HYPERLINK("#내역서!A51","A004 →") -> A004 →
A9: 직 접 공 사 비 | C9: 1 | D9: 식 | P9: 80 | Q9: * | R9: F | X9: LA=LA(10,0,70)_x000D_ MA=MA(10,0,70)_x000D_ EQ=EQ(10,0,70)_x000D_ | AA9: LA+ = | AB9: =내역서!H9*16.5/100 -> 0 | AC9: LA = | AD9: =$AB9 -> 0
A10: 가.간 접 노 무 비 | B10: (직노)X19.1% | C10: 1 | D10: 식 | P10: 90 | R10: F | X10: LA=LA(80)*16.5/100_x000D_ | AA10: EQ+ = | AB10: =(내역서!H9+내역서!H10)*3.56/100 -> 0 | AC10: EQ = | AD10: =$AB10 -> 0
A11: 나.산 재 보 험 료 | B11: (직노+간노)X3.56% | C11: 1 | D11: 식 | P11: 100 | R11: F | X11: EQ=(LA(80)+LA(90))*3.56/100_x000D_ | AA11: EQ+ = | AB11: =(내역서!H9+내역서!H10)*1.01/100 -> 0 | AC11: EQ = | AD11: =$AB11 -> 0
A12: 다.고 용 보 험 료 | B12: (직노+간노)X1.01% | C12: 1 | D12: 식 | P12: 110 | R12: F | X12: EQ=(LA(80)+LA(90))*1.01/100_x000D_ | AA12: EQ+ = | AB12: =내역서!H9*3.545/100 -> 0 | AC12: EQ = | AD12: =$AB12 -> 0
A13: 라.건 강 보 험 료 | B13: (직노)X3.595% | C13: 1 | D13: 식 | P13: 120 | R13: F | X13: EQ=LA(80)*3.545/100_x000D_ | AA13: EQ+ = | AB13: =내역서!H9*4.5/100 -> 0 | AC13: EQ = | AD13: =$AB13 -> 0
A14: 마.연 금 보 험 료 | B14: (직노)X4.75% | C14: 1 | D14: 식 | P14: 130 | R14: F | X14: EQ=LA(80)*4.5/100_x000D_ | AA14: EQ+ = | AB14: =내역서!J13*12.95/100 -> 0 | AC14: EQ = | AD14: =$AB14 -> 0
A15: 바.노인장기요양보험료 | B15: (건보)X13.14% | C15: 1 | D15: 식 | P15: 140 | R15: F | X15: EQ=EQ(120)*12.95/100_x000D_ | AA15: EQ+ = | AB15: =내역서!H9*2.3/100 -> 0 | AC15: EQ = | AD15: =$AB15 -> 0
A16: 사.퇴직금공제부금비 | B16: (직노)X2.3% | C16: 1 | D16: 식 | P16: 150 | R16: F | X16: EQ=LA(80)*2.3/100 | AA16: EQ+ = | AB16: =((내역서!F9+내역서!H9)*3.15/100)*1.2 -> 0 | AC16: EQ = | AD16: =$AB16 -> 0 | BJ16: 점검 안전관리비 (관급비포함계산)
A17: 아.산업안전보건관리비 | B17: (직재+직노)X3.15%X1.2 | C17: 1 | D17: 식 | P17: 180 | R17: F | X17: EQ=((MA(80)+LA(80))*3.15/100)*1.2_x000D_ | AA17: EQ+ = | AB17: =(내역서!F9+내역서!H9+내역서!H10)*5.2/100 -> 0 | AC17: EQ = | AD17: =$AB17 -> 0 | BJ17: =TRUNC((((F9+H9+L158/1.1)*3.15/100)),0) -> 0 | BK17: 보다 작음
A18: 자.기 타 경 비 | B18: (재+노)X5.5% | C18: 1 | D18: 식 | P18: 190 | R18: F | X18: EQ=(MA(80)+LA(80)+LA(90))*5.2/100_x000D_ | AA18: EQ+ = | AB18: =(내역서!F9+내역서!H9+내역서!J9)*0.8/100 -> 0 | AC18: EQ = | AD18: =$AB18 -> 0
A19: 차.환 경 보 전 비 | B19: (재+직노+경)X0.8% | C19: 1 | D19: 식 | P19: 200 | R19: F | X19: EQ=(MA(80)+LA(80)+EQ(80))*0.8/100_x000D_ | AA19: EQ+ = | AB19: =(내역서!F9+내역서!H9+내역서!J9)*0.081/100 -> 0 | AC19: EQ = | AD19: =$AB19 -> 0
A20: 5. 폐기물상차비 | C20: 1 | D20: 식 | P20: 275 | R20: A007 | BI20: =HYPERLINK("#내역서!A67","A007 →") -> A007 →
A21: 카.건설하도급대금지급보증서발급수수료 | B21: (재+직노+경)X0.081% | C21: 1 | D21: 식 | P21: 230 | R21: F | X21: EQ=(MA(80)+LA(80)+EQ(80))*0.081/100_x000D_ | AA21: EQ+ = | AB21: =(내역서!F9+내역서!H9+내역서!J9)*0.68/100 -> 0 | AC21: EQ = | AD21: =$AB21 -> 0
A22: 타.건설기계대여대금발급수수료 | B22: (재+직노+경)X0.68% | C22: 1 | D22: 식 | P22: 240 | R22: F | X22: EQ=(MA(80)+LA(80)+EQ(80))*0.68/100_x000D_ | AA22: LA+ = | AB22: =(내역서!H9+내역서!H10+내역서!H11+내역서!H12+내역서!H13+내역서!H14+내역서!H15+내역서!H16+내역서!H17+내역서!H18+내역서!H19+내역서!H21+내역서!H22) -> 0 | AC22: LA = | AD22: =$AB22 -> 0
A23: 파.법정부담금(석면분담금)금액 | B23: (노무비)X0.006% | C23: 1 | D23: 식 | P23: 240 | R23: F | X23: EQ=(MA(80)+LA(80)+EQ(80))*0.68/100_x000D_ | AA23: LA+ = | AB23: =(내역서!H10+내역서!H11+내역서!H12+내역서!H13+내역서!H14+내역서!H15+내역서!H16+내역서!H17+내역서!H18+내역서!H19+내역서!H20+내역서!H22+내역서!H23) -> 0 | AC23: LA = | AD23: =$AB23 -> 0
A24: 하.법정부담금(임금채권부담금)금액 | B24: (노무비)X0.09% | C24: 1 | D24: 식 | P24: 240 | R24: F | X24: EQ=(MA(80)+LA(80)+EQ(80))*0.68/100_x000D_ | AA24: LA+ = | AB24: =(내역서!H11+내역서!H12+내역서!H13+내역서!H14+내역서!H15+내역서!H16+내역서!H17+내역서!H18+내역서!H19+내역서!H20+내역서!H21+내역서!H23+내역서!H24) -> 0 | AC24: LA = | AD24: =$AB24 -> 0
A25: 순 공 사 비 | C25: 1 | D25: 식 | P25: 250 | Q25: * | R25: F | X25: .LA = LA(80,0,240)_x000D_ .MA = MA(80,0,240)_x000D_ .EQ = EQ(80,0,240)_x000D_ | AA25: EQ+ = | AB25: =(내역서!F25+내역서!H25+내역서!J25)*8/100 -> 0 | AC25: EQ = | AD25: =$AB25 -> 0
A26: 6. 폐기물처리비 | C26: 1 | D26: 식 | P26: 328 | R26: A008 | AA26: LA+ = | AB26: =(내역서!H33+내역서!H26) -> 0 | AC26: LA = | AD26: =$AB26 -> 0 | BI26: =HYPERLINK("#내역서!A70","A008 →") -> A008 → | BJ26: 내역서 분리 예정
A27: 거.일 반 관 리 비 | B27: (재+노+경)X8% | C27: 1 | D27: 식 | P27: 260 | R27: F | X27: .EQ=(MA(250)+LA(250)+EQ(250))*8/100_x000D_ | AA27: EQ+ = | AB27: =(내역서!H25+내역서!J25+내역서!J27)*15/100-INT(828/1.1) -> -752 | AC27: EQ = | AD27: =$AB27 -> -752
A28: 너.이 윤 | B28: (노+경+일반관리비)X15%이내 | C28: 1 | D28: 식 | P28: 270 | R28: F | X28: .EQ=(LA(250)+EQ(250)+EQ(260))*15.0/100-int(828/1.1)_x000D_
A29: 총 공 사 원 가 | C29: 1 | D29: 식 | P29: 280 | Q29: * | R29: F | X29: .LA = LA(250,0,277)_x000D_ .MA = MA(250,0,277)_x000D_ .EQ = EQ(250,0,277)_x000D_ | AA29: LA+ = | AB29: =내역서!H29 -> 0 | AC29: LA = | AD29: =$AB29 -> 0
A30: 공 급 가 액 | C30: 1 | D30: 식 | P30: 300 | Q30: * | R30: F | X30: .LA = LA(280,0,280)_x000D_ .MA = MA(280,0,280)_x000D_ .EQ = EQ(280,0,280)_x000D_ | AA30: EQ+ = | AB30: =(내역서!F30+내역서!H30+내역서!J30)*10/100 -> 0 | AC30: EQ = | AD30: =$AB30 -> 0
A31: 더.부 가 가 치 세 | C31: 1 | D31: 식 | P31: 310 | R31: F | X31: EQ=TOT(300)*10/100_x000D_ | AA31: LA+ = | AB31: =(내역서!H30+내역서!H31) -> 0 | AC31: LA = | AD31: =$AB31 -> 0
A32: 도 급 공 사 비 | C32: 1 | D32: 식 | P32: 320 | Q32: * | R32: F | X32: .LA = LA(300,0,310)_x000D_ .MA = MA(300,0,310)_x000D_ .EQ = EQ(300,0,310)_x000D_ | AA32: MA+ = | AB32: =(내역서!F30+내역서!F31) -> 0 | AC32: MA = | AD32: =$AB32 -> 0
A33: 7. 도급자설치관급자재 | C33: 1 | D33: 식 | P33: 328 | R33: A008 | AA33: LA+ = | AB33: =(내역서!H32+내역서!H33) -> 0 | AC33: LA = | AD33: =$AB33 -> 0 | BI33: =HYPERLINK("#내역서!A70","A008 →") -> A008 → | BJ33: 내역서 분리 예정
A34: 8. 관급자설치관급자재 | C34: 1 | D34: 식 | P34: 328 | R34: A008 | AA34: LA+ = | AB34: =(내역서!H33+내역서!H34) -> 0 | AC34: LA = | AD34: =$AB34 -> 0 | BI34: =HYPERLINK("#내역서!A70","A008 →") -> A008 → | BJ34: 내역서 분리 예정
A35: 총 공 사 비 | C35: 1 | D35: 식 | P35: 350 | Q35: * | R35: F | X35: .LA = LA(320,0,328)_x000D_ .MA = MA(320,0,328)_x000D_ .EQ = EQ(320,0,328)_x000D_ | AA35: MA+ = | AB35: =(내역서!F32+내역서!F33) -> 0 | AC35: MA = | AD35: =$AB35 -> 0
P56: 360 | Q56: S | AA56: EQ+ = | AB56: =(내역서!J32+내역서!J33) -> 0 | AC56: EQ = | AD56: =$AB56 -> 0
A57: 총괄내역서 | B57: 집계표 | C57: 1 | D57: 식 | O57: A0001
A58: 1. 토공 | C58: 1 | D58: 식 | P58: 20 | R58: A001 | BI58: =HYPERLINK("#내역서!A43","A001 →") -> A001 →
A59: 2. 포장공 | C59: 1 | D59: 식 | P59: 35 | R59: A003 | BI59: =HYPERLINK("#내역서!A47","A003 →") -> A003 →
A60: 3. 시설물공 | C60: 1 | D60: 식 | P60: 20 | R60: A001 | BI60: =HYPERLINK("#내역서!A43","A001 →") -> A001 →
...
