Workbook

Sheet 갑지
B2: 과 장 | D2: 팀장 | G2: 심사자 | I2: 설계자 | K2: 설 계 | L2: 2026년 07월 일 | N2: 결 재
K3: 심 사 | L3: 2026년 07월 일 | N3: 월 일
G5: 설 계 내 역 서
D7: 건 명 : 대관B펌프장 제어반이설공사
D9: 구 분 | G9: 금 액 | M9: 비 고
D10: 공 급 가 액 | G10: ="일금"&NUMBERSTRING(K10,1)&"원정" -> 일금이천오백육십사만팔천원정 | K10: =원가계산서!E33 -> 25648000
D11: 부가가치세 | G11: ="일금"&NUMBERSTRING(K11,1)&"원정" -> 일금이백오십육만사천팔백원정 | K11: =원가계산서!E34 -> 2564800
D12: 도 급 금 액 | G12: ="일금"&NUMBERSTRING(K12,1)&"원정" -> 일금이천팔백이십일만이천팔백원정 | K12: =원가계산서!E35 -> 28212800
D13: 관 급 자 재 | G13: ="일금"&NUMBERSTRING(K13,1)&"원정" -> 일금일천일백오만구천사백원정 | K13: =원가계산서!E36 -> 11059400
D14: 표준시설부담금 | G14: ="일금"&NUMBERSTRING(K14,1)&"원정" -> 일금오십팔만오천육백사십원정 | K14: =원가계산서!E37 -> 585640 | M14: 이천시납부
D15: 계 | G15: ="일금"&NUMBERSTRING(K15,1)&"원정" -> 일금삼천구백팔십오만칠천팔백원정 | K15: =ROUNDDOWN(SUM(K12:L14),-2) -> 39857800 | R15: 11059400
D17: 개 요 : | F17: 1. 전기공사 | M17: 1 식 | R17: =K15+R15 -> 50917200
F18: 2. 전동기제어반 | M18: 1면

Sheet 원가계산서
A1: 공 사 원 가 계 산 서
A2: 공사명 : 1.내역서_대관2펌프장 제어반이설공사
A3: 구 분 비 목 | D3: 구 성 비 | E3: 금 액 | F3: 비 고
A5: 순 공 사 원 가 | B5: 재료비 | C5: 직 접 재 료 비 | E5: =ROUNDDOWN(집계표!E20-집계표!AU20, 0) -> 5504125 | G5: A1 | H5: 0 | I5: =E5 -> 5504125
C6: 간 접 재 료 비 | E6: =ROUNDDOWN(E5*H6, 0) -> 0 | G6: A2 | H6: 0 | I6: =E6 -> 0
C7: 작업설.부산물 등(△) | E7: =집계표!S20 -> 0 | G7: A3 | H7: 0 | I7: =E7 -> 0
C8: 소 계 | E8: =SUM(E5:E6)-ABS(E7) -> 5504125 | G8: A | H8: 0 | I8: =E8 -> 5504125
B9: 노무비 | C9: 직 접 노 무 비 | E9: =ROUNDDOWN(집계표!G20, 0) -> 9945724 | G9: B1 | H9: 0 | I9: =E9 -> 9945724
C10: 간 접 노 무 비 | D10: ="직.노*"&H10*100&"%" -> 직.노*19.1% | E10: =ROUNDDOWN(E9*H10, 0) -> 1899633 | G10: B2 | H10: 0.191 | I10: =E10 -> 1899633
C11: 소 계 | E11: =SUM(E9:E10) -> 11845357 | G11: B | H11: 0 | I11: =E11 -> 11845357
B12: 경 비 | C12: 기 계 경 비 | E12: =ROUNDDOWN(집계표!I20, 0) -> 452728 | G12: C4 | H12: 0 | I12: =E12 -> 452728
C13: 산 재 보 험 료 | D13: ="(노)*"&H13*100&"%" -> (노)*3.56% | E13: =ROUNDDOWN((E11)*H13, 0) -> 421694 | G13: C10 | H13: 0.0356 | I13: =E13 -> 421694
C14: 고 용 보 험 료 | D14: ="(노)*"&H14*100&"%" -> (노)*1.01% | E14: =ROUNDDOWN((E11)*H14, 0) -> 119638 | G14: C11 | H14: 0.0101 | I14: =E14 -> 119638
C15: 건 강 보 험 료 | D15: ="(직.노)*"&H15*100&"%" -> (직.노)*3.595% | E15: =ROUNDDOWN((E9)*H15, 0) -> 357548 | G15: C12 | H15: 0.03595 | I15: =E15 -> 357548
C16: 연 금 보 험 료 | D16: ="(직.노)*"&H16*100&"%" -> (직.노)*4.75% | E16: =ROUNDDOWN((E9)*H16, 0) -> 472421 | G16: C13 | H16: 0.0475 | I16: =E16 -> 472421
C17: 노인 장기 요양보험료 | D17: ="(건강보험료)*"&H17*100&"%" -> (건강보험료)*13.14% | E17: =ROUNDDOWN((E15)*H17, 0) -> 46981 | G17: C14 | H17: 0.1314 | I17: =E17 -> 46981
C18: 퇴 직 공 제 부 금 비 | E18: =ROUNDDOWN((E9)*H18, 0) -> 0 | G18: C15 | H18: 0 | I18: =E18 -> 0
C19: 산업 안전 보건관리비 | D19: ="(재+직.노)*"&H19*100&"%"&" " -> (재+직.노)*2.07% | E19: =ROUNDDOWN((E8+E11)*H19, 0) -> 359134 | G19: C16 | H19: 0.0207 | I19: =E19 -> 359134
C20: 기 타 경 비 | D20: ="(재+노)*"&H20*100&"%" -> (재+노)*5.5% | E20: =ROUNDDOWN((E8+E11)*H20, 0) -> 954221 | G20: C20 | H20: 0.055 | I20: =E20 -> 954221
C21: 환 경 보 전 비 | E21: =ROUNDDOWN((E8+E9+E12)*H21, 0) -> 0 | G21: C25 | H21: 0 | I21: =E21 -> 0
C22: 건설하도급보증수수료 | E22: =ROUNDDOWN((E8+E9+E12)*H22, 0) -> 0 | G22: C30 | H22: 0 | I22: =E22 -> 0
C23: 공사 이행 보증수수료 | D23: ="(재+직.노+기.경)*"&H23*100&"%"&"*(6/12)" -> (재+직.노+기.경)*0%*(6/12) | E23: =ROUNDDOWN((E8+E9+E12)*H23*(6/12), 0) -> 0 | G23: C31 | H23: 0 | I23: =E23 -> 0
C24: 건설기계대여보증수수료 | E24: =ROUNDDOWN((E8+E9+E12)*H24, 0) -> 0 | G24: C32 | H24: 0 | I24: =E24 -> 0
C25: 석 면 분 담 금 | D25: ="노*"&H25*100&"%" -> 노*0.006% | E25: =ROUNDDOWN(E11*H25, 0) -> 710 | G25: C21 | H25: 6e-05 | I25: =E25 -> 710
C26: 임금 채권 부담금 | D26: ="노*"&H26*100&"%" -> 노*0.09% | E26: =ROUNDDOWN(E11*H26, 0) -> 10660 | G26: C22 | H26: 0.0009 | I26: =E26 -> 10660
C27: 소 계 | E27: =SUM(E12:E26) -> 3195735 | G27: C | H27: 0 | I27: =E27 -> 3195735
B28: 계 | E28: =E8+E11+E27 -> 20545217 | G28: X | H28: 0 | I28: =E28 -> 20545217
A29: 일 반 관 리 비 | D29: ="(재+노+경)*"&H29*100&"%" -> (재+노+경)*8% | E29: =ROUNDDOWN((E8+E11+E27)*H29, 0) -> 1643617 | G29: D | H29: 0.08 | I29: =E29 -> 1643617
A30: 이 윤 | D30: ="(노+경+일)*"&H30*100&"%" -> (노+경+일)*15% | E30: =ROUNDDOWN((E11+E27+E29)*H30,0) -> 2502706 | G30: E | H30: 0.15 | I30: =(I11+I27+I29)*H30 -> 2502706.4
A31: 폐 기 물 처 리 비 | D31: 5톤이상 ~ 100톤미만 | E31: =ROUNDDOWN(집계표!AF20, 0) -> 902888 | G31: M2 | H31: 0 | I31: =E31 -> 902888
A32: 손해배상보험료 | D32: (순공사원가)*0.26477%(100원미만절사)/최저공제료:20,000원 | E32: =ROUNDDOWN((E28)*H32, -2) -> 54300 | G32: L1 | H32: 0.0026477 | I32: =E32 -> 54300
A33: 총 원 가 | E33: =INT(I33/1000)*1000 -> 25648000 | G33: F | H33: 0 | I33: =SUM(I28:I32) -> 25648728
A34: 부 가 가 치 세 | D34: ="(총원가)*"&H34*100&"%" -> (총원가)*10% | E34: =ROUNDDOWN((E33)*H34, 0) -> 2564800 | G34: H | H34: 0.1 | I34: =ROUNDDOWN((I33)*H34, 0) -> 2564872
A35: 도 급 금 액 | E35: =E33+E34 -> 28212800 | G35: Y | H35: 0 | I35: =I33+I34 -> 28213600
A36: 관 급 자 재 대 | D36: 관급자 설치 | E36: =ROUNDDOWN(집계표!AA20, 0) -> 11059400 | G36: J | H36: 0 | I36: =E36 -> 11059400
A37: 표 준 시 설 부 담 금 | E37: =ROUNDDOWN(집계표!Z20, 0) -> 585640 | G37: K | H37: 0 | I37: =E37 -> 585640
A38: 총 공 사 금 액 | E38: =ROUNDDOWN(E35+E36+E37+0+0, 0) -> 39857840 | H38: 0 | I38: =I35+I36+I37+0+0 -> 39858640

Sheet 집계표
A1: 공 사 집 계 표
A2: 공사명 : 1.내역서_대관2펌프장 제어반이설공사
A3: 품 명 | B3: 단위 | C3: 수량 | D3: 재 료 비 | F3: 노 무 비 | H3: 경 비 | J3: 합 계 | L3: 비고
D4: 단 가 | E4: 금 액 | F4: 단 가 | G4: 금 액 | H4: 단 가 | I4: 금 액 | J4: 단 가 | K4: 금 액 | M4: 손료요율 | N4: 손료구분 | O4: 적용구분 | P4: 합계구분 | Q4: 기계경비 | R4: 운반비 | S4: 작업부산물 | T4: 관급 | U4: 외주비 | V4: 장비비 | W4: 폐기물처리비 | X4: 가설비 | Y4: 잡비제외분 | Z4: 사급자재대 | AA4: 관급자재대 | AB4: 사용자항목1 | AC4: 사용자항목2 | AD4: 안전관리비 | AE4: 품질관리비 | AF4: 작업부산물(철거해체) | AG4: 사용자항목6 | AH4: 사용자항목7 | AI4: 사용자항목8 | AJ4: 사용자항목9 | AK4: 사용자항목10 | AL4: 사용자항목11 | AM4: 사용자항목12 | AN4: 사용자항목13 | AO4: 사용자항목14 | AP4: 사용자항목15 | AQ4: 사용자항목16 | AR4: 사용자항목17 | AS4: 사용자항목18 | AT4: 사용자항목19 | AU4: 간접재료비 | AV4: 품목구분 | AW4: 조달코드 | AX4: 구분
A5: 01. 토목공사 | B5: 식 | C5: 1 | D5: =내역서!F36 -> 1846212 | E5: =C5*D5 -> 1846212 | F5: =내역서!H36 -> 4503871 | G5: =C5*F5 -> 4503871 | H5: =내역서!J36 -> 409952 | I5: =C5*H5 -> 409952 | J5: =D5+F5+H5 -> 6760035 | K5: =E5+G5+I5 -> 6760035 | P5: 1 | Q5: =C5*내역서!R36 -> 409952 | R5: =C5*내역서!S36 -> 0 | S5: =C5*내역서!T36 -> 0 | T5: =C5*내역서!U36 -> 0 | U5: =C5*내역서!V36 -> 0 | V5: =C5*내역서!W36 -> 0 | W5: =C5*내역서!X36 -> 0 | X5: =C5*내역서!Y36 -> 0 | Y5: =C5*내역서!Z36 -> 0 | Z5: =C5*내역서!AA36 -> 0 | AA5: =C5*내역서!AB36 -> 0 | AB5: =C5*내역서!AC36 -> 0 | AC5: =C5*내역서!AD36 -> 0 | AD5: =C5*내역서!AE36 -> 0 | AE5: =C5*내역서!AF36 -> 0 | AF5: =C5*내역서!AG36 -> 0 | AG5: =C5*내역서!AH36 -> 0 | AH5: =C5*내역서!AI36 -> 0 | AI5: =C5*내역서!AJ36 -> 0 | AJ5: =C5*내역서!AK36 -> 0 | AK5: =C5*내역서!AL36 -> 0 | AL5: =C5*내역서!AM36 -> 0 | AM5: =C5*내역서!AN36 -> 0 | AN5: =C5*내역서!AO36 -> 0 | AO5: =C5*내역서!AP36 -> 0 | AP5: =C5*내역서!AQ36 -> 0 | AQ5: =C5*내역서!AR36 -> 0 | AR5: =C5*내역서!AS36 -> 0 | AS5: =C5*내역서!AT36 -> 0 | AT5: =C5*내역서!AU36 -> 0 | AU5: =C5*내역서!AV36 -> 0
A6: 02. 배관배선공사 | B6: 식 | C6: 1 | D6: =내역서!F52 -> 3447068 | E6: =C6*D6 -> 3447068 | F6: =내역서!H52 -> 4153177 | G6: =C6*F6 -> 4153177 | H6: =내역서!J52 -> 0 | I6: =C6*H6 -> 0 | J6: =D6+F6+H6 -> 7600245 | K6: =E6+G6+I6 -> 7600245 | P6: 1 | Q6: =C6*내역서!R52 -> 0 | R6: =C6*내역서!S52 -> 0 | S6: =C6*내역서!T52 -> 0 | T6: =C6*내역서!U52 -> 0 | U6: =C6*내역서!V52 -> 0 | V6: =C6*내역서!W52 -> 0 | W6: =C6*내역서!X52 -> 0 | X6: =C6*내역서!Y52 -> 0 | Y6: =C6*내역서!Z52 -> 0 | Z6: =C6*내역서!AA52 -> 0 | AA6: =C6*내역서!AB52 -> 0 | AB6: =C6*내역서!AC52 -> 0 | AC6: =C6*내역서!AD52 -> 0 | AD6: =C6*내역서!AE52 -> 0 | AE6: =C6*내역서!AF52 -> 0 | AF6: =C6*내역서!AG52 -> 0 | AG6: =C6*내역서!AH52 -> 0 | AH6: =C6*내역서!AI52 -> 0 | AI6: =C6*내역서!AJ52 -> 0 | AJ6: =C6*내역서!AK52 -> 0 | AK6: =C6*내역서!AL52 -> 0 | AL6: =C6*내역서!AM52 -> 0 | AM6: =C6*내역서!AN52 -> 0 | AN6: =C6*내역서!AO52 -> 0 | AO6: =C6*내역서!AP52 -> 0 | AP6: =C6*내역서!AQ52 -> 0 | AQ6: =C6*내역서!AR52 -> 0 | AR6: =C6*내역서!AS52 -> 0 | AS6: =C6*내역서!AT52 -> 0 | AT6: =C6*내역서!AU52 -> 0 | AU6: =C6*내역서!AV52 -> 0
A7: 03. 제어반 이설공사 | B7: 식 | C7: 1 | D7: =내역서!F68 -> 210845 | E7: =C7*D7 -> 210845 | F7: =내역서!H68 -> 1288676 | G7: =C7*F7 -> 1288676 | H7: =내역서!J68 -> 42776 | I7: =C7*H7 -> 42776 | J7: =D7+F7+H7 -> 1542297 | K7: =E7+G7+I7 -> 1542297 | P7: 1 | Q7: =C7*내역서!R68 -> 42776 | R7: =C7*내역서!S68 -> 0 | S7: =C7*내역서!T68 -> 0 | T7: =C7*내역서!U68 -> 0 | U7: =C7*내역서!V68 -> 0 | V7: =C7*내역서!W68 -> 0 | W7: =C7*내역서!X68 -> 0 | X7: =C7*내역서!Y68 -> 0 | Y7: =C7*내역서!Z68 -> 0 | Z7: =C7*내역서!AA68 -> 0 | AA7: =C7*내역서!AB68 -> 0 | AB7: =C7*내역서!AC68 -> 0 | AC7: =C7*내역서!AD68 -> 0 | AD7: =C7*내역서!AE68 -> 0 | AE7: =C7*내역서!AF68 -> 0 | AF7: =C7*내역서!AG68 -> 0 | AG7: =C7*내역서!AH68 -> 0 | AH7: =C7*내역서!AI68 -> 0 | AI7: =C7*내역서!AJ68 -> 0 | AJ7: =C7*내역서!AK68 -> 0 | AK7: =C7*내역서!AL68 -> 0 | AL7: =C7*내역서!AM68 -> 0 | AM7: =C7*내역서!AN68 -> 0 | AN7: =C7*내역서!AO68 -> 0 | AO7: =C7*내역서!AP68 -> 0 | AP7: =C7*내역서!AQ68 -> 0 | AQ7: =C7*내역서!AR68 -> 0 | AR7: =C7*내역서!AS68 -> 0 | AS7: =C7*내역서!AT68 -> 0 | AT7: =C7*내역서!AU68 -> 0 | AU7: =C7*내역서!AV68 -> 0
A8: 04. 폐기물처리비 | B8: 식 | C8: 1 | D8: =내역서!F84 -> 0 | E8: =C8*D8 -> 0 | F8: =내역서!H84 -> 0 | G8: =C8*F8 -> 0 | H8: =내역서!J84 -> 902888 | I8: =C8*H8 -> 902888 | J8: =D8+F8+H8 -> 902888 | K8: =E8+G8+I8 -> 902888 | L8: 합계제외 | Q8: =C8*내역서!R84 -> 0 | R8: =C8*내역서!S84 -> 0 | S8: =C8*내역서!T84 -> 0 | T8: =C8*내역서!U84 -> 0 | U8: =C8*내역서!V84 -> 0 | V8: =C8*내역서!W84 -> 0 | W8: =C8*내역서!X84 -> 0 | X8: =C8*내역서!Y84 -> 0 | Y8: =C8*내역서!Z84 -> 0 | Z8: =C8*내역서!AA84 -> 0 | AA8: =C8*내역서!AB84 -> 0 | AB8: =C8*내역서!AC84 -> 0 | AC8: =C8*내역서!AD84 -> 0 | AD8: =C8*내역서!AE84 -> 0 | AE8: =C8*내역서!AF84 -> 0 | AF8: =C8*내역서!AG84 -> 902888 | AG8: =C8*내역서!AH84 -> 0 | AH8: =C8*내역서!AI84 -> 0 | AI8: =C8*내역서!AJ84 -> 0 | AJ8: =C8*내역서!AK84 -> 0 | AK8: =C8*내역서!AL84 -> 0 | AL8: =C8*내역서!AM84 -> 0 | AM8: =C8*내역서!AN84 -> 0 | AN8: =C8*내역서!AO84 -> 0 | AO8: =C8*내역서!AP84 -> 0 | AP8: =C8*내역서!AQ84 -> 0 | AQ8: =C8*내역서!AR84 -> 0 | AR8: =C8*내역서!AS84 -> 0 | AS8: =C8*내역서!AT84 -> 0 | AT8: =C8*내역서!AU84 -> 0 | AU8: =C8*내역서!AV84 -> 0
A9: 05. 표준시설부담금 | B9: 식 | C9: 1 | D9: =내역서!F100 -> 585640 | E9: =C9*D9 -> 585640 | F9: =내역서!H100 -> 0 | G9: =C9*F9 -> 0 | H9: =내역서!J100 -> 0 | I9: =C9*H9 -> 0 | J9: =D9+F9+H9 -> 585640 | K9: =E9+G9+I9 -> 585640 | L9: 합계제외 | Q9: =C9*내역서!R100 -> 0 | R9: =C9*내역서!S100 -> 0 | S9: =C9*내역서!T100 -> 0 | T9: =C9*내역서!U100 -> 0 | U9: =C9*내역서!V100 -> 0 | V9: =C9*내역서!W100 -> 0 | W9: =C9*내역서!X100 -> 0 | X9: =C9*내역서!Y100 -> 0 | Y9: =C9*내역서!Z100 -> 0 | Z9: =C9*내역서!AA100 -> 585640 | AA9: =C9*내역서!AB100 -> 0 | AB9: =C9*내역서!AC100 -> 0 | AC9: =C9*내역서!AD100 -> 0 | AD9: =C9*내역서!AE100 -> 0 | AE9: =C9*내역서!AF100 -> 0 | AF9: =C9*내역서!AG100 -> 0 | AG9: =C9*내역서!AH100 -> 0 | AH9: =C9*내역서!AI100 -> 0 | AI9: =C9*내역서!AJ100 -> 0 | AJ9: =C9*내역서!AK100 -> 0 | AK9: =C9*내역서!AL100 -> 0 | AL9: =C9*내역서!AM100 -> 0 | AM9: =C9*내역서!AN100 -> 0 | AN9: =C9*내역서!AO100 -> 0 | AO9: =C9*내역서!AP100 -> 0 | AP9: =C9*내역서!AQ100 -> 0 | AQ9: =C9*내역서!AR100 -> 0 | AR9: =C9*내역서!AS100 -> 0 | AS9: =C9*내역서!AT100 -> 0 | AT9: =C9*내역서!AU100 -> 0 | AU9: =C9*내역서!AV100 -> 0
A10: 06. 관급자재대 | B10: 식 | C10: 1 | D10: =내역서!F116 -> 11059400 | E10: =C10*D10 -> 11059400 | F10: =내역서!H116 -> 0 | G10: =C10*F10 -> 0 | H10: =내역서!J116 -> 0 | I10: =C10*H10 -> 0 | J10: =D10+F10+H10 -> 11059400 | K10: =E10+G10+I10 -> 11059400 | L10: 합계제외 | Q10: =C10*내역서!R116 -> 0 | R10: =C10*내역서!S116 -> 0 | S10: =C10*내역서!T116 -> 0 | T10: =C10*내역서!U116 -> 0 | U10: =C10*내역서!V116 -> 0 | V10: =C10*내역서!W116 -> 0 | W10: =C10*내역서!X116 -> 0 | X10: =C10*내역서!Y116 -> 0 | Y10: =C10*내역서!Z116 -> 0 | Z10: =C10*내역서!AA116 -> 0 | AA10: =C10*내역서!AB116 -> 11059400 | AB10: =C10*내역서!AC116 -> 0 | AC10: =C10*내역서!AD116 -> 0 | AD10: =C10*내역서!AE116 -> 0 | AE10: =C10*내역서!AF116 -> 0 | AF10: =C10*내역서!AG116 -> 0 | AG10: =C10*내역서!AH116 -> 0 | AH10: =C10*내역서!AI116 -> 0 | AI10: =C10*내역서!AJ116 -> 0 | AJ10: =C10*내역서!AK116 -> 0 | AK10: =C10*내역서!AL116 -> 0 | AL10: =C10*내역서!AM116 -> 0 | AM10: =C10*내역서!AN116 -> 0 | AN10: =C10*내역서!AO116 -> 0 | AO10: =C10*내역서!AP116 -> 0 | AP10: =C10*내역서!AQ116 -> 0 | AQ10: =C10*내역서!AR116 -> 0 | AR10: =C10*내역서!AS116 -> 0 | AS10: =C10*내역서!AT116 -> 0 | AT10: =C10*내역서!AU116 -> 0 | AU10: =C10*내역서!AV116 -> 0
A20: 합 계 | E20: =SUMIF(P5:P10, "1", E5:E10) -> 5504125 | G20: =SUMIF(P5:P10, "1", G5:G10) -> 9945724 | I20: =SUMIF(P5:P10, "1", I5:I10) -> 452728 | K20: =E20+G20+I20 -> 15902577 | Q20: =SUM(Q5:Q10) -> 452728 | R20: =SUM(R5:R10) -> 0 | S20: =SUM(S5:S10) -> 0 | T20: =SUM(T5:T10) -> 0 | U20: =SUM(U5:U10) -> 0 | V20: =SUM(V5:V10) -> 0 | W20: =SUM(W5:W10) -> 0 | X20: =SUM(X5:X10) -> 0 | ... AX20: =SUM(AX5:AX10) -> 0

Sheet 내역서
A1: 공 사 내 역 서
A2: 공사명 : 1.내역서_대관2펌프장 제어반이설공사
A3: 품 명 | B3: 규 격 | C3: 단위 | D3: 수 량 | E3: 재 료 비 | G3: 노 무 비 | I3: 경 비 | K3: 합 계 | M3: 비고
E4: 단 가 | F4: 금 액 | G4: 단 가 | H4: 금 액 | I4: 단 가 | J4: 금 액 | K4: 단 가 | L4: 금 액 | N4: 손료요율 | O4: 손료구분 | P4: 적용구분 | Q4: 합계구분 | R4: 기계경비 | S4: 운반비 | T4: 작업부산물 | U4: 관급 | V4: 외주비 | W4: 장비비 | X4: 폐기물처리비 | Y4: 가설비 | Z4: 잡비제외분 | AA4: 사급자재대 | AB4: 관급자재대 | AC4: 사용자항목1 | AD4: 사용자항목2 | AE4: 안전관리비 | AF4: 품질관리비 | AG4: 작업부산물(철거해체) | AH4: 사용자항목6 | AI4: 사용자항목7 | AJ4: 사용자항목8 | AK4: 사용자항목9 | AL4: 사용자항목10 | AM4: 사용자항목11 | AN4: 사용자항목12 | AO4: 사용자항목13 | AP4: 사용자항목14 | AQ4: 사용자항목15 | AR4: 사용자항목16 | AS4: 사용자항목17 | AT4: 사용자항목18 | AU4: 사용자항목19 | AV4: 간접재료비 | AW4: 품목구분 | AX4: 조달코드 | AY4: 구분
A5: 01. 토목공사
A6: 포장절단 | B6: 콘크리트(기계) | C6: M | D6: 43 | E6: =단가산출서목록!G5 -> 693 | F6: =ROUNDDOWN(D6*E6, 0) -> 29799 | G6: =단가산출서목록!I5 -> 28065 | H6: =ROUNDDOWN(D6*G6, 0) -> 1206795 | I6: =단가산출서목록!K5 -> 29 | J6: =ROUNDDOWN(D6*I6, 0) -> 1247 | K6: =E6+G6+I6 -> 28787 | L6: =F6+H6+J6 -> 1237841 | M6: 단산 1호 | O6: ="" | P6: 기계경비 | Q6: 1 | R6: =IF(P6="기계경비", J6, 0) -> 1247 | S6: =IF(P6="운반비", L6, 0) -> 0 | T6: =IF(P6="작업부산물", F6, 0) -> 0 | U6: =IF(P6="관급", F6, 0) -> 0 | V6: =IF(P6="외주비", J6, 0) -> 0 | W6: =IF(P6="장비비", J6, 0) -> 0 | X6: =IF(P6="폐기물처리비", L6, 0) -> 0 | Y6: =IF(P6="가설비", J6, 0) -> 0 | Z6: =IF(P6="잡비제외분", F6, 0) -> 0 | AA6: =IF(P6="사급자재대", L6, 0) -> 0 | AB6: =IF(P6="관급자재대", L6, 0) -> 0 | AC6: =IF(P6="사용자항목1", L6, 0) -> 0 | AD6: =IF(P6="사용자항목2", L6, 0) -> 0 | AE6: =IF(P6="안전관리비", L6, 0) -> 0 | AF6: =IF(P6="품질관리비", L6, 0) -> 0 | AG6: =IF(P6="작업부산물(철거해체)", L6, 0) -> 0 | AH6: =IF(P6="사용자항목6", L6, 0) -> 0 | AI6: =IF(P6="사용자항목7", L6, 0) -> 0 | AJ6: =IF(P6="사용자항목8", L6, 0) -> 0 | AK6: =IF(P6="사용자항목9", L6, 0) -> 0 | AL6: =IF(P6="사용자항목10", L6, 0) -> 0 | AM6: =IF(P6="사용자항목11", L6, 0) -> 0 | AN6: =IF(P6="사용자항목12", L6, 0) -> 0 | AO6: =IF(P6="사용자항목13", L6, 0) -> 0 | AP6: =IF(P6="사용자항목14", L6, 0) -> 0 | AQ6: =IF(P6="사용자항목15", L6, 0) -> 0 | AR6: =IF(P6="사용자항목16", L6, 0) -> 0 | AS6: =IF(P6="사용자항목17", L6, 0) -> 0 | AT6: =IF(P6="사용자항목18", L6, 0) -> 0 | AU6: =IF(P6="사용자항목19", L6, 0) -> 0
A7: 인력 터파기 | B7: 보통토사, 깊이 1m 미만 | C7: M3 | D7: 16 | E7: =일위대가목록!G5 -> 1032 | F7: =ROUNDDOWN(D7*E7, 0) -> 16512 | G7: =일위대가목록!I5 -> 34413 | H7: =ROUNDDOWN(D7*G7, 0) -> 550608 | I7: =일위대가목록!K5 -> 0 | J7: =ROUNDDOWN(D7*I7, 0) -> 0 | K7: =E7+G7+I7 -> 35445 | L7: =F7+H7+J7 -> 567120 | M7: 일위 1호 | O7: ="" | P7: 기계경비 | Q7: 1 | R7: =IF(P7="기계경비", J7, 0) -> 0 | S7: =IF(P7="운반비", L7, 0) -> 0 | T7: =IF(P7="작업부산물", F7, 0) -> 0 | U7: =IF(P7="관급", F7, 0) -> 0 | V7: =IF(P7="외주비", J7, 0) -> 0 | W7: =IF(P7="장비비", J7, 0) -> 0 | X7: =IF(P7="폐기물처리비", L7, 0) -> 0 | Y7: =IF(P7="가설비", J7, 0) -> 0 | Z7: =IF(P7="잡비제외분", F7, 0) -> 0 | AA7: =IF(P7="사급자재대", L7, 0) -> 0 | AB7: =IF(P7="관급자재대", L7, 0) -> 0 | AC7: =IF(P7="사용자항목1", L7, 0) -> 0 | AD7: =IF(P7="사용자항목2", L7, 0) -> 0 | AE7: =IF(P7="안전관리비", L7, 0) -> 0 | AF7: =IF(P7="품질관리비", L7, 0) -> 0 | AG7: =IF(P7="작업부산물(철거해체)", L7, 0) -> 0 | AH7: =IF(P7="사용자항목6", L7, 0) -> 0 | AI7: =IF(P7="사용자항목7", L7, 0) -> 0 | AJ7: =IF(P7="사용자항목8", L7, 0) -> 0 | AK7: =IF(P7="사용자항목9", L7, 0) -> 0 | AL7: =IF(P7="사용자항목10", L7, 0) -> 0 | AM7: =IF(P7="사용자항목11", L7, 0) -> 0 | AN7: =IF(P7="사용자항목12", L7, 0) -> 0 | AO7: =IF(P7="사용자항목13", L7, 0) -> 0 | AP7: =IF(P7="사용자항목14", L7, 0) -> 0 | AQ7: =IF(P7="사용자항목15", L7, 0) -> 0 | AR7: =IF(P7="사용자항목16", L7, 0) -> 0 | AS7: =IF(P7="사용자항목17", L7, 0) -> 0 | AT7: =IF(P7="사용자항목18", L7, 0) -> 0 | AU7: =IF(P7="사용자항목19", L7, 0) -> 0 | AY7: 통신
A8: 되메우기 및 다짐 | B8: 소형장비사용 | C8: M3 | D8: 16 | E8: =일위대가목록!G6 -> 1486 | F8: =ROUNDDOWN(D8*E8, 0) -> 23776 | G8: =일위대가목록!I6 -> 8228 | H8: =ROUNDDOWN(D8*G8, 0) -> 131648 | I8: =일위대가목록!K6 -> 1281 | J8: =ROUNDDOWN(D8*I8, 0) -> 20496 | K8: =E8+G8+I8 -> 10995 | L8: =F8+H8+J8 -> 175920 | M8: 일위 2호 | O8: ="" | P8: 기계경비 | Q8: 1 | R8: =IF(P8="기계경비", J8, 0) -> 20496 | S8: =IF(P8="운반비", L8, 0) -> 0 | T8: =IF(P8="작업부산물", F8, 0) -> 0 | U8: =IF(P8="관급", F8, 0) -> 0 | V8: =IF(P8="외주비", J8, 0) -> 0 | W8: =IF(P8="장비비", J8, 0) -> 0 | X8: =IF(P8="폐기물처리비", L8, 0) -> 0 | Y8: =IF(P8="가설비", J8, 0) -> 0 | Z8: =IF(P8="잡비제외분", F8, 0) -> 0 | AA8: =IF(P8="사급자재대", L8, 0) -> 0 | AB8: =IF(P8="관급자재대", L8, 0) -> 0 | AC8: =IF(P8="사용자항목1", L8, 0) -> 0 | AD8: =IF(P8="사용자항목2", L8, 0) -> 0 | AE8: =IF(P8="안전관리비", L8, 0) -> 0 | AF8: =IF(P8="품질관리비", L8, 0) -> 0 | AG8: =IF(P8="작업부산물(철거해체)", L8, 0) -> 0 | AH8: =IF(P8="사용자항목6", L8, 0) -> 0 | AI8: =IF(P8="사용자항목7", L8, 0) -> 0 | AJ8: =IF(P8="사용자항목8", L8, 0) -> 0 | AK8: =IF(P8="사용자항목9", L8, 0) -> 0 | AL8: =IF(P8="사용자항목10", L8, 0) -> 0 | AM8: =IF(P8="사용자항목11", L8, 0) -> 0 | AN8: =IF(P8="사용자항목12", L8, 0) -> 0 | AO8: =IF(P8="사용자항목13", L8, 0) -> 0 | AP8: =IF(P8="사용자항목14", L8, 0) -> 0 | AQ8: =IF(P8="사용자항목15", L8, 0) -> 0 | AR8: =IF(P8="사용자항목16", L8, 0) -> 0 | AS8: =IF(P8="사용자항목17", L8, 0) -> 0 | AT8: =IF(P8="사용자항목18", L8, 0) -> 0 | AU8: =IF(P8="사용자항목19", L8, 0) -> 0 | AY8: CDH11500000S
F9: =ROUNDDOWN(D9*E9, 0) -> 0 | H9: =ROUNDDOWN(D9*G9, 0) -> 0 | J9: =ROUNDDOWN(D9*I9, 0) -> 0 | K9: =E9+G9+I9 -> 0 | L9: =F9+H9+J9 -> 0 | O9: ="" | Q9: 1 | R9: =IF(P9="기계경비", J9, 0) -> 0 | S9: =IF(P9="운반비", L9, 0) -> 0 | T9: =IF(P9="작업부산물", F9, 0) -> 0 | U9: =IF(P9="관급", F9, 0) -> 0 | V9: =IF(P9="외주비", J9, 0) -> 0 | W9: =IF(P9="장비비", J9, 0) -> 0 | X9: =IF(P9="폐기물처리비", L9, 0) -> 0 | Y9: =IF(P9="가설비", J9, 0) -> 0 | Z9: =IF(P9="잡비제외분", F9, 0) -> 0 | AA9: =IF(P9="사급자재대", L9, 0) -> 0 | AB9: =IF(P9="관급자재대", L9, 0) -> 0 | AC9: =IF(P9="사용자항목1", L9, 0) -> 0 | AD9: =IF(P9="사용자항목2", L9, 0) -> 0 | AE9: =IF(P9="안전관리비", L9, 0) -> 0 | AF9: =IF(P9="품질관리비", L9, 0) -> 0 | AG9: =IF(P9="작업부산물(철거해체)", L9, 0) -> 0 | AH9: =IF(P9="사용자항목6", L9, 0) -> 0 | AI9: =IF(P9="사용자항목7", L9, 0) -> 0 | AJ9: =IF(P9="사용자항목8", L9, 0) -> 0 | AK9: =IF(P9="사용자항목9", L9, 0) -> 0 | AL9: =IF(P9="사용자항목10", L9, 0) -> 0 | AM9: =IF(P9="사용자항목11", L9, 0) -> 0 | AN9: =IF(P9="사용자항목12", L9, 0) -> 0 | AO9: =IF(P9="사용자항목13", L9, 0) -> 0 | AP9: =IF(P9="사용자항목14", L9, 0) -> 0 | AQ9: =IF(P9="사용자항목15", L9, 0) -> 0 | AR9: =IF(P9="사용자항목16", L9, 0) -> 0 | AS9: =IF(P9="사용자항목17", L9, 0) -> 0 | AT9: =IF(P9="사용자항목18", L9, 0) -> 0 | AU9: =IF(P9="사용자항목19", L9, 0) -> 0
A10: 아스팔트포장깨기 | B10: 굴착기 0.18㎥+브레이커, 두께20cm이하 | C10: M3 | D10: 1 | E10: =단가산출서목록!G6 -> 2625 | F10: =ROUNDDOWN(D10*E10, 0) -> 2625 | G10: =단가산출서목록!I6 -> 19641 | H10: =ROUNDDOWN(D10*G10, 0) -> 19641 | I10: =단가산출서목록!K6 -> 4587 | J10: =ROUNDDOWN(D10*I10, 0) -> 4587 | K10: =E10+G10+I10 -> 26853 | L10: =F10+H10+J10 -> 26853 | M10: 단산 2호 | O10: ="" | P10: 기계경비 | Q10: 1 | R10: =IF(P10="기계경비", J10, 0) -> 4587 | S10: =IF(P10="운반비", L10, 0) -> 0 | T10: =IF(P10="작업부산물", F10, 0) -> 0 | U10: =IF(P10="관급", F10, 0) -> 0 | V10: =IF(P10="외주비", J10, 0) -> 0 | W10: =IF(P10="장비비", J10, 0) -> 0 | X10: =IF(P10="폐기물처리비", L10, 0) -> 0 | Y10: =IF(P10="가설비", J10, 0) -> 0 | Z10: =IF(P10="잡비제외분", F10, 0) -> 0 | AA10: =IF(P10="사급자재대", L10, 0) -> 0 | AB10: =IF(P10="관급자재대", L10, 0) -> 0 | AC10: =IF(P10="사용자항목1", L10, 0) -> 0 | AD10: =IF(P10="사용자항목2", L10, 0) -> 0 | AE10: =IF(P10="안전관리비", L10, 0) -> 0 | AF10: =IF(P10="품질관리비", L10, 0) -> 0 | AG10: =IF(P10="작업부산물(철거해체)", L10, 0) -> 0 | AH10: =IF(P10="사용자항목6", L10, 0) -> 0 | AI10: =IF(P10="사용자항목7", L10, 0) -> 0 | AJ10: =IF(P10="사용자항목8", L10, 0) -> 0 | AK10: =IF(P10="사용자항목9", L10, 0) -> 0 | AL10: =IF(P10="사용자항목10", L10, 0) -> 0 | AM10: =IF(P10="사용자항목11", L10, 0) -> 0 | AN10: =IF(P10="사용자항목12", L10, 0) -> 0 | AO10: =IF(P10="사용자항목13", L10, 0) -> 0 | AP10: =IF(P10="사용자항목14", L10, 0) -> 0 | AQ10: =IF(P10="사용자항목15", L10, 0) -> 0 | AR10: =IF(P10="사용자항목16", L10, 0) -> 0 | AS10: =IF(P10="사용자항목17", L10, 0) -> 0 | AT10: =IF(P10="사용자항목18", L10, 0) -> 0 | AU10: =IF(P10="사용자항목19", L10, 0) -> 0
A11: 보수용아스콘 | B11: 아스코아, 흑색 | C11: KG | D11: 2400 | E11: =단가대비표!O15 -> 450 | F11: =ROUNDDOWN(D11*E11, 0) -> 1080000 | G11: 0 | H11: =ROUNDDOWN(D11*G11, 0) -> 0 | I11: 0 | J11: =ROUNDDOWN(D11*I11, 0) -> 0 | K11: =E11+G11+I11 -> 450 | L11: =F11+H11+J11 -> 1080000 | O11: ="01" -> 01 | P11: 기계경비 | Q11: 1 | R11: =IF(P11="기계경비", J11, 0) -> 0 | S11: =IF(P11="운반비", L11, 0) -> 0 | T11: =IF(P11="작업부산물", F11, 0) -> 0 | U11: =IF(P11="관급", F11, 0) -> 0 | V11: =IF(P11="외주비", J11, 0) -> 0 | W11: =IF(P11="장비비", J11, 0) -> 0 | X11: =IF(P11="폐기물처리비", L11, 0) -> 0 | Y11: =IF(P11="가설비", J11, 0) -> 0 | Z11: =IF(P11="잡비제외분", F11, 0) -> 0 | AA11: =IF(P11="사급자재대", L11, 0) -> 0 | AB11: =IF(P11="관급자재대", L11, 0) -> 0 | AC11: =IF(P11="사용자항목1", L11, 0) -> 0 | AD11: =IF(P11="사용자항목2", L11, 0) -> 0 | AE11: =IF(P11="안전관리비", L11, 0) -> 0 | AF11: =IF(P11="품질관리비", L11, 0) -> 0 | AG11: =IF(P11="작업부산물(철거해체)", L11, 0) -> 0 | AH11: =IF(P11="사용자항목6", L11, 0) -> 0 | AI11: =IF(P11="사용자항목7", L11, 0) -> 0 | AJ11: =IF(P11="사용자항목8", L11, 0) -> 0 | AK11: =IF(P11="사용자항목9", L11, 0) -> 0 | AL11: =IF(P11="사용자항목10", L11, 0) -> 0 | AM11: =IF(P11="사용자항목11", L11, 0) -> 0 | AN11: =IF(P11="사용자항목12", L11, 0) -> 0 | AO11: =IF(P11="사용자항목13", L11, 0) -> 0 | AP11: =IF(P11="사용자항목14", L11, 0) -> 0 | AQ11: =IF(P11="사용자항목15", L11, 0) -> 0 | AR11: =IF(P11="사용자항목16", L11, 0) -> 0 | AS11: =IF(P11="사용자항목17", L11, 0) -> 0 | AT11: =IF(P11="사용자항목18", L11, 0) -> 0 | AU11: =IF(P11="사용자항목19", L11, 0) -> 0
A12: 아스팔트 표층 소규모포설 | B12: t=7.5cm 이하 | C12: M2 | D12: 11 | E12: =일위대가목록!G7 -> 652 | F12: =ROUNDDOWN(D12*E12, 0) -> 7172 | G12: =일위대가목록!I7 -> 6572 | H12: =ROUNDDOWN(D12*G12, 0) -> 72292 | I12: =일위대가목록!K7 -> 402 | J12: =ROUNDDOWN(D12*I12, 0) -> 4422 | K12: =E12+G12+I12 -> 7626 | L12: =F12+H12+J12 -> 83886 | M12: 일위 3호 | O12: ="" | P12: 기계경비 | Q12: 1 | R12: =IF(P12="기계경비", J12, 0) -> 4422 | S12: =IF(P12="운반비", L12, 0) -> 0 | T12: =IF(P12="작업부산물", F12, 0) -> 0 | U12: =IF(P12="관급", F12, 0) -> 0 | V12: =IF(P12="외주비", J12, 0) -> 0 | W12: =IF(P12="장비비", J12, 0) -> 0 | X12: =IF(P12="폐기물처리비", L12, 0) -> 0 | Y12: =IF(P12="가설비", J12, 0) -> 0 | Z12: =IF(P12="잡비제외분", F12, 0) -> 0 | AA12: =IF(P12="사급자재대", L12, 0) -> 0 | AB12: =IF(P12="관급자재대", L12, 0) -> 0 | AC12: =IF(P12="사용자항목1", L12, 0) -> 0 | AD12: =IF(P12="사용자항목2", L12, 0) -> 0 | AE12: =IF(P12="안전관리비", L12, 0) -> 0 | AF12: =IF(P12="품질관리비", L12, 0) -> 0 | AG12: =IF(P12="작업부산물(철거해체)", L12, 0) -> 0 | AH12: =IF(P12="사용자항목6", L12, 0) -> 0 | AI12: =IF(P12="사용자항목7", L12, 0) -> 0 | AJ12: =IF(P12="사용자항목8", L12, 0) -> 0 | AK12: =IF(P12="사용자항목9", L12, 0) -> 0 | AL12: =IF(P12="사용자항목10", L12, 0) -> 0 | AM12: =IF(P12="사용자항목11", L12, 0) -> 0 | AN12: =IF(P12="사용자항목12", L12, 0) -> 0 | AO12: =IF(P12="사용자항목13", L12, 0) -> 0 | AP12: =IF(P12="사용자항목14", L12, 0) -> 0 | AQ12: =IF(P12="사용자항목15", L12, 0) -> 0 | AR12: =IF(P12="사용자항목16", L12, 0) -> 0 | AS12: =IF(P12="사용자항목17", L12, 0) -> 0 | AT12: =IF(P12="사용자항목18", L12, 0) -> 0 | AU12: =IF(P12="사용자항목19", L12, 0) -> 0 | AY12: CLC40010000S
F13: =ROUNDDOWN(D13*E13, 0) -> 0 | H13: =ROUNDDOWN(D13*G13, 0) -> 0 | J13: =ROUNDDOWN(D13*I13, 0) -> 0 | K13: =E13+G13+I13 -> 0 | L13: =F13+H13+J13 -> 0 | O13: ="" | Q13: 1 | R13: =IF(P13="기계경비", J13, 0) -> 0 | S13: =IF(P13="운반비", L13, 0) -> 0 | T13: =IF(P13="작업부산물", F13, 0) -> 0 | U13: =IF(P13="관급", F13, 0) -> 0 | V13: =IF(P13="외주비", J13, 0) -> 0 | W13: =IF(P13="장비비", J13, 0) -> 0 | X13: =IF(P13="폐기물처리비", L13, 0) -> 0 | Y13: =IF(P13="가설비", J13, 0) -> 0 | Z13: =IF(P13="잡비제외분", F13, 0) -> 0 | AA13: =IF(P13="사급자재대", L13, 0) -> 0 | AB13: =IF(P13="관급자재대", L13, 0) -> 0 | AC13: =IF(P13="사용자항목1", L13, 0) -> 0 | AD13: =IF(P13="사용자항목2", L13, 0) -> 0 | AE13: =IF(P13="안전관리비", L13, 0) -> 0 | AF13: =IF(P13="품질관리비", L13, 0) -> 0 | AG13: =IF(P13="작업부산물(철거해체)", L13, 0) -> 0 | AH13: =IF(P13="사용자항목6", L13, 0) -> 0 | AI13: =IF(P13="사용자항목7", L13, 0) -> 0 | AJ13: =IF(P13="사용자항목8", L13, 0) -> 0 | AK13: =IF(P13="사용자항목9", L13, 0) -> 0 | AL13: =IF(P13="사용자항목10", L13, 0) -> 0 | AM13: =IF(P13="사용자항목11", L13, 0) -> 0 | AN13: =IF(P13="사용자항목12", L13, 0) -> 0 | AO13: =IF(P13="사용자항목13", L13, 0) -> 0 | AP13: =IF(P13="사용자항목14", L13, 0) -> 0 | AQ13: =IF(P13="사용자항목15", L13, 0) -> 0 | AR13: =IF(P13="사용자항목16", L13, 0) -> 0 | AS13: =IF(P13="사용자항목17", L13, 0) -> 0 | AT13: =IF(P13="사용자항목18", L13, 0) -> 0 | AU13: =IF(P13="사용자항목19", L13, 0) -> 0
A14: 철판 | B14: 3.2T | C14: KG | D14: 47 | E14: =단가대비표!O26 -> 1056 | F14: =ROUNDDOWN(D14*E14, 0) -> 49632 | G14: 0 | H14: =ROUNDDOWN(D14*G14, 0) -> 0 | I14: 0 | J14: =ROUNDDOWN(D14*I14, 0) -> 0 | K14: =E14+G14+I14 -> 1056 | L14: =F14+H14+J14 -> 49632 | M14: 열연(박판) | O14: ="01" -> 01 | P14: 기계경비 | Q14: 1 | R14: =IF(P14="기계경비", J14, 0) -> 0 | S14: =IF(P14="운반비", L14, 0) -> 0 | T14: =IF(P14="작업부산물", F14, 0) -> 0 | U14: =IF(P14="관급", F14, 0) -> 0 | V14: =IF(P14="외주비", J14, 0) -> 0 | W14: =IF(P14="장비비", J14, 0) -> 0 | X14: =IF(P14="폐기물처리비", L14, 0) -> 0 | Y14: =IF(P14="가설비", J14, 0) -> 0 | Z14: =IF(P14="잡비제외분", F14, 0) -> 0 | AA14: =IF(P14="사급자재대", L14, 0) -> 0 | AB14: =IF(P14="관급자재대", L14, 0) -> 0 | AC14: =IF(P14="사용자항목1", L14, 0) -> 0 | AD14: =IF(P14="사용자항목2", L14, 0) -> 0 | AE14: =IF(P14="안전관리비", L14, 0) -> 0 | AF14: =IF(P14="품질관리비", L14, 0) -> 0 | AG14: =IF(P14="작업부산물(철거해체)", L14, 0) -> 0 | AH14: =IF(P14="사용자항목6", L14, 0) -> 0 | AI14: =IF(P14="사용자항목7", L14, 0) -> 0 | AJ14: =IF(P14="사용자항목8", L14, 0) -> 0 | AK14: =IF(P14="사용자항목9", L14, 0) -> 0 | AL14: =IF(P14="사용자항목10", L14, 0) -> 0 | AM14: =IF(P14="사용자항목11", L14, 0) -> 0 | AN14: =IF(P14="사용자항목12", L14, 0) -> 0 | AO14: =IF(P14="사용자항목13", L14, 0) -> 0 | AP14: =IF(P14="사용자항목14", L14, 0) -> 0 | AQ14: =IF(P14="사용자항목15", L14, 0) -> 0 | AR14: =IF(P14="사용자항목16", L14, 0) -> 0 | AS14: =IF(P14="사용자항목17", L14, 0) -> 0 | AT14: =IF(P14="사용자항목18", L14, 0) -> 0 | AU14: =IF(P14="사용자항목19", L14, 0) -> 0
A15: 이형철근 | B15: 철근콘크리트용봉강, 이형봉강(SD300), D13 | C15: Kg | D15: 7 | E15: =단가대비표!O25 -> 970 | F15: =ROUNDDOWN(D15*E15, 0) -> 6790 | G15: 0 | H15: =ROUNDDOWN(D15*G15, 0) -> 0 | I15: 0 | J15: =ROUNDDOWN(D15*I15, 0) -> 0 | K15: =E15+G15+I15 -> 970 | L15: =F15+H15+J15 -> 6790 | O15: ="01" -> 01 | P15: 기계경비 | Q15: 1 | R15: =IF(P15="기계경비", J15, 0) -> 0 | S15: =IF(P15="운반비", L15, 0) -> 0 | T15: =IF(P15="작업부산물", F15, 0) -> 0 | U15: =IF(P15="관급", F15, 0) -> 0 | V15: =IF(P15="외주비", J15, 0) -> 0 | W15: =IF(P15="장비비", J15, 0) -> 0 | X15: =IF(P15="폐기물처리비", L15, 0) -> 0 | Y15: =IF(P15="가설비", J15, 0) -> 0 | Z15: =IF(P15="잡비제외분", F15, 0) -> 0 | AA15: =IF(P15="사급자재대", L15, 0) -> 0 | AB15: =IF(P15="관급자재대", L15, 0) -> 0 | AC15: =IF(P15="사용자항목1", L15, 0) -> 0 | AD15: =IF(P15="사용자항목2", L15, 0) -> 0 | AE15: =IF(P15="안전관리비", L15, 0) -> 0 | AF15: =IF(P15="품질관리비", L15, 0) -> 0 | AG15: =IF(P15="작업부산물(철거해체)", L15, 0) -> 0 | AH15: =IF(P15="사용자항목6", L15, 0) -> 0 | AI15: =IF(P15="사용자항목7", L15, 0) -> 0 | AJ15: =IF(P15="사용자항목8", L15, 0) -> 0 | AK15: =IF(P15="사용자항목9", L15, 0) -> 0 | AL15: =IF(P15="사용자항목10", L15, 0) -> 0 | AM15: =IF(P15="사용자항목11", L15, 0) -> 0 | AN15: =IF(P15="사용자항목12", L15, 0) -> 0 | AO15: =IF(P15="사용자항목13", L15, 0) -> 0 | AP15: =IF(P15="사용자항목14", L15, 0) -> 0 | AQ15: =IF(P15="사용자항목15", L15, 0) -> 0 | AR15: =IF(P15="사용자항목16", L15, 0) -> 0 | AS15: =IF(P15="사용자항목17", L15, 0) -> 0 | AT15: =IF(P15="사용자항목18", L15, 0) -> 0 | AU15: =IF(P15="사용자항목19", L15, 0) -> 0
A16: 볼라드 | B16: STS, Φ165.3×1200×2t | C16: 개 | D16: 1 | E16: =단가대비표!O16 -> 206000 | F16: =ROUNDDOWN(D16*E16, 0) -> 206000 | G16: 0 | H16: =ROUNDDOWN(D16*G16, 0) -> 0 | I16: 0 | J16: =ROUNDDOWN(D16*I16, 0) -> 0 | K16: =E16+G16+I16 -> 206000 | L16: =F16+H16+J16 -> 206000 | M16: 매립식 | O16: ="01" -> 01 | P16: 기계경비 | Q16: 1 | R16: =IF(P16="기계경비", J16, 0) -> 0 | S16: =IF(P16="운반비", L16, 0) -> 0 | T16: =IF(P16="작업부산물", F16, 0) -> 0 | U16: =IF(P16="관급", F16, 0) -> 0 | V16: =IF(P16="외주비", J16, 0) -> 0 | W16: =IF(P16="장비비", J16, 0) -> 0 | X16: =IF(P16="폐기물처리비", L16, 0) -> 0 | Y16: =IF(P16="가설비", J16, 0) -> 0 | Z16: =IF(P16="잡비제외분", F16, 0) -> 0 | AA16: =IF(P16="사급자재대", L16, 0) -> 0 | AB16: =IF(P16="관급자재대", L16, 0) -> 0 | AC16: =IF(P16="사용자항목1", L16, 0) -> 0 | AD16: =IF(P16="사용자항목2", L16, 0) -> 0 | AE16: =IF(P16="안전관리비", L16, 0) -> 0 | AF16: =IF(P16="품질관리비", L16, 0) -> 0 | AG16: =IF(P16="작업부산물(철거해체)", L16, 0) -> 0 | AH16: =IF(P16="사용자항목6", L16, 0) -> 0 | AI16: =IF(P16="사용자항목7", L16, 0) -> 0 | AJ16: =IF(P16="사용자항목8", L16, 0) -> 0 | AK16: =IF(P16="사용자항목9", L16, 0) -> 0 | AL16: =IF(P16="사용자항목10", L16, 0) -> 0 | AM16: =IF(P16="사용자항목11", L16, 0) -> 0 | AN16: =IF(P16="사용자항목12", L16, 0) -> 0 | AO16: =IF(P16="사용자항목13", L16, 0) -> 0 | AP16: =IF(P16="사용자항목14", L16, 0) -> 0 | AQ16: =IF(P16="사용자항목15", L16, 0) -> 0 | AR16: =IF(P16="사용자항목16", L16, 0) -> 0 | AS16: =IF(P16="사용자항목17", L16, 0) -> 0 | AT16: =IF(P16="사용자항목18", L16, 0) -> 0 | AU16: =IF(P16="사용자항목19", L16, 0) -> 0
A17: 잡철물 제작 및 설치(현장제작 설치) | B17: 일반철재, 복잡 | C17: Ton | D17: 0.075 | E17: =일위대가목록!G8 -> 554163 | F17: =ROUNDDOWN(D17*E17, 0) -> 41562 | G17: =일위대가목록!I8 -> 6927045 | H17: =ROUNDDOWN(D17*G17, 0) -> 519528 | I17: =일위대가목록!K8 -> 0 | J17: =ROUNDDOWN(D17*I17, 0) -> 0 | K17: =E17+G17+I17 -> 7481208 | L17: =F17+H17+J17 -> 561090 | M17: 일위 4호 | O17: ="" | P17: 기계경비 | Q17: 1 | R17: =IF(P17="기계경비", J17, 0) -> 0 | S17: =IF(P17="운반비", L17, 0) -> 0 | T17: =IF(P17="작업부산물", F17, 0) -> 0 | U17: =IF(P17="관급", F17, 0) -> 0 | V17: =IF(P17="외주비", J17, 0) -> 0 | W17: =IF(P17="장비비", J17, 0) -> 0 | X17: =IF(P17="폐기물처리비", L17, 0) -> 0 | Y17: =IF(P17="가설비", J17, 0) -> 0 | Z17: =IF(P17="잡비제외분", F17, 0) -> 0 | AA17: =IF(P17="사급자재대", L17, 0) -> 0 | AB17: =IF(P17="관급자재대", L17, 0) -> 0 | AC17: =IF(P17="사용자항목1", L17, 0) -> 0 | AD17: =IF(P17="사용자항목2", L17, 0) -> 0 | AE17: =IF(P17="안전관리비", L17, 0) -> 0 | AF17: =IF(P17="품질관리비", L17, 0) -> 0 | AG17: =IF(P17="작업부산물(철거해체)", L17, 0) -> 0 | AH17: =IF(P17="사용자항목6", L17, 0) -> 0 | AI17: =IF(P17="사용자항목7", L17, 0) -> 0 | AJ17: =IF(P17="사용자항목8", L17, 0) -> 0 | AK17: =IF(P17="사용자항목9", L17, 0) -> 0 | AL17: =IF(P17="사용자항목10", L17, 0) -> 0 | AM17: =IF(P17="사용자항목11", L17, 0) -> 0 | AN17: =IF(P17="사용자항목12", L17, 0) -> 0 | AO17: =IF(P17="사용자항목13", L17, 0) -> 0 | AP17: =IF(P17="사용자항목14", L17, 0) -> 0 | AQ17: =IF(P17="사용자항목15", L17, 0) -> 0 | AR17: =IF(P17="사용자항목16", L17, 0) -> 0 | AS17: =IF(P17="사용자항목17", L17, 0) -> 0 | AT17: =IF(P17="사용자항목18", L17, 0) -> 0 | AU17: =IF(P17="사용자항목19", L17, 0) -> 0 | AY17: AJM53100030S
A18: 레미탈 | B18: 조적용레미탈. 시멘트벽돌,블럭 조적용(40kg/포) | C18: 포 | D18: 18 | E18: =단가대비표!O12 -> 5900 | F18: =ROUNDDOWN(D18*E18, 0) -> 106200 | G18: 0 | H18: =ROUNDDOWN(D18*G18, 0) -> 0 | I18: 0 | J18: =ROUNDDOWN(D18*I18, 0) -> 0 | K18: =E18+G18+I18 -> 5900 | L18: =F18+H18+J18 -> 106200 | O18: ="01" -> 01 | P18: 기계경비 | Q18: 1 | R18: =IF(P18="기계경비", J18, 0) -> 0 | S18: =IF(P18="운반비", L18, 0) -> 0 | T18: =IF(P18="작업부산물", F18, 0) -> 0 | U18: =IF(P18="관급", F18, 0) -> 0 | V18: =IF(P18="외주비", J18, 0) -> 0 | W18: =IF(P18="장비비", J18, 0) -> 0 | X18: =IF(P18="폐기물처리비", L18, 0) -> 0 | Y18: =IF(P18="가설비", J18, 0) -> 0 | Z18: =IF(P18="잡비제외분", F18, 0) -> 0 | AA18: =IF(P18="사급자재대", L18, 0) -> 0 | AB18: =IF(P18="관급자재대", L18, 0) -> 0 | AC18: =IF(P18="사용자항목1", L18, 0) -> 0 | AD18: =IF(P18="사용자항목2", L18, 0) -> 0 | AE18: =IF(P18="안전관리비", L18, 0) -> 0 | AF18: =IF(P18="품질관리비", L18, 0) -> 0 | AG18: =IF(P18="작업부산물(철거해체)", L18, 0) -> 0 | AH18: =IF(P18="사용자항목6", L18, 0) -> 0 | AI18: =IF(P18="사용자항목7", L18, 0) -> 0 | AJ18: =IF(P18="사용자항목8", L18, 0) -> 0 | AK18: =IF(P18="사용자항목9", L18, 0) -> 0 | AL18: =IF(P18="사용자항목10", L18, 0) -> 0 | AM18: =IF(P18="사용자항목11", L18, 0) -> 0 | AN18: =IF(P18="사용자항목12", L18, 0) -> 0 | AO18: =IF(P18="사용자항목13", L18, 0) -> 0 | AP18: =IF(P18="사용자항목14", L18, 0) -> 0 | AQ18: =IF(P18="사용자항목15", L18, 0) -> 0 | AR18: =IF(P18="사용자항목16", L18, 0) -> 0 | AS18: =IF(P18="사용자항목17", L18, 0) -> 0 | AT18: =IF(P18="사용자항목18", L18, 0) -> 0 | AU18: =IF(P18="사용자항목19", L18, 0) -> 0
A19: 현장비빔타설 | B19: 소형구조물 | C19: M3 | D19: 1 | E19: =일위대가목록!G9 -> 0 | F19: =ROUNDDOWN(D19*E19, 0) -> 0 | G19: =일위대가목록!I9 -> 586879 | H19: =ROUNDDOWN(D19*G19, 0) -> 586879 | I19: =일위대가목록!K9 -> 0 | J19: =ROUNDDOWN(D19*I19, 0) -> 0 | K19: =E19+G19+I19 -> 586879 | L19: =F19+H19+J19 -> 586879 | M19: 일위 5호 | O19: ="" | P19: 기계경비 | Q19: 1 | R19: =IF(P19="기계경비", J19, 0) -> 0 | S19: =IF(P19="운반비", L19, 0) -> 0 | T19: =IF(P19="작업부산물", F19, 0) -> 0 | U19: =IF(P19="관급", F19, 0) -> 0 | V19: =IF(P19="외주비", J19, 0) -> 0 | W19: =IF(P19="장비비", J19, 0) -> 0 | X19: =IF(P19="폐기물처리비", L19, 0) -> 0 | Y19: =IF(P19="가설비", J19, 0) -> 0 | Z19: =IF(P19="잡비제외분", F19, 0) -> 0 | AA19: =IF(P19="사급자재대", L19, 0) -> 0 | AB19: =IF(P19="관급자재대", L19, 0) -> 0 | AC19: =IF(P19="사용자항목1", L19, 0) -> 0 | AD19: =IF(P19="사용자항목2", L19, 0) -> 0 | AE19: =IF(P19="안전관리비", L19, 0) -> 0 | AF19: =IF(P19="품질관리비", L19, 0) -> 0 | AG19: =IF(P19="작업부산물(철거해체)", L19, 0) -> 0 | AH19: =IF(P19="사용자항목6", L19, 0) -> 0 | AI19: =IF(P19="사용자항목7", L19, 0) -> 0 | AJ19: =IF(P19="사용자항목8", L19, 0) -> 0 | AK19: =IF(P19="사용자항목9", L19, 0) -> 0 | AL19: =IF(P19="사용자항목10", L19, 0) -> 0 | AM19: =IF(P19="사용자항목11", L19, 0) -> 0 | AN19: =IF(P19="사용자항목12", L19, 0) -> 0 | AO19: =IF(P19="사용자항목13", L19, 0) -> 0 | AP19: =IF(P19="사용자항목14", L19, 0) -> 0 | AQ19: =IF(P19="사용자항목15", L19, 0) -> 0 | AR19: =IF(P19="사용자항목16", L19, 0) -> 0 | AS19: =IF(P19="사용자항목17", L19, 0) -> 0 | AT19: =IF(P19="사용자항목18", L19, 0) -> 0 | AU19: =IF(P19="사용자항목19", L19, 0) -> 0
F20: =ROUNDDOWN(D20*E20, 0) -> 0 | H20: =ROUNDDOWN(D20*G20, 0) -> 0 | J20: =ROUNDDOWN(D20*I20, 0) -> 0 | K20: =E20+G20+I20 -> 0 | L20: =F20+H20+J20 -> 0 | O20: ="" | Q20: 1 | R20: =IF(P20="기계경비", J20, 0) -> 0 | S20: =IF(P20="운반비", L20, 0) -> 0 | T20: =IF(P20="작업부산물", F20, 0) -> 0 | U20: =IF(P20="관급", F20, 0) -> 0 | V20: =IF(P20="외주비", J20, 0) -> 0 | W20: =IF(P20="장비비", J20, 0) -> 0 | X20: =IF(P20="폐기물처리비", L20, 0) -> 0 | Y20: =IF(P20="가설비", J20, 0) -> 0 | Z20: =IF(P20="잡비제외분", F20, 0) -> 0 | AA20: =IF(P20="사급자재대", L20, 0) -> 0 | AB20: =IF(P20="관급자재대", L20, 0) -> 0 | AC20: =IF(P20="사용자항목1", L20, 0) -> 0 | AD20: =IF(P20="사용자항목2", L20, 0) -> 0 | AE20: =IF(P20="안전관리비", L20, 0) -> 0 | AF20: =IF(P20="품질관리비", L20, 0) -> 0 | AG20: =IF(P20="작업부산물(철거해체)", L20, 0) -> 0 | AH20: =IF(P20="사용자항목6", L20, 0) -> 0 | AI20: =IF(P20="사용자항목7", L20, 0) -> 0 | AJ20: =IF(P20="사용자항목8", L20, 0) -> 0 | AK20: =IF(P20="사용자항목9", L20, 0) -> 0 | AL20: =IF(P20="사용자항목10", L20, 0) -> 0 | AM20: =IF(P20="사용자항목11", L20, 0) -> 0 | AN20: =IF(P20="사용자항목12", L20, 0) -> 0 | AO20: =IF(P20="사용자항목13", L20, 0) -> 0 | AP20: =IF(P20="사용자항목14", L20, 0) -> 0 | AQ20: =IF(P20="사용자항목15", L20, 0) -> 0 | AR20: =IF(P20="사용자항목16", L20, 0) -> 0 | AS20: =IF(P20="사용자항목17", L20, 0) -> 0 | AT20: =IF(P20="사용자항목18", L20, 0) -> 0 | AU20: =IF(P20="사용자항목19", L20, 0) -> 0
A21: 굴착기(타이어) | B21: 0.18㎥ | C21: HR | D21: 24 | E21: =중기경비목록!G5 -> 11506 | F21: =ROUNDDOWN(D21*E21, 0) -> 276144 | G21: =중기경비목록!I5 -> 59020 | H21: =ROUNDDOWN(D21*G21, 0) -> 1416480 | I21: =중기경비목록!K5 -> 15800 | J21: =ROUNDDOWN(D21*I21, 0) -> 379200 | K21: =E21+G21+I21 -> 86326 | L21: =F21+H21+J21 -> 2071824 | M21: 중기 1호 | O21: ="" | P21: 기계경비 | Q21: 1 | R21: =IF(P21="기계경비", J21, 0) -> 379200 | S21: =IF(P21="운반비", L21, 0) -> 0 | T21: =IF(P21="작업부산물", F21, 0) -> 0 | U21: =IF(P21="관급", F21, 0) -> 0 | V21: =IF(P21="외주비", J21, 0) -> 0 | W21: =IF(P21="장비비", J21, 0) -> 0 | X21: =IF(P21="폐기물처리비", L21, 0) -> 0 | Y21: =IF(P21="가설비", J21, 0) -> 0 | Z21: =IF(P21="잡비제외분", F21, 0) -> 0 | AA21: =IF(P21="사급자재대", L21, 0) -> 0 | AB21: =IF(P21="관급자재대", L21, 0) -> 0 | AC21: =IF(P21="사용자항목1", L21, 0) -> 0 | AD21: =IF(P21="사용자항목2", L21, 0) -> 0 | AE21: =IF(P21="안전관리비", L21, 0) -> 0 | AF21: =IF(P21="품질관리비", L21, 0) -> 0 | AG21: =IF(P21="작업부산물(철거해체)", L21, 0) -> 0 | AH21: =IF(P21="사용자항목6", L21, 0) -> 0 | AI21: =IF(P21="사용자항목7", L21, 0) -> 0 | AJ21: =IF(P21="사용자항목8", L21, 0) -> 0 | AK21: =IF(P21="사용자항목9", L21, 0) -> 0 | AL21: =IF(P21="사용자항목10", L21, 0) -> 0 | AM21: =IF(P21="사용자항목11", L21, 0) -> 0 | AN21: =IF(P21="사용자항목12", L21, 0) -> 0 | AO21: =IF(P21="사용자항목13", L21, 0) -> 0 | AP21: =IF(P21="사용자항목14", L21, 0) -> 0 | AQ21: =IF(P21="사용자항목15", L21, 0) -> 0 | AR21: =IF(P21="사용자항목16", L21, 0) -> 0 | AS21: =IF(P21="사용자항목17", L21, 0) -> 0 | AT21: =IF(P21="사용자항목18", L21, 0) -> 0 | AU21: =IF(P21="사용자항목19", L21, 0) -> 0
A36: 합 계 | F36: =ROUNDDOWN(SUMIF(Q6:Q35, "1", F6:F35), 0) -> 1846212 | H36: =ROUNDDOWN(SUMIF(Q6:Q35, "1", H6:H35), 0) -> 4503871 | J36: =ROUNDDOWN(SUMIF(Q6:Q35, "1", J6:J35), 0) -> 409952 | L36: =F36+H36+J36 -> 6760035 | R36: =ROUNDDOWN(SUM(R6:R21), 0) -> 409952 | S36: =ROUNDDOWN(SUM(S6:S21), 0) -> 0 | T36: =ROUNDDOWN(SUM(T6:T21), 0) -> 0 | U36: =ROUNDDOWN(SUM(U6:U21), 0) -> 0 | V36: =ROUNDDOWN(SUM(V6:V21), 0) -> 0 | W36: =ROUNDDOWN(SUM(W6:W21), 0) -> 0 | X36: =ROUNDDOWN(SUM(X6:X21), 0) -> 0 | Y36: =ROUNDDOWN(SUM(Y6:Y21), 0) -> 0 | ... AY36: =ROUNDDOWN(SUM(AY6:AY21), 0) -> 0
A37: 02. 배관배선공사
A38: 파상형경질폴리에틸렌전선관 [3열동시1열당] | B38: 파상형경질폴리에틸렌전선관, 50mm | C38: m | D38: 125 | E38: =일위대가목록!G10 -> 952 | F38: =ROUNDDOWN(D38*E38, 0) -> 119000 | G38: =일위대가목록!I10 -> 5215 | H38: =ROUNDDOWN(D38*G38, 0) -> 651875 | I38: =일위대가목록!K10 -> 0 | J38: =ROUNDDOWN(D38*I38, 0) -> 0 | K38: =E38+G38+I38 -> 6167 | L38: =F38+H38+J38 -> 770875 | M38: 일위 6호 | O38: ="" | P38: 기계경비 | Q38: 1 | R38: =IF(P38="기계경비", J38, 0) -> 0 | S38: =IF(P38="운반비", L38, 0) -> 0 | T38: =IF(P38="작업부산물", F38, 0) -> 0 | U38: =IF(P38="관급", F38, 0) -> 0 | V38: =IF(P38="외주비", J38, 0) -> 0 | W38: =IF(P38="장비비", J38, 0) -> 0 | X38: =IF(P38="폐기물처리비", L38, 0) -> 0 | Y38: =IF(P38="가설비", J38, 0) -> 0 | Z38: =IF(P38="잡비제외분", F38, 0) -> 0 | AA38: =IF(P38="사급자재대", L38, 0) -> 0 | AB38: =IF(P38="관급자재대", L38, 0) -> 0 | AC38: =IF(P38="사용자항목1", L38, 0) -> 0 | AD38: =IF(P38="사용자항목2", L38, 0) -> 0 | AE38: =IF(P38="안전관리비", L38, 0) -> 0 | AF38: =IF(P38="품질관리비", L38, 0) -> 0 | AG38: =IF(P38="작업부산물(철거해체)", L38, 0) -> 0 | AH38: =IF(P38="사용자항목6", L38, 0) -> 0 | AI38: =IF(P38="사용자항목7", L38, 0) -> 0 | AJ38: =IF(P38="사용자항목8", L38, 0) -> 0 | AK38: =IF(P38="사용자항목9", L38, 0) -> 0 | AL38: =IF(P38="사용자항목10", L38, 0) -> 0 | AM38: =IF(P38="사용자항목11", L38, 0) -> 0 | AN38: =IF(P38="사용자항목12", L38, 0) -> 0 | AO38: =IF(P38="사용자항목13", L38, 0) -> 0 | AP38: =IF(P38="사용자항목14", L38, 0) -> 0 | AQ38: =IF(P38="사용자항목15", L38, 0) -> 0 | AR38: =IF(P38="사용자항목16", L38, 0) -> 0 | AS38: =IF(P38="사용자항목17", L38, 0) -> 0 | AT38: =IF(P38="사용자항목18", L38, 0) -> 0 | AU38: =IF(P38="사용자항목19", L38, 0) -> 0 | AY38: 설치4
A39: 2종금속제가요전선관 | B39: 비닐피복, 30mm, 방수 | C39: m | D39: 10 | E39: =일위대가목록!G11 -> 15807 | F39: =ROUNDDOWN(D39*E39, 0) -> 158070 | G39: =일위대가목록!I11 -> 23809 | H39: =ROUNDDOWN(D39*G39, 0) -> 238090 | I39: =일위대가목록!K11 -> 0 | J39: =ROUNDDOWN(D39*I39, 0) -> 0 | K39: =E39+G39+I39 -> 39616 | L39: =F39+H39+J39 -> 396160 | M39: 일위 7호 | O39: ="" | P39: 기계경비 | Q39: 1 | R39: =IF(P39="기계경비", J39, 0) -> 0 | S39: =IF(P39="운반비", L39, 0) -> 0 | T39: =IF(P39="작업부산물", F39, 0) -> 0 | U39: =IF(P39="관급", F39, 0) -> 0 | V39: =IF(P39="외주비", J39, 0) -> 0 | W39: =IF(P39="장비비", J39, 0) -> 0 | X39: =IF(P39="폐기물처리비", L39, 0) -> 0 | Y39: =IF(P39="가설비", J39, 0) -> 0 | Z39: =IF(P39="잡비제외분", F39, 0) -> 0 | AA39: =IF(P39="사급자재대", L39, 0) -> 0 | AB39: =IF(P39="관급자재대", L39, 0) -> 0 | AC39: =IF(P39="사용자항목1", L39, 0) -> 0 | AD39: =IF(P39="사용자항목2", L39, 0) -> 0 | AE39: =IF(P39="안전관리비", L39, 0) -> 0 | AF39: =IF(P39="품질관리비", L39, 0) -> 0 | AG39: =IF(P39="작업부산물(철거해체)", L39, 0) -> 0 | AH39: =IF(P39="사용자항목6", L39, 0) -> 0 | AI39: =IF(P39="사용자항목7", L39, 0) -> 0 | AJ39: =IF(P39="사용자항목8", L39, 0) -> 0 | AK39: =IF(P39="사용자항목9", L39, 0) -> 0 | AL39: =IF(P39="사용자항목10", L39, 0) -> 0 | AM39: =IF(P39="사용자항목11", L39, 0) -> 0 | AN39: =IF(P39="사용자항목12", L39, 0) -> 0 | AO39: =IF(P39="사용자항목13", L39, 0) -> 0 | AP39: =IF(P39="사용자항목14", L39, 0) -> 0 | AQ39: =IF(P39="사용자항목15", L39, 0) -> 0 | AR39: =IF(P39="사용자항목16", L39, 0) -> 0 | AS39: =IF(P39="사용자항목17", L39, 0) -> 0 | AT39: =IF(P39="사용자항목18", L39, 0) -> 0 | AU39: =IF(P39="사용자항목19", L39, 0) -> 0 | AY39: 설치
A40: 600V폴리에틸렌케이블 | B40: 0.6/1kV, F-CV, 4C×4㎟ | C40: m | D40: 15 | E40: =일위대가목록!G12 -> 4555 | F40: =ROUNDDOWN(D40*E40, 0) -> 68325 | G40: =일위대가목록!I12 -> 8820 | H40: =ROUNDDOWN(D40*G40, 0) -> 132300 | I40: =일위대가목록!K12 -> 0 | J40: =ROUNDDOWN(D40*I40, 0) -> 0 | K40: =E40+G40+I40 -> 13375 | L40: =F40+H40+J40 -> 200625 | M40: 일위 8호 | O40: ="" | P40: 기계경비 | Q40: 1 | R40: =IF(P40="기계경비", J40, 0) -> 0 | S40: =IF(P40="운반비", L40, 0) -> 0 | T40: =IF(P40="작업부산물", F40, 0) -> 0 | U40: =IF(P40="관급", F40, 0) -> 0 | V40: =IF(P40="외주비", J40, 0) -> 0 | W40: =IF(P40="장비비", J40, 0) -> 0 | X40: =IF(P40="폐기물처리비", L40, 0) -> 0 | Y40: =IF(P40="가설비", J40, 0) -> 0 | Z40: =IF(P40="잡비제외분", F40, 0) -> 0 | AA40: =IF(P40="사급자재대", L40, 0) -> 0 | AB40: =IF(P40="관급자재대", L40, 0) -> 0 | AC40: =IF(P40="사용자항목1", L40, 0) -> 0 | AD40: =IF(P40="사용자항목2", L40, 0) -> 0 | AE40: =IF(P40="안전관리비", L40, 0) -> 0 | AF40: =IF(P40="품질관리비", L40, 0) -> 0 | AG40: =IF(P40="작업부산물(철거해체)", L40, 0) -> 0 | AH40: =IF(P40="사용자항목6", L40, 0) -> 0 | AI40: =IF(P40="사용자항목7", L40, 0) -> 0 | AJ40: =IF(P40="사용자항목8", L40, 0) -> 0 | AK40: =IF(P40="사용자항목9", L40, 0) -> 0 | AL40: =IF(P40="사용자항목10", L40, 0) -> 0 | AM40: =IF(P40="사용자항목11", L40, 0) -> 0 | AN40: =IF(P40="사용자항목12", L40, 0) -> 0 | AO40: =IF(P40="사용자항목13", L40, 0) -> 0 | AP40: =IF(P40="사용자항목14", L40, 0) -> 0 | AQ40: =IF(P40="사용자항목15", L40, 0) -> 0 | AR40: =IF(P40="사용자항목16", L40, 0) -> 0 | AS40: =IF(P40="사용자항목17", L40, 0) -> 0 | AT40: =IF(P40="사용자항목18", L40, 0) -> 0 | AU40: =IF(P40="사용자항목19", L40, 0) -> 0 | AY40: 설치
A41: 600V폴리에틸렌케이블 | B41: 0.6/1kV, F-CV, 4C×2.5㎟ | C41: m | D41: 115 | E41: =일위대가목록!G13 -> 3279 | F41: =ROUNDDOWN(D41*E41, 0) -> 377085 | G41: =일위대가목록!I13 -> 7908 | H41: =ROUNDDOWN(D41*G41, 0) -> 909420 | I41: =일위대가목록!K13 -> 0 | J41: =ROUNDDOWN(D41*I41, 0) -> 0 | K41: =E41+G41+I41 -> 11187 | L41: =F41+H41+J41 -> 1286505 | M41: 일위 9호 | O41: ="" | P41: 기계경비 | Q41: 1 | R41: =IF(P41="기계경비", J41, 0) -> 0 | S41: =IF(P41="운반비", L41, 0) -> 0 | T41: =IF(P41="작업부산물", F41, 0) -> 0 | U41: =IF(P41="관급", F41, 0) -> 0 | V41: =IF(P41="외주비", J41, 0) -> 0 | W41: =IF(P41="장비비", J41, 0) -> 0 | X41: =IF(P41="폐기물처리비", L41, 0) -> 0 | Y41: =IF(P41="가설비", J41, 0) -> 0 | Z41: =IF(P41="잡비제외분", F41, 0) -> 0 | AA41: =IF(P41="사급자재대", L41, 0) -> 0 | AB41: =IF(P41="관급자재대", L41, 0) -> 0 | AC41: =IF(P41="사용자항목1", L41, 0) -> 0 | AD41: =IF(P41="사용자항목2", L41, 0) -> 0 | AE41: =IF(P41="안전관리비", L41, 0) -> 0 | AF41: =IF(P41="품질관리비", L41, 0) -> 0 | AG41: =IF(P41="작업부산물(철거해체)", L41, 0) -> 0 | AH41: =IF(P41="사용자항목6", L41, 0) -> 0 | AI41: =IF(P41="사용자항목7", L41, 0) -> 0 | AJ41: =IF(P41="사용자항목8", L41, 0) -> 0 | AK41: =IF(P41="사용자항목9", L41, 0) -> 0 | AL41: =IF(P41="사용자항목10", L41, 0) -> 0 | AM41: =IF(P41="사용자항목11", L41, 0) -> 0 | AN41: =IF(P41="사용자항목12", L41, 0) -> 0 | AO41: =IF(P41="사용자항목13", L41, 0) -> 0 | AP41: =IF(P41="사용자항목14", L41, 0) -> 0 | AQ41: =IF(P41="사용자항목15", L41, 0) -> 0 | AR41: =IF(P41="사용자항목16", L41, 0) -> 0 | AS41: =IF(P41="사용자항목17", L41, 0) -> 0 | AT41: =IF(P41="사용자항목18", L41, 0) -> 0 | AU41: =IF(P41="사용자항목19", L41, 0) -> 0 | AY41: 설치
A42: 0.6/1kv 트레이용 절연난연 제어케이블(F-CVV) | B42: 6C*2.5㎟ | C42: M | D42: 58 | E42: =일위대가목록!G14 -> 4742 | F42: =ROUNDDOWN(D42*E42, 0) -> 275036 | G42: =일위대가목록!I14 -> 15267 | H42: =ROUNDDOWN(D42*G42, 0) -> 885486 | I42: =일위대가목록!K14 -> 0 | J42: =ROUNDDOWN(D42*I42, 0) -> 0 | K42: =E42+G42+I42 -> 20009 | L42: =F42+H42+J42 -> 1160522 | M42: 일위 10호 | O42: ="" | P42: 기계경비 | Q42: 1 | R42: =IF(P42="기계경비", J42, 0) -> 0 | S42: =IF(P42="운반비", L42, 0) -> 0 | T42: =IF(P42="작업부산물", F42, 0) -> 0 | U42: =IF(P42="관급", F42, 0) -> 0 | V42: =IF(P42="외주비", J42, 0) -> 0 | W42: =IF(P42="장비비", J42, 0) -> 0 | X42: =IF(P42="폐기물처리비", L42, 0) -> 0 | Y42: =IF(P42="가설비", J42, 0) -> 0 | Z42: =IF(P42="잡비제외분", F42, 0) -> 0 | AA42: =IF(P42="사급자재대", L42, 0) -> 0 | AB42: =IF(P42="관급자재대", L42, 0) -> 0 | AC42: =IF(P42="사용자항목1", L42, 0) -> 0 | AD42: =IF(P42="사용자항목2", L42, 0) -> 0 | AE42: =IF(P42="안전관리비", L42, 0) -> 0 | AF42: =IF(P42="품질관리비", L42, 0) -> 0 | AG42: =IF(P42="작업부산물(철거해체)", L42, 0) -> 0 | AH42: =IF(P42="사용자항목6", L42, 0) -> 0 | AI42: =IF(P42="사용자항목7", L42, 0) -> 0 | AJ42: =IF(P42="사용자항목8", L42, 0) -> 0 | AK42: =IF(P42="사용자항목9", L42, 0) -> 0 | AL42: =IF(P42="사용자항목10", L42, 0) -> 0 | AM42: =IF(P42="사용자항목11", L42, 0) -> 0 | AN42: =IF(P42="사용자항목12", L42, 0) -> 0 | AO42: =IF(P42="사용자항목13", L42, 0) -> 0 | AP42: =IF(P42="사용자항목14", L42, 0) -> 0 | AQ42: =IF(P42="사용자항목15", L42, 0) -> 0 | AR42: =IF(P42="사용자항목16", L42, 0) -> 0 | AS42: =IF(P42="사용자항목17", L42, 0) -> 0 | AT42: =IF(P42="사용자항목18", L42, 0) -> 0 | AU42: =IF(P42="사용자항목19", L42, 0) -> 0 | AY42: TDI53600010S
A43: 접지용비닐절연전선 | B43: F-GV, 4㎟ | C43: m | D43: 13 | E43: =일위대가목록!G15 -> 1229 | F43: =ROUNDDOWN(D43*E43, 0) -> 15977 | G43: =일위대가목록!I15 -> 1642 | H43: =ROUNDDOWN(D43*G43, 0) -> 21346 | I43: =일위대가목록!K15 -> 0 | J43: =ROUNDDOWN(D43*I43, 0) -> 0 | K43: =E43+G43+I43 -> 2871 | L43: =F43+H43+J43 -> 37323 | M43: 일위 11호 | O43: ="" | P43: 기계경비 | Q43: 1 | R43: =IF(P43="기계경비", J43, 0) -> 0 | S43: =IF(P43="운반비", L43, 0) -> 0 | T43: =IF(P43="작업부산물", F43, 0) -> 0 | U43: =IF(P43="관급", F43, 0) -> 0 | V43: =IF(P43="외주비", J43, 0) -> 0 | W43: =IF(P43="장비비", J43, 0) -> 0 | X43: =IF(P43="폐기물처리비", L43, 0) -> 0 | Y43: =IF(P43="가설비", J43, 0) -> 0 | Z43: =IF(P43="잡비제외분", F43, 0) -> 0 | AA43: =IF(P43="사급자재대", L43, 0) -> 0 | AB43: =IF(P43="관급자재대", L43, 0) -> 0 | AC43: =IF(P43="사용자항목1", L43, 0) -> 0 | AD43: =IF(P43="사용자항목2", L43, 0) -> 0 | AE43: =IF(P43="안전관리비", L43, 0) -> 0 | AF43: =IF(P43="품질관리비", L43, 0) -> 0 | AG43: =IF(P43="작업부산물(철거해체)", L43, 0) -> 0 | AH43: =IF(P43="사용자항목6", L43, 0) -> 0 | AI43: =IF(P43="사용자항목7", L43, 0) -> 0 | AJ43: =IF(P43="사용자항목8", L43, 0) -> 0 | AK43: =IF(P43="사용자항목9", L43, 0) -> 0 | AL43: =IF(P43="사용자항목10", L43, 0) -> 0 | AM43: =IF(P43="사용자항목11", L43, 0) -> 0 | AN43: =IF(P43="사용자항목12", L43, 0) -> 0 | AO43: =IF(P43="사용자항목13", L43, 0) -> 0 | AP43: =IF(P43="사용자항목14", L43, 0) -> 0 | AQ43: =IF(P43="사용자항목15", L43, 0) -> 0 | AR43: =IF(P43="사용자항목16", L43, 0) -> 0 | AS43: =IF(P43="사용자항목17", L43, 0) -> 0 | AT43: =IF(P43="사용자항목18", L43, 0) -> 0 | AU43: =IF(P43="사용자항목19", L43, 0) -> 0 | AY43: 설치
A44: 접지동봉설치 | B44: 1본 | C44: 개소 | D44: 2 | E44: =일위대가목록!G16 -> 3381 | F44: =ROUNDDOWN(D44*E44, 0) -> 6762 | G44: =일위대가목록!I16 -> 43869 | H44: =ROUNDDOWN(D44*G44, 0) -> 87738 | I44: =일위대가목록!K16 -> 0 | J44: =ROUNDDOWN(D44*I44, 0) -> 0 | K44: =E44+G44+I44 -> 47250 | L44: =F44+H44+J44 -> 94500 | M44: 일위 12호 | O44: ="" | P44: 기계경비 | Q44: 1 | R44: =IF(P44="기계경비", J44, 0) -> 0 | S44: =IF(P44="운반비", L44, 0) -> 0 | T44: =IF(P44="작업부산물", F44, 0) -> 0 | U44: =IF(P44="관급", F44, 0) -> 0 | V44: =IF(P44="외주비", J44, 0) -> 0 | W44: =IF(P44="장비비", J44, 0) -> 0 | X44: =IF(P44="폐기물처리비", L44, 0) -> 0 | Y44: =IF(P44="가설비", J44, 0) -> 0 | Z44: =IF(P44="잡비제외분", F44, 0) -> 0 | AA44: =IF(P44="사급자재대", L44, 0) -> 0 | AB44: =IF(P44="관급자재대", L44, 0) -> 0 | AC44: =IF(P44="사용자항목1", L44, 0) -> 0 | AD44: =IF(P44="사용자항목2", L44, 0) -> 0 | AE44: =IF(P44="안전관리비", L44, 0) -> 0 | AF44: =IF(P44="품질관리비", L44, 0) -> 0 | AG44: =IF(P44="작업부산물(철거해체)", L44, 0) -> 0 | AH44: =IF(P44="사용자항목6", L44, 0) -> 0 | AI44: =IF(P44="사용자항목7", L44, 0) -> 0 | AJ44: =IF(P44="사용자항목8", L44, 0) -> 0 | AK44: =IF(P44="사용자항목9", L44, 0) -> 0 | AL44: =IF(P44="사용자항목10", L44, 0) -> 0 | AM44: =IF(P44="사용자항목11", L44, 0) -> 0 | AN44: =IF(P44="사용자항목12", L44, 0) -> 0 | AO44: =IF(P44="사용자항목13", L44, 0) -> 0 | AP44: =IF(P44="사용자항목14", L44, 0) -> 0 | AQ44: =IF(P44="사용자항목15", L44, 0) -> 0 | AR44: =IF(P44="사용자항목16", L44, 0) -> 0 | AS44: =IF(P44="사용자항목17", L44, 0) -> 0 | AT44: =IF(P44="사용자항목18", L44, 0) -> 0 | AU44: =IF(P44="사용자항목19", L44, 0) -> 0
F45: =ROUNDDOWN(D45*E45, 0) -> 0 | H45: =ROUNDDOWN(D45*G45, 0) -> 0 | J45: =ROUNDDOWN(D45*I45, 0) -> 0 | K45: =E45+G45+I45 -> 0 | L45: =F45+H45+J45 -> 0 | O45: ="" | Q45: 1 | R45: =IF(P45="기계경비", J45, 0) -> 0 | S45: =IF(P45="운반비", L45, 0) -> 0 | T45: =IF(P45="작업부산물", F45, 0) -> 0 | U45: =IF(P45="관급", F45, 0) -> 0 | V45: =IF(P45="외주비", J45, 0) -> 0 | W45: =IF(P45="장비비", J45, 0) -> 0 | X45: =IF(P45="폐기물처리비", L45, 0) -> 0 | Y45: =IF(P45="가설비", J45, 0) -> 0 | Z45: =IF(P45="잡비제외분", F45, 0) -> 0 | AA45: =IF(P45="사급자재대", L45, 0) -> 0 | AB45: =IF(P45="관급자재대", L45, 0) -> 0 | AC45: =IF(P45="사용자항목1", L45, 0) -> 0 | AD45: =IF(P45="사용자항목2", L45, 0) -> 0 | AE45: =IF(P45="안전관리비", L45, 0) -> 0 | AF45: =IF(P45="품질관리비", L45, 0) -> 0 | AG45: =IF(P45="작업부산물(철거해체)", L45, 0) -> 0 | AH45: =IF(P45="사용자항목6", L45, 0) -> 0 | AI45: =IF(P45="사용자항목7", L45, 0) -> 0 | AJ45: =IF(P45="사용자항목8", L45, 0) -> 0 | AK45: =IF(P45="사용자항목9", L45, 0) -> 0 | AL45: =IF(P45="사용자항목10", L45, 0) -> 0 | AM45: =IF(P45="사용자항목11", L45, 0) -> 0 | AN45: =IF(P45="사용자항목12", L45, 0) -> 0 | AO45: =IF(P45="사용자항목13", L45, 0) -> 0 | AP45: =IF(P45="사용자항목14", L45, 0) -> 0 | AQ45: =IF(P45="사용자항목15", L45, 0) -> 0 | AR45: =IF(P45="사용자항목16", L45, 0) -> 0 | AS45: =IF(P45="사용자항목17", L45, 0) -> 0 | AT45: =IF(P45="사용자항목18", L45, 0) -> 0 | AU45: =IF(P45="사용자항목19", L45, 0) -> 0
A46: 하이박스 | B46: 300×400×160 | C46: EA | D46: 1 | E46: =일위대가목록!G17 -> 22998 | F46: =ROUNDDOWN(D46*E46, 0) -> 22998 | G46: =일위대가목록!I17 -> 95786 | H46: =ROUNDDOWN(D46*G46, 0) -> 95786 | I46: =일위대가목록!K17 -> 0 | J46: =ROUNDDOWN(D46*I46, 0) -> 0 | K46: =E46+G46+I46 -> 118784 | L46: =F46+H46+J46 -> 118784 | M46: 일위 13호 | O46: ="" | P46: 기계경비 | Q46: 1 | R46: =IF(P46="기계경비", J46, 0) -> 0 | S46: =IF(P46="운반비", L46, 0) -> 0 | T46: =IF(P46="작업부산물", F46, 0) -> 0 | U46: =IF(P46="관급", F46, 0) -> 0 | V46: =IF(P46="외주비", J46, 0) -> 0 | W46: =IF(P46="장비비", J46, 0) -> 0 | X46: =IF(P46="폐기물처리비", L46, 0) -> 0 | Y46: =IF(P46="가설비", J46, 0) -> 0 | Z46: =IF(P46="잡비제외분", F46, 0) -> 0 | AA46: =IF(P46="사급자재대", L46, 0) -> 0 | AB46: =IF(P46="관급자재대", L46, 0) -> 0 | AC46: =IF(P46="사용자항목1", L46, 0) -> 0 | AD46: =IF(P46="사용자항목2", L46, 0) -> 0 | AE46: =IF(P46="안전관리비", L46, 0) -> 0 | AF46: =IF(P46="품질관리비", L46, 0) -> 0 | AG46: =IF(P46="작업부산물(철거해체)", L46, 0) -> 0 | AH46: =IF(P46="사용자항목6", L46, 0) -> 0 | AI46: =IF(P46="사용자항목7", L46, 0) -> 0 | AJ46: =IF(P46="사용자항목8", L46, 0) -> 0 | AK46: =IF(P46="사용자항목9", L46, 0) -> 0 | AL46: =IF(P46="사용자항목10", L46, 0) -> 0 | AM46: =IF(P46="사용자항목11", L46, 0) -> 0 | AN46: =IF(P46="사용자항목12", L46, 0) -> 0 | AO46: =IF(P46="사용자항목13", L46, 0) -> 0 | AP46: =IF(P46="사용자항목14", L46, 0) -> 0 | AQ46: =IF(P46="사용자항목15", L46, 0) -> 0 | AR46: =IF(P46="사용자항목16", L46, 0) -> 0 | AS46: =IF(P46="사용자항목17", L46, 0) -> 0 | AT46: =IF(P46="사용자항목18", L46, 0) -> 0 | AU46: =IF(P46="사용자항목19", L46, 0) -> 0 | AY46: 설치
A47: 단자대 | B47: TB, 4P 30A | C47: 개 | D47: 2 | E47: =단가대비표!O10 -> 1890 | F47: =ROUNDDOWN(D47*E47, 0) -> 3780 | G47: 0 | H47: =ROUNDDOWN(D47*G47, 0) -> 0 | I47: 0 | J47: =ROUNDDOWN(D47*I47, 0) -> 0 | K47: =E47+G47+I47 -> 1890 | L47: =F47+H47+J47 -> 3780 | M47: 고정식 | O47: ="01" -> 01 | P47: 기계경비 | Q47: 1 | R47: =IF(P47="기계경비", J47, 0) -> 0 | S47: =IF(P47="운반비", L47, 0) -> 0 | T47: =IF(P47="작업부산물", F47, 0) -> 0 | U47: =IF(P47="관급", F47, 0) -> 0 | V47: =IF(P47="외주비", J47, 0) -> 0 | W47: =IF(P47="장비비", J47, 0) -> 0 | X47: =IF(P47="폐기물처리비", L47, 0) -> 0 | Y47: =IF(P47="가설비", J47, 0) -> 0 | Z47: =IF(P47="잡비제외분", F47, 0) -> 0 | AA47: =IF(P47="사급자재대", L47, 0) -> 0 | AB47: =IF(P47="관급자재대", L47, 0) -> 0 | AC47: =IF(P47="사용자항목1", L47, 0) -> 0 | AD47: =IF(P47="사용자항목2", L47, 0) -> 0 | AE47: =IF(P47="안전관리비", L47, 0) -> 0 | AF47: =IF(P47="품질관리비", L47, 0) -> 0 | AG47: =IF(P47="작업부산물(철거해체)", L47, 0) -> 0 | AH47: =IF(P47="사용자항목6", L47, 0) -> 0 | AI47: =IF(P47="사용자항목7", L47, 0) -> 0 | AJ47: =IF(P47="사용자항목8", L47, 0) -> 0 | AK47: =IF(P47="사용자항목9", L47, 0) -> 0 | AL47: =IF(P47="사용자항목10", L47, 0) -> 0 | AM47: =IF(P47="사용자항목11", L47, 0) -> 0 | AN47: =IF(P47="사용자항목12", L47, 0) -> 0 | AO47: =IF(P47="사용자항목13", L47, 0) -> 0 | AP47: =IF(P47="사용자항목14", L47, 0) -> 0 | AQ47: =IF(P47="사용자항목15", L47, 0) -> 0 | AR47: =IF(P47="사용자항목16", L47, 0) -> 0 | AS47: =IF(P47="사용자항목17", L47, 0) -> 0 | AT47: =IF(P47="사용자항목18", L47, 0) -> 0 | AU47: =IF(P47="사용자항목19", L47, 0) -> 0
A48: 단자대 | B48: TB, 6P 15A | C48: 개 | D48: 1 | E48: =단가대비표!O11 -> 1160 | F48: =ROUNDDOWN(D48*E48, 0) -> 1160 | G48: 0 | H48: =ROUNDDOWN(D48*G48, 0) -> 0 | I48: 0 | J48: =ROUNDDOWN(D48*I48, 0) -> 0 | K48: =E48+G48+I48 -> 1160 | L48: =F48+H48+J48 -> 1160 | M48: 고정식 | O48: ="01" -> 01 | P48: 기계경비 | Q48: 1 | R48: =IF(P48="기계경비", J48, 0) -> 0 | S48: =IF(P48="운반비", L48, 0) -> 0 | T48: =IF(P48="작업부산물", F48, 0) -> 0 | U48: =IF(P48="관급", F48, 0) -> 0 | V48: =IF(P48="외주비", J48, 0) -> 0 | W48: =IF(P48="장비비", J48, 0) -> 0 | X48: =IF(P48="폐기물처리비", L48, 0) -> 0 | Y48: =IF(P48="가설비", J48, 0) -> 0 | Z48: =IF(P48="잡비제외분", F48, 0) -> 0 | AA48: =IF(P48="사급자재대", L48, 0) -> 0 | AB48: =IF(P48="관급자재대", L48, 0) -> 0 | AC48: =IF(P48="사용자항목1", L48, 0) -> 0 | AD48: =IF(P48="사용자항목2", L48, 0) -> 0 | AE48: =IF(P48="안전관리비", L48, 0) -> 0 | AF48: =IF(P48="품질관리비", L48, 0) -> 0 | AG48: =IF(P48="작업부산물(철거해체)", L48, 0) -> 0 | AH48: =IF(P48="사용자항목6", L48, 0) -> 0 | AI48: =IF(P48="사용자항목7", L48, 0) -> 0 | AJ48: =IF(P48="사용자항목8", L48, 0) -> 0 | AK48: =IF(P48="사용자항목9", L48, 0) -> 0 | AL48: =IF(P48="사용자항목10", L48, 0) -> 0 | AM48: =IF(P48="사용자항목11", L48, 0) -> 0 | AN48: =IF(P48="사용자항목12", L48, 0) -> 0 | AO48: =IF(P48="사용자항목13", L48, 0) -> 0 | AP48: =IF(P48="사용자항목14", L48, 0) -> 0 | AQ48: =IF(P48="사용자항목15", L48, 0) -> 0 | AR48: =IF(P48="사용자항목16", L48, 0) -> 0 | AS48: =IF(P48="사용자항목17", L48, 0) -> 0 | AT48: =IF(P48="사용자항목18", L48, 0) -> 0 | AU48: =IF(P48="사용자항목19", L48, 0) -> 0
A49: 입상케이블 보호관 설치 | B49: 입상관 Φ175mm 이하 | C49: m | D49: 2 | E49: =일위대가목록!G18 -> 3306 | F49: =ROUNDDOWN(D49*E49, 0) -> 6612 | G49: =일위대가목록!I18 -> 110220 | H49: =ROUNDDOWN(D49*G49, 0) -> 220440 | I49: =일위대가목록!K18 -> 0 | J49: =ROUNDDOWN(D49*I49, 0) -> 0 | K49: =E49+G49+I49 -> 113526 | L49: =F49+H49+J49 -> 227052 | M49: 일위 14호 | O49: ="" | P49: 기계경비 | Q49: 1 | R49: =IF(P49="기계경비", J49, 0) -> 0 | S49: =IF(P49="운반비", L49, 0) -> 0 | T49: =IF(P49="작업부산물", F49, 0) -> 0 | U49: =IF(P49="관급", F49, 0) -> 0 | V49: =IF(P49="외주비", J49, 0) -> 0 | W49: =IF(P49="장비비", J49, 0) -> 0 | X49: =IF(P49="폐기물처리비", L49, 0) -> 0 | Y49: =IF(P49="가설비", J49, 0) -> 0 | Z49: =IF(P49="잡비제외분", F49, 0) -> 0 | AA49: =IF(P49="사급자재대", L49, 0) -> 0 | AB49: =IF(P49="관급자재대", L49, 0) -> 0 | AC49: =IF(P49="사용자항목1", L49, 0) -> 0 | AD49: =IF(P49="사용자항목2", L49, 0) -> 0 | AE49: =IF(P49="안전관리비", L49, 0) -> 0 | AF49: =IF(P49="품질관리비", L49, 0) -> 0 | AG49: =IF(P49="작업부산물(철거해체)", L49, 0) -> 0 | AH49: =IF(P49="사용자항목6", L49, 0) -> 0 | AI49: =IF(P49="사용자항목7", L49, 0) -> 0 | AJ49: =IF(P49="사용자항목8", L49, 0) -> 0 | AK49: =IF(P49="사용자항목9", L49, 0) -> 0 | AL49: =IF(P49="사용자항목10", L49, 0) -> 0 | AM49: =IF(P49="사용자항목11", L49, 0) -> 0 | AN49: =IF(P49="사용자항목12", L49, 0) -> 0 | AO49: =IF(P49="사용자항목13", L49, 0) -> 0 | AP49: =IF(P49="사용자항목14", L49, 0) -> 0 | AQ49: =IF(P49="사용자항목15", L49, 0) -> 0 | AR49: =IF(P49="사용자항목16", L49, 0) -> 0 | AS49: =IF(P49="사용자항목17", L49, 0) -> 0 | AT49: =IF(P49="사용자항목18", L49, 0) -> 0 | AU49: =IF(P49="사용자항목19", L49, 0) -> 0
A50: 구멍뚫기(코어드릴) | B50: D150, 콘크리트 150㎜, 벽 | C50: 개소 | D50: 1 | E50: =일위대가목록!G19 -> 2113 | F50: =ROUNDDOWN(D50*E50, 0) -> 2113 | G50: =일위대가목록!I19 -> 105692 | H50: =ROUNDDOWN(D50*G50, 0) -> 105692 | I50: =일위대가목록!K19 -> 0 | J50: =ROUNDDOWN(D50*I50, 0) -> 0 | K50: =E50+G50+I50 -> 107805 | L50: =F50+H50+J50 -> 107805 | M50: 일위 15호 | O50: ="" | P50: 기계경비 | Q50: 1 | R50: =IF(P50="기계경비", J50, 0) -> 0 | S50: =IF(P50="운반비", L50, 0) -> 0 | T50: =IF(P50="작업부산물", F50, 0) -> 0 | U50: =IF(P50="관급", F50, 0) -> 0 | V50: =IF(P50="외주비", J50, 0) -> 0 | W50: =IF(P50="장비비", J50, 0) -> 0 | X50: =IF(P50="폐기물처리비", L50, 0) -> 0 | Y50: =IF(P50="가설비", J50, 0) -> 0 | Z50: =IF(P50="잡비제외분", F50, 0) -> 0 | AA50: =IF(P50="사급자재대", L50, 0) -> 0 | AB50: =IF(P50="관급자재대", L50, 0) -> 0 | AC50: =IF(P50="사용자항목1", L50, 0) -> 0 | AD50: =IF(P50="사용자항목2", L50, 0) -> 0 | AE50: =IF(P50="안전관리비", L50, 0) -> 0 | AF50: =IF(P50="품질관리비", L50, 0) -> 0 | AG50: =IF(P50="작업부산물(철거해체)", L50, 0) -> 0 | AH50: =IF(P50="사용자항목6", L50, 0) -> 0 | AI50: =IF(P50="사용자항목7", L50, 0) -> 0 | AJ50: =IF(P50="사용자항목8", L50, 0) -> 0 | AK50: =IF(P50="사용자항목9", L50, 0) -> 0 | AL50: =IF(P50="사용자항목10", L50, 0) -> 0 | AM50: =IF(P50="사용자항목11", L50, 0) -> 0 | AN50: =IF(P50="사용자항목12", L50, 0) -> 0 | AO50: =IF(P50="사용자항목13", L50, 0) -> 0 | AP50: =IF(P50="사용자항목14", L50, 0) -> 0 | AQ50: =IF(P50="사용자항목15", L50, 0) -> 0 | AR50: =IF(P50="사용자항목16", L50, 0) -> 0 | AS50: =IF(P50="사용자항목17", L50, 0) -> 0 | AT50: =IF(P50="사용자항목18", L50, 0) -> 0 | AU50: =IF(P50="사용자항목19", L50, 0) -> 0
A51: 배수펌프(오.배수용) | B51: 50mm 0.75KW 10m | C51: 대 | D51: 2 | E51: =일위대가목록!G20 -> 1195075 | F51: =ROUNDDOWN(D51*E51, 0) -> 2390150 | G51: =일위대가목록!I20 -> 402502 | H51: =ROUNDDOWN(D51*G51, 0) -> 805004 | I51: =일위대가목록!K20 -> 0 | J51: =ROUNDDOWN(D51*I51, 0) -> 0 | K51: =E51+G51+I51 -> 1597577 | L51: =F51+H51+J51 -> 3195154 | M51: 일위 16호 | O51: ="" | P51: 기계경비 | Q51: 1 | R51: =IF(P51="기계경비", J51, 0) -> 0 | S51: =IF(P51="운반비", L51, 0) -> 0 | T51: =IF(P51="작업부산물", F51, 0) -> 0 | U51: =IF(P51="관급", F51, 0) -> 0 | V51: =IF(P51="외주비", J51, 0) -> 0 | W51: =IF(P51="장비비", J51, 0) -> 0 | X51: =IF(P51="폐기물처리비", L51, 0) -> 0 | Y51: =IF(P51="가설비", J51, 0) -> 0 | Z51: =IF(P51="잡비제외분", F51, 0) -> 0 | AA51: =IF(P51="사급자재대", L51, 0) -> 0 | AB51: =IF(P51="관급자재대", L51, 0) -> 0 | AC51: =IF(P51="사용자항목1", L51, 0) -> 0 | AD51: =IF(P51="사용자항목2", L51, 0) -> 0 | AE51: =IF(P51="안전관리비", L51, 0) -> 0 | AF51: =IF(P51="품질관리비", L51, 0) -> 0 | AG51: =IF(P51="작업부산물(철거해체)", L51, 0) -> 0 | AH51: =IF(P51="사용자항목6", L51, 0) -> 0 | AI51: =IF(P51="사용자항목7", L51, 0) -> 0 | AJ51: =IF(P51="사용자항목8", L51, 0) -> 0 | AK51: =IF(P51="사용자항목9", L51, 0) -> 0 | AL51: =IF(P51="사용자항목10", L51, 0) -> 0 | AM51: =IF(P51="사용자항목11", L51, 0) -> 0 | AN51: =IF(P51="사용자항목12", L51, 0) -> 0 | AO51: =IF(P51="사용자항목13", L51, 0) -> 0 | AP51: =IF(P51="사용자항목14", L51, 0) -> 0 | AQ51: =IF(P51="사용자항목15", L51, 0) -> 0 | AR51: =IF(P51="사용자항목16", L51, 0) -> 0 | AS51: =IF(P51="사용자항목17", L51, 0) -> 0 | AT51: =IF(P51="사용자항목18", L51, 0) -> 0 | AU51: =IF(P51="사용자항목19", L51, 0) -> 0 | AY51: 설치
A52: 합 계 | F52: =ROUNDDOWN(SUMIF(Q38:Q51, "1", F38:F51), 0) -> 3447068 | H52: =ROUNDDOWN(SUMIF(Q38:Q51, "1", H38:H51), 0) -> 4153177 | J52: =ROUNDDOWN(SUMIF(Q38:Q51, "1", J38:J51), 0) -> 0 | L52: =F52+H52+J52 -> 7600245 | R52: =ROUNDDOWN(SUM(R38:R51), 0) -> 0 | S52: =ROUNDDOWN(SUM(S38:S51), 0) -> 0 | T52: =ROUNDDOWN(SUM(T38:T51), 0) -> 0 | U52: =ROUNDDOWN(SUM(U38:U51), 0) -> 0 | V52: =ROUNDDOWN(SUM(V38:V51), 0) -> 0 | W52: =ROUNDDOWN(SUM(W38:W51), 0) -> 0 | X52: =ROUNDDOWN(SUM(X38:X51), 0) -> 0 | Y52: =ROUNDDOWN(SUM(Y38:Y51), 0) -> 0 | ... AY52: =ROUNDDOWN(SUM(AY38:AY51), 0) -> 0
A53: 03. 제어반 이설공사
A54: 큐비클철거 | B54: 500kg 이하, 1.0m3 이하 | C54: EA | D54: 1 | E54: =일위대가목록!G21 -> 0 | F54: =ROUNDDOWN(D54*E54, 0) -> 0 | G54: =일위대가목록!I21 -> 716818 | H54: =ROUNDDOWN(D54*G54, 0) -> 716818 | I54: =일위대가목록!K21 -> 0 | J54: =ROUNDDOWN(D54*I54, 0) -> 0 | K54: =E54+G54+I54 -> 716818 | L54: =F54+H54+J54 -> 716818 | M54: 일위 17호 | O54: ="" | P54: 기계경비 | Q54: 1 | R54: =IF(P54="기계경비", J54, 0) -> 0 | S54: =IF(P54="운반비", L54, 0) -> 0 | T54: =IF(P54="작업부산물", F54, 0) -> 0 | U54: =IF(P54="관급", F54, 0) -> 0 | V54: =IF(P54="외주비", J54, 0) -> 0 | W54: =IF(P54="장비비", J54, 0) -> 0 | X54: =IF(P54="폐기물처리비", L54, 0) -> 0 | Y54: =IF(P54="가설비", J54, 0) -> 0 | Z54: =IF(P54="잡비제외분", F54, 0) -> 0 | AA54: =IF(P54="사급자재대", L54, 0) -> 0 | AB54: =IF(P54="관급자재대", L54, 0) -> 0 | AC54: =IF(P54="사용자항목1", L54, 0) -> 0 | AD54: =IF(P54="사용자항목2", L54, 0) -> 0 | AE54: =IF(P54="안전관리비", L54, 0) -> 0 | AF54: =IF(P54="품질관리비", L54, 0) -> 0 | AG54: =IF(P54="작업부산물(철거해체)", L54, 0) -> 0 | AH54: =IF(P54="사용자항목6", L54, 0) -> 0 | AI54: =IF(P54="사용자항목7", L54, 0) -> 0 | AJ54: =IF(P54="사용자항목8", L54, 0) -> 0 | AK54: =IF(P54="사용자항목9", L54, 0) -> 0 | AL54: =IF(P54="사용자항목10", L54, 0) -> 0 | AM54: =IF(P54="사용자항목11", L54, 0) -> 0 | AN54: =IF(P54="사용자항목12", L54, 0) -> 0 | AO54: =IF(P54="사용자항목13", L54, 0) -> 0 | AP54: =IF(P54="사용자항목14", L54, 0) -> 0 | AQ54: =IF(P54="사용자항목15", L54, 0) -> 0 | AR54: =IF(P54="사용자항목16", L54, 0) -> 0 | AS54: =IF(P54="사용자항목17", L54, 0) -> 0 | AT54: =IF(P54="사용자항목18", L54, 0) -> 0 | AU54: =IF(P54="사용자항목19", L54, 0) -> 0 | AY54: 설치의 60%
...

Sheet 일위대가목록
A1: 일 위 대 가 목 록
A2: 공사명 : 1.내역서_대관2펌프장 제어반이설공사
A3: 호 표 | B3: 품 명 | C3: 규 격 | D3: 단위 | E3: 수량 | F3: 재 료 비 | H3: 노 무 비 | J3: 경 비 | L3: 합 계 | N3: 비 고
F4: 단 가 | G4: 금 액 | H4: 단 가 | I4: 금 액 | J4: 단 가 | K4: 금 액 | L4: 단 가 | M4: 금 액 | O4: 구분
