Workbook

Sheet 갑지
B2: 과 장 | D2: 팀장 | G2: 심사자 | I2: 설계자 | K2: 설 계 | L2: 2026년 07월 일 | N2: 결 재
K3: 심 사 | L3: 2026년 07월 일 | N3: 월 일
G5: 설 계 내 역 서
D7: 건 명 : 대관B펌프장 제어반이설공사
D9: 구 분 | G9: 금 액 | M9: 비 고
D10: 공 급 가 액 | G10: ="일금"&NUMBERSTRING(K10,1)&"원정" -> 일금이천오백육십사만팔천원정 | K10: =원가계산서!E33 -> 25648000
D11: 부가가치세 | G11: ="일금"&NUMBERSTRING(K11,1)&"원정" -> 일금이백오십육만사천팔백원정 | K11: =원가계산서!E34 -> 2564800
D12: 도 급 금 액 | G12: ="일금"&NUMBERSTRING(K12,1)&"원정" -> 일금이천팔백이십일만이천팔백원정 | K12: =원가계산서!E35 -> 28212800
D13: 관 급 자 재 | G13: ="일금"&NUMBERSTRING(K13,1)&"원정" -> 일금일천일백오만구천사백원정 | K13: =원가계산서!E36 -> 11059400
D14: 표준시설부담금 | G14: ="일금"&NUMBERSTRING(K14,1)&"원정" -> 일금오십팔만오천육백사십원정 | K14: =원가계산서!E37 -> 585640 | M14: 이천시납부
D15: 계 | G15: ="일금"&NUMBERSTRING(K15,1)&"원정" -> 일금삼천구백팔십오만칠천팔백원정 | K15: =ROUNDDOWN(SUM(K12:L14),-2) -> 39857800 | R15: 11059400
D17: 개 요 : | F17: 1. 전기공사 | M17: 1 식 | R17: =K15+R15 -> 50917200
F18: 2. 전동기제어반 | M18: 1면

Sheet 원가계산서
A1: 공 사 원 가 계 산 서
A2: 공사명 : 1.내역서_대관2펌프장 제어반이설공사
A3: 구 분 비 목 | D3: 구 성 비 | E3: 금 액 | F3: 비 고
A5: 순 공 사 원 가 | B5: 재료비 | C5: 직 접 재 료 비 | E5: =ROUNDDOWN(집계표!E20-집계표!AU20, 0) -> 5504125 | G5: A1 | H5: 0 | I5: =E5 -> 5504125
C6: 간 접 재 료 비 | E6: =ROUNDDOWN(E5*H6, 0) -> 0 | G6: A2 | H6: 0 | I6: =E6 -> 0
C7: 작업설.부산물 등(△) | E7: =집계표!S20 -> 0 | G7: A3 | H7: 0 | I7: =E7 -> 0
C8: 소 계 | E8: =SUM(E5:E6)-ABS(E7) -> 5504125 | G8: A | H8: 0 | I8: =E8 -> 5504125
B9: 노무비 | C9: 직 접 노 무 비 | E9: =ROUNDDOWN(집계표!G20, 0) -> 9945724 | G9: B1 | H9: 0 | I9: =E9 -> 9945724
C10: 간 접 노 무 비 | D10: ="직.노*"&H10*100&"%" -> 직.노*19.1% | E10: =ROUNDDOWN(E9*H10, 0) -> 1899633 | G10: B2 | H10: 0.191 | I10: =E10 -> 1899633
C11: 소 계 | E11: =SUM(E9:E10) -> 11845357 | G11: B | H11: 0 | I11: =E11 -> 11845357
B12: 경 비 | C12: 기 계 경 비 | E12: =ROUNDDOWN(집계표!I20, 0) -> 452728 | G12: C4 | H12: 0 | I12: =E12 -> 452728
C13: 산 재 보 험 료 | D13: ="(노)*"&H13*100&"%" -> (노)*3.56% | E13: =ROUNDDOWN((E11)*H13, 0) -> 421694 | G13: C10 | H13: 0.0356 | I13: =E13 -> 421694
C14: 고 용 보 험 료 | D14: ="(노)*"&H14*100&"%" -> (노)*1.01% | E14: =ROUNDDOWN((E11)*H14, 0) -> 119638 | G14: C11 | H14: 0.0101 | I14: =E14 -> 119638
C15: 건 강 보 험 료 | D15: ="(직.노)*"&H15*100&"%" -> (직.노)*3.595% | E15: =ROUNDDOWN((E9)*H15, 0) -> 357548 | G15: C12 | H15: 0.03595 | I15: =E15 -> 357548
C16: 연 금 보 험 료 | D16: ="(직.노)*"&H16*100&"%" -> (직.노)*4.75% | E16: =ROUNDDOWN((E9)*H16, 0) -> 472421 | G16: C13 | H16: 0.0475 | I16: =E16 -> 472421
C17: 노인 장기 요양보험료 | D17: ="(건강보험료)*"&H17*100&"%" -> (건강보험료)*13.14% | E17: =ROUNDDOWN((E15)*H17, 0) -> 46981 | G17: C14 | H17: 0.1314 | I17: =E17 -> 46981
C18: 퇴 직 공 제 부 금 비 | E18: =ROUNDDOWN((E9)*H18, 0) -> 0 | G18: C15 | H18: 0 | I18: =E18 -> 0
C19: 산업 안전 보건관리비 | D19: ="(재+직.노)*"&H19*100&"%"&" " -> (재+직.노)*2.07% | E19: =ROUNDDOWN((E8+E11)*H19, 0) -> 359134 | G19: C16 | H19: 0.0207 | I19: =E19 -> 359134
C20: 기 타 경 비 | D20: ="(재+노)*"&H20*100&"%" -> (재+노)*5.5% | E20: =ROUNDDOWN((E8+E11)*H20, 0) -> 954221 | G20: C20 | H20: 0.055 | I20: =E20 -> 954221
C21: 환 경 보 전 비 | E21: =ROUNDDOWN((E8+E9+E12)*H21, 0) -> 0 | G21: C25 | H21: 0 | I21: =E21 -> 0
C22: 건설하도급보증수수료 | E22: =ROUNDDOWN((E8+E9+E12)*H22, 0) -> 0 | G22: C30 | H22: 0 | I22: =E22 -> 0
C23: 공사 이행 보증수수료 | D23: ="(재+직.노+기.경)*"&H23*100&"%"&"*(6/12)" -> (재+직.노+기.경)*0%*(6/12) | E23: =ROUNDDOWN((E8+E9+E12)*H23*(6/12), 0) -> 0 | G23: C31 | H23: 0 | I23: =E23 -> 0
C24: 건설기계대여보증수수료 | E24: =ROUNDDOWN((E8+E9+E12)*H24, 0) -> 0 | G24: C32 | H24: 0 | I24: =E24 -> 0
C25: 석 면 분 담 금 | D25: ="노*"&H25*100&"%" -> 노*0.006% | E25: =ROUNDDOWN(E11*H25, 0) -> 710 | G25: C21 | H25: 6e-05 | I25: =E25 -> 710
C26: 임금 채권 부담금 | D26: ="노*"&H26*100&"%" -> 노*0.09% | E26: =ROUNDDOWN(E11*H26, 0) -> 10660 | G26: C22 | H26: 0.0009 | I26: =E26 -> 10660
C27: 소 계 | E27: =SUM(E12:E26) -> 3195735 | G27: C | H27: 0 | I27: =E27 -> 3195735
B28: 계 | E28: =E8+E11+E27 -> 20545217 | G28: X | H28: 0 | I28: =E28 -> 20545217
A29: 일 반 관 리 비 | D29: ="(재+노+경)*"&H29*100&"%" -> (재+노+경)*8% | E29: =ROUNDDOWN((E8+E11+E27)*H29, 0) -> 1643617 | G29: D | H29: 0.08 | I29: =E29 -> 1643617
A30: 이 윤 | D30: ="(노+경+일)*"&H30*100&"%" -> (노+경+일)*15% | E30: =ROUNDDOWN((E11+E27+E29)*H30,0) -> 2502706 | G30: E | H30: 0.15 | I30: =(I11+I27+I29)*H30 -> 2502706.4
A31: 폐 기 물 처 리 비 | D31: 5톤이상 ~ 100톤미만 | E31: =ROUNDDOWN(집계표!AF20, 0) -> 902888 | G31: M2 | H31: 0 | I31: =E31 -> 902888
A32: 손해배상보험료 | D32: (순공사원가)*0.26477%(100원미만절사)/최저공제료:20,000원 | E32: =ROUNDDOWN((E28)*H32, -2) -> 54300 | G32: L1 | H32: 0.0026477 | I32: =E32 -> 54300
A33: 총 원 가 | E33: =INT(I33/1000)*1000 -> 25648000 | G33: F | H33: 0 | I33: =SUM(I28:I32) -> 25648728
A34: 부 가 가 치 세 | D34: ="(총원가)*"&H34*100&"%" -> (총원가)*10% | E34: =ROUNDDOWN((E33)*H34, 0) -> 2564800 | G34: H | H34: 0.1 | I34: =ROUNDDOWN((I33)*H34, 0) -> 2564872
A35: 도 급 금 액 | E35: =E33+E34 -> 28212800 | G35: Y | H35: 0 | I35: =I33+I34 -> 28213600
A36: 관 급 자 재 대 | D36: 관급자 설치 | E36: =ROUNDDOWN(집계표!AA20, 0) -> 11059400 | G36: J | H36: 0 | I36: =E36 -> 11059400
A37: 표 준 시 설 부 담 금 | E37: =ROUNDDOWN(집계표!Z20, 0) -> 585640 | G37: K | H37: 0 | I37: =E37 -> 585640
A38: 총 공 사 금 액 | E38: =ROUNDDOWN(E35+E36+E37+0+0, 0) -> 39857840 | H38: 0 | I38: =I35+I36+I37+0+0 -> 39858640

Sheet 집계표
A1: 공 사 집 계 표
A2: 공사명 : 1.내역서_대관2펌프장 제어반이설공사
A3: 품 명 | B3: 단위 | C3: 수량 | D3: 재 료 비 | F3: 노 무 비 | H3: 경 비 | J3: 합 계 | L3: 비고
D4: 단 가 | E4: 금 액 | F4: 단 가 | G4: 금 액 | H4: 단 가 | I4: 금 액 | J4: 단 가 | K4: 금 액 | M4: 손료요율 | N4: 손료구분 | O4: 적용구분 | P4: 합계구분 | Q4: 기계경비 | R4: 운반비 | S4: 작업부산물 | T4: 관급 | U4: 외주비 | V4: 장비비 | W4: 폐기물처리비 | X4: 가설비 | Y4: 잡비제외분 | Z4: 사급자재대 | AA4: 관급자재대 | AB4: 사용자항목1 | AC4: 사용자항목2 | AD4: 안전관리비 | AE4: 품질관리비 | AF4: 작업부산물(철거해체) | AG4: 사용자항목6 | AH4: 사용자항목7 | AI4: 사용자항목8 | AJ4: 사용자항목9 | AK4: 사용자항목10 | AL4: 사용자항목11 | AM4: 사용자항목12 | AN4: 사용자항목13 | AO4: 사용자항목14 | AP4: 사용자항목15 | AQ4: 사용자항목16 | AR4: 사용자항목17 | AS4: 사용자항목18 | AT4: 사용자항목19 | AU4: 간접재료비 | AV4: 품목구분 | AW4: 조달코드 | AX4: 구분
A5: 01. 토목공사 | B5: 식 | C5: 1 | D5: =내역서!F36 -> 1846212 | E5: =C5*D5 -> 1846212 | F5: =내역서!H36 -> 4503871 | G5: =C5*F5 -> 4503871 | H5: =내역서!J36 -> 409952 | I5: =C5*H5 -> 409952 | J5: =D5+F5+H5 -> 6760035 | K5: =E5+G5+I5 -> 6760035 | P5: 1 | Q5: =C5*내역서!R36 -> 409952 | R5: =C5*내역서!S36 -> 0 | S5: =C5*내역서!T36 -> 0 | T5: =C5*내역서!U36 -> 0 | U5: =C5*내역서!V36 -> 0 | V5: =C5*내역서!W36 -> 0 | W5: =C5*내역서!X36 -> 0 | X5: =C5*내역서!Y36 -> 0 | Y5: =C5*내역서!Z36 -> 0 | Z5: =C5*내역서!AA36 -> 0 | AA5: =C5*내역서!AB36 -> 0 | AB5: =C5*내역서!AC36 -> 0 | AC5: =C5*내역서!AD36 -> 0 | AD5: =C5*내역서!AE36 -> 0 | AE5: =C5*내역서!AF36 -> 0 | AF5: =C5*내역서!AG36 -> 0 | AG5: =C5*내역서!AH36 -> 0 | AH5: =C5*내역서!AI36 -> 0 | AI5: =C5*내역서!AJ36 -> 0 | AJ5: =C5*내역서!AK36 -> 0 | AK5: =C5*내역서!AL36 -> 0 | AL5: =C5*내역서!AM36 -> 0 | AM5: =C5*내역서!AN36 -> 0 | AN5: =C5*내역서!AO36 -> 0 | AO5: =C5*내역서!AP36 -> 0 | AP5: =C5*내역서!AQ36 -> 0 | AQ5: =C5*내역서!AR36 -> 0 | AR5: =C5*내역서!AS36 -> 0 | AS5: =C5*내역서!AT36 -> 0 | AT5: =C5*내역서!AU36 -> 0 | AU5: =C5*내역서!AV36 -> 0
A6: 02. 배관배선공사 | B6: 식 | C6: 1 | D6: =내역서!F52 -> 3447068 | E6: =C6*D6 -> 3447068 | F6: =내역서!H52 -> 4153177 | G6: =C6*F6 -> 4153177 | H6: =내역서!J52 -> 0 | I6: =C6*H6 -> 0 | J6: =D6+F6+H6 -> 7600245 | K6: =E6+G6+I6 -> 7600245 | P6: 1 | Q6: =C6*내역서!R52 -> 0 | R6: =C6*내역서!S52 -> 0 | S6: =C6*내역서!T52 -> 0 | T6: =C6*내역서!U52 -> 0 | U6: =C6*내역서!V52 -> 0 | V6: =C6*내역서!W52 -> 0 | W6: =C6*내역서!X52 -> 0 | X6: =C6*내역서!Y52 -> 0 | Y6: =C6*내역서!Z52 -> 0 | Z6: =C6*내역서!AA52 -> 0 | AA6: =C6*내역서!AB52 -> 0 | AB6: =C6*내역서!AC52 -> 0 | AC6: =C6*내역서!AD52 -> 0 | AD6: =C6*내역서!AE52 -> 0 | AE6: =C6*내역서!AF52 -> 0 | AF6: =C6*내역서!AG52 -> 0 | AG6: =C6*내역서!AH52 -> 0 | AH6: =C6*내역서!AI52 -> 0 | AI6: =C6*내역서!AJ52 -> 0 | AJ6: =C6*내역서!AK52 -> 0 | AK6: =C6*내역서!AL52 -> 0 | AL6: =C6*내역서!AM52 -> 0 | AM6: =C6*내역서!AN52 -> 0 | AN6: =C6*내역서!AO52 -> 0 | AO6: =C6*내역서!AP52 -> 0 | AP6: =C6*내역서!AQ52 -> 0 | AQ6: =C6*내역서!AR52 -> 0 | AR6: =C6*내역서!AS52 -> 0 | AS6: =C6*내역서!AT52 -> 0 | AT6: =C6*내역서!AU52 -> 0 | AU6: =C6*내역서!AV52 -> 0
A7: 03. 제어반 이설공사 | B7: 식 | C7: 1 | D7: =내역서!F68 -> 210845 | E7: =C7*D7 -> 210845 | F7: =내역서!H68 -> 1288676 | G7: =C7*F7 -> 1288676 | H7: =내역서!J68 -> 42776 | I7: =C7*H7 -> 42776 | J7: =D7+F7+H7 -> 1542297 | K7: =E7+G7+I7 -> 1542297 | P7: 1 | Q7: =C7*내역서!R68 -> 42776 | R7: =C7*내역서!S68 -> 0 | S7: =C7*내역서!T68 -> 0 | T7: =C7*내역서!U68 -> 0 | U7: =C7*내역서!V68 -> 0 | V7: =C7*내역서!W68 -> 0 | W7: =C7*내역서!X68 -> 0 | X7: =C7*내역서!Y68 -> 0 | Y7: =C7*내역서!Z68 -> 0 | Z7: =C7*내역서!AA68 -> 0 | AA7: =C7*내역서!AB68 -> 0 | AB7: =C7*내역서!AC68 -> 0 | AC7: =C7*내역서!AD68 -> 0 | AD7: =C7*내역서!AE68 -> 0 | AE7: =C7*내역서!AF68 -> 0 | AF7: =C7*내역서!AG68 -> 0 | AG7: =C7*내역서!AH68 -> 0 | AH7: =C7*내역서!AI68 -> 0 | AI7: =C7*내역서!AJ68 -> 0 | AJ7: =C7*내역서!AK68 -> 0 | AK7: =C7*내역서!AL68 -> 0 | AL7: =C7*내역서!AM68 -> 0 | AM7: =C7*내역서!AN68 -> 0 | AN7: =C7*내역서!AO68 -> 0 | AO7: =C7*내역서!AP68 -> 0 | AP7: =C7*내역서!AQ68 -> 0 | AQ7: =C7*내역서!AR68 -> 0 | AR7: =C7*내역서!AS68 -> 0 | AS7: =C7*내역서!AT68 -> 0 | AT7: =C7*내역서!AU68 -> 0 | AU7: =C7*내역서!AV68 -> 0
A8: 04. 폐기물처리비 | B8: 식 | C8: 1 | D8: =내역서!F84 -> 0 | E8: =C8*D8 -> 0 | F8: =내역서!H84 -> 0 | G8: =C8*F8 -> 0 | H8: =내역서!J84 -> 902888 | I8: =C8*H8 -> 902888 | J8: =D8+F8+H8 -> 902888 | K8: =E8+G8+I8 -> 902888 | L8: 합계제외 | Q8: =C8*내역서!R84 -> 0 | R8: =C8*내역서!S84 -> 0 | S8: =C8*내역서!T84 -> 0 | T8: =C8*내역서!U84 -> 0 | U8: =C8*내역서!V84 -> 0 | V8: =C8*내역서!W84 -> 0 | W8: =C8*내역서!X84 -> 0 | X8: =C8*내역서!Y84 -> 0 | Y8: =C8*내역서!Z84 -> 0 | Z8: =C8*내역서!AA84 -> 0 | AA8: =C8*내역서!AB84 -> 0 | AB8: =C8*내역서!AC84 -> 0 | AC8: =C8*내역서!AD84 -> 0 | AD8: =C8*내역서!AE84 -> 0 | AE8: =C8*내역서!AF84 -> 0 | AF8: =C8*내역서!AG84 -> 902888 | AG8: =C8*내역서!AH84 -> 0 | AH8: =C8*내역서!AI84 -> 0 | AI8: =C8*내역서!AJ84 -> 0 | AJ8: =C8*내역서!AK84 -> 0 | AK8: =C8*내역서!AL84 -> 0 | AL8: =C8*내역서!AM84 -> 0 | AM8: =C8*내역서!AN84 -> 0 | AN8: =C8*내역서!AO84 -> 0 | AO8: =C8*내역서!AP84 -> 0 | AP8: =C8*내역서!AQ84 -> 0 | AQ8: =C8*내역서!AR84 -> 0 | AR8: =C8*내역서!AS84 -> 0 | AS8: =C8*내역서!AT84 -> 0 | AT8: =C8*내역서!AU84 -> 0 | AU8: =C8*내역서!AV84 -> 0
A9: 05. 표준시설부담금 | B9: 식 | C9: 1 | D9: =내역서!F100 -> 585640 | E9: =C9*D9 -> 585640 | F9: =내역서!H100 -> 0 | G9: =C9*F9 -> 0 | H9: =내역서!J100 -> 0 | I9: =C9*H9 -> 0 | J9: =D9+F9+H9 -> 585640 | K9: =E9+G9+I9 -> 585640 | L9: 합계제외 | Q9: =C9*내역서!R100 -> 0 | R9: =C9*내역서!S100 -> 0 | S9: =C9*내역서!T100 -> 0 | T9: =C9*내역서!U100 -> 0 | U9: =C9*내역서!V100 -> 0 | V9: =C9*내역서!W100 -> 0 | W9: =C9*내역서!X100 -> 0 | X9: =C9*내역서!Y100 -> 0 | Y9: =C9*내역서!Z100 -> 0 | Z9: =C9*내역서!AA100 -> 585640 | AA9: =C9*내역서!AB100 -> 0 | AB9: =C9*내역서!AC100 -> 0 | AC9: =C9*내역서!AD100 -> 0 | AD9: =C9*내역서!AE100 -> 0 | AE9: =C9*내역서!AF100 -> 0 | AF9: =C9*내역서!AG100 -> 0 | AG9: =C9*내역서!AH100 -> 0 | AH9: =C9*내역서!AI100 -> 0 | AI9: =C9*내역서!AJ100 -> 0 | AJ9: =C9*내역서!AK100 -> 0 | AK9: =C9*내역서!AL100 -> 0 | AL9: =C9*내역서!AM100 -> 0 | AM9: =C9*내역서!AN100 -> 0 | AN9: =C9*내역서!AO100 -> 0 | AO9: =C9*내역서!AP100 -> 0 | AP9: =C9*내역서!AQ100 -> 0 | AQ9: =C9*내역서!AR100 -> 0 | AR9: =C9*내역서!AS100 -> 0 | AS9: =C9*내역서!AT100 -> 0 | AT9: =C9*내역서!AU100 -> 0 | AU9: =C9*내역서!AV100 -> 0
A10: 06. 관급자재대 | B10: 식 | C10: 1 | D10: =내역서!F116 -> 11059400 | E10: =C10*D10 -> 11059400 | F10: =내역서!H116 -> 0 | G10: =C10*F10 -> 0 | H10: =내역서!J116 -> 0 | I10: =C10*H10 -> 0 | J10: =D10+F10+H10 -> 11059400 | K10: =E10+G10+I10 -> 11059400 | L10: 합계제외 | Q10: =C10*내역서!R116 -> 0 | R10: =C10*내역서!S116 -> 0 | S10: =C10*내역서!T116 -> 0 | T10: =C10*내역서!U116 -> 0 | U10: =C10*내역서!V116 -> 0 | V10: =C10*내역서!W116 -> 0 | W10: =C10*내역서!X116 -> 0 | X10: =C10*내역서!Y116 -> 0 | Y10: =C10*내역서!Z116 -> 0 | Z10: =C10*내역서!AA116 -> 0 | AA10: =C10*내역서!AB116 -> 11059400 | AB10: =C10*내역서!AC116 -> 0 | AC10: =C10*내역서!AD116 -> 0 | AD10: =C10*내역서!AE116 -> 0 | AE10: =C10*내역서!AF116 -> 0 | AF10: =C10*내역서!AG116 -> 0 | AG10: =C10*내역서!AH116 -> 0 | AH10: =C10*내역서!AI116 -> 0 | AI10: =C10*내역서!AJ116 -> 0 | AJ10: =C10*내역서!AK116 -> 0 | AK10: =C10*내역서!AL116 -> 0 | AL10: =C10*내역서!AM116 -> 0 | AM10: =C10*내역서!AN116 -> 0 | AN10: =C10*내역서!AO116 -> 0 | AO10: =C10*내역서!AP116 -> 0 | AP10: =C10*내역서!AQ116 -> 0 | AQ10: =C10*내역서!AR116 -> 0 | AR10: =C10*내역서!AS116 -> 0 | AS10: =C10*내역서!AT116 -> 0 | AT10: =C10*내역서!AU116 -> 0 | AU10: =C10*내역서!AV116 -> 0
A20: 합 계 | E20: =SUMIF(P5:P10, "1", E5:E10) -> 5504125 | G20: =SUMIF(P5:P10, "1", G5:G10) -> 9945724 | I20: =SUMIF(P5:P10, "1", I5:I10) -> 452728 | K20: =E20+G20+I20 -> 15902577 | Q20: =SUM(Q5:Q10) -> 452728 | R20: =SUM(R5:R10) -> 0 | S20: =SUM(S5:S10) -> 0 | T20: =SUM(T5:T10) -> 0 | U20: =SUM(U5:U10) -> 0 | V20: =SUM(V5:V10) -> 0 | W20: =SUM(W5:W10) -> 0 | X20: =SUM(X5:X10) -> 0 | ... AX20: =SUM(AX5:AX10) -> 0

Sheet 내역서
A1: 공 사 내 역 서
A2: 공사명 : 1.내역서_대관2펌프장 제어반이설공사
A3: 품 명 | B3: 규 격 | C3: 단위 | D3: 수 량 | E3: 재 료 비 | G3: 노 무 비 | I3: 경 비 | K3: 합 계 | M3: 비고
E4: 단 가 | F4: 금 액 | G4: 단 가 | H4: 금 액 | I4: 단 가 | J4: 금 액 | K4: 단 가 | L4: 금 액 | N4: 손료요율 | O4: 손료구분 | P4: 적용구분 | Q4: 합계구분 | R4: 기계경비 | S4: 운반비 | T4: 작업부산물 | U4: 관급 | V4: 외주비 | W4: 장비비 | X4: 폐기물처리비 | Y4: 가설비 | Z4: 잡비제외분 | AA4: 사급자재대 | AB4: 관급자재대 | AC4: 사용자항목1 | AD4: 사용자항목2 | AE4: 안전관리비 | AF4: 품질관리비 | AG4: 작업부산물(철거해체) | AH4: 사용자항목6 | AI4: 사용자항목7 | AJ4: 사용자항목8 | AK4: 사용자항목9 | AL4: 사용자항목10 | AM4: 사용자항목11 | AN4: 사용자항목12 | AO4: 사용자항목13 | AP4: 사용자항목14 | AQ4: 사용자항목15 | AR4: 사용자항목16 | AS4: 사용자항목17 | AT4: 사용자항목18 | AU4: 사용자항목19 | AV4: 간접재료비 | AW4: 품목구분 | AX4: 조달코드 | AY4: 구분
A5: 01. 토목공사
A6: 포장절단 | B6: 콘크리트(기계) | C6: M | D6: 43 | E6: =단가산출서목록!G5 -> 693 | F6: =ROUNDDOWN(D6*E6, 0) -> 29799 | G6: =단가산출서목록!I5 -> 28065 | H6: =ROUNDDOWN(D6*G6, 0) -> 1206795 | I6: =단가산출서목록!K5 -> 29 | J6: =ROUNDDOWN(D6*I6, 0) -> 1247 | K6: =E6+G6+I6 -> 28787 | L6: =F6+H6+J6 -> 1237841 | M6: 단산 1호 | O6: ="" | P6: 기계경비 | Q6: 1 | R6: =IF(P6="기계경비", J6, 0) -> 1247 | S6: =IF(P6="운반비", L6, 0) -> 0 | T6: =IF(P6="작업부산물", F6, 0) -> 0 | U6: =IF(P6="관급", F6, 0) -> 0 | V6: =IF(P6="외주비", J6, 0) -> 0 | W6: =IF(P6="장비비", J6, 0) -> 0 | X6: =IF(P6="폐기물처리비", L6, 0) -> 0 | Y6: =IF(P6="가설비", J6, 0) -> 0 | Z6: =IF(P6="잡비제외분", F6, 0) -> 0 | AA6: =IF(P6="사급자재대", L6, 0) -> 0 | AB6: =IF(P6="관급자재대", L6, 0) -> 0 | AC6: =IF(P6="사용자항목1", L6, 0) -> 0 | AD6: =IF(P6="사용자항목2", L6, 0) -> 0 | AE6: =IF(P6="안전관리비", L6, 0) -> 0 | AF6: =IF(P6="품질관리비", L6, 0) -> 0 | AG6: =IF(P6="작업부산물(철거해체)", L6, 0) -> 0 | AH6: =IF(P6="사용자항목6", L6, 0) -> 0 | AI6: =IF(P6="사용자항목7", L6, 0) -> 0 | AJ6: =IF(P6="사용자항목8", L6, 0) -> 0 | AK6: =IF(P6="사용자항목9", L6, 0) -> 0 | AL6: =IF(P6="사용자항목10", L6, 0) -> 0 | AM6: =IF(P6="사용자항목11", L6, 0) -> 0 | AN6: =IF(P6="사용자항목12", L6, 0) -> 0 | AO6: =IF(P6="사용자항목13", L6, 0) -> 0 | AP6: =IF(P6="사용자항목14", L6, 0) -> 0 | AQ6: =IF(P6="사용자항목15", L6, 0) -> 0 | AR6: =IF(P6="사용자항목16", L6, 0) -> 0 | AS6: =IF(P6="사용자항목17", L6, 0) -> 0 | AT6: =IF(P6="사용자항목18", L6, 0) -> 0 | AU6: =IF(P6="사용자항목19", L6, 0) -> 0
A7: 인력 터파기 | B7: 보통토사, 깊이 1m 미만 | C7: M3 | D7: 16 | E7: =일위대가목록!G5 -> 1032 | F7: =ROUNDDOWN(D7*E7, 0) -> 16512 | G7: =일위대가목록!I5 -> 34413 | H7: =ROUNDDOWN(D7*G7, 0) -> 550608 | I7: =일위대가목록!K5 -> 0 | J7: =ROUNDDOWN(D7*I7, 0) -> 0 | K7: =E7+G7+I7 -> 35445 | L7: =F7+H7+J7 -> 567120 | M7: 일위 1호 | O7: ="" | P7: 기계경비 | Q7: 1 | R7: =IF(P7="기계경비", J7, 0) -> 0 | S7: =IF(P7="운반비", L7, 0) -> 0 | T7: =IF(P7="작업부산물", F7, 0) -> 0 | U7: =IF(P7="관급", F7, 0) -> 0 | V7: =IF(P7="외주비", J7, 0) -> 0 | W7: =IF(P7="장비비", J7, 0) -> 0 | X7: =IF(P7="폐기물처리비", L7, 0) -> 0 | Y7: =IF(P7="가설비", J7, 0) -> 0 | Z7: =IF(P7="잡비제외분", F7, 0) -> 0 | AA7: =IF(P7="사급자재대", L7, 0) -> 0 | AB7: =IF(P7="관급자재대", L7, 0) -> 0 | AC7: =IF(P7="사용자항목1", L7, 0) -> 0 | AD7: =IF(P7="사용자항목2", L7, 0) -> 0 | AE7: =IF(P7="안전관리비", L7, 0) -> 0 | AF7: =IF(P7="품질관리비", L7, 0) -> 0 | AG7: =IF(P7="작업부산물(철거해체)", L7, 0) -> 0 | AH7: =IF(P7="사용자항목6", L7, 0) -> 0 | AI7: =IF(P7="사용자항목7", L7, 0) -> 0 | AJ7: =IF(P7="사용자항목8", L7, 0) -> 0 | AK7: =IF(P7="사용자항목9", L7, 0) -> 0 | AL7: =IF(P7="사용자항목10", L7, 0) -> 0 | AM7: =IF(P7="사용자항목11", L7, 0) -> 0 | AN7: =IF(P7="사용자항목12", L7, 0) -> 0 | AO7: =IF(P7="사용자항목13", L7, 0) -> 0 | AP7: =IF(P7="사용자항목14", L7, 0) -> 0 | AQ7: =IF(P7="사용자항목15", L7, 0) -> 0 | AR7: =IF(P7="사용자항목16", L7, 0) -> 0 | AS7: =IF(P7="사용자항목17", L7, 0) -> 0 | AT7: =IF(P7="사용자항목18", L7, 0) -> 0 | AU7: =IF(P7="사용자항목19", L7, 0) -> 0 | AY7: 통신
A8: 되메우기 및 다짐 | B8: 소형장비사용 | C8: M3 | D8: 16 | E8: =일위대가목록!G6 -> 1486 | F8: =ROUNDDOWN(D8*E8, 0) -> 23776 | G8: =일위대가목록!I6 -> 8228 | H8: =ROUNDDOWN(D8*G8, 0) -> 131648 | I8: =일위대가목록!K6 -> 1281 | J8: =ROUNDDOWN(D8*I8, 0) -> 20496 | K8: =E8+G8+I8 -> 10995 | L8: =F8+H8+J8 -> 175920 | M8: 일위 2호 | O8: ="" | P8: 기계경비 | Q8: 1 | R8: =IF(P8="기계경비", J8, 0) -> 20496 | S8: =IF(P8="운반비", L8, 0) -> 0 | T8: =IF(P8="작업부산물", F8, 0) -> 0 | U8: =IF(P8="관급", F8, 0) -> 0 | V8: =IF(P8="외주비", J8, 0) -> 0 | W8: =IF(P8="장비비", J8, 0) -> 0 | X8: =IF(P8="폐기물처리비", L8, 0) -> 0 | Y8: =IF(P8="가설비", J8, 0) -> 0 | Z8: =IF(P8="잡비제외분", F8, 0) -> 0 | AA8: =IF(P8="사급자재대", L8, 0) -> 0 | AB8: =IF(P8="관급자재대", L8, 0) -> 0 | AC8: =IF(P8="사용자항목1", L8, 0) -> 0 | AD8: =IF(P8="사용자항목2", L8, 0) -> 0 | AE8: =IF(P8="안전관리비", L8, 0) -> 0 | AF8: =IF(P8="품질관리비", L8, 0) -> 0 | AG8: =IF(P8="작업부산물(철거해체)", L8, 0) -> 0 | AH8: =IF(P8="사용자항목6", L8, 0) -> 0 | AI8: =IF(P8="사용자항목7", L8, 0) -> 0 | AJ8: =IF(P8="사용자항목8", L8, 0) -> 0 | AK8: =IF(P8="사용자항목9", L8, 0) -> 0 | AL8: =IF(P8="사용자항목10", L8, 0) -> 0 | AM8: =IF(P8="사용자항목11", L8, 0) -> 0 | AN8: =IF(P8="사용자항목12", L8, 0) -> 0 | AO8: =IF(P8="사용자항목13", L8, 0) -> 0 | AP8: =IF(P8="사용자항목14", L8, 0) -> 0 | AQ8: =IF(P8="사용자항목15", L8, 0) -> 0 | AR8: =IF(P8="사용자항목16", L8, 0) -> 0 | AS8: =IF(P8="사용자항목17", L8, 0) -> 0 | AT8: =IF(P8="사용자항목18", L8, 0) -> 0 | AU8: =IF(P8="사용자항목19", L8, 0) -> 0 | AY8: CDH11500000S
F9: =ROUNDDOWN(D9*E9, 0) -> 0 | H9: =ROUNDDOWN(D9*G9, 0) -> 0 | J9: =ROUNDDOWN(D9*I9, 0) -> 0 | K9: =E9+G9+I9 -> 0 | L9: =F9+H9+J9 -> 0 | O9: ="" | Q9: 1 | R9: =IF(P9="기계경비", J9, 0) -> 0 | S9: =IF(P9="운반비", L9, 0) -> 0 | T9: =IF(P9="작업부산물", F9, 0) -> 0 | U9: =IF(P9="관급", F9, 0) -> 0 | V9: =IF(P9="외주비", J9, 0) -> 0 | W9: =IF(P9="장비비", J9, 0) -> 0 | X9: =IF(P9="폐기물처리비", L9, 0) -> 0 | Y9: =IF(P9="가설비", J9, 0) -> 0 | Z9: =IF(P9="잡비제외분", F9, 0) -> 0 | AA9: =IF(P9="사급자재대", L9, 0) -> 0 | AB9: =IF(P9="관급자재대", L9, 0) -> 0 | AC9: =IF(P9="사용자항목1", L9, 0) -> 0 | AD9: =IF(P9="사용자항목2", L9, 0) -> 0 | AE9: =IF(P9="안전관리비", L9, 0) -> 0 | AF9: =IF(P9="품질관리비", L9, 0) -> 0 | AG9: =IF(P9="작업부산물(철거해체)", L9, 0) -> 0 | AH9: =IF(P9="사용자항목6", L9, 0) -> 0 | AI9: =IF(P9="사용자항목7", L9, 0) -> 0 | AJ9: =IF(P9="사용자항목8", L9, 0) -> 0 | AK9: =IF(P9="사용자항목9", L9, 0) -> 0 | AL9: =IF(P9="사용자항목10", L9, 0) -> 0 | AM9: =IF(P9="사용자항목11", L9, 0) -> 0 | AN9: =IF(P9="사용자항목12", L9, 0) -> 0 | AO9: =IF(P9="사용자항목13", L9, 0) -> 0 | AP9: =IF(P9="사용자항목14", L9, 0) -> 0 | AQ9: =IF(P9="사용자항목15", L9, 0) -> 0 | AR9: =IF(P9="사용자항목16", L9, 0) -> 0 | AS9: =IF(P9="사용자항목17", L9, 0) -> 0 | AT9: =IF(P9="사용자항목18", L9, 0) -> 0 | AU9: =IF(P9="사용자항목19", L9, 0) -> 0
A10: 아스팔트포장깨기 | B10: 굴착기 0.18㎥+브레이커, 두께20cm이하 | C10: M3 | D10: 1 | E10: =단가산출서목록!G6 -> 2625 | F10: =ROUNDDOWN(D10*E10, 0) -> 2625 | G10: =단가산출서목록!I6 -> 19641 | H10: =ROUNDDOWN(D10*G10, 0) -> 19641 | I10: =단가산출서목록!K6 -> 4587 | J10: =ROUNDDOWN(D10*I10, 0) -> 4587 | K10: =E10+G10+I10 -> 26853 | L10: =F10+H10+J10 -> 26853 | M10: 단산 2호 | O10: ="" | P10: 기계경비 | Q10: 1 | R10: =IF(P10="기계경비", J10, 0) -> 4587 | S10: =IF(P10="운반비", L10, 0) -> 0 | T10: =IF(P10="작업부산물", F10, 0) -> 0 | U10: =IF(P10="관급", F10, 0) -> 0 | V10: =IF(P10="외주비", J10, 0) -> 0 | W10: =IF(P10="장비비", J10, 0) -> 0 | X10: =IF(P10="폐기물처리비", L10, 0) -> 0 | Y10: =IF(P10="가설비", J10, 0) -> 0 | Z10: =IF(P10="잡비제외분", F10, 0) -> 0 | AA10: =IF(P10="사급자재대", L10, 0) -> 0 | AB10: =IF(P10="관급자재대", L10, 0) -> 0 | AC10: =IF(P10="사용자항목1", L10, 0) -> 0 | AD10: =IF(P10="사용자항목2", L10, 0) -> 0 | AE10: =IF(P10="안전관리비", L10, 0) -> 0 | AF10: =IF(P10="품질관리비", L10, 0) -> 0 | AG10: =IF(P10="작업부산물(철거해체)", L10, 0) -> 0 | AH10: =IF(P10="사용자항목6", L10, 0) -> 0 | AI10: =IF(P10="사용자항목7", L10, 0) -> 0 | AJ10: =IF(P10="사용자항목8", L10, 0) -> 0 | AK10: =IF(P10="사용자항목9", L10, 0) -> 0 | AL10: =IF(P10="사용자항목10", L10, 0) -> 0 | AM10: =IF(P10="사용자항목11", L10, 0) -> 0 | AN10: =IF(P10="사용자항목12", L10, 0) -> 0 | AO10: =IF(P10="사용자항목13", L10, 0) -> 0 | AP10: =IF(P10="사용자항목14", L10, 0) -> 0 | AQ10: =IF(P10="사용자항목15", L10, 0) -> 0 | AR10: =IF(P10="사용자항목16", L10, 0) -> 0 | AS10: =IF(P10="사용자항목17", L10, 0) -> 0 | AT10: =IF(P10="사용자항목18", L10, 0) -> 0 | AU10: =IF(P10="사용자항목19", L10, 0) -> 0
A11: 보수용아스콘 | B11: 아스코아, 흑색 | C11: KG | D11: 2400 | E11: =단가대비표!O15 -> 450 | F11: =ROUNDDOWN(D11*E11, 0) -> 1080000 | G11: 0 | H11: =ROUNDDOWN(D11*G11, 0) -> 0 | I11: 0 | J11: =ROUNDDOWN(D11*I11, 0) -> 0 | K11: =E11+G11+I11 -> 450 | L11: =F11+H11+J11 -> 1080000 | O11: ="01" -> 01 | P11: 기계경비 | Q11: 1 | R11: =IF(P11="기계경비", J11, 0) -> 0 | S11: =IF(P11="운반비", L11, 0) -> 0 | T11: =IF(P11="작업부산물", F11, 0) -> 0 | U11: =IF(P11="관급", F11, 0) -> 0 | V11: =IF(P11="외주비", J11, 0) -> 0 | W11: =IF(P11="장비비", J11, 0) -> 0 | X11: =IF(P11="폐기물처리비", L11, 0) -> 0 | Y11: =IF(P11="가설비", J11, 0) -> 0 | Z11: =IF(P11="잡비제외분", F11, 0) -> 0 | AA11: =IF(P11="사급자재대", L11, 0) -> 0 | AB11: =IF(P11="관급자재대", L11, 0) -> 0 | AC11: =IF(P11="사용자항목1", L11, 0) -> 0 | AD11: =IF(P11="사용자항목2", L11, 0) -> 0 | AE11: =IF(P11="안전관리비", L11, 0) -> 0 | AF11: =IF(P11="품질관리비", L11, 0) -> 0 | AG11: =IF(P11="작업부산물(철거해체)", L11, 0) -> 0 | AH11: =IF(P11="사용자항목6", L11, 0) -> 0 | AI11: =IF(P11="사용자항목7", L11, 0) -> 0 | AJ11: =IF(P11="사용자항목8", L11, 0) -> 0 | AK11: =IF(P11="사용자항목9", L11, 0) -> 0 | AL11: =IF(P11="사용자항목10", L11, 0) -> 0 | AM11: =IF(P11="사용자항목11", L11, 0) -> 0 | AN11: =IF(P11="사용자항목12", L11, 0) -> 0 | AO11: =IF(P11="사용자항목13", L11, 0) -> 0 | AP11: =IF(P11="사용자항목14", L11, 0) -> 0 | AQ11: =IF(P11="사용자항목15", L11, 0) -> 0 | AR11: =IF(P11="사용자항목16", L11, 0) -> 0 | AS11: =IF(P11="사용자항목17", L11, 0) -> 0 | AT11: =IF(P11="사용자항목18", L11, 0) -> 0 | AU11: =IF(P11="사용자항목19", L11, 0) -> 0
A12: 아스팔트 표층 소규모포설 | B12: t=7.5cm 이하 | C12: M2 | D12: 11 | E12: =일위대가목록!G7 -> 652 | F12: =ROUNDDOWN(D12*E12, 0) -> 7172 | G12: =일위대가목록!I7 -> 6572 | H12: =ROUNDDOWN(D12*G12, 0) -> 72292 | I12: =일위대가목록!K7 -> 402 | J12: =ROUNDDOWN(D12*I12, 0) -> 4422 | K12: =E12+G12+I12 -> 7626 | L12: =F12+H12+J12 -> 83886 | M12: 일위 3호 | O12: ="" | P12: 기계경비 | Q12: 1 | R12: =IF(P12="기계경비", J12, 0) -> 4422 | S12: =IF(P12="운반비", L12, 0) -> 0 | T12: =IF(P12="작업부산물", F12, 0) -> 0 | U12: =IF(P12="관급", F12, 0) -> 0 | V12: =IF(P12="외주비", J12, 0) -> 0 | W12: =IF(P12="장비비", J12, 0) -> 0 | X12: =IF(P12="폐기물처리비", L12, 0) -> 0 | Y12: =IF(P12="가설비", J12, 0) -> 0 | Z12: =IF(P12="잡비제외분", F12, 0) -> 0 | AA12: =IF(P12="사급자재대", L12, 0) -> 0 | AB12: =IF(P12="관급자재대", L12, 0) -> 0 | AC12: =IF(P12="사용자항목1", L12, 0) -> 0 | AD12: =IF(P12="사용자항목2", L12, 0) -> 0 | AE12: =IF(P12="안전관리비", L12, 0) -> 0 | AF12: =IF(P12="품질관리비", L12, 0) -> 0 | AG12: =IF(P12="작업부산물(철거해체)", L12, 0) -> 0 | AH12: =IF(P12="사용자항목6", L12, 0) -> 0 | AI12: =IF(P12="사용자항목7", L12, 0) -> 0 | AJ12: =IF(P12="사용자항목8", L12, 0) -> 0 | AK12: =IF(P12="사용자항목9", L12, 0) -> 0 | AL12: =IF(P12="사용자항목10", L12, 0) -> 0 | AM12: =IF(P12="사용자항목11", L12, 0) -> 0 | AN12: =IF(P12="사용자항목12", L12, 0) -> 0 | AO12: =IF(P12="사용자항목13", L12, 0) -> 0 | AP12: =IF(P12="사용자항목14", L12, 0) -> 0 | AQ12: =IF(P12="사용자항목15", L12, 0) -> 0 | AR12: =IF(P12="사용자항목16", L12, 0) -> 0 | AS12: =IF(P12="사용자항목17", L12, 0) -> 0 | AT12: =IF(P12="사용자항목18", L12, 0) -> 0 | AU12: =IF(P12="사용자항목19", L12, 0) -> 0 | AY12: CLC40010000S
F13: =ROUNDDOWN(D13*E13, 0) -> 0 | H13: =ROUNDDOWN(D13*G13, 0) -> 0 | J13: =ROUNDDOWN(D13*I13, 0) -> 0 | K13: =E13+G13+I13 -> 0 | L13: =F13+H13+J13 -> 0 | O13: ="" | Q13: 1 | R13: =IF(P13="기계경비", J13, 0) -> 0 | S13: =IF(P13="운반비", L13, 0) -> 0 | T13: =IF(P13="작업부산물", F13, 0) -> 0 | U13: =IF(P13="관급", F13, 0) -> 0 | V13: =IF(P13="외주비", J13, 0) -> 0 | W13: =IF(P13="장비비", J13, 0) -> 0 | X13: =IF(P13="폐기물처리비", L13, 0) -> 0 | Y13: =IF(P13="가설비", J13, 0) -> 0 | Z13: =IF(P13="잡비제외분", F13, 0) -> 0 | AA13: =IF(P13="사급자재대", L13, 0) -> 0 | AB13: =IF(P13="관급자재대", L13, 0) -> 0 | AC13: =IF(P13="사용자항목1", L13, 0) -> 0 | AD13: =IF(P13="사용자항목2", L13, 0) -> 0 | AE13: =IF(P13="안전관리비", L13, 0) -> 0 | AF13: =IF(P13="품질관리비", L13, 0) -> 0 | AG13: =IF(P13="작업부산물(철거해체)", L13, 0) -> 0 | AH13: =IF(P13="사용자항목6", L13, 0) -> 0 | AI13: =IF(P13="사용자항목7", L13, 0) -> 0 | AJ13: =IF(P13="사용자항목8", L13, 0) -> 0 | AK13: =IF(P13="사용자항목9", L13, 0) -> 0 | AL13: =IF(P13="사용자항목10", L13, 0) -> 0 | AM13: =IF(P13="사용자항목11", L13, 0) -> 0 | AN13: =IF(P13="사용자항목12", L13, 0) -> 0 | AO13: =IF(P13="사용자항목13", L13, 0) -> 0 | AP13: =IF(P13="사용자항목14", L13, 0) -> 0 | AQ13: =IF(P13="사용자항목15", L13, 0) -> 0 | AR13: =IF(P13="사용자항목16", L13, 0) -> 0 | AS13: =IF(P13="사용자항목17", L13, 0) -> 0 | AT13: =IF(P13="사용자항목18", L13, 0) -> 0 | AU13: =IF(P13="사용자항목19", L13, 0) -> 0
A14: 철판 | B14: 3.2T | C14: KG | D14: 47 | E14: =단가대비표!O26 -> 1056 | F14: =ROUNDDOWN(D14*E14, 0) -> 49632 | G14: 0 | H14: =ROUNDDOWN(D14*G14, 0) -> 0 | I14: 0 | J14: =ROUNDDOWN(D14*I14, 0) -> 0 | K14: =E14+G14+I14 -> 1056 | L14: =F14+H14+J14 -> 49632 | M14: 열연(박판) | O14: ="01" -> 01 | P14: 기계경비 | Q14: 1 | R14: =IF(P14="기계경비", J14, 0) -> 0 | S14: =IF(P14="운반비", L14, 0) -> 0 | T14: =IF(P14="작업부산물", F14, 0) -> 0 | U14: =IF(P14="관급", F14, 0) -> 0 | V14: =IF(P14="외주비", J14, 0) -> 0 | W14: =IF(P14="장비비", J14, 0) -> 0 | X14: =IF(P14="폐기물처리비", L14, 0) -> 0 | Y14: =IF(P14="가설비", J14, 0) -> 0 | Z14: =IF(P14="잡비제외분", F14, 0) -> 0 | AA14: =IF(P14="사급자재대", L14, 0) -> 0 | AB14: =IF(P14="관급자재대", L14, 0) -> 0 | AC14: =IF(P14="사용자항목1", L14, 0) -> 0 | AD14: =IF(P14="사용자항목2", L14, 0) -> 0 | AE14: =IF(P14="안전관리비", L14, 0) -> 0 | AF14: =IF(P14="품질관리비", L14, 0) -> 0 | AG14: =IF(P14="작업부산물(철거해체)", L14, 0) -> 0 | AH14: =IF(P14="사용자항목6", L14, 0) -> 0 | AI14: =IF(P14="사용자항목7", L14, 0) -> 0 | AJ14: =IF(P14="사용자항목8", L14, 0) -> 0 | AK14: =IF(P14="사용자항목9", L14, 0) -> 0 | AL14: =IF(P14="사용자항목10", L14, 0) -> 0 | AM14: =IF(P14="사용자항목11", L14, 0) -> 0 | AN14: =IF(P14="사용자항목12", L14, 0) -> 0 | AO14: =IF(P14="사용자항목13", L14, 0) -> 0 | AP14: =IF(P14="사용자항목14", L14, 0) -> 0 | AQ14: =IF(P14="사용자항목15", L14, 0) -> 0 | AR14: =IF(P14="사용자항목16", L14, 0) -> 0 | AS14: =IF(P14="사용자항목17", L14, 0) -> 0 | AT14: =IF(P14="사용자항목18", L14, 0) -> 0 | AU14: =IF(P14="사용자항목19", L14, 0) -> 0
A15: 이형철근 | B15: 철근콘크리트용봉강, 이형봉강(SD300), D13 | C15: Kg | D15: 7 | E15: =단가대비표!O25 -> 970 | F15: =ROUNDDOWN(D15*E15, 0) -> 6790 | G15: 0 | H15: =ROUNDDOWN(D15*G15, 0) -> 0 | I15: 0 | J15: =ROUNDDOWN(D15*I15, 0) -> 0 | K15: =E15+G15+I15 -> 970 | L15: =F15+H15+J15 -> 6790 | O15: ="01" -> 01 | P15: 기계경비 | Q15: 1 | R15: =IF(P15="기계경비", J15, 0) -> 0 | S15: =IF(P15="운반비", L15, 0) -> 0 | T15: =IF(P15="작업부산물", F15, 0) -> 0 | U15: =IF(P15="관급", F15, 0) -> 0 | V15: =IF(P15="외주비", J15, 0) -> 0 | W15: =IF(P15="장비비", J15, 0) -> 0 | X15: =IF(P15="폐기물처리비", L15, 0) -> 0 | Y15: =IF(P15="가설비", J15, 0) -> 0 | Z15: =IF(P15="잡비제외분", F15, 0) -> 0 | AA15: =IF(P15="사급자재대", L15, 0) -> 0 | AB15: =IF(P15="관급자재대", L15, 0) -> 0 | AC15: =IF(P15="사용자항목1", L15, 0) -> 0 | AD15: =IF(P15="사용자항목2", L15, 0) -> 0 | AE15: =IF(P15="안전관리비", L15, 0) -> 0 | AF15: =IF(P15="품질관리비", L15, 0) -> 0 | AG15: =IF(P15="작업부산물(철거해체)", L15, 0) -> 0 | AH15: =IF(P15="사용자항목6", L15, 0) -> 0 | AI15: =IF(P15="사용자항목7", L15, 0) -> 0 | AJ15: =IF(P15="사용자항목8", L15, 0) -> 0 | AK15: =IF(P15="사용자항목9", L15, 0) -> 0 | AL15: =IF(P15="사용자항목10", L15, 0) -> 0 | AM15: =IF(P15="사용자항목11", L15, 0) -> 0 | AN15: =IF(P15="사용자항목12", L15, 0) -> 0 | AO15: =IF(P15="사용자항목13", L15, 0) -> 0 | AP15: =IF(P15="사용자항목14", L15, 0) -> 0 | AQ15: =IF(P15="사용자항목15", L15, 0) -> 0 | AR15: =IF(P15="사용자항목16", L15, 0) -> 0 | AS15: =IF(P15="사용자항목17", L15, 0) -> 0 | AT15: =IF(P15="사용자항목18", L15, 0) -> 0 | AU15: =IF(P15="사용자항목19", L15, 0) -> 0
A16: 볼라드 | B16: STS, Φ165.3×1200×2t | C16: 개 | D16: 1 | E16: =단가대비표!O16 -> 206000 | F16: =ROUNDDOWN(D16*E16, 0) -> 206000 | G16: 0 | H16: =ROUNDDOWN(D16*G16, 0) -> 0 | I16: 0 | J16: =ROUNDDOWN(D16*I16, 0) -> 0 | K16: =E16+G16+I16 -> 206000 | L16: =F16+H16+J16 -> 206000 | M16: 매립식 | O16: ="01" -> 01 | P16: 기계경비 | Q16: 1 | R16: =IF(P16="기계경비", J16, 0) -> 0 | S16: =IF(P16="운반비", L16, 0) -> 0 | T16: =IF(P16="작업부산물", F16, 0) -> 0 | U16: =IF(P16="관급", F16, 0) -> 0 | V16: =IF(P16="외주비", J16, 0) -> 0 | W16: =IF(P16="장비비", J16, 0) -> 0 | X16: =IF(P16="폐기물처리비", L16, 0) -> 0 | Y16: =IF(P16="가설비", J16, 0) -> 0 | Z16: =IF(P16="잡비제외분", F16, 0) -> 0 | AA16: =IF(P16="사급자재대", L16, 0) -> 0 | AB16: =IF(P16="관급자재대", L16, 0) -> 0 | AC16: =IF(P16="사용자항목1", L16, 0) -> 0 | AD16: =IF(P16="사용자항목2", L16, 0) -> 0 | AE16: =IF(P16="안전관리비", L16, 0) -> 0 | AF16: =IF(P16="품질관리비", L16, 0) -> 0 | AG16: =IF(P16="작업부산물(철거해체)", L16, 0) -> 0 | AH16: =IF(P16="사용자항목6", L16, 0) -> 0 | AI16: =IF(P16="사용자항목7", L16, 0) -> 0 | AJ16: =IF(P16="사용자항목8", L16, 0) -> 0 | AK16: =IF(P16="사용자항목9", L16, 0) -> 0 | AL16: =IF(P16="사용자항목10", L16, 0) -> 0 | AM16: =IF(P16="사용자항목11", L16, 0) -> 0 | AN16: =IF(P16="사용자항목12", L16, 0) -> 0 | AO16: =IF(P16="사용자항목13", L16, 0) -> 0 | AP16: =IF(P16="사용자항목14", L16, 0) -> 0 | AQ16: =IF(P16="사용자항목15", L16, 0) -> 0 | AR16: =IF(P16="사용자항목16", L16, 0) -> 0 | AS16: =IF(P16="사용자항목17", L16, 0) -> 0 | AT16: =IF(P16="사용자항목18", L16, 0) -> 0 | AU16: =IF(P16="사용자항목19", L16, 0) -> 0
A17: 잡철물 제작 및 설치(현장제작 설치) | B17: 일반철재, 복잡 | C17: Ton | D17: 0.075 | E17: =일위대가목록!G8 -> 554163 | F17: =ROUNDDOWN(D17*E17, 0) -> 41562 | G17: =일위대가목록!I8 -> 6927045 | H17: =ROUNDDOWN(D17*G17, 0) -> 519528 | I17: =일위대가목록!K8 -> 0 | J17: =ROUNDDOWN(D17*I17, 0) -> 0 | K17: =E17+G17+I17 -> 7481208 | L17: =F17+H17+J17 -> 561090 | M17: 일위 4호 | O17: ="" | P17: 기계경비 | Q17: 1 | R17: =IF(P17="기계경비", J17, 0) -> 0 | S17: =IF(P17="운반비", L17, 0) -> 0 | T17: =IF(P17="작업부산물", F17, 0) -> 0 | U17: =IF(P17="관급", F17, 0) -> 0 | V17: =IF(P17="외주비", J17, 0) -> 0 | W17: =IF(P17="장비비", J17, 0) -> 0 | X17: =IF(P17="폐기물처리비", L17, 0) -> 0 | Y17: =IF(P17="가설비", J17, 0) -> 0 | Z17: =IF(P17="잡비제외분", F17, 0) -> 0 | AA17: =IF(P17="사급자재대", L17, 0) -> 0 | AB17: =IF(P17="관급자재대", L17, 0) -> 0 | AC17: =IF(P17="사용자항목1", L17, 0) -> 0 | AD17: =IF(P17="사용자항목2", L17, 0) -> 0 | AE17: =IF(P17="안전관리비", L17, 0) -> 0 | AF17: =IF(P17="품질관리비", L17, 0) -> 0 | AG17: =IF(P17="작업부산물(철거해체)", L17, 0) -> 0 | AH17: =IF(P17="사용자항목6", L17, 0) -> 0 | AI17: =IF(P17="사용자항목7", L17, 0) -> 0 | AJ17: =IF(P17="사용자항목8", L17, 0) -> 0 | AK17: =IF(P17="사용자항목9", L17, 0) -> 0 | AL17: =IF(P17="사용자항목10", L17, 0) -> 0 | AM17: =IF(P17="사용자항목11", L17, 0) -> 0 | AN17: =IF(P17="사용자항목12", L17, 0) -> 0 | AO17: =IF(P17="사용자항목13", L17, 0) -> 0 | AP17: =IF(P17="사용자항목14", L17, 0) -> 0 | AQ17: =IF(P17="사용자항목15", L17, 0) -> 0 | AR17: =IF(P17="사용자항목16", L17, 0) -> 0 | AS17: =IF(P17="사용자항목17", L17, 0) -> 0 | AT17: =IF(P17="사용자항목18", L17, 0) -> 0 | AU17: =IF(P17="사용자항목19", L17, 0) -> 0 | AY17: AJM53100030S
A18: 레미탈 | B18: 조적용레미탈. 시멘트벽돌,블럭 조적용(40kg/포) | C18: 포 | D18: 18 | E18: =단가대비표!O12 -> 5900 | F18: =ROUNDDOWN(D18*E18, 0) -> 106200 | G18: 0 | H18: =ROUNDDOWN(D18*G18, 0) -> 0 | I18: 0 | J18: =ROUNDDOWN(D18*I18, 0) -> 0 | K18: =E18+G18+I18 -> 5900 | L18: =F18+H18+J18 -> 106200 | O18: ="01" -> 01 | P18: 기계경비 | Q18: 1 | R18: =IF(P18="기계경비", J18, 0) -> 0 | S18: =IF(P18="운반비", L18, 0) -> 0 | T18: =IF(P18="작업부산물", F18, 0) -> 0 | U18: =IF(P18="관급", F18, 0) -> 0 | V18: =IF(P18="외주비", J18, 0) -> 0 | W18: =IF(P18="장비비", J18, 0) -> 0 | X18: =IF(P18="폐기물처리비", L18, 0) -> 0 | Y18: =IF(P18="가설비", J18, 0) -> 0 | Z18: =IF(P18="잡비제외분", F18, 0) -> 0 | AA18: =IF(P18="사급자재대", L18, 0) -> 0 | AB18: =IF(P18="관급자재대", L18, 0) -> 0 | AC18: =IF(P18="사용자항목1", L18, 0) -> 0 | AD18: =IF(P18="사용자항목2", L18, 0) -> 0 | AE18: =IF(P18="안전관리비", L18, 0) -> 0 | AF18: =IF(P18="품질관리비", L18, 0) -> 0 | AG18: =IF(P18="작업부산물(철거해체)", L18, 0) -> 0 | AH18: =IF(P18="사용자항목6", L18, 0) -> 0 | AI18: =IF(P18="사용자항목7", L18, 0) -> 0 | AJ18: =IF(P18="사용자항목8", L18, 0) -> 0 | AK18: =IF(P18="사용자항목9", L18, 0) -> 0 | AL18: =IF(P18="사용자항목10", L18, 0) -> 0 | AM18: =IF(P18="사용자항목11", L18, 0) -> 0 | AN18: =IF(P18="사용자항목12", L18, 0) -> 0 | AO18: =IF(P18="사용자항목13", L18, 0) -> 0 | AP18: =IF(P18="사용자항목14", L18, 0) -> 0 | AQ18: =IF(P18="사용자항목15", L18, 0) -> 0 | AR18: =IF(P18="사용자항목16", L18, 0) -> 0 | AS18: =IF(P18="사용자항목17", L18, 0) -> 0 | AT18: =IF(P18="사용자항목18", L18, 0) -> 0 | AU18: =IF(P18="사용자항목19", L18, 0) -> 0
A19: 현장비빔타설 | B19: 소형구조물 | C19: M3 | D19: 1 | E19: =일위대가목록!G9 -> 0 | F19: =ROUNDDOWN(D19*E19, 0) -> 0 | G19: =일위대가목록!I9 -> 586879 | H19: =ROUNDDOWN(D19*G19, 0) -> 586879 | I19: =일위대가목록!K9 -> 0 | J19: =ROUNDDOWN(D19*I19, 0) -> 0 | K19: =E19+G19+I19 -> 586879 | L19: =F19+H19+J19 -> 586879 | M19: 일위 5호 | O19: ="" | P19: 기계경비 | Q19: 1 | R19: =IF(P19="기계경비", J19, 0) -> 0 | S19: =IF(P19="운반비", L19, 0) -> 0 | T19: =IF(P19="작업부산물", F19, 0) -> 0 | U19: =IF(P19="관급", F19, 0) -> 0 | V19: =IF(P19="외주비", J19, 0) -> 0 | W19: =IF(P19="장비비", J19, 0) -> 0 | X19: =IF(P19="폐기물처리비", L19, 0) -> 0 | Y19: =IF(P19="가설비", J19, 0) -> 0 | Z19: =IF(P19="잡비제외분", F19, 0) -> 0 | AA19: =IF(P19="사급자재대", L19, 0) -> 0 | AB19: =IF(P19="관급자재대", L19, 0) -> 0 | AC19: =IF(P19="사용자항목1", L19, 0) -> 0 | AD19: =IF(P19="사용자항목2", L19, 0) -> 0 | AE19: =IF(P19="안전관리비", L19, 0) -> 0 | AF19: =IF(P19="품질관리비", L19, 0) -> 0 | AG19: =IF(P19="작업부산물(철거해체)", L19, 0) -> 0 | AH19: =IF(P19="사용자항목6", L19, 0) -> 0 | AI19: =IF(P19="사용자항목7", L19, 0) -> 0 | AJ19: =IF(P19="사용자항목8", L19, 0) -> 0 | AK19: =IF(P19="사용자항목9", L19, 0) -> 0 | AL19: =IF(P19="사용자항목10", L19, 0) -> 0 | AM19: =IF(P19="사용자항목11", L19, 0) -> 0 | AN19: =IF(P19="사용자항목12", L19, 0) -> 0 | AO19: =IF(P19="사용자항목13", L19, 0) -> 0 | AP19: =IF(P19="사용자항목14", L19, 0) -> 0 | AQ19: =IF(P19="사용자항목15", L19, 0) -> 0 | AR19: =IF(P19="사용자항목16", L19, 0) -> 0 | AS19: =IF(P19="사용자항목17", L19, 0) -> 0 | AT19: =IF(P19="사용자항목18", L19, 0) -> 0 | AU19: =IF(P19="사용자항목19", L19, 0) -> 0
F20: =ROUNDDOWN(D20*E20, 0) -> 0 | H20: =ROUNDDOWN(D20*G20, 0) -> 0 | J20: =ROUNDDOWN(D20*I20, 0) -> 0 | K20: =E20+G20+I20 -> 0 | L20: =F20+H20+J20 -> 0 | O20: ="" | Q20: 1 | R20: =IF(P20="기계경비", J20, 0) -> 0 | S20: =IF(P20="운반비", L20, 0) -> 0 | T20: =IF(P20="작업부산물", F20, 0) -> 0 | U20: =IF(P20="관급", F20, 0) -> 0 | V20: =IF(P20="외주비", J20, 0) -> 0 | W20: =IF(P20="장비비", J20, 0) -> 0 | X20: =IF(P20="폐기물처리비", L20, 0) -> 0 | Y20: =IF(P20="가설비", J20, 0) -> 0 | Z20: =IF(P20="잡비제외분", F20, 0) -> 0 | AA20: =IF(P20="사급자재대", L20, 0) -> 0 | AB20: =IF(P20="관급자재대", L20, 0) -> 0 | AC20: =IF(P20="사용자항목1", L20, 0) -> 0 | AD20: =IF(P20="사용자항목2", L20, 0) -> 0 | AE20: =IF(P20="안전관리비", L20, 0) -> 0 | AF20: =IF(P20="품질관리비", L20, 0) -> 0 | AG20: =IF(P20="작업부산물(철거해체)", L20, 0) -> 0 | AH20: =IF(P20="사용자항목6", L20, 0) -> 0 | AI20: =IF(P20="사용자항목7", L20, 0) -> 0 | AJ20: =IF(P20="사용자항목8", L20, 0) -> 0 | AK20: =IF(P20="사용자항목9", L20, 0) -> 0 | AL20: =IF(P20="사용자항목10", L20, 0) -> 0 | AM20: =IF(P20="사용자항목11", L20, 0) -> 0 | AN20: =IF(P20="사용자항목12", L20, 0) -> 0 | AO20: =IF(P20="사용자항목13", L20, 0) -> 0 | AP20: =IF(P20="사용자항목14", L20, 0) -> 0 | AQ20: =IF(P20="사용자항목15", L20, 0) -> 0 | AR20: =IF(P20="사용자항목16", L20, 0) -> 0 | AS20: =IF(P20="사용자항목17", L20, 0) -> 0 | AT20: =IF(P20="사용자항목18", L20, 0) -> 0 | AU20: =IF(P20="사용자항목19", L20, 0) -> 0
A21: 굴착기(타이어) | B21: 0.18㎥ | C21: HR | D21: 24 | E21: =중기경비목록!G5 -> 11506 | F21: =ROUNDDOWN(D21*E21, 0) -> 276144 | G21: =중기경비목록!I5 -> 59020 | H21: =ROUNDDOWN(D21*G21, 0) -> 1416480 | I21: =중기경비목록!K5 -> 15800 | J21: =ROUNDDOWN(D21*I21, 0) -> 379200 | K21: =E21+G21+I21 -> 86326 | L21: =F21+H21+J21 -> 2071824 | M21: 중기 1호 | O21: ="" | P21: 기계경비 | Q21: 1 | R21: =IF(P21="기계경비", J21, 0) -> 379200 | S21: =IF(P21="운반비", L21, 0) -> 0 | T21: =IF(P21="작업부산물", F21, 0) -> 0 | U21: =IF(P21="관급", F21, 0) -> 0 | V21: =IF(P21="외주비", J21, 0) -> 0 | W21: =IF(P21="장비비", J21, 0) -> 0 | X21: =IF(P21="폐기물처리비", L21, 0) -> 0 | Y21: =IF(P21="가설비", J21, 0) -> 0 | Z21: =IF(P21="잡비제외분", F21, 0) -> 0 | AA21: =IF(P21="사급자재대", L21, 0) -> 0 | AB21: =IF(P21="관급자재대", L21, 0) -> 0 | AC21: =IF(P21="사용자항목1", L21, 0) -> 0 | AD21: =IF(P21="사용자항목2", L21, 0) -> 0 | AE21: =IF(P21="안전관리비", L21, 0) -> 0 | AF21: =IF(P21="품질관리비", L21, 0) -> 0 | AG21: =IF(P21="작업부산물(철거해체)", L21, 0) -> 0 | AH21: =IF(P21="사용자항목6", L21, 0) -> 0 | AI21: =IF(P21="사용자항목7", L21, 0) -> 0 | AJ21: =IF(P21="사용자항목8", L21, 0) -> 0 | AK21: =IF(P21="사용자항목9", L21, 0) -> 0 | AL21: =IF(P21="사용자항목10", L21, 0) -> 0 | AM21: =IF(P21="사용자항목11", L21, 0) -> 0 | AN21: =IF(P21="사용자항목12", L21, 0) -> 0 | AO21: =IF(P21="사용자항목13", L21, 0) -> 0 | AP21: =IF(P21="사용자항목14", L21, 0) -> 0 | AQ21: =IF(P21="사용자항목15", L21, 0) -> 0 | AR21: =IF(P21="사용자항목16", L21, 0) -> 0 | AS21: =IF(P21="사용자항목17", L21, 0) -> 0 | AT21: =IF(P21="사용자항목18", L21, 0) -> 0 | AU21: =IF(P21="사용자항목19", L21, 0) -> 0
A36: 합 계 | F36: =ROUNDDOWN(SUMIF(Q6:Q35, "1", F6:F35), 0) -> 1846212 | H36: =ROUNDDOWN(SUMIF(Q6:Q35, "1", H6:H35), 0) -> 4503871 | J36: =ROUNDDOWN(SUMIF(Q6:Q35, "1", J6:J35), 0) -> 409952 | L36: =F36+H36+J36 -> 6760035 | R36: =ROUNDDOWN(SUM(R6:R21), 0) -> 409952 | S36: =ROUNDDOWN(SUM(S6:S21), 0) -> 0 | T36: =ROUNDDOWN(SUM(T6:T21), 0) -> 0 | U36: =ROUNDDOWN(SUM(U6:U21), 0) -> 0 | V36: =ROUNDDOWN(SUM(V6:V21), 0) -> 0 | W36: =ROUNDDOWN(SUM(W6:W21), 0) -> 0 | X36: =ROUNDDOWN(SUM(X6:X21), 0) -> 0 | Y36: =ROUNDDOWN(SUM(Y6:Y21), 0) -> 0 | ... AY36: =ROUNDDOWN(SUM(AY6:AY21), 0) -> 0
A37: 02. 배관배선공사
A38: 파상형경질폴리에틸렌전선관 [3열동시1열당] | B38: 파상형경질폴리에틸렌전선관, 50mm | C38: m | D38: 125 | E38: =일위대가목록!G10 -> 952 | F38: =ROUNDDOWN(D38*E38, 0) -> 119000 | G38: =일위대가목록!I10 -> 5215 | H38: =ROUNDDOWN(D38*G38, 0) -> 651875 | I38: =일위대가목록!K10 -> 0 | J38: =ROUNDDOWN(D38*I38, 0) -> 0 | K38: =E38+G38+I38 -> 6167 | L38: =F38+H38+J38 -> 770875 | M38: 일위 6호 | O38: ="" | P38: 기계경비 | Q38: 1 | R38: =IF(P38="기계경비", J38, 0) -> 0 | S38: =IF(P38="운반비", L38, 0) -> 0 | T38: =IF(P38="작업부산물", F38, 0) -> 0 | U38: =IF(P38="관급", F38, 0) -> 0 | V38: =IF(P38="외주비", J38, 0) -> 0 | W38: =IF(P38="장비비", J38, 0) -> 0 | X38: =IF(P38="폐기물처리비", L38, 0) -> 0 | Y38: =IF(P38="가설비", J38, 0) -> 0 | Z38: =IF(P38="잡비제외분", F38, 0) -> 0 | AA38: =IF(P38="사급자재대", L38, 0) -> 0 | AB38: =IF(P38="관급자재대", L38, 0) -> 0 | AC38: =IF(P38="사용자항목1", L38, 0) -> 0 | AD38: =IF(P38="사용자항목2", L38, 0) -> 0 | AE38: =IF(P38="안전관리비", L38, 0) -> 0 | AF38: =IF(P38="품질관리비", L38, 0) -> 0 | AG38: =IF(P38="작업부산물(철거해체)", L38, 0) -> 0 | AH38: =IF(P38="사용자항목6", L38, 0) -> 0 | AI38: =IF(P38="사용자항목7", L38, 0) -> 0 | AJ38: =IF(P38="사용자항목8", L38, 0) -> 0 | AK38: =IF(P38="사용자항목9", L38, 0) -> 0 | AL38: =IF(P38="사용자항목10", L38, 0) -> 0 | AM38: =IF(P38="사용자항목11", L38, 0) -> 0 | AN38: =IF(P38="사용자항목12", L38, 0) -> 0 | AO38: =IF(P38="사용자항목13", L38, 0) -> 0 | AP38: =IF(P38="사용자항목14", L38, 0) -> 0 | AQ38: =IF(P38="사용자항목15", L38, 0) -> 0 | AR38: =IF(P38="사용자항목16", L38, 0) -> 0 | AS38: =IF(P38="사용자항목17", L38, 0) -> 0 | AT38: =IF(P38="사용자항목18", L38, 0) -> 0 | AU38: =IF(P38="사용자항목19", L38, 0) -> 0 | AY38: 설치4
A39: 2종금속제가요전선관 | B39: 비닐피복, 30mm, 방수 | C39: m | D39: 10 | E39: =일위대가목록!G11 -> 15807 | F39: =ROUNDDOWN(D39*E39, 0) -> 158070 | G39: =일위대가목록!I11 -> 23809 | H39: =ROUNDDOWN(D39*G39, 0) -> 238090 | I39: =일위대가목록!K11 -> 0 | J39: =ROUNDDOWN(D39*I39, 0) -> 0 | K39: =E39+G39+I39 -> 39616 | L39: =F39+H39+J39 -> 396160 | M39: 일위 7호 | O39: ="" | P39: 기계경비 | Q39: 1 | R39: =IF(P39="기계경비", J39, 0) -> 0 | S39: =IF(P39="운반비", L39, 0) -> 0 | T39: =IF(P39="작업부산물", F39, 0) -> 0 | U39: =IF(P39="관급", F39, 0) -> 0 | V39: =IF(P39="외주비", J39, 0) -> 0 | W39: =IF(P39="장비비", J39, 0) -> 0 | X39: =IF(P39="폐기물처리비", L39, 0) -> 0 | Y39: =IF(P39="가설비", J39, 0) -> 0 | Z39: =IF(P39="잡비제외분", F39, 0) -> 0 | AA39: =IF(P39="사급자재대", L39, 0) -> 0 | AB39: =IF(P39="관급자재대", L39, 0) -> 0 | AC39: =IF(P39="사용자항목1", L39, 0) -> 0 | AD39: =IF(P39="사용자항목2", L39, 0) -> 0 | AE39: =IF(P39="안전관리비", L39, 0) -> 0 | AF39: =IF(P39="품질관리비", L39, 0) -> 0 | AG39: =IF(P39="작업부산물(철거해체)", L39, 0) -> 0 | AH39: =IF(P39="사용자항목6", L39, 0) -> 0 | AI39: =IF(P39="사용자항목7", L39, 0) -> 0 | AJ39: =IF(P39="사용자항목8", L39, 0) -> 0 | AK39: =IF(P39="사용자항목9", L39, 0) -> 0 | AL39: =IF(P39="사용자항목10", L39, 0) -> 0 | AM39: =IF(P39="사용자항목11", L39, 0) -> 0 | AN39: =IF(P39="사용자항목12", L39, 0) -> 0 | AO39: =IF(P39="사용자항목13", L39, 0) -> 0 | AP39: =IF(P39="사용자항목14", L39, 0) -> 0 | AQ39: =IF(P39="사용자항목15", L39, 0) -> 0 | AR39: =IF(P39="사용자항목16", L39, 0) -> 0 | AS39: =IF(P39="사용자항목17", L39, 0) -> 0 | AT39: =IF(P39="사용자항목18", L39, 0) -> 0 | AU39: =IF(P39="사용자항목19", L39, 0) -> 0 | AY39: 설치
A40: 600V폴리에틸렌케이블 | B40: 0.6/1kV, F-CV, 4C×4㎟ | C40: m | D40: 15 | E40: =일위대가목록!G12 -> 4555 | F40: =ROUNDDOWN(D40*E40, 0) -> 68325 | G40: =일위대가목록!I12 -> 8820 | H40: =ROUNDDOWN(D40*G40, 0) -> 132300 | I40: =일위대가목록!K12 -> 0 | J40: =ROUNDDOWN(D40*I40, 0) -> 0 | K40: =E40+G40+I40 -> 13375 | L40: =F40+H40+J40 -> 200625 | M40: 일위 8호 | O40: ="" | P40: 기계경비 | Q40: 1 | R40: =IF(P40="기계경비", J40, 0) -> 0 | S40: =IF(P40="운반비", L40, 0) -> 0 | T40: =IF(P40="작업부산물", F40, 0) -> 0 | U40: =IF(P40="관급", F40, 0) -> 0 | V40: =IF(P40="외주비", J40, 0) -> 0 | W40: =IF(P40="장비비", J40, 0) -> 0 | X40: =IF(P40="폐기물처리비", L40, 0) -> 0 | Y40: =IF(P40="가설비", J40, 0) -> 0 | Z40: =IF(P40="잡비제외분", F40, 0) -> 0 | AA40: =IF(P40="사급자재대", L40, 0) -> 0 | AB40: =IF(P40="관급자재대", L40, 0) -> 0 | AC40: =IF(P40="사용자항목1", L40, 0) -> 0 | AD40: =IF(P40="사용자항목2", L40, 0) -> 0 | AE40: =IF(P40="안전관리비", L40, 0) -> 0 | AF40: =IF(P40="품질관리비", L40, 0) -> 0 | AG40: =IF(P40="작업부산물(철거해체)", L40, 0) -> 0 | AH40: =IF(P40="사용자항목6", L40, 0) -> 0 | AI40: =IF(P40="사용자항목7", L40, 0) -> 0 | AJ40: =IF(P40="사용자항목8", L40, 0) -> 0 | AK40: =IF(P40="사용자항목9", L40, 0) -> 0 | AL40: =IF(P40="사용자항목10", L40, 0) -> 0 | AM40: =IF(P40="사용자항목11", L40, 0) -> 0 | AN40: =IF(P40="사용자항목12", L40, 0) -> 0 | AO40: =IF(P40="사용자항목13", L40, 0) -> 0 | AP40: =IF(P40="사용자항목14", L40, 0) -> 0 | AQ40: =IF(P40="사용자항목15", L40, 0) -> 0 | AR40: =IF(P40="사용자항목16", L40, 0) -> 0 | AS40: =IF(P40="사용자항목17", L40, 0) -> 0 | AT40: =IF(P40="사용자항목18", L40, 0) -> 0 | AU40: =IF(P40="사용자항목19", L40, 0) -> 0 | AY40: 설치
A41: 600V폴리에틸렌케이블 | B41: 0.6/1kV, F-CV, 4C×2.5㎟ | C41: m | D41: 115 | E41: =일위대가목록!G13 -> 3279 | F41: =ROUNDDOWN(D41*E41, 0) -> 377085 | G41: =일위대가목록!I13 -> 7908 | H41: =ROUNDDOWN(D41*G41, 0) -> 909420 | I41: =일위대가목록!K13 -> 0 | J41: =ROUNDDOWN(D41*I41, 0) -> 0 | K41: =E41+G41+I41 -> 11187 | L41: =F41+H41+J41 -> 1286505 | M41: 일위 9호 | O41: ="" | P41: 기계경비 | Q41: 1 | R41: =IF(P41="기계경비", J41, 0) -> 0 | S41: =IF(P41="운반비", L41, 0) -> 0 | T41: =IF(P41="작업부산물", F41, 0) -> 0 | U41: =IF(P41="관급", F41, 0) -> 0 | V41: =IF(P41="외주비", J41, 0) -> 0 | W41: =IF(P41="장비비", J41, 0) -> 0 | X41: =IF(P41="폐기물처리비", L41, 0) -> 0 | Y41: =IF(P41="가설비", J41, 0) -> 0 | Z41: =IF(P41="잡비제외분", F41, 0) -> 0 | AA41: =IF(P41="사급자재대", L41, 0) -> 0 | AB41: =IF(P41="관급자재대", L41, 0) -> 0 | AC41: =IF(P41="사용자항목1", L41, 0) -> 0 | AD41: =IF(P41="사용자항목2", L41, 0) -> 0 | AE41: =IF(P41="안전관리비", L41, 0) -> 0 | AF41: =IF(P41="품질관리비", L41, 0) -> 0 | AG41: =IF(P41="작업부산물(철거해체)", L41, 0) -> 0 | AH41: =IF(P41="사용자항목6", L41, 0) -> 0 | AI41: =IF(P41="사용자항목7", L41, 0) -> 0 | AJ41: =IF(P41="사용자항목8", L41, 0) -> 0 | AK41: =IF(P41="사용자항목9", L41, 0) -> 0 | AL41: =IF(P41="사용자항목10", L41, 0) -> 0 | AM41: =IF(P41="사용자항목11", L41, 0) -> 0 | AN41: =IF(P41="사용자항목12", L41, 0) -> 0 | AO41: =IF(P41="사용자항목13", L41, 0) -> 0 | AP41: =IF(P41="사용자항목14", L41, 0) -> 0 | AQ41: =IF(P41="사용자항목15", L41, 0) -> 0 | AR41: =IF(P41="사용자항목16", L41, 0) -> 0 | AS41: =IF(P41="사용자항목17", L41, 0) -> 0 | AT41: =IF(P41="사용자항목18", L41, 0) -> 0 | AU41: =IF(P41="사용자항목19", L41, 0) -> 0 | AY41: 설치
A42: 0.6/1kv 트레이용 절연난연 제어케이블(F-CVV) | B42: 6C*2.5㎟ | C42: M | D42: 58 | E42: =일위대가목록!G14 -> 4742 | F42: =ROUNDDOWN(D42*E42, 0) -> 275036 | G42: =일위대가목록!I14 -> 15267 | H42: =ROUNDDOWN(D42*G42, 0) -> 885486 | I42: =일위대가목록!K14 -> 0 | J42: =ROUNDDOWN(D42*I42, 0) -> 0 | K42: =E42+G42+I42 -> 20009 | L42: =F42+H42+J42 -> 1160522 | M42: 일위 10호 | O42: ="" | P42: 기계경비 | Q42: 1 | R42: =IF(P42="기계경비", J42, 0) -> 0 | S42: =IF(P42="운반비", L42, 0) -> 0 | T42: =IF(P42="작업부산물", F42, 0) -> 0 | U42: =IF(P42="관급", F42, 0) -> 0 | V42: =IF(P42="외주비", J42, 0) -> 0 | W42: =IF(P42="장비비", J42, 0) -> 0 | X42: =IF(P42="폐기물처리비", L42, 0) -> 0 | Y42: =IF(P42="가설비", J42, 0) -> 0 | Z42: =IF(P42="잡비제외분", F42, 0) -> 0 | AA42: =IF(P42="사급자재대", L42, 0) -> 0 | AB42: =IF(P42="관급자재대", L42, 0) -> 0 | AC42: =IF(P42="사용자항목1", L42, 0) -> 0 | AD42: =IF(P42="사용자항목2", L42, 0) -> 0 | AE42: =IF(P42="안전관리비", L42, 0) -> 0 | AF42: =IF(P42="품질관리비", L42, 0) -> 0 | AG42: =IF(P42="작업부산물(철거해체)", L42, 0) -> 0 | AH42: =IF(P42="사용자항목6", L42, 0) -> 0 | AI42: =IF(P42="사용자항목7", L42, 0) -> 0 | AJ42: =IF(P42="사용자항목8", L42, 0) -> 0 | AK42: =IF(P42="사용자항목9", L42, 0) -> 0 | AL42: =IF(P42="사용자항목10", L42, 0) -> 0 | AM42: =IF(P42="사용자항목11", L42, 0) -> 0 | AN42: =IF(P42="사용자항목12", L42, 0) -> 0 | AO42: =IF(P42="사용자항목13", L42, 0) -> 0 | AP42: =IF(P42="사용자항목14", L42, 0) -> 0 | AQ42: =IF(P42="사용자항목15", L42, 0) -> 0 | AR42: =IF(P42="사용자항목16", L42, 0) -> 0 | AS42: =IF(P42="사용자항목17", L42, 0) -> 0 | AT42: =IF(P42="사용자항목18", L42, 0) -> 0 | AU42: =IF(P42="사용자항목19", L42, 0) -> 0 | AY42: TDI53600010S
A43: 접지용비닐절연전선 | B43: F-GV, 4㎟ | C43: m | D43: 13 | E43: =일위대가목록!G15 -> 1229 | F43: =ROUNDDOWN(D43*E43, 0) -> 15977 | G43: =일위대가목록!I15 -> 1642 | H43: =ROUNDDOWN(D43*G43, 0) -> 21346 | I43: =일위대가목록!K15 -> 0 | J43: =ROUNDDOWN(D43*I43, 0) -> 0 | K43: =E43+G43+I43 -> 2871 | L43: =F43+H43+J43 -> 37323 | M43: 일위 11호 | O43: ="" | P43: 기계경비 | Q43: 1 | R43: =IF(P43="기계경비", J43, 0) -> 0 | S43: =IF(P43="운반비", L43, 0) -> 0 | T43: =IF(P43="작업부산물", F43, 0) -> 0 | U43: =IF(P43="관급", F43, 0) -> 0 | V43: =IF(P43="외주비", J43, 0) -> 0 | W43: =IF(P43="장비비", J43, 0) -> 0 | X43: =IF(P43="폐기물처리비", L43, 0) -> 0 | Y43: =IF(P43="가설비", J43, 0) -> 0 | Z43: =IF(P43="잡비제외분", F43, 0) -> 0 | AA43: =IF(P43="사급자재대", L43, 0) -> 0 | AB43: =IF(P43="관급자재대", L43, 0) -> 0 | AC43: =IF(P43="사용자항목1", L43, 0) -> 0 | AD43: =IF(P43="사용자항목2", L43, 0) -> 0 | AE43: =IF(P43="안전관리비", L43, 0) -> 0 | AF43: =IF(P43="품질관리비", L43, 0) -> 0 | AG43: =IF(P43="작업부산물(철거해체)", L43, 0) -> 0 | AH43: =IF(P43="사용자항목6", L43, 0) -> 0 | AI43: =IF(P43="사용자항목7", L43, 0) -> 0 | AJ43: =IF(P43="사용자항목8", L43, 0) -> 0 | AK43: =IF(P43="사용자항목9", L43, 0) -> 0 | AL43: =IF(P43="사용자항목10", L43, 0) -> 0 | AM43: =IF(P43="사용자항목11", L43, 0) -> 0 | AN43: =IF(P43="사용자항목12", L43, 0) -> 0 | AO43: =IF(P43="사용자항목13", L43, 0) -> 0 | AP43: =IF(P43="사용자항목14", L43, 0) -> 0 | AQ43: =IF(P43="사용자항목15", L43, 0) -> 0 | AR43: =IF(P43="사용자항목16", L43, 0) -> 0 | AS43: =IF(P43="사용자항목17", L43, 0) -> 0 | AT43: =IF(P43="사용자항목18", L43, 0) -> 0 | AU43: =IF(P43="사용자항목19", L43, 0) -> 0 | AY43: 설치
A44: 접지동봉설치 | B44: 1본 | C44: 개소 | D44: 2 | E44: =일위대가목록!G16 -> 3381 | F44: =ROUNDDOWN(D44*E44, 0) -> 6762 | G44: =일위대가목록!I16 -> 43869 | H44: =ROUNDDOWN(D44*G44, 0) -> 87738 | I44: =일위대가목록!K16 -> 0 | J44: =ROUNDDOWN(D44*I44, 0) -> 0 | K44: =E44+G44+I44 -> 47250 | L44: =F44+H44+J44 -> 94500 | M44: 일위 12호 | O44: ="" | P44: 기계경비 | Q44: 1 | R44: =IF(P44="기계경비", J44, 0) -> 0 | S44: =IF(P44="운반비", L44, 0) -> 0 | T44: =IF(P44="작업부산물", F44, 0) -> 0 | U44: =IF(P44="관급", F44, 0) -> 0 | V44: =IF(P44="외주비", J44, 0) -> 0 | W44: =IF(P44="장비비", J44, 0) -> 0 | X44: =IF(P44="폐기물처리비", L44, 0) -> 0 | Y44: =IF(P44="가설비", J44, 0) -> 0 | Z44: =IF(P44="잡비제외분", F44, 0) -> 0 | AA44: =IF(P44="사급자재대", L44, 0) -> 0 | AB44: =IF(P44="관급자재대", L44, 0) -> 0 | AC44: =IF(P44="사용자항목1", L44, 0) -> 0 | AD44: =IF(P44="사용자항목2", L44, 0) -> 0 | AE44: =IF(P44="안전관리비", L44, 0) -> 0 | AF44: =IF(P44="품질관리비", L44, 0) -> 0 | AG44: =IF(P44="작업부산물(철거해체)", L44, 0) -> 0 | AH44: =IF(P44="사용자항목6", L44, 0) -> 0 | AI44: =IF(P44="사용자항목7", L44, 0) -> 0 | AJ44: =IF(P44="사용자항목8", L44, 0) -> 0 | AK44: =IF(P44="사용자항목9", L44, 0) -> 0 | AL44: =IF(P44="사용자항목10", L44, 0) -> 0 | AM44: =IF(P44="사용자항목11", L44, 0) -> 0 | AN44: =IF(P44="사용자항목12", L44, 0) -> 0 | AO44: =IF(P44="사용자항목13", L44, 0) -> 0 | AP44: =IF(P44="사용자항목14", L44, 0) -> 0 | AQ44: =IF(P44="사용자항목15", L44, 0) -> 0 | AR44: =IF(P44="사용자항목16", L44, 0) -> 0 | AS44: =IF(P44="사용자항목17", L44, 0) -> 0 | AT44: =IF(P44="사용자항목18", L44, 0) -> 0 | AU44: =IF(P44="사용자항목19", L44, 0) -> 0
F45: =ROUNDDOWN(D45*E45, 0) -> 0 | H45: =ROUNDDOWN(D45*G45, 0) -> 0 | J45: =ROUNDDOWN(D45*I45, 0) -> 0 | K45: =E45+G45+I45 -> 0 | L45: =F45+H45+J45 -> 0 | O45: ="" | Q45: 1 | R45: =IF(P45="기계경비", J45, 0) -> 0 | S45: =IF(P45="운반비", L45, 0) -> 0 | T45: =IF(P45="작업부산물", F45, 0) -> 0 | U45: =IF(P45="관급", F45, 0) -> 0 | V45: =IF(P45="외주비", J45, 0) -> 0 | W45: =IF(P45="장비비", J45, 0) -> 0 | X45: =IF(P45="폐기물처리비", L45, 0) -> 0 | Y45: =IF(P45="가설비", J45, 0) -> 0 | Z45: =IF(P45="잡비제외분", F45, 0) -> 0 | AA45: =IF(P45="사급자재대", L45, 0) -> 0 | AB45: =IF(P45="관급자재대", L45, 0) -> 0 | AC45: =IF(P45="사용자항목1", L45, 0) -> 0 | AD45: =IF(P45="사용자항목2", L45, 0) -> 0 | AE45: =IF(P45="안전관리비", L45, 0) -> 0 | AF45: =IF(P45="품질관리비", L45, 0) -> 0 | AG45: =IF(P45="작업부산물(철거해체)", L45, 0) -> 0 | AH45: =IF(P45="사용자항목6", L45, 0) -> 0 | AI45: =IF(P45="사용자항목7", L45, 0) -> 0 | AJ45: =IF(P45="사용자항목8", L45, 0) -> 0 | AK45: =IF(P45="사용자항목9", L45, 0) -> 0 | AL45: =IF(P45="사용자항목10", L45, 0) -> 0 | AM45: =IF(P45="사용자항목11", L45, 0) -> 0 | AN45: =IF(P45="사용자항목12", L45, 0) -> 0 | AO45: =IF(P45="사용자항목13", L45, 0) -> 0 | AP45: =IF(P45="사용자항목14", L45, 0) -> 0 | AQ45: =IF(P45="사용자항목15", L45, 0) -> 0 | AR45: =IF(P45="사용자항목16", L45, 0) -> 0 | AS45: =IF(P45="사용자항목17", L45, 0) -> 0 | AT45: =IF(P45="사용자항목18", L45, 0) -> 0 | AU45: =IF(P45="사용자항목19", L45, 0) -> 0
A46: 하이박스 | B46: 300×400×160 | C46: EA | D46: 1 | E46: =일위대가목록!G17 -> 22998 | F46: =ROUNDDOWN(D46*E46, 0) -> 22998 | G46: =일위대가목록!I17 -> 95786 | H46: =ROUNDDOWN(D46*G46, 0) -> 95786 | I46: =일위대가목록!K17 -> 0 | J46: =ROUNDDOWN(D46*I46, 0) -> 0 | K46: =E46+G46+I46 -> 118784 | L46: =F46+H46+J46 -> 118784 | M46: 일위 13호 | O46: ="" | P46: 기계경비 | Q46: 1 | R46: =IF(P46="기계경비", J46, 0) -> 0 | S46: =IF(P46="운반비", L46, 0) -> 0 | T46: =IF(P46="작업부산물", F46, 0) -> 0 | U46: =IF(P46="관급", F46, 0) -> 0 | V46: =IF(P46="외주비", J46, 0) -> 0 | W46: =IF(P46="장비비", J46, 0) -> 0 | X46: =IF(P46="폐기물처리비", L46, 0) -> 0 | Y46: =IF(P46="가설비", J46, 0) -> 0 | Z46: =IF(P46="잡비제외분", F46, 0) -> 0 | AA46: =IF(P46="사급자재대", L46, 0) -> 0 | AB46: =IF(P46="관급자재대", L46, 0) -> 0 | AC46: =IF(P46="사용자항목1", L46, 0) -> 0 | AD46: =IF(P46="사용자항목2", L46, 0) -> 0 | AE46: =IF(P46="안전관리비", L46, 0) -> 0 | AF46: =IF(P46="품질관리비", L46, 0) -> 0 | AG46: =IF(P46="작업부산물(철거해체)", L46, 0) -> 0 | AH46: =IF(P46="사용자항목6", L46, 0) -> 0 | AI46: =IF(P46="사용자항목7", L46, 0) -> 0 | AJ46: =IF(P46="사용자항목8", L46, 0) -> 0 | AK46: =IF(P46="사용자항목9", L46, 0) -> 0 | AL46: =IF(P46="사용자항목10", L46, 0) -> 0 | AM46: =IF(P46="사용자항목11", L46, 0) -> 0 | AN46: =IF(P46="사용자항목12", L46, 0) -> 0 | AO46: =IF(P46="사용자항목13", L46, 0) -> 0 | AP46: =IF(P46="사용자항목14", L46, 0) -> 0 | AQ46: =IF(P46="사용자항목15", L46, 0) -> 0 | AR46: =IF(P46="사용자항목16", L46, 0) -> 0 | AS46: =IF(P46="사용자항목17", L46, 0) -> 0 | AT46: =IF(P46="사용자항목18", L46, 0) -> 0 | AU46: =IF(P46="사용자항목19", L46, 0) -> 0 | AY46: 설치
A47: 단자대 | B47: TB, 4P 30A | C47: 개 | D47: 2 | E47: =단가대비표!O10 -> 1890 | F47: =ROUNDDOWN(D47*E47, 0) -> 3780 | G47: 0 | H47: =ROUNDDOWN(D47*G47, 0) -> 0 | I47: 0 | J47: =ROUNDDOWN(D47*I47, 0) -> 0 | K47: =E47+G47+I47 -> 1890 | L47: =F47+H47+J47 -> 3780 | M47: 고정식 | O47: ="01" -> 01 | P47: 기계경비 | Q47: 1 | R47: =IF(P47="기계경비", J47, 0) -> 0 | S47: =IF(P47="운반비", L47, 0) -> 0 | T47: =IF(P47="작업부산물", F47, 0) -> 0 | U47: =IF(P47="관급", F47, 0) -> 0 | V47: =IF(P47="외주비", J47, 0) -> 0 | W47: =IF(P47="장비비", J47, 0) -> 0 | X47: =IF(P47="폐기물처리비", L47, 0) -> 0 | Y47: =IF(P47="가설비", J47, 0) -> 0 | Z47: =IF(P47="잡비제외분", F47, 0) -> 0 | AA47: =IF(P47="사급자재대", L47, 0) -> 0 | AB47: =IF(P47="관급자재대", L47, 0) -> 0 | AC47: =IF(P47="사용자항목1", L47, 0) -> 0 | AD47: =IF(P47="사용자항목2", L47, 0) -> 0 | AE47: =IF(P47="안전관리비", L47, 0) -> 0 | AF47: =IF(P47="품질관리비", L47, 0) -> 0 | AG47: =IF(P47="작업부산물(철거해체)", L47, 0) -> 0 | AH47: =IF(P47="사용자항목6", L47, 0) -> 0 | AI47: =IF(P47="사용자항목7", L47, 0) -> 0 | AJ47: =IF(P47="사용자항목8", L47, 0) -> 0 | AK47: =IF(P47="사용자항목9", L47, 0) -> 0 | AL47: =IF(P47="사용자항목10", L47, 0) -> 0 | AM47: =IF(P47="사용자항목11", L47, 0) -> 0 | AN47: =IF(P47="사용자항목12", L47, 0) -> 0 | AO47: =IF(P47="사용자항목13", L47, 0) -> 0 | AP47: =IF(P47="사용자항목14", L47, 0) -> 0 | AQ47: =IF(P47="사용자항목15", L47, 0) -> 0 | AR47: =IF(P47="사용자항목16", L47, 0) -> 0 | AS47: =IF(P47="사용자항목17", L47, 0) -> 0 | AT47: =IF(P47="사용자항목18", L47, 0) -> 0 | AU47: =IF(P47="사용자항목19", L47, 0) -> 0
A48: 단자대 | B48: TB, 6P 15A | C48: 개 | D48: 1 | E48: =단가대비표!O11 -> 1160 | F48: =ROUNDDOWN(D48*E48, 0) -> 1160 | G48: 0 | H48: =ROUNDDOWN(D48*G48, 0) -> 0 | I48: 0 | J48: =ROUNDDOWN(D48*I48, 0) -> 0 | K48: =E48+G48+I48 -> 1160 | L48: =F48+H48+J48 -> 1160 | M48: 고정식 | O48: ="01" -> 01 | P48: 기계경비 | Q48: 1 | R48: =IF(P48="기계경비", J48, 0) -> 0 | S48: =IF(P48="운반비", L48, 0) -> 0 | T48: =IF(P48="작업부산물", F48, 0) -> 0 | U48: =IF(P48="관급", F48, 0) -> 0 | V48: =IF(P48="외주비", J48, 0) -> 0 | W48: =IF(P48="장비비", J48, 0) -> 0 | X48: =IF(P48="폐기물처리비", L48, 0) -> 0 | Y48: =IF(P48="가설비", J48, 0) -> 0 | Z48: =IF(P48="잡비제외분", F48, 0) -> 0 | AA48: =IF(P48="사급자재대", L48, 0) -> 0 | AB48: =IF(P48="관급자재대", L48, 0) -> 0 | AC48: =IF(P48="사용자항목1", L48, 0) -> 0 | AD48: =IF(P48="사용자항목2", L48, 0) -> 0 | AE48: =IF(P48="안전관리비", L48, 0) -> 0 | AF48: =IF(P48="품질관리비", L48, 0) -> 0 | AG48: =IF(P48="작업부산물(철거해체)", L48, 0) -> 0 | AH48: =IF(P48="사용자항목6", L48, 0) -> 0 | AI48: =IF(P48="사용자항목7", L48, 0) -> 0 | AJ48: =IF(P48="사용자항목8", L48, 0) -> 0 | AK48: =IF(P48="사용자항목9", L48, 0) -> 0 | AL48: =IF(P48="사용자항목10", L48, 0) -> 0 | AM48: =IF(P48="사용자항목11", L48, 0) -> 0 | AN48: =IF(P48="사용자항목12", L48, 0) -> 0 | AO48: =IF(P48="사용자항목13", L48, 0) -> 0 | AP48: =IF(P48="사용자항목14", L48, 0) -> 0 | AQ48: =IF(P48="사용자항목15", L48, 0) -> 0 | AR48: =IF(P48="사용자항목16", L48, 0) -> 0 | AS48: =IF(P48="사용자항목17", L48, 0) -> 0 | AT48: =IF(P48="사용자항목18", L48, 0) -> 0 | AU48: =IF(P48="사용자항목19", L48, 0) -> 0
A49: 입상케이블 보호관 설치 | B49: 입상관 Φ175mm 이하 | C49: m | D49: 2 | E49: =일위대가목록!G18 -> 3306 | F49: =ROUNDDOWN(D49*E49, 0) -> 6612 | G49: =일위대가목록!I18 -> 110220 | H49: =ROUNDDOWN(D49*G49, 0) -> 220440 | I49: =일위대가목록!K18 -> 0 | J49: =ROUNDDOWN(D49*I49, 0) -> 0 | K49: =E49+G49+I49 -> 113526 | L49: =F49+H49+J49 -> 227052 | M49: 일위 14호 | O49: ="" | P49: 기계경비 | Q49: 1 | R49: =IF(P49="기계경비", J49, 0) -> 0 | S49: =IF(P49="운반비", L49, 0) -> 0 | T49: =IF(P49="작업부산물", F49, 0) -> 0 | U49: =IF(P49="관급", F49, 0) -> 0 | V49: =IF(P49="외주비", J49, 0) -> 0 | W49: =IF(P49="장비비", J49, 0) -> 0 | X49: =IF(P49="폐기물처리비", L49, 0) -> 0 | Y49: =IF(P49="가설비", J49, 0) -> 0 | Z49: =IF(P49="잡비제외분", F49, 0) -> 0 | AA49: =IF(P49="사급자재대", L49, 0) -> 0 | AB49: =IF(P49="관급자재대", L49, 0) -> 0 | AC49: =IF(P49="사용자항목1", L49, 0) -> 0 | AD49: =IF(P49="사용자항목2", L49, 0) -> 0 | AE49: =IF(P49="안전관리비", L49, 0) -> 0 | AF49: =IF(P49="품질관리비", L49, 0) -> 0 | AG49: =IF(P49="작업부산물(철거해체)", L49, 0) -> 0 | AH49: =IF(P49="사용자항목6", L49, 0) -> 0 | AI49: =IF(P49="사용자항목7", L49, 0) -> 0 | AJ49: =IF(P49="사용자항목8", L49, 0) -> 0 | AK49: =IF(P49="사용자항목9", L49, 0) -> 0 | AL49: =IF(P49="사용자항목10", L49, 0) -> 0 | AM49: =IF(P49="사용자항목11", L49, 0) -> 0 | AN49: =IF(P49="사용자항목12", L49, 0) -> 0 | AO49: =IF(P49="사용자항목13", L49, 0) -> 0 | AP49: =IF(P49="사용자항목14", L49, 0) -> 0 | AQ49: =IF(P49="사용자항목15", L49, 0) -> 0 | AR49: =IF(P49="사용자항목16", L49, 0) -> 0 | AS49: =IF(P49="사용자항목17", L49, 0) -> 0 | AT49: =IF(P49="사용자항목18", L49, 0) -> 0 | AU49: =IF(P49="사용자항목19", L49, 0) -> 0
A50: 구멍뚫기(코어드릴) | B50: D150, 콘크리트 150㎜, 벽 | C50: 개소 | D50: 1 | E50: =일위대가목록!G19 -> 2113 | F50: =ROUNDDOWN(D50*E50, 0) -> 2113 | G50: =일위대가목록!I19 -> 105692 | H50: =ROUNDDOWN(D50*G50, 0) -> 105692 | I50: =일위대가목록!K19 -> 0 | J50: =ROUNDDOWN(D50*I50, 0) -> 0 | K50: =E50+G50+I50 -> 107805 | L50: =F50+H50+J50 -> 107805 | M50: 일위 15호 | O50: ="" | P50: 기계경비 | Q50: 1 | R50: =IF(P50="기계경비", J50, 0) -> 0 | S50: =IF(P50="운반비", L50, 0) -> 0 | T50: =IF(P50="작업부산물", F50, 0) -> 0 | U50: =IF(P50="관급", F50, 0) -> 0 | V50: =IF(P50="외주비", J50, 0) -> 0 | W50: =IF(P50="장비비", J50, 0) -> 0 | X50: =IF(P50="폐기물처리비", L50, 0) -> 0 | Y50: =IF(P50="가설비", J50, 0) -> 0 | Z50: =IF(P50="잡비제외분", F50, 0) -> 0 | AA50: =IF(P50="사급자재대", L50, 0) -> 0 | AB50: =IF(P50="관급자재대", L50, 0) -> 0 | AC50: =IF(P50="사용자항목1", L50, 0) -> 0 | AD50: =IF(P50="사용자항목2", L50, 0) -> 0 | AE50: =IF(P50="안전관리비", L50, 0) -> 0 | AF50: =IF(P50="품질관리비", L50, 0) -> 0 | AG50: =IF(P50="작업부산물(철거해체)", L50, 0) -> 0 | AH50: =IF(P50="사용자항목6", L50, 0) -> 0 | AI50: =IF(P50="사용자항목7", L50, 0) -> 0 | AJ50: =IF(P50="사용자항목8", L50, 0) -> 0 | AK50: =IF(P50="사용자항목9", L50, 0) -> 0 | AL50: =IF(P50="사용자항목10", L50, 0) -> 0 | AM50: =IF(P50="사용자항목11", L50, 0) -> 0 | AN50: =IF(P50="사용자항목12", L50, 0) -> 0 | AO50: =IF(P50="사용자항목13", L50, 0) -> 0 | AP50: =IF(P50="사용자항목14", L50, 0) -> 0 | AQ50: =IF(P50="사용자항목15", L50, 0) -> 0 | AR50: =IF(P50="사용자항목16", L50, 0) -> 0 | AS50: =IF(P50="사용자항목17", L50, 0) -> 0 | AT50: =IF(P50="사용자항목18", L50, 0) -> 0 | AU50: =IF(P50="사용자항목19", L50, 0) -> 0
A51: 배수펌프(오.배수용) | B51: 50mm 0.75KW 10m | C51: 대 | D51: 2 | E51: =일위대가목록!G20 -> 1195075 | F51: =ROUNDDOWN(D51*E51, 0) -> 2390150 | G51: =일위대가목록!I20 -> 402502 | H51: =ROUNDDOWN(D51*G51, 0) -> 805004 | I51: =일위대가목록!K20 -> 0 | J51: =ROUNDDOWN(D51*I51, 0) -> 0 | K51: =E51+G51+I51 -> 1597577 | L51: =F51+H51+J51 -> 3195154 | M51: 일위 16호 | O51: ="" | P51: 기계경비 | Q51: 1 | R51: =IF(P51="기계경비", J51, 0) -> 0 | S51: =IF(P51="운반비", L51, 0) -> 0 | T51: =IF(P51="작업부산물", F51, 0) -> 0 | U51: =IF(P51="관급", F51, 0) -> 0 | V51: =IF(P51="외주비", J51, 0) -> 0 | W51: =IF(P51="장비비", J51, 0) -> 0 | X51: =IF(P51="폐기물처리비", L51, 0) -> 0 | Y51: =IF(P51="가설비", J51, 0) -> 0 | Z51: =IF(P51="잡비제외분", F51, 0) -> 0 | AA51: =IF(P51="사급자재대", L51, 0) -> 0 | AB51: =IF(P51="관급자재대", L51, 0) -> 0 | AC51: =IF(P51="사용자항목1", L51, 0) -> 0 | AD51: =IF(P51="사용자항목2", L51, 0) -> 0 | AE51: =IF(P51="안전관리비", L51, 0) -> 0 | AF51: =IF(P51="품질관리비", L51, 0) -> 0 | AG51: =IF(P51="작업부산물(철거해체)", L51, 0) -> 0 | AH51: =IF(P51="사용자항목6", L51, 0) -> 0 | AI51: =IF(P51="사용자항목7", L51, 0) -> 0 | AJ51: =IF(P51="사용자항목8", L51, 0) -> 0 | AK51: =IF(P51="사용자항목9", L51, 0) -> 0 | AL51: =IF(P51="사용자항목10", L51, 0) -> 0 | AM51: =IF(P51="사용자항목11", L51, 0) -> 0 | AN51: =IF(P51="사용자항목12", L51, 0) -> 0 | AO51: =IF(P51="사용자항목13", L51, 0) -> 0 | AP51: =IF(P51="사용자항목14", L51, 0) -> 0 | AQ51: =IF(P51="사용자항목15", L51, 0) -> 0 | AR51: =IF(P51="사용자항목16", L51, 0) -> 0 | AS51: =IF(P51="사용자항목17", L51, 0) -> 0 | AT51: =IF(P51="사용자항목18", L51, 0) -> 0 | AU51: =IF(P51="사용자항목19", L51, 0) -> 0 | AY51: 설치
A52: 합 계 | F52: =ROUNDDOWN(SUMIF(Q38:Q51, "1", F38:F51), 0) -> 3447068 | H52: =ROUNDDOWN(SUMIF(Q38:Q51, "1", H38:H51), 0) -> 4153177 | J52: =ROUNDDOWN(SUMIF(Q38:Q51, "1", J38:J51), 0) -> 0 | L52: =F52+H52+J52 -> 7600245 | R52: =ROUNDDOWN(SUM(R38:R51), 0) -> 0 | S52: =ROUNDDOWN(SUM(S38:S51), 0) -> 0 | T52: =ROUNDDOWN(SUM(T38:T51), 0) -> 0 | U52: =ROUNDDOWN(SUM(U38:U51), 0) -> 0 | V52: =ROUNDDOWN(SUM(V38:V51), 0) -> 0 | W52: =ROUNDDOWN(SUM(W38:W51), 0) -> 0 | X52: =ROUNDDOWN(SUM(X38:X51), 0) -> 0 | Y52: =ROUNDDOWN(SUM(Y38:Y51), 0) -> 0 | ... AY52: =ROUNDDOWN(SUM(AY38:AY51), 0) -> 0
A53: 03. 제어반 이설공사
A54: 큐비클철거 | B54: 500kg 이하, 1.0m3 이하 | C54: EA | D54: 1 | E54: =일위대가목록!G21 -> 0 | F54: =ROUNDDOWN(D54*E54, 0) -> 0 | G54: =일위대가목록!I21 -> 716818 | H54: =ROUNDDOWN(D54*G54, 0) -> 716818 | I54: =일위대가목록!K21 -> 0 | J54: =ROUNDDOWN(D54*I54, 0) -> 0 | K54: =E54+G54+I54 -> 716818 | L54: =F54+H54+J54 -> 716818 | M54: 일위 17호 | O54: ="" | P54: 기계경비 | Q54: 1 | R54: =IF(P54="기계경비", J54, 0) -> 0 | S54: =IF(P54="운반비", L54, 0) -> 0 | T54: =IF(P54="작업부산물", F54, 0) -> 0 | U54: =IF(P54="관급", F54, 0) -> 0 | V54: =IF(P54="외주비", J54, 0) -> 0 | W54: =IF(P54="장비비", J54, 0) -> 0 | X54: =IF(P54="폐기물처리비", L54, 0) -> 0 | Y54: =IF(P54="가설비", J54, 0) -> 0 | Z54: =IF(P54="잡비제외분", F54, 0) -> 0 | AA54: =IF(P54="사급자재대", L54, 0) -> 0 | AB54: =IF(P54="관급자재대", L54, 0) -> 0 | AC54: =IF(P54="사용자항목1", L54, 0) -> 0 | AD54: =IF(P54="사용자항목2", L54, 0) -> 0 | AE54: =IF(P54="안전관리비", L54, 0) -> 0 | AF54: =IF(P54="품질관리비", L54, 0) -> 0 | AG54: =IF(P54="작업부산물(철거해체)", L54, 0) -> 0 | AH54: =IF(P54="사용자항목6", L54, 0) -> 0 | AI54: =IF(P54="사용자항목7", L54, 0) -> 0 | AJ54: =IF(P54="사용자항목8", L54, 0) -> 0 | AK54: =IF(P54="사용자항목9", L54, 0) -> 0 | AL54: =IF(P54="사용자항목10", L54, 0) -> 0 | AM54: =IF(P54="사용자항목11", L54, 0) -> 0 | AN54: =IF(P54="사용자항목12", L54, 0) -> 0 | AO54: =IF(P54="사용자항목13", L54, 0) -> 0 | AP54: =IF(P54="사용자항목14", L54, 0) -> 0 | AQ54: =IF(P54="사용자항목15", L54, 0) -> 0 | AR54: =IF(P54="사용자항목16", L54, 0) -> 0 | AS54: =IF(P54="사용자항목17", L54, 0) -> 0 | AT54: =IF(P54="사용자항목18", L54, 0) -> 0 | AU54: =IF(P54="사용자항목19", L54, 0) -> 0 | AY54: 설치의 60%
A55: 분전반(스텐) | B55: 옥외이중방수, 300×500×250, 1.2T | C55: EA | D55: 1 | E55: =일위대가목록!G22 -> 314718 | F55: =ROUNDDOWN(D55*E55, 0) -> 314718 | G55: =일위대가목록!I22 -> 180626 | H55: =ROUNDDOWN(D55*G55, 0) -> 180626 | I55: =일위대가목록!K22 -> 0 | J55: =ROUNDDOWN(D55*I55, 0) -> 0 | K55: =E55+G55+I55 -> 495344 | L55: =F55+H55+J55 -> 495344 | M55: 일위 18호 | O55: ="" | P55: 기계경비 | Q55: 1 | R55: =IF(P55="기계경비", J55, 0) -> 0 | S55: =IF(P55="운반비", L55, 0) -> 0 | T55: =IF(P55="작업부산물", F55, 0) -> 0 | U55: =IF(P55="관급", F55, 0) -> 0 | V55: =IF(P55="외주비", J55, 0) -> 0 | W55: =IF(P55="장비비", J55, 0) -> 0 | X55: =IF(P55="폐기물처리비", L55, 0) -> 0 | Y55: =IF(P55="가설비", J55, 0) -> 0 | Z55: =IF(P55="잡비제외분", F55, 0) -> 0 | AA55: =IF(P55="사급자재대", L55, 0) -> 0 | AB55: =IF(P55="관급자재대", L55, 0) -> 0 | AC55: =IF(P55="사용자항목1", L55, 0) -> 0 | AD55: =IF(P55="사용자항목2", L55, 0) -> 0 | AE55: =IF(P55="안전관리비", L55, 0) -> 0 | AF55: =IF(P55="품질관리비", L55, 0) -> 0 | AG55: =IF(P55="작업부산물(철거해체)", L55, 0) -> 0 | AH55: =IF(P55="사용자항목6", L55, 0) -> 0 | AI55: =IF(P55="사용자항목7", L55, 0) -> 0 | AJ55: =IF(P55="사용자항목8", L55, 0) -> 0 | AK55: =IF(P55="사용자항목9", L55, 0) -> 0 | AL55: =IF(P55="사용자항목10", L55, 0) -> 0 | AM55: =IF(P55="사용자항목11", L55, 0) -> 0 | AN55: =IF(P55="사용자항목12", L55, 0) -> 0 | AO55: =IF(P55="사용자항목13", L55, 0) -> 0 | AP55: =IF(P55="사용자항목14", L55, 0) -> 0 | AQ55: =IF(P55="사용자항목15", L55, 0) -> 0 | AR55: =IF(P55="사용자항목16", L55, 0) -> 0 | AS55: =IF(P55="사용자항목17", L55, 0) -> 0 | AT55: =IF(P55="사용자항목18", L55, 0) -> 0 | AU55: =IF(P55="사용자항목19", L55, 0) -> 0 | AY55: 설치
A56: 배선용차단기 | B56: 4P 460V 30AF, 표준형 | C56: 개 | D56: 1 | E56: =일위대가목록!G23 -> 45963 | F56: =ROUNDDOWN(D56*E56, 0) -> 45963 | G56: =일위대가목록!I23 -> 192120 | H56: =ROUNDDOWN(D56*G56, 0) -> 192120 | I56: =일위대가목록!K23 -> 0 | J56: =ROUNDDOWN(D56*I56, 0) -> 0 | K56: =E56+G56+I56 -> 238083 | L56: =F56+H56+J56 -> 238083 | M56: 일위 19호 | O56: ="" | P56: 기계경비 | Q56: 1 | R56: =IF(P56="기계경비", J56, 0) -> 0 | S56: =IF(P56="운반비", L56, 0) -> 0 | T56: =IF(P56="작업부산물", F56, 0) -> 0 | U56: =IF(P56="관급", F56, 0) -> 0 | V56: =IF(P56="외주비", J56, 0) -> 0 | W56: =IF(P56="장비비", J56, 0) -> 0 | X56: =IF(P56="폐기물처리비", L56, 0) -> 0 | Y56: =IF(P56="가설비", J56, 0) -> 0 | Z56: =IF(P56="잡비제외분", F56, 0) -> 0 | AA56: =IF(P56="사급자재대", L56, 0) -> 0 | AB56: =IF(P56="관급자재대", L56, 0) -> 0 | AC56: =IF(P56="사용자항목1", L56, 0) -> 0 | AD56: =IF(P56="사용자항목2", L56, 0) -> 0 | AE56: =IF(P56="안전관리비", L56, 0) -> 0 | AF56: =IF(P56="품질관리비", L56, 0) -> 0 | AG56: =IF(P56="작업부산물(철거해체)", L56, 0) -> 0 | AH56: =IF(P56="사용자항목6", L56, 0) -> 0 | AI56: =IF(P56="사용자항목7", L56, 0) -> 0 | AJ56: =IF(P56="사용자항목8", L56, 0) -> 0 | AK56: =IF(P56="사용자항목9", L56, 0) -> 0 | AL56: =IF(P56="사용자항목10", L56, 0) -> 0 | AM56: =IF(P56="사용자항목11", L56, 0) -> 0 | AN56: =IF(P56="사용자항목12", L56, 0) -> 0 | AO56: =IF(P56="사용자항목13", L56, 0) -> 0 | AP56: =IF(P56="사용자항목14", L56, 0) -> 0 | AQ56: =IF(P56="사용자항목15", L56, 0) -> 0 | AR56: =IF(P56="사용자항목16", L56, 0) -> 0 | AS56: =IF(P56="사용자항목17", L56, 0) -> 0 | AT56: =IF(P56="사용자항목18", L56, 0) -> 0 | AU56: =IF(P56="사용자항목19", L56, 0) -> 0 | AY56: 설치
A57: 철합금설 | B57: 스텐레스.작업설부산물 | C57: kg | D57: 91 | E57: =단가대비표!O27 -> -1900 | F57: =ROUNDDOWN(D57*E57, 0) -> -172900 | G57: 0 | H57: =ROUNDDOWN(D57*G57, 0) -> 0 | I57: 0 | J57: =ROUNDDOWN(D57*I57, 0) -> 0 | K57: =E57+G57+I57 -> -1900 | L57: =F57+H57+J57 -> -172900 | M57: 매입가 | O57: ="01" -> 01 | P57: 기계경비 | Q57: 1 | R57: =IF(P57="기계경비", J57, 0) -> 0 | S57: =IF(P57="운반비", L57, 0) -> 0 | T57: =IF(P57="작업부산물", F57, 0) -> 0 | U57: =IF(P57="관급", F57, 0) -> 0 | V57: =IF(P57="외주비", J57, 0) -> 0 | W57: =IF(P57="장비비", J57, 0) -> 0 | X57: =IF(P57="폐기물처리비", L57, 0) -> 0 | Y57: =IF(P57="가설비", J57, 0) -> 0 | Z57: =IF(P57="잡비제외분", F57, 0) -> 0 | AA57: =IF(P57="사급자재대", L57, 0) -> 0 | AB57: =IF(P57="관급자재대", L57, 0) -> 0 | AC57: =IF(P57="사용자항목1", L57, 0) -> 0 | AD57: =IF(P57="사용자항목2", L57, 0) -> 0 | AE57: =IF(P57="안전관리비", L57, 0) -> 0 | AF57: =IF(P57="품질관리비", L57, 0) -> 0 | AG57: =IF(P57="작업부산물(철거해체)", L57, 0) -> 0 | AH57: =IF(P57="사용자항목6", L57, 0) -> 0 | AI57: =IF(P57="사용자항목7", L57, 0) -> 0 | AJ57: =IF(P57="사용자항목8", L57, 0) -> 0 | AK57: =IF(P57="사용자항목9", L57, 0) -> 0 | AL57: =IF(P57="사용자항목10", L57, 0) -> 0 | AM57: =IF(P57="사용자항목11", L57, 0) -> 0 | AN57: =IF(P57="사용자항목12", L57, 0) -> 0 | AO57: =IF(P57="사용자항목13", L57, 0) -> 0 | AP57: =IF(P57="사용자항목14", L57, 0) -> 0 | AQ57: =IF(P57="사용자항목15", L57, 0) -> 0 | AR57: =IF(P57="사용자항목16", L57, 0) -> 0 | AS57: =IF(P57="사용자항목17", L57, 0) -> 0 | AT57: =IF(P57="사용자항목18", L57, 0) -> 0 | AU57: =IF(P57="사용자항목19", L57, 0) -> 0
A58: 고소작업차 | B58: 2ton | C58: HR | D58: 4 | E58: =중기경비목록!G6 -> 5766 | F58: =ROUNDDOWN(D58*E58, 0) -> 23064 | G58: =중기경비목록!I6 -> 49778 | H58: =ROUNDDOWN(D58*G58, 0) -> 199112 | I58: =중기경비목록!K6 -> 10694 | J58: =ROUNDDOWN(D58*I58, 0) -> 42776 | K58: =E58+G58+I58 -> 66238 | L58: =F58+H58+J58 -> 264952 | M58: 중기 2호 | O58: ="" | P58: 기계경비 | Q58: 1 | R58: =IF(P58="기계경비", J58, 0) -> 42776 | S58: =IF(P58="운반비", L58, 0) -> 0 | T58: =IF(P58="작업부산물", F58, 0) -> 0 | U58: =IF(P58="관급", F58, 0) -> 0 | V58: =IF(P58="외주비", J58, 0) -> 0 | W58: =IF(P58="장비비", J58, 0) -> 0 | X58: =IF(P58="폐기물처리비", L58, 0) -> 0 | Y58: =IF(P58="가설비", J58, 0) -> 0 | Z58: =IF(P58="잡비제외분", F58, 0) -> 0 | AA58: =IF(P58="사급자재대", L58, 0) -> 0 | AB58: =IF(P58="관급자재대", L58, 0) -> 0 | AC58: =IF(P58="사용자항목1", L58, 0) -> 0 | AD58: =IF(P58="사용자항목2", L58, 0) -> 0 | AE58: =IF(P58="안전관리비", L58, 0) -> 0 | AF58: =IF(P58="품질관리비", L58, 0) -> 0 | AG58: =IF(P58="작업부산물(철거해체)", L58, 0) -> 0 | AH58: =IF(P58="사용자항목6", L58, 0) -> 0 | AI58: =IF(P58="사용자항목7", L58, 0) -> 0 | AJ58: =IF(P58="사용자항목8", L58, 0) -> 0 | AK58: =IF(P58="사용자항목9", L58, 0) -> 0 | AL58: =IF(P58="사용자항목10", L58, 0) -> 0 | AM58: =IF(P58="사용자항목11", L58, 0) -> 0 | AN58: =IF(P58="사용자항목12", L58, 0) -> 0 | AO58: =IF(P58="사용자항목13", L58, 0) -> 0 | AP58: =IF(P58="사용자항목14", L58, 0) -> 0 | AQ58: =IF(P58="사용자항목15", L58, 0) -> 0 | AR58: =IF(P58="사용자항목16", L58, 0) -> 0 | AS58: =IF(P58="사용자항목17", L58, 0) -> 0 | AT58: =IF(P58="사용자항목18", L58, 0) -> 0 | AU58: =IF(P58="사용자항목19", L58, 0) -> 0
F59: =ROUNDDOWN(D59*E59, 0) -> 0 | H59: =ROUNDDOWN(D59*G59, 0) -> 0 | J59: =ROUNDDOWN(D59*I59, 0) -> 0 | K59: =E59+G59+I59 -> 0 | L59: =F59+H59+J59 -> 0 | O59: ="" | Q59: 1 | R59: =IF(P59="기계경비", J59, 0) -> 0 | S59: =IF(P59="운반비", L59, 0) -> 0 | T59: =IF(P59="작업부산물", F59, 0) -> 0 | U59: =IF(P59="관급", F59, 0) -> 0 | V59: =IF(P59="외주비", J59, 0) -> 0 | W59: =IF(P59="장비비", J59, 0) -> 0 | X59: =IF(P59="폐기물처리비", L59, 0) -> 0 | Y59: =IF(P59="가설비", J59, 0) -> 0 | Z59: =IF(P59="잡비제외분", F59, 0) -> 0 | AA59: =IF(P59="사급자재대", L59, 0) -> 0 | AB59: =IF(P59="관급자재대", L59, 0) -> 0 | AC59: =IF(P59="사용자항목1", L59, 0) -> 0 | AD59: =IF(P59="사용자항목2", L59, 0) -> 0 | AE59: =IF(P59="안전관리비", L59, 0) -> 0 | AF59: =IF(P59="품질관리비", L59, 0) -> 0 | AG59: =IF(P59="작업부산물(철거해체)", L59, 0) -> 0 | AH59: =IF(P59="사용자항목6", L59, 0) -> 0 | AI59: =IF(P59="사용자항목7", L59, 0) -> 0 | AJ59: =IF(P59="사용자항목8", L59, 0) -> 0 | AK59: =IF(P59="사용자항목9", L59, 0) -> 0 | AL59: =IF(P59="사용자항목10", L59, 0) -> 0 | AM59: =IF(P59="사용자항목11", L59, 0) -> 0 | AN59: =IF(P59="사용자항목12", L59, 0) -> 0 | AO59: =IF(P59="사용자항목13", L59, 0) -> 0 | AP59: =IF(P59="사용자항목14", L59, 0) -> 0 | AQ59: =IF(P59="사용자항목15", L59, 0) -> 0 | AR59: =IF(P59="사용자항목16", L59, 0) -> 0 | AS59: =IF(P59="사용자항목17", L59, 0) -> 0 | AT59: =IF(P59="사용자항목18", L59, 0) -> 0 | AU59: =IF(P59="사용자항목19", L59, 0) -> 0
A60: 전동기제어반 | B60: 스텐제옥외형, W700XH2050 | C60: 면 | D60: 1 | L60: 관급 | O60: ="01" -> 01 | P60: 기계경비 | Q60: 1 | R60: =IF(P60="기계경비", J60, 0) -> 0 | S60: =IF(P60="운반비", L60, 0) -> 0 | T60: =IF(P60="작업부산물", F60, 0) -> 0 | U60: =IF(P60="관급", F60, 0) -> 0 | V60: =IF(P60="외주비", J60, 0) -> 0 | W60: =IF(P60="장비비", J60, 0) -> 0 | X60: =IF(P60="폐기물처리비", L60, 0) -> 0 | Y60: =IF(P60="가설비", J60, 0) -> 0 | Z60: =IF(P60="잡비제외분", F60, 0) -> 0 | AA60: =IF(P60="사급자재대", L60, 0) -> 0 | AB60: =IF(P60="관급자재대", L60, 0) -> 0 | AC60: =IF(P60="사용자항목1", L60, 0) -> 0 | AD60: =IF(P60="사용자항목2", L60, 0) -> 0 | AE60: =IF(P60="안전관리비", L60, 0) -> 0 | AF60: =IF(P60="품질관리비", L60, 0) -> 0 | AG60: =IF(P60="작업부산물(철거해체)", L60, 0) -> 0 | AH60: =IF(P60="사용자항목6", L60, 0) -> 0 | AI60: =IF(P60="사용자항목7", L60, 0) -> 0 | AJ60: =IF(P60="사용자항목8", L60, 0) -> 0 | AK60: =IF(P60="사용자항목9", L60, 0) -> 0 | AL60: =IF(P60="사용자항목10", L60, 0) -> 0 | AM60: =IF(P60="사용자항목11", L60, 0) -> 0 | AN60: =IF(P60="사용자항목12", L60, 0) -> 0 | AO60: =IF(P60="사용자항목13", L60, 0) -> 0 | AP60: =IF(P60="사용자항목14", L60, 0) -> 0 | AQ60: =IF(P60="사용자항목15", L60, 0) -> 0 | AR60: =IF(P60="사용자항목16", L60, 0) -> 0 | AS60: =IF(P60="사용자항목17", L60, 0) -> 0 | AT60: =IF(P60="사용자항목18", L60, 0) -> 0 | AU60: =IF(P60="사용자항목19", L60, 0) -> 0
A68: 합 계 | F68: =ROUNDDOWN(SUMIF(Q54:Q67, "1", F54:F67), 0) -> 210845 | H68: =ROUNDDOWN(SUMIF(Q54:Q67, "1", H54:H67), 0) -> 1288676 | J68: =ROUNDDOWN(SUMIF(Q54:Q67, "1", J54:J67), 0) -> 42776 | L68: =F68+H68+J68 -> 1542297 | R68: =ROUNDDOWN(SUM(R54:R60), 0) -> 42776 | S68: =ROUNDDOWN(SUM(S54:S60), 0) -> 0 | T68: =ROUNDDOWN(SUM(T54:T60), 0) -> 0 | U68: =ROUNDDOWN(SUM(U54:U60), 0) -> 0 | V68: =ROUNDDOWN(SUM(V54:V60), 0) -> 0 | W68: =ROUNDDOWN(SUM(W54:W60), 0) -> 0 | X68: =ROUNDDOWN(SUM(X54:X60), 0) -> 0 | Y68: =ROUNDDOWN(SUM(Y54:Y60), 0) -> 0 | ... AY68: =ROUNDDOWN(SUM(AY54:AY60), 0) -> 0
A69: 04. 폐기물처리비
A70: 건설폐기물처리비 | B70: 건설(건축)폐자재 | C70: 톤 | D70: 8 | E70: =일위대가목록!G24 -> 0 | F70: =ROUNDDOWN(D70*E70, 0) -> 0 | G70: =일위대가목록!I24 -> 0 | H70: =ROUNDDOWN(D70*G70, 0) -> 0 | I70: =일위대가목록!K24 -> 49571 | J70: =ROUNDDOWN(D70*I70, 0) -> 396568 | K70: =E70+G70+I70 -> 49571 | L70: =F70+H70+J70 -> 396568 | M70: 일위 20호 | O70: ="" | P70: 작업부산물(철거해체) | Q70: 1 | R70: =IF(P70="기계경비", J70, 0) -> 0 | S70: =IF(P70="운반비", L70, 0) -> 0 | T70: =IF(P70="작업부산물", F70, 0) -> 0 | U70: =IF(P70="관급", F70, 0) -> 0 | V70: =IF(P70="외주비", J70, 0) -> 0 | W70: =IF(P70="장비비", J70, 0) -> 0 | X70: =IF(P70="폐기물처리비", L70, 0) -> 0 | Y70: =IF(P70="가설비", J70, 0) -> 0 | Z70: =IF(P70="잡비제외분", F70, 0) -> 0 | AA70: =IF(P70="사급자재대", L70, 0) -> 0 | AB70: =IF(P70="관급자재대", L70, 0) -> 0 | AC70: =IF(P70="사용자항목1", L70, 0) -> 0 | AD70: =IF(P70="사용자항목2", L70, 0) -> 0 | AE70: =IF(P70="안전관리비", L70, 0) -> 0 | AF70: =IF(P70="품질관리비", L70, 0) -> 0 | AG70: =IF(P70="작업부산물(철거해체)", L70, 0) -> 396568 | AH70: =IF(P70="사용자항목6", L70, 0) -> 0 | AI70: =IF(P70="사용자항목7", L70, 0) -> 0 | AJ70: =IF(P70="사용자항목8", L70, 0) -> 0 | AK70: =IF(P70="사용자항목9", L70, 0) -> 0 | AL70: =IF(P70="사용자항목10", L70, 0) -> 0 | AM70: =IF(P70="사용자항목11", L70, 0) -> 0 | AN70: =IF(P70="사용자항목12", L70, 0) -> 0 | AO70: =IF(P70="사용자항목13", L70, 0) -> 0 | AP70: =IF(P70="사용자항목14", L70, 0) -> 0 | AQ70: =IF(P70="사용자항목15", L70, 0) -> 0 | AR70: =IF(P70="사용자항목16", L70, 0) -> 0 | AS70: =IF(P70="사용자항목17", L70, 0) -> 0 | AT70: =IF(P70="사용자항목18", L70, 0) -> 0 | AU70: =IF(P70="사용자항목19", L70, 0) -> 0
A71: 건설폐기물수집운반비(상차+운반비) | B71: 4.5톤 덤프트럭, 건설폐재류, 50km | C71: TON | D71: 8 | E71: 0 | F71: =ROUNDDOWN(D71*E71, 0) -> 0 | G71: 0 | H71: =ROUNDDOWN(D71*G71, 0) -> 0 | I71: =단가대비표!O47 -> 63290 | J71: =ROUNDDOWN(D71*I71, 0) -> 506320 | K71: =E71+G71+I71 -> 63290 | L71: =F71+H71+J71 -> 506320 | M71: 한국건설폐기물수집운반 | O71: ="03" -> 03 | P71: 작업부산물(철거해체) | Q71: 1 | R71: =IF(P71="기계경비", J71, 0) -> 0 | S71: =IF(P71="운반비", L71, 0) -> 0 | T71: =IF(P71="작업부산물", F71, 0) -> 0 | U71: =IF(P71="관급", F71, 0) -> 0 | V71: =IF(P71="외주비", J71, 0) -> 0 | W71: =IF(P71="장비비", J71, 0) -> 0 | X71: =IF(P71="폐기물처리비", L71, 0) -> 0 | Y71: =IF(P71="가설비", J71, 0) -> 0 | Z71: =IF(P71="잡비제외분", F71, 0) -> 0 | AA71: =IF(P71="사급자재대", L71, 0) -> 0 | AB71: =IF(P71="관급자재대", L71, 0) -> 0 | AC71: =IF(P71="사용자항목1", L71, 0) -> 0 | AD71: =IF(P71="사용자항목2", L71, 0) -> 0 | AE71: =IF(P71="안전관리비", L71, 0) -> 0 | AF71: =IF(P71="품질관리비", L71, 0) -> 0 | AG71: =IF(P71="작업부산물(철거해체)", L71, 0) -> 506320 | AH71: =IF(P71="사용자항목6", L71, 0) -> 0 | AI71: =IF(P71="사용자항목7", L71, 0) -> 0 | AJ71: =IF(P71="사용자항목8", L71, 0) -> 0 | AK71: =IF(P71="사용자항목9", L71, 0) -> 0 | AL71: =IF(P71="사용자항목10", L71, 0) -> 0 | AM71: =IF(P71="사용자항목11", L71, 0) -> 0 | AN71: =IF(P71="사용자항목12", L71, 0) -> 0 | AO71: =IF(P71="사용자항목13", L71, 0) -> 0 | AP71: =IF(P71="사용자항목14", L71, 0) -> 0 | AQ71: =IF(P71="사용자항목15", L71, 0) -> 0 | AR71: =IF(P71="사용자항목16", L71, 0) -> 0 | AS71: =IF(P71="사용자항목17", L71, 0) -> 0 | AT71: =IF(P71="사용자항목18", L71, 0) -> 0 | AU71: =IF(P71="사용자항목19", L71, 0) -> 0
A84: 합 계 | F84: =ROUNDDOWN(SUMIF(Q70:Q83, "1", F70:F83), 0) -> 0 | H84: =ROUNDDOWN(SUMIF(Q70:Q83, "1", H70:H83), 0) -> 0 | J84: =ROUNDDOWN(SUMIF(Q70:Q83, "1", J70:J83), 0) -> 902888 | L84: =F84+H84+J84 -> 902888 | R84: =ROUNDDOWN(SUM(R70:R71), 0) -> 0 | S84: =ROUNDDOWN(SUM(S70:S71), 0) -> 0 | T84: =ROUNDDOWN(SUM(T70:T71), 0) -> 0 | U84: =ROUNDDOWN(SUM(U70:U71), 0) -> 0 | V84: =ROUNDDOWN(SUM(V70:V71), 0) -> 0 | W84: =ROUNDDOWN(SUM(W70:W71), 0) -> 0 | X84: =ROUNDDOWN(SUM(X70:X71), 0) -> 0 | Y84: =ROUNDDOWN(SUM(Y70:Y71), 0) -> 0 | ... AY84: =ROUNDDOWN(SUM(AY70:AY71), 0) -> 0
A85: 05. 표준시설부담금
A86: 시설부담금 | B86: 공중공급, 3상전원 | C86: KW | D86: 4 | E86: =단가대비표!O19 -> 133100 | F86: =ROUNDDOWN(D86*E86, 0) -> 532400 | G86: 0 | H86: =ROUNDDOWN(D86*G86, 0) -> 0 | I86: 0 | J86: =ROUNDDOWN(D86*I86, 0) -> 0 | K86: =E86+G86+I86 -> 133100 | L86: =F86+H86+J86 -> 532400 | O86: ="01" -> 01 | P86: 사급자재대 | Q86: 1 | R86: =IF(P86="기계경비", J86, 0) -> 0 | S86: =IF(P86="운반비", L86, 0) -> 0 | T86: =IF(P86="작업부산물", F86, 0) -> 0 | U86: =IF(P86="관급", F86, 0) -> 0 | V86: =IF(P86="외주비", J86, 0) -> 0 | W86: =IF(P86="장비비", J86, 0) -> 0 | X86: =IF(P86="폐기물처리비", L86, 0) -> 0 | Y86: =IF(P86="가설비", J86, 0) -> 0 | Z86: =IF(P86="잡비제외분", F86, 0) -> 0 | AA86: =IF(P86="사급자재대", L86, 0) -> 532400 | AB86: =IF(P86="관급자재대", L86, 0) -> 0 | AC86: =IF(P86="사용자항목1", L86, 0) -> 0 | AD86: =IF(P86="사용자항목2", L86, 0) -> 0 | AE86: =IF(P86="안전관리비", L86, 0) -> 0 | AF86: =IF(P86="품질관리비", L86, 0) -> 0 | AG86: =IF(P86="작업부산물(철거해체)", L86, 0) -> 0 | AH86: =IF(P86="사용자항목6", L86, 0) -> 0 | AI86: =IF(P86="사용자항목7", L86, 0) -> 0 | AJ86: =IF(P86="사용자항목8", L86, 0) -> 0 | AK86: =IF(P86="사용자항목9", L86, 0) -> 0 | AL86: =IF(P86="사용자항목10", L86, 0) -> 0 | AM86: =IF(P86="사용자항목11", L86, 0) -> 0 | AN86: =IF(P86="사용자항목12", L86, 0) -> 0 | AO86: =IF(P86="사용자항목13", L86, 0) -> 0 | AP86: =IF(P86="사용자항목14", L86, 0) -> 0 | AQ86: =IF(P86="사용자항목15", L86, 0) -> 0 | AR86: =IF(P86="사용자항목16", L86, 0) -> 0 | AS86: =IF(P86="사용자항목17", L86, 0) -> 0 | AT86: =IF(P86="사용자항목18", L86, 0) -> 0 | AU86: =IF(P86="사용자항목19", L86, 0) -> 0
F87: =ROUNDDOWN(D87*E87, 0) -> 0 | H87: =ROUNDDOWN(D87*G87, 0) -> 0 | J87: =ROUNDDOWN(D87*I87, 0) -> 0 | K87: =E87+G87+I87 -> 0 | L87: =F87+H87+J87 -> 0 | O87: ="" | P87: 사급자재대 | Q87: 1 | R87: =IF(P87="기계경비", J87, 0) -> 0 | S87: =IF(P87="운반비", L87, 0) -> 0 | T87: =IF(P87="작업부산물", F87, 0) -> 0 | U87: =IF(P87="관급", F87, 0) -> 0 | V87: =IF(P87="외주비", J87, 0) -> 0 | W87: =IF(P87="장비비", J87, 0) -> 0 | X87: =IF(P87="폐기물처리비", L87, 0) -> 0 | Y87: =IF(P87="가설비", J87, 0) -> 0 | Z87: =IF(P87="잡비제외분", F87, 0) -> 0 | AA87: =IF(P87="사급자재대", L87, 0) -> 0 | AB87: =IF(P87="관급자재대", L87, 0) -> 0 | AC87: =IF(P87="사용자항목1", L87, 0) -> 0 | AD87: =IF(P87="사용자항목2", L87, 0) -> 0 | AE87: =IF(P87="안전관리비", L87, 0) -> 0 | AF87: =IF(P87="품질관리비", L87, 0) -> 0 | AG87: =IF(P87="작업부산물(철거해체)", L87, 0) -> 0 | AH87: =IF(P87="사용자항목6", L87, 0) -> 0 | AI87: =IF(P87="사용자항목7", L87, 0) -> 0 | AJ87: =IF(P87="사용자항목8", L87, 0) -> 0 | AK87: =IF(P87="사용자항목9", L87, 0) -> 0 | AL87: =IF(P87="사용자항목10", L87, 0) -> 0 | AM87: =IF(P87="사용자항목11", L87, 0) -> 0 | AN87: =IF(P87="사용자항목12", L87, 0) -> 0 | AO87: =IF(P87="사용자항목13", L87, 0) -> 0 | AP87: =IF(P87="사용자항목14", L87, 0) -> 0 | AQ87: =IF(P87="사용자항목15", L87, 0) -> 0 | AR87: =IF(P87="사용자항목16", L87, 0) -> 0 | AS87: =IF(P87="사용자항목17", L87, 0) -> 0 | AT87: =IF(P87="사용자항목18", L87, 0) -> 0 | AU87: =IF(P87="사용자항목19", L87, 0) -> 0
F88: =ROUNDDOWN(D88*E88, 0) -> 0 | H88: =ROUNDDOWN(D88*G88, 0) -> 0 | J88: =ROUNDDOWN(D88*I88, 0) -> 0 | K88: =E88+G88+I88 -> 0 | L88: =F88+H88+J88 -> 0 | O88: ="" | P88: 사급자재대 | Q88: 1 | R88: =IF(P88="기계경비", J88, 0) -> 0 | S88: =IF(P88="운반비", L88, 0) -> 0 | T88: =IF(P88="작업부산물", F88, 0) -> 0 | U88: =IF(P88="관급", F88, 0) -> 0 | V88: =IF(P88="외주비", J88, 0) -> 0 | W88: =IF(P88="장비비", J88, 0) -> 0 | X88: =IF(P88="폐기물처리비", L88, 0) -> 0 | Y88: =IF(P88="가설비", J88, 0) -> 0 | Z88: =IF(P88="잡비제외분", F88, 0) -> 0 | AA88: =IF(P88="사급자재대", L88, 0) -> 0 | AB88: =IF(P88="관급자재대", L88, 0) -> 0 | AC88: =IF(P88="사용자항목1", L88, 0) -> 0 | AD88: =IF(P88="사용자항목2", L88, 0) -> 0 | AE88: =IF(P88="안전관리비", L88, 0) -> 0 | AF88: =IF(P88="품질관리비", L88, 0) -> 0 | AG88: =IF(P88="작업부산물(철거해체)", L88, 0) -> 0 | AH88: =IF(P88="사용자항목6", L88, 0) -> 0 | AI88: =IF(P88="사용자항목7", L88, 0) -> 0 | AJ88: =IF(P88="사용자항목8", L88, 0) -> 0 | AK88: =IF(P88="사용자항목9", L88, 0) -> 0 | AL88: =IF(P88="사용자항목10", L88, 0) -> 0 | AM88: =IF(P88="사용자항목11", L88, 0) -> 0 | AN88: =IF(P88="사용자항목12", L88, 0) -> 0 | AO88: =IF(P88="사용자항목13", L88, 0) -> 0 | AP88: =IF(P88="사용자항목14", L88, 0) -> 0 | AQ88: =IF(P88="사용자항목15", L88, 0) -> 0 | AR88: =IF(P88="사용자항목16", L88, 0) -> 0 | AS88: =IF(P88="사용자항목17", L88, 0) -> 0 | AT88: =IF(P88="사용자항목18", L88, 0) -> 0 | AU88: =IF(P88="사용자항목19", L88, 0) -> 0
F89: =ROUNDDOWN(D89*E89, 0) -> 0 | H89: =ROUNDDOWN(D89*G89, 0) -> 0 | J89: =ROUNDDOWN(D89*I89, 0) -> 0 | K89: =E89+G89+I89 -> 0 | L89: =F89+H89+J89 -> 0 | O89: ="" | P89: 사급자재대 | Q89: 1 | R89: =IF(P89="기계경비", J89, 0) -> 0 | S89: =IF(P89="운반비", L89, 0) -> 0 | T89: =IF(P89="작업부산물", F89, 0) -> 0 | U89: =IF(P89="관급", F89, 0) -> 0 | V89: =IF(P89="외주비", J89, 0) -> 0 | W89: =IF(P89="장비비", J89, 0) -> 0 | X89: =IF(P89="폐기물처리비", L89, 0) -> 0 | Y89: =IF(P89="가설비", J89, 0) -> 0 | Z89: =IF(P89="잡비제외분", F89, 0) -> 0 | AA89: =IF(P89="사급자재대", L89, 0) -> 0 | AB89: =IF(P89="관급자재대", L89, 0) -> 0 | AC89: =IF(P89="사용자항목1", L89, 0) -> 0 | AD89: =IF(P89="사용자항목2", L89, 0) -> 0 | AE89: =IF(P89="안전관리비", L89, 0) -> 0 | AF89: =IF(P89="품질관리비", L89, 0) -> 0 | AG89: =IF(P89="작업부산물(철거해체)", L89, 0) -> 0 | AH89: =IF(P89="사용자항목6", L89, 0) -> 0 | AI89: =IF(P89="사용자항목7", L89, 0) -> 0 | AJ89: =IF(P89="사용자항목8", L89, 0) -> 0 | AK89: =IF(P89="사용자항목9", L89, 0) -> 0 | AL89: =IF(P89="사용자항목10", L89, 0) -> 0 | AM89: =IF(P89="사용자항목11", L89, 0) -> 0 | AN89: =IF(P89="사용자항목12", L89, 0) -> 0 | AO89: =IF(P89="사용자항목13", L89, 0) -> 0 | AP89: =IF(P89="사용자항목14", L89, 0) -> 0 | AQ89: =IF(P89="사용자항목15", L89, 0) -> 0 | AR89: =IF(P89="사용자항목16", L89, 0) -> 0 | AS89: =IF(P89="사용자항목17", L89, 0) -> 0 | AT89: =IF(P89="사용자항목18", L89, 0) -> 0 | AU89: =IF(P89="사용자항목19", L89, 0) -> 0
F90: =ROUNDDOWN(D90*E90, 0) -> 0 | H90: =ROUNDDOWN(D90*G90, 0) -> 0 | J90: =ROUNDDOWN(D90*I90, 0) -> 0 | K90: =E90+G90+I90 -> 0 | L90: =F90+H90+J90 -> 0 | O90: ="" | P90: 사급자재대 | Q90: 1 | R90: =IF(P90="기계경비", J90, 0) -> 0 | S90: =IF(P90="운반비", L90, 0) -> 0 | T90: =IF(P90="작업부산물", F90, 0) -> 0 | U90: =IF(P90="관급", F90, 0) -> 0 | V90: =IF(P90="외주비", J90, 0) -> 0 | W90: =IF(P90="장비비", J90, 0) -> 0 | X90: =IF(P90="폐기물처리비", L90, 0) -> 0 | Y90: =IF(P90="가설비", J90, 0) -> 0 | Z90: =IF(P90="잡비제외분", F90, 0) -> 0 | AA90: =IF(P90="사급자재대", L90, 0) -> 0 | AB90: =IF(P90="관급자재대", L90, 0) -> 0 | AC90: =IF(P90="사용자항목1", L90, 0) -> 0 | AD90: =IF(P90="사용자항목2", L90, 0) -> 0 | AE90: =IF(P90="안전관리비", L90, 0) -> 0 | AF90: =IF(P90="품질관리비", L90, 0) -> 0 | AG90: =IF(P90="작업부산물(철거해체)", L90, 0) -> 0 | AH90: =IF(P90="사용자항목6", L90, 0) -> 0 | AI90: =IF(P90="사용자항목7", L90, 0) -> 0 | AJ90: =IF(P90="사용자항목8", L90, 0) -> 0 | AK90: =IF(P90="사용자항목9", L90, 0) -> 0 | AL90: =IF(P90="사용자항목10", L90, 0) -> 0 | AM90: =IF(P90="사용자항목11", L90, 0) -> 0 | AN90: =IF(P90="사용자항목12", L90, 0) -> 0 | AO90: =IF(P90="사용자항목13", L90, 0) -> 0 | AP90: =IF(P90="사용자항목14", L90, 0) -> 0 | AQ90: =IF(P90="사용자항목15", L90, 0) -> 0 | AR90: =IF(P90="사용자항목16", L90, 0) -> 0 | AS90: =IF(P90="사용자항목17", L90, 0) -> 0 | AT90: =IF(P90="사용자항목18", L90, 0) -> 0 | AU90: =IF(P90="사용자항목19", L90, 0) -> 0
F91: =ROUNDDOWN(D91*E91, 0) -> 0 | H91: =ROUNDDOWN(D91*G91, 0) -> 0 | J91: =ROUNDDOWN(D91*I91, 0) -> 0 | K91: =E91+G91+I91 -> 0 | L91: =F91+H91+J91 -> 0 | O91: ="" | P91: 사급자재대 | Q91: 1 | R91: =IF(P91="기계경비", J91, 0) -> 0 | S91: =IF(P91="운반비", L91, 0) -> 0 | T91: =IF(P91="작업부산물", F91, 0) -> 0 | U91: =IF(P91="관급", F91, 0) -> 0 | V91: =IF(P91="외주비", J91, 0) -> 0 | W91: =IF(P91="장비비", J91, 0) -> 0 | X91: =IF(P91="폐기물처리비", L91, 0) -> 0 | Y91: =IF(P91="가설비", J91, 0) -> 0 | Z91: =IF(P91="잡비제외분", F91, 0) -> 0 | AA91: =IF(P91="사급자재대", L91, 0) -> 0 | AB91: =IF(P91="관급자재대", L91, 0) -> 0 | AC91: =IF(P91="사용자항목1", L91, 0) -> 0 | AD91: =IF(P91="사용자항목2", L91, 0) -> 0 | AE91: =IF(P91="안전관리비", L91, 0) -> 0 | AF91: =IF(P91="품질관리비", L91, 0) -> 0 | AG91: =IF(P91="작업부산물(철거해체)", L91, 0) -> 0 | AH91: =IF(P91="사용자항목6", L91, 0) -> 0 | AI91: =IF(P91="사용자항목7", L91, 0) -> 0 | AJ91: =IF(P91="사용자항목8", L91, 0) -> 0 | AK91: =IF(P91="사용자항목9", L91, 0) -> 0 | AL91: =IF(P91="사용자항목10", L91, 0) -> 0 | AM91: =IF(P91="사용자항목11", L91, 0) -> 0 | AN91: =IF(P91="사용자항목12", L91, 0) -> 0 | AO91: =IF(P91="사용자항목13", L91, 0) -> 0 | AP91: =IF(P91="사용자항목14", L91, 0) -> 0 | AQ91: =IF(P91="사용자항목15", L91, 0) -> 0 | AR91: =IF(P91="사용자항목16", L91, 0) -> 0 | AS91: =IF(P91="사용자항목17", L91, 0) -> 0 | AT91: =IF(P91="사용자항목18", L91, 0) -> 0 | AU91: =IF(P91="사용자항목19", L91, 0) -> 0
F92: =ROUNDDOWN(D92*E92, 0) -> 0 | H92: =ROUNDDOWN(D92*G92, 0) -> 0 | J92: =ROUNDDOWN(D92*I92, 0) -> 0 | K92: =E92+G92+I92 -> 0 | L92: =F92+H92+J92 -> 0 | O92: ="" | P92: 사급자재대 | Q92: 1 | R92: =IF(P92="기계경비", J92, 0) -> 0 | S92: =IF(P92="운반비", L92, 0) -> 0 | T92: =IF(P92="작업부산물", F92, 0) -> 0 | U92: =IF(P92="관급", F92, 0) -> 0 | V92: =IF(P92="외주비", J92, 0) -> 0 | W92: =IF(P92="장비비", J92, 0) -> 0 | X92: =IF(P92="폐기물처리비", L92, 0) -> 0 | Y92: =IF(P92="가설비", J92, 0) -> 0 | Z92: =IF(P92="잡비제외분", F92, 0) -> 0 | AA92: =IF(P92="사급자재대", L92, 0) -> 0 | AB92: =IF(P92="관급자재대", L92, 0) -> 0 | AC92: =IF(P92="사용자항목1", L92, 0) -> 0 | AD92: =IF(P92="사용자항목2", L92, 0) -> 0 | AE92: =IF(P92="안전관리비", L92, 0) -> 0 | AF92: =IF(P92="품질관리비", L92, 0) -> 0 | AG92: =IF(P92="작업부산물(철거해체)", L92, 0) -> 0 | AH92: =IF(P92="사용자항목6", L92, 0) -> 0 | AI92: =IF(P92="사용자항목7", L92, 0) -> 0 | AJ92: =IF(P92="사용자항목8", L92, 0) -> 0 | AK92: =IF(P92="사용자항목9", L92, 0) -> 0 | AL92: =IF(P92="사용자항목10", L92, 0) -> 0 | AM92: =IF(P92="사용자항목11", L92, 0) -> 0 | AN92: =IF(P92="사용자항목12", L92, 0) -> 0 | AO92: =IF(P92="사용자항목13", L92, 0) -> 0 | AP92: =IF(P92="사용자항목14", L92, 0) -> 0 | AQ92: =IF(P92="사용자항목15", L92, 0) -> 0 | AR92: =IF(P92="사용자항목16", L92, 0) -> 0 | AS92: =IF(P92="사용자항목17", L92, 0) -> 0 | AT92: =IF(P92="사용자항목18", L92, 0) -> 0 | AU92: =IF(P92="사용자항목19", L92, 0) -> 0
F93: =ROUNDDOWN(D93*E93, 0) -> 0 | H93: =ROUNDDOWN(D93*G93, 0) -> 0 | J93: =ROUNDDOWN(D93*I93, 0) -> 0 | K93: =E93+G93+I93 -> 0 | L93: =F93+H93+J93 -> 0 | O93: ="" | P93: 사급자재대 | Q93: 1 | R93: =IF(P93="기계경비", J93, 0) -> 0 | S93: =IF(P93="운반비", L93, 0) -> 0 | T93: =IF(P93="작업부산물", F93, 0) -> 0 | U93: =IF(P93="관급", F93, 0) -> 0 | V93: =IF(P93="외주비", J93, 0) -> 0 | W93: =IF(P93="장비비", J93, 0) -> 0 | X93: =IF(P93="폐기물처리비", L93, 0) -> 0 | Y93: =IF(P93="가설비", J93, 0) -> 0 | Z93: =IF(P93="잡비제외분", F93, 0) -> 0 | AA93: =IF(P93="사급자재대", L93, 0) -> 0 | AB93: =IF(P93="관급자재대", L93, 0) -> 0 | AC93: =IF(P93="사용자항목1", L93, 0) -> 0 | AD93: =IF(P93="사용자항목2", L93, 0) -> 0 | AE93: =IF(P93="안전관리비", L93, 0) -> 0 | AF93: =IF(P93="품질관리비", L93, 0) -> 0 | AG93: =IF(P93="작업부산물(철거해체)", L93, 0) -> 0 | AH93: =IF(P93="사용자항목6", L93, 0) -> 0 | AI93: =IF(P93="사용자항목7", L93, 0) -> 0 | AJ93: =IF(P93="사용자항목8", L93, 0) -> 0 | AK93: =IF(P93="사용자항목9", L93, 0) -> 0 | AL93: =IF(P93="사용자항목10", L93, 0) -> 0 | AM93: =IF(P93="사용자항목11", L93, 0) -> 0 | AN93: =IF(P93="사용자항목12", L93, 0) -> 0 | AO93: =IF(P93="사용자항목13", L93, 0) -> 0 | AP93: =IF(P93="사용자항목14", L93, 0) -> 0 | AQ93: =IF(P93="사용자항목15", L93, 0) -> 0 | AR93: =IF(P93="사용자항목16", L93, 0) -> 0 | AS93: =IF(P93="사용자항목17", L93, 0) -> 0 | AT93: =IF(P93="사용자항목18", L93, 0) -> 0 | AU93: =IF(P93="사용자항목19", L93, 0) -> 0
F94: =ROUNDDOWN(D94*E94, 0) -> 0 | H94: =ROUNDDOWN(D94*G94, 0) -> 0 | J94: =ROUNDDOWN(D94*I94, 0) -> 0 | K94: =E94+G94+I94 -> 0 | L94: =F94+H94+J94 -> 0 | O94: ="" | P94: 사급자재대 | Q94: 1 | R94: =IF(P94="기계경비", J94, 0) -> 0 | S94: =IF(P94="운반비", L94, 0) -> 0 | T94: =IF(P94="작업부산물", F94, 0) -> 0 | U94: =IF(P94="관급", F94, 0) -> 0 | V94: =IF(P94="외주비", J94, 0) -> 0 | W94: =IF(P94="장비비", J94, 0) -> 0 | X94: =IF(P94="폐기물처리비", L94, 0) -> 0 | Y94: =IF(P94="가설비", J94, 0) -> 0 | Z94: =IF(P94="잡비제외분", F94, 0) -> 0 | AA94: =IF(P94="사급자재대", L94, 0) -> 0 | AB94: =IF(P94="관급자재대", L94, 0) -> 0 | AC94: =IF(P94="사용자항목1", L94, 0) -> 0 | AD94: =IF(P94="사용자항목2", L94, 0) -> 0 | AE94: =IF(P94="안전관리비", L94, 0) -> 0 | AF94: =IF(P94="품질관리비", L94, 0) -> 0 | AG94: =IF(P94="작업부산물(철거해체)", L94, 0) -> 0 | AH94: =IF(P94="사용자항목6", L94, 0) -> 0 | AI94: =IF(P94="사용자항목7", L94, 0) -> 0 | AJ94: =IF(P94="사용자항목8", L94, 0) -> 0 | AK94: =IF(P94="사용자항목9", L94, 0) -> 0 | AL94: =IF(P94="사용자항목10", L94, 0) -> 0 | AM94: =IF(P94="사용자항목11", L94, 0) -> 0 | AN94: =IF(P94="사용자항목12", L94, 0) -> 0 | AO94: =IF(P94="사용자항목13", L94, 0) -> 0 | AP94: =IF(P94="사용자항목14", L94, 0) -> 0 | AQ94: =IF(P94="사용자항목15", L94, 0) -> 0 | AR94: =IF(P94="사용자항목16", L94, 0) -> 0 | AS94: =IF(P94="사용자항목17", L94, 0) -> 0 | AT94: =IF(P94="사용자항목18", L94, 0) -> 0 | AU94: =IF(P94="사용자항목19", L94, 0) -> 0
F95: =ROUNDDOWN(D95*E95, 0) -> 0 | H95: =ROUNDDOWN(D95*G95, 0) -> 0 | J95: =ROUNDDOWN(D95*I95, 0) -> 0 | K95: =E95+G95+I95 -> 0 | L95: =F95+H95+J95 -> 0 | O95: ="" | P95: 사급자재대 | Q95: 1 | R95: =IF(P95="기계경비", J95, 0) -> 0 | S95: =IF(P95="운반비", L95, 0) -> 0 | T95: =IF(P95="작업부산물", F95, 0) -> 0 | U95: =IF(P95="관급", F95, 0) -> 0 | V95: =IF(P95="외주비", J95, 0) -> 0 | W95: =IF(P95="장비비", J95, 0) -> 0 | X95: =IF(P95="폐기물처리비", L95, 0) -> 0 | Y95: =IF(P95="가설비", J95, 0) -> 0 | Z95: =IF(P95="잡비제외분", F95, 0) -> 0 | AA95: =IF(P95="사급자재대", L95, 0) -> 0 | AB95: =IF(P95="관급자재대", L95, 0) -> 0 | AC95: =IF(P95="사용자항목1", L95, 0) -> 0 | AD95: =IF(P95="사용자항목2", L95, 0) -> 0 | AE95: =IF(P95="안전관리비", L95, 0) -> 0 | AF95: =IF(P95="품질관리비", L95, 0) -> 0 | AG95: =IF(P95="작업부산물(철거해체)", L95, 0) -> 0 | AH95: =IF(P95="사용자항목6", L95, 0) -> 0 | AI95: =IF(P95="사용자항목7", L95, 0) -> 0 | AJ95: =IF(P95="사용자항목8", L95, 0) -> 0 | AK95: =IF(P95="사용자항목9", L95, 0) -> 0 | AL95: =IF(P95="사용자항목10", L95, 0) -> 0 | AM95: =IF(P95="사용자항목11", L95, 0) -> 0 | AN95: =IF(P95="사용자항목12", L95, 0) -> 0 | AO95: =IF(P95="사용자항목13", L95, 0) -> 0 | AP95: =IF(P95="사용자항목14", L95, 0) -> 0 | AQ95: =IF(P95="사용자항목15", L95, 0) -> 0 | AR95: =IF(P95="사용자항목16", L95, 0) -> 0 | AS95: =IF(P95="사용자항목17", L95, 0) -> 0 | AT95: =IF(P95="사용자항목18", L95, 0) -> 0 | AU95: =IF(P95="사용자항목19", L95, 0) -> 0
A96: 부가가치세 | B96: 10％ | C96: ％ | D96: 10 | E96: 532400 | F96: =ROUNDDOWN(D96*E96*0.01, 0) -> 53240 | H96: =ROUNDDOWN(D96*G96*0.01, 0) -> 0 | J96: =ROUNDDOWN(D96*I96*0.01, 0) -> 0 | K96: =E96+G96+I96 -> 532400 | L96: =F96+H96+J96 -> 53240 | N96: 0.1 | O96: ="" | P96: 사급자재대 | Q96: 1 | R96: =IF(P96="기계경비", J96, 0) -> 0 | S96: =IF(P96="운반비", L96, 0) -> 0 | T96: =IF(P96="작업부산물", F96, 0) -> 0 | U96: =IF(P96="관급", F96, 0) -> 0 | V96: =IF(P96="외주비", J96, 0) -> 0 | W96: =IF(P96="장비비", J96, 0) -> 0 | X96: =IF(P96="폐기물처리비", L96, 0) -> 0 | Y96: =IF(P96="가설비", J96, 0) -> 0 | Z96: =IF(P96="잡비제외분", F96, 0) -> 0 | AA96: =IF(P96="사급자재대", L96, 0) -> 53240 | AB96: =IF(P96="관급자재대", L96, 0) -> 0 | AC96: =IF(P96="사용자항목1", L96, 0) -> 0 | AD96: =IF(P96="사용자항목2", L96, 0) -> 0 | AE96: =IF(P96="안전관리비", L96, 0) -> 0 | AF96: =IF(P96="품질관리비", L96, 0) -> 0 | AG96: =IF(P96="작업부산물(철거해체)", L96, 0) -> 0 | AH96: =IF(P96="사용자항목6", L96, 0) -> 0 | AI96: =IF(P96="사용자항목7", L96, 0) -> 0 | AJ96: =IF(P96="사용자항목8", L96, 0) -> 0 | AK96: =IF(P96="사용자항목9", L96, 0) -> 0 | AL96: =IF(P96="사용자항목10", L96, 0) -> 0 | AM96: =IF(P96="사용자항목11", L96, 0) -> 0 | AN96: =IF(P96="사용자항목12", L96, 0) -> 0 | AO96: =IF(P96="사용자항목13", L96, 0) -> 0 | AP96: =IF(P96="사용자항목14", L96, 0) -> 0 | AQ96: =IF(P96="사용자항목15", L96, 0) -> 0 | AR96: =IF(P96="사용자항목16", L96, 0) -> 0 | AS96: =IF(P96="사용자항목17", L96, 0) -> 0 | AT96: =IF(P96="사용자항목18", L96, 0) -> 0 | AU96: =IF(P96="사용자항목19", L96, 0) -> 0
A100: 합 계 | F100: =ROUNDDOWN(SUMIF(Q86:Q99, "1", F86:F99), 0) -> 585640 | H100: =ROUNDDOWN(SUMIF(Q86:Q99, "1", H86:H99), 0) -> 0 | J100: =ROUNDDOWN(SUMIF(Q86:Q99, "1", J86:J99), 0) -> 0 | L100: =F100+H100+J100 -> 585640 | R100: =ROUNDDOWN(SUM(R86:R96), 0) -> 0 | S100: =ROUNDDOWN(SUM(S86:S96), 0) -> 0 | T100: =ROUNDDOWN(SUM(T86:T96), 0) -> 0 | U100: =ROUNDDOWN(SUM(U86:U96), 0) -> 0 | V100: =ROUNDDOWN(SUM(V86:V96), 0) -> 0 | W100: =ROUNDDOWN(SUM(W86:W96), 0) -> 0 | X100: =ROUNDDOWN(SUM(X86:X96), 0) -> 0 | Y100: =ROUNDDOWN(SUM(Y86:Y96), 0) -> 0 | ... AY100: =ROUNDDOWN(SUM(AY86:AY96), 0) -> 0
A101: 06. 관급자재대
A102: 전동기제어반 | B102: 스텐제옥외형, W700XH2050 | C102: 면 | D102: 1 | E102: =단가대비표!O20 -> 11059400 | F102: =ROUNDDOWN(D102*E102, 0) -> 11059400 | G102: 0 | H102: =ROUNDDOWN(D102*G102, 0) -> 0 | I102: 0 | J102: =ROUNDDOWN(D102*I102, 0) -> 0 | K102: =E102+G102+I102 -> 11059400 | L102: =F102+H102+J102 -> 11059400 | O102: ="01" -> 01 | P102: 관급자재대 | Q102: 1 | R102: =IF(P102="기계경비", J102, 0) -> 0 | S102: =IF(P102="운반비", L102, 0) -> 0 | T102: =IF(P102="작업부산물", F102, 0) -> 0 | U102: =IF(P102="관급", F102, 0) -> 0 | V102: =IF(P102="외주비", J102, 0) -> 0 | W102: =IF(P102="장비비", J102, 0) -> 0 | X102: =IF(P102="폐기물처리비", L102, 0) -> 0 | Y102: =IF(P102="가설비", J102, 0) -> 0 | Z102: =IF(P102="잡비제외분", F102, 0) -> 0 | AA102: =IF(P102="사급자재대", L102, 0) -> 0 | AB102: =IF(P102="관급자재대", L102, 0) -> 11059400 | AC102: =IF(P102="사용자항목1", L102, 0) -> 0 | AD102: =IF(P102="사용자항목2", L102, 0) -> 0 | AE102: =IF(P102="안전관리비", L102, 0) -> 0 | AF102: =IF(P102="품질관리비", L102, 0) -> 0 | AG102: =IF(P102="작업부산물(철거해체)", L102, 0) -> 0 | AH102: =IF(P102="사용자항목6", L102, 0) -> 0 | AI102: =IF(P102="사용자항목7", L102, 0) -> 0 | AJ102: =IF(P102="사용자항목8", L102, 0) -> 0 | AK102: =IF(P102="사용자항목9", L102, 0) -> 0 | AL102: =IF(P102="사용자항목10", L102, 0) -> 0 | AM102: =IF(P102="사용자항목11", L102, 0) -> 0 | AN102: =IF(P102="사용자항목12", L102, 0) -> 0 | AO102: =IF(P102="사용자항목13", L102, 0) -> 0 | AP102: =IF(P102="사용자항목14", L102, 0) -> 0 | AQ102: =IF(P102="사용자항목15", L102, 0) -> 0 | AR102: =IF(P102="사용자항목16", L102, 0) -> 0 | AS102: =IF(P102="사용자항목17", L102, 0) -> 0 | AT102: =IF(P102="사용자항목18", L102, 0) -> 0 | AU102: =IF(P102="사용자항목19", L102, 0) -> 0
A116: 합 계 | F116: =ROUNDDOWN(SUMIF(Q102:Q115, "1", F102:F115), 0) -> 11059400 | H116: =ROUNDDOWN(SUMIF(Q102:Q115, "1", H102:H115), 0) -> 0 | J116: =ROUNDDOWN(SUMIF(Q102:Q115, "1", J102:J115), 0) -> 0 | L116: =F116+H116+J116 -> 11059400 | R116: =ROUNDDOWN(SUM(R102:R102), 0) -> 0 | S116: =ROUNDDOWN(SUM(S102:S102), 0) -> 0 | T116: =ROUNDDOWN(SUM(T102:T102), 0) -> 0 | U116: =ROUNDDOWN(SUM(U102:U102), 0) -> 0 | V116: =ROUNDDOWN(SUM(V102:V102), 0) -> 0 | W116: =ROUNDDOWN(SUM(W102:W102), 0) -> 0 | X116: =ROUNDDOWN(SUM(X102:X102), 0) -> 0 | Y116: =ROUNDDOWN(SUM(Y102:Y102), 0) -> 0 | ... AY116: =ROUNDDOWN(SUM(AY102:AY102), 0) -> 0

Sheet 일위대가목록
A1: 일 위 대 가 목 록
A2: 공사명 : 1.내역서_대관2펌프장 제어반이설공사
A3: 호 표 | B3: 품 명 | C3: 규 격 | D3: 단위 | E3: 수량 | F3: 재 료 비 | H3: 노 무 비 | J3: 경 비 | L3: 합 계 | N3: 비 고
F4: 단 가 | G4: 금 액 | H4: 단 가 | I4: 금 액 | J4: 단 가 | K4: 금 액 | L4: 단 가 | M4: 금 액 | O4: 구분
A5: 일위 1호 | B5: 인력 터파기 | C5: 보통토사, 깊이 1m 미만 | D5: M3 | E5: 1 | F5: =일위대가표!F8 -> 1032 | G5: =E5*F5 -> 1032 | H5: =일위대가표!H8 -> 34413 | I5: =E5*H5 -> 34413 | J5: =일위대가표!J8 -> 0 | K5: =E5*J5 -> 0 | L5: =F5+H5+J5 -> 35445 | M5: =G5+I5+K5 -> 35445 | N5: 통신2-1-8-1 | O5: 통신
A6: 일위 2호 | B6: 되메우기 및 다짐 | C6: 소형장비사용 | D6: M3 | E6: 1 | F6: =일위대가표!F18 -> 1486 | G6: =E6*F6 -> 1486 | H6: =일위대가표!H18 -> 8228 | I6: =E6*H6 -> 8228 | J6: =일위대가표!J18 -> 1281 | K6: =E6*J6 -> 1281 | L6: =F6+H6+J6 -> 10995 | M6: =G6+I6+K6 -> 10995 | N6: 공통3-4-6 | O6: CDH11500000S
A7: 일위 3호 | B7: 아스팔트 표층 소규모포설 | C7: t=7.5cm 이하 | D7: M2 | E7: 1 | F7: =일위대가표!F27 -> 652 | G7: =E7*F7 -> 652 | H7: =일위대가표!H27 -> 6572 | I7: =E7*H7 -> 6572 | J7: =일위대가표!J27 -> 402 | K7: =E7*J7 -> 402 | L7: =F7+H7+J7 -> 7626 | M7: =G7+I7+K7 -> 7626 | N7: 토목1-5-5 | O7: CLC40010000S
A8: 일위 4호 | B8: 잡철물 제작 및 설치(현장제작 설치) | C8: 일반철재, 복잡 | D8: Ton | E8: 1 | F8: =일위대가표!F37 -> 554163 | G8: =E8*F8 -> 554163 | H8: =일위대가표!H37 -> 6927045 | I8: =E8*H8 -> 6927045 | J8: =일위대가표!J37 -> 0 | K8: =E8*J8 -> 0 | L8: =F8+H8+J8 -> 7481208 | M8: =G8+I8+K8 -> 7481208 | N8: 건축8-3-1 | O8: AJM53100030S
A9: 일위 5호 | B9: 인력비빔 타설 | C9: 소형구조물 | D9: M3 | E9: 1 | F9: =일위대가표!F42 -> 0 | G9: =E9*F9 -> 0 | H9: =일위대가표!H42 -> 586879 | I9: =E9*H9 -> 586879 | J9: =일위대가표!J42 -> 0 | K9: =E9*J9 -> 0 | L9: =F9+H9+J9 -> 586879 | M9: =G9+I9+K9 -> 586879 | N9: 공통6-1-2
A10: 일위 6호 | B10: 파상형경질폴리에틸렌전선관 [3열동시1열당] | C10: 파상형경질폴리에틸렌전선관, 50mm | D10: m | E10: 1 | F10: =일위대가표!F51 -> 952 | G10: =E10*F10 -> 952 | H10: =일위대가표!H51 -> 5215 | I10: =E10*H10 -> 5215 | J10: =일위대가표!J51 -> 0 | K10: =E10*J10 -> 0 | L10: =F10+H10+J10 -> 6167 | M10: =G10+I10+K10 -> 6167 | N10: 전기4-31 | O10: 설치4
A11: 일위 7호 | B11: 2종금속제가요전선관 | C11: 비닐피복, 30mm, 방수 | D11: m | E11: 1 | F11: =일위대가표!F59 -> 15807 | G11: =E11*F11 -> 15807 | H11: =일위대가표!H59 -> 23809 | I11: =E11*H11 -> 23809 | J11: =일위대가표!J59 -> 0 | K11: =E11*J11 -> 0 | L11: =F11+H11+J11 -> 39616 | M11: =G11+I11+K11 -> 39616 | N11: 전기5-1 | O11: 설치
A12: 일위 8호 | B12: 600V폴리에틸렌케이블 | C12: 0.6/1kV, F-CV, 4C×4㎟ | D12: m | E12: 1 | F12: =일위대가표!F66 -> 4555 | G12: =E12*F12 -> 4555 | H12: =일위대가표!H66 -> 8820 | I12: =E12*H12 -> 8820 | J12: =일위대가표!J66 -> 0 | K12: =E12*J12 -> 0 | L12: =F12+H12+J12 -> 13375 | M12: =G12+I12+K12 -> 13375 | N12: 전기5-13 | O12: 설치
A13: 일위 9호 | B13: 600V폴리에틸렌케이블 | C13: 0.6/1kV, F-CV, 4C×2.5㎟ | D13: m | E13: 1 | F13: =일위대가표!F73 -> 3279 | G13: =E13*F13 -> 3279 | H13: =일위대가표!H73 -> 7908 | I13: =E13*H13 -> 7908 | J13: =일위대가표!J73 -> 0 | K13: =E13*J13 -> 0 | L13: =F13+H13+J13 -> 11187 | M13: =G13+I13+K13 -> 11187 | N13: 전기5-13 | O13: 설치
A14: 일위 10호 | B14: 0.6/1kv 트레이용 절연난연 제어케이블(F-CVV) | C14: 6C*2.5㎟ | D14: M | E14: 1 | F14: =일위대가표!F81 -> 4742 | G14: =E14*F14 -> 4742 | H14: =일위대가표!H81 -> 15267 | I14: =E14*H14 -> 15267 | J14: =일위대가표!J81 -> 0 | K14: =E14*J14 -> 0 | L14: =F14+H14+J14 -> 20009 | M14: =G14+I14+K14 -> 20009 | N14: 통신4-4-1 | O14: TDI53600010S
A15: 일위 11호 | B15: 접지용비닐절연전선 | C15: F-GV, 4㎟ | D15: m | E15: 1 | F15: =일위대가표!F88 -> 1229 | G15: =E15*F15 -> 1229 | H15: =일위대가표!H88 -> 1642 | I15: =E15*H15 -> 1642 | J15: =일위대가표!J88 -> 0 | K15: =E15*J15 -> 0 | L15: =F15+H15+J15 -> 2871 | M15: =G15+I15+K15 -> 2871 | N15: 전기3-38 | O15: 설치
A16: 일위 12호 | B16: 접지동봉설치 | C16: 1본 | D16: 개소 | E16: 1 | F16: =일위대가표!F96 -> 3381 | G16: =E16*F16 -> 3381 | H16: =일위대가표!H96 -> 43869 | I16: =E16*H16 -> 43869 | J16: =일위대가표!J96 -> 0 | K16: =E16*J16 -> 0 | L16: =F16+H16+J16 -> 47250 | M16: =G16+I16+K16 -> 47250
A17: 일위 13호 | B17: 하이박스 | C17: 300×400×160 | D17: EA | E17: 1 | F17: =일위대가표!F102 -> 22998 | G17: =E17*F17 -> 22998 | H17: =일위대가표!H102 -> 95786 | I17: =E17*H17 -> 95786 | J17: =일위대가표!J102 -> 0 | K17: =E17*J17 -> 0 | L17: =F17+H17+J17 -> 118784 | M17: =G17+I17+K17 -> 118784 | N17: 전기5-4 | O17: 설치
A18: 일위 14호 | B18: 입상케이블 보호관 설치 | C18: 입상관 Φ175mm 이하 | D18: m | E18: 1 | F18: =일위대가표!F108 -> 3306 | G18: =E18*F18 -> 3306 | H18: =일위대가표!H108 -> 110220 | I18: =E18*H18 -> 110220 | J18: =일위대가표!J108 -> 0 | K18: =E18*J18 -> 0 | L18: =F18+H18+J18 -> 113526 | M18: =G18+I18+K18 -> 113526 | N18: 전기4-33
A19: 일위 15호 | B19: 구멍뚫기(코어드릴) | C19: D150, 콘크리트 150㎜, 벽 | D19: 개소 | E19: 1 | F19: =일위대가표!F114 -> 2113 | G19: =E19*F19 -> 2113 | H19: =일위대가표!H114 -> 105692 | I19: =E19*H19 -> 105692 | J19: =일위대가표!J114 -> 0 | K19: =E19*J19 -> 0 | L19: =F19+H19+J19 -> 107805 | M19: =G19+I19+K19 -> 107805 | N19: 설비9-3-2
A20: 일위 16호 | B20: 배수펌프(오.배수용) | C20: 50mm 0.75KW 10m | D20: 대 | E20: 1 | F20: =일위대가표!F121 -> 1195075 | G20: =E20*F20 -> 1195075 | H20: =일위대가표!H121 -> 402502 | I20: =E20*H20 -> 402502 | J20: =일위대가표!J121 -> 0 | K20: =E20*J20 -> 0 | L20: =F20+H20+J20 -> 1597577 | M20: =G20+I20+K20 -> 1597577 | N20: 설비4-1-2 | O20: 설치
A21: 일위 17호 | B21: 큐비클철거 | C21: 500kg 이하, 1.0m3 이하 | D21: EA | E21: 1 | F21: =일위대가표!F128 -> 0 | G21: =E21*F21 -> 0 | H21: =일위대가표!H128 -> 716818 | I21: =E21*H21 -> 716818 | J21: =일위대가표!J128 -> 0 | K21: =E21*J21 -> 0 | L21: =F21+H21+J21 -> 716818 | M21: =G21+I21+K21 -> 716818 | N21: 전기3-35 | O21: 설치의 60%
A22: 일위 18호 | B22: 분전반(스텐) | C22: 옥외이중방수, 300×500×250, 1.2T | D22: EA | E22: 1 | F22: =일위대가표!F134 -> 314718 | G22: =E22*F22 -> 314718 | H22: =일위대가표!H134 -> 180626 | I22: =E22*H22 -> 180626 | J22: =일위대가표!J134 -> 0 | K22: =E22*J22 -> 0 | L22: =F22+H22+J22 -> 495344 | M22: =G22+I22+K22 -> 495344 | N22: 전기5-4 | O22: 설치
A23: 일위 19호 | B23: 배선용차단기 | C23: 4P 460V 30AF, 표준형 | D23: 개 | E23: 1 | F23: =일위대가표!F140 -> 45963 | G23: =E23*F23 -> 45963 | H23: =일위대가표!H140 -> 192120 | I23: =E23*H23 -> 192120 | J23: =일위대가표!J140 -> 0 | K23: =E23*J23 -> 0 | L23: =F23+H23+J23 -> 238083 | M23: =G23+I23+K23 -> 238083 | N23: 전기5-18 | O23: 설치
A24: 일위 20호 | B24: 건설폐기물처리비 | C24: 건설(건축)폐자재 | D24: 톤 | E24: 1 | F24: =일위대가표!F144 -> 0 | G24: =E24*F24 -> 0 | H24: =일위대가표!H144 -> 0 | I24: =E24*H24 -> 0 | J24: =일위대가표!J144 -> 49571 | K24: =E24*J24 -> 49571 | L24: =F24+H24+J24 -> 49571 | M24: =G24+I24+K24 -> 49571 | N24: 부가세별도

Sheet 일위대가표
A1: 일 위 대 가 내 역 서
A2: 공사명 : 1.내역서_대관2펌프장 제어반이설공사
A3: 품 명 | B3: 규 격 | C3: 단위 | D3: 수 량 | E3: 재 료 비 | G3: 노 무 비 | I3: 경 비 | K3: 합 계 | M3: 비 고
E4: 단 가 | F4: 금 액 | G4: 단 가 | H4: 금 액 | I4: 단 가 | J4: 금 액 | K4: 단 가 | L4: 금 액 | N4: 손료요율 | O4: 손료구분 | P4: 적용구분 | Q4: 합계구분 | R4: 품목구분 | S4: 조달코드 | T4: 구분
A5: [일위 1호] - [인력 터파기 보통토사, 깊이 1m 미만 M3] | M5: 통신2-1-8-1
A6: 보통인부 | B6: 일반공사 직종 | C6: 인 | D6: 0.2 | E6: 0 | F6: =ROUNDDOWN(D6*E6, 1) -> 0 | G6: =ROUNDDOWN(단가대비표!O35, 0) -> 172068 | H6: =ROUNDDOWN(D6*G6, 1) -> 34413.6 | I6: 0 | J6: =ROUNDDOWN(D6*I6, 1) -> 0 | K6: =E6+G6+I6 -> 172068 | L6: =F6+H6+J6 -> 34413.6 | O6: 02 | P6: 기계경비 | Q6: 1
A7: 공구손료 | B7: ="인력품의 " & N7*100 & "%" -> 인력품의 3% | C7: 식 | D7: 1 | E7: =SUMIF(O6:O7, "02", H6:H7) -> 34413.6 | F7: =ROUNDDOWN((E7)*N7, 1) -> 1032.4 | G7: 0 | H7: 0 | I7: 0 | J7: 0 | K7: =E7+G7+I7 -> 34413.6 | L7: =F7+H7+J7 -> 1032.4 | N7: 0.03 | P7: 기계경비 | Q7: 1 | R7: 23 | S7: A0200000000 | T7: 재료비
A8: 합 계 | F8: =ROUNDDOWN(SUMIF(Q6:Q7, "1", F6:F7), 0) -> 1032 | H8: =ROUNDDOWN(SUMIF(Q6:Q7, "1", H6:H7), 0) -> 34413 | J8: =ROUNDDOWN(SUMIF(Q6:Q7, "1", J6:J7), 0) -> 0 | L8: =F8+H8+J8 -> 35445
A10: [일위 2호] - [되메우기 및 다짐 소형장비사용 M3] | M10: 공통3-4-6
A11: 특별인부 | B11: 일반공사 직종 | C11: 인 | D11: 0.0077 | E11: 0 | F11: =ROUNDDOWN(D11*E11, 1) -> 0 | G11: =ROUNDDOWN(단가대비표!O44, 0) -> 226122 | H11: =ROUNDDOWN(D11*G11, 1) -> 1741.1 | I11: 0 | J11: =ROUNDDOWN(D11*I11, 1) -> 0 | K11: =E11+G11+I11 -> 226122 | L11: =F11+H11+J11 -> 1741.1 | O11: 02 | P11: 기계경비 | Q11: 1
A12: 보통인부 | B12: 일반공사 직종 | C12: 인 | D12: 0.0077 | E12: 0 | F12: =ROUNDDOWN(D12*E12, 1) -> 0 | G12: =ROUNDDOWN(단가대비표!O35, 0) -> 172068 | H12: =ROUNDDOWN(D12*G12, 1) -> 1324.9 | I12: 0 | J12: =ROUNDDOWN(D12*I12, 1) -> 0 | K12: =E12+G12+I12 -> 172068 | L12: =F12+H12+J12 -> 1324.9 | O12: 02 | P12: 기계경비 | Q12: 1
A13: 굴착기(무한궤도) | B13: 0.2㎥ | C13: HR | D13: 0.0615 | E13: =ROUNDDOWN(중기경비목록!G13, 0) -> 10024 | F13: =ROUNDDOWN(D13*E13, 1) -> 616.4 | G13: =ROUNDDOWN(중기경비목록!I13, 0) -> 59020 | H13: =ROUNDDOWN(D13*G13, 1) -> 3629.7 | I13: =ROUNDDOWN(중기경비목록!K13, 0) -> 13873 | J13: =ROUNDDOWN(D13*I13, 1) -> 853.1 | K13: =E13+G13+I13 -> 82917 | L13: =F13+H13+J13 -> 5099.2 | M13: 중기 9호 | O13: 99 | P13: 기계경비 | Q13: 1
A14: 진동롤러(핸드가이드식) | B14: 0.7ton | C14: HR | D14: 0.0615 | E14: =ROUNDDOWN(중기경비목록!G8, 0) -> 4119 | F14: =ROUNDDOWN(D14*E14, 1) -> 253.3 | G14: =ROUNDDOWN(중기경비목록!I8, 0) -> 36248 | H14: =ROUNDDOWN(D14*G14, 1) -> 2229.2 | I14: =ROUNDDOWN(중기경비목록!K8, 0) -> 1967 | J14: =ROUNDDOWN(D14*I14, 1) -> 120.9 | K14: =E14+G14+I14 -> 42334 | L14: =F14+H14+J14 -> 2603.4 | M14: 금액제외 | O14: 01 | P14: 금액제외
A15: 조정원 제외 | B15: ="경비의 " & N15*100 & "%" -> 경비의 100% | C15: 식 | D15: 1 | E15: 0 | F15: 0 | G15: 0 | H15: 0 | I15: =SUMIF(O11:O17, "01", J11:J17) -> 120.9 | J15: =ROUNDDOWN((I15)*N15, 1) -> 120.9 | K15: =E15+G15+I15 -> 120.9 | L15: =F15+H15+J15 -> 120.9 | N15: 1 | P15: 기계경비 | Q15: 1 | R15: 28 | S15: A0100000000
A16: 조정원 제외 | B16: ="재료비의 " & N16*100 & "%" -> 재료비의 100% | C16: 식 | D16: 1 | E16: =SUMIF(O11:O17, "01", F11:F17) -> 253.3 | F16: =ROUNDDOWN((E16)*N16, 1) -> 253.3 | G16: 0 | H16: 0 | I16: 0 | J16: 0 | K16: =E16+G16+I16 -> 253.3 | L16: =F16+H16+J16 -> 253.3 | N16: 1 | P16: 기계경비 | Q16: 1 | R16: 20 | S16: A0100000000
A17: 물탱크(살수차) | B17: 5500L | C17: HR | D17: 0.0308 | E17: =ROUNDDOWN(중기경비목록!G7, 0) -> 20033 | F17: =ROUNDDOWN(D17*E17, 1) -> 617 | G17: =ROUNDDOWN(중기경비목록!I7, 0) -> 49778 | H17: =ROUNDDOWN(D17*G17, 1) -> 1533.1 | I17: =ROUNDDOWN(중기경비목록!K7, 0) -> 9986 | J17: =ROUNDDOWN(D17*I17, 1) -> 307.5 | K17: =E17+G17+I17 -> 79797 | L17: =F17+H17+J17 -> 2457.6 | M17: 중기 3호 | O17: 99 | P17: 기계경비 | Q17: 1
A18: 합 계 | F18: =ROUNDDOWN(SUMIF(Q11:Q17, "1", F11:F17), 0) -> 1486 | H18: =ROUNDDOWN(SUMIF(Q11:Q17, "1", H11:H17), 0) -> 8228 | J18: =ROUNDDOWN(SUMIF(Q11:Q17, "1", J11:J17), 0) -> 1281 | L18: =F18+H18+J18 -> 10995
A20: [일위 3호] - [아스팔트 표층 소규모포설 t=7.5cm 이하 M2] | M20: 토목1-5-5
A21: 포장공 | B21: 일반공사 직종 | C21: 인 | D21: 0.0067 | E21: 0 | F21: =ROUNDDOWN(D21*E21, 1) -> 0 | G21: =ROUNDDOWN(단가대비표!O45, 0) -> 273308 | H21: =ROUNDDOWN(D21*G21, 1) -> 1831.1 | I21: 0 | J21: =ROUNDDOWN(D21*I21, 1) -> 0 | K21: =E21+G21+I21 -> 273308 | L21: =F21+H21+J21 -> 1831.1 | O21: 02 | P21: 기계경비 | Q21: 1
A22: 보통인부 | B22: 일반공사 직종 | C22: 인 | D22: 0.0033 | E22: 0 | F22: =ROUNDDOWN(D22*E22, 1) -> 0 | G22: =ROUNDDOWN(단가대비표!O35, 0) -> 172068 | H22: =ROUNDDOWN(D22*G22, 1) -> 567.8 | I22: 0 | J22: =ROUNDDOWN(D22*I22, 1) -> 0 | K22: =E22+G22+I22 -> 172068 | L22: =F22+H22+J22 -> 567.8 | O22: 02 | P22: 기계경비 | Q22: 1
A23: 플레이트 콤팩터 | B23: 1.5ton | C23: HR | D23: 0.0267 | E23: =ROUNDDOWN(중기경비목록!G9, 0) -> 2011 | F23: =ROUNDDOWN(D23*E23, 1) -> 53.6 | G23: =ROUNDDOWN(중기경비목록!I9, 0) -> 36248 | H23: =ROUNDDOWN(D23*G23, 1) -> 967.8 | I23: =ROUNDDOWN(중기경비목록!K9, 0) -> 620 | J23: =ROUNDDOWN(D23*I23, 1) -> 16.5 | K23: =E23+G23+I23 -> 38879 | L23: =F23+H23+J23 -> 1037.9 | M23: 중기 5호 | O23: 99 | P23: 기계경비 | Q23: 1
A24: 진동롤러(핸드가이드식) | B24: 0.7ton | C24: HR | D24: 0.0267 | E24: =ROUNDDOWN(중기경비목록!G8, 0) -> 4119 | F24: =ROUNDDOWN(D24*E24, 1) -> 109.9 | G24: =ROUNDDOWN(중기경비목록!I8, 0) -> 36248 | H24: =ROUNDDOWN(D24*G24, 1) -> 967.8 | I24: =ROUNDDOWN(중기경비목록!K8, 0) -> 1967 | J24: =ROUNDDOWN(D24*I24, 1) -> 52.5 | K24: =E24+G24+I24 -> 42334 | L24: =F24+H24+J24 -> 1130.2 | M24: 중기 4호 | O24: 99 | P24: 기계경비 | Q24: 1
A25: 로더(타이어) | B25: 0.57 ㎥ | C25: HR | D25: 0.0267 | E25: =ROUNDDOWN(중기경비목록!G10, 0) -> 8351 | F25: =ROUNDDOWN(D25*E25, 1) -> 222.9 | G25: =ROUNDDOWN(중기경비목록!I10, 0) -> 59020 | H25: =ROUNDDOWN(D25*G25, 1) -> 1575.8 | I25: =ROUNDDOWN(중기경비목록!K10, 0) -> 7505 | J25: =ROUNDDOWN(D25*I25, 1) -> 200.3 | K25: =E25+G25+I25 -> 74876 | L25: =F25+H25+J25 -> 1999 | M25: 중기 6호 | O25: 99 | P25: 기계경비 | Q25: 1
A26: 물탱크(살수차) | B26: 5500L | C26: HR | D26: 0.0133 | E26: =ROUNDDOWN(중기경비목록!G7, 0) -> 20033 | F26: =ROUNDDOWN(D26*E26, 1) -> 266.4 | G26: =ROUNDDOWN(중기경비목록!I7, 0) -> 49778 | H26: =ROUNDDOWN(D26*G26, 1) -> 662 | I26: =ROUNDDOWN(중기경비목록!K7, 0) -> 9986 | J26: =ROUNDDOWN(D26*I26, 1) -> 132.8 | K26: =E26+G26+I26 -> 79797 | L26: =F26+H26+J26 -> 1061.2 | M26: 중기 3호 | O26: 99 | P26: 기계경비 | Q26: 1
A27: 합 계 | F27: =ROUNDDOWN(SUMIF(Q21:Q26, "1", F21:F26), 0) -> 652 | H27: =ROUNDDOWN(SUMIF(Q21:Q26, "1", H21:H26), 0) -> 6572 | J27: =ROUNDDOWN(SUMIF(Q21:Q26, "1", J21:J26), 0) -> 402 | L27: =F27+H27+J27 -> 7626
A29: [일위 4호] - [잡철물 제작 및 설치(현장제작 설치) 일반철재, 복잡 Ton] | M29: 건축8-3-1
A30: 철공 | B30: 일반공사 직종 | C30: 인 | D30: 12.38 | E30: 0 | F30: =ROUNDDOWN(D30*E30, 1) -> 0 | G30: =ROUNDDOWN(단가대비표!O41, 0) -> 239808 | H30: =ROUNDDOWN(D30*G30, 1) -> 2968823 | I30: 0 | J30: =ROUNDDOWN(D30*I30, 1) -> 0 | K30: =E30+G30+I30 -> 239808 | L30: =F30+H30+J30 -> 2968823 | O30: 01 | P30: 기계경비 | Q30: 1
A31: 용접공 | B31: 일반공사 직종 | C31: 인 | D31: 3.38 | E31: 0 | F31: =ROUNDDOWN(D31*E31, 1) -> 0 | G31: =ROUNDDOWN(단가대비표!O37, 0) -> 282536 | H31: =ROUNDDOWN(D31*G31, 1) -> 954971.6 | I31: 0 | J31: =ROUNDDOWN(D31*I31, 1) -> 0 | K31: =E31+G31+I31 -> 282536 | L31: =F31+H31+J31 -> 954971.6 | M31: 용접공(일반) | O31: 01 | P31: 기계경비 | Q31: 1
A32: 특별인부 | B32: 일반공사 직종 | C32: 인 | D32: 4.5 | E32: 0 | F32: =ROUNDDOWN(D32*E32, 1) -> 0 | G32: =ROUNDDOWN(단가대비표!O44, 0) -> 226122 | H32: =ROUNDDOWN(D32*G32, 1) -> 1017549 | I32: 0 | J32: =ROUNDDOWN(D32*I32, 1) -> 0 | K32: =E32+G32+I32 -> 226122 | L32: =F32+H32+J32 -> 1017549 | O32: 01 | P32: 기계경비 | Q32: 1
A33: 보통인부 | B33: 일반공사 직종 | C33: 인 | D33: 2.25 | E33: 0 | F33: =ROUNDDOWN(D33*E33, 1) -> 0 | G33: =ROUNDDOWN(단가대비표!O35, 0) -> 172068 | H33: =ROUNDDOWN(D33*G33, 1) -> 387153 | I33: 0 | J33: =ROUNDDOWN(D33*I33, 1) -> 0 | K33: =E33+G33+I33 -> 172068 | L33: =F33+H33+J33 -> 387153 | O33: 01 | P33: 기계경비 | Q33: 1
A34: 노임할증 | B34: ="노무비의 " & N34*100 & "%" -> 노무비의 30% | C34: 식 | D34: 1 | E34: 0 | F34: 0 | G34: =SUMIF(O30:O36, "01", H30:H36) -> 5328496.6 | H34: =ROUNDDOWN((G34)*N34, 1) -> 1598548.9 | I34: 0 | J34: 0 | K34: =E34+G34+I34 -> 5328496.6 | L34: =F34+H34+J34 -> 1598548.9 | N34: 0.3 | O34: 02 | P34: 기계경비 | Q34: 1 | R34: 24 | S34: A0100000000
A35: 공구손료 | B35: ="노무비의 " & N35*100 & "%" -> 노무비의 5% | C35: 식 | D35: 1 | E35: =SUMIF(O30:O36, "01", H30:H36)+SUMIF(O30:O36, "02", H30:H36) -> 6927045.5 | F35: =ROUNDDOWN((E35)*N35, 1) -> 346352.2 | G35: 0 | H35: 0 | I35: 0 | J35: 0 | K35: =E35+G35+I35 -> 6927045.5 | L35: =F35+H35+J35 -> 346352.2 | N35: 0.05 | P35: 기계경비 | Q35: 1 | R35: 23 | S35: A0102000000
A36: 잡자재비 | B36: ="노무비의 " & N36*100 & "%" -> 노무비의 3% | C36: 식 | D36: 1 | E36: =SUMIF(O30:O36, "01", H30:H36)+SUMIF(O30:O36, "02", H30:H36) -> 6927045.5 | F36: =ROUNDDOWN((E36)*N36, 1) -> 207811.3 | G36: 0 | H36: 0 | I36: 0 | J36: 0 | K36: =E36+G36+I36 -> 6927045.5 | L36: =F36+H36+J36 -> 207811.3 | N36: 0.03 | P36: 기계경비 | Q36: 1 | R36: 23 | S36: A0102000000
A37: 합 계 | F37: =ROUNDDOWN(SUMIF(Q30:Q36, "1", F30:F36), 0) -> 554163 | H37: =ROUNDDOWN(SUMIF(Q30:Q36, "1", H30:H36), 0) -> 6927045 | J37: =ROUNDDOWN(SUMIF(Q30:Q36, "1", J30:J36), 0) -> 0 | L37: =F37+H37+J37 -> 7481208
A39: [일위 5호] - [인력비빔 타설 소형구조물 M3] | M39: 공통6-1-2
A40: 콘크리트공 | B40: 일반공사 직종 | C40: 인 | D40: 1.29 | E40: 0 | F40: =ROUNDDOWN(D40*E40, 1) -> 0 | G40: =ROUNDDOWN(단가대비표!O42, 0) -> 273540 | H40: =ROUNDDOWN(D40*G40, 1) -> 352866.6 | I40: 0 | J40: =ROUNDDOWN(D40*I40, 1) -> 0 | K40: =E40+G40+I40 -> 273540 | L40: =F40+H40+J40 -> 352866.6 | O40: 02 | P40: 기계경비 | Q40: 1
A41: 보통인부 | B41: 일반공사 직종 | C41: 인 | D41: 1.36 | E41: 0 | F41: =ROUNDDOWN(D41*E41, 1) -> 0 | G41: =ROUNDDOWN(단가대비표!O35, 0) -> 172068 | H41: =ROUNDDOWN(D41*G41, 1) -> 234012.4 | I41: 0 | J41: =ROUNDDOWN(D41*I41, 1) -> 0 | K41: =E41+G41+I41 -> 172068 | L41: =F41+H41+J41 -> 234012.4 | O41: 02 | P41: 기계경비 | Q41: 1
A42: 합 계 | F42: =ROUNDDOWN(SUMIF(Q40:Q41, "1", F40:F41), 0) -> 0 | H42: =ROUNDDOWN(SUMIF(Q40:Q41, "1", H40:H41), 0) -> 586879 | J42: =ROUNDDOWN(SUMIF(Q40:Q41, "1", J40:J41), 0) -> 0 | L42: =F42+H42+J42 -> 586879
A44: [일위 6호] - [파상형경질폴리에틸렌전선관 [3열동시1열당] 파상형경질폴리에틸렌전선관, 50mm m] | M44: 전기4-31
A45: 파상형경질폴리에틸렌전선관 [3열동시1열당] | B45: 50mm | C45: m | D45: =일위공량산출서!F8 -> 1 | E45: =ROUNDDOWN(단가대비표!O28, 0) -> 680 | F45: =ROUNDDOWN(D45*E45, 1) -> 680 | G45: 0 | H45: =ROUNDDOWN(D45*G45, 1) -> 0 | I45: 0 | J45: =ROUNDDOWN(D45*I45, 1) -> 0 | K45: =E45+G45+I45 -> 680 | L45: =F45+H45+J45 -> 680 | M45: ELP전선관 | O45: 04 | P45: 기계경비 | Q45: 1
A46: 전선관 부속품비 | B46: ="전선관의 " & N46*100 & "%" -> 전선관의 15% | C46: 식 | D46: 1 | E46: =SUMIF(O45:O50, "04", F45:F50) -> 680 | F46: =ROUNDDOWN((E46)*N46, 1) -> 102 | K46: =E46+G46+I46 -> 680 | L46: =F46+H46+J46 -> 102 | N46: 0.15 | P46: 기계경비 | Q46: 1 | R46: 20 | S46: A0400000000 | T46: cd관제외
A47: 소모품비 | B47: ="배관배선의 " & N47*100 & "%" -> 배관배선의 2% | C47: 식 | D47: 1 | E47: =SUMIF(O45:O50, "04", F45:F50) -> 680 | F47: =ROUNDDOWN((E47)*N47, 1) -> 13.6 | K47: =E47+G47+I47 -> 680 | L47: =F47+H47+J47 -> 13.6 | N47: 0.02 | P47: 기계경비 | Q47: 1 | R47: 20 | S47: A0400000000
A48: 배전전공 | B48: 일반공사 직종 | C48: 인 | D48: =일위공량산출서!G11 -> 0.0061 | F48: =ROUNDDOWN(D48*E48, 1) -> 0 | G48: =ROUNDDOWN(단가대비표!O33, 0) -> 414968 | H48: =ROUNDDOWN(D48*G48, 1) -> 2531.3 | J48: =ROUNDDOWN(D48*I48, 1) -> 0 | K48: =E48+G48+I48 -> 414968 | L48: =F48+H48+J48 -> 2531.3 | O48: 02 | P48: 기계경비 | Q48: 1
A49: 보통인부 | B49: 일반공사 직종 | C49: 인 | D49: =일위공량산출서!H11 -> 0.0156 | F49: =ROUNDDOWN(D49*E49, 1) -> 0 | G49: =ROUNDDOWN(단가대비표!O35, 0) -> 172068 | H49: =ROUNDDOWN(D49*G49, 1) -> 2684.2 | J49: =ROUNDDOWN(D49*I49, 1) -> 0 | K49: =E49+G49+I49 -> 172068 | L49: =F49+H49+J49 -> 2684.2 | O49: 02 | P49: 기계경비 | Q49: 1
A50: 공구손료 | B50: ="노무비의 " & N50*100 & "%" -> 노무비의 3% | C50: 식 | D50: 1 | E50: =SUMIF(O45:O50, "02", H45:H50) -> 5215.5 | F50: =ROUNDDOWN((E50)*N50, 1) -> 156.4 | K50: =E50+G50+I50 -> 5215.5 | L50: =F50+H50+J50 -> 156.4 | N50: 0.03 | P50: 기계경비 | Q50: 1 | R50: 23 | S50: A0200000000
A51: 합 계 | F51: =ROUNDDOWN(SUMIF(Q45:Q50, "1", F45:F50), 0) -> 952 | H51: =ROUNDDOWN(SUMIF(Q45:Q50, "1", H45:H50), 0) -> 5215 | J51: =ROUNDDOWN(SUMIF(Q45:Q50, "1", J45:J50), 0) -> 0 | L51: =F51+H51+J51 -> 6167
A53: [일위 7호] - [2종금속제가요전선관 비닐피복, 30mm, 방수 m] | M53: 전기5-1
A54: 2종금속제가요전선관 | B54: 비닐피복, 30mm, 방수 | C54: m | D54: =일위공량산출서!F16 -> 1 | E54: =ROUNDDOWN(단가대비표!O5, 0) -> 12900 | F54: =ROUNDDOWN(D54*E54, 1) -> 12900 | G54: 0 | H54: =ROUNDDOWN(D54*G54, 1) -> 0 | I54: 0 | J54: =ROUNDDOWN(D54*I54, 1) -> 0 | K54: =E54+G54+I54 -> 12900 | L54: =F54+H54+J54 -> 12900 | O54: 04 | P54: 기계경비 | Q54: 1
A55: 전선관 부속품비 | B55: ="전선관의 " & N55*100 & "%" -> 전선관의 15% | C55: 식 | D55: 1 | E55: =SUMIF(O54:O58, "04", F54:F58) -> 12900 | F55: =ROUNDDOWN((E55)*N55, 1) -> 1935 | K55: =E55+G55+I55 -> 12900 | L55: =F55+H55+J55 -> 1935 | N55: 0.15 | P55: 기계경비 | Q55: 1 | R55: 20 | S55: A0400000000 | T55: cd관제외
A56: 소모품비 | B56: ="배관배선의 " & N56*100 & "%" -> 배관배선의 2% | C56: 식 | D56: 1 | E56: =SUMIF(O54:O58, "04", F54:F58) -> 12900 | F56: =ROUNDDOWN((E56)*N56, 1) -> 258 | K56: =E56+G56+I56 -> 12900 | L56: =F56+H56+J56 -> 258 | N56: 0.02 | P56: 기계경비 | Q56: 1 | R56: 20 | S56: A0400000000
A57: 내선전공 | B57: 일반공사 직종 | C57: 인 | D57: =일위공량산출서!G19 -> 0.087 | F57: =ROUNDDOWN(D57*E57, 1) -> 0 | G57: =ROUNDDOWN(단가대비표!O32, 0) -> 273676 | H57: =ROUNDDOWN(D57*G57, 1) -> 23809.8 | J57: =ROUNDDOWN(D57*I57, 1) -> 0 | K57: =E57+G57+I57 -> 273676 | L57: =F57+H57+J57 -> 23809.8 | O57: 02 | P57: 기계경비 | Q57: 1
A58: 공구손료 | B58: ="노무비의 " & N58*100 & "%" -> 노무비의 3% | C58: 식 | D58: 1 | E58: =SUMIF(O54:O58, "02", H54:H58) -> 23809.8 | F58: =ROUNDDOWN((E58)*N58, 1) -> 714.2 | K58: =E58+G58+I58 -> 23809.8 | L58: =F58+H58+J58 -> 714.2 | N58: 0.03 | P58: 기계경비 | Q58: 1 | R58: 23 | S58: A0200000000
A59: 합 계 | F59: =ROUNDDOWN(SUMIF(Q54:Q58, "1", F54:F58), 0) -> 15807 | H59: =ROUNDDOWN(SUMIF(Q54:Q58, "1", H54:H58), 0) -> 23809 | J59: =ROUNDDOWN(SUMIF(Q54:Q58, "1", J54:J58), 0) -> 0 | L59: =F59+H59+J59 -> 39616
A61: [일위 8호] - [600V폴리에틸렌케이블 0.6/1kV, F-CV, 4C×4㎟ m] | M61: 전기5-13
A62: 600V폴리에틸렌케이블 | B62: 0.6/1kV, F-CV, 4C×4㎟ | C62: m | D62: =일위공량산출서!F24 -> 1 | E62: =ROUNDDOWN(단가대비표!O7, 0) -> 4207 | F62: =ROUNDDOWN(D62*E62, 1) -> 4207 | G62: 0 | H62: =ROUNDDOWN(D62*G62, 1) -> 0 | I62: 0 | J62: =ROUNDDOWN(D62*I62, 1) -> 0 | K62: =E62+G62+I62 -> 4207 | L62: =F62+H62+J62 -> 4207 | O62: 04 | P62: 기계경비 | Q62: 1
A63: 소모품비 | B63: ="배관배선의 " & N63*100 & "%" -> 배관배선의 2% | C63: 식 | D63: 1 | E63: =SUMIF(O62:O65, "04", F62:F65) -> 4207 | F63: =ROUNDDOWN((E63)*N63, 1) -> 84.1 | K63: =E63+G63+I63 -> 4207 | L63: =F63+H63+J63 -> 84.1 | N63: 0.02 | P63: 기계경비 | Q63: 1 | R63: 20 | S63: A0400000000
A64: 저압케이블전공 | B64: 일반공사 직종 | C64: 인 | D64: =일위공량산출서!G27 -> 0.029 | F64: =ROUNDDOWN(D64*E64, 1) -> 0 | G64: =ROUNDDOWN(단가대비표!O39, 0) -> 304156 | H64: =ROUNDDOWN(D64*G64, 1) -> 8820.5 | J64: =ROUNDDOWN(D64*I64, 1) -> 0 | K64: =E64+G64+I64 -> 304156 | L64: =F64+H64+J64 -> 8820.5 | O64: 02 | P64: 기계경비 | Q64: 1
A65: 공구손료 | B65: ="노무비의 " & N65*100 & "%" -> 노무비의 3% | C65: 식 | D65: 1 | E65: =SUMIF(O62:O65, "02", H62:H65) -> 8820.5 | F65: =ROUNDDOWN((E65)*N65, 1) -> 264.6 | K65: =E65+G65+I65 -> 8820.5 | L65: =F65+H65+J65 -> 264.6 | N65: 0.03 | P65: 기계경비 | Q65: 1 | R65: 23 | S65: A0200000000
A66: 합 계 | F66: =ROUNDDOWN(SUMIF(Q62:Q65, "1", F62:F65), 0) -> 4555 | H66: =ROUNDDOWN(SUMIF(Q62:Q65, "1", H62:H65), 0) -> 8820 | J66: =ROUNDDOWN(SUMIF(Q62:Q65, "1", J62:J65), 0) -> 0 | L66: =F66+H66+J66 -> 13375
A68: [일위 9호] - [600V폴리에틸렌케이블 0.6/1kV, F-CV, 4C×2.5㎟ m] | M68: 전기5-13
A69: 600V폴리에틸렌케이블 | B69: 0.6/1kV, F-CV, 4C×2.5㎟ | C69: m | D69: =일위공량산출서!F32 -> 1 | E69: =ROUNDDOWN(단가대비표!O6, 0) -> 2983 | F69: =ROUNDDOWN(D69*E69, 1) -> 2983 | G69: 0 | H69: =ROUNDDOWN(D69*G69, 1) -> 0 | I69: 0 | J69: =ROUNDDOWN(D69*I69, 1) -> 0 | K69: =E69+G69+I69 -> 2983 | L69: =F69+H69+J69 -> 2983 | O69: 04 | P69: 기계경비 | Q69: 1
A70: 소모품비 | B70: ="배관배선의 " & N70*100 & "%" -> 배관배선의 2% | C70: 식 | D70: 1 | E70: =SUMIF(O69:O72, "04", F69:F72) -> 2983 | F70: =ROUNDDOWN((E70)*N70, 1) -> 59.6 | K70: =E70+G70+I70 -> 2983 | L70: =F70+H70+J70 -> 59.6 | N70: 0.02 | P70: 기계경비 | Q70: 1 | R70: 20 | S70: A0400000000
A71: 저압케이블전공 | B71: 일반공사 직종 | C71: 인 | D71: =일위공량산출서!G35 -> 0.026 | F71: =ROUNDDOWN(D71*E71, 1) -> 0 | G71: =ROUNDDOWN(단가대비표!O39, 0) -> 304156 | H71: =ROUNDDOWN(D71*G71, 1) -> 7908 | J71: =ROUNDDOWN(D71*I71, 1) -> 0 | K71: =E71+G71+I71 -> 304156 | L71: =F71+H71+J71 -> 7908 | O71: 02 | P71: 기계경비 | Q71: 1
A72: 공구손료 | B72: ="노무비의 " & N72*100 & "%" -> 노무비의 3% | C72: 식 | D72: 1 | E72: =SUMIF(O69:O72, "02", H69:H72) -> 7908 | F72: =ROUNDDOWN((E72)*N72, 1) -> 237.2 | K72: =E72+G72+I72 -> 7908 | L72: =F72+H72+J72 -> 237.2 | N72: 0.03 | P72: 기계경비 | Q72: 1 | R72: 23 | S72: A0200000000
A73: 합 계 | F73: =ROUNDDOWN(SUMIF(Q69:Q72, "1", F69:F72), 0) -> 3279 | H73: =ROUNDDOWN(SUMIF(Q69:Q72, "1", H69:H72), 0) -> 7908 | J73: =ROUNDDOWN(SUMIF(Q69:Q72, "1", J69:J72), 0) -> 0 | L73: =F73+H73+J73 -> 11187
A75: [일위 10호] - [0.6/1kv 트레이용 절연난연 제어케이블(F-CVV) 6C*2.5㎟ M] | M75: 통신4-4-1
A76: 제어케이블 | B76: 0.6/1kV, TFR-CVV, 6C×2.5㎟ | C76: m | D76: 1 | E76: =ROUNDDOWN(단가대비표!O24, 0) -> 3913 | F76: =ROUNDDOWN(D76*E76, 1) -> 3913 | G76: 0 | H76: =ROUNDDOWN(D76*G76, 1) -> 0 | I76: 0 | J76: =ROUNDDOWN(D76*I76, 1) -> 0 | K76: =E76+G76+I76 -> 3913 | L76: =F76+H76+J76 -> 3913 | M76: F-CVV | O76: 01 | P76: 기계경비 | Q76: 1
A77: 제어케이블 | B77: 0.6/1kV, TFR-CVV, 6C×2.5㎟ | C77: m | D77: 0.075 | E77: =ROUNDDOWN(단가대비표!O24, 0) -> 3913 | F77: =ROUNDDOWN(D77*E77, 1) -> 293.4 | G77: 0 | H77: =ROUNDDOWN(D77*G77, 1) -> 0 | I77: 0 | J77: =ROUNDDOWN(D77*I77, 1) -> 0 | K77: =E77+G77+I77 -> 3913 | L77: =F77+H77+J77 -> 293.4 | M77: F-CVV | O77: 99 | P77: 기계경비 | Q77: 1
A78: 잡재료비 | B78: ="배관배선의 " & N78*100 & "%" -> 배관배선의 2% | C78: 식 | D78: 1 | E78: =SUMIF(O76:O80, "01", F76:F80) -> 3913 | F78: =ROUNDDOWN((E78)*N78, 1) -> 78.2 | G78: 0 | H78: 0 | I78: 0 | J78: 0 | K78: =E78+G78+I78 -> 3913 | L78: =F78+H78+J78 -> 78.2 | N78: 0.02 | P78: 기계경비 | Q78: 1 | R78: 20 | S78: A0100000000
A79: 통신케이블공 | B79: 일반공사 직종 | C79: 인 | D79: 0.035 | E79: 0 | F79: =ROUNDDOWN(D79*E79, 1) -> 0 | G79: =ROUNDDOWN(단가대비표!O43, 0) -> 436224 | H79: =ROUNDDOWN(D79*G79, 1) -> 15267.8 | I79: 0 | J79: =ROUNDDOWN(D79*I79, 1) -> 0 | K79: =E79+G79+I79 -> 436224 | L79: =F79+H79+J79 -> 15267.8 | O79: 02 | P79: 기계경비 | Q79: 1
A80: 공구손료 | B80: ="인력품의 " & N80*100 & "%" -> 인력품의 3% | C80: 식 | D80: 1 | E80: =SUMIF(O76:O80, "02", H76:H80) -> 15267.8 | F80: =ROUNDDOWN((E80)*N80, 1) -> 458 | G80: 0 | H80: 0 | I80: 0 | J80: 0 | K80: =E80+G80+I80 -> 15267.8 | L80: =F80+H80+J80 -> 458 | N80: 0.03 | P80: 기계경비 | Q80: 1 | R80: 23 | S80: A0200000000
A81: 합 계 | F81: =ROUNDDOWN(SUMIF(Q76:Q80, "1", F76:F80), 0) -> 4742 | H81: =ROUNDDOWN(SUMIF(Q76:Q80, "1", H76:H80), 0) -> 15267 | J81: =ROUNDDOWN(SUMIF(Q76:Q80, "1", J76:J80), 0) -> 0 | L81: =F81+H81+J81 -> 20009
A83: [일위 11호] - [접지용비닐절연전선 F-GV, 4㎟ m] | M83: 전기3-38
A84: 접지용비닐절연전선 | B84: F-GV, 4㎟ | C84: m | D84: =일위공량산출서!F40 -> 1 | E84: =ROUNDDOWN(단가대비표!O22, 0) -> 1157 | F84: =ROUNDDOWN(D84*E84, 1) -> 1157 | G84: 0 | H84: =ROUNDDOWN(D84*G84, 1) -> 0 | I84: 0 | J84: =ROUNDDOWN(D84*I84, 1) -> 0 | K84: =E84+G84+I84 -> 1157 | L84: =F84+H84+J84 -> 1157 | O84: 04 | P84: 기계경비 | Q84: 1
A85: 소모품비 | B85: ="배관배선의 " & N85*100 & "%" -> 배관배선의 2% | C85: 식 | D85: 1 | E85: =SUMIF(O84:O87, "04", F84:F87) -> 1157 | F85: =ROUNDDOWN((E85)*N85, 1) -> 23.1 | K85: =E85+G85+I85 -> 1157 | L85: =F85+H85+J85 -> 23.1 | N85: 0.02 | P85: 기계경비 | Q85: 1 | R85: 20 | S85: A0400000000
A86: 내선전공 | B86: 일반공사 직종 | C86: 인 | D86: =일위공량산출서!G43 -> 0.006 | F86: =ROUNDDOWN(D86*E86, 1) -> 0 | G86: =ROUNDDOWN(단가대비표!O32, 0) -> 273676 | H86: =ROUNDDOWN(D86*G86, 1) -> 1642 | J86: =ROUNDDOWN(D86*I86, 1) -> 0 | K86: =E86+G86+I86 -> 273676 | L86: =F86+H86+J86 -> 1642 | O86: 02 | P86: 기계경비 | Q86: 1
A87: 공구손료 | B87: ="노무비의 " & N87*100 & "%" -> 노무비의 3% | C87: 식 | D87: 1 | E87: =SUMIF(O84:O87, "02", H84:H87) -> 1642 | F87: =ROUNDDOWN((E87)*N87, 1) -> 49.2 | K87: =E87+G87+I87 -> 1642 | L87: =F87+H87+J87 -> 49.2 | N87: 0.03 | P87: 기계경비 | Q87: 1 | R87: 23 | S87: A0200000000
A88: 합 계 | F88: =ROUNDDOWN(SUMIF(Q84:Q87, "1", F84:F87), 0) -> 1229 | H88: =ROUNDDOWN(SUMIF(Q84:Q87, "1", H84:H87), 0) -> 1642 | J88: =ROUNDDOWN(SUMIF(Q84:Q87, "1", J84:J87), 0) -> 0 | L88: =F88+H88+J88 -> 2871
A90: [일위 12호] - [접지동봉설치 1본 개소]
A91: 접지봉 | B91: 14Φ×1000mm | C91: 개 | D91: 1 | E91: =ROUNDDOWN(단가대비표!O21, 0) -> 3381 | F91: =ROUNDDOWN(D91*E91, 1) -> 3381 | G91: 0 | H91: =ROUNDDOWN(D91*G91, 1) -> 0 | I91: 0 | J91: =ROUNDDOWN(D91*I91, 1) -> 0 | K91: =E91+G91+I91 -> 3381 | L91: =F91+H91+J91 -> 3381 | O91: 01 | P91: 기계경비 | Q91: 1
A92: 접지용전선 | B92: GV 5.5㎟ | C92: M | D92: 2 | E92: =ROUNDDOWN(단가대비표!O23, 2) -> 0 | F92: =ROUNDDOWN(D92*E92, 1) -> 0 | G92: 0 | H92: =ROUNDDOWN(D92*G92, 1) -> 0 | I92: 0 | J92: =ROUNDDOWN(D92*I92, 1) -> 0 | K92: =E92+G92+I92 -> 0 | L92: =F92+H92+J92 -> 0 | O92: 04 | P92: 기계경비 | Q92: 1
A93: 잡재료비 | B93: ="배관배선의 " & N93*100 & "%" -> 배관배선의 2% | C93: 식 | D93: 1 | E93: =SUMIF(O91:O95, "04", F91:F95) -> 0 | F93: =ROUNDDOWN((E93)*N93, 1) -> 0 | G93: 0 | H93: 0 | I93: 0 | J93: 0 | K93: =E93+G93+I93 -> 0 | L93: =F93+H93+J93 -> 0 | N93: 0.02 | P93: 기계경비 | Q93: 1 | R93: 20 | S93: A0400000000 | T93: 재료비
A94: 내선전공 | B94: 일반공사 직종 | C94: 인 | D94: 0.11 | E94: 0 | F94: =ROUNDDOWN(D94*E94, 1) -> 0 | G94: =ROUNDDOWN(단가대비표!O32, 0) -> 273676 | H94: =ROUNDDOWN(D94*G94, 1) -> 30104.3 | I94: 0 | J94: =ROUNDDOWN(D94*I94, 1) -> 0 | K94: =E94+G94+I94 -> 273676 | L94: =F94+H94+J94 -> 30104.3 | O94: 02 | P94: 기계경비 | Q94: 1
A95: 보통인부 | B95: 일반공사 직종 | C95: 인 | D95: 0.08 | E95: 0 | F95: =ROUNDDOWN(D95*E95, 1) -> 0 | G95: =ROUNDDOWN(단가대비표!O35, 0) -> 172068 | H95: =ROUNDDOWN(D95*G95, 1) -> 13765.4 | I95: 0 | J95: =ROUNDDOWN(D95*I95, 1) -> 0 | K95: =E95+G95+I95 -> 172068 | L95: =F95+H95+J95 -> 13765.4 | O95: 02 | P95: 기계경비 | Q95: 1
A96: 합 계 | F96: =ROUNDDOWN(SUMIF(Q91:Q95, "1", F91:F95), 0) -> 3381 | H96: =ROUNDDOWN(SUMIF(Q91:Q95, "1", H91:H95), 0) -> 43869 | J96: =ROUNDDOWN(SUMIF(Q91:Q95, "1", J91:J95), 0) -> 0 | L96: =F96+H96+J96 -> 47250
A98: [일위 13호] - [하이박스 300×400×160 EA] | M98: 전기5-4
A99: 하이박스 | B99: 300×400×160 | C99: EA | D99: =일위공량산출서!F48 -> 1 | E99: =ROUNDDOWN(단가대비표!O29, 0) -> 20125 | F99: =ROUNDDOWN(D99*E99, 1) -> 20125 | G99: 0 | H99: =ROUNDDOWN(D99*G99, 1) -> 0 | I99: 0 | J99: =ROUNDDOWN(D99*I99, 1) -> 0 | K99: =E99+G99+I99 -> 20125 | L99: =F99+H99+J99 -> 20125 | O99: 01 | P99: 기계경비 | Q99: 1
A100: 내선전공 | B100: 일반공사 직종 | C100: 인 | D100: =일위공량산출서!G51 -> 0.35 | F100: =ROUNDDOWN(D100*E100, 1) -> 0 | G100: =ROUNDDOWN(단가대비표!O32, 0) -> 273676 | H100: =ROUNDDOWN(D100*G100, 1) -> 95786.6 | J100: =ROUNDDOWN(D100*I100, 1) -> 0 | K100: =E100+G100+I100 -> 273676 | L100: =F100+H100+J100 -> 95786.6 | O100: 02 | P100: 기계경비 | Q100: 1
A101: 공구손료 | B101: ="노무비의 " & N101*100 & "%" -> 노무비의 3% | C101: 식 | D101: 1 | E101: =SUMIF(O99:O101, "02", H99:H101) -> 95786.6 | F101: =ROUNDDOWN((E101)*N101, 1) -> 2873.5 | K101: =E101+G101+I101 -> 95786.6 | L101: =F101+H101+J101 -> 2873.5 | N101: 0.03 | P101: 기계경비 | Q101: 1 | R101: 23 | S101: A0200000000
A102: 합 계 | F102: =ROUNDDOWN(SUMIF(Q99:Q101, "1", F99:F101), 0) -> 22998 | H102: =ROUNDDOWN(SUMIF(Q99:Q101, "1", H99:H101), 0) -> 95786 | J102: =ROUNDDOWN(SUMIF(Q99:Q101, "1", J99:J101), 0) -> 0 | L102: =F102+H102+J102 -> 118784
A104: [일위 14호] - [입상케이블 보호관 설치 입상관 Φ175mm 이하 m] | M104: 전기4-33
A105: 배전전공 | B105: 일반공사 직종 | C105: 인 | D105: 0.22 | E105: 0 | F105: =ROUNDDOWN(D105*E105, 1) -> 0 | G105: =ROUNDDOWN(단가대비표!O33, 0) -> 414968 | H105: =ROUNDDOWN(D105*G105, 1) -> 91292.9 | I105: 0 | J105: =ROUNDDOWN(D105*I105, 1) -> 0 | K105: =E105+G105+I105 -> 414968 | L105: =F105+H105+J105 -> 91292.9 | O105: 02 | P105: 기계경비 | Q105: 1
A106: 보통인부 | B106: 일반공사 직종 | C106: 인 | D106: 0.11 | E106: 0 | F106: =ROUNDDOWN(D106*E106, 1) -> 0 | G106: =ROUNDDOWN(단가대비표!O35, 0) -> 172068 | H106: =ROUNDDOWN(D106*G106, 1) -> 18927.4 | I106: 0 | J106: =ROUNDDOWN(D106*I106, 1) -> 0 | K106: =E106+G106+I106 -> 172068 | L106: =F106+H106+J106 -> 18927.4 | O106: 02 | P106: 기계경비 | Q106: 1
A107: 공구손료 | B107: ="인력품의 " & N107*100 & "%" -> 인력품의 3% | C107: 식 | D107: 1 | E107: =SUMIF(O105:O107, "02", H105:H107) -> 110220.3 | F107: =ROUNDDOWN((E107)*N107, 1) -> 3306.6 | G107: 0 | H107: 0 | I107: 0 | J107: 0 | K107: =E107+G107+I107 -> 110220.3 | L107: =F107+H107+J107 -> 3306.6 | N107: 0.03 | P107: 기계경비 | Q107: 1 | R107: 23 | S107: A0200000000 | T107: 재료비
A108: 합 계 | F108: =ROUNDDOWN(SUMIF(Q105:Q107, "1", F105:F107), 0) -> 3306 | H108: =ROUNDDOWN(SUMIF(Q105:Q107, "1", H105:H107), 0) -> 110220 | J108: =ROUNDDOWN(SUMIF(Q105:Q107, "1", J105:J107), 0) -> 0 | L108: =F108+H108+J108 -> 113526
A110: [일위 15호] - [구멍뚫기(코어드릴) D150, 콘크리트 150㎜, 벽 개소] | M110: 설비9-3-2
A111: 착암공 | B111: 일반공사 직종 | C111: 인 | D111: 0.268 | E111: 0 | F111: =ROUNDDOWN(D111*E111, 1) -> 0 | G111: =ROUNDDOWN(단가대비표!O40, 0) -> 222306 | H111: =ROUNDDOWN(D111*G111, 1) -> 59578 | I111: 0 | J111: =ROUNDDOWN(D111*I111, 1) -> 0 | K111: =E111+G111+I111 -> 222306 | L111: =F111+H111+J111 -> 59578 | O111: 02 | P111: 기계경비 | Q111: 1
A112: 보통인부 | B112: 일반공사 직종 | C112: 인 | D112: 0.268 | E112: 0 | F112: =ROUNDDOWN(D112*E112, 1) -> 0 | G112: =ROUNDDOWN(단가대비표!O35, 0) -> 172068 | H112: =ROUNDDOWN(D112*G112, 1) -> 46114.2 | I112: 0 | J112: =ROUNDDOWN(D112*I112, 1) -> 0 | K112: =E112+G112+I112 -> 172068 | L112: =F112+H112+J112 -> 46114.2 | O112: 02 | P112: 기계경비 | Q112: 1
A113: 공구손료 | B113: ="인력품의 " & N113*100 & "%" -> 인력품의 2% | C113: 식 | D113: 1 | E113: =SUMIF(O111:O113, "02", H111:H113) -> 105692.2 | F113: =ROUNDDOWN((E113)*N113, 1) -> 2113.8 | G113: 0 | H113: 0 | I113: 0 | J113: 0 | K113: =E113+G113+I113 -> 105692.2 | L113: =F113+H113+J113 -> 2113.8 | N113: 0.02 | P113: 기계경비 | Q113: 1 | R113: 23 | S113: A0200000000 | T113: 재료비
A114: 합 계 | F114: =ROUNDDOWN(SUMIF(Q111:Q113, "1", F111:F113), 0) -> 2113 | H114: =ROUNDDOWN(SUMIF(Q111:Q113, "1", H111:H113), 0) -> 105692 | J114: =ROUNDDOWN(SUMIF(Q111:Q113, "1", J111:J113), 0) -> 0 | L114: =F114+H114+J114 -> 107805
...

Sheet 단가산출서목록
A1: 단 가 산 출 목 록
A2: 공사명 : 1.내역서_대관2펌프장 제어반이설공사
A3: 호 표 | B3: 품 명 | C3: 규 격 | D3: 단위 | E3: 수량 | F3: 재 료 비 | H3: 노 무 비 | J3: 경 비 | L3: 합 계 | N3: 비 고
F4: 단 가 | G4: 금 액 | H4: 단 가 | I4: 금 액 | J4: 단 가 | K4: 금 액 | L4: 단 가 | M4: 금 액 | O4: 구분
A5: 단산 1호 | B5: 포장절단 | C5: 콘크리트(기계) | D5: M | E5: 1 | F5: =단가산출서!B33 -> 693 | G5: =E5*F5 -> 693 | H5: =단가산출서!C33 -> 28065 | I5: =E5*H5 -> 28065 | J5: =단가산출서!D33 -> 29 | K5: =E5*J5 -> 29 | L5: =F5+H5+J5 -> 28787 | M5: =G5+I5+K5 -> 28787 | N5: 2021국토교통부산출기준
A6: 단산 2호 | B6: 아스팔트포장깨기 | C6: 굴착기 0.18㎥+브레이커, 두께20cm이하 | D6: M3 | E6: 1 | F6: =단가산출서!B45 -> 2625 | G6: =E6*F6 -> 2625 | H6: =단가산출서!C45 -> 19641 | I6: =E6*H6 -> 19641 | J6: =단가산출서!D45 -> 4587 | K6: =E6*J6 -> 4587 | L6: =F6+H6+J6 -> 26853 | M6: =G6+I6+K6 -> 26853 | N6: 2024년 서울아리수본부

Sheet 단가산출서
A1: 단 가 산 출 서
A2: 공사명 : 1.내역서_대관2펌프장 제어반이설공사
A3: 산 출 근 거 | B3: 재 료 비 | C3: 노 무 비 | D3: 경 비 | E3: 합 계 | F3: 비 고
G4: 손료요율 | H4: 손료구분 | I4: 적용구분 | J4: 합계구분
A5: [단산 1호] - [포장절단 콘크리트(기계) M] | F5: 2021국토교통부산출기준
A6: ="※ 1일 시공량 : " &"Qd = " & L6 -> ※ 1일 시공량 : Qd = 600 | B6: 0 | C6: 0 | D6: 0 | E6: 0 | J6: 0 | K6: Qd | L6: 600
A7: 1.운전경비 | B7: 0 | C7: 0 | D7: 0 | E7: 0 | J7: 0 | L7: 0
A8: 1)블레이드 D=320~400mm, T=3.2mm 기준 | B8: 0 | C8: 0 | D8: 0 | E8: 0 | J8: 0 | L8: 0
A9: ="블레이드 도로용, 14""×3.2mm EA " & TEXT(TRUNC(M9,0), "#,##0") & " * 0.0031" -> 블레이드 도로용, 14"×3.2mm EA 169,800 * 0.0031 | B9: =ROUNDDOWN(L9*M9, 1) -> 526.3 | C9: 0 | D9: 0 | E9: =B9+C9+D9 -> 526.3 | H9: 01 | I9: 기계경비 | J9: 1 | L9: 0.0031 | M9: =ROUNDDOWN(단가대비표!O18, 0) -> 169800 | N9: 0 | O9: 0
A10: 2)절단 | B10: 0 | C10: 0 | D10: 0 | E10: 0 | J10: 0 | L10: 0
A11: 가. 인건비 | B11: 0 | C11: 0 | D11: 0 | E11: 0 | J11: 0 | L11: 0
A12: ="특별인부 일반공사 직종 인 " & TEXT(TRUNC(N12,0), "#,##0") & " * (1/600)" -> 특별인부 일반공사 직종 인 226,122 * (1/600) | B12: 0 | C12: =ROUNDDOWN(L12*N12, 1) -> 376.8 | D12: 0 | E12: =B12+C12+D12 -> 376.8 | H12: 02 | I12: 기계경비 | J12: 1 | L12: 0.0016666667 | M12: 0 | N12: =ROUNDDOWN(단가대비표!O44, 0) -> 226122 | O12: 0
A13: ="보통인부 일반공사 직종 인 " & TEXT(TRUNC(N13,0), "#,##0") & " * (1/600)" -> 보통인부 일반공사 직종 인 172,068 * (1/600) | B13: 0 | C13: =ROUNDDOWN(L13*N13, 1) -> 286.7 | D13: 0 | E13: =B13+C13+D13 -> 286.7 | H13: 02 | I13: 기계경비 | J13: 1 | L13: 0.0016666667 | M13: 0 | N13: =ROUNDDOWN(단가대비표!O35, 0) -> 172068 | O13: 0
A14: 3) 물운반 | B14: 0 | C14: 0 | D14: 0 | E14: 0 | J14: 0 | L14: 0
A15: ="운반거리 : " &"L = " & L15 -> 운반거리 : L = 0.1 | B15: 0 | C15: 0 | D15: 0 | E15: 0 | J15: 0 | K15: L | L15: 0.1
A16: ="왕복속도 : " &"V = " & L16 -> 왕복속도 : V = 25 | B16: 0 | C16: 0 | D16: 0 | E16: 0 | J16: 0 | K16: V | L16: 25
A17: ="운반횟수 : " &"N = (2500*450)/(120*100+2500*4) = " & L17 -> 운반횟수 : N = (2500*450)/(120*100+2500*4) = 51.1363636 | B17: 0 | C17: 0 | D17: 0 | E17: 0 | J17: 0 | K17: N | L17: 51.136364
A18: ="작업량 : " &"Q = N*250/1000 = " & L18 -> 작업량 : Q = N*250/1000 = 12.7840909 | B18: 0 | C18: 0 | D18: 0 | E18: 0 | J18: 0 | K18: Q | L18: =ROUNDDOWN(L17*250/1000, 7) -> 12.784091
A19: ="보통인부 일반공사 직종 인 " & TEXT(TRUNC(N19,0), "#,##0") & " * (2/12.7840909)" -> 보통인부 일반공사 직종 인 172,068 * (2/12.7840909) | B19: 0 | C19: =ROUNDDOWN(L19*N19, 1) -> 26919 | D19: 0 | E19: =B19+C19+D19 -> 26919 | H19: 02 | I19: 기계경비 | J19: 1 | L19: =ROUNDDOWN(2/L18, 7) -> 0.1564444 | M19: 0 | N19: =ROUNDDOWN(단가대비표!O35, 0) -> 172068 | O19: 0
A20: 2.기계사용료 | B20: 0 | C20: 0 | D20: 0 | E20: 0 | J20: 0 | L20: 0
A21: 나. 커터 | B21: 0 | C21: 0 | D21: 0 | E21: 0 | J21: 0 | L21: 0
A22: 커터(콘크리트 및 아스팔트용) 320∼400mm HR | F22: 중기 8호 | J22: 0 | L22: 1 | M22: =ROUNDDOWN(중기경비목록!G12, 0) -> 11262 | N22: =ROUNDDOWN(중기경비목록!I12, 0) -> 36248 | O22: =ROUNDDOWN(중기경비목록!K12, 0) -> 2064
A23: ="Q = 8/600 = " & L23 -> Q = 8/600 = 0.0133333 | B23: 0 | C23: 0 | D23: 0 | E23: 0 | J23: 0 | K23: Q | L23: 0.0133333
A24: ="재료비 : " & TEXT(TRUNC(M24,0), "#,##0") & " * 0.0133333" -> 재료비 : 11,262 * 0.0133333 | B24: =ROUNDDOWN(M22*L23, 1) -> 150.1 | C24: 0 | D24: 0 | E24: =B24+C24+D24 -> 150.1 | I24: 기계경비 | J24: 1 | L24: 0 | M24: =M22 -> 11262
A25: ="노무비 : " & TEXT(TRUNC(N25,0), "#,##0") & " * 0.0133333" -> 노무비 : 36,248 * 0.0133333 | B25: 0 | C25: =ROUNDDOWN(N22*L23, 1) -> 483.3 | D25: 0 | E25: =B25+C25+D25 -> 483.3 | I25: 기계경비 | J25: 1 | L25: 0 | N25: =N22 -> 36248
A26: ="경 비 : " & TEXT(TRUNC(O26,0), "#,##0") & " * 0.0133333" -> 경 비 : 2,064 * 0.0133333 | B26: 0 | C26: 0 | D26: =ROUNDDOWN(O22*L23, 1) -> 27.5 | E26: =B26+C26+D26 -> 27.5 | I26: 기계경비 | J26: 1 | L26: 0 | O26: =O22 -> 2064
A27: 다. 동력분무기 | B27: 0 | C27: 0 | D27: 0 | E27: 0 | J27: 0 | L27: 0
A28: 동력분무기 4.85kw HR | F28: 중기 7호 | J28: 0 | L28: 0.5 | M28: =ROUNDDOWN(중기경비목록!G11, 0) -> 2614 | N28: =ROUNDDOWN(중기경비목록!I11, 2) -> 0 | O28: =ROUNDDOWN(중기경비목록!K11, 0) -> 258
A29: ="Q = 8/Qd = " & L29 -> Q = 8/Qd = 0.0133333 | B29: 0 | C29: 0 | D29: 0 | E29: 0 | J29: 0 | K29: Q | L29: =ROUNDDOWN(8/L6, 7) -> 0.0133333
A30: ="재료비 : " & TEXT(TRUNC(M30,0), "#,##0") & " * 0.5*0.0133333" -> 재료비 : 2,614 * 0.5*0.0133333 | B30: =ROUNDDOWN(M28*L28*L29, 1) -> 17.4 | C30: 0 | D30: 0 | E30: =B30+C30+D30 -> 17.4 | I30: 기계경비 | J30: 1 | L30: 0 | M30: =M28 -> 2614
A31: ="경 비 : " & TEXT(TRUNC(O31,0), "#,##0") & " * 0.5*0.0133333" -> 경 비 : 258 * 0.5*0.0133333 | B31: 0 | C31: 0 | D31: =ROUNDDOWN(O28*L28*L29, 1) -> 1.7 | E31: =B31+C31+D31 -> 1.7 | I31: 기계경비 | J31: 1 | L31: 0 | O31: =O28 -> 258
A32: 소 계 | B32: =SUMIF(J6:J31, "1", B6:B31) -> 693.8 | C32: =SUMIF(J6:J31, "1", C6:C31) -> 28065.8 | D32: =SUMIF(J6:J31, "1", D6:D31) -> 29.2 | E32: =B32+C32+D32 -> 28788.8 | J32: 0 | L32: 0
A33: 합 계 | B33: =ROUNDDOWN(SUMIF(J6:J32, "1", B6:B32), 0) -> 693 | C33: =ROUNDDOWN(SUMIF(J6:J32, "1", C6:C32), 0) -> 28065 | D33: =ROUNDDOWN(SUMIF(J6:J32, "1", D6:D32), 0) -> 29 | E33: =B33+C33+D33 -> 28787
A35: [단산 2호] - [아스팔트포장깨기 굴착기 0.18㎥+브레이커, 두께20cm이하 M3] | F35: 2024년 서울아리수본부
A36: 1.기계사용료 | B36: 0 | C36: 0 | D36: 0 | E36: 0 | J36: 0 | L36: 0
A37: 굴착기(유압식,타이어형)+브레카 0.18 ㎥ HR | F37: 중기 10호 | J37: 0 | L37: 1 | M37: =ROUNDDOWN(중기경비목록!G14, 0) -> 10763 | N37: =ROUNDDOWN(중기경비목록!I14, 0) -> 59020 | O37: =ROUNDDOWN(중기경비목록!K14, 0) -> 18810
A38: ="시간당작업량(㎥/hr) : " &"Q = " & L38 -> 시간당작업량(㎥/hr) : Q = 4.1 | B38: 0 | C38: 0 | D38: 0 | E38: 0 | J38: 0 | K38: Q | L38: 4.1
A39: ="재료비 : " & TEXT(TRUNC(M39,0), "#,##0") & " / 4.1" -> 재료비 : 10,763 / 4.1 | B39: =ROUNDDOWN(M37/L38, 1) -> 2625.1 | C39: 0 | D39: 0 | E39: =B39+C39+D39 -> 2625.1 | I39: 기계경비 | J39: 1 | L39: 0 | M39: =M37 -> 10763
A40: ="노무비 : " & TEXT(TRUNC(N40,0), "#,##0") & " / 4.1" -> 노무비 : 59,020 / 4.1 | B40: 0 | C40: =ROUNDDOWN(N37/L38, 1) -> 14395.1 | D40: 0 | E40: =B40+C40+D40 -> 14395.1 | I40: 기계경비 | J40: 1 | L40: 0 | N40: =N37 -> 59020
A41: ="경 비 : " & TEXT(TRUNC(O41,0), "#,##0") & " / 4.1" -> 경 비 : 18,810 / 4.1 | B41: 0 | C41: 0 | D41: =ROUNDDOWN(O37/L38, 1) -> 4587.8 | E41: =B41+C41+D41 -> 4587.8 | I41: 기계경비 | J41: 1 | L41: 0 | O41: =O37 -> 18810
A42: 2. 보조인부 | B42: 0 | C42: 0 | D42: 0 | E42: 0 | J42: 0 | L42: 0
A43: ="보통인부 일반공사 직종 인 " & TEXT(TRUNC(N43,0), "#,##0") & " * (1/8/4.1)" -> 보통인부 일반공사 직종 인 172,068 * (1/8/4.1) | B43: 0 | C43: =ROUNDDOWN(L43*N43, 1) -> 5245.9 | D43: 0 | E43: =B43+C43+D43 -> 5245.9 | H43: 02 | I43: 기계경비 | J43: 1 | L43: =1/8/L38 -> 0.030487805 | M43: 0 | N43: =ROUNDDOWN(단가대비표!O35, 0) -> 172068 | O43: 0
A44: 소 계 | B44: =SUMIF(J36:J43, "1", B36:B43) -> 2625.1 | C44: =SUMIF(J36:J43, "1", C36:C43) -> 19641 | D44: =SUMIF(J36:J43, "1", D36:D43) -> 4587.8 | E44: =B44+C44+D44 -> 26853.9 | J44: 0 | L44: 0
A45: 합 계 | B45: =ROUNDDOWN(SUMIF(J36:J44, "1", B36:B44), 0) -> 2625 | C45: =ROUNDDOWN(SUMIF(J36:J44, "1", C36:C44), 0) -> 19641 | D45: =ROUNDDOWN(SUMIF(J36:J44, "1", D36:D44), 0) -> 4587 | E45: =B45+C45+D45 -> 26853

Sheet 중기경비목록
A1: 중 기 경 비 목 록
A2: 공사명 : 1.내역서_대관2펌프장 제어반이설공사
A3: 호 표 | B3: 품 명 | C3: 규 격 | D3: 단위 | E3: 수량 | F3: 재 료 비 | H3: 노 무 비 | J3: 경 비 | L3: 합 계 | N3: 비 고
F4: 단 가 | G4: 금 액 | H4: 단 가 | I4: 금 액 | J4: 단 가 | K4: 금 액 | L4: 단 가 | M4: 금 액 | O4: 구분
A5: 중기 1호 | B5: 굴착기(타이어) | C5: 0.18㎥ | D5: HR | E5: 1 | F5: =중기경비!F16 -> 11506 | G5: =E5*F5 -> 11506 | H5: =중기경비!H16 -> 59020 | I5: =E5*H5 -> 59020 | J5: =중기경비!J16 -> 15800 | K5: =E5*J5 -> 15800 | L5: =F5+H5+J5 -> 86326 | M5: =G5+I5+K5 -> 86326 | N5: 공통8-4-1,8-3-1(0211)
A6: 중기 2호 | B6: 고소작업차 | C6: 2ton | D6: HR | E6: 1 | F6: =중기경비!F29 -> 5766 | G6: =E6*F6 -> 5766 | H6: =중기경비!H29 -> 49778 | I6: =E6*H6 -> 49778 | J6: =중기경비!J29 -> 10694 | K6: =E6*J6 -> 10694 | L6: =F6+H6+J6 -> 66238 | M6: =G6+I6+K6 -> 66238 | N6: 공통8-4-3,8-3-3(2106)
A7: 중기 3호 | B7: 물탱크(살수차) | C7: 5500L | D7: HR | E7: 1 | F7: =중기경비!F42 -> 20033 | G7: =E7*F7 -> 20033 | H7: =중기경비!H42 -> 49778 | I7: =E7*H7 -> 49778 | J7: =중기경비!J42 -> 9986 | K7: =E7*J7 -> 9986 | L7: =F7+H7+J7 -> 79797 | M7: =G7+I7+K7 -> 79797 | N7: 공통8-4-8,8-3-8(7204)
A8: 중기 4호 | B8: 진동롤러(핸드가이드식) | C8: 0.7ton | D8: HR | E8: 1 | F8: =중기경비!F55 -> 4119 | G8: =E8*F8 -> 4119 | H8: =중기경비!H55 -> 36248 | I8: =E8*H8 -> 36248 | J8: =중기경비!J55 -> 1967 | K8: =E8*J8 -> 1967 | L8: =F8+H8+J8 -> 42334 | M8: =G8+I8+K8 -> 42334 | N8: 공통8-4-2,8-3-2(1305)
A9: 중기 5호 | B9: 플레이트 콤팩터 | C9: 1.5ton | D9: HR | E9: 1 | F9: =중기경비!F68 -> 2011 | G9: =E9*F9 -> 2011 | H9: =중기경비!H68 -> 36248 | I9: =E9*H9 -> 36248 | J9: =중기경비!J68 -> 620 | K9: =E9*J9 -> 620 | L9: =F9+H9+J9 -> 38879 | M9: =G9+I9+K9 -> 38879 | N9: 공통8-4-2,8-3-2(1730)
A10: 중기 6호 | B10: 로더(타이어) | C10: 0.57 ㎥ | D10: HR | E10: 1 | F10: =중기경비!F81 -> 8351 | G10: =E10*F10 -> 8351 | H10: =중기경비!H81 -> 59020 | I10: =E10*H10 -> 59020 | J10: =중기경비!J81 -> 7505 | K10: =E10*J10 -> 7505 | L10: =F10+H10+J10 -> 74876 | M10: =G10+I10+K10 -> 74876 | N10: 공통8-4-1,8-3-1(0302)
A11: 중기 7호 | B11: 동력분무기 | C11: 4.85kw | D11: HR | E11: 1 | F11: =중기경비!F91 -> 2614 | G11: =E11*F11 -> 2614 | H11: =중기경비!H91 -> 0 | I11: =E11*H11 -> 0 | J11: =중기경비!J91 -> 258 | K11: =E11*J11 -> 258 | L11: =F11+H11+J11 -> 2872 | M11: =G11+I11+K11 -> 2872 | N11: 공통8-4-8,8-3-8(7210)
A12: 중기 8호 | B12: 커터(콘크리트 및 아스팔트용) | C12: 320∼400mm | D12: HR | E12: 1 | F12: =중기경비!F104 -> 11262 | G12: =E12*F12 -> 11262 | H12: =중기경비!H104 -> 36248 | I12: =E12*H12 -> 36248 | J12: =중기경비!J104 -> 2064 | K12: =E12*J12 -> 2064 | L12: =F12+H12+J12 -> 49574 | M12: =G12+I12+K12 -> 49574 | N12: 공통8-4-5,8-3-5(4430)
A13: 중기 9호 | B13: 굴착기(무한궤도) | C13: 0.2㎥ | D13: HR | E13: 1 | F13: =중기경비!F117 -> 10024 | G13: =E13*F13 -> 10024 | H13: =중기경비!H117 -> 59020 | I13: =E13*H13 -> 59020 | J13: =중기경비!J117 -> 13873 | K13: =E13*J13 -> 13873 | L13: =F13+H13+J13 -> 82917 | M13: =G13+I13+K13 -> 82917 | N13: 공통8-4-1,8-3-1(0201)
A14: 중기 10호 | B14: 굴착기(유압식,타이어형)+브레카 | C14: 0.18 ㎥ | D14: HR | E14: 1 | F14: =중기경비!F131 -> 10763 | G14: =E14*F14 -> 10763 | H14: =중기경비!H131 -> 59020 | I14: =E14*H14 -> 59020 | J14: =중기경비!J131 -> 18810 | K14: =E14*J14 -> 18810 | L14: =F14+H14+J14 -> 88593 | M14: =G14+I14+K14 -> 88593 | N14: 공통(0211+0230)

Sheet 중기경비
A1: 중 기 경 비 내 역 서
A2: 공사명 : 1.내역서_대관2펌프장 제어반이설공사
A3: 품 명 | B3: 규 격 | C3: 단위 | D3: 수 량 | E3: 재 료 비 | G3: 노 무 비 | I3: 경 비 | K3: 합 계 | M3: 비 고
E4: 단 가 | F4: 금 액 | G4: 단 가 | H4: 금 액 | I4: 단 가 | J4: 금 액 | K4: 단 가 | L4: 금 액 | N4: 손료요율 | O4: 손료구분 | P4: 적용구분 | Q4: 합계구분 | R4: 품목구분 | S4: 조달코드 | T4: 구분
A5: [중기 1호] - [굴착기(타이어) 0.18㎥ HR] | M5: 공통8-4-1,8-3-1(0211)
A6: [경 비] | F6: =ROUNDDOWN(D6*E6, 1) -> 0 | H6: =ROUNDDOWN(D6*G6, 1) -> 0 | J6: =ROUNDDOWN(D6*I6, 1) -> 0 | K6: =E6+G6+I6 -> 0 | L6: =F6+H6+J6 -> 0
A7: 굴착기(타이어) | B7: 0.18 ㎥ | C7: 대 | D7: 0.0002279 | E7: 0 | F7: =ROUNDDOWN(D7*E7, 1) -> 0 | G7: 0 | H7: =ROUNDDOWN(D7*G7, 1) -> 0 | I7: =ROUNDDOWN(단가대비표!O50, 0) -> 69333000 | J7: =ROUNDDOWN(D7*I7, 1) -> 15800.9 | K7: =E7+G7+I7 -> 69333000 | L7: =F7+H7+J7 -> 15800.9 | M7: 공통8-5-1(0211) | O7: 03 | P7: 기계경비 | Q7: 1
A8: 소 계 | F8: =SUMIF(Q6:Q7, "1", F6:F7) -> 0 | H8: =SUMIF(Q6:Q7, "1", H6:H7) -> 0 | J8: =SUMIF(Q6:Q7, "1", J6:J7) -> 15800.9 | K8: =E8+G8+I8 -> 0 | L8: =F8+H8+J8 -> 15800.9
A9: [재료비] | F9: =ROUNDDOWN(D9*E9, 1) -> 0 | H9: =ROUNDDOWN(D9*G9, 1) -> 0 | J9: =ROUNDDOWN(D9*I9, 1) -> 0 | K9: =E9+G9+I9 -> 0 | L9: =F9+H9+J9 -> 0
A10: 경유 | B10: 저유황 | C10: L | D10: 5.6 | E10: =ROUNDDOWN(단가대비표!O8, 0) -> 1657 | F10: =ROUNDDOWN(D10*E10, 1) -> 9279.2 | G10: 0 | H10: =ROUNDDOWN(D10*G10, 1) -> 0 | I10: 0 | J10: =ROUNDDOWN(D10*I10, 1) -> 0 | K10: =E10+G10+I10 -> 1657 | L10: =F10+H10+J10 -> 9279.2 | O10: 01 | P10: 기계경비 | Q10: 1
A11: 잡품 | B11: ="주연료비의 " & N11*100 & "%" -> 주연료비의 24% | C11: 식 | D11: 1 | E11: =SUMIF(O6:O15, "01", F6:F15) -> 9279.2 | F11: =ROUNDDOWN((E11)*N11, 1) -> 2227 | G11: 0 | H11: 0 | I11: 0 | J11: 0 | K11: =E11+G11+I11 -> 9279.2 | L11: =F11+H11+J11 -> 2227 | M11: 재료비->재료비 | N11: 0.24 | P11: 기계경비 | Q11: 1 | R11: 20 | S11: A0100000000 | T11: 재료비
A12: 소 계 | F12: =SUMIF(Q9:Q11, "1", F9:F11) -> 11506.2 | H12: =SUMIF(Q9:Q11, "1", H9:H11) -> 0 | J12: =SUMIF(Q9:Q11, "1", J9:J11) -> 0 | K12: =E12+G12+I12 -> 0 | L12: =F12+H12+J12 -> 11506.2
A13: [노무비] | F13: =ROUNDDOWN(D13*E13, 1) -> 0 | H13: =ROUNDDOWN(D13*G13, 1) -> 0 | J13: =ROUNDDOWN(D13*I13, 1) -> 0 | K13: =E13+G13+I13 -> 0 | L13: =F13+H13+J13 -> 0
A14: 건설기계운전사 | B14: 일반공사 직종 | C14: 인 | D14: 0.2083333 | E14: 0 | F14: =ROUNDDOWN(D14*E14, 1) -> 0 | G14: =ROUNDDOWN(단가대비표!O30, 0) -> 283297 | H14: =ROUNDDOWN(D14*G14, 1) -> 59020.1 | I14: 0 | J14: =ROUNDDOWN(D14*I14, 1) -> 0 | K14: =E14+G14+I14 -> 283297 | L14: =F14+H14+J14 -> 59020.1 | M14: 건설기계운전기사 | O14: 02 | P14: 기계경비 | Q14: 1
A15: 소 계 | F15: =SUMIF(Q13:Q14, "1", F13:F14) -> 0 | H15: =SUMIF(Q13:Q14, "1", H13:H14) -> 59020.1 | J15: =SUMIF(Q13:Q14, "1", J13:J14) -> 0 | K15: =E15+G15+I15 -> 0 | L15: =F15+H15+J15 -> 59020.1
A16: 합 계 | F16: =ROUNDDOWN(SUMIF(Q6:Q15, "1", F6:F15), 0) -> 11506 | H16: =ROUNDDOWN(SUMIF(Q6:Q15, "1", H6:H15), 0) -> 59020 | J16: =ROUNDDOWN(SUMIF(Q6:Q15, "1", J6:J15), 0) -> 15800 | L16: =F16+H16+J16 -> 86326
A18: [중기 2호] - [고소작업차 2ton HR] | M18: 공통8-4-3,8-3-3(2106)
A19: [경 비] | F19: =ROUNDDOWN(D19*E19, 1) -> 0 | H19: =ROUNDDOWN(D19*G19, 1) -> 0 | J19: =ROUNDDOWN(D19*I19, 1) -> 0 | K19: =E19+G19+I19 -> 0 | L19: =F19+H19+J19 -> 0
A20: 고소작업차 | B20: 2 ton | C20: 대 | D20: 0.0002598 | E20: 0 | F20: =ROUNDDOWN(D20*E20, 1) -> 0 | G20: 0 | H20: =ROUNDDOWN(D20*G20, 1) -> 0 | I20: =ROUNDDOWN(단가대비표!O48, 0) -> 41165000 | J20: =ROUNDDOWN(D20*I20, 1) -> 10694.6 | K20: =E20+G20+I20 -> 41165000 | L20: =F20+H20+J20 -> 10694.6 | M20: 공통8-5-3(2106) | O20: 03 | P20: 기계경비 | Q20: 1
A21: 소 계 | F21: =SUMIF(Q19:Q20, "1", F19:F20) -> 0 | H21: =SUMIF(Q19:Q20, "1", H19:H20) -> 0 | J21: =SUMIF(Q19:Q20, "1", J19:J20) -> 10694.6 | K21: =E21+G21+I21 -> 0 | L21: =F21+H21+J21 -> 10694.6
A22: [재료비] | F22: =ROUNDDOWN(D22*E22, 1) -> 0 | H22: =ROUNDDOWN(D22*G22, 1) -> 0 | J22: =ROUNDDOWN(D22*I22, 1) -> 0 | K22: =E22+G22+I22 -> 0 | L22: =F22+H22+J22 -> 0
A23: 경유 | B23: 저유황 | C23: L | D23: 2.9 | E23: =ROUNDDOWN(단가대비표!O8, 0) -> 1657 | F23: =ROUNDDOWN(D23*E23, 1) -> 4805.3 | G23: 0 | H23: =ROUNDDOWN(D23*G23, 1) -> 0 | I23: 0 | J23: =ROUNDDOWN(D23*I23, 1) -> 0 | K23: =E23+G23+I23 -> 1657 | L23: =F23+H23+J23 -> 4805.3 | O23: 01 | P23: 기계경비 | Q23: 1
A24: 잡품 | B24: ="주연료비의 " & N24*100 & "%" -> 주연료비의 20% | C24: 식 | D24: 1 | E24: =SUMIF(O19:O28, "01", F19:F28) -> 4805.3 | F24: =ROUNDDOWN((E24)*N24, 1) -> 961 | G24: 0 | H24: 0 | I24: 0 | J24: 0 | K24: =E24+G24+I24 -> 4805.3 | L24: =F24+H24+J24 -> 961 | M24: 재료비->재료비 | N24: 0.2 | P24: 기계경비 | Q24: 1 | R24: 20 | S24: A0100000000 | T24: 재료비
A25: 소 계 | F25: =SUMIF(Q22:Q24, "1", F22:F24) -> 5766.3 | H25: =SUMIF(Q22:Q24, "1", H22:H24) -> 0 | J25: =SUMIF(Q22:Q24, "1", J22:J24) -> 0 | K25: =E25+G25+I25 -> 0 | L25: =F25+H25+J25 -> 5766.3
A26: [노무비] | F26: =ROUNDDOWN(D26*E26, 1) -> 0 | H26: =ROUNDDOWN(D26*G26, 1) -> 0 | J26: =ROUNDDOWN(D26*I26, 1) -> 0 | K26: =E26+G26+I26 -> 0 | L26: =F26+H26+J26 -> 0
A27: 화물차운전사 | B27: 일반공사 직종 | C27: 인 | D27: 0.2083333 | E27: 0 | F27: =ROUNDDOWN(D27*E27, 1) -> 0 | G27: =ROUNDDOWN(단가대비표!O46, 0) -> 238936 | H27: =ROUNDDOWN(D27*G27, 1) -> 49778.3 | I27: 0 | J27: =ROUNDDOWN(D27*I27, 1) -> 0 | K27: =E27+G27+I27 -> 238936 | L27: =F27+H27+J27 -> 49778.3 | M27: 운전사(운반차) | O27: 02 | P27: 기계경비 | Q27: 1
A28: 소 계 | F28: =SUMIF(Q26:Q27, "1", F26:F27) -> 0 | H28: =SUMIF(Q26:Q27, "1", H26:H27) -> 49778.3 | J28: =SUMIF(Q26:Q27, "1", J26:J27) -> 0 | K28: =E28+G28+I28 -> 0 | L28: =F28+H28+J28 -> 49778.3
A29: 합 계 | F29: =ROUNDDOWN(SUMIF(Q19:Q28, "1", F19:F28), 0) -> 5766 | H29: =ROUNDDOWN(SUMIF(Q19:Q28, "1", H19:H28), 0) -> 49778 | J29: =ROUNDDOWN(SUMIF(Q19:Q28, "1", J19:J28), 0) -> 10694 | L29: =F29+H29+J29 -> 66238
A31: [중기 3호] - [물탱크(살수차) 5500L HR] | M31: 공통8-4-8,8-3-8(7204)
A32: [경 비] | F32: =ROUNDDOWN(D32*E32, 1) -> 0 | H32: =ROUNDDOWN(D32*G32, 1) -> 0 | J32: =ROUNDDOWN(D32*I32, 1) -> 0 | K32: =E32+G32+I32 -> 0 | L32: =F32+H32+J32 -> 0
A33: 물탱크(살수차) | B33: 5500 L | C33: 대 | D33: 0.0002113 | E33: 0 | F33: =ROUNDDOWN(D33*E33, 1) -> 0 | G33: 0 | H33: =ROUNDDOWN(D33*G33, 1) -> 0 | I33: =ROUNDDOWN(단가대비표!O54, 0) -> 47263000 | J33: =ROUNDDOWN(D33*I33, 1) -> 9986.6 | K33: =E33+G33+I33 -> 47263000 | L33: =F33+H33+J33 -> 9986.6 | M33: 공통8-5-8(7204) | O33: 03 | P33: 기계경비 | Q33: 1
A34: 소 계 | F34: =SUMIF(Q32:Q33, "1", F32:F33) -> 0 | H34: =SUMIF(Q32:Q33, "1", H32:H33) -> 0 | J34: =SUMIF(Q32:Q33, "1", J32:J33) -> 9986.6 | K34: =E34+G34+I34 -> 0 | L34: =F34+H34+J34 -> 9986.6
A35: [재료비] | F35: =ROUNDDOWN(D35*E35, 1) -> 0 | H35: =ROUNDDOWN(D35*G35, 1) -> 0 | J35: =ROUNDDOWN(D35*I35, 1) -> 0 | K35: =E35+G35+I35 -> 0 | L35: =F35+H35+J35 -> 0
A36: 경유 | B36: 저유황 | C36: L | D36: 9.3 | E36: =ROUNDDOWN(단가대비표!O8, 0) -> 1657 | F36: =ROUNDDOWN(D36*E36, 1) -> 15410.1 | G36: 0 | H36: =ROUNDDOWN(D36*G36, 1) -> 0 | I36: 0 | J36: =ROUNDDOWN(D36*I36, 1) -> 0 | K36: =E36+G36+I36 -> 1657 | L36: =F36+H36+J36 -> 15410.1 | O36: 01 | P36: 기계경비 | Q36: 1
A37: 잡품 | B37: ="주연료비의 " & N37*100 & "%" -> 주연료비의 30% | C37: 식 | D37: 1 | E37: =SUMIF(O32:O41, "01", F32:F41) -> 15410.1 | F37: =ROUNDDOWN((E37)*N37, 1) -> 4623 | G37: 0 | H37: 0 | I37: 0 | J37: 0 | K37: =E37+G37+I37 -> 15410.1 | L37: =F37+H37+J37 -> 4623 | M37: 재료비->재료비 | N37: 0.3 | P37: 기계경비 | Q37: 1 | R37: 20 | S37: A0100000000 | T37: 재료비
A38: 소 계 | F38: =SUMIF(Q35:Q37, "1", F35:F37) -> 20033.1 | H38: =SUMIF(Q35:Q37, "1", H35:H37) -> 0 | J38: =SUMIF(Q35:Q37, "1", J35:J37) -> 0 | K38: =E38+G38+I38 -> 0 | L38: =F38+H38+J38 -> 20033.1
A39: [노무비] | F39: =ROUNDDOWN(D39*E39, 1) -> 0 | H39: =ROUNDDOWN(D39*G39, 1) -> 0 | J39: =ROUNDDOWN(D39*I39, 1) -> 0 | K39: =E39+G39+I39 -> 0 | L39: =F39+H39+J39 -> 0
A40: 화물차운전사 | B40: 일반공사 직종 | C40: 인 | D40: 0.2083333 | E40: 0 | F40: =ROUNDDOWN(D40*E40, 1) -> 0 | G40: =ROUNDDOWN(단가대비표!O46, 0) -> 238936 | H40: =ROUNDDOWN(D40*G40, 1) -> 49778.3 | I40: 0 | J40: =ROUNDDOWN(D40*I40, 1) -> 0 | K40: =E40+G40+I40 -> 238936 | L40: =F40+H40+J40 -> 49778.3 | M40: 운전사(운반차) | O40: 02 | P40: 기계경비 | Q40: 1
A41: 소 계 | F41: =SUMIF(Q39:Q40, "1", F39:F40) -> 0 | H41: =SUMIF(Q39:Q40, "1", H39:H40) -> 49778.3 | J41: =SUMIF(Q39:Q40, "1", J39:J40) -> 0 | K41: =E41+G41+I41 -> 0 | L41: =F41+H41+J41 -> 49778.3
A42: 합 계 | F42: =ROUNDDOWN(SUMIF(Q32:Q41, "1", F32:F41), 0) -> 20033 | H42: =ROUNDDOWN(SUMIF(Q32:Q41, "1", H32:H41), 0) -> 49778 | J42: =ROUNDDOWN(SUMIF(Q32:Q41, "1", J32:J41), 0) -> 9986 | L42: =F42+H42+J42 -> 79797
A44: [중기 4호] - [진동롤러(핸드가이드식) 0.7ton HR] | M44: 공통8-4-2,8-3-2(1305)
A45: [경 비] | F45: =ROUNDDOWN(D45*E45, 1) -> 0 | H45: =ROUNDDOWN(D45*G45, 1) -> 0 | J45: =ROUNDDOWN(D45*I45, 1) -> 0 | K45: =E45+G45+I45 -> 0 | L45: =F45+H45+J45 -> 0
A46: 진동롤러 (핸드가이드식) | B46: 0.7 톤 | C46: 대 | D46: 0.0002825 | E46: 0 | F46: =ROUNDDOWN(D46*E46, 1) -> 0 | G46: 0 | H46: =ROUNDDOWN(D46*G46, 1) -> 0 | I46: =ROUNDDOWN(단가대비표!O55, 0) -> 6966000 | J46: =ROUNDDOWN(D46*I46, 1) -> 1967.8 | K46: =E46+G46+I46 -> 6966000 | L46: =F46+H46+J46 -> 1967.8 | M46: 공통8-5-2(1305) | O46: 03 | P46: 기계경비 | Q46: 1
A47: 소 계 | F47: =SUMIF(Q45:Q46, "1", F45:F46) -> 0 | H47: =SUMIF(Q45:Q46, "1", H45:H46) -> 0 | J47: =SUMIF(Q45:Q46, "1", J45:J46) -> 1967.8 | K47: =E47+G47+I47 -> 0 | L47: =F47+H47+J47 -> 1967.8
A48: [재료비] | F48: =ROUNDDOWN(D48*E48, 1) -> 0 | H48: =ROUNDDOWN(D48*G48, 1) -> 0 | J48: =ROUNDDOWN(D48*I48, 1) -> 0 | K48: =E48+G48+I48 -> 0 | L48: =F48+H48+J48 -> 0
A49: 경유 | B49: 저유황 | C49: L | D49: 2.2 | E49: =ROUNDDOWN(단가대비표!O8, 0) -> 1657 | F49: =ROUNDDOWN(D49*E49, 1) -> 3645.4 | G49: 0 | H49: =ROUNDDOWN(D49*G49, 1) -> 0 | I49: 0 | J49: =ROUNDDOWN(D49*I49, 1) -> 0 | K49: =E49+G49+I49 -> 1657 | L49: =F49+H49+J49 -> 3645.4 | O49: 01 | P49: 기계경비 | Q49: 1
A50: 잡품 | B50: ="주연료비의 " & N50*100 & "%" -> 주연료비의 13% | C50: 식 | D50: 1 | E50: =SUMIF(O45:O54, "01", F45:F54) -> 3645.4 | F50: =ROUNDDOWN((E50)*N50, 1) -> 473.9 | G50: 0 | H50: 0 | I50: 0 | J50: 0 | K50: =E50+G50+I50 -> 3645.4 | L50: =F50+H50+J50 -> 473.9 | M50: 재료비->재료비 | N50: 0.13 | P50: 기계경비 | Q50: 1 | R50: 20 | S50: A0100000000 | T50: 재료비
A51: 소 계 | F51: =SUMIF(Q48:Q50, "1", F48:F50) -> 4119.3 | H51: =SUMIF(Q48:Q50, "1", H48:H50) -> 0 | J51: =SUMIF(Q48:Q50, "1", J48:J50) -> 0 | K51: =E51+G51+I51 -> 0 | L51: =F51+H51+J51 -> 4119.3
A52: [노무비] | F52: =ROUNDDOWN(D52*E52, 1) -> 0 | H52: =ROUNDDOWN(D52*G52, 1) -> 0 | J52: =ROUNDDOWN(D52*I52, 1) -> 0 | K52: =E52+G52+I52 -> 0 | L52: =F52+H52+J52 -> 0
A53: 일반기계운전사 | B53: 일반공사 직종 | C53: 인 | D53: 0.2083333 | E53: 0 | F53: =ROUNDDOWN(D53*E53, 1) -> 0 | G53: =ROUNDDOWN(단가대비표!O38, 0) -> 173995 | H53: =ROUNDDOWN(D53*G53, 1) -> 36248.9 | I53: 0 | J53: =ROUNDDOWN(D53*I53, 1) -> 0 | K53: =E53+G53+I53 -> 173995 | L53: =F53+H53+J53 -> 36248.9 | M53: 운전사(기계) | O53: 02 | P53: 기계경비 | Q53: 1
A54: 소 계 | F54: =SUMIF(Q52:Q53, "1", F52:F53) -> 0 | H54: =SUMIF(Q52:Q53, "1", H52:H53) -> 36248.9 | J54: =SUMIF(Q52:Q53, "1", J52:J53) -> 0 | K54: =E54+G54+I54 -> 0 | L54: =F54+H54+J54 -> 36248.9
A55: 합 계 | F55: =ROUNDDOWN(SUMIF(Q45:Q54, "1", F45:F54), 0) -> 4119 | H55: =ROUNDDOWN(SUMIF(Q45:Q54, "1", H45:H54), 0) -> 36248 | J55: =ROUNDDOWN(SUMIF(Q45:Q54, "1", J45:J54), 0) -> 1967 | L55: =F55+H55+J55 -> 42334
A57: [중기 5호] - [플레이트 콤팩터 1.5ton HR] | M57: 공통8-4-2,8-3-2(1730)
A58: [경 비] | F58: =ROUNDDOWN(D58*E58, 1) -> 0 | H58: =ROUNDDOWN(D58*G58, 1) -> 0 | J58: =ROUNDDOWN(D58*I58, 1) -> 0 | K58: =E58+G58+I58 -> 0 | L58: =F58+H58+J58 -> 0
A59: 플레이트 콤팩터 | B59: 1.5 ton | C59: 대 | D59: 0.0003708 | E59: 0 | F59: =ROUNDDOWN(D59*E59, 1) -> 0 | G59: 0 | H59: =ROUNDDOWN(D59*G59, 1) -> 0 | I59: =ROUNDDOWN(단가대비표!O58, 0) -> 1673000 | J59: =ROUNDDOWN(D59*I59, 1) -> 620.3 | K59: =E59+G59+I59 -> 1673000 | L59: =F59+H59+J59 -> 620.3 | M59: 공통8-5-2(1730) | O59: 03 | P59: 기계경비 | Q59: 1
A60: 소 계 | F60: =SUMIF(Q58:Q59, "1", F58:F59) -> 0 | H60: =SUMIF(Q58:Q59, "1", H58:H59) -> 0 | J60: =SUMIF(Q58:Q59, "1", J58:J59) -> 620.3 | K60: =E60+G60+I60 -> 0 | L60: =F60+H60+J60 -> 620.3
A61: [재료비] | F61: =ROUNDDOWN(D61*E61, 1) -> 0 | H61: =ROUNDDOWN(D61*G61, 1) -> 0 | J61: =ROUNDDOWN(D61*I61, 1) -> 0 | K61: =E61+G61+I61 -> 0 | L61: =F61+H61+J61 -> 0
A62: 공업용휘발유 | B62: 무연 | C62: L | D62: 1 | E62: =ROUNDDOWN(단가대비표!O9, 0) -> 1676 | F62: =ROUNDDOWN(D62*E62, 1) -> 1676 | G62: 0 | H62: =ROUNDDOWN(D62*G62, 1) -> 0 | I62: 0 | J62: =ROUNDDOWN(D62*I62, 1) -> 0 | K62: =E62+G62+I62 -> 1676 | L62: =F62+H62+J62 -> 1676 | O62: 01 | P62: 기계경비 | Q62: 1
A63: 잡품 | B63: ="주연료비의 " & N63*100 & "%" -> 주연료비의 20% | C63: 식 | D63: 1 | E63: =SUMIF(O58:O67, "01", F58:F67) -> 1676 | F63: =ROUNDDOWN((E63)*N63, 1) -> 335.2 | G63: 0 | H63: 0 | I63: 0 | J63: 0 | K63: =E63+G63+I63 -> 1676 | L63: =F63+H63+J63 -> 335.2 | M63: 재료비->재료비 | N63: 0.2 | P63: 기계경비 | Q63: 1 | R63: 20 | S63: A0100000000 | T63: 재료비
A64: 소 계 | F64: =SUMIF(Q61:Q63, "1", F61:F63) -> 2011.2 | H64: =SUMIF(Q61:Q63, "1", H61:H63) -> 0 | J64: =SUMIF(Q61:Q63, "1", J61:J63) -> 0 | K64: =E64+G64+I64 -> 0 | L64: =F64+H64+J64 -> 2011.2
A65: [노무비] | F65: =ROUNDDOWN(D65*E65, 1) -> 0 | H65: =ROUNDDOWN(D65*G65, 1) -> 0 | J65: =ROUNDDOWN(D65*I65, 1) -> 0 | K65: =E65+G65+I65 -> 0 | L65: =F65+H65+J65 -> 0
A66: 일반기계운전사 | B66: 일반공사 직종 | C66: 인 | D66: 0.2083333 | E66: 0 | F66: =ROUNDDOWN(D66*E66, 1) -> 0 | G66: =ROUNDDOWN(단가대비표!O38, 0) -> 173995 | H66: =ROUNDDOWN(D66*G66, 1) -> 36248.9 | I66: 0 | J66: =ROUNDDOWN(D66*I66, 1) -> 0 | K66: =E66+G66+I66 -> 173995 | L66: =F66+H66+J66 -> 36248.9 | M66: 운전사(기계) | O66: 02 | P66: 기계경비 | Q66: 1
A67: 소 계 | F67: =SUMIF(Q65:Q66, "1", F65:F66) -> 0 | H67: =SUMIF(Q65:Q66, "1", H65:H66) -> 36248.9 | J67: =SUMIF(Q65:Q66, "1", J65:J66) -> 0 | K67: =E67+G67+I67 -> 0 | L67: =F67+H67+J67 -> 36248.9
A68: 합 계 | F68: =ROUNDDOWN(SUMIF(Q58:Q67, "1", F58:F67), 0) -> 2011 | H68: =ROUNDDOWN(SUMIF(Q58:Q67, "1", H58:H67), 0) -> 36248 | J68: =ROUNDDOWN(SUMIF(Q58:Q67, "1", J58:J67), 0) -> 620 | L68: =F68+H68+J68 -> 38879
A70: [중기 6호] - [로더(타이어) 0.57 ㎥ HR] | M70: 공통8-4-1,8-3-1(0302)
A71: [경 비] | F71: =ROUNDDOWN(D71*E71, 1) -> 0 | H71: =ROUNDDOWN(D71*G71, 1) -> 0 | J71: =ROUNDDOWN(D71*I71, 1) -> 0 | K71: =E71+G71+I71 -> 0 | L71: =F71+H71+J71 -> 0
A72: 로더(타이어) | B72: 0.57 ㎥ | C72: 대 | D72: 0.0002085 | E72: 0 | F72: =ROUNDDOWN(D72*E72, 1) -> 0 | G72: 0 | H72: =ROUNDDOWN(D72*G72, 1) -> 0 | I72: =ROUNDDOWN(단가대비표!O53, 0) -> 35999000 | J72: =ROUNDDOWN(D72*I72, 1) -> 7505.7 | K72: =E72+G72+I72 -> 35999000 | L72: =F72+H72+J72 -> 7505.7 | M72: 공통8-5-1(0302) | O72: 03 | P72: 기계경비 | Q72: 1
A73: 소 계 | F73: =SUMIF(Q71:Q72, "1", F71:F72) -> 0 | H73: =SUMIF(Q71:Q72, "1", H71:H72) -> 0 | J73: =SUMIF(Q71:Q72, "1", J71:J72) -> 7505.7 | K73: =E73+G73+I73 -> 0 | L73: =F73+H73+J73 -> 7505.7
A74: [재료비] | F74: =ROUNDDOWN(D74*E74, 1) -> 0 | H74: =ROUNDDOWN(D74*G74, 1) -> 0 | J74: =ROUNDDOWN(D74*I74, 1) -> 0 | K74: =E74+G74+I74 -> 0 | L74: =F74+H74+J74 -> 0
A75: 경유 | B75: 저유황 | C75: L | D75: 3.5 | E75: =ROUNDDOWN(단가대비표!O8, 0) -> 1657 | F75: =ROUNDDOWN(D75*E75, 1) -> 5799.5 | G75: 0 | H75: =ROUNDDOWN(D75*G75, 1) -> 0 | I75: 0 | J75: =ROUNDDOWN(D75*I75, 1) -> 0 | K75: =E75+G75+I75 -> 1657 | L75: =F75+H75+J75 -> 5799.5 | O75: 01 | P75: 기계경비 | Q75: 1
A76: 잡품 | B76: ="주연료비의 " & N76*100 & "%" -> 주연료비의 44% | C76: 식 | D76: 1 | E76: =SUMIF(O71:O80, "01", F71:F80) -> 5799.5 | F76: =ROUNDDOWN((E76)*N76, 1) -> 2551.7 | G76: 0 | H76: 0 | I76: 0 | J76: 0 | K76: =E76+G76+I76 -> 5799.5 | L76: =F76+H76+J76 -> 2551.7 | M76: 재료비->재료비 | N76: 0.44 | P76: 기계경비 | Q76: 1 | R76: 20 | S76: A0100000000 | T76: 재료비
A77: 소 계 | F77: =SUMIF(Q74:Q76, "1", F74:F76) -> 8351.2 | H77: =SUMIF(Q74:Q76, "1", H74:H76) -> 0 | J77: =SUMIF(Q74:Q76, "1", J74:J76) -> 0 | K77: =E77+G77+I77 -> 0 | L77: =F77+H77+J77 -> 8351.2
A78: [노무비] | F78: =ROUNDDOWN(D78*E78, 1) -> 0 | H78: =ROUNDDOWN(D78*G78, 1) -> 0 | J78: =ROUNDDOWN(D78*I78, 1) -> 0 | K78: =E78+G78+I78 -> 0 | L78: =F78+H78+J78 -> 0
A79: 건설기계운전사 | B79: 일반공사 직종 | C79: 인 | D79: 0.2083333 | E79: 0 | F79: =ROUNDDOWN(D79*E79, 1) -> 0 | G79: =ROUNDDOWN(단가대비표!O30, 0) -> 283297 | H79: =ROUNDDOWN(D79*G79, 1) -> 59020.1 | I79: 0 | J79: =ROUNDDOWN(D79*I79, 1) -> 0 | K79: =E79+G79+I79 -> 283297 | L79: =F79+H79+J79 -> 59020.1 | M79: 건설기계운전기사 | O79: 02 | P79: 기계경비 | Q79: 1
A80: 소 계 | F80: =SUMIF(Q78:Q79, "1", F78:F79) -> 0 | H80: =SUMIF(Q78:Q79, "1", H78:H79) -> 59020.1 | J80: =SUMIF(Q78:Q79, "1", J78:J79) -> 0 | K80: =E80+G80+I80 -> 0 | L80: =F80+H80+J80 -> 59020.1
A81: 합 계 | F81: =ROUNDDOWN(SUMIF(Q71:Q80, "1", F71:F80), 0) -> 8351 | H81: =ROUNDDOWN(SUMIF(Q71:Q80, "1", H71:H80), 0) -> 59020 | J81: =ROUNDDOWN(SUMIF(Q71:Q80, "1", J71:J80), 0) -> 7505 | L81: =F81+H81+J81 -> 74876
A83: [중기 7호] - [동력분무기 4.85kw HR] | M83: 공통8-4-8,8-3-8(7210)
A84: [경 비] | F84: =ROUNDDOWN(D84*E84, 1) -> 0 | H84: =ROUNDDOWN(D84*G84, 1) -> 0 | J84: =ROUNDDOWN(D84*I84, 1) -> 0 | K84: =E84+G84+I84 -> 0 | L84: =F84+H84+J84 -> 0
A85: 동력분무기 | B85: 4.85kw | C85: 대 | D85: 0.0002799 | E85: 0 | F85: =ROUNDDOWN(D85*E85, 1) -> 0 | G85: 0 | H85: =ROUNDDOWN(D85*G85, 1) -> 0 | I85: =ROUNDDOWN(단가대비표!O52, 0) -> 922000 | J85: =ROUNDDOWN(D85*I85, 1) -> 258 | K85: =E85+G85+I85 -> 922000 | L85: =F85+H85+J85 -> 258 | M85: 공통8-5-8(7210) | O85: 03 | P85: 기계경비 | Q85: 1
A86: 소 계 | F86: =SUMIF(Q84:Q85, "1", F84:F85) -> 0 | H86: =SUMIF(Q84:Q85, "1", H84:H85) -> 0 | J86: =SUMIF(Q84:Q85, "1", J84:J85) -> 258 | K86: =E86+G86+I86 -> 0 | L86: =F86+H86+J86 -> 258
A87: [재료비] | F87: =ROUNDDOWN(D87*E87, 1) -> 0 | H87: =ROUNDDOWN(D87*G87, 1) -> 0 | J87: =ROUNDDOWN(D87*I87, 1) -> 0 | K87: =E87+G87+I87 -> 0 | L87: =F87+H87+J87 -> 0
A88: 공업용휘발유 | B88: 무연 | C88: L | D88: 1.3 | E88: =ROUNDDOWN(단가대비표!O9, 0) -> 1676 | F88: =ROUNDDOWN(D88*E88, 1) -> 2178.8 | G88: 0 | H88: =ROUNDDOWN(D88*G88, 1) -> 0 | I88: 0 | J88: =ROUNDDOWN(D88*I88, 1) -> 0 | K88: =E88+G88+I88 -> 1676 | L88: =F88+H88+J88 -> 2178.8 | O88: 01 | P88: 기계경비 | Q88: 1
A89: 잡품 | B89: ="주연료비의 " & N89*100 & "%" -> 주연료비의 20% | C89: 식 | D89: 1 | E89: =SUMIF(O84:O90, "01", F84:F90) -> 2178.8 | F89: =ROUNDDOWN((E89)*N89, 1) -> 435.7 | G89: 0 | H89: 0 | I89: 0 | J89: 0 | K89: =E89+G89+I89 -> 2178.8 | L89: =F89+H89+J89 -> 435.7 | M89: 재료비->재료비 | N89: 0.2 | P89: 기계경비 | Q89: 1 | R89: 20 | S89: A0100000000 | T89: 재료비
A90: 소 계 | F90: =SUMIF(Q87:Q89, "1", F87:F89) -> 2614.5 | H90: =SUMIF(Q87:Q89, "1", H87:H89) -> 0 | J90: =SUMIF(Q87:Q89, "1", J87:J89) -> 0 | K90: =E90+G90+I90 -> 0 | L90: =F90+H90+J90 -> 2614.5
A91: 합 계 | F91: =ROUNDDOWN(SUMIF(Q84:Q90, "1", F84:F90), 0) -> 2614 | H91: =ROUNDDOWN(SUMIF(Q84:Q90, "1", H84:H90), 0) -> 0 | J91: =ROUNDDOWN(SUMIF(Q84:Q90, "1", J84:J90), 0) -> 258 | L91: =F91+H91+J91 -> 2872
A93: [중기 8호] - [커터(콘크리트 및 아스팔트용) 320∼400mm HR] | M93: 공통8-4-5,8-3-5(4430)
A94: [경 비] | F94: =ROUNDDOWN(D94*E94, 1) -> 0 | H94: =ROUNDDOWN(D94*G94, 1) -> 0 | J94: =ROUNDDOWN(D94*I94, 1) -> 0 | K94: =E94+G94+I94 -> 0 | L94: =F94+H94+J94 -> 0
A95: 커터(콘크리트및아스팔트용) | B95: 320-400 mm | C95: 대 | D95: 0.0006354 | E95: 0 | F95: =ROUNDDOWN(D95*E95, 1) -> 0 | G95: 0 | H95: =ROUNDDOWN(D95*G95, 1) -> 0 | I95: =ROUNDDOWN(단가대비표!O56, 0) -> 3249000 | J95: =ROUNDDOWN(D95*I95, 1) -> 2064.4 | K95: =E95+G95+I95 -> 3249000 | L95: =F95+H95+J95 -> 2064.4 | M95: 공통8-5-5(4430) | O95: 03 | P95: 기계경비 | Q95: 1
A96: 소 계 | F96: =SUMIF(Q94:Q95, "1", F94:F95) -> 0 | H96: =SUMIF(Q94:Q95, "1", H94:H95) -> 0 | J96: =SUMIF(Q94:Q95, "1", J94:J95) -> 2064.4 | K96: =E96+G96+I96 -> 0 | L96: =F96+H96+J96 -> 2064.4
A97: [재료비] | F97: =ROUNDDOWN(D97*E97, 1) -> 0 | H97: =ROUNDDOWN(D97*G97, 1) -> 0 | J97: =ROUNDDOWN(D97*I97, 1) -> 0 | K97: =E97+G97+I97 -> 0 | L97: =F97+H97+J97 -> 0
A98: 공업용휘발유 | B98: 무연 | C98: L | D98: 5.6 | E98: =ROUNDDOWN(단가대비표!O9, 0) -> 1676 | F98: =ROUNDDOWN(D98*E98, 1) -> 9385.6 | G98: 0 | H98: =ROUNDDOWN(D98*G98, 1) -> 0 | I98: 0 | J98: =ROUNDDOWN(D98*I98, 1) -> 0 | K98: =E98+G98+I98 -> 1676 | L98: =F98+H98+J98 -> 9385.6 | O98: 01 | P98: 기계경비 | Q98: 1
A99: 잡품 | B99: ="주연료비의 " & N99*100 & "%" -> 주연료비의 20% | C99: 식 | D99: 1 | E99: =SUMIF(O94:O103, "01", F94:F103) -> 9385.6 | F99: =ROUNDDOWN((E99)*N99, 1) -> 1877.1 | G99: 0 | H99: 0 | I99: 0 | J99: 0 | K99: =E99+G99+I99 -> 9385.6 | L99: =F99+H99+J99 -> 1877.1 | M99: 재료비->재료비 | N99: 0.2 | P99: 기계경비 | Q99: 1 | R99: 20 | S99: A0100000000 | T99: 재료비
A100: 소 계 | F100: =SUMIF(Q97:Q99, "1", F97:F99) -> 11262.7 | H100: =SUMIF(Q97:Q99, "1", H97:H99) -> 0 | J100: =SUMIF(Q97:Q99, "1", J97:J99) -> 0 | K100: =E100+G100+I100 -> 0 | L100: =F100+H100+J100 -> 11262.7
A101: [노무비] | F101: =ROUNDDOWN(D101*E101, 1) -> 0 | H101: =ROUNDDOWN(D101*G101, 1) -> 0 | J101: =ROUNDDOWN(D101*I101, 1) -> 0 | K101: =E101+G101+I101 -> 0 | L101: =F101+H101+J101 -> 0
A102: 일반기계운전사 | B102: 일반공사 직종 | C102: 인 | D102: 0.2083333 | E102: 0 | F102: =ROUNDDOWN(D102*E102, 1) -> 0 | G102: =ROUNDDOWN(단가대비표!O38, 0) -> 173995 | H102: =ROUNDDOWN(D102*G102, 1) -> 36248.9 | I102: 0 | J102: =ROUNDDOWN(D102*I102, 1) -> 0 | K102: =E102+G102+I102 -> 173995 | L102: =F102+H102+J102 -> 36248.9 | M102: 운전사(기계) | O102: 02 | P102: 기계경비 | Q102: 1
A103: 소 계 | F103: =SUMIF(Q101:Q102, "1", F101:F102) -> 0 | H103: =SUMIF(Q101:Q102, "1", H101:H102) -> 36248.9 | J103: =SUMIF(Q101:Q102, "1", J101:J102) -> 0 | K103: =E103+G103+I103 -> 0 | L103: =F103+H103+J103 -> 36248.9
A104: 합 계 | F104: =ROUNDDOWN(SUMIF(Q94:Q103, "1", F94:F103), 0) -> 11262 | H104: =ROUNDDOWN(SUMIF(Q94:Q103, "1", H94:H103), 0) -> 36248 | J104: =ROUNDDOWN(SUMIF(Q94:Q103, "1", J94:J103), 0) -> 2064 | L104: =F104+H104+J104 -> 49574
A106: [중기 9호] - [굴착기(무한궤도) 0.2㎥ HR] | M106: 공통8-4-1,8-3-1(0201)
A107: [경 비] | F107: =ROUNDDOWN(D107*E107, 1) -> 0 | H107: =ROUNDDOWN(D107*G107, 1) -> 0 | J107: =ROUNDDOWN(D107*I107, 1) -> 0 | K107: =E107+G107+I107 -> 0 | L107: =F107+H107+J107 -> 0
A108: 굴착기(유압식백호우) | B108: 0.2 ㎥ | C108: 대 | D108: 0.0002085 | E108: 0 | F108: =ROUNDDOWN(D108*E108, 1) -> 0 | G108: 0 | H108: =ROUNDDOWN(D108*G108, 1) -> 0 | I108: =ROUNDDOWN(단가대비표!O49, 0) -> 66538000 | J108: =ROUNDDOWN(D108*I108, 1) -> 13873.1 | K108: =E108+G108+I108 -> 66538000 | L108: =F108+H108+J108 -> 13873.1 | M108: 공통8-5-1(0201) | O108: 03 | P108: 기계경비 | Q108: 1
...

Sheet 일위공량산출서
A1: 일위대가 공량산출서
A2: 공사명 : 1.내역서_대관2펌프장 제어반이설공사
A3: 품명 | B3: 규격 | C3: 단위 | D3: 수량 | E3: 적용% | F3: 적 용 자재수량 | G3: 공량 | M3: 비고
D4: 자재원수량 | E4: 자재
D5: 품셈목록 | E5: 인부
A6: [일위 6호] - [파상형경질폴리에틸렌전선관 [3열동시1열당] 파상형경질폴리에틸렌전선관, 50mm m] | G6: 배전전공 | H6: 보통인부
G7: 414968 | H7: 172068
A8: 파상형경질폴리에틸렌전선관 [3열동시1열당] | B8: 50mm | C8: m | D8: 1 | E8: 1.03 | F8: =ROUNDDOWN(D8, 6) -> 1 | G8: 0.007X86.67% | H8: 0.018X86.67% | M8: ELP전선관
D9: 전기4-31 | E9: 0.8667 | G9: =D8*0.00607 -> 0.00607 | H9: =D8*0.0156 -> 0.0156 | Q9: 1
A10: 합 계 | G10: =SUMIF(Q8:Q9, "1", G8:G9) -> 0.00607 | H10: =SUMIF(Q8:Q9, "1", H8:H9) -> 0.0156
G11: =ROUND(G10, 4) -> 0.0061 | H11: =ROUND(H10, 4) -> 0.0156
A14: [일위 7호] - [2종금속제가요전선관 비닐피복, 30mm, 방수 m] | G14: 내선전공
G15: 273676
A16: 2종금속제가요전선관 | B16: 비닐피복, 30mm, 방수 | C16: m | D16: 1 | E16: 1.1 | F16: =ROUNDDOWN(D16, 6) -> 1 | G16: 0.087
D17: 전기5-1 | E17: 1 | G17: =D16*ROUND(E17*G16, 5) -> 0.087 | Q17: 1
A18: 합 계 | G18: =SUMIF(Q16:Q17, "1", G16:G17) -> 0.087
G19: =ROUND(G18, 4) -> 0.087
A22: [일위 8호] - [600V폴리에틸렌케이블 0.6/1kV, F-CV, 4C×4㎟ m] | G22: 저압케이블전공
G23: 304156
A24: 600V폴리에틸렌케이블 | B24: 0.6/1kV, F-CV, 4C×4㎟ | C24: m | D24: 1 | E24: 1.05 | F24: =ROUNDDOWN(D24, 6) -> 1 | G24: 0.029
D25: 전기5-13 | E25: 1 | G25: =D24*ROUND(E25*G24, 5) -> 0.029 | Q25: 1
A26: 합 계 | G26: =SUMIF(Q24:Q25, "1", G24:G25) -> 0.029
G27: =ROUND(G26, 4) -> 0.029
A30: [일위 9호] - [600V폴리에틸렌케이블 0.6/1kV, F-CV, 4C×2.5㎟ m] | G30: 저압케이블전공
G31: 304156
A32: 600V폴리에틸렌케이블 | B32: 0.6/1kV, F-CV, 4C×2.5㎟ | C32: m | D32: 1 | E32: 1.05 | F32: =ROUNDDOWN(D32, 6) -> 1 | G32: 0.026
D33: 전기5-13 | E33: 1 | G33: =D32*ROUND(E33*G32, 5) -> 0.026 | Q33: 1
A34: 합 계 | G34: =SUMIF(Q32:Q33, "1", G32:G33) -> 0.026
G35: =ROUND(G34, 4) -> 0.026
A38: [일위 11호] - [접지용비닐절연전선 F-GV, 4㎟ m] | G38: 내선전공
G39: 273676
A40: 접지용비닐절연전선 | B40: F-GV, 4㎟ | C40: m | D40: 1 | E40: 1.1 | F40: =ROUNDDOWN(D40, 6) -> 1 | G40: 0.006
D41: 전기3-38 | E41: 1 | G41: =D40*ROUND(E41*G40, 5) -> 0.006 | Q41: 1
A42: 합 계 | G42: =SUMIF(Q40:Q41, "1", G40:G41) -> 0.006
G43: =ROUND(G42, 4) -> 0.006
A46: [일위 13호] - [하이박스 300×400×160 EA] | G46: 내선전공
G47: 273676
A48: 하이박스 | B48: 300×400×160 | C48: EA | D48: 1 | E48: 1 | F48: =ROUNDDOWN(D48, 6) -> 1 | G48: 0.35
D49: 전기5-4 | E49: 1 | G49: =D48*ROUND(E49*G48, 5) -> 0.35 | Q49: 1
A50: 합 계 | G50: =SUMIF(Q48:Q49, "1", G48:G49) -> 0.35
G51: =ROUND(G50, 4) -> 0.35
A54: [일위 16호] - [배수펌프(오.배수용) 50mm 0.75KW 10m 대] | G54: 기계설비공 | H54: 보통인부
G55: 241698 | H55: 172068
A56: 오배수용펌프 | B56: 50mm 0.75KW 10m | C56: 대 | D56: 1 | E56: 1 | F56: =ROUNDDOWN(D56, 6) -> 1 | G56: 1.325 | H56: 0.471 | M56: 2극
D57: 설비4-1-2 | E57: 1 | G57: =D56*ROUND(E57*G56, 5) -> 1.325 | H57: =D56*ROUND(E57*H56, 5) -> 0.471 | Q57: 1
A58: 합 계 | G58: =SUMIF(Q56:Q57, "1", G56:G57) -> 1.325 | H58: =SUMIF(Q56:Q57, "1", H56:H57) -> 0.471
G59: =ROUND(G58, 2) -> 1.33 | H59: =ROUND(H58, 4) -> 0.471
A62: [일위 18호] - [분전반(스텐) 옥외이중방수, 300×500×250, 1.2T EA] | G62: 내선전공
G63: 273676
A64: 분전반(스텐) | B64: 옥외이중방수, 300×500×250, 1.2T | C64: EA | D64: 1 | E64: 1 | F64: =ROUNDDOWN(D64, 6) -> 1 | G64: 0.66
D65: 전기5-4 | E65: 1 | G65: =D64*ROUND(E65*G64, 5) -> 0.66 | Q65: 1
A66: 합 계 | G66: =SUMIF(Q64:Q65, "1", G64:G65) -> 0.66
G67: =ROUND(G66, 4) -> 0.66
A70: [일위 19호] - [배선용차단기 4P 460V 30AF, 표준형 개] | G70: 내선전공
G71: 273676
A72: 배선용차단기 | B72: 4P 460V 30AF, 표준형 | C72: 개 | D72: 1 | E72: 1 | F72: =ROUNDDOWN(D72, 6) -> 1 | G72: 0.702 | M72: (A)3~30
D73: 전기5-18 | E73: 1 | G73: =D72*ROUND(E73*G72, 5) -> 0.702 | Q73: 1
A74: 합 계 | G74: =SUMIF(Q72:Q73, "1", G72:G73) -> 0.702
G75: =ROUND(G74, 4) -> 0.702

Sheet 단가대비표
A1: 단 가 대 비 표
A2: 공사명 : 1.내역서_대관2펌프장 제어반이설공사
A3: 품 명 | B3: 규 격 | C3: 단위 | D3: 물가자료 | F3: 물가정보 | H3: 가격정보 | I3: 거래가격 | K3: 유통물가 | M3: 상반기 | N3: 조사단가 | O3: 적용단가 | P3: 비 고
D4: 단가 | E4: Page | F4: 단가 | G4: Page | H4: 단가 | I4: 단가 | J4: Page | K4: 단가 | L4: Page | M4: 단가 | N4: 단가 | Q4: 구분
A5: 2종금속제가요전선관 | B5: 비닐피복, 30mm, 방수 | C5: m | I5: 12900 | J5: 1025(2101) | K5: 12900 | L5: 860(2202) | O5: =MIN(D5,F5,H5,I5,K5,M5,N5) -> 12900
A6: 600V폴리에틸렌케이블 | B6: 0.6/1kV, F-CV, 4C×2.5㎟ | C6: m | D6: 4278 | E6: 1075 | F6: 3305 | G6: 1168 | H6: 2983 | I6: 3903 | J6: 993 | K6: 3397 | L6: 834 | O6: =MIN(D6,F6,H6,I6,K6,M6,N6) -> 2983
A7: 600V폴리에틸렌케이블 | B7: 0.6/1kV, F-CV, 4C×4㎟ | C7: m | D7: 6154 | E7: 1075 | F7: 4739 | G7: 1168 | H7: 4207 | I7: 5595 | J7: 993 | K7: 4873 | L7: 834 | O7: =MIN(D7,F7,H7,I7,K7,M7,N7) -> 4207
A8: 경유 | B8: 저유황 | C8: L | D8: 1800 | E8: 하권32 | H8: 1657 | I8: 1839 | J8: 1451 | K8: 1822 | L8: 1189 | O8: =MIN(D8,F8,H8,I8,K8,M8,N8) -> 1657
A9: 공업용휘발유 | B9: 무연 | C9: L | D9: 1836 | E9: 하권32 | F9: 1888 | G9: 1438 | H9: 1676 | I9: 1838 | J9: 1451 | K9: 1827 | L9: 1189 | O9: =MIN(D9,F9,H9,I9,K9,M9,N9) -> 1676
A10: 단자대 | B10: TB, 4P 30A | C10: 개 | F10: 1890 | G10: 1200 | K10: 1890 | L10: 856 | O10: =MIN(D10,F10,H10,I10,K10,M10,N10) -> 1890 | P10: 고정식
A11: 단자대 | B11: TB, 6P 15A | C11: 개 | F11: 1160 | G11: 1200 | K11: 1160 | L11: 856 | O11: =MIN(D11,F11,H11,I11,K11,M11,N11) -> 1160 | P11: 고정식
A12: 드라이모르타르 | B12: 조적용레미탈. 시멘트벽돌,블럭 조적용(40kg/포) | C12: 포 | I12: 5900 | J12: 104 | K12: 5900 | L12: 65 | O12: =MIN(D12,F12,H12,I12,K12,M12,N12) -> 5900
A13: 배선용차단기 | B13: 4P 460V 30AF, 표준형 | C13: 개 | D13: 40200 | E13: 1158 | F13: 63300 | G13: 1237 | K13: 65600 | L13: 895 | O13: =MIN(D13,F13,H13,I13,K13,M13,N13) -> 40200 | P13: (A)3~30
A14: 배수펌프(오.배수용) | B14: 50mm 0.75KW 10m | C14: 대 | F14: 1428000 | G14: 832 | K14: 1183000 | L14: 653 | O14: =MIN(D14,F14,H14,I14,K14,M14,N14) -> 1183000 | P14: 2극
A15: 보수용아스콘 | B15: 아스코아, 흑색 | C15: KG | D15: 450 | E15: 157(2303) | O15: =MIN(D15,F15,H15,I15,K15,M15,N15) -> 450
A16: 볼라드 | B16: STS, Φ165.3×1200×2t | C16: 개 | I16: 206000 | J16: 254 | O16: =MIN(D16,F16,H16,I16,K16,M16,N16) -> 206000 | P16: 매립식
A17: 분전반(스텐) | B17: 옥외이중방수, 300×500×250, 1.2T | C17: EA | I17: 309300 | J17: 1081 | K17: 309300 | L17: 932 | O17: =MIN(D17,F17,H17,I17,K17,M17,N17) -> 309300
A18: 블레이드 | B18: 도로용, 14"×3.2mm | C18: EA | F18: 169800 | G18: 1080 | I18: 210000 | J18: 1338 | K18: 169800 | L18: 1166 | O18: =MIN(D18,F18,H18,I18,K18,M18,N18) -> 169800
A19: 시설부담금 | B19: 공중공급, 3상전원 | C19: KW | N19: 133100 | O19: =MIN(D19,F19,H19,I19,K19,M19,N19) -> 133100
A20: 전동기제어반 | B20: 스텐제옥외형, W700XH2050 | C20: 면 | N20: 11059400 | O20: =MIN(D20,F20,H20,I20,K20,M20,N20) -> 11059400
A21: 접지봉 | B21: 14Φ×1000mm | C21: 개 | D21: 5780 | E21: 1198 | F21: 7000 | G21: 1270 | H21: 3381 | K21: 3900 | L21: 925 | O21: =MIN(D21,F21,H21,I21,K21,M21,N21) -> 3381
A22: 접지용비닐절연전선 | B22: F-GV, 4㎟ | C22: m | D22: 1854 | E22: 1075 | F22: 1595 | G22: 1165 | H22: 1157 | I22: 1641 | J22: 994 | K22: 1582 | L22: 833 | O22: =MIN(D22,F22,H22,I22,K22,M22,N22) -> 1157
A23: 접지용전선 | B23: GV 5.5㎟ | C23: M | O23: =MIN(D23,F23,H23,I23,K23,M23,N23) -> 0
A24: 제어케이블 | B24: 0.6/1kV, TFR-CVV, 6C×2.5㎟ | C24: m | D24: 5707 | E24: 1076 | H24: 3913 | I24: 4943 | J24: 995 | K24: 5728 | L24: 834 | O24: =MIN(D24,F24,H24,I24,K24,M24,N24) -> 3913 | P24: F-CVV
A25: 철근콘크리트용봉강 | B25: 이형봉강(SD300), D13 | C25: Kg | D25: 985 | E25: 2 | F25: 998 | G25: 2 | I25: 970 | J25: 49 | O25: =MIN(D25,F25,H25,I25,K25,M25,N25) -> 970
A26: 철판 | B26: 3.2T | C26: KG | F26: 1056 | G26: 14 | K26: 1112 | L26: 26 | O26: =MIN(D26,F26,H26,I26,K26,M26,N26) -> 1056 | P26: 열연(박판)
A27: 철합금설 | B27: 스텐레스.작업설부산물 | C27: kg | D27: -1850 | E27: 하권47 | H27: -1662 | I27: -1900 | J27: 1472 | K27: -1900 | L27: 1198 | O27: =MIN(D27,F27,H27,I27,K27,M27,N27) -> -1900 | P27: 매입가
A28: 파상형경질폴리에틸렌전선관 | B28: 50mm | C28: m | D28: 730 | E28: 1106 | F28: 860 | G28: 1204 | H28: 680 | I28: 1143 | J28: 1025 | K28: 860 | L28: 861 | O28: =MIN(D28,F28,H28,I28,K28,M28,N28) -> 680 | P28: ELP전선관
A29: 하이박스 | B29: 300×400×160 | C29: EA | I29: 20125 | J29: 1028 | O29: =MIN(D29,F29,H29,I29,K29,M29,N29) -> 20125
A30: 건설기계운전사 | B30: 일반공사 직종 | C30: 인 | M30: 283297 | O30: =M30 -> 283297 | P30: 건설기계운전기사
A31: 기계설비공 | B31: 일반공사 직종 | C31: 인 | M31: 241698 | O31: =M31 -> 241698 | P31: 기계설치공
A32: 내선전공 | B32: 일반공사 직종 | C32: 인 | M32: 273676 | O32: =M32 -> 273676
A33: 배전전공 | B33: 일반공사 직종 | C33: 인 | M33: 414968 | O33: =M33 -> 414968
A34: 변전전공 | B34: 기타 직종 | C34: 인 | M34: 485075 | O34: =M34 -> 485075
A35: 보통인부 | B35: 일반공사 직종 | C35: 인 | M35: 172068 | O35: =M35 -> 172068
A36: 비계공 | B36: 일반공사 직종 | C36: 인 | M36: 281939 | O36: =M36 -> 281939
A37: 용접공 | B37: 일반공사 직종 | C37: 인 | M37: 282536 | O37: =M37 -> 282536 | P37: 용접공(일반)
A38: 일반기계운전사 | B38: 일반공사 직종 | C38: 인 | M38: 173995 | O38: =M38 -> 173995 | P38: 운전사(기계)
A39: 저압케이블전공 | B39: 일반공사 직종 | C39: 인 | M39: 304156 | O39: =M39 -> 304156
A40: 착암공 | B40: 일반공사 직종 | C40: 인 | M40: 222306 | O40: =M40 -> 222306
A41: 철공 | B41: 일반공사 직종 | C41: 인 | M41: 239808 | O41: =M41 -> 239808
A42: 콘크리트공 | B42: 일반공사 직종 | C42: 인 | M42: 273540 | O42: =M42 -> 273540
A43: 통신케이블공 | B43: 일반공사 직종 | C43: 인 | M43: 436224 | O43: =M43 -> 436224
A44: 특별인부 | B44: 일반공사 직종 | C44: 인 | M44: 226122 | O44: =M44 -> 226122
A45: 포장공 | B45: 일반공사 직종 | C45: 인 | M45: 273308 | O45: =M45 -> 273308
A46: 화물차운전사 | B46: 일반공사 직종 | C46: 인 | M46: 238936 | O46: =M46 -> 238936 | P46: 운전사(운반차)
A47: 건설폐기물수집운반비(상차+운반비) | B47: 4.5톤 덤프트럭, 건설폐재류, 50km | C47: TON | D47: 63290 | E47: 하권150 | I47: 63290 | J47: 1586 | K47: 63290 | L47: 1433 | O47: =MIN(D47,F47,H47,I47,K47,M47,N47) -> 63290 | P47: 한국건설폐기물수집운반
A48: 고소작업차 | B48: 2 ton | C48: 대 | N48: 41165000 | O48: =MIN(D48,F48,H48,I48,K48,M48,N48) -> 41165000 | P48: 공통8-5-3(2106)
A49: 굴착기(유압식백호우) | B49: 0.2 ㎥ | C49: 대 | N49: 66538000 | O49: =MIN(D49,F49,H49,I49,K49,M49,N49) -> 66538000 | P49: 공통8-5-1(0201)
A50: 굴착기(타이어) | B50: 0.18 ㎥ | C50: 대 | N50: 69333000 | O50: =MIN(D50,F50,H50,I50,K50,M50,N50) -> 69333000 | P50: 공통8-5-1(0211)
A51: 대형 브레이카 | B51: 0.2 ㎥용 | C51: 대 | N51: 4559000 | O51: =MIN(D51,F51,H51,I51,K51,M51,N51) -> 4559000 | P51: 공통8-5-1(0230)
A52: 동력분무기 | B52: 4.85kw | C52: 대 | N52: 922000 | O52: =MIN(D52,F52,H52,I52,K52,M52,N52) -> 922000 | P52: 공통8-5-8(7210)
A53: 로더(타이어) | B53: 0.57 ㎥ | C53: 대 | N53: 35999000 | O53: =MIN(D53,F53,H53,I53,K53,M53,N53) -> 35999000 | P53: 공통8-5-1(0302)
A54: 물탱크(살수차) | B54: 5500 L | C54: 대 | N54: 47263000 | O54: =MIN(D54,F54,H54,I54,K54,M54,N54) -> 47263000 | P54: 공통8-5-8(7204)
A55: 진동롤러 (핸드가이드식) | B55: 0.7 톤 | C55: 대 | N55: 6966000 | O55: =MIN(D55,F55,H55,I55,K55,M55,N55) -> 6966000 | P55: 공통8-5-2(1305)
A56: 커터(콘크리트및아스팔트용) | B56: 320-400 mm | C56: 대 | N56: 3249000 | O56: =MIN(D56,F56,H56,I56,K56,M56,N56) -> 3249000 | P56: 공통8-5-5(4430)
A57: 폐자재처리수수료 | B57: 건축폐자재 | C57: 톤 | D57: 49571 | E57: 하권151 | F57: 49571 | G57: 부록412 | I57: 49571 | J57: 1585 | K57: 49571 | L57: 1433 | O57: =MIN(D57,F57,H57,I57,K57,M57,N57) -> 49571 | P57: 부가세별도
A58: 플레이트 콤팩터 | B58: 1.5 ton | C58: 대 | N58: 1673000 | O58: =MIN(D58,F58,H58,I58,K58,M58,N58) -> 1673000 | P58: 공통8-5-2(1730)

Sheet Sheet1
