Workbook

Sheet 공종별내역서(견적 포함)
A1: [ 대연평 하수처리시설 확충사업 ]
A2: 품 명 | B2: 규 격 | C2: 단위 | D2: 수량 | E2: 합 계 | G2: 재 료 비 | I2: 노 무 비 | K2: 경 비 | M2: 비 고 | N2: 품목코드 | O2: 변수 | P2: 설정 | Q2: 공종코드 | R2: 일위 | S2: 단산 | T2: 자재 | U2: 손료적용 | V2: 손료저장 | W2: 적용율 | X2: JUK1 | Y2: JUK2 | Z2: JUK3 | AA2: JUK4 | AB2: JUK5 | AC2: JUK6 | AD2: JUK7 | AE2: JUK8 | AF2: JUK9 | AG2: JUK10 | AH2: JUK11 | AI2: JUK12 | AJ2: JUK13 | AK2: JUK14 | AL2: JUK15 | AM2: JUK16 | AN2: JUK17 | AO2: JUK18 | AP2: JUK19 | AQ2: JUK20 | AR2: 자재구분 | AS2: 공종구분 | AT2: 공종레벨 | AU2: 공종+자재 | AV2: 고유번호
E3: 단 가 | F3: 금 액 | G3: 단 가 | H3: 금 액 | I3: 단 가 | J3: 금 액 | K3: 단 가 | L3: 금 액
A4: 2.1.1 관급자재비 | B4: A. 처리시설 A-2. 관급자재비 2. 관급자관급 | Q4: 010101020201
A5: DM-101 협잡물 종합처리기 | B5: 일체식 침사 및 협잡물처리기, 1,710㎥/일, 협잡물 BOX포함 | C5: 식 | D5: 1 | E5: =TRUNC(G5+I5+K5, 0) -> 329000000 | F5: =TRUNC(H5+J5+L5, 0) -> 329000000 | G5: =TRUNC(단가대비표!O5,0) -> 329000000 | H5: =TRUNC(G5*D5, 0) -> 329000000 | I5: =TRUNC(단가대비표!P5,0) -> 0 | J5: =TRUNC(I5*D5, 0) -> 0 | K5: =TRUNC(단가대비표!V5,0) -> 0 | L5: =TRUNC(K5*D5, 0) -> 0 | M5: 설치비포함 | N5: 5E721534B4416F05CB3863080CC7C1FF952B60 | Q5: 010101020201 | R5: F | S5: F | T5: T | AU5: 0101010202015E721534B4416F05CB3863080CC7C1FF952B60 | AV5: 9657
A6: DM-105 펌프실 유지관리용 호이스트 | B6: 전동식 모노레일 호이스트, 2TON×35mL×12mH(R:2개소) | C6: 식 | D6: 1 | E6: =TRUNC(G6+I6+K6, 0) -> 61800000 | F6: =TRUNC(H6+J6+L6, 0) -> 61800000 | G6: =TRUNC(단가대비표!O9,0) -> 61800000 | H6: =TRUNC(G6*D6, 0) -> 61800000 | I6: =TRUNC(단가대비표!P9,0) -> 0 | J6: =TRUNC(I6*D6, 0) -> 0 | K6: =TRUNC(단가대비표!V9,0) -> 0 | L6: =TRUNC(K6*D6, 0) -> 0 | M6: 설치비포함 | N6: 5E721534B4416F05CB3863080CC7C1FF952FDB | Q6: 010101020201 | R6: F | S6: F | T6: T | AU6: 0101010202015E721534B4416F05CB3863080CC7C1FF952FDB | AV6: 9658
A7: DM-106 A/B 드럼스크린 | B7: 메쉬형, 63㎥/HR, 워크웨이 및 현장제어반 포함 | C7: 식 | D7: 2 | E7: =TRUNC(G7+I7+K7, 0) -> 47800000 | F7: =TRUNC(H7+J7+L7, 0) -> 95600000 | G7: =TRUNC(단가대비표!O10,0) -> 47800000 | H7: =TRUNC(G7*D7, 0) -> 95600000 | I7: =TRUNC(단가대비표!P10,0) -> 0 | J7: =TRUNC(I7*D7, 0) -> 0 | K7: =TRUNC(단가대비표!V10,0) -> 0 | L7: =TRUNC(K7*D7, 0) -> 0 | M7: 공법기자재 | N7: 5E721534B4416F05CB3863080CC7C1FF952E35 | Q7: 010101020201 | R7: F | S7: F | T7: T | AU7: 0101010202015E721534B4416F05CB3863080CC7C1FF952E35 | AV7: 9659
A8: DM-203 A~C 흡입/역세펌프 | B8: 로타리 로브펌프(V.V.V.F), 0.9㎥/분×12mH, 5.5kW | C8: 대 | D8: 3 | E8: =TRUNC(G8+I8+K8, 0) -> 25000000 | F8: =TRUNC(H8+J8+L8, 0) -> 75000000 | G8: =TRUNC(단가대비표!O13,0) -> 25000000 | H8: =TRUNC(G8*D8, 0) -> 75000000 | I8: =TRUNC(단가대비표!P13,0) -> 0 | J8: =TRUNC(I8*D8, 0) -> 0 | K8: =TRUNC(단가대비표!V13,0) -> 0 | L8: =TRUNC(K8*D8, 0) -> 0 | M8: 공법기자재 | N8: 5E721534B4416F05CB3863080CC7C1FF9403B0 | Q8: 010101020201 | R8: F | S8: F | T8: T | AU8: 0101010202015E721534B4416F05CB3863080CC7C1FF9403B0 | AV8: 9660
A9: DM-204 A~C 호기조 송풍기 | B9: 단단 터보블로워(V.V.V.F), 12㎥/분×6,200mmAq×18.5kW | C9: 대 | D9: 3 | E9: =TRUNC(G9+I9+K9, 0) -> 35000000 | F9: =TRUNC(H9+J9+L9, 0) -> 105000000 | G9: =TRUNC(단가대비표!O14,0) -> 35000000 | H9: =TRUNC(G9*D9, 0) -> 105000000 | I9: =TRUNC(단가대비표!P14,0) -> 0 | J9: =TRUNC(I9*D9, 0) -> 0 | K9: =TRUNC(단가대비표!V14,0) -> 0 | L9: =TRUNC(K9*D9, 0) -> 0 | M9: 설치비포함 | N9: 5E721534B4416F05CB3863080CC7C1FF9402A9 | Q9: 010101020201 | R9: F | S9: F | T9: T | AU9: 0101010202015E721534B4416F05CB3863080CC7C1FF9402A9 | AV9: 9661
A10: DM-205 분리막 세정용 송풍기 | B10: 단단 터보블로워(V.V.V.F), 10㎥/분×4,000mmAq×16.0kW | C10: 대 | D10: 1 | E10: =TRUNC(G10+I10+K10, 0) -> 33000000 | F10: =TRUNC(H10+J10+L10, 0) -> 33000000 | G10: =TRUNC(단가대비표!O15,0) -> 33000000 | H10: =TRUNC(G10*D10, 0) -> 33000000 | I10: =TRUNC(단가대비표!P15,0) -> 0 | J10: =TRUNC(I10*D10, 0) -> 0 | K10: =TRUNC(단가대비표!V15,0) -> 0 | L10: =TRUNC(K10*D10, 0) -> 0 | M10: 설치비포함 | N10: 5E721534B4416F05CB3863080CC7C1FF940182 | Q10: 010101020201 | R10: F | S10: F | T10: T | AU10: 0101010202015E721534B4416F05CB3863080CC7C1FF940182 | AV10: 9662
A11: DM-206 A~D 분리막 UNIT | B11: 침지식 중공사형, 4,752㎥ | C11: 식 | D11: 4 | E11: =TRUNC(G11+I11+K11, 0) -> 162500000 | F11: =TRUNC(H11+J11+L11, 0) -> 650000000 | G11: =TRUNC(단가대비표!O16,0) -> 162500000 | H11: =TRUNC(G11*D11, 0) -> 650000000 | I11: =TRUNC(단가대비표!P16,0) -> 0 | J11: =TRUNC(I11*D11, 0) -> 0 | K11: =TRUNC(단가대비표!V16,0) -> 0 | L11: =TRUNC(K11*D11, 0) -> 0 | M11: 공법기자재 | N11: 5E721534B4416F05CB3863080CC7C1FF9400FC | Q11: 010101020201 | R11: F | S11: F | T11: T | AU11: 0101010202015E721534B4416F05CB3863080CC7C1FF9400FC | AV11: 9663
A12: DM-207 장비반입용 호이스트 | B12: 전동식 모노레일 호이스트, 3TON×28mL×15mH(R:3개소) | C12: 식 | D12: 1 | E12: =TRUNC(G12+I12+K12, 0) -> 60300000 | F12: =TRUNC(H12+J12+L12, 0) -> 60300000 | G12: =TRUNC(단가대비표!O17,0) -> 60300000 | H12: =TRUNC(G12*D12, 0) -> 60300000 | I12: =TRUNC(단가대비표!P17,0) -> 0 | J12: =TRUNC(I12*D12, 0) -> 0 | K12: =TRUNC(단가대비표!V17,0) -> 0 | L12: =TRUNC(K12*D12, 0) -> 0 | M12: 설치비포함 | N12: 5E721534B4416F05CB3863080CC7C1FF94072B | Q12: 010101020201 | R12: F | S12: F | T12: T | AU12: 0101010202015E721534B4416F05CB3863080CC7C1FF94072B | AV12: 9664
A13: DM-208 분리막 유지관리용 호이스트 | B13: 전동식 모노레일 호이스트, 3TON×28mL×10mH(R:2개소) | C13: 식 | D13: 1 | E13: =TRUNC(G13+I13+K13, 0) -> 55800000 | F13: =TRUNC(H13+J13+L13, 0) -> 55800000 | G13: =TRUNC(단가대비표!O18,0) -> 55800000 | H13: =TRUNC(G13*D13, 0) -> 55800000 | I13: =TRUNC(단가대비표!P18,0) -> 0 | J13: =TRUNC(I13*D13, 0) -> 0 | K13: =TRUNC(단가대비표!V18,0) -> 0 | L13: =TRUNC(K13*D13, 0) -> 0 | M13: 설치비포함 | N13: 5E721534B4416F05CB3863080CC7C1FF940604 | Q13: 010101020201 | R13: F | S13: F | T13: T | AU13: 0101010202015E721534B4416F05CB3863080CC7C1FF940604 | AV13: 9665
A14: DM-209 송풍기실 유지관리용 호이스트 | B14: 전동식 모노레일 호이스트, 1TON×12mL×7mH | C14: 식 | D14: 1 | E14: =TRUNC(G14+I14+K14, 0) -> 38800000 | F14: =TRUNC(H14+J14+L14, 0) -> 38800000 | G14: =TRUNC(단가대비표!O19,0) -> 38800000 | H14: =TRUNC(G14*D14, 0) -> 38800000 | I14: =TRUNC(단가대비표!P19,0) -> 0 | J14: =TRUNC(I14*D14, 0) -> 0 | K14: =TRUNC(단가대비표!V19,0) -> 0 | L14: =TRUNC(K14*D14, 0) -> 0 | M14: 설치비포함 | N14: 5E721534B4416F05CB3863080CC7C1FF94057D | Q14: 010101020201 | R14: F | S14: F | T14: T | AU14: 0101010202015E721534B4416F05CB3863080CC7C1FF94057D | AV14: 9666
A15: DM-213 A/B 저에너지 분리막 세정장치 | B15: 수평왕복식, 20RPM, 3.7kW | C15: 식 | D15: 2 | E15: =TRUNC(G15+I15+K15, 0) -> 50000000 | F15: =TRUNC(H15+J15+L15, 0) -> 100000000 | G15: =TRUNC(단가대비표!O23,0) -> 50000000 | H15: =TRUNC(G15*D15, 0) -> 100000000 | I15: =TRUNC(단가대비표!P23,0) -> 0 | J15: =TRUNC(I15*D15, 0) -> 0 | K15: =TRUNC(단가대비표!V23,0) -> 0 | L15: =TRUNC(K15*D15, 0) -> 0 | M15: 공법기자재 | N15: 5E721534B4416F05CB3863080CC7C1FF97D419 | Q15: 010101020201 | R15: F | S15: F | T15: T | AU15: 0101010202015E721534B4416F05CB3863080CC7C1FF97D419 | AV15: 9667
A16: DM-214 공법제어반 | B16: 자립식 공법제어반 | C16: 식 | D16: 1 | E16: =TRUNC(G16+I16+K16, 0) -> 220000000 | F16: =TRUNC(H16+J16+L16, 0) -> 220000000 | G16: =TRUNC(단가대비표!O24,0) -> 220000000 | H16: =TRUNC(G16*D16, 0) -> 220000000 | I16: =TRUNC(단가대비표!P24,0) -> 0 | J16: =TRUNC(I16*D16, 0) -> 0 | K16: =TRUNC(단가대비표!V24,0) -> 0 | L16: =TRUNC(K16*D16, 0) -> 0 | M16: 공법기자재 | N16: 5E721534B4416F05CB3863080CC7C1FF97D373 | Q16: 010101020201 | R16: F | S16: F | T16: T | AU16: 0101010202015E721534B4416F05CB3863080CC7C1FF97D373 | AV16: 9668
A17: DM-309 자동용수공급장치 | B17: 인버터제어식 자동용수공급장치, 0.5㎥/분 x 45mH x 2대 | C17: 식 | D17: 1 | E17: =TRUNC(G17+I17+K17, 0) -> 40250000 | F17: =TRUNC(H17+J17+L17, 0) -> 40250000 | G17: =TRUNC(단가대비표!O36,0) -> 40250000 | H17: =TRUNC(G17*D17, 0) -> 40250000 | I17: =TRUNC(단가대비표!P36,0) -> 0 | J17: =TRUNC(I17*D17, 0) -> 0 | K17: =TRUNC(단가대비표!V36,0) -> 0 | L17: =TRUNC(K17*D17, 0) -> 0 | M17: 설치비포함 | N17: 5E721534B4416F05CB3863080CC7C1FF9636CD | Q17: 010101020201 | R17: F | S17: F | T17: T | AU17: 0101010202015E721534B4416F05CB3863080CC7C1FF9636CD | AV17: 9669
A18: DM-404 A/B 탈수기 | B18: 응집제주입형 원심탈수기, 2㎥/시간, 제어반포함 | C18: 식 | D18: 2 | E18: =TRUNC(G18+I18+K18, 0) -> 110000000 | F18: =TRUNC(H18+J18+L18, 0) -> 220000000 | G18: =TRUNC(단가대비표!O41,0) -> 110000000 | H18: =TRUNC(G18*D18, 0) -> 220000000 | I18: =TRUNC(단가대비표!P41,0) -> 0 | J18: =TRUNC(I18*D18, 0) -> 0 | K18: =TRUNC(단가대비표!V41,0) -> 0 | L18: =TRUNC(K18*D18, 0) -> 0 | M18: 설치비포함 | N18: 5E721534B4416F05CB3863080CC7C1FF914F89 | Q18: 010101020201 | R18: F | S18: F | T18: T | AU18: 0101010202015E721534B4416F05CB3863080CC7C1FF914F89 | AV18: 9670
A19: DM-405 폴리머 자동용해장치 | B19: 사각자립형 연속용해식(액상 40%),저장조,용해탱크,원액이송펌프,제어반포함 | C19: 식 | D19: 1 | E19: =TRUNC(G19+I19+K19, 0) -> 44500000 | F19: =TRUNC(H19+J19+L19, 0) -> 44500000 | G19: =TRUNC(단가대비표!O42,0) -> 44500000 | H19: =TRUNC(G19*D19, 0) -> 44500000 | I19: =TRUNC(단가대비표!P42,0) -> 0 | J19: =TRUNC(I19*D19, 0) -> 0 | K19: =TRUNC(단가대비표!V42,0) -> 0 | L19: =TRUNC(K19*D19, 0) -> 0 | M19: 설치비포함 | N19: 5E721534B4416F05CB3863080CC7C1FF914C35 | Q19: 010101020201 | R19: F | S19: F | T19: T | AU19: 0101010202015E721534B4416F05CB3863080CC7C1FF914C35 | AV19: 9671
A20: DM-408 케익호퍼 | B20: 사각철제형, 유압실린더 개폐식, 10㎥ | C20: 식 | D20: 1 | E20: =TRUNC(G20+I20+K20, 0) -> 87000000 | F20: =TRUNC(H20+J20+L20, 0) -> 87000000 | G20: =TRUNC(단가대비표!O45,0) -> 87000000 | H20: =TRUNC(G20*D20, 0) -> 87000000 | I20: =TRUNC(단가대비표!P45,0) -> 0 | J20: =TRUNC(I20*D20, 0) -> 0 | K20: =TRUNC(단가대비표!V45,0) -> 0 | L20: =TRUNC(K20*D20, 0) -> 0 | M20: 설치비포함 | N20: 5E721534B4416F05CB3863080CC7C1FF914B2E | Q20: 010101020201 | R20: F | S20: F | T20: T | AU20: 0101010202015E721534B4416F05CB3863080CC7C1FF914B2E | AV20: 9672
A21: DM-409 탈수기용 호이스트 | B21: 전동식 모노레일 호이스트, 2TON×13mL×10mH | C21: 식 | D21: 1 | E21: =TRUNC(G21+I21+K21, 0) -> 41500000 | F21: =TRUNC(H21+J21+L21, 0) -> 41500000 | G21: =TRUNC(단가대비표!O46,0) -> 41500000 | H21: =TRUNC(G21*D21, 0) -> 41500000 | I21: =TRUNC(단가대비표!P46,0) -> 0 | J21: =TRUNC(I21*D21, 0) -> 0 | K21: =TRUNC(단가대비표!V46,0) -> 0 | L21: =TRUNC(K21*D21, 0) -> 0 | M21: 설치비포함 | N21: 5E721534B4416F05CB3863080CC7C1FF91485A | Q21: 010101020201 | R21: F | S21: F | T21: T | AU21: 0101010202015E721534B4416F05CB3863080CC7C1FF91485A | AV21: 9673
A22: DM-410 에어커튼 (1층 케익반출실) | B22: 에어커튼(유효차단높이:4.5M), 0.29mW x 1.2mL x 0.3mH | C22: 대 | D22: 3 | E22: =TRUNC(G22+I22+K22, 0) -> 9746667 | F22: =TRUNC(H22+J22+L22, 0) -> 29240001 | G22: =TRUNC(단가대비표!O47,0) -> 9746667 | H22: =TRUNC(G22*D22, 0) -> 29240001 | I22: =TRUNC(단가대비표!P47,0) -> 0 | J22: =TRUNC(I22*D22, 0) -> 0 | K22: =TRUNC(단가대비표!V47,0) -> 0 | L22: =TRUNC(K22*D22, 0) -> 0 | M22: 설치비포함 | N22: 5E721534B4416F05CB3863080CC7C1FF914961 | Q22: 010101020201 | R22: F | S22: F | T22: T | AU22: 0101010202015E721534B4416F05CB3863080CC7C1FF914961 | AV22: 9674
A23: DM-411 에어커튼 (1층 장비반입 출입문) | B23: 에어커튼(유효차단높이:4.5M), 0.29mW x 1.2mL x 0.3mH | C23: 대 | D23: 2 | E23: =TRUNC(G23+I23+K23, 0) -> 9746667 | F23: =TRUNC(H23+J23+L23, 0) -> 19493334 | G23: =TRUNC(단가대비표!O48,0) -> 9746667 | H23: =TRUNC(G23*D23, 0) -> 19493334 | I23: =TRUNC(단가대비표!P48,0) -> 0 | J23: =TRUNC(I23*D23, 0) -> 0 | K23: =TRUNC(단가대비표!V48,0) -> 0 | L23: =TRUNC(K23*D23, 0) -> 0 | M23: 설치비포함 | N23: 5E721534B4416F05CB3863080CC7C1FF914960 | Q23: 010101020201 | R23: F | S23: F | T23: T | AU23: 0101010202015E721534B4416F05CB3863080CC7C1FF914960 | AV23: 11181
A24: DM-412 에어커튼 (1층 협잡물 반출셔터) | B24: 에어커튼(유효차단높이:4.5M), 0.29mW x 1.2mL x 0.3mH | C24: 대 | D24: 3 | E24: =TRUNC(G24+I24+K24, 0) -> 9746667 | F24: =TRUNC(H24+J24+L24, 0) -> 29240001 | G24: =TRUNC(단가대비표!O49,0) -> 9746667 | H24: =TRUNC(G24*D24, 0) -> 29240001 | I24: =TRUNC(단가대비표!P49,0) -> 0 | J24: =TRUNC(I24*D24, 0) -> 0 | K24: =TRUNC(단가대비표!V49,0) -> 0 | L24: =TRUNC(K24*D24, 0) -> 0 | M24: 설치비포함 | N24: 5E721534B4416F05CB3863080CC7C1FF914963 | Q24: 010101020201 | R24: F | S24: F | T24: T | AU24: 0101010202015E721534B4416F05CB3863080CC7C1FF914963 | AV24: 11182
A25: DM-501 탈취기 | B25: 약액세정식 탈취설비, 용량:150㎥/분,제어반포함 | C25: 식 | D25: 1 | E25: =TRUNC(G25+I25+K25, 0) -> 370000000 | F25: =TRUNC(H25+J25+L25, 0) -> 370000000 | G25: =TRUNC(단가대비표!O50,0) -> 370000000 | H25: =TRUNC(G25*D25, 0) -> 370000000 | I25: =TRUNC(단가대비표!P50,0) -> 0 | J25: =TRUNC(I25*D25, 0) -> 0 | K25: =TRUNC(단가대비표!V50,0) -> 0 | L25: =TRUNC(K25*D25, 0) -> 0 | M25: 설치비포함 | N25: 5E721534B4416F05CB3863080CC7C1FF9146AC | Q25: 010101020201 | R25: F | S25: F | T25: T | AU25: 0101010202015E721534B4416F05CB3863080CC7C1FF9146AC | AV25: 9675
A26: DM-601 실험장비 (고압멸균기) | B26: 350Φx520(내부) / 650x500x930(외부) / 60L | C26: 식 | D26: 1 | E26: =TRUNC(G26+I26+K26, 0) -> 3500000 | F26: =TRUNC(H26+J26+L26, 0) -> 3500000 | G26: =TRUNC(단가대비표!O51,0) -> 3500000 | H26: =TRUNC(G26*D26, 0) -> 3500000 | I26: =TRUNC(단가대비표!P51,0) -> 0 | J26: =TRUNC(I26*D26, 0) -> 0 | K26: =TRUNC(단가대비표!V51,0) -> 0 | L26: =TRUNC(K26*D26, 0) -> 0 | M26: 설치비포함 | N26: 5E721534B4416F05CB3863080CC7C1FF9147B3 | Q26: 010101020201 | R26: F | S26: F | T26: T | AU26: 0101010202015E721534B4416F05CB3863080CC7C1FF9147B3 | AV26: 11232
A27: DM-601 실험장비 (건조기) | B27: 열풍건조기, 550x560x600(내부) / 680x710x890(외부) / 150L | C27: 식 | D27: 1 | E27: =TRUNC(G27+I27+K27, 0) -> 2500000 | F27: =TRUNC(H27+J27+L27, 0) -> 2500000 | G27: =TRUNC(단가대비표!O52,0) -> 2500000 | H27: =TRUNC(G27*D27, 0) -> 2500000 | M27: 설치비포함
A28: DM-601 실험장비 (초순수제조기) | B28: UV램프 포함 | C28: 식 | D28: 1 | E28: =TRUNC(G28+I28+K28, 0) -> 5600000 | F28: =TRUNC(H28+J28+L28, 0) -> 5600000 | G28: =TRUNC(단가대비표!O53,0) -> 5600000 | H28: =TRUNC(G28*D28, 0) -> 5600000 | M28: 설치비포함 | AW28: 부가세 포함
A29: 합 계 | H29: =SUM(H26:H28) -> 11600000 | AW29: =H29+(0.1*H29) -> 12760000

Sheet 단가대비표
A1: 단 가 대 비 표
A2: [ 대연평 하수처리시설 확충사업 ]
A3: 코 드 | B3: 품 명 | C3: 규격 | D3: 단위 | E3: 재 료 비 | P3: 노 무 비 | Q3: 경 비 | W3: 번 호 | X3: 비 고 | Y3: 품목구분 | Z3: 노임구분 | AA3: 소수점처리 | AB3: 자재구분
E4: 가격정보 | F4: PAGE | G4: 물가자료 | H4: PAGE | I4: 물가정보 | J4: PAGE | L4: PAGE | N4: PAGE | O4: 적용단가 | Q4: 가격정보 | R4: 물가자료 | S4: 물가정보 | V4: 적용단가
A5: 5E721534B4416F05CB3863080CC7C1FF952B60 | B5: DM-101 협잡물 종합처리기 | C5: 일체식 침사 및 협잡물처리기, 1,710㎥/일, 협잡물 BOX포함 | D5: 식 | E5: 350000000 | F5: 케이펙코리아 | G5: 329000000 | H5: 청정테크 | I5: 0 | K5: 0 | M5: 0 | O5: 329000000 | P5: 0 | Q5: 0 | R5: 0 | S5: 0 | T5: 0 | U5: 0 | V5: 0 | W5: 자재 293 | X5: 설치비포함
A6: 5E721534B4416F05CB3863080CC7C1FF952A5A | B6: DM-102 A~C 유량조정조 펌프 | C6: 자동탈착장치형, 수중볼텍스(V.V.V.F), 0.6㎥/분×18mH, 7.5kW | D6: 대 | E6: 7550000 | F6: 기산수기 | G6: 8500000 | H6: 삼진공업 | I6: 6400000 | J6: 제이엠아이 | K6: 0 | M6: 0 | O6: 6400000 | P6: 0 | Q6: 0 | R6: 0 | S6: 0 | T6: 0 | U6: 0 | V6: 0 | W6: 자재 294
A7: 5E721534B4416F05CB3863080CC7C1FF952D2E | B7: DM-103 A~D 유량조정조 교반기 | C7: 수중횡축교반기, 6.2mW×8.0mL×3.5mHe x 2지, 1.5kW | D7: 대 | E7: 13400000 | F7: 기산수기 | G7: 13000000 | H7: 삼진공업 | I7: 12000000 | J7: 제이엠아이 | K7: 0 | M7: 0 | O7: 12000000 | P7: 0 | Q7: 0 | R7: 0 | S7: 0 | T7: 0 | U7: 0 | V7: 0 | W7: 자재 295
A8: 5E721534B4416F05CB3863080CC7C1FF952C07 | B8: DM-104 A/B 유량조정조 유지관리용 수문 | C8: 수동식 주철제 각형수문, 500mmW × 500mmH | D8: 대 | E8: 5800000 | F8: 현대밸브 | G8: 5819000 | H8: 서광공업 | I8: 0 | K8: 0 | M8: 0 | O8: 5800000 | P8: 0 | Q8: 0 | R8: 0 | S8: 0 | T8: 0 | U8: 0 | V8: 0 | W8: 자재 296
A9: 5E721534B4416F05CB3863080CC7C1FF952FDB | B9: DM-105 펌프실 유지관리용 호이스트 | C9: 전동식 모노레일 호이스트, 2TON×35mL×12mH(R:2개소) | D9: 식 | E9: 90000000 | F9: 케이펙코리아 | G9: 61800000 | H9: 광성산업기계 | I9: 0 | K9: 0 | M9: 0 | O9: 61800000 | P9: 0 | Q9: 0 | R9: 0 | S9: 0 | T9: 0 | U9: 0 | V9: 0 | W9: 자재 297 | X9: 설치비포함
A10: 5E721534B4416F05CB3863080CC7C1FF952E35 | B10: DM-106 A/B 드럼스크린 | C10: 메쉬형, 63㎥/HR, 워크웨이 및 현장제어반 포함 | D10: 식 | E10: 47800000 | F10: 테크비전 | G10: 0 | I10: 0 | K10: 0 | M10: 0 | O10: 47800000 | P10: 0 | Q10: 0 | R10: 0 | S10: 0 | T10: 0 | U10: 0 | V10: 0 | W10: 자재 298 | X10: 공법기자재
A11: 5E721534B4416F05CB3863080CC7C1FF95217D | B11: DM-201 A/B 무산소조 교반기 | C11: 입축1단 하이드로포일형, 5.0mW×3.3mL×5.56mHe x 2지, 0.75kW | D11: 대 | E11: 15000000 | F11: 플로우마스터 | G11: 19000000 | H11: 우진 | I11: 0 | K11: 0 | M11: 0 | O11: 15000000 | P11: 0 | Q11: 0 | R11: 0 | S11: 0 | T11: 0 | U11: 0 | V11: 0 | W11: 자재 299
A12: 5E721534B4416F05CB3863080CC7C1FF952056 | B12: DM-202 A/B 혐기조 교반기 | C12: 입축2단 하이드로포일형, 1.4mW×3.3mL×5.56mHe x 2지, 0.4kW | D12: 대 | E12: 15800000 | F12: 플로우마스터 | G12: 17500000 | H12: 우진 | I12: 0 | K12: 0 | M12: 0 | O12: 15800000 | P12: 0 | Q12: 0 | R12: 0 | S12: 0 | T12: 0 | U12: 0 | V12: 0 | W12: 자재 300
A13: 5E721534B4416F05CB3863080CC7C1FF9403B0 | B13: DM-203 A~C 흡입/역세펌프 | C13: 로타리 로브펌프(V.V.V.F), 0.9㎥/분×12mH, 5.5kW | D13: 대 | E13: 25000000 | F13: 테크비전 | G13: 0 | I13: 0 | K13: 0 | M13: 0 | O13: 25000000 | P13: 0 | Q13: 0 | R13: 0 | S13: 0 | T13: 0 | U13: 0 | V13: 0 | W13: 자재 301 | X13: 공법기자재
A14: 5E721534B4416F05CB3863080CC7C1FF9402A9 | B14: DM-204 A~C 호기조 송풍기 | C14: 단단 터보블로워(V.V.V.F), 12㎥/분×6,200mmAq×18.5kW | D14: 대 | E14: 35000000 | F14: 남원터보원 | G14: 35500000 | H14: 한국유체기계 | I14: 46800000 | J14: 뉴로스 | K14: 0 | M14: 0 | O14: 35000000 | P14: 0 | Q14: 0 | R14: 0 | S14: 0 | T14: 0 | U14: 0 | V14: 0 | W14: 자재 302 | X14: 설치비포함
A15: 5E721534B4416F05CB3863080CC7C1FF940182 | B15: DM-205 분리막 세정용 송풍기 | C15: 단단 터보블로워(V.V.V.F), 10㎥/분×4,000mmAq×16.0kW | D15: 대 | E15: 33000000 | F15: 남원터보원 | G15: 35500000 | H15: 한국유체기계 | I15: 36000000 | J15: 뉴로스 | K15: 0 | M15: 0 | O15: 33000000 | P15: 0 | Q15: 0 | R15: 0 | S15: 0 | T15: 0 | U15: 0 | V15: 0 | W15: 자재 303 | X15: 설치비포함
A16: 5E721534B4416F05CB3863080CC7C1FF9400FC | B16: DM-206 A~D 분리막 UNIT | C16: 침지식 중공사형, 4,752㎥ | D16: 식 | E16: 162500000 | F16: 테크비전 | G16: 0 | I16: 0 | K16: 0 | M16: 0 | O16: 162500000 | P16: 0 | Q16: 0 | R16: 0 | S16: 0 | T16: 0 | U16: 0 | V16: 0 | W16: 자재 304 | X16: 공법기자재
A17: 5E721534B4416F05CB3863080CC7C1FF94072B | B17: DM-207 장비반입용 호이스트 | C17: 전동식 모노레일 호이스트, 3TON×28mL×15mH(R:3개소) | D17: 식 | E17: 88000000 | F17: 케이펙코리아 | G17: 60300000 | H17: 광성산업기계 | I17: 0 | K17: 0 | M17: 0 | O17: 60300000 | P17: 0 | Q17: 0 | R17: 0 | S17: 0 | T17: 0 | U17: 0 | V17: 0 | W17: 자재 305 | X17: 설치비포함
A18: 5E721534B4416F05CB3863080CC7C1FF940604 | B18: DM-208 분리막 유지관리용 호이스트 | C18: 전동식 모노레일 호이스트, 3TON×28mL×10mH(R:2개소) | D18: 식 | E18: 85000000 | F18: 케이펙코리아 | G18: 55800000 | H18: 광성산업기계 | I18: 0 | K18: 0 | M18: 0 | O18: 55800000 | P18: 0 | Q18: 0 | R18: 0 | S18: 0 | T18: 0 | U18: 0 | V18: 0 | W18: 자재 306 | X18: 설치비포함
A19: 5E721534B4416F05CB3863080CC7C1FF94057D | B19: DM-209 송풍기실 유지관리용 호이스트 | C19: 전동식 모노레일 호이스트, 1TON×12mL×7mH | D19: 식 | E19: 57000000 | F19: 케이펙코리아 | G19: 38800000 | H19: 광성산업기계 | I19: 0 | K19: 0 | M19: 0 | O19: 38800000 | P19: 0 | Q19: 0 | R19: 0 | S19: 0 | T19: 0 | U19: 0 | V19: 0 | W19: 자재 307 | X19: 설치비포함
A20: 5E721534B4416F05CB3863080CC7C1FF940457 | B20: DM-210 호기조 산기장치 | C20: 멤브레인 봉형 산기관, 통기량 150ℓ/min·EA 160EA | D20: 식 | E20: 22000000 | F20: 신일 | G20: 17600000 | H20: 기산수기 | I20: 0 | K20: 0 | M20: 0 | O20: 17600000 | P20: 0 | Q20: 0 | R20: 0 | S20: 0 | T20: 0 | U20: 0 | V20: 0 | W20: 자재 308
A21: 5E721534B4416F05CB3863080CC7C1FF97D6C7 | B21: DM-211 A~D 내부반송 주펌프 | C21: 원심 스프르트 펌프(V.V.V.F), 1.6㎥/분×6mH, 5.5kW | D21: 대 | E21: 12125000 | F21: 삼흥산업 | G21: 8550000 | H21: 주호산업 | I21: 0 | K21: 0 | M21: 0 | O21: 8550000 | P21: 0 | Q21: 0 | R21: 0 | S21: 0 | T21: 0 | U21: 0 | V21: 0 | W21: 자재 309
A22: 5E721534B4416F05CB3863080CC7C1FF97D520 | B22: DM-212 A~D 잉여슬러지 인발펌프 | C22: 원심 스프르트 펌프, 0.1㎥/분×4mH, 0.75kW | D22: 대 | E22: 7075000 | F22: 삼흥산업 | G22: 5250000 | H22: 주호산업 | I22: 0 | K22: 0 | M22: 0 | O22: 5250000 | P22: 0 | Q22: 0 | R22: 0 | S22: 0 | T22: 0 | U22: 0 | V22: 0 | W22: 자재 310
A23: 5E721534B4416F05CB3863080CC7C1FF97D419 | B23: DM-213 A/B 저에너지 분리막 세정장치 | C23: 수평왕복식, 20RPM, 3.7kW | D23: 식 | E23: 50000000 | F23: 테크비전 | G23: 0 | I23: 0 | K23: 0 | M23: 0 | O23: 50000000 | P23: 0 | Q23: 0 | R23: 0 | S23: 0 | T23: 0 | U23: 0 | V23: 0 | W23: 자재 311 | X23: 공법기자재
A24: 5E721534B4416F05CB3863080CC7C1FF97D373 | B24: DM-214 공법제어반 | C24: 자립식 공법제어반 | D24: 식 | E24: 220000000 | F24: 테크비전 | G24: 0 | I24: 0 | K24: 0 | M24: 0 | O24: 220000000 | P24: 0 | Q24: 0 | R24: 0 | S24: 0 | T24: 0 | U24: 0 | V24: 0 | W24: 자재 312 | X24: 공법기자재
A25: 5E721534B4416F05CB3863080CC7C1FF97D26C | B25: DM-215 분리막 역세밸브 | C25: 전동식 게이트 밸브(1상식), ￠200mm | D25: 대 | E25: 7610000 | F25: 현대밸브 | G25: 4643000 | H25: 서광공업 | I25: 0 | K25: 0 | M25: 0 | O25: 4643000 | P25: 0 | Q25: 0 | R25: 0 | S25: 0 | T25: 0 | U25: 0 | V25: 0 | W25: 자재 313
A26: 5E721534B4416F05CB3863080CC7C1FF97D145 | B26: DM-216 분리막 처리수밸브 | C26: 전동식 게이트 밸브(1상식), ￠200mm | D26: 대 | E26: 7610000 | F26: 현대밸브 | G26: 4643000 | H26: 서광공업 | I26: 0 | K26: 0 | M26: 0 | O26: 4643000 | P26: 0 | Q26: 0 | R26: 0 | S26: 0 | T26: 0 | U26: 0 | V26: 0 | W26: 자재 314
A27: 5E721534B4416F05CB3863080CC7C1FF97D0BE | B27: DM-217 방류밸브 | C27: 전동식 게이트 밸브(1상식), ￠200mm | D27: 대 | E27: 7610000 | F27: 현대밸브 | G27: 4643000 | H27: 서광공업 | I27: 0 | K27: 0 | M27: 0 | O27: 4643000 | P27: 0 | Q27: 0 | R27: 0 | S27: 0 | T27: 0 | U27: 0 | V27: 0 | W27: 자재 315
A28: 5E721534B4416F05CB3863080CC7C1FF97DF24 | B28: DM-301 NaOCl 저장탱크 | C28: PE 원형탱크, 1㎥ | D28: 대 | E28: 4010000 | F28: 천세산업 | G28: 4660000 | H28: 상신케미칼 | I28: 4260000 | J28: 새롬이엔텍 | K28: 0 | M28: 0 | O28: 4010000 | P28: 0 | Q28: 0 | R28: 0 | S28: 0 | T28: 0 | U28: 0 | V28: 0 | W28: 자재 316
A29: 5E721534B4416F05CB3863080CC7C1FF97DE1D | B29: DM-302 A/B NaOCl 주입펌프 | C29: 무맥동형 다이아프램 정량펌프, 2.0ℓ/분×5kg/㎠ | D29: 대 | E29: 12500000 | F29: 천세산업 | G29: 14500000 | H29: 상신케미칼 | I29: 13250000 | J29: 새롬이엔텍 | K29: 0 | M29: 0 | O29: 12500000 | P29: 0 | Q29: 0 | R29: 0 | S29: 0 | T29: 0 | U29: 0 | V29: 0 | W29: 자재 317
A30: 5E721534B4416F05CB3863080CC7C1FF9630A5 | B30: DM-303 A/B NaOCl 주입밸브 | C30: 전동식 볼밸브(1상식), ￠25mm | D30: 대 | E30: 1000000 | F30: 서광공업 | G30: 0 | I30: 0 | K30: 0 | M30: 0 | O30: 1000000 | P30: 0 | Q30: 0 | R30: 0 | S30: 0 | T30: 0 | U30: 0 | V30: 0 | W30: 자재 318
A31: 5E721534B4416F05CB3863080CC7C1FF96314B | B31: DM-304 PAC 저장탱크 | C31: PE 원형탱크(교반기 부착형), 2㎥,1.5kW | D31: 대 | E31: 9030000 | F31: 천세산업 | G31: 10480000 | H31: 상신케미칼 | I31: 9580000 | J31: 새롬이엔텍 | K31: 0 | M31: 0 | O31: 9030000 | P31: 0 | Q31: 0 | R31: 0 | S31: 0 | T31: 0 | U31: 0 | V31: 0 | W31: 자재 319
A32: 5E721534B4416F05CB3863080CC7C1FF963252 | B32: DM-305 A~C PAC 주입펌프 | C32: 무맥동형 다이아프램 정량펌프, 100mℓ/분×5kg/㎠ | D32: 대 | E32: 9650000 | F32: 천세산업 | G32: 11200000 | H32: 상신케미칼 | I32: 10230000 | J32: 새롬이엔텍 | K32: 0 | M32: 0 | O32: 9650000 | P32: 0 | Q32: 0 | R32: 0 | S32: 0 | T32: 0 | U32: 0 | V32: 0 | W32: 자재 320
A33: 5E721534B4416F05CB3863080CC7C1FF963379 | B33: DM-306 외부탄소원 저장탱크 | C33: PE 원형탱크, 1㎥ | D33: 대 | E33: 4010000 | F33: 천세산업 | G33: 4660000 | H33: 상신케미칼 | I33: 4260000 | J33: 새롬이엔텍 | K33: 0 | M33: 0 | O33: 4010000 | P33: 0 | Q33: 0 | R33: 0 | S33: 0 | T33: 0 | U33: 0 | V33: 0 | W33: 자재 321
A34: 5E721534B4416F05CB3863080CC7C1FF96341F | B34: DM-307 A~C 외부탄소원 주입펌프 | C34: 무맥동형 다이아프램 정량펌프, 100mℓ/분×5kg/㎠ | D34: 대 | E34: 10550000 | F34: 천세산업 | G34: 12240000 | H34: 상신케미칼 | I34: 11190000 | J34: 새롬이엔텍 | K34: 0 | M34: 0 | O34: 10550000 | P34: 0 | Q34: 0 | R34: 0 | S34: 0 | T34: 0 | U34: 0 | V34: 0 | W34: 자재 322
A35: 5E721534B4416F05CB3863080CC7C1FF963526 | B35: DM-308 비상세안장치 A~C | C35: 페달급수식, 25A | D35: 식 | E35: 2500000 | F35: 천세산업 | G35: 2900000 | H35: 상신케미칼 | I35: 2650000 | J35: 새롬이엔텍 | K35: 0 | M35: 0 | O35: 2500000 | P35: 0 | Q35: 0 | R35: 0 | S35: 0 | T35: 0 | U35: 0 | V35: 0 | W35: 자재 323
A36: 5E721534B4416F05CB3863080CC7C1FF9636CD | B36: DM-309 자동용수공급장치 | C36: 인버터제어식 자동용수공급장치, 0.5㎥/분 x 45mH x 2대 | D36: 식 | E36: 65400000 | F36: 세고산업 | G36: 40250000 | H36: 두크 | I36: 44500000 | J36: 하지공업 | K36: 0 | M36: 0 | O36: 40250000 | P36: 0 | Q36: 0 | R36: 0 | S36: 0 | T36: 0 | U36: 0 | V36: 0 | W36: 자재 324 | X36: 설치비포함
A37: 5E721534B4416F05CB3863080CC7C1FF9637D4 | B37: DM-310 A/B 샘플링펌프 | C37: 자흡식 원심펌프, 20ℓ/분×20mH | D37: 대 | E37: 2015000 | F37: 하지공업 | G37: 1450000 | H37: 세고산업 | I37: 0 | K37: 0 | M37: 0 | O37: 1450000 | P37: 0 | Q37: 0 | R37: 0 | S37: 0 | T37: 0 | U37: 0 | V37: 0 | W37: 자재 325
A38: 5E721534B4416F05CB3863080CC7C1FF9638FA | B38: DM-401 A/B 저류조브로와 | C38: 로타리 루츠브로와, 1.1㎥/분×5,800mmAq×5.5kW | D38: 대 | E38: 6130000 | F38: 한국유체기계 | G38: 6540000 | H38: 내외기계공업 | I38: 0 | K38: 0 | M38: 0 | O38: 6130000 | P38: 0 | Q38: 0 | R38: 0 | S38: 0 | T38: 0 | U38: 0 | V38: 0 | W38: 자재 326
A39: 5E721534B4416F05CB3863080CC7C1FF963981 | B39: DM-402 저류조 산기장치 | C39: STS제 파이프식 다공산기관, 32A×2m×10EA | D39: 식 | E39: 6000000 | F39: 주식회사 신일 | G39: 6000000 | H39: 기산수기 | I39: 0 | K39: 0 | M39: 0 | O39: 6000000 | P39: 0 | Q39: 0 | R39: 0 | S39: 0 | T39: 0 | U39: 0 | V39: 0 | W39: 자재 327
A40: 5E721534B4416F05CB3863080CC7C1FF914EE2 | B40: DM-403 A~C 슬러지 공급펌프 | C40: 일축나사형스크류펌프(V.V.V.F), 3.0㎥/시간×2kg/㎠,1.5kW | D40: 대 | E40: 4070000 | F40: 대봉엔지니어링 | G40: 7829000 | H40: 모나스펌프 | I40: 0 | K40: 0 | M40: 0 | O40: 4070000 | P40: 0 | Q40: 0 | R40: 0 | S40: 0 | T40: 0 | U40: 0 | V40: 0 | W40: 자재 328
...
