Workbook
Name dlqudgkr: [1]단재적표!#REF!
Name dlqudgkr: [1]단재적표!#REF!
Name dlqudgkr: [1]단재적표!#REF!
Name dlqudgkr: [1]단재적표!#REF!
Name dlqudgkr: [1]단재적표!#REF!
Name dlqudgkr: [1]단재적표!#REF!
Name dlqudgkr: [1]단재적표!#REF!
Name dlqudgkr: [1]단재적표!#REF!
Name dlqudgkr: [1]단재적표!#REF!
Name dlqudgkr: [1]단재적표!#REF!
Name dlqudgkr: [1]단재적표!#REF!
Name dlqudgkr: [1]단재적표!#REF!
Name dudals: [1]단재적표!#REF!
Name dudals: [1]단재적표!#REF!
Name dudals: [1]단재적표!#REF!
Name dudals: [1]단재적표!#REF!
Name dudals: [1]단재적표!#REF!
Name dudals: [1]단재적표!#REF!
Name pet매트: [2]unitpric!#REF!
Name pet매트: [2]unitpric!#REF!
Name pet매트: [2]unitpric!#REF!
Name pet매트: [2]unitpric!#REF!
Name pet매트: [2]unitpric!#REF!
Name pet매트: [2]unitpric!#REF!
Name pet매트: [2]unitpric!#REF!
Name pe플륨관: [2]unitpric!#REF!
Name pe플륨관: [2]unitpric!#REF!
Name pe플륨관: [2]unitpric!#REF!
Name pe플륨관: [2]unitpric!#REF!
Name pe플륨관: [2]unitpric!#REF!
Name pe플륨관: [2]unitpric!#REF!
Name pe플륨관: [2]unitpric!#REF!
Name pp마대: [2]unitpric!#REF!
Name pp마대: [2]unitpric!#REF!
Name pp마대: [2]unitpric!#REF!
Name pp마대: [2]unitpric!#REF!
Name pp마대: [2]unitpric!#REF!
Name pp마대: [2]unitpric!#REF!
Name pp마대: [2]unitpric!#REF!
Name Print_Area_MI: #REF!
Name Print_Area_MI: #REF!
Name Print_Area_MI: #REF!
Name Print_Area_MI: #REF!
Name Print_Area_MI: #REF!
Name Print_Area_MI: #REF!
Name Print_Area_MI: #REF!
Name pvc코팅망: [2]unitpric!#REF!
Name pvc코팅망: [2]unitpric!#REF!
Name pvc코팅망: [2]unitpric!#REF!
Name pvc코팅망: [2]unitpric!#REF!
Name pvc코팅망: [2]unitpric!#REF!
Name pvc코팅망: [2]unitpric!#REF!
Name pvc코팅망: [2]unitpric!#REF!
Name pvc코팅선: [2]unitpric!#REF!
Name pvc코팅선: [2]unitpric!#REF!
Name pvc코팅선: [2]unitpric!#REF!
Name pvc코팅선: [2]unitpric!#REF!
Name pvc코팅선: [2]unitpric!#REF!
Name pvc코팅선: [2]unitpric!#REF!
Name pvc코팅선: [2]unitpric!#REF!

Sheet 표지
A6: 2026년 정책숲가꾸기 사업 제1차
A9: 제주산림과학연구시험림
A17: 난대·아열대산림연구소
A20: 소 장 | C20: 실장 | E20: 심 사 | G20: 설계자 (산림주무관 강경식) | I20: 산림공학기술자 (기술고급) | L20: 설계 | M20: 2026년 | N20: 7월 | O20: 일
L21: 심사 | M21: =M20 -> 2026년 | N21: =N20 -> 7월 | O21: 일
A23: =A6 -> 2026년 정책숲가꾸기 사업 제1차
A24: =A9 -> 제주산림과학연구시험림
C28: o. 소 재 지 : | E28: 서귀포시 남원읍 한남리 산 2-1 외
C30: o. 면 적 : | E30: =설계내역서!H5 -> 36.1 | F30: ha
C32: o. 도급예정액 : | E32: ="일금"&NUMBERSTRING(원가계산서!D32,1)&"원정(\"&TEXT(원가계산서!D32,"0,0")&")" -> 일금팔천오백구십칠만이천원정(\85,972,000)
C34: o. 총사업비 : | E34: ="일금"&NUMBERSTRING(원가계산서!D32,1)&"원정(\"&TEXT(원가계산서!D32,"0,0")&")" -> 일금팔천오백구십칠만이천원정(\85,972,000)
A35: 난대·아열대산림연구소

Sheet 평정서
A1: 예 정 가 격 평 정 서
A4: □ 사 업 명 : | C4: =표지!A6 -> 2026년 정책숲가꾸기 사업 제1차
A5: □ 사 업 장 소 : | C5: =표지!E28 -> 서귀포시 남원읍 한남리 산 2-1 외
A6: □ 면적(사업량) : | C6: =SUM(G6:G9) -> 36.1 | D6: ha | E6: 사업량 | F6: 풀베기 | G6: =SUM(설계내역서!H6:'설계내역서'!H16) -> 18.5 | H6: ha
A7: □ 사 업 기 간 : | C7: =설계내역서!M19 -> 29 | D7: 일 | F7: 덩굴제거 | G7: =설계내역서!H18 -> 13.6 | H7: ha
A8: □ 예 산 과 목 : | C8: 1534-302-420-03 (숲가꾸기 공사비) | F8: 가지치기 | G8: =설계내역서!H17 -> 4 | H8: ha
B11: 도급예정액 : | C11: =표지!E32 -> 일금팔천오백구십칠만이천원정(\85,972,000)
B13: 평 정 액 : | C13: \ (일금: )
C16: 위와 같이 평정함.
C18: 2026. . .
A20: 평정관 : 난대·아열대산림연구소장 (인)

Sheet 예정공정표
A1: 예 정 공 정 표
A4: =표지!A6 -> 2026년 정책숲가꾸기 사업 제1차 | F4: 기간 : | G4: =설계내역서!M19 -> 29 | J4: 일
A5: 사 업 종 | B5: =A4 -> 2026년 정책숲가꾸기 사업 제1차
B6: =G4*90% -> 26.1 | F6: =G4*10% -> 2.9 | J6: 비 고
A7: 대상지 확인 경계표시 ( 1인 x 2일) | J7: 감독공무원이 표시
A9: 작업실행
A11: 작업장정리 및 보완

Sheet 기초자료
A1: 1. 기초 자료
A3: □ 숲가꾸기사업 현황
A4: 사 업 명 | B4: =표지!A6 -> 2026년 정책숲가꾸기 사업 제1차 | D4: 사업 년도 | E4: 2026
A5: 사 업 종 | B5: 풀베기, 덩굴제거 등 | D5: 기 번
A6: 개 소 | B6: 서귀포시 남원읍 한남리 산2-1 외 | D6: 사업 면적 | E6: =설계내역서!H5+설계내역서!I5 -> 36.1 | F6: ha
A7: 수 종 | B7: 벚나무류 외 | D7: 작 성 일 | E7: 2026. 6.
A8: 입목생산(㎥) | D8: 생산지정(㎥)
A9: 작 성 자 | B9: 청원산림보호직 강경식 | D9: 확 인 자 | E9: 임업연구관 정수영
A10: 연구소장 | B10: 임업연구관 김 석 권
A12: □ 인건비, 재료비 단가
A13: 구 분 | B13: 단가 | C13: 규격 | D13: 비 고
A14: 보통인부 단가 | B14: 172068 | C14: 원 | D14: 26년 상반기 정부노임단가 기준
A15: 벌목부 | B15: 253243 | C15: 원
A16: 특별인부 단가 | B16: 226122 | C16: 원
A17: 건설기계운전기사 | B17: 283297 | C17: 원
A18: 초급기술자 | C18: 원 | D18: 엔지니어링 노임단가('26년 숲가꾸기 원가요율적용)
A19: 휘발유 거래 단가 | B19: =ROUNDDOWN(F19/1.1,0) -> 1842 | C19: 원/L | D19: 한국석유공사(2026년 6월 제주) | F19: 2027
A20: 경유 거래단가 | B20: =ROUNDDOWN(F20/1.1,0) -> 1835 | C20: 원/L | D20: ＂ | F20: 2019
A21: 글리포세이드(농약) | B21: 10000 | C21: 원/병 | D21: 단가 적용
A22: Fluroxypyr-meptyl + Triclypyr-TEA 미탁제 | B22: 10000 | C22: 원/병 | D22: 단가 적용
A23: 친환경 비닐랩 | B23: 100 | C23: 원/장 | D23: 단가 적용
A24: 배부식분무기 | B24: 200000 | C24: 대 | D24: 숲가꾸기 설계감리 및 사업지침 77p
A25: 체인톱 | B25: 800000 | C25: 대 | D25: 숲가꾸기 설계감리 및 사업지침 77p
A26: 배낭식동력예취기 | B26: 610000 | C26: 대
A28: □ 원가계산 법정 요율 등(2026년 조림 및 숲가꾸기 사업 원가작성 요율 적용기준 공문)
A29: 구 분 | B29: 적용방법 | C29: 요율 | D29: 단위 | E29: 적용기준('26년 숲가꾸기사업 원가작성 적용요율)
A30: 간접노무비 | B30: 직접노무비의 | C30: 16.2 | D30: % | E30: 조달청 토목공사원가계산 제비율 (조경, 50억 미만)
A31: 고용보험료 | B31: 노무비의 | C31: 1.15 | D31: % | E31: 「고용보험 및 산업재해보상보험의 보험료징수 등에 관한 법률」시행령 제12조
A32: 산재보험료 | B32: 노무비의 | C32: 5.86 | D32: % | E32: 고용노동부 고시 사업종류별 산재보험료율 * 사업종류별 요율 + 통상적 출퇴근 요율
A33: 건강보험료 | B33: 직접노무비의 | C33: 3.595 | D33: % | E33: 사회보험의 보험료 적용기준 (작업기간이 30일 이상일때)
A34: 노인장기요양보험 | B34: 건강보험료의 | C34: 13.14 | D34: % | E34: 「노인장기요양보험법」시행령 제4조 (작업기간이 30일 이상일때)
A35: 국민연금 | B35: 직접노무비의 | C35: 4.75 | D35: % | E35: 사회보험의 보험료 적용기준 (작업기간이 30일 이상일때)
A36: 산업안전보건 관리비 | B36: 재료비+직접노무비의 | C36: 2.07 | D36: % | E36: 건설업산업안전관리비계상 및사용기준 (공사금액 20,000,000원 이상일때) | H36: 3.15%(솎아베기 및 병해충방제)
A37: 기타경비 | B37: 재료비+노무비의 | C37: 4.6 | D37: % | E37: 조달청 토목공사원가계산 제비율(조경)
A38: 일반관리비 | B38: 노+재+경의 | C38: 8 | D38: % | E38: 조달청 토목공사원가계산 제비율 (50억미만, 토목·조경 적용)
A39: 이 윤 | B39: 노+경+일반관리비의 | C39: 15 | D39: % | E39: 조달청 토목원가계산 제비율 50억 미만 공사 15% 이하
A40: 부가가치세 | B40: 총사업비의 | C40: 10 | D40: % | E40: 「부가가치세법」제30조

Sheet 설계내역서
B1: 설 계 내 역 서
A3: 구 분 | B3: 구 분 | C3: 소재지 | D3: 임소반 | E3: 년도 | F3: 세부사업종 | G3: 수종 | H3: 사업면적 | J3: 단위 | K3: 직접노무비 | M3: 재 료 비 | O3: 기계경비 | Q3: ha당 작업인원 | R3: 총 작업인원 | S3: 참고(위치)
K4: ha단가 | L4: 금 액 | M4: ha단가 | N4: 금 액 | O4: ha단가 | P4: 금 액
A5: 합계 | B5: 합계 | H5: =ROUNDUP(H6+H7+H8+H9+H10+H11+H12+H13+H14+H15+H16+H17+H18,1) -> 36.1 | J5: ha | L5: =L6+L7+L8+L9+L10+L11+L13+L16+L17+L18 -> 46248169 | N5: =N6+N7+N8+N9+N10+N11+N13+N16+N17+N18 -> 1371530 | P5: =P6+P7+P8+P9+P10+P11+P13+P16+P17+P18 -> 693684 | R5: =R6+R7+R8+R9+R10+R11+R13+R16+R17+R18 -> 206.58
B6: 1 | C6: =표지!E28 -> 서귀포시 남원읍 한남리 산 2-1 외 | D6: 4-0-32-1 8-0-5-1 | F6: 풀베기 | G6: 벚나무류 (3년차 이상) | H6: =W6+Y6+AA6+AC6+AF6 -> 0 | J6: ha | K6: ='단가산출서(벚나무 3년차이상)'!L47 -> 1187140 | L6: =ROUNDDOWN(K6*H6,0) -> 0 | M6: ='단가산출서(벚나무 3년차이상)'!L48 -> 50655 | N6: =ROUNDDOWN(H6*M6,0) -> 0 | O6: ='단가산출서(벚나무 3년차이상)'!L49 -> 25620 | P6: =ROUNDDOWN(H6*O6,0) -> 0 | Q6: ='단가산출서(벚나무 3년차이상)'!N87 -> 5 | R6: =ROUNDUP(Q6*H6,2) -> 0 | S6: 한남5-2(4.5ha) | V6: 한남5-2 | X6: 상효보존원 | AH6: 한남 산5-2:4.5, 상효보존원 11.5(1구역 2, 2구역 9.5)
B7: 1 | D7: 4-0-25-2 | F7: 풀베기 | G7: 가시나무류 (조림 2년차) | H7: =W7+Y7+AA7+AC7+AF7 -> 2 | J7: ha | K7: ='단가산출서(가시나무류 2년차)'!L47 -> 1159148 | L7: =ROUNDDOWN(K7*H7,0) -> 2318296 | M7: ='단가산출서(가시나무류 2년차)'!L48 -> 40524 | N7: =ROUNDDOWN(H7*M7,0) -> 81048 | O7: ='단가산출서(가시나무류 2년차)'!L49 -> 20496 | P7: =ROUNDDOWN(H7*O7,0) -> 40992 | Q7: ='단가산출서(가시나무류 2년차)'!N87 -> 5.48 | R7: =ROUNDUP(Q7*H7,2) -> 10.96 | S7: 구 채종원 2구역 하부 2ha | V7: 세심정 밑 | X7: 구 채종원 2구역(25년 봄철조림) | Y7: 2 | Z7: 구 채종원 2구역(25년 가을조림) | AB7: 26년 봄철 신규(구 1) | AE7: 26년 문도지 행사지 | AH7: 한남 23년 조림지 2.9ha(사려니오름 북)
B8: 3 | D8: 3-0-1-13 8-0-5-1 | F8: 풀베기 | G8: 소나무류 | H8: =W8+Y8+AA8+AC8+AF8 -> 0 | J8: ha | K8: ='단가산출서(소나무류)'!L47 -> 1130610 | L8: =ROUNDDOWN(K8*H8,0) -> 0 | M8: ='단가산출서(소나무류)'!L48 -> 50655 | N8: =ROUNDDOWN(H8*M8,0) -> 0 | O8: ='단가산출서(소나무류)'!L49 -> 25620 | P8: =ROUNDDOWN(H8*O8,0) -> 0 | Q8: ='단가산출서(소나무류)'!N86 -> 5 | R8: =ROUNDUP(Q8*H8,2) -> 0 | S8: (상효산10-1 라디에타파인 (1ha) | V8: 라디에타 | X8: 한남 내병성조림지 | Z8: 상효17-1 | AB8: (대체)서귀포 차대검정 | AH8: 라디에타(상효산10-1):1, 한남내병성1, 상효17-1:1
B9: 4 | D9: 3-0-3-1 | F9: 풀베기 | G9: 편백 | H9: =W9+Y9+AA9+AC9+AF9 -> 0 | J9: ha | K9: ='단가산출서(편백)'!L47 -> 1429160 | L9: =ROUNDDOWN(K9*H9,0) -> 0 | M9: ='단가산출서(편백)'!L48 -> 50655 | N9: =ROUNDDOWN(H9*M9,0) -> 0 | O9: ='단가산출서(편백)'!L49 -> 25620 | P9: =ROUNDDOWN(H9*O9,0) -> 0 | Q9: ='단가산출서(편백)'!N87 -> 5.98 | R9: =ROUNDUP(Q9*H9,2) -> 0 | S9: 2차-3임반(각1.5ha*2) , 금악 1개소(1ha) | V9: 한남2 | X9: 금악 | Z9: 사려니 | AH9: 한남2곳 각1.5, 금악1
B10: 2 | D10: 4-0-8-2 | F10: 풀베기 | G10: 구상나무 | H10: =W10+Y10+AA10+AC10+AF10 -> 4.5 | J10: ha | K10: ='단가산출서(구상나무)'!L47 -> 1387685 | L10: =ROUNDDOWN(H10*K10,0) -> 6244582 | M10: ='단가산출서(구상나무)'!L48 -> 50655 | N10: =ROUNDDOWN(H10*M10,0) -> 227947 | O10: ='단가산출서(구상나무)'!L49 -> 25620 | P10: =ROUNDDOWN(H10*O10,0) -> 115290 | Q10: ='단가산출서(구상나무)'!N87 -> 6.11 | R10: =ROUNDUP(H10*Q10,2) -> 27.5 | S10: 한남시험림 현지외보존원 | V10: 한남 현지외 | W10: 4.5 | AH10: 현지외보존원 4.5
B11: 3 | D11: 4-0-2-1 | F11: 풀베기 | G11: 난대상록활엽수 (3년차 이상) | H11: =W11+Y11+AA11+AC11+AF11 -> 12 | J11: ha | K11: ='단가산출서(난대상록활엽수 3년차 이상)'!L47 -> 1559759 | L11: =ROUNDDOWN(K11*H11,0) -> 18717108 | M11: ='단가산출서(난대상록활엽수 3년차 이상)'!L48 -> 50655 | N11: =ROUNDDOWN(H11*M11,0) -> 607860 | O11: ='단가산출서(난대상록활엽수 3년차 이상)'!L49 -> 25620 | P11: =ROUNDDOWN(H11*O11,0) -> 307440 | Q11: ='단가산출서(난대상록활엽수 3년차 이상)'!N87 -> 6.67 | R11: =ROUNDUP(Q11*H11,2) -> 80.04 | S11: 한남 구 채종원3, 4구역(5.5ha), 5구역(3.5ha), 상천 산26-1(1ha), 선하지2ha | V11: 채종원(구) 3구역 | W11: 3 | X11: 채종원(구) 4구역 상부 | Y11: 2.5 | Z11: 5구역 | AA11: 3.5 | AB11: 상효산17-1 산18-1 | AE11: 상천 및 선하지 | AF11: 3 | AH11: 구채종원 2곳(3,4구역) 5.5, 상천1, 상효산17-1: 1.5(작업로포함)
B12: 6 | D12: 4-0-2-1 | F12: 풀베기(하반기?) | G12: 난대상록활엽수 (조림 2년차) | H12: =W12+Y12+AA12+AC12+AF12 -> 0 | J12: ha | K12: ='단가산출서(난대상록활엽수2년차) '!L47:M47 -> #VALUE! | L12: =ROUNDDOWN(K12*H12,0) -> #VALUE! | M12: ='단가산출서(난대상록활엽수2년차) '!L48 -> 40524 | N12: =ROUNDDOWN(H12*M12,0) -> 0 | O12: ='단가산출서(난대상록활엽수2년차) '!L49 -> 20496 | P12: =ROUNDDOWN(H12*O12,0) -> 0 | Q12: ='단가산출서(난대상록활엽수2년차) '!N87 -> 5.73 | R12: =ROUNDUP(Q12*H12,2) -> 0 | S12: 한남 23년 조림지 2ha(구 채종원)----재조림?? 한남 선하지(동백나무 조림지) | V12: 한남신규 | X12: 한남 동백나무
B13: 7 | D13: 4-0-2-1 | F13: 풀베기 | G13: 난대상록활엽수B | H13: =W13+Y13+AA13+AC13+AF13 -> 0 | J13: ha | K13: ='단가산출서(난대상록활엽수 B 3년차) '!L47 -> 1574901 | L13: =ROUNDDOWN(K13*H13,0) -> 0 | M13: ='단가산출서(난대상록활엽수 B 3년차) '!L48 -> 50655 | N13: =ROUNDDOWN(H13*M13,0) -> 0 | O13: ='단가산출서(난대상록활엽수 B 3년차) '!L49 -> 25620 | P13: =ROUNDDOWN(H13*O13,0) -> 0 | Q13: ='단가산출서(난대상록활엽수 B 3년차) '!N87 -> 6.75 | R13: =ROUNDUP(Q13*H13,2) -> 0 | S13: 한남 조림(3.5), 선하지 2ha | V13: 한남2024 구채종5 | Z13: 선하지 | AH13: 한남구채종원 24년신규조림 3.5,
B14: 9 | D14: 4-0-21-1 | F14: 풀베기 | G14: 난대상록활엽수B | H14: =W14+Y14+AA14+AC14+AF14 -> 0 | J14: ha | K14: =솎아베기!L125 -> 5838367 | L14: =ROUNDDOWN(K14*H14,0) -> 0 | M14: =솎아베기!L126 -> 291407 | N14: =ROUNDDOWN(H14*M14,0) -> 0 | O14: =솎아베기!L127 -> 133894 | P14: =ROUNDDOWN(H14*O14,0) -> 0 | Q14: =솎아베기!G125 -> 14.36234 | R14: =ROUNDUP(Q14*H14,2) -> 0 | S14: 한남 산2-1 | V14: 한남
B15: 10 | F15: 풀베기 | G15: 난대상록활엽수B | H15: =W15+Y15+AA15+AC15+AF15 -> 0 | J15: ha | K15: =SUM('어린나무가꾸기(소나무류)'!M122:N122) -> 2201061 | L15: =ROUNDDOWN(K15*H15,0) -> 0 | M15: =SUM('어린나무가꾸기(소나무류)'!M123:N123) -> 117442 | N15: =ROUNDDOWN(H15*M15,0) -> 0 | O15: =SUM('어린나무가꾸기(소나무류)'!M124:N124) -> 39456 | P15: =ROUNDDOWN(H15*O15,0) -> 0 | Q15: ='어린나무가꾸기(소나무류)'!O162 -> 10.52 | R15: =ROUNDUP(Q15*H15,2) -> 0 | S15: 위미리 3695, 2417 | V15: 위미2 | X15: 위미1
B16: 8 | F16: 풀베기 | G16: 난대상록활엽수 (당해년도) | H16: =W16+Y16+AA16+AC16+AF16 -> 0 | J16: ha | K16: ='단가산출서(난대상록활엽수 1년차)'!L47 -> 1142445 | L16: =ROUNDDOWN(K16*H16,0) -> 0 | M16: ='단가산출서(난대상록활엽수 1년차)'!L48 -> 35458 | N16: =ROUNDDOWN(H16*M16,0) -> 0 | O16: ='단가산출서(난대상록활엽수 1년차)'!L49 -> 17934 | P16: =ROUNDDOWN(H16*O16,0) -> 0 | Q16: ='단가산출서(난대상록활엽수 1년차)'!N87 -> 5.54 | R16: =ROUNDUP(Q16*H16,2) -> 0 | S16: 2025 신규조림(봄철행사) | V16: 문도지앞
B17: 4 | D17: 3-0-3-1 8-0-5-1 | F17: 가지치기 | G17: 소나무류 | H17: =W17+Y17+AA17+AC17+AF17 -> 4 | J17: ha | K17: ='소나무 가지치기'!M122 -> 1951251 | L17: =ROUNDDOWN(K17*H17,0) -> 7805004 | O17: =SUM('어린나무가꾸기(소나무류)'!M125:N125) -> 0 | P17: =ROUNDDOWN(H17*O17,0) -> 0 | Q17: ='소나무 가지치기'!C135 -> 10.8 | R17: =ROUNDUP(Q17*H17,2) -> 43.2 | S17: 한남 및 서귀포시험림 연구용 소나무류(이병지, 위험목, 폭목 가지정리) | V17: 구내 | W17: 1 | X17: 지역시험림 | Y17: 3 | AH17: 한남산5-2:4.5, 상효보존원11.5
B18: 5 | F18: 덩굴제거 | G18: 덩굴류 | H18: =W18+Y18+AA18+AC18+AF18 -> 13.6 | J18: ha | K18: ='단가산출서(덩굴제거)'!L14 -> 820822 | L18: =ROUNDDOWN(K18*H18,0) -> 11163179 | M18: ='단가산출서(덩굴제거)'!L15 -> 33432 | N18: =ROUNDDOWN(H18*M18,0) -> 454675 | O18: ='단가산출서(덩굴제거)'!L16 -> 16909 | P18: =ROUNDDOWN(H18*O18,0) -> 229962 | Q18: ='단가산출서(덩굴제거)'!N52 -> 3.3 | R18: =ROUNDUP(Q18*H18,2) -> 44.88 | S18: 저지시험림 및 한남시험림 등 임작업로 | V18: 한남임도 | W18: 10.4 | Z18: 저지임도 | AA18: 3.2 | AB18: 소규모 행사지 | AH18: 한남임도(26.7km)10, 한남구채종원1구역2.5, 구채종원2구역2, 저지임도3(7.5km), 상효 대나무
C19: ※ 총 작업인원 | D19: =R5 -> 206.58 | F19: ÷ 작업단 총 인원 | G19: 8 | H19: =ROUNDUP(D19/G19,0) -> 26 | I19: 일 | J19: + | K19: 우천, 공휴일 등 | L19: 3 | M19: =H19+L19 -> 29

Sheet 원가계산서
A1: 원 가 계 산 서
A3: □ 사업명 : | C3: =기초자료!B4 -> 2026년 정책숲가꾸기 사업 제1차
A4: □ 개 소 : | C4: =기초자료!B6 -> 서귀포시 남원읍 한남리 산2-1 외
A5: □ 사업량 : | D5: 본
A6: □ 면 적 : | C6: =기초자료!E6 -> 36.1 | D6: ha
A8: 구 분 | D8: 금 액 | E8: 적용요율 | H8: 구성비 | I8: 비고
A9: 순 공 사 원 가 | B9: 재 료 비 | C9: 직 접 재 료 비 | D9: =설계내역서!N5 -> 1371530 | H9: =D9/D32*100 -> 1.5953217
C10: 간 접 재 료 비 | D10: 0 | H10: =D10/D32*100 -> 0
C11: 소 계 | D11: =SUM(D9:D10) -> 1371530 | H11: =SUM(H9:H10) -> 1.5953217
B12: 노 무 비 | C12: 직 접 노 무 비 | D12: =설계내역서!L5 -> 46248169 | H12: =D12/D32*100 -> 53.794455
C13: 간 접 노 무 비 | D13: =ROUNDDOWN(D12*F13%,0) -> 7492203 | E13: 직접노무비의 | F13: =기초자료!C30 -> 16.2 | G13: % | H13: =D13/D32*100 -> 8.7147013
C14: 소 계 | D14: =SUM(D12:D13) -> 53740372 | H14: =SUM(H12:H13) -> 62.509156
B15: 경 비 | C15: 기계경비 | D15: =설계내역서!P5 -> 693684 | E15: 기계손료 × 장비단가 | H15: =D15/$D$32*100 -> 0.806872
C16: 고 용 보 험 료 | D16: =ROUNDDOWN(D14*F16%,0) -> 618014 | E16: 노무비의 | F16: =기초자료!C31 -> 1.15 | G16: % | H16: =D16/$D$32*100 -> 0.71885498
C17: 산 재 보 험 료 | D17: =ROUNDDOWN(D14*F17%,0) -> 3149185 | E17: 노무비의 | F17: =기초자료!C32 -> 5.86 | G17: % | H17: =D17/$D$32*100 -> 3.6630356
C18: 건 강 보 험 료 | E18: 직접노무비의 | F18: =기초자료!C33 -> 3.595 | G18: % | H18: =D18/$D$32*100 -> 0 | I18: 1개월 이상 적용
C19: 국 민 연 금 | E19: 직접노무비의 | F19: =기초자료!C35 -> 4.75 | G19: % | H19: =D19/$D$32*100 -> 0 | I19: 1개월 이상 적용
C20: 노인장기요양보험 | E20: 건강보험의 | F20: =기초자료!C34 -> 13.14 | G20: % | H20: =D20/$D$32*100 -> 0 | I20: 1개월 이상 적용
C21: 산업안전보건관리비 | D21: =(D11+D12)*F21% -> 985727.77 | E21: 재료비+직접노무비의 | F21: =기초자료!C36 -> 2.07 | G21: % | H21: =D21/$D$32*100 -> 1.1465684 | I21: 2천만원 이상 적용
C22: 기타경비 | D22: =ROUNDDOWN((D11+D14)*F22%,0) -> 2535147 | E22: 재료비+노무비의 | F22: =기초자료!C37 -> 4.6 | G22: % | H22: =D22/$D$32*100 -> 2.9488054
C23: 소 계 | D23: =SUM(D15:D22) -> 7981757.8 | H23: =SUM(H15:H22) -> 9.2841364
B24: 계 | D24: =D11+D14+D23 -> 63093660 | H24: =H11+H14+H23 -> 73.388615
A25: 일 반 관 리 비 | D25: =ROUNDDOWN((D24)*F25%,0) -> 5047492 | E25: (재+노+경비)의 | F25: =기초자료!C38 -> 8 | G25: % | H25: =D25/D28*100 -> 6.458178
A26: 재 계 | D26: =D24+D25 -> 68141152 | H26: =D26/D28*100 -> 87.185415
A27: 이 윤 | D27: =ROUNDDOWN((D14+D23+D25)*F27%,0) -> 10015443 | E27: (노+경비+일반관리비)의 | F27: =기초자료!C39 -> 15 | G27: % | H27: =D27/D28*100 -> 12.814585
A28: 총 사 업 비 | D28: =D26+D27 -> 78156595 | H28: =SUM(H26:H27) -> 100
A29: 부 가 가 치 세 | D29: =ROUNDDOWN(D28*F29%,0) -> 7815659 | E29: 총사업비의 | F29: =기초자료!C40 -> 10 | G29: %
A30: 도 급 사 업 비 | D30: =D28+D29 -> 85972254
A31: 관 급 자 재 대
A32: (최 종) 도 급 사 업 비 | D32: =ROUNDDOWN(D30+D31,-3) -> 85972000 | E32: 천원미만절사

Sheet 단가산출서(벚나무 3년차이상)
A1: ha당 숲가꾸기 단가 산출서 | Q1: 선택항목 | R1: 입력항목
A2: 위 치 | B2: =표지!E28 -> 서귀포시 남원읍 한남리 산 2-1 외 | G2: 수 종 | H2: 벚나무류 | J2: 사업면적 | K2: =설계내역서!H6 -> 0 | M2: ha
A3: 구 분 | B3: 작업량 | D3: 단위품(인원,수량, | F3: 소요품 | G3: 단가 | J3: 할인,증률 | L3: 계
A4: 단위작업 | C4: 단위 | D4: 요율) | E4: 단위 | H4: 종류 | P4: 적용여부
A5: ○ 선목 | D5: ○ 미래목 본수 | P5: 적용 | R5: 구분 | S5: 소요인력 | T5: 소요재료 | U5: 재료량
A6: - 직접노무비 | C6: =IF(B5="","",IF(B5="미래목","ha","본/ha")) | D6: =IF(B5="제거대상목",S6,S7) -> 1 | E6: =IF(B5=R7,"인/ha","인/100본당") -> 인/100본당 | F6: =IF(P5="적용",IF(B5="미래목",1,ROUND(B6*D6/100,2)),0) -> 0 | H6: 초급기술자 | J6: =$C$78 -> 0 | K6: % | L6: =ROUNDDOWN((F6*G6)*(1+J6%),0) -> 0 | R6: 제거대상목 | S6: 0.4 | T6: 적색페인트 | U6: 0.17
A7: - 재료비 | R7: 미래목 | S7: 1 | T7: 황색페인트 | U7: 0.5
A8: * 페인트 | B8: =IF(B5="미래목",$E$5,$B$6) -> 0 | C8: 본/ha | D8: =IF(B5="제거대상목",U6,U7) -> 0.5 | E8: ℓ/100본당 | F8: =IF(P5="적용",ROUND(B8*(D8/100),2),0) -> 0 | H8: =IF(B5="제거대상목",T6,T7) -> 황색페인트 | L8: =ROUNDDOWN(F8*G8,0) -> 0
A9: * 잡품 | B9: =L8 -> 0 | C9: 원 | D9: 10 | E9: % | L9: =ROUNDDOWN(B9*D9%,0) -> 0
A10: ○ 경계표시 | P10: 적용
A11: - 직접노무비 | C11: ha | D11: 0.2 | E11: 인/ha | F11: =IF(P10="적용",ROUND(B11*D11,2),0) -> 0 | G11: =기초자료!B14 -> 172068 | H11: 보통인부 | J11: =$D$78 -> 0 | K11: % | L11: =ROUNDDOWN((F11*G11)*(1+J11%),0) -> 0
A12: - 재료비
A13: * 백색페인트 | C13: ha | D13: 0.2 | E13: ℓ/ha | F13: =IF(P10="적용",ROUND(B13*D13,2),0) -> 0 | G13: 7300 | H13: 백색페인트 | L13: =ROUNDDOWN(F13*G13,0) -> 0
A14: * 잡품 | B14: =L13 -> 0 | C14: 원 | D14: 5 | E14: % | L14: =ROUNDDOWN(B14*D14%,0) -> 0
A15: ○ 작업로 선정 | P15: 적용 | R15: 구분 | S15: 100본기준 | T15: 단위 | U15: 재료명 | V15: 잡품비율
A16: - 직접노무비 | C16: km | D16: 1 | E16: 인/km | F16: =IF(P15="적용",ROUND(B16*D16,2),0) -> 0 | G16: =기초자료!B14 -> 172068 | H16: 보통인부 | J16: =$E$78 -> 0 | K16: % | L16: =ROUNDDOWN((F16*G16)*(1+J16%),0) -> 0 | R16: * 백색페인트 | S16: 0.5 | T16: ℓ/km | U16: 백색페인트 | V16: 0.05
A17: - 재료비 | R17: * 백색마킹테이프 | S17: 0.6 | T17: 롤/km | U17: 백색마킹테이프 | V17: 0
B18: =B16 -> 0 | C18: km | D18: =IF(A18=R16,S16,S17) -> 0.6 | E18: =IF(A18=R16,T16,T17) -> 롤/km | F18: =IF(P15="적용",ROUND(B18*D18,2),0) -> 0 | H18: =IF(A18=R16,U16,U17) -> 백색마킹테이프 | L18: =ROUNDDOWN(F18*G18,0) -> 0
A19: * 잡품 | B19: =L18 -> 0 | C19: 원 | D19: =IF(ISERROR(VLOOKUP($A$18,$R$16:$V$17,5,FALSE)),0,VLOOKUP($A$18,$R$16:$V$17,5,FALSE))*100 -> 0 | E19: % | L19: =ROUNDDOWN(B19*D19%,0) -> 0
A20: ○ 작업로 설치 | P20: 적용
A21: - 직접노무비
A22: * 소작업로 | C22: km | D22: 2 | E22: 인/km | F22: =IF(P20="적용",ROUND(B22*D22,2),0) -> 0 | G22: =기초자료!B14 -> 172068 | H22: 보통인부 | J22: =$F$78 -> 0 | K22: % | L22: =ROUNDDOWN((F22*G22)*(1+J22%),0) -> 0
A23: - 재료비
A24: * 연료 | B24: =F22 -> 0 | C24: 인/ha | D24: =5.6/2 -> 2.8 | E24: ℓ/km | F24: =IF(P20="적용",ROUND(B24*D24,2),0) -> 0 | H24: 휘발유 | L24: =ROUNDDOWN(F24*G24,0) -> 0
A25: * 잡품 | B25: =L24 -> 0 | C25: 원 | D25: 95 | E25: % | L25: =ROUNDDOWN(B25*D25%,0) -> 0
A26: - 기계경비 | B26: =F22 -> 0 | C26: 인 | D26: 0.0042 | E26: 1대2인 | H26: 체인톱 | L26: =ROUNDDOWN(B26*D26*G26,0) -> 0
A27: ○ 풀베기 | B27: 모두베기 | D27: 조림 3년차 이상 | P27: 적용 | R27: 구분 | S27: 조건 | T27: 사용도구
A28: ○ 묘목찾기 | B28: =T28 -> 낫 | D28: (줄베기, 모두베기에만 적용) | P28: 적용 | R28: 묘목찾기 | T28: 낫 | U28: 인/100본 | V28: 보통인부 | W28: 0.07
A29: - 직접노무비 | C29: 본/ha | D29: =W28 -> 0.07 | E29: 인/100본 | F29: =IF(P28="적용",ROUND(B29*D29/100,2),0) -> 0 | G29: =기초자료!B14 -> 172068 | H29: 보통인부 | J29: =$G$78 -> 5 | K29: % | L29: =ROUNDDOWN((F29*G29)*(1+J29%),0) -> 0 | P29: ha당 식재본수 | R29: 맹아제거 | T29: 괭이,도끼 등 | U29: 인/100본 | V29: 보통인부 | W29: 0.2
A30: ○ 맹아제거 | B30: =T29 -> 괭이,도끼 등 | D30: (둘레베기, 줄베기에만 적용) | P30: 적용 | R30: 둘레베기 | T30: 낫 | U30: 인/100본 | V30: 보통인부 | W30: 0.18
A31: - 직접노무비 | C31: 본/ha | D31: =W29 -> 0.2 | E31: 인/100본 | F31: =IF(P30="적용",ROUND(B31*D31/100,2),0) -> 0 | G31: =G29 -> 172068 | H31: 보통인부 | J31: =IF($G$64="",0,$G$64)+IF($G$69="",0,G$69) -> 5 | K31: % | L31: =ROUNDDOWN((F31*G31)*(1+J31%),0) -> 0 | R31: 줄베기 | T31: 예취기 | U31: 인/ha | V31: 특별인부 | W31: 1.3
A32: ○ 둘레베기 | B32: =T30 -> 낫 | R32: 모두베기 | S32: 조림 당해 연도 | T32: 예취기 | U32: 인/ha | V32: 특별인부 | W32: 3.5
A33: - 직접노무비 | C33: 본/ha | D33: 0.18 | E33: 인/100본 | F33: =IF((B27="둘레베기")*(P27="적용"),ROUND(B33*D33/100,2),0) -> 0 | G33: =G31 -> 172068 | H33: 보통인부 | J33: =$G$78 -> 5 | K33: % | L33: =ROUNDDOWN((F33*G33)*(1+J33%),0) -> 0 | R33: 모두베기 | S33: 조림 2년차 | T33: 예취기 | U33: 인/ha | V33: 특별인부 | W33: 4
A34: ○ 줄베기 | B34: =T31 -> 예취기 | R34: 모두베기 | S34: 조림 3년차 이상 | T34: 예취기 | U34: 인/ha | V34: 특별인부 | W34: 5
A35: - 직접노무비 | B35: 1 | C35: ha | D35: 1.3 | E35: 인/ha | F35: =IF((B27="줄베기")*(P27="적용"),ROUND(B35*D35,2),0) -> 0 | G35: =기초자료!B16 -> 226122 | H35: 특별인부 | J35: =$G$78 -> 5 | K35: % | L35: =ROUNDDOWN((F35*G35)*(1+J35%),0) -> 0
A36: - 재료비
A37: * 연료 | B37: =F35 -> 0 | C37: 인/ha | D37: 5 | E37: ℓ/일.대 | F37: =IF(P27="적용",ROUND(B37*D37,2),0) -> 0 | H37: 휘발유 | L37: =ROUNDDOWN(F37*G37,0) -> 0
A38: * 잡품 | B38: =L37 -> 0 | C38: 원 | D38: 10 | E38: % | L38: =ROUNDDOWN(B38*D38%,0) -> 0
A39: - 기계경비 | B39: =F35 -> 0 | C39: 대/ha | D39: 0.0084 | E39: 1대1인 | H39: 예초기 | L39: =ROUNDDOWN(B39*D39*G39,0) -> 0
A40: ○ 모두베기 | B40: =T32 -> 예취기 | C40: =IF($D$27="","","("&$D$27&")") -> (조림 3년차 이상) | P40: 450 | Q40: 표준지크기(m2) | R40: 생존목(본) | S40: 1ha | T40: 묘목본수
...

Sheet 단가산출서(가시나무류 2년차)
A1: ha당 숲가꾸기 단가 산출서 | Q1: 선택항목 | R1: 입력항목
A2: 위 치 | B2: =표지!E28 -> 서귀포시 남원읍 한남리 산 2-1 외 | G2: 수 종 | H2: 가시나무류 | J2: 사업면적 | K2: =설계내역서!H7 -> 2 | M2: ha
A3: 구 분 | B3: 작업량 | D3: 단위품(인원,수량, | F3: 소요품 | G3: 단가 | J3: 할인,증률 | L3: 계
A4: 단위작업 | C4: 단위 | D4: 요율) | E4: 단위 | H4: 종류 | P4: 적용여부
A5: ○ 선목 | D5: ○ 미래목 본수 | P5: 적용 | R5: 구분 | S5: 소요인력 | T5: 소요재료 | U5: 재료량
A6: - 직접노무비 | C6: =IF(B5="","",IF(B5="미래목","ha","본/ha")) | D6: =IF(B5="제거대상목",S6,S7) -> 1 | E6: =IF(B5=R7,"인/ha","인/100본당") -> 인/100본당 | F6: =IF(P5="적용",IF(B5="미래목",1,ROUND(B6*D6/100,2)),0) -> 0 | H6: 초급기술자 | J6: =$C$78 -> 0 | K6: % | L6: =ROUNDDOWN((F6*G6)*(1+J6%),0) -> 0 | R6: 제거대상목 | S6: 0.4 | T6: 적색페인트 | U6: 0.17
A7: - 재료비 | R7: 미래목 | S7: 1 | T7: 황색페인트 | U7: 0.5
A8: * 페인트 | B8: =IF(B5="미래목",$E$5,$B$6) -> 0 | C8: 본/ha | D8: =IF(B5="제거대상목",U6,U7) -> 0.5 | E8: ℓ/100본당 | F8: =IF(P5="적용",ROUND(B8*(D8/100),2),0) -> 0 | H8: =IF(B5="제거대상목",T6,T7) -> 황색페인트 | L8: =ROUNDDOWN(F8*G8,0) -> 0
A9: * 잡품 | B9: =L8 -> 0 | C9: 원 | D9: 10 | E9: % | L9: =ROUNDDOWN(B9*D9%,0) -> 0
A10: ○ 경계표시 | P10: 적용
A11: - 직접노무비 | C11: ha | D11: 0.2 | E11: 인/ha | F11: =IF(P10="적용",ROUND(B11*D11,2),0) -> 0 | G11: =기초자료!B14 -> 172068 | H11: 보통인부 | J11: =$D$78 -> 0 | K11: % | L11: =ROUNDDOWN((F11*G11)*(1+J11%),0) -> 0
A12: - 재료비
A13: * 백색페인트 | C13: ha | D13: 0.2 | E13: ℓ/ha | F13: =IF(P10="적용",ROUND(B13*D13,2),0) -> 0 | G13: 7300 | H13: 백색페인트 | L13: =ROUNDDOWN(F13*G13,0) -> 0
A14: * 잡품 | B14: =L13 -> 0 | C14: 원 | D14: 5 | E14: % | L14: =ROUNDDOWN(B14*D14%,0) -> 0
A15: ○ 작업로 선정 | P15: 적용 | R15: 구분 | S15: 100본기준 | T15: 단위 | U15: 재료명 | V15: 잡품비율
A16: - 직접노무비 | C16: km | D16: 1 | E16: 인/km | F16: =IF(P15="적용",ROUND(B16*D16,2),0) -> 0 | G16: =기초자료!B14 -> 172068 | H16: 보통인부 | J16: =$E$78 -> 0 | K16: % | L16: =ROUNDDOWN((F16*G16)*(1+J16%),0) -> 0 | R16: * 백색페인트 | S16: 0.5 | T16: ℓ/km | U16: 백색페인트 | V16: 0.05
A17: - 재료비 | R17: * 백색마킹테이프 | S17: 0.6 | T17: 롤/km | U17: 백색마킹테이프 | V17: 0
B18: =B16 -> 0 | C18: km | D18: =IF(A18=R16,S16,S17) -> 0.6 | E18: =IF(A18=R16,T16,T17) -> 롤/km | F18: =IF(P15="적용",ROUND(B18*D18,2),0) -> 0 | H18: =IF(A18=R16,U16,U17) -> 백색마킹테이프 | L18: =ROUNDDOWN(F18*G18,0) -> 0
A19: * 잡품 | B19: =L18 -> 0 | C19: 원 | D19: =IF(ISERROR(VLOOKUP($A$18,$R$16:$V$17,5,FALSE)),0,VLOOKUP($A$18,$R$16:$V$17,5,FALSE))*100 -> 0 | E19: % | L19: =ROUNDDOWN(B19*D19%,0) -> 0
A20: ○ 작업로 설치 | P20: 적용
A21: - 직접노무비
A22: * 소작업로 | C22: km | D22: 2 | E22: 인/km | F22: =IF(P20="적용",ROUND(B22*D22,2),0) -> 0 | G22: =기초자료!B14 -> 172068 | H22: 보통인부 | J22: =$F$78 -> 0 | K22: % | L22: =ROUNDDOWN((F22*G22)*(1+J22%),0) -> 0
A23: - 재료비
A24: * 연료 | B24: =F22 -> 0 | C24: 인/ha | D24: =5.6/2 -> 2.8 | E24: ℓ/km | F24: =IF(P20="적용",ROUND(B24*D24,2),0) -> 0 | H24: 휘발유 | L24: =ROUNDDOWN(F24*G24,0) -> 0
A25: * 잡품 | B25: =L24 -> 0 | C25: 원 | D25: 95 | E25: % | L25: =ROUNDDOWN(B25*D25%,0) -> 0
A26: - 기계경비 | B26: =F22 -> 0 | C26: 인 | D26: 0.0042 | E26: 1대2인 | H26: 체인톱 | L26: =ROUNDDOWN(B26*D26*G26,0) -> 0
A27: ○ 풀베기 | B27: 모두베기 | D27: 조림 2년차 | P27: 적용 | R27: 구분 | S27: 조건 | T27: 사용도구 | U27: 단위 | V27: 인력구성 | W27: 소요인력
A28: ○ 묘목찾기 | B28: =T28 -> 낫 | D28: (줄베기, 모두베기에만 적용) | P28: 적용 | R28: 묘목찾기 | T28: 낫 | U28: 인/100본 | V28: 보통인부 | W28: 0.07
A29: - 직접노무비 | B29: =T41 -> 2116.6667 | C29: 본/ha | D29: =W28 -> 0.07 | E29: 인/100본 | F29: =IF(P28="적용",ROUND(B29*D29/100,2),0) -> 1.48 | G29: =기초자료!B14 -> 172068 | H29: 보통인부 | J29: =$G$78 -> 0 | K29: % | L29: =ROUNDDOWN((F29*G29)*(1+J29%),0) -> 254660 | P29: ha당 식재본수 | R29: 맹아제거 | T29: 괭이,도끼 등 | U29: 인/100본 | V29: 보통인부 | W29: 0.2
A30: ○ 맹아제거 | B30: =T29 -> 괭이,도끼 등 | D30: (둘레베기, 줄베기에만 적용) | P30: 적용 | R30: 둘레베기 | T30: 낫 | U30: 인/100본 | V30: 보통인부 | W30: 0.18
A31: - 직접노무비 | C31: 본/ha | D31: =W29 -> 0.2 | E31: 인/100본 | F31: =IF(P30="적용",ROUND(B31*D31/100,2),0) -> 0 | G31: =G29 -> 172068 | H31: 보통인부 | J31: =IF($G$64="",0,$G$64)+IF($G$69="",0,G$69) -> 0 | K31: % | L31: =ROUNDDOWN((F31*G31)*(1+J31%),0) -> 0 | R31: 줄베기 | T31: 예취기 | U31: 인/ha | V31: 특별인부 | W31: 1.3
A32: ○ 둘레베기 | B32: =T30 -> 낫 | R32: 모두베기 | S32: 조림 당해 연도 | T32: 예취기 | U32: 인/ha | V32: 특별인부 | W32: 3.5
A33: - 직접노무비 | C33: 본/ha | D33: 0.18 | E33: 인/100본 | F33: =IF((B27="둘레베기")*(P27="적용"),ROUND(B33*D33/100,2),0) -> 0 | G33: =G31 -> 172068 | H33: 보통인부 | J33: =$G$78 -> 0 | K33: % | L33: =ROUNDDOWN((F33*G33)*(1+J33%),0) -> 0 | R33: 모두베기 | S33: 조림 2년차 | T33: 예취기 | U33: 인/ha | V33: 특별인부 | W33: 4
A34: ○ 줄베기 | B34: =T31 -> 예취기 | R34: 모두베기 | S34: 조림 3년차 이상 | T34: 예취기 | U34: 인/ha | V34: 특별인부 | W34: 5
A35: - 직접노무비 | B35: 1 | C35: ha | D35: 1.3 | E35: 인/ha | F35: =IF((B27="줄베기")*(P27="적용"),ROUND(B35*D35,2),0) -> 0 | G35: =기초자료!B16 -> 226122 | H35: 특별인부 | J35: =$G$78 -> 0 | K35: % | L35: =ROUNDDOWN((F35*G35)*(1+J35%),0) -> 0
A36: - 재료비
A37: * 연료 | B37: =F35 -> 0 | C37: 인/ha | D37: 5 | E37: ℓ/일.대 | F37: =IF(P27="적용",ROUND(B37*D37,2),0) -> 0 | H37: 휘발유 | L37: =ROUNDDOWN(F37*G37,0) -> 0
A38: * 잡품 | B38: =L37 -> 0 | C38: 원 | D38: 10 | E38: % | L38: =ROUNDDOWN(B38*D38%,0) -> 0
A39: - 기계경비 | B39: =F35 -> 0 | C39: 대/ha | D39: 0.0084 | E39: 1대1인 | H39: 예초기 | L39: =ROUNDDOWN(B39*D39*G39,0) -> 0
A40: ○ 모두베기 | B40: =T32 -> 예취기 | C40: =IF($D$27="","","("&$D$27&")") -> (조림 2년차) | P40: 2500 | Q40: 표준지크기(m2) | R40: 생존목(본) | S40: 1ha | T40: 묘목본수
...

Sheet 단가산출서(소나무류)
A1: ha당 숲가꾸기 단가 산출서 | Q1: 선택항목 | R1: 입력항목
A2: 위 치 | B2: =표지!E28 -> 서귀포시 남원읍 한남리 산 2-1 외 | G2: 수 종 | H2: 소나무류 | J2: 사업면적 | K2: =설계내역서!H8 -> 0 | M2: ha
A3: 구 분 | B3: 작업량 | D3: 단위품(인원,수량, | F3: 소요품 | G3: 단가 | J3: 할인,증률 | L3: 계
A4: 단위작업 | C4: 단위 | D4: 요율) | E4: 단위 | H4: 종류 | P4: 적용여부
A5: ○ 선목 | D5: ○ 미래목 본수 | P5: 적용 | R5: 구분 | S5: 소요인력 | T5: 소요재료 | U5: 재료량
A6: - 직접노무비 | C6: =IF(B5="","",IF(B5="미래목","ha","본/ha")) | D6: =IF(B5="제거대상목",S6,S7) -> 1 | E6: =IF(B5=R7,"인/ha","인/100본당") -> 인/100본당 | F6: =IF(P5="적용",IF(B5="미래목",1,ROUND(B6*D6/100,2)),0) -> 0 | H6: 초급기술자 | J6: =$C$77 -> 0 | K6: % | L6: =ROUNDDOWN((F6*G6)*(1+J6%),0) -> 0 | R6: 제거대상목 | S6: 0.4 | T6: 적색페인트 | U6: 0.17
A7: - 재료비 | R7: 미래목 | S7: 1 | T7: 황색페인트 | U7: 0.5
A8: * 페인트 | B8: =IF(B5="미래목",$E$5,$B$6) -> 0 | C8: 본/ha | D8: =IF(B5="제거대상목",U6,U7) -> 0.5 | E8: ℓ/100본당 | F8: =IF(P5="적용",ROUND(B8*(D8/100),2),0) -> 0 | H8: =IF(B5="제거대상목",T6,T7) -> 황색페인트 | L8: =ROUNDDOWN(F8*G8,0) -> 0
A9: * 잡품 | B9: =L8 -> 0 | C9: 원 | D9: 10 | E9: % | L9: =ROUNDDOWN(B9*D9%,0) -> 0
A10: ○ 경계표시 | P10: 적용
A11: - 직접노무비 | C11: ha | D11: 0.2 | E11: 인/ha | F11: =IF(P10="적용",ROUND(B11*D11,2),0) -> 0 | G11: =기초자료!B14 -> 172068 | H11: 보통인부 | J11: =$D$77 -> 0 | K11: % | L11: =ROUNDDOWN((F11*G11)*(1+J11%),0) -> 0
A12: - 재료비
A13: * 백색페인트 | C13: ha | D13: 0.2 | E13: ℓ/ha | F13: =IF(P10="적용",ROUND(B13*D13,2),0) -> 0 | G13: 7300 | H13: 백색페인트 | L13: =ROUNDDOWN(F13*G13,0) -> 0
A14: * 잡품 | B14: =L13 -> 0 | C14: 원 | D14: 5 | E14: % | L14: =ROUNDDOWN(B14*D14%,0) -> 0
A15: ○ 작업로 선정 | P15: 적용 | R15: 구분 | S15: 100본기준 | T15: 단위 | U15: 재료명 | V15: 잡품비율
A16: - 직접노무비 | C16: km | D16: 1 | E16: 인/km | F16: =IF(P15="적용",ROUND(B16*D16,2),0) -> 0 | G16: =기초자료!B14 -> 172068 | H16: 보통인부 | J16: =$E$77 -> 0 | K16: % | L16: =ROUNDDOWN((F16*G16)*(1+J16%),0) -> 0 | R16: * 백색페인트 | S16: 0.5 | T16: ℓ/km | U16: 백색페인트 | V16: 0.05
A17: - 재료비 | R17: * 백색마킹테이프 | S17: 0.6 | T17: 롤/km | U17: 백색마킹테이프 | V17: 0
B18: =B16 -> 0 | C18: km | D18: =IF(A18=R16,S16,S17) -> 0.6 | E18: =IF(A18=R16,T16,T17) -> 롤/km | F18: =IF(P15="적용",ROUND(B18*D18,2),0) -> 0 | H18: =IF(A18=R16,U16,U17) -> 백색마킹테이프 | L18: =ROUNDDOWN(F18*G18,0) -> 0
A19: * 잡품 | B19: =L18 -> 0 | C19: 원 | D19: =IF(ISERROR(VLOOKUP($A$18,$R$16:$V$17,5,FALSE)),0,VLOOKUP($A$18,$R$16:$V$17,5,FALSE))*100 -> 0 | E19: % | L19: =ROUNDDOWN(B19*D19%,0) -> 0
A20: ○ 작업로 설치 | P20: 적용
A21: - 직접노무비
A22: * 소작업로 | C22: km | D22: 2 | E22: 인/km | F22: =IF(P20="적용",ROUND(B22*D22,2),0) -> 0 | G22: =기초자료!B14 -> 172068 | H22: 보통인부 | J22: =$F$77 -> 0 | K22: % | L22: =ROUNDDOWN((F22*G22)*(1+J22%),0) -> 0
A23: - 재료비
A24: * 연료 | B24: =F22 -> 0 | C24: 인/ha | D24: =5.6/2 -> 2.8 | E24: ℓ/km | F24: =IF(P20="적용",ROUND(B24*D24,2),0) -> 0 | H24: 휘발유 | L24: =ROUNDDOWN(F24*G24,0) -> 0
A25: * 잡품 | B25: =L24 -> 0 | C25: 원 | D25: 95 | E25: % | L25: =ROUNDDOWN(B25*D25%,0) -> 0
A26: - 기계경비 | B26: =F22 -> 0 | C26: 인 | D26: 0.0042 | E26: 1대2인 | H26: 체인톱 | L26: =ROUNDDOWN(B26*D26*G26,0) -> 0
A27: ○ 풀베기 | B27: 모두베기 | D27: 조림 3년차 이상 | P27: 적용 | R27: 구분 | S27: 조건 | T27: 사용도구
A28: ○ 묘목찾기 | B28: =T28 -> 낫 | D28: (줄베기, 모두베기에만 적용) | P28: 적용 | R28: 묘목찾기 | T28: 낫 | U28: 인/100본 | V28: 보통인부 | W28: 0.07
A29: - 직접노무비 | B29: =T45 -> 2150 | C29: 본/ha | D29: =W28 -> 0.07 | E29: 인/100본 | G29: =기초자료!B14 -> 172068 | H29: 보통인부 | J29: =$G$77 -> 0 | K29: % | L29: =ROUNDDOWN((F29*G29)*(1+J29%),0) -> 0 | P29: ha당 식재본수 | R29: 맹아제거 | T29: 괭이,도끼 등 | U29: 인/100본 | V29: 보통인부 | W29: 0.2
A30: ○ 맹아제거 | B30: =T29 -> 괭이,도끼 등 | D30: (둘레베기, 줄베기에만 적용) | P30: 적용 | R30: 둘레베기 | T30: 낫 | U30: 인/100본 | V30: 보통인부 | W30: 0.18
A31: - 직접노무비 | C31: 본/ha | D31: =W29 -> 0.2 | E31: 인/100본 | F31: =IF(P30="적용",ROUND(B31*D31/100,2),0) -> 0 | G31: =G29 -> 172068 | H31: 보통인부 | J31: =IF($G$64="",0,$G$64)+IF($G$69="",0,G$69) -> 0 | K31: % | L31: =ROUNDDOWN((F31*G31)*(1+J31%),0) -> 0 | R31: 줄베기 | T31: 예취기 | U31: 인/ha | V31: 특별인부 | W31: 1.3
A32: ○ 둘레베기 | B32: =T30 -> 낫 | R32: 모두베기 | S32: 조림 당해 연도 | T32: 예취기 | U32: 인/ha | V32: 특별인부 | W32: 3.5
A33: - 직접노무비 | C33: 본/ha | D33: 0.18 | E33: 인/100본 | F33: =IF((B27="둘레베기")*(P27="적용"),ROUND(B33*D33/100,2),0) -> 0 | G33: =G31 -> 172068 | H33: 보통인부 | J33: =$G$77 -> 0 | K33: % | L33: =ROUNDDOWN((F33*G33)*(1+J33%),0) -> 0 | R33: 모두베기 | S33: 조림 2년차 | T33: 예취기 | U33: 인/ha | V33: 특별인부 | W33: 4
A34: ○ 줄베기 | B34: =T31 -> 예취기 | R34: 모두베기 | S34: 조림 3년차 이상 | T34: 예취기 | U34: 인/ha | V34: 특별인부 | W34: 5
A35: - 직접노무비 | B35: 1 | C35: ha | D35: 1.3 | E35: 인/ha | F35: =IF((B27="줄베기")*(P27="적용"),ROUND(B35*D35,2),0) -> 0 | G35: =기초자료!B16 -> 226122 | H35: 특별인부 | J35: =$G$77 -> 0 | K35: % | L35: =ROUNDDOWN((F35*G35)*(1+J35%),0) -> 0
A36: - 재료비
A37: * 연료 | B37: =F35 -> 0 | C37: 인/ha | D37: 5 | E37: ℓ/일.대 | F37: =IF(P27="적용",ROUND(B37*D37,2),0) -> 0 | H37: 휘발유 | L37: =ROUNDDOWN(F37*G37,0) -> 0
A38: * 잡품 | B38: =L37 -> 0 | C38: 원 | D38: 10 | E38: % | L38: =ROUNDDOWN(B38*D38%,0) -> 0
A39: - 기계경비 | B39: =F35 -> 0 | C39: 대/ha | D39: 0.0084 | E39: 1대1인 | H39: 예초기 | L39: =ROUNDDOWN(B39*D39*G39,0) -> 0
A40: ○ 모두베기 | B40: =T32 -> 예취기 | C40: =IF($D$27="","","("&$D$27&")") -> (조림 3년차 이상) | P40: 3000 | Q40: 표준지크기(m2) | R40: 생존목(본) | S40: 1ha | T40: 묘목본수
...

Sheet 단가산출서(편백)
A1: ha당 숲가꾸기 단가 산출서 | Q1: 선택항목 | R1: 입력항목
A2: 위 치 | B2: =표지!E28 -> 서귀포시 남원읍 한남리 산 2-1 외 | G2: 수 종 | H2: 편백 | J2: 사업면적 | K2: =설계내역서!H9 -> 0 | M2: ha
A3: 구 분 | B3: 작업량 | D3: 단위품(인원,수량, | F3: 소요품 | G3: 단가 | J3: 할인,증률 | L3: 계
A4: 단위작업 | C4: 단위 | D4: 요율) | E4: 단위 | H4: 종류 | P4: 적용여부
A5: ○ 선목 | D5: ○ 미래목 본수 | P5: 적용 | R5: 구분 | S5: 소요인력 | T5: 소요재료 | U5: 재료량
A6: - 직접노무비 | C6: =IF(B5="","",IF(B5="미래목","ha","본/ha")) | D6: =IF(B5="제거대상목",S6,S7) -> 1 | E6: =IF(B5=R7,"인/ha","인/100본당") -> 인/100본당 | F6: =IF(P5="적용",IF(B5="미래목",1,ROUND(B6*D6/100,2)),0) -> 0 | H6: 초급기술자 | J6: =$C$78 -> 0 | K6: % | L6: =ROUNDDOWN((F6*G6)*(1+J6%),0) -> 0 | R6: 제거대상목 | S6: 0.4 | T6: 적색페인트 | U6: 0.17
A7: - 재료비 | R7: 미래목 | S7: 1 | T7: 황색페인트 | U7: 0.5
A8: * 페인트 | B8: =IF(B5="미래목",$E$5,$B$6) -> 0 | C8: 본/ha | D8: =IF(B5="제거대상목",U6,U7) -> 0.5 | E8: ℓ/100본당 | F8: =IF(P5="적용",ROUND(B8*(D8/100),2),0) -> 0 | H8: =IF(B5="제거대상목",T6,T7) -> 황색페인트 | L8: =ROUNDDOWN(F8*G8,0) -> 0
A9: * 잡품 | B9: =L8 -> 0 | C9: 원 | D9: 10 | E9: % | L9: =ROUNDDOWN(B9*D9%,0) -> 0
A10: ○ 경계표시 | P10: 적용
A11: - 직접노무비 | C11: ha | D11: 0.2 | E11: 인/ha | F11: =IF(P10="적용",ROUND(B11*D11,2),0) -> 0 | G11: =기초자료!B14 -> 172068 | H11: 보통인부 | J11: =$D$78 -> 0 | K11: % | L11: =ROUNDDOWN((F11*G11)*(1+J11%),0) -> 0
A12: - 재료비
A13: * 백색페인트 | C13: ha | D13: 0.2 | E13: ℓ/ha | F13: =IF(P10="적용",ROUND(B13*D13,2),0) -> 0 | G13: 7300 | H13: 백색페인트 | L13: =ROUNDDOWN(F13*G13,0) -> 0
A14: * 잡품 | B14: =L13 -> 0 | C14: 원 | D14: 5 | E14: % | L14: =ROUNDDOWN(B14*D14%,0) -> 0
A15: ○ 작업로 선정 | P15: 적용 | R15: 구분 | S15: 100본기준 | T15: 단위 | U15: 재료명 | V15: 잡품비율
A16: - 직접노무비 | C16: km | D16: 1 | E16: 인/km | F16: =IF(P15="적용",ROUND(B16*D16,2),0) -> 0 | G16: =기초자료!B14 -> 172068 | H16: 보통인부 | J16: =$E$78 -> 0 | K16: % | L16: =ROUNDDOWN((F16*G16)*(1+J16%),0) -> 0 | R16: * 백색페인트 | S16: 0.5 | T16: ℓ/km | U16: 백색페인트 | V16: 0.05
A17: - 재료비 | R17: * 백색마킹테이프 | S17: 0.6 | T17: 롤/km | U17: 백색마킹테이프 | V17: 0
B18: =B16 -> 0 | C18: km | D18: =IF(A18=R16,S16,S17) -> 0.6 | E18: =IF(A18=R16,T16,T17) -> 롤/km | F18: =IF(P15="적용",ROUND(B18*D18,2),0) -> 0 | H18: =IF(A18=R16,U16,U17) -> 백색마킹테이프 | L18: =ROUNDDOWN(F18*G18,0) -> 0
A19: * 잡품 | B19: =L18 -> 0 | C19: 원 | D19: =IF(ISERROR(VLOOKUP($A$18,$R$16:$V$17,5,FALSE)),0,VLOOKUP($A$18,$R$16:$V$17,5,FALSE))*100 -> 0 | E19: % | L19: =ROUNDDOWN(B19*D19%,0) -> 0
A20: ○ 작업로 설치 | P20: 적용
A21: - 직접노무비
A22: * 소작업로 | C22: km | D22: 2 | E22: 인/km | F22: =IF(P20="적용",ROUND(B22*D22,2),0) -> 0 | G22: =기초자료!B14 -> 172068 | H22: 보통인부 | J22: =$F$78 -> 0 | K22: % | L22: =ROUNDDOWN((F22*G22)*(1+J22%),0) -> 0
A23: - 재료비
A24: * 연료 | B24: =F22 -> 0 | C24: 인/ha | D24: =5.6/2 -> 2.8 | E24: ℓ/km | F24: =IF(P20="적용",ROUND(B24*D24,2),0) -> 0 | H24: 휘발유 | L24: =ROUNDDOWN(F24*G24,0) -> 0
A25: * 잡품 | B25: =L24 -> 0 | C25: 원 | D25: 95 | E25: % | L25: =ROUNDDOWN(B25*D25%,0) -> 0
A26: - 기계경비 | B26: =F22 -> 0 | C26: 인 | D26: 0.0042 | E26: 1대2인 | H26: 체인톱 | L26: =ROUNDDOWN(B26*D26*G26,0) -> 0
A27: ○ 풀베기 | B27: 모두베기 | D27: 조림 3년차 이상 | P27: 적용 | R27: 구분 | S27: 조건 | T27: 사용도구
A28: ○ 묘목찾기 | B28: =T28 -> 낫 | D28: (줄베기, 모두베기에만 적용) | P28: 적용 | R28: 묘목찾기 | T28: 낫 | U28: 인/100본 | V28: 보통인부 | W28: 0.07
A29: - 직접노무비 | B29: =T45 -> 1400 | C29: 본/ha | D29: =W28 -> 0.07 | E29: 인/100본 | F29: =IF(P28="적용",ROUND(B29*D29/100,2),0) -> 0.98 | G29: =기초자료!B14 -> 172068 | H29: 보통인부 | J29: =$G$78 -> 10 | K29: % | L29: =ROUNDDOWN((F29*G29)*(1+J29%),0) -> 185489 | P29: ha당 식재본수 | R29: 맹아제거 | T29: 괭이,도끼 등 | U29: 인/100본 | V29: 보통인부 | W29: 0.2
A30: ○ 맹아제거 | B30: =T29 -> 괭이,도끼 등 | D30: (둘레베기, 줄베기에만 적용) | P30: 적용 | R30: 둘레베기 | T30: 낫 | U30: 인/100본 | V30: 보통인부 | W30: 0.18
A31: - 직접노무비 | C31: 본/ha | D31: =W29 -> 0.2 | E31: 인/100본 | F31: =IF(P30="적용",ROUND(B31*D31/100,2),0) -> 0 | G31: =G29 -> 172068 | H31: 보통인부 | J31: =IF($G$64="",0,$G$64)+IF($G$69="",0,G$69) -> 10 | K31: % | L31: =ROUNDDOWN((F31*G31)*(1+J31%),0) -> 0 | R31: 줄베기 | T31: 예취기 | U31: 인/ha | V31: 특별인부 | W31: 1.3
A32: ○ 둘레베기 | B32: =T30 -> 낫 | R32: 모두베기 | S32: 조림 당해 연도 | T32: 예취기 | U32: 인/ha | V32: 특별인부 | W32: 3.5
A33: - 직접노무비 | C33: 본/ha | D33: 0.18 | E33: 인/100본 | F33: =IF((B27="둘레베기")*(P27="적용"),ROUND(B33*D33/100,2),0) -> 0 | G33: =G31 -> 172068 | H33: 보통인부 | J33: =$G$78 -> 10 | K33: % | L33: =ROUNDDOWN((F33*G33)*(1+J33%),0) -> 0 | R33: 모두베기 | S33: 조림 2년차 | T33: 예취기 | U33: 인/ha | V33: 특별인부 | W33: 4
A34: ○ 줄베기 | B34: =T31 -> 예취기 | R34: 모두베기 | S34: 조림 3년차 이상 | T34: 예취기 | U34: 인/ha | V34: 특별인부 | W34: 5
A35: - 직접노무비 | C35: ha | D35: 1.3 | E35: 인/ha | F35: =IF((B27="줄베기")*(P27="적용"),ROUND(B35*D35,2),0) -> 0 | G35: =기초자료!B16 -> 226122 | H35: 특별인부 | J35: =$G$78 -> 10 | K35: % | L35: =ROUNDDOWN((F35*G35)*(1+J35%),0) -> 0
A36: - 재료비
A37: * 연료 | B37: =F35 -> 0 | C37: 인/ha | D37: 5 | E37: ℓ/일.대 | F37: =IF(P27="적용",ROUND(B37*D37,2),0) -> 0 | H37: 휘발유 | L37: =ROUNDDOWN(F37*G37,0) -> 0
A38: * 잡품 | B38: =L37 -> 0 | C38: 원 | D38: 10 | E38: % | L38: =ROUNDDOWN(B38*D38%,0) -> 0
A39: - 기계경비 | B39: =F35 -> 0 | C39: 대/ha | D39: 0.0084 | E39: 1대1인 | H39: 예초기 | L39: =ROUNDDOWN(B39*D39*G39,0) -> 0
A40: ○ 모두베기 | B40: =T32 -> 예취기 | C40: =IF($D$27="","","("&$D$27&")") -> (조림 3년차 이상) | P40: 3000 | Q40: 표준지크기(m2) | R40: 생존목(본) | S40: 1ha | T40: 묘목본수
...

Sheet 단가산출서(구상나무)
A1: ha당 숲가꾸기 단가 산출서 | Q1: 선택항목 | R1: 입력항목
A2: 위 치 | B2: =표지!E28 -> 서귀포시 남원읍 한남리 산 2-1 외 | G2: 수 종 | H2: 구상나무 | J2: 면적 | K2: =설계내역서!H10 -> 4.5 | M2: ha
A3: 구 분 | B3: 작업량 | D3: 단위품(인원,수량, | F3: 소요품 | G3: 단가 | J3: 할인,증률 | L3: 계
A4: 단위작업 | C4: 단위 | D4: 요율) | E4: 단위 | H4: 종류 | P4: 적용여부
A5: ○ 선목 | D5: ○ 미래목 본수 | P5: 적용 | R5: 구분 | S5: 소요인력 | T5: 소요재료
A6: - 직접노무비 | C6: =IF(B5="","",IF(B5="미래목","ha","본/ha")) | D6: =IF(B5="제거대상목",S6,S7) -> 1 | E6: =IF(B5=R7,"인/ha","인/100본당") -> 인/100본당 | F6: =IF(P5="적용",IF(B5="미래목",1,ROUND(B6*D6/100,2)),0) -> 0 | H6: 초급기술자 | J6: =$C$78 -> 0 | K6: % | L6: =ROUNDDOWN((F6*G6)*(1+J6%),0) -> 0 | R6: 제거대상목 | S6: 0.4 | T6: 적색페인트
A7: - 재료비 | R7: 미래목 | S7: 1 | T7: 황색페인트
A8: * 페인트 | B8: =IF(B5="미래목",$E$5,$B$6) -> 0 | C8: 본/ha | D8: =IF(B5="제거대상목",U6,U7) -> 0 | E8: ℓ/100본당 | F8: =IF(P5="적용",ROUND(B8*(D8/100),2),0) -> 0 | H8: =IF(B5="제거대상목",T6,T7) -> 황색페인트 | L8: =ROUNDDOWN(F8*G8,0) -> 0
A9: * 잡품 | B9: =L8 -> 0 | C9: 원 | D9: 10 | E9: % | L9: =ROUNDDOWN(B9*D9%,0) -> 0
A10: ○ 경계표시 | P10: 적용
A11: - 직접노무비 | C11: ha | D11: 0.2 | E11: 인/ha | F11: =IF(P10="적용",ROUND(B11*D11,2),0) -> 0 | G11: =기초자료!B14 -> 172068 | H11: 보통인부 | J11: =$D$78 -> 0 | K11: % | L11: =ROUNDDOWN((F11*G11)*(1+J11%),0) -> 0
A12: - 재료비
A13: * 백색페인트 | C13: ha | D13: 0.2 | E13: ℓ/ha | F13: =IF(P10="적용",ROUND(B13*D13,2),0) -> 0 | G13: 7300 | H13: 백색페인트 | L13: =ROUNDDOWN(F13*G13,0) -> 0
A14: * 잡품 | B14: =L13 -> 0 | C14: 원 | D14: 5 | E14: % | L14: =ROUNDDOWN(B14*D14%,0) -> 0
A15: ○ 작업로 선정 | P15: 적용 | R15: 구분 | S15: 100본기준 | T15: 단위
A16: - 직접노무비 | C16: km | D16: 1 | E16: 인/km | F16: =IF(P15="적용",ROUND(B16*D16,2),0) -> 0 | G16: =기초자료!B14 -> 172068 | H16: 보통인부 | J16: =$E$78 -> 0 | K16: % | L16: =ROUNDDOWN((F16*G16)*(1+J16%),0) -> 0 | R16: * 백색페인트 | S16: 0.5 | T16: ℓ/km
A17: - 재료비 | R17: * 백색마킹테이프 | S17: 0.6 | T17: 롤/km
B18: =B16 -> 0 | C18: km | D18: =IF(A18=R16,S16,S17) -> 0.6 | E18: =IF(A18=R16,T16,T17) -> 롤/km | F18: =IF(P15="적용",ROUND(B18*D18,2),0) -> 0 | H18: =IF(A18=R16,U16,U17) -> 0 | L18: =ROUNDDOWN(F18*G18,0) -> 0
A19: * 잡품 | B19: =L18 -> 0 | C19: 원 | D19: =IF(ISERROR(VLOOKUP($A$18,$R$16:$V$17,5,FALSE)),0,VLOOKUP($A$18,$R$16:$V$17,5,FALSE))*100 -> 0 | E19: % | L19: =ROUNDDOWN(B19*D19%,0) -> 0
A20: ○ 작업로 설치 | P20: 적용
A21: - 직접노무비
A22: * 소작업로 | C22: km | D22: 2 | E22: 인/km | F22: =IF(P20="적용",ROUND(B22*D22,2),0) -> 0 | G22: =기초자료!B14 -> 172068 | H22: 보통인부 | J22: =$F$78 -> 0 | K22: % | L22: =ROUNDDOWN((F22*G22)*(1+J22%),0) -> 0
A23: - 재료비
A24: * 연료 | B24: =F22 -> 0 | C24: 인/ha | D24: =5.6/2 -> 2.8 | E24: ℓ/km | F24: =IF(P20="적용",ROUND(B24*D24,2),0) -> 0 | H24: 휘발유 | L24: =ROUNDDOWN(F24*G24,0) -> 0
A25: * 잡품 | B25: =L24 -> 0 | C25: 원 | D25: 95 | E25: % | L25: =ROUNDDOWN(B25*D25%,0) -> 0
A26: - 기계경비 | B26: =F22 -> 0 | C26: 인 | D26: 0.0042 | E26: 1대2인 | H26: 체인톱 | L26: =ROUNDDOWN(B26*D26*G26,0) -> 0
A27: ○ 풀베기 | B27: 모두베기 | D27: 조림 3년차 이상 | P27: 적용 | R27: 구분 | S27: 조건 | T27: 사용도구
A28: ○ 묘목찾기 | B28: =T28 -> 낫 | D28: (줄베기, 모두베기에만 적용) | P28: 적용 | R28: 묘목찾기 | T28: 낫
A29: - 직접노무비 | B29: =T41 -> 1583.3333 | C29: 본/ha | D29: =T61 -> 0.07 | E29: 인/100본 | F29: =IF(P28="적용",ROUND(B29*D29/100,2),0) -> 1.11 | G29: =기초자료!B14 -> 172068 | H29: 보통인부 | J29: =$G$78 -> 5 | K29: % | L29: =ROUNDDOWN((F29*G29)*(1+J29%),0) -> 200545 | P29: ha당 식재본수 | R29: 맹아제거 | T29: 괭이,도끼 등
A30: ○ 맹아제거 | B30: =T29 -> 괭이,도끼 등 | D30: (둘레베기, 줄베기에만 적용) | P30: 적용 | R30: 둘레베기 | T30: 낫
A31: - 직접노무비 | C31: 본/ha | D31: =W29 -> 0 | E31: 인/100본 | F31: =IF(P30="적용",ROUND(B31*D31/100,2),0) -> 0 | G31: =G29 -> 172068 | H31: 보통인부 | J31: =IF($G$64="",0,$G$64)+IF($G$69="",0,G$69) -> 5 | K31: % | L31: =ROUNDDOWN((F31*G31)*(1+J31%),0) -> 0 | R31: 줄베기 | T31: 예취기
A32: ○ 둘레베기 | B32: =T30 -> 낫 | R32: 모두베기 | S32: 조림 당해 연도 | T32: 예취기
A33: - 직접노무비 | C33: 본/ha | D33: 0.18 | E33: 인/100본 | F33: =IF((B27="둘레베기")*(P27="적용"),ROUND(B33*D33/100,2),0) -> 0 | G33: =G31 -> 172068 | H33: 보통인부 | J33: =$G$78 -> 5 | K33: % | L33: =ROUNDDOWN((F33*G33)*(1+J33%),0) -> 0 | R33: 모두베기 | S33: 조림 2년차 | T33: 예취기
A34: ○ 줄베기 | B34: =T31 -> 예취기 | R34: 모두베기 | S34: 조림 3년차 이상 | T34: 예취기
A35: - 직접노무비 | C35: ha | D35: 1.3 | E35: 인/ha | F35: =IF((B27="줄베기")*(P27="적용"),ROUND(B35*D35,2),0) -> 0 | G35: =기초자료!B16 -> 226122 | H35: 특별인부 | J35: =$G$78 -> 5 | K35: % | L35: =ROUNDDOWN((F35*G35)*(1+J35%),0) -> 0
A36: - 재료비
A37: * 연료 | B37: =F35 -> 0 | C37: 인/ha | D37: 5 | E37: ℓ/일.대 | F37: =IF(P27="적용",ROUND(B37*D37,2),0) -> 0 | H37: 휘발유 | L37: =ROUNDDOWN(F37*G37,0) -> 0
A38: * 잡품 | B38: =L37 -> 0 | C38: 원 | D38: 10 | E38: % | L38: =ROUNDDOWN(B38*D38%,0) -> 0
A39: - 기계경비 | B39: =F35 -> 0 | C39: 대/ha | D39: 0.0084 | E39: 1대1인 | H39: 예초기 | L39: =ROUNDDOWN(B39*D39*G39,0) -> 0
A40: ○ 모두베기 | B40: =T32 -> 예취기 | C40: =IF($D$27="","","("&$D$27&")") -> (조림 3년차 이상) | P40: 2500 | Q40: 표준지크기(m2) | R40: 생존목(본) | S40: 1ha | T40: 묘목본수
...

Sheet 단가산출서(난대상록활엽수 3년차 이상)
A1: ha당 숲가꾸기 단가 산출서 | Q1: 선택항목 | R1: 입력항목
A2: 위 치 | B2: =표지!E28 -> 서귀포시 남원읍 한남리 산 2-1 외 | G2: 수 종 | H2: 난대상록활엽수 | J2: 사업면적 | K2: =설계내역서!H11 -> 12 | M2: ha
A3: 구 분 | B3: 작업량 | D3: 단위품(인원,수량, | F3: 소요품 | G3: 단가 | J3: 할인,증률 | L3: 계
A4: 단위작업 | C4: 단위 | D4: 요율) | E4: 단위 | H4: 종류 | P4: 적용여부
A5: ○ 선목 | D5: ○ 미래목 본수 | P5: 적용 | R5: 구분 | S5: 소요인력 | T5: 소요재료 | U5: 재료량
A6: - 직접노무비 | C6: =IF(B5="","",IF(B5="미래목","ha","본/ha")) | D6: =IF(B5="제거대상목",S6,S7) -> 1 | E6: =IF(B5=R7,"인/ha","인/100본당") -> 인/100본당 | F6: =IF(P5="적용",IF(B5="미래목",1,ROUND(B6*D6/100,2)),0) -> 0 | H6: 초급기술자 | J6: =$C$78 -> 0 | K6: % | L6: =ROUNDDOWN((F6*G6)*(1+J6%),0) -> 0 | R6: 제거대상목 | S6: 0.4 | T6: 적색페인트 | U6: 0.17
A7: - 재료비 | R7: 미래목 | S7: 1 | T7: 황색페인트 | U7: 0.5
A8: * 페인트 | B8: =IF(B5="미래목",$E$5,$B$6) -> 0 | C8: 본/ha | D8: =IF(B5="제거대상목",U6,U7) -> 0.5 | E8: ℓ/100본당 | F8: =IF(P5="적용",ROUND(B8*(D8/100),2),0) -> 0 | H8: =IF(B5="제거대상목",T6,T7) -> 황색페인트 | L8: =ROUNDDOWN(F8*G8,0) -> 0
A9: * 잡품 | B9: =L8 -> 0 | C9: 원 | D9: 10 | E9: % | L9: =ROUNDDOWN(B9*D9%,0) -> 0
A10: ○ 경계표시 | P10: 적용
A11: - 직접노무비 | C11: ha | D11: 0.2 | E11: 인/ha | F11: =IF(P10="적용",ROUND(B11*D11,2),0) -> 0 | G11: =기초자료!B14 -> 172068 | H11: 보통인부 | J11: =$D$78 -> 0 | K11: % | L11: =ROUNDDOWN((F11*G11)*(1+J11%),0) -> 0
A12: - 재료비
A13: * 백색페인트 | C13: ha | D13: 0.2 | E13: ℓ/ha | F13: =IF(P10="적용",ROUND(B13*D13,2),0) -> 0 | G13: 7300 | H13: 백색페인트 | L13: =ROUNDDOWN(F13*G13,0) -> 0
A14: * 잡품 | B14: =L13 -> 0 | C14: 원 | D14: 5 | E14: % | L14: =ROUNDDOWN(B14*D14%,0) -> 0
A15: ○ 작업로 선정 | P15: 적용 | R15: 구분 | S15: 100본기준 | T15: 단위 | U15: 재료명 | V15: 잡품비율
A16: - 직접노무비 | C16: km | D16: 1 | E16: 인/km | F16: =IF(P15="적용",ROUND(B16*D16,2),0) -> 0 | G16: =기초자료!B14 -> 172068 | H16: 보통인부 | J16: =$E$78 -> 0 | K16: % | L16: =ROUNDDOWN((F16*G16)*(1+J16%),0) -> 0 | R16: * 백색페인트 | S16: 0.5 | T16: ℓ/km | U16: 백색페인트 | V16: 0.05
A17: - 재료비 | R17: * 백색마킹테이프 | S17: 0.6 | T17: 롤/km | U17: 백색마킹테이프 | V17: 0
B18: =B16 -> 0 | C18: km | D18: =IF(A18=R16,S16,S17) -> 0.6 | E18: =IF(A18=R16,T16,T17) -> 롤/km | F18: =IF(P15="적용",ROUND(B18*D18,2),0) -> 0 | H18: =IF(A18=R16,U16,U17) -> 백색마킹테이프 | L18: =ROUNDDOWN(F18*G18,0) -> 0
A19: * 잡품 | B19: =L18 -> 0 | C19: 원 | D19: =IF(ISERROR(VLOOKUP($A$18,$R$16:$V$17,5,FALSE)),0,VLOOKUP($A$18,$R$16:$V$17,5,FALSE))*100 -> 0 | E19: % | L19: =ROUNDDOWN(B19*D19%,0) -> 0
A20: ○ 작업로 설치 | P20: 적용
A21: - 직접노무비
A22: * 소작업로 | C22: km | D22: 2 | E22: 인/km | F22: =IF(P20="적용",ROUND(B22*D22,2),0) -> 0 | G22: =기초자료!B14 -> 172068 | H22: 보통인부 | J22: =$F$78 -> 0 | K22: % | L22: =ROUNDDOWN((F22*G22)*(1+J22%),0) -> 0
A23: - 재료비
A24: * 연료 | B24: =F22 -> 0 | C24: 인/ha | D24: =5.6/2 -> 2.8 | E24: ℓ/km | F24: =IF(P20="적용",ROUND(B24*D24,2),0) -> 0 | H24: 휘발유 | L24: =ROUNDDOWN(F24*G24,0) -> 0
A25: * 잡품 | B25: =L24 -> 0 | C25: 원 | D25: 95 | E25: % | L25: =ROUNDDOWN(B25*D25%,0) -> 0
A26: - 기계경비 | B26: =F22 -> 0 | C26: 인 | D26: 0.0042 | E26: 1대2인 | H26: 체인톱 | L26: =ROUNDDOWN(B26*D26*G26,0) -> 0
A27: ○ 풀베기 | B27: 모두베기 | D27: 조림 3년차 이상 | P27: 적용 | R27: 구분 | S27: 조건 | T27: 사용도구 | U27: 단위 | V27: 인력구성 | W27: 소요인력
A28: ○ 묘목찾기 | B28: =T28 -> 낫 | D28: (줄베기, 모두베기에만 적용) | P28: 적용 | R28: 묘목찾기 | T28: 낫 | U28: 인/100본 | V28: 보통인부 | W28: 0.07
A29: - 직접노무비 | B29: =U45 -> 2383.3333 | C29: 본/ha | D29: =W28 -> 0.07 | E29: 인/100본 | F29: =IF(P28="적용",ROUND(B29*D29/100,2),0) -> 1.67 | G29: =기초자료!B14 -> 172068 | H29: 보통인부 | J29: =$G$78 -> 10 | K29: % | L29: =ROUNDDOWN((F29*G29)*(1+J29%),0) -> 316088 | P29: ha당 식재본수 | R29: 맹아제거 | T29: 괭이,도끼 등 | U29: 인/100본 | V29: 보통인부 | W29: 0.2
A30: ○ 맹아제거 | B30: =T29 -> 괭이,도끼 등 | D30: (둘레베기, 줄베기에만 적용) | P30: 적용 | R30: 둘레베기 | T30: 낫 | U30: 인/100본 | V30: 보통인부 | W30: 0.18
A31: - 직접노무비 | C31: 본/ha | D31: =W29 -> 0.2 | E31: 인/100본 | F31: =IF(P30="적용",ROUND(B31*D31/100,2),0) -> 0 | G31: =G29 -> 172068 | H31: 보통인부 | J31: =IF($G$64="",0,$G$64)+IF($G$69="",0,G$69) -> 10 | K31: % | L31: =ROUNDDOWN((F31*G31)*(1+J31%),0) -> 0 | R31: 줄베기 | T31: 예취기 | U31: 인/ha | V31: 특별인부 | W31: 1.3
A32: ○ 둘레베기 | B32: =T30 -> 낫 | R32: 모두베기 | S32: 조림 당해 연도 | T32: 예취기 | U32: 인/ha | V32: 특별인부 | W32: 3.5
A33: - 직접노무비 | C33: 본/ha | D33: 0.18 | E33: 인/100본 | F33: =IF((B27="둘레베기")*(P27="적용"),ROUND(B33*D33/100,2),0) -> 0 | G33: =G31 -> 172068 | H33: 보통인부 | J33: =$G$78 -> 10 | K33: % | L33: =ROUNDDOWN((F33*G33)*(1+J33%),0) -> 0 | R33: 모두베기 | S33: 조림 2년차 | T33: 예취기 | U33: 인/ha | V33: 특별인부 | W33: 4
A34: ○ 줄베기 | B34: =T31 -> 예취기 | R34: 모두베기 | S34: 조림 3년차 이상 | T34: 예취기 | U34: 인/ha | V34: 특별인부 | W34: 5
A35: - 직접노무비 | B35: 1 | C35: ha | D35: 1.3 | E35: 인/ha | F35: =IF((B27="줄베기")*(P27="적용"),ROUND(B35*D35,2),0) -> 0 | G35: =기초자료!B16 -> 226122 | H35: 특별인부 | J35: =$G$78 -> 10 | K35: % | L35: =ROUNDDOWN((F35*G35)*(1+J35%),0) -> 0
A36: - 재료비
A37: * 연료 | B37: =F35 -> 0 | C37: 인/ha | D37: 5 | E37: ℓ/일.대 | F37: =IF(P27="적용",ROUND(B37*D37,2),0) -> 0 | H37: 휘발유 | L37: =ROUNDDOWN(F37*G37,0) -> 0
A38: * 잡품 | B38: =L37 -> 0 | C38: 원 | D38: 10 | E38: % | L38: =ROUNDDOWN(B38*D38%,0) -> 0
A39: - 기계경비 | B39: =F35 -> 0 | C39: 대/ha | D39: 0.0084 | E39: 1대1인 | H39: 예초기 | L39: =ROUNDDOWN(B39*D39*G39,0) -> 0
A40: ○ 모두베기 | B40: =T32 -> 예취기 | C40: =IF($D$27="","","("&$D$27&")") -> (조림 3년차 이상) | P40: 3000 | Q40: 표준지크기(m2) | R40: 생존목(본) | S40: 1ha | T40: 묘목본수
...

Sheet 단가산출서(난대상록활엽수2년차) 
A1: ha당 숲가꾸기 단가 산출서 | Q1: 선택항목 | R1: 입력항목
A2: 위 치 | B2: =표지!E28 -> 서귀포시 남원읍 한남리 산 2-1 외 | G2: 수 종 | H2: 난대상록활엽수 | J2: 사업면적 | K2: =설계내역서!H12 -> 0 | M2: ha
A3: 구 분 | B3: 작업량 | D3: 단위품(인원,수량, | F3: 소요품 | G3: 단가 | J3: 할인,증률 | L3: 계 | R3: 구분 | S3: 조건 | T3: 사용도구 | U3: 단위 | V3: 인력구성 | W3: 소요인력
A4: 단위작업 | C4: 단위 | D4: 요율) | E4: 단위 | H4: 종류 | P4: 적용여부 | R4: 묘목찾기 | T4: 낫 | U4: 인/100본 | V4: 보통인부 | W4: 0.07
A5: ○ 선목 | D5: ○ 미래목 본수 | P5: 적용
A6: - 직접노무비 | C6: =IF(B5="","",IF(B5="미래목","ha","본/ha")) | D6: =IF(B5="제거대상목",S6,S7) -> 0 | E6: =IF(B5=R7,"인/ha","인/100본당") -> 인/ha | F6: =IF(P5="적용",IF(B5="미래목",1,ROUND(B6*D6/100,2)),0) -> 0 | H6: 초급기술자 | J6: =$C$78 -> 0 | K6: % | L6: =ROUNDDOWN((F6*G6)*(1+J6%),0) -> 0
A7: - 재료비
A8: * 페인트 | B8: =IF(B5="미래목",$E$5,$B$6) -> 0 | C8: 본/ha | D8: =IF(B5="제거대상목",U6,U7) -> 0 | E8: ℓ/100본당 | F8: =IF(P5="적용",ROUND(B8*(D8/100),2),0) -> 0 | H8: =IF(B5="제거대상목",T6,T7) -> 0 | L8: =ROUNDDOWN(F8*G8,0) -> 0
A9: * 잡품 | B9: =L8 -> 0 | C9: 원 | D9: 10 | E9: % | L9: =ROUNDDOWN(B9*D9%,0) -> 0
A10: ○ 경계표시 | P10: 적용
A11: - 직접노무비 | C11: ha | D11: 0.2 | E11: 인/ha | F11: =IF(P10="적용",ROUND(B11*D11,2),0) -> 0 | G11: =기초자료!B14 -> 172068 | H11: 보통인부 | J11: =$D$78 -> 0 | K11: % | L11: =ROUNDDOWN((F11*G11)*(1+J11%),0) -> 0
A12: - 재료비
A13: * 백색페인트 | C13: ha | D13: 0.2 | E13: ℓ/ha | F13: =IF(P10="적용",ROUND(B13*D13,2),0) -> 0 | G13: 7300 | H13: 백색페인트 | L13: =ROUNDDOWN(F13*G13,0) -> 0
A14: * 잡품 | B14: =L13 -> 0 | C14: 원 | D14: 5 | E14: % | L14: =ROUNDDOWN(B14*D14%,0) -> 0
A15: ○ 작업로 선정 | P15: 적용
A16: - 직접노무비 | C16: km | D16: 1 | E16: 인/km | F16: =IF(P15="적용",ROUND(B16*D16,2),0) -> 0 | G16: =기초자료!B14 -> 172068 | H16: 보통인부 | J16: =$E$78 -> 0 | K16: % | L16: =ROUNDDOWN((F16*G16)*(1+J16%),0) -> 0
A17: - 재료비
B18: =B16 -> 0 | C18: km | D18: =IF(A18=R16,S16,S17) -> 0 | E18: =IF(A18=R16,T16,T17) -> 0 | F18: =IF(P15="적용",ROUND(B18*D18,2),0) -> 0 | H18: =IF(A18=R16,U16,U17) -> 0 | L18: =ROUNDDOWN(F18*G18,0) -> 0
A19: * 잡품 | B19: =L18 -> 0 | C19: 원 | D19: =IF(ISERROR(VLOOKUP($A$18,$R$16:$V$17,5,FALSE)),0,VLOOKUP($A$18,$R$16:$V$17,5,FALSE))*100 -> 0 | E19: % | L19: =ROUNDDOWN(B19*D19%,0) -> 0
A20: ○ 작업로 설치 | P20: 적용
A21: - 직접노무비
A22: * 소작업로 | C22: km | D22: 2 | E22: 인/km | F22: =IF(P20="적용",ROUND(B22*D22,2),0) -> 0 | G22: =기초자료!B14 -> 172068 | H22: 보통인부 | J22: =$F$78 -> 0 | K22: % | L22: =ROUNDDOWN((F22*G22)*(1+J22%),0) -> 0
A23: - 재료비
A24: * 연료 | B24: =F22 -> 0 | C24: 인/ha | D24: =5.6/2 -> 2.8 | E24: ℓ/km | F24: =IF(P20="적용",ROUND(B24*D24,2),0) -> 0 | H24: 휘발유 | L24: =ROUNDDOWN(F24*G24,0) -> 0
A25: * 잡품 | B25: =L24 -> 0 | C25: 원 | D25: 95 | E25: % | L25: =ROUNDDOWN(B25*D25%,0) -> 0
A26: - 기계경비 | B26: =F22 -> 0 | C26: 인 | D26: 0.0042 | E26: 1대2인 | H26: 체인톱 | L26: =ROUNDDOWN(B26*D26*G26,0) -> 0
A27: ○ 풀베기 | B27: 모두베기 | D27: 조림 2년차 | P27: 적용
A28: ○ 묘목찾기 | B28: =T4 -> 낫 | D28: (줄베기, 모두베기에만 적용) | P28: 적용
A29: - 직접노무비 | B29: =T41 -> 2475 | C29: 본/ha | D29: =W4 -> 0.07 | E29: 인/100본 | F29: =IF(P28="적용",ROUND(B29*D29/100,2),0) -> 1.73 | G29: =기초자료!B14 -> 172068 | H29: 보통인부 | J29: =$G$78 -> 10 | K29: % | L29: =ROUNDDOWN((F29*G29)*(1+J29%),0) -> 327445 | P29: ha당 식재본수
A30: ○ 맹아제거 | B30: =T29 -> 0 | D30: (둘레베기, 줄베기에만 적용) | P30: 적용 | R30: 둘레베기 | T30: 낫 | U30: 인/100본 | V30: 보통인부 | W30: 0.18
A31: - 직접노무비 | C31: 본/ha | D31: =W29 -> 0 | E31: 인/100본 | F31: =IF(P30="적용",ROUND(B31*D31/100,2),0) -> 0 | G31: =G29 -> 172068 | H31: 보통인부 | J31: =IF($G$64="",0,$G$64)+IF($G$69="",0,G$69) -> 10 | K31: % | L31: =ROUNDDOWN((F31*G31)*(1+J31%),0) -> 0 | R31: 줄베기 | T31: 예취기 | U31: 인/ha | V31: 특별인부 | W31: 1.3
A32: ○ 둘레베기 | B32: =T30 -> 낫 | R32: 모두베기 | S32: 조림 당해 연도 | T32: 예취기 | U32: 인/ha | V32: 특별인부 | W32: 3.5
A33: - 직접노무비 | C33: 본/ha | D33: 0.18 | E33: 인/100본 | F33: =IF((B27="둘레베기")*(P27="적용"),ROUND(B33*D33/100,2),0) -> 0 | G33: =G31 -> 172068 | H33: 보통인부 | J33: =$G$78 -> 10 | K33: % | L33: =ROUNDDOWN((F33*G33)*(1+J33%),0) -> 0 | R33: 모두베기 | S33: 조림 2년차 | T33: 예취기 | U33: 인/ha | V33: 특별인부 | W33: 4
A34: ○ 줄베기 | B34: =T31 -> 예취기 | R34: 모두베기 | S34: 조림 3년차 이상 | T34: 예취기 | U34: 인/ha | V34: 특별인부 | W34: 5
A35: - 직접노무비 | B35: 1 | C35: ha | D35: 1.3 | E35: 인/ha | F35: =IF((B27="줄베기")*(P27="적용"),ROUND(B35*D35,2),0) -> 0 | G35: =기초자료!B16 -> 226122 | H35: 특별인부 | J35: =$G$78 -> 10 | K35: % | L35: =ROUNDDOWN((F35*G35)*(1+J35%),0) -> 0
A36: - 재료비
A37: * 연료 | B37: =F35 -> 0 | C37: 인/ha | D37: 5 | E37: ℓ/일.대 | F37: =IF(P27="적용",ROUND(B37*D37,2),0) -> 0 | H37: 휘발유 | L37: =ROUNDDOWN(F37*G37,0) -> 0
A38: * 잡품 | B38: =L37 -> 0 | C38: 원 | D38: 10 | E38: % | L38: =ROUNDDOWN(B38*D38%,0) -> 0
A39: - 기계경비 | B39: =F35 -> 0 | C39: 대/ha | D39: 0.0084 | E39: 1대1인 | H39: 예초기 | L39: =ROUNDDOWN(B39*D39*G39,0) -> 0
A40: ○ 모두베기 | B40: =T32 -> 예취기 | C40: =IF($D$27="","","("&$D$27&")") -> (조림 2년차) | P40: 3000 | Q40: 표준지크기(m2) | R40: 생존목(본) | S40: 1ha | T40: 묘목본수
...

Sheet 단가산출서(난대상록활엽수 B 3년차) 
A1: ha당 숲가꾸기 단가 산출서 | Q1: 선택항목 | R1: 입력항목
A2: 위 치 | B2: =설계내역서!C6 -> 서귀포시 남원읍 한남리 산 2-1 외 | G2: 수 종 | H2: 난대상록활엽수 | J2: 사업면적 | K2: =설계내역서!H13 -> 0 | M2: ha
A3: 구 분 | B3: 작업량 | D3: 단위품(인원,수량, | F3: 소요품 | G3: 단가 | J3: 할인,증률 | L3: 계 | R3: 구분 | S3: 조건 | T3: 사용도구 | U3: 단위 | V3: 인력구성 | W3: 소요인력
A4: 단위작업 | C4: 단위 | D4: 요율) | E4: 단위 | H4: 종류 | P4: 적용여부 | R4: 묘목찾기 | T4: 낫 | U4: 인/100본 | V4: 보통인부 | W4: 0.07
A5: ○ 선목 | D5: ○ 미래목 본수 | P5: 적용
A6: - 직접노무비 | C6: =IF(B5="","",IF(B5="미래목","ha","본/ha")) | D6: =IF(B5="제거대상목",S6,S7) -> 0 | E6: =IF(B5=R7,"인/ha","인/100본당") -> 인/ha | F6: =IF(P5="적용",IF(B5="미래목",1,ROUND(B6*D6/100,2)),0) -> 0 | H6: 초급기술자 | J6: =$C$78 -> 0 | K6: % | L6: =ROUNDDOWN((F6*G6)*(1+J6%),0) -> 0
A7: - 재료비
A8: * 페인트 | B8: =IF(B5="미래목",$E$5,$B$6) -> 0 | C8: 본/ha | D8: =IF(B5="제거대상목",U6,U7) -> 0 | E8: ℓ/100본당 | F8: =IF(P5="적용",ROUND(B8*(D8/100),2),0) -> 0 | H8: =IF(B5="제거대상목",T6,T7) -> 0 | L8: =ROUNDDOWN(F8*G8,0) -> 0
A9: * 잡품 | B9: =L8 -> 0 | C9: 원 | D9: 10 | E9: % | L9: =ROUNDDOWN(B9*D9%,0) -> 0
A10: ○ 경계표시 | P10: 적용
A11: - 직접노무비 | C11: ha | D11: 0.2 | E11: 인/ha | F11: =IF(P10="적용",ROUND(B11*D11,2),0) -> 0 | G11: =기초자료!B14 -> 172068 | H11: 보통인부 | J11: =$D$78 -> 0 | K11: % | L11: =ROUNDDOWN((F11*G11)*(1+J11%),0) -> 0
A12: - 재료비
A13: * 백색페인트 | C13: ha | D13: 0.2 | E13: ℓ/ha | F13: =IF(P10="적용",ROUND(B13*D13,2),0) -> 0 | G13: 7300 | H13: 백색페인트 | L13: =ROUNDDOWN(F13*G13,0) -> 0
A14: * 잡품 | B14: =L13 -> 0 | C14: 원 | D14: 5 | E14: % | L14: =ROUNDDOWN(B14*D14%,0) -> 0
A15: ○ 작업로 선정 | P15: 적용
A16: - 직접노무비 | C16: km | D16: 1 | E16: 인/km | F16: =IF(P15="적용",ROUND(B16*D16,2),0) -> 0 | G16: =기초자료!B14 -> 172068 | H16: 보통인부 | J16: =$E$78 -> 0 | K16: % | L16: =ROUNDDOWN((F16*G16)*(1+J16%),0) -> 0
A17: - 재료비
B18: =B16 -> 0 | C18: km | D18: =IF(A18=R16,S16,S17) -> 0 | E18: =IF(A18=R16,T16,T17) -> 0 | F18: =IF(P15="적용",ROUND(B18*D18,2),0) -> 0 | H18: =IF(A18=R16,U16,U17) -> 0 | L18: =ROUNDDOWN(F18*G18,0) -> 0
A19: * 잡품 | B19: =L18 -> 0 | C19: 원 | D19: =IF(ISERROR(VLOOKUP($A$18,$R$16:$V$17,5,FALSE)),0,VLOOKUP($A$18,$R$16:$V$17,5,FALSE))*100 -> 0 | E19: % | L19: =ROUNDDOWN(B19*D19%,0) -> 0
A20: ○ 작업로 설치 | P20: 적용
A21: - 직접노무비
A22: * 소작업로 | C22: km | D22: 2 | E22: 인/km | F22: =IF(P20="적용",ROUND(B22*D22,2),0) -> 0 | G22: =기초자료!B14 -> 172068 | H22: 보통인부 | J22: =$F$78 -> 0 | K22: % | L22: =ROUNDDOWN((F22*G22)*(1+J22%),0) -> 0
A23: - 재료비
A24: * 연료 | B24: =F22 -> 0 | C24: 인/ha | D24: =5.6/2 -> 2.8 | E24: ℓ/km | F24: =IF(P20="적용",ROUND(B24*D24,2),0) -> 0 | H24: 휘발유 | L24: =ROUNDDOWN(F24*G24,0) -> 0
A25: * 잡품 | B25: =L24 -> 0 | C25: 원 | D25: 95 | E25: % | L25: =ROUNDDOWN(B25*D25%,0) -> 0
A26: - 기계경비 | B26: =F22 -> 0 | C26: 인 | D26: 0.0042 | E26: 1대2인 | H26: 체인톱 | L26: =ROUNDDOWN(B26*D26*G26,0) -> 0
A27: ○ 풀베기 | B27: 모두베기 | D27: 조림 3년차 이상 | P27: 적용
A28: ○ 묘목찾기 | B28: =T4 -> 낫 | D28: (줄베기, 모두베기에만 적용) | P28: 적용
A29: - 직접노무비 | B29: =T41 -> 2500 | C29: 본/ha | D29: =W4 -> 0.07 | E29: 인/100본 | F29: =IF(P28="적용",ROUND(B29*D29/100,2),0) -> 1.75 | G29: =기초자료!B14 -> 172068 | H29: 보통인부 | J29: =$G$78 -> 10 | K29: % | L29: =ROUNDDOWN((F29*G29)*(1+J29%),0) -> 331230 | P29: ha당 식재본수
A30: ○ 맹아제거 | B30: =T29 -> 0 | D30: (둘레베기, 줄베기에만 적용) | P30: 적용 | R30: 둘레베기 | T30: 낫 | U30: 인/100본 | V30: 보통인부 | W30: 0.18
A31: - 직접노무비 | C31: 본/ha | D31: =W29 -> 0 | E31: 인/100본 | F31: =IF(P30="적용",ROUND(B31*D31/100,2),0) -> 0 | G31: =G29 -> 172068 | H31: 보통인부 | J31: =IF($G$64="",0,$G$64)+IF($G$69="",0,G$69) -> 10 | K31: % | L31: =ROUNDDOWN((F31*G31)*(1+J31%),0) -> 0 | R31: 줄베기 | T31: 예취기 | U31: 인/ha | V31: 특별인부 | W31: 1.3
A32: ○ 둘레베기 | B32: =T30 -> 낫 | R32: 모두베기 | S32: 조림 당해 연도 | T32: 예취기 | U32: 인/ha | V32: 특별인부 | W32: 3.5
A33: - 직접노무비 | C33: 본/ha | D33: 0.18 | E33: 인/100본 | F33: =IF((B27="둘레베기")*(P27="적용"),ROUND(B33*D33/100,2),0) -> 0 | G33: =G31 -> 172068 | H33: 보통인부 | J33: =$G$78 -> 10 | K33: % | L33: =ROUNDDOWN((F33*G33)*(1+J33%),0) -> 0 | R33: 모두베기 | S33: 조림 2년차 | T33: 예취기 | U33: 인/ha | V33: 특별인부 | W33: 4
A34: ○ 줄베기 | B34: =T31 -> 예취기 | R34: 모두베기 | S34: 조림 3년차 이상 | T34: 예취기 | U34: 인/ha | V34: 특별인부 | W34: 5
A35: - 직접노무비 | B35: 1 | C35: ha | D35: 1.3 | E35: 인/ha | F35: =IF((B27="줄베기")*(P27="적용"),ROUND(B35*D35,2),0) -> 0 | G35: =기초자료!B16 -> 226122 | H35: 특별인부 | J35: =$G$78 -> 10 | K35: % | L35: =ROUNDDOWN((F35*G35)*(1+J35%),0) -> 0
A36: - 재료비
A37: * 연료 | B37: =F35 -> 0 | C37: 인/ha | D37: 5 | E37: ℓ/일.대 | F37: =IF(P27="적용",ROUND(B37*D37,2),0) -> 0 | H37: 휘발유 | L37: =ROUNDDOWN(F37*G37,0) -> 0
A38: * 잡품 | B38: =L37 -> 0 | C38: 원 | D38: 10 | E38: % | L38: =ROUNDDOWN(B38*D38%,0) -> 0
A39: - 기계경비 | B39: =F35 -> 0 | C39: 대/ha | D39: 0.0084 | E39: 1대1인 | H39: 예초기 | L39: =ROUNDDOWN(B39*D39*G39,0) -> 0
A40: ○ 모두베기 | B40: =T32 -> 예취기 | C40: =IF($D$27="","","("&$D$27&")") -> (조림 3년차 이상) | P40: 3000 | Q40: 표준지크기(m2) | R40: 생존목(본) | S40: 1ha | T40: 묘목본수
...

Sheet 단가산출서(난대상록활엽수 1년차)
A1: ha당 숲가꾸기 단가 산출서 | Q1: 선택항목 | R1: 입력항목
A2: 위 치 | B2: =설계내역서!C6 -> 서귀포시 남원읍 한남리 산 2-1 외 | G2: 수 종 | H2: 난대상록활엽수 | J2: 사업면적 | K2: =설계내역서!H16 -> 0 | M2: ha
A3: 구 분 | B3: 작업량 | D3: 단위품(인원,수량, | F3: 소요품 | G3: 단가 | J3: 할인,증률 | L3: 계 | R3: 구분 | S3: 조건 | T3: 사용도구 | U3: 단위 | V3: 인력구성 | W3: 소요인력
A4: 단위작업 | C4: 단위 | D4: 요율) | E4: 단위 | H4: 종류 | P4: 적용여부 | R4: 묘목찾기 | T4: 낫 | U4: 인/100본 | V4: 보통인부 | W4: 0.07
A5: ○ 선목 | D5: ○ 미래목 본수 | P5: 적용
A6: - 직접노무비 | C6: =IF(B5="","",IF(B5="미래목","ha","본/ha")) | D6: =IF(B5="제거대상목",S6,S7) -> 0 | E6: =IF(B5=R7,"인/ha","인/100본당") -> 인/ha | F6: =IF(P5="적용",IF(B5="미래목",1,ROUND(B6*D6/100,2)),0) -> 0 | H6: 초급기술자 | J6: =$C$78 -> 0 | K6: % | L6: =ROUNDDOWN((F6*G6)*(1+J6%),0) -> 0
A7: - 재료비
A8: * 페인트 | B8: =IF(B5="미래목",$E$5,$B$6) -> 0 | C8: 본/ha | D8: =IF(B5="제거대상목",U6,U7) -> 0 | E8: ℓ/100본당 | F8: =IF(P5="적용",ROUND(B8*(D8/100),2),0) -> 0 | H8: =IF(B5="제거대상목",T6,T7) -> 0 | L8: =ROUNDDOWN(F8*G8,0) -> 0
A9: * 잡품 | B9: =L8 -> 0 | C9: 원 | D9: 10 | E9: % | L9: =ROUNDDOWN(B9*D9%,0) -> 0
A10: ○ 경계표시 | P10: 적용
A11: - 직접노무비 | C11: ha | D11: 0.2 | E11: 인/ha | F11: =IF(P10="적용",ROUND(B11*D11,2),0) -> 0 | G11: =기초자료!B14 -> 172068 | H11: 보통인부 | J11: =$D$78 -> 0 | K11: % | L11: =ROUNDDOWN((F11*G11)*(1+J11%),0) -> 0
A12: - 재료비
A13: * 백색페인트 | C13: ha | D13: 0.2 | E13: ℓ/ha | F13: =IF(P10="적용",ROUND(B13*D13,2),0) -> 0 | G13: 7300 | H13: 백색페인트 | L13: =ROUNDDOWN(F13*G13,0) -> 0
A14: * 잡품 | B14: =L13 -> 0 | C14: 원 | D14: 5 | E14: % | L14: =ROUNDDOWN(B14*D14%,0) -> 0
A15: ○ 작업로 선정 | P15: 적용
A16: - 직접노무비 | C16: km | D16: 1 | E16: 인/km | F16: =IF(P15="적용",ROUND(B16*D16,2),0) -> 0 | G16: =기초자료!B14 -> 172068 | H16: 보통인부 | J16: =$E$78 -> 0 | K16: % | L16: =ROUNDDOWN((F16*G16)*(1+J16%),0) -> 0
A17: - 재료비
B18: =B16 -> 0 | C18: km | D18: =IF(A18=R16,S16,S17) -> 0 | E18: =IF(A18=R16,T16,T17) -> 0 | F18: =IF(P15="적용",ROUND(B18*D18,2),0) -> 0 | H18: =IF(A18=R16,U16,U17) -> 0 | L18: =ROUNDDOWN(F18*G18,0) -> 0
A19: * 잡품 | B19: =L18 -> 0 | C19: 원 | D19: =IF(ISERROR(VLOOKUP($A$18,$R$16:$V$17,5,FALSE)),0,VLOOKUP($A$18,$R$16:$V$17,5,FALSE))*100 -> 0 | E19: % | L19: =ROUNDDOWN(B19*D19%,0) -> 0
A20: ○ 작업로 설치 | P20: 적용
A21: - 직접노무비
A22: * 소작업로 | C22: km | D22: 2 | E22: 인/km | F22: =IF(P20="적용",ROUND(B22*D22,2),0) -> 0 | G22: =기초자료!B14 -> 172068 | H22: 보통인부 | J22: =$F$78 -> 0 | K22: % | L22: =ROUNDDOWN((F22*G22)*(1+J22%),0) -> 0
A23: - 재료비
A24: * 연료 | B24: =F22 -> 0 | C24: 인/ha | D24: =5.6/2 -> 2.8 | E24: ℓ/km | F24: =IF(P20="적용",ROUND(B24*D24,2),0) -> 0 | H24: 휘발유 | L24: =ROUNDDOWN(F24*G24,0) -> 0
A25: * 잡품 | B25: =L24 -> 0 | C25: 원 | D25: 95 | E25: % | L25: =ROUNDDOWN(B25*D25%,0) -> 0
A26: - 기계경비 | B26: =F22 -> 0 | C26: 인 | D26: 0.0042 | E26: 1대2인 | H26: 체인톱 | L26: =ROUNDDOWN(B26*D26*G26,0) -> 0
A27: ○ 풀베기 | B27: 모두베기 | D27: 조림 당해 연도 | P27: 적용
A28: ○ 묘목찾기 | B28: =T4 -> 낫 | D28: (줄베기, 모두베기에만 적용) | P28: 적용
A29: - 직접노무비 | B29: =T41 -> 2916.6667 | C29: 본/ha | D29: =W4 -> 0.07 | E29: 인/100본 | F29: =IF(P28="적용",ROUND(B29*D29/100,2),0) -> 2.04 | G29: =기초자료!B14 -> 172068 | H29: 보통인부 | J29: =$G$78 -> 0 | K29: % | L29: =ROUNDDOWN((F29*G29)*(1+J29%),0) -> 351018 | P29: ha당 식재본수
A30: ○ 맹아제거 | B30: =T29 -> 0 | D30: (둘레베기, 줄베기에만 적용) | P30: 적용 | R30: 둘레베기 | T30: 낫 | U30: 인/100본 | V30: 보통인부 | W30: 0.18
A31: - 직접노무비 | C31: 본/ha | D31: =W29 -> 0 | E31: 인/100본 | F31: =IF(P30="적용",ROUND(B31*D31/100,2),0) -> 0 | G31: =G29 -> 172068 | H31: 보통인부 | J31: =IF($G$64="",0,$G$64)+IF($G$69="",0,G$69) -> 0 | K31: % | L31: =ROUNDDOWN((F31*G31)*(1+J31%),0) -> 0 | R31: 줄베기 | T31: 예취기 | U31: 인/ha | V31: 특별인부 | W31: 1.3
A32: ○ 둘레베기 | B32: =T30 -> 낫 | R32: 모두베기 | S32: 조림 당해 연도 | T32: 예취기 | U32: 인/ha | V32: 특별인부 | W32: 3.5
A33: - 직접노무비 | C33: 본/ha | D33: 0.18 | E33: 인/100본 | F33: =IF((B27="둘레베기")*(P27="적용"),ROUND(B33*D33/100,2),0) -> 0 | G33: =G31 -> 172068 | H33: 보통인부 | J33: =$G$78 -> 0 | K33: % | L33: =ROUNDDOWN((F33*G33)*(1+J33%),0) -> 0 | R33: 모두베기 | S33: 조림 2년차 | T33: 예취기 | U33: 인/ha | V33: 특별인부 | W33: 4
A34: ○ 줄베기 | B34: =T31 -> 예취기 | R34: 모두베기 | S34: 조림 3년차 이상 | T34: 예취기 | U34: 인/ha | V34: 특별인부 | W34: 5
A35: - 직접노무비 | B35: 1 | C35: ha | D35: 1.3 | E35: 인/ha | F35: =IF((B27="줄베기")*(P27="적용"),ROUND(B35*D35,2),0) -> 0 | G35: =기초자료!B16 -> 226122 | H35: 특별인부 | J35: =$G$78 -> 0 | K35: % | L35: =ROUNDDOWN((F35*G35)*(1+J35%),0) -> 0
A36: - 재료비
A37: * 연료 | B37: =F35 -> 0 | C37: 인/ha | D37: 5 | E37: ℓ/일.대 | F37: =IF(P27="적용",ROUND(B37*D37,2),0) -> 0 | H37: 휘발유 | L37: =ROUNDDOWN(F37*G37,0) -> 0
A38: * 잡품 | B38: =L37 -> 0 | C38: 원 | D38: 10 | E38: % | L38: =ROUNDDOWN(B38*D38%,0) -> 0
A39: - 기계경비 | B39: =F35 -> 0 | C39: 대/ha | D39: 0.0084 | E39: 1대1인 | H39: 예초기 | L39: =ROUNDDOWN(B39*D39*G39,0) -> 0
