Workbook
Name dlqudgkr: [1]단재적표!#REF!
Name dlqudgkr: [1]단재적표!#REF!
Name dlqudgkr: [1]단재적표!#REF!
Name dlqudgkr: [1]단재적표!#REF!
Name dlqudgkr: [1]단재적표!#REF!
Name dlqudgkr: [1]단재적표!#REF!
Name dlqudgkr: [1]단재적표!#REF!
Name dlqudgkr: [1]단재적표!#REF!
Name dlqudgkr: [1]단재적표!#REF!
Name dlqudgkr: [1]단재적표!#REF!
Name dlqudgkr: [1]단재적표!#REF!
Name dlqudgkr: [1]단재적표!#REF!
Name dudals: [1]단재적표!#REF!
Name dudals: [1]단재적표!#REF!
Name dudals: [1]단재적표!#REF!
Name dudals: [1]단재적표!#REF!
Name dudals: [1]단재적표!#REF!
Name dudals: [1]단재적표!#REF!
Name pet매트: [2]unitpric!#REF!
Name pet매트: [2]unitpric!#REF!
Name pet매트: [2]unitpric!#REF!
Name pet매트: [2]unitpric!#REF!
Name pet매트: [2]unitpric!#REF!
Name pet매트: [2]unitpric!#REF!
Name pet매트: [2]unitpric!#REF!
Name pe플륨관: [2]unitpric!#REF!
Name pe플륨관: [2]unitpric!#REF!
Name pe플륨관: [2]unitpric!#REF!
Name pe플륨관: [2]unitpric!#REF!
Name pe플륨관: [2]unitpric!#REF!
Name pe플륨관: [2]unitpric!#REF!
Name pe플륨관: [2]unitpric!#REF!
Name pp마대: [2]unitpric!#REF!
Name pp마대: [2]unitpric!#REF!
Name pp마대: [2]unitpric!#REF!
Name pp마대: [2]unitpric!#REF!
Name pp마대: [2]unitpric!#REF!
Name pp마대: [2]unitpric!#REF!
Name pp마대: [2]unitpric!#REF!
Name Print_Area_MI: #REF!
Name Print_Area_MI: #REF!
Name Print_Area_MI: #REF!
Name Print_Area_MI: #REF!
Name Print_Area_MI: #REF!
Name Print_Area_MI: #REF!
Name Print_Area_MI: #REF!
Name pvc코팅망: [2]unitpric!#REF!
Name pvc코팅망: [2]unitpric!#REF!
Name pvc코팅망: [2]unitpric!#REF!
Name pvc코팅망: [2]unitpric!#REF!
Name pvc코팅망: [2]unitpric!#REF!
Name pvc코팅망: [2]unitpric!#REF!
Name pvc코팅망: [2]unitpric!#REF!
Name pvc코팅선: [2]unitpric!#REF!
Name pvc코팅선: [2]unitpric!#REF!
Name pvc코팅선: [2]unitpric!#REF!
Name pvc코팅선: [2]unitpric!#REF!
Name pvc코팅선: [2]unitpric!#REF!
Name pvc코팅선: [2]unitpric!#REF!
Name pvc코팅선: [2]unitpric!#REF!

Sheet 표지
A6: 2026년 정책숲가꾸기 사업 제1차
A9: 제주산림과학연구시험림
A17: 난대·아열대산림연구소
A20: 소 장 | C20: 실장 | E20: 심 사 | G20: 설계자 (산림주무관 강경식) | I20: 산림공학기술자 (기술고급) | L20: 설계 | M20: 2026년 | N20: 7월 | O20: 일
L21: 심사 | M21: =M20 -> 2026년 | N21: =N20 -> 7월 | O21: 일
A23: =A6 -> 2026년 정책숲가꾸기 사업 제1차
A24: =A9 -> 제주산림과학연구시험림
C28: o. 소 재 지 : | E28: 서귀포시 남원읍 한남리 산 2-1 외
C30: o. 면 적 : | E30: =설계내역서!H5 -> 36.1 | F30: ha
C32: o. 도급예정액 : | E32: ="일금"&NUMBERSTRING(원가계산서!D32,1)&"원정(\"&TEXT(원가계산서!D32,"0,0")&")" -> 일금팔천오백구십칠만이천원정(\85,972,000)
C34: o. 총사업비 : | E34: ="일금"&NUMBERSTRING(원가계산서!D32,1)&"원정(\"&TEXT(원가계산서!D32,"0,0")&")" -> 일금팔천오백구십칠만이천원정(\85,972,000)
A35: 난대·아열대산림연구소

Sheet 평정서
A1: 예 정 가 격 평 정 서
A4: □ 사 업 명 : | C4: =표지!A6 -> 2026년 정책숲가꾸기 사업 제1차
A5: □ 사 업 장 소 : | C5: =표지!E28 -> 서귀포시 남원읍 한남리 산 2-1 외
A6: □ 면적(사업량) : | C6: =SUM(G6:G9) -> 36.1 | D6: ha | E6: 사업량 | F6: 풀베기 | G6: =SUM(설계내역서!H6:'설계내역서'!H16) -> 18.5 | H6: ha
A7: □ 사 업 기 간 : | C7: =설계내역서!M19 -> 29 | D7: 일 | F7: 덩굴제거 | G7: =설계내역서!H18 -> 13.6 | H7: ha
A8: □ 예 산 과 목 : | C8: 1534-302-420-03 (숲가꾸기 공사비) | F8: 가지치기 | G8: =설계내역서!H17 -> 4 | H8: ha
B11: 도급예정액 : | C11: =표지!E32 -> 일금팔천오백구십칠만이천원정(\85,972,000)
B13: 평 정 액 : | C13: \ (일금: )
C16: 위와 같이 평정함.
C18: 2026. . .
A20: 평정관 : 난대·아열대산림연구소장 (인)

Sheet 예정공정표
A1: 예 정 공 정 표
A4: =표지!A6 -> 2026년 정책숲가꾸기 사업 제1차 | F4: 기간 : | G4: =설계내역서!M19 -> 29 | J4: 일
A5: 사 업 종 | B5: =A4 -> 2026년 정책숲가꾸기 사업 제1차
B6: =G4*90% -> 26.1 | F6: =G4*10% -> 2.9 | J6: 비 고
A7: 대상지 확인 경계표시 ( 1인 x 2일) | J7: 감독공무원이 표시
A9: 작업실행
A11: 작업장정리 및 보완

Sheet 기초자료
A1: 1. 기초 자료
A3: □ 숲가꾸기사업 현황
A4: 사 업 명 | B4: =표지!A6 -> 2026년 정책숲가꾸기 사업 제1차 | D4: 사업 년도 | E4: 2026
A5: 사 업 종 | B5: 풀베기, 덩굴제거 등 | D5: 기 번
A6: 개 소 | B6: 서귀포시 남원읍 한남리 산2-1 외 | D6: 사업 면적 | E6: =설계내역서!H5+설계내역서!I5 -> 36.1 | F6: ha
A7: 수 종 | B7: 벚나무류 외 | D7: 작 성 일 | E7: 2026. 6.
A8: 입목생산(㎥) | D8: 생산지정(㎥)
A9: 작 성 자 | B9: 청원산림보호직 강경식 | D9: 확 인 자 | E9: 임업연구관 정수영
A10: 연구소장 | B10: 임업연구관 김 석 권
A12: □ 인건비, 재료비 단가
A13: 구 분 | B13: 단가 | C13: 규격 | D13: 비 고
A14: 보통인부 단가 | B14: 172068 | C14: 원 | D14: 26년 상반기 정부노임단가 기준
A15: 벌목부 | B15: 253243 | C15: 원
A16: 특별인부 단가 | B16: 226122 | C16: 원
A17: 건설기계운전기사 | B17: 283297 | C17: 원
A18: 초급기술자 | C18: 원 | D18: 엔지니어링 노임단가('26년 숲가꾸기 원가요율적용)
A19: 휘발유 거래 단가 | B19: =ROUNDDOWN(F19/1.1,0) -> 1842 | C19: 원/L | D19: 한국석유공사(2026년 6월 제주) | F19: 2027
A20: 경유 거래단가 | B20: =ROUNDDOWN(F20/1.1,0) -> 1835 | C20: 원/L | D20: ＂ | F20: 2019
A21: 글리포세이드(농약) | B21: 10000 | C21: 원/병 | D21: 단가 적용
A22: Fluroxypyr-meptyl + Triclypyr-TEA 미탁제 | B22: 10000 | C22: 원/병 | D22: 단가 적용
A23: 친환경 비닐랩 | B23: 100 | C23: 원/장 | D23: 단가 적용
A24: 배부식분무기 | B24: 200000 | C24: 대 | D24: 숲가꾸기 설계감리 및 사업지침 77p
A25: 체인톱 | B25: 800000 | C25: 대 | D25: 숲가꾸기 설계감리 및 사업지침 77p
A26: 배낭식동력예취기 | B26: 610000 | C26: 대
A28: □ 원가계산 법정 요율 등(2026년 조림 및 숲가꾸기 사업 원가작성 요율 적용기준 공문)
A29: 구 분 | B29: 적용방법 | C29: 요율 | D29: 단위 | E29: 적용기준('26년 숲가꾸기사업 원가작성 적용요율)
A30: 간접노무비 | B30: 직접노무비의 | C30: 16.2 | D30: % | E30: 조달청 토목공사원가계산 제비율 (조경, 50억 미만)
A31: 고용보험료 | B31: 노무비의 | C31: 1.15 | D31: % | E31: 「고용보험 및 산업재해보상보험의 보험료징수 등에 관한 법률」시행령 제12조
A32: 산재보험료 | B32: 노무비의 | C32: 5.86 | D32: % | E32: 고용노동부 고시 사업종류별 산재보험료율 * 사업종류별 요율 + 통상적 출퇴근 요율
A33: 건강보험료 | B33: 직접노무비의 | C33: 3.595 | D33: % | E33: 사회보험의 보험료 적용기준 (작업기간이 30일 이상일때)
A34: 노인장기요양보험 | B34: 건강보험료의 | C34: 13.14 | D34: % | E34: 「노인장기요양보험법」시행령 제4조 (작업기간이 30일 이상일때)
A35: 국민연금 | B35: 직접노무비의 | C35: 4.75 | D35: % | E35: 사회보험의 보험료 적용기준 (작업기간이 30일 이상일때)
A36: 산업안전보건 관리비 | B36: 재료비+직접노무비의 | C36: 2.07 | D36: % | E36: 건설업산업안전관리비계상 및사용기준 (공사금액 20,000,000원 이상일때) | H36: 3.15%(솎아베기 및 병해충방제)
A37: 기타경비 | B37: 재료비+노무비의 | C37: 4.6 | D37: % | E37: 조달청 토목공사원가계산 제비율(조경)
A38: 일반관리비 | B38: 노+재+경의 | C38: 8 | D38: % | E38: 조달청 토목공사원가계산 제비율 (50억미만, 토목·조경 적용)
A39: 이 윤 | B39: 노+경+일반관리비의 | C39: 15 | D39: % | E39: 조달청 토목원가계산 제비율 50억 미만 공사 15% 이하
A40: 부가가치세 | B40: 총사업비의 | C40: 10 | D40: % | E40: 「부가가치세법」제30조

Sheet 설계내역서
B1: 설 계 내 역 서
A3: 구 분 | B3: 구 분 | C3: 소재지 | D3: 임소반 | E3: 년도 | F3: 세부사업종 | G3: 수종 | H3: 사업면적 | J3: 단위 | K3: 직접노무비 | M3: 재 료 비 | O3: 기계경비 | Q3: ha당 작업인원 | R3: 총 작업인원 | S3: 참고(위치)
K4: ha단가 | L4: 금 액 | M4: ha단가 | N4: 금 액 | O4: ha단가 | P4: 금 액
A5: 합계 | B5: 합계 | H5: =ROUNDUP(H6+H7+H8+H9+H10+H11+H12+H13+H14+H15+H16+H17+H18,1) -> 36.1 | J5: ha | L5: =L6+L7+L8+L9+L10+L11+L13+L16+L17+L18 -> 46248169 | N5: =N6+N7+N8+N9+N10+N11+N13+N16+N17+N18 -> 1371530 | P5: =P6+P7+P8+P9+P10+P11+P13+P16+P17+P18 -> 693684 | R5: =R6+R7+R8+R9+R10+R11+R13+R16+R17+R18 -> 206.58
B6: 1 | C6: =표지!E28 -> 서귀포시 남원읍 한남리 산 2-1 외 | D6: 4-0-32-1 8-0-5-1 | F6: 풀베기 | G6: 벚나무류 (3년차 이상) | H6: =W6+Y6+AA6+AC6+AF6 -> 0 | J6: ha | K6: ='단가산출서(벚나무 3년차이상)'!L47 -> 1187140 | L6: =ROUNDDOWN(K6*H6,0) -> 0 | M6: ='단가산출서(벚나무 3년차이상)'!L48 -> 50655 | N6: =ROUNDDOWN(H6*M6,0) -> 0 | O6: ='단가산출서(벚나무 3년차이상)'!L49 -> 25620 | P6: =ROUNDDOWN(H6*O6,0) -> 0 | Q6: ='단가산출서(벚나무 3년차이상)'!N87 -> 5 | R6: =ROUNDUP(Q6*H6,2) -> 0 | S6: 한남5-2(4.5ha) | V6: 한남5-2 | X6: 상효보존원 | AH6: 한남 산5-2:4.5, 상효보존원 11.5(1구역 2, 2구역 9.5)
B7: 1 | D7: 4-0-25-2 | F7: 풀베기 | G7: 가시나무류 (조림 2년차) | H7: =W7+Y7+AA7+AC7+AF7 -> 2 | J7: ha | K7: ='단가산출서(가시나무류 2년차)'!L47 -> 1159148 | L7: =ROUNDDOWN(K7*H7,0) -> 2318296 | M7: ='단가산출서(가시나무류 2년차)'!L48 -> 40524 | N7: =ROUNDDOWN(H7*M7,0) -> 81048 | O7: ='단가산출서(가시나무류 2년차)'!L49 -> 20496 | P7: =ROUNDDOWN(H7*O7,0) -> 40992 | Q7: ='단가산출서(가시나무류 2년차)'!N87 -> 5.48 | R7: =ROUNDUP(Q7*H7,2) -> 10.96 | S7: 구 채종원 2구역 하부 2ha | V7: 세심정 밑 | X7: 구 채종원 2구역(25년 봄철조림) | Y7: 2 | Z7: 구 채종원 2구역(25년 가을조림) | AB7: 26년 봄철 신규(구 1) | AE7: 26년 문도지 행사지 | AH7: 한남 23년 조림지 2.9ha(사려니오름 북)
B8: 3 | D8: 3-0-1-13 8-0-5-1 | F8: 풀베기 | G8: 소나무류 | H8: =W8+Y8+AA8+AC8+AF8 -> 0 | J8: ha | K8: ='단가산출서(소나무류)'!L47 -> 1130610 | L8: =ROUNDDOWN(K8*H8,0) -> 0 | M8: ='단가산출서(소나무류)'!L48 -> 50655 | N8: =ROUNDDOWN(H8*M8,0) -> 0 | O8: ='단가산출서(소나무류)'!L49 -> 25620 | P8: =ROUNDDOWN(H8*O8,0) -> 0 | Q8: ='단가산출서(소나무류)'!N86 -> 5 | R8: =ROUNDUP(Q8*H8,2) -> 0 | S8: (상효산10-1 라디에타파인 (1ha) | V8: 라디에타 | X8: 한남 내병성조림지 | Z8: 상효17-1 | AB8: (대체)서귀포 차대검정 | AH8: 라디에타(상효산10-1):1, 한남내병성1, 상효17-1:1
B9: 4 | D9: 3-0-3-1 | F9: 풀베기 | G9: 편백 | H9: =W9+Y9+AA9+AC9+AF9 -> 0 | J9: ha | K9: ='단가산출서(편백)'!L47 -> 1429160 | L9: =ROUNDDOWN(K9*H9,0) -> 0 | M9: ='단가산출서(편백)'!L48 -> 50655 | N9: =ROUNDDOWN(H9*M9,0) -> 0 | O9: ='단가산출서(편백)'!L49 -> 25620 | P9: =ROUNDDOWN(H9*O9,0) -> 0 | Q9: ='단가산출서(편백)'!N87 -> 5.98 | R9: =ROUNDUP(Q9*H9,2) -> 0 | S9: 2차-3임반(각1.5ha*2) , 금악 1개소(1ha) | V9: 한남2 | X9: 금악 | Z9: 사려니 | AH9: 한남2곳 각1.5, 금악1
B10: 2 | D10: 4-0-8-2 | F10: 풀베기 | G10: 구상나무 | H10: =W10+Y10+AA10+AC10+AF10 -> 4.5 | J10: ha | K10: ='단가산출서(구상나무)'!L47 -> 1387685 | L10: =ROUNDDOWN(H10*K10,0) -> 6244582 | M10: ='단가산출서(구상나무)'!L48 -> 50655 | N10: =ROUNDDOWN(H10*M10,0) -> 227947 | O10: ='단가산출서(구상나무)'!L49 -> 25620 | P10: =ROUNDDOWN(H10*O10,0) -> 115290 | Q10: ='단가산출서(구상나무)'!N87 -> 6.11 | R10: =ROUNDUP(H10*Q10,2) -> 27.5 | S10: 한남시험림 현지외보존원 | V10: 한남 현지외 | W10: 4.5 | AH10: 현지외보존원 4.5
B11: 3 | D11: 4-0-2-1 | F11: 풀베기 | G11: 난대상록활엽수 (3년차 이상) | H11: =W11+Y11+AA11+AC11+AF11 -> 12 | J11: ha | K11: ='단가산출서(난대상록활엽수 3년차 이상)'!L47 -> 1559759 | L11: =ROUNDDOWN(K11*H11,0) -> 18717108 | M11: ='단가산출서(난대상록활엽수 3년차 이상)'!L48 -> 50655 | N11: =ROUNDDOWN(H11*M11,0) -> 607860 | O11: ='단가산출서(난대상록활엽수 3년차 이상)'!L49 -> 25620 | P11: =ROUNDDOWN(H11*O11,0) -> 307440 | Q11: ='단가산출서(난대상록활엽수 3년차 이상)'!N87 -> 6.67 | R11: =ROUNDUP(Q11*H11,2) -> 80.04 | S11: 한남 구 채종원3, 4구역(5.5ha), 5구역(3.5ha), 상천 산26-1(1ha), 선하지2ha | V11: 채종원(구) 3구역 | W11: 3 | X11: 채종원(구) 4구역 상부 | Y11: 2.5 | Z11: 5구역 | AA11: 3.5 | AB11: 상효산17-1 산18-1 | AE11: 상천 및 선하지 | AF11: 3 | AH11: 구채종원 2곳(3,4구역) 5.5, 상천1, 상효산17-1: 1.5(작업로포함)
B12: 6 | D12: 4-0-2-1 | F12: 풀베기(하반기?) | G12: 난대상록활엽수 (조림 2년차) | H12: =W12+Y12+AA12+AC12+AF12 -> 0 | J12: ha | K12: ='단가산출서(난대상록활엽수2년차) '!L47:M47 -> #VALUE! | L12: =ROUNDDOWN(K12*H12,0) -> #VALUE! | M12: ='단가산출서(난대상록활엽수2년차) '!L48 -> 40524 | N12: =ROUNDDOWN(H12*M12,0) -> 0 | O12: ='단가산출서(난대상록활엽수2년차) '!L49 -> 20496 | P12: =ROUNDDOWN(H12*O12,0) -> 0 | Q12: ='단가산출서(난대상록활엽수2년차) '!N87 -> 5.73 | R12: =ROUNDUP(Q12*H12,2) -> 0 | S12: 한남 23년 조림지 2ha(구 채종원)----재조림?? 한남 선하지(동백나무 조림지) | V12: 한남신규 | X12: 한남 동백나무
B13: 7 | D13: 4-0-2-1 | F13: 풀베기 | G13: 난대상록활엽수B | H13: =W13+Y13+AA13+AC13+AF13 -> 0 | J13: ha | K13: ='단가산출서(난대상록활엽수 B 3년차) '!L47 -> 1574901 | L13: =ROUNDDOWN(K13*H13,0) -> 0 | M13: ='단가산출서(난대상록활엽수 B 3년차) '!L48 -> 50655 | N13: =ROUNDDOWN(H13*M13,0) -> 0 | O13: ='단가산출서(난대상록활엽수 B 3년차) '!L49 -> 25620 | P13: =ROUNDDOWN(H13*O13,0) -> 0 | Q13: ='단가산출서(난대상록활엽수 B 3년차) '!N87 -> 6.75 | R13: =ROUNDUP(Q13*H13,2) -> 0 | S13: 한남 조림(3.5), 선하지 2ha | V13: 한남2024 구채종5 | Z13: 선하지 | AH13: 한남구채종원 24년신규조림 3.5,
B14: 9 | D14: 4-0-21-1 | F14: 풀베기 | G14: 난대상록활엽수B | H14: =W14+Y14+AA14+AC14+AF14 -> 0 | J14: ha | K14: =솎아베기!L125 -> 5838367 | L14: =ROUNDDOWN(K14*H14,0) -> 0 | M14: =솎아베기!L126 -> 291407 | N14: =ROUNDDOWN(H14*M14,0) -> 0 | O14: =솎아베기!L127 -> 133894 | P14: =ROUNDDOWN(H14*O14,0) -> 0 | Q14: =솎아베기!G125 -> 14.36234 | R14: =ROUNDUP(Q14*H14,2) -> 0 | S14: 한남 산2-1 | V14: 한남
B15: 10 | F15: 풀베기 | G15: 난대상록활엽수B | H15: =W15+Y15+AA15+AC15+AF15 -> 0 | J15: ha | K15: =SUM('어린나무가꾸기(소나무류)'!M122:N122) -> 2201061 | L15: =ROUNDDOWN(K15*H15,0) -> 0 | M15: =SUM('어린나무가꾸기(소나무류)'!M123:N123) -> 117442 | N15: =ROUNDDOWN(H15*M15,0) -> 0 | O15: =SUM('어린나무가꾸기(소나무류)'!M124:N124) -> 39456 | P15: =ROUNDDOWN(H15*O15,0) -> 0 | Q15: ='어린나무가꾸기(소나무류)'!O162 -> 10.52 | R15: =ROUNDUP(Q15*H15,2) -> 0 | S15: 위미리 3695, 2417 | V15: 위미2 | X15: 위미1
B16: 8 | F16: 풀베기 | G16: 난대상록활엽수 (당해년도) | H16: =W16+Y16+AA16+AC16+AF16 -> 0 | J16: ha | K16: ='단가산출서(난대상록활엽수 1년차)'!L47 -> 1142445 | L16: =ROUNDDOWN(K16*H16,0) -> 0 | M16: ='단가산출서(난대상록활엽수 1년차)'!L48 -> 35458 | N16: =ROUNDDOWN(H16*M16,0) -> 0 | O16: ='단가산출서(난대상록활엽수 1년차)'!L49 -> 17934 | P16: =ROUNDDOWN(H16*O16,0) -> 0 | Q16: ='단가산출서(난대상록활엽수 1년차)'!N87 -> 5.54 | R16: =ROUNDUP(Q16*H16,2) -> 0 | S16: 2025 신규조림(봄철행사) | V16: 문도지앞
B17: 4 | D17: 3-0-3-1 8-0-5-1 | F17: 가지치기 | G17: 소나무류 | H17: =W17+Y17+AA17+AC17+AF17 -> 4 | J17: ha | K17: ='소나무 가지치기'!M122 -> 1951251 | L17: =ROUNDDOWN(K17*H17,0) -> 7805004 | O17: =SUM('어린나무가꾸기(소나무류)'!M125:N125) -> 0 | P17: =ROUNDDOWN(H17*O17,0) -> 0 | Q17: ='소나무 가지치기'!C135 -> 10.8 | R17: =ROUNDUP(Q17*H17,2) -> 43.2 | S17: 한남 및 서귀포시험림 연구용 소나무류(이병지, 위험목, 폭목 가지정리) | V17: 구내 | W17: 1 | X17: 지역시험림 | Y17: 3 | AH17: 한남산5-2:4.5, 상효보존원11.5
B18: 5 | F18: 덩굴제거 | G18: 덩굴류 | H18: =W18+Y18+AA18+AC18+AF18 -> 13.6 | J18: ha | K18: ='단가산출서(덩굴제거)'!L14 -> 820822 | L18: =ROUNDDOWN(K18*H18,0) -> 11163179 | M18: ='단가산출서(덩굴제거)'!L15 -> 33432 | N18: =ROUNDDOWN(H18*M18,0) -> 454675 | O18: ='단가산출서(덩굴제거)'!L16 -> 16909 | P18: =ROUNDDOWN(H18*O18,0) -> 229962 | Q18: ='단가산출서(덩굴제거)'!N52 -> 3.3 | R18: =ROUNDUP(Q18*H18,2) -> 44.88 | S18: 저지시험림 및 한남시험림 등 임작업로 | V18: 한남임도 | W18: 10.4 | Z18: 저지임도 | AA18: 3.2 | AB18: 소규모 행사지 | AH18: 한남임도(26.7km)10, 한남구채종원1구역2.5, 구채종원2구역2, 저지임도3(7.5km), 상효 대나무
C19: ※ 총 작업인원 | D19: =R5 -> 206.58 | F19: ÷ 작업단 총 인원 | G19: 8 | H19: =ROUNDUP(D19/G19,0) -> 26 | I19: 일 | J19: + | K19: 우천, 공휴일 등 | L19: 3 | M19: =H19+L19 -> 29

Sheet 원가계산서
A1: 원 가 계 산 서
A3: □ 사업명 : | C3: =기초자료!B4 -> 2026년 정책숲가꾸기 사업 제1차
A4: □ 개 소 : | C4: =기초자료!B6 -> 서귀포시 남원읍 한남리 산2-1 외
A5: □ 사업량 : | D5: 본
A6: □ 면 적 : | C6: =기초자료!E6 -> 36.1 | D6: ha
A8: 구 분 | D8: 금 액 | E8: 적용요율 | H8: 구성비 | I8: 비고
A9: 순 공 사 원 가 | B9: 재 료 비 | C9: 직 접 재 료 비 | D9: =설계내역서!N5 -> 1371530 | H9: =D9/D32*100 -> 1.5953217
C10: 간 접 재 료 비 | D10: 0 | H10: =D10/D32*100 -> 0
C11: 소 계 | D11: =SUM(D9:D10) -> 1371530 | H11: =SUM(H9:H10) -> 1.5953217
B12: 노 무 비 | C12: 직 접 노 무 비 | D12: =설계내역서!L5 -> 46248169 | H12: =D12/D32*100 -> 53.794455
C13: 간 접 노 무 비 | D13: =ROUNDDOWN(D12*F13%,0) -> 7492203 | E13: 직접노무비의 | F13: =기초자료!C30 -> 16.2 | G13: % | H13: =D13/D32*100 -> 8.7147013
C14: 소 계 | D14: =SUM(D12:D13) -> 53740372 | H14: =SUM(H12:H13) -> 62.509156
B15: 경 비 | C15: 기계경비 | D15: =설계내역서!P5 -> 693684 | E15: 기계손료 × 장비단가 | H15: =D15/$D$32*100 -> 0.806872
C16: 고 용 보 험 료 | D16: =ROUNDDOWN(D14*F16%,0) -> 618014 | E16: 노무비의 | F16: =기초자료!C31 -> 1.15 | G16: % | H16: =D16/$D$32*100 -> 0.71885498
C17: 산 재 보 험 료 | D17: =ROUNDDOWN(D14*F17%,0) -> 3149185 | E17: 노무비의 | F17: =기초자료!C32 -> 5.86 | G17: % | H17: =D17/$D$32*100 -> 3.6630356
C18: 건 강 보 험 료 | E18: 직접노무비의 | F18: =기초자료!C33 -> 3.595 | G18: % | H18: =D18/$D$32*100 -> 0 | I18: 1개월 이상 적용
C19: 국 민 연 금 | E19: 직접노무비의 | F19: =기초자료!C35 -> 4.75 | G19: % | H19: =D19/$D$32*100 -> 0 | I19: 1개월 이상 적용
C20: 노인장기요양보험 | E20: 건강보험의 | F20: =기초자료!C34 -> 13.14 | G20: % | H20: =D20/$D$32*100 -> 0 | I20: 1개월 이상 적용
C21: 산업안전보건관리비 | D21: =(D11+D12)*F21% -> 985727.77 | E21: 재료비+직접노무비의 | F21: =기초자료!C36 -> 2.07 | G21: % | H21: =D21/$D$32*100 -> 1.1465684 | I21: 2천만원 이상 적용
C22: 기타경비 | D22: =ROUNDDOWN((D11+D14)*F22%,0) -> 2535147 | E22: 재료비+노무비의 | F22: =기초자료!C37 -> 4.6 | G22: % | H22: =D22/$D$32*100 -> 2.9488054
C23: 소 계 | D23: =SUM(D15:D22) -> 7981757.8 | H23: =SUM(H15:H22) -> 9.2841364
B24: 계 | D24: =D11+D14+D23 -> 63093660 | H24: =H11+H14+H23 -> 73.388615
A25: 일 반 관 리 비 | D25: =ROUNDDOWN((D24)*F25%,0) -> 5047492 | E25: (재+노+경비)의 | F25: =기초자료!C38 -> 8 | G25: % | H25: =D25/D28*100 -> 6.458178
A26: 재 계 | D26: =D24+D25 -> 68141152 | H26: =D26/D28*100 -> 87.185415
A27: 이 윤 | D27: =ROUNDDOWN((D14+D23+D25)*F27%,0) -> 10015443 | E27: (노+경비+일반관리비)의 | F27: =기초자료!C39 -> 15 | G27: % | H27: =D27/D28*100 -> 12.814585
A28: 총 사 업 비 | D28: =D26+D27 -> 78156595 | H28: =SUM(H26:H27) -> 100
A29: 부 가 가 치 세 | D29: =ROUNDDOWN(D28*F29%,0) -> 7815659 | E29: 총사업비의 | F29: =기초자료!C40 -> 10 | G29: %
A30: 도 급 사 업 비 | D30: =D28+D29 -> 85972254
A31: 관 급 자 재 대
A32: (최 종) 도 급 사 업 비 | D32: =ROUNDDOWN(D30+D31,-3) -> 85972000 | E32: 천원미만절사

Sheet 단가산출서(벚나무 3년차이상)
A1: ha당 숲가꾸기 단가 산출서 | Q1: 선택항목 | R1: 입력항목
A2: 위 치 | B2: =표지!E28 -> 서귀포시 남원읍 한남리 산 2-1 외 | G2: 수 종 | H2: 벚나무류 | J2: 사업면적 | K2: =설계내역서!H6 -> 0 | M2: ha
A3: 구 분 | B3: 작업량 | D3: 단위품(인원,수량, | F3: 소요품 | G3: 단가 | J3: 할인,증률 | L3: 계
A4: 단위작업 | C4: 단위 | D4: 요율) | E4: 단위 | H4: 종류 | P4: 적용여부
A5: ○ 선목 | D5: ○ 미래목 본수 | P5: 적용 | R5: 구분 | S5: 소요인력 | T5: 소요재료 | U5: 재료량
A6: - 직접노무비 | C6: =IF(B5="","",IF(B5="미래목","ha","본/ha")) | D6: =IF(B5="제거대상목",S6,S7) -> 1 | E6: =IF(B5=R7,"인/ha","인/100본당") -> 인/100본당 | F6: =IF(P5="적용",IF(B5="미래목",1,ROUND(B6*D6/100,2)),0) -> 0 | H6: 초급기술자 | J6: =$C$78 -> 0 | K6: % | L6: =ROUNDDOWN((F6*G6)*(1+J6%),0) -> 0 | R6: 제거대상목 | S6: 0.4 | T6: 적색페인트 | U6: 0.17
A7: - 재료비 | R7: 미래목 | S7: 1 | T7: 황색페인트 | U7: 0.5
A8: * 페인트 | B8: =IF(B5="미래목",$E$5,$B$6) -> 0 | C8: 본/ha | D8: =IF(B5="제거대상목",U6,U7) -> 0.5 | E8: ℓ/100본당 | F8: =IF(P5="적용",ROUND(B8*(D8/100),2),0) -> 0 | H8: =IF(B5="제거대상목",T6,T7) -> 황색페인트 | L8: =ROUNDDOWN(F8*G8,0) -> 0
A9: * 잡품 | B9: =L8 -> 0 | C9: 원 | D9: 10 | E9: % | L9: =ROUNDDOWN(B9*D9%,0) -> 0
A10: ○ 경계표시 | P10: 적용
A11: - 직접노무비 | C11: ha | D11: 0.2 | E11: 인/ha | F11: =IF(P10="적용",ROUND(B11*D11,2),0) -> 0 | G11: =기초자료!B14 -> 172068 | H11: 보통인부 | J11: =$D$78 -> 0 | K11: % | L11: =ROUNDDOWN((F11*G11)*(1+J11%),0) -> 0
A12: - 재료비
A13: * 백색페인트 | C13: ha | D13: 0.2 | E13: ℓ/ha | F13: =IF(P10="적용",ROUND(B13*D13,2),0) -> 0 | G13: 7300 | H13: 백색페인트 | L13: =ROUNDDOWN(F13*G13,0) -> 0
A14: * 잡품 | B14: =L13 -> 0 | C14: 원 | D14: 5 | E14: % | L14: =ROUNDDOWN(B14*D14%,0) -> 0
A15: ○ 작업로 선정 | P15: 적용 | R15: 구분 | S15: 100본기준 | T15: 단위 | U15: 재료명 | V15: 잡품비율
A16: - 직접노무비 | C16: km | D16: 1 | E16: 인/km | F16: =IF(P15="적용",ROUND(B16*D16,2),0) -> 0 | G16: =기초자료!B14 -> 172068 | H16: 보통인부 | J16: =$E$78 -> 0 | K16: % | L16: =ROUNDDOWN((F16*G16)*(1+J16%),0) -> 0 | R16: * 백색페인트 | S16: 0.5 | T16: ℓ/km | U16: 백색페인트 | V16: 0.05
A17: - 재료비 | R17: * 백색마킹테이프 | S17: 0.6 | T17: 롤/km | U17: 백색마킹테이프 | V17: 0
B18: =B16 -> 0 | C18: km | D18: =IF(A18=R16,S16,S17) -> 0.6 | E18: =IF(A18=R16,T16,T17) -> 롤/km | F18: =IF(P15="적용",ROUND(B18*D18,2),0) -> 0 | H18: =IF(A18=R16,U16,U17) -> 백색마킹테이프 | L18: =ROUNDDOWN(F18*G18,0) -> 0
A19: * 잡품 | B19: =L18 -> 0 | C19: 원 | D19: =IF(ISERROR(VLOOKUP($A$18,$R$16:$V$17,5,FALSE)),0,VLOOKUP($A$18,$R$16:$V$17,5,FALSE))*100 -> 0 | E19: % | L19: =ROUNDDOWN(B19*D19%,0) -> 0
A20: ○ 작업로 설치 | P20: 적용
A21: - 직접노무비
A22: * 소작업로 | C22: km | D22: 2 | E22: 인/km | F22: =IF(P20="적용",ROUND(B22*D22,2),0) -> 0 | G22: =기초자료!B14 -> 172068 | H22: 보통인부 | J22: =$F$78 -> 0 | K22: % | L22: =ROUNDDOWN((F22*G22)*(1+J22%),0) -> 0
A23: - 재료비
A24: * 연료 | B24: =F22 -> 0 | C24: 인/ha | D24: =5.6/2 -> 2.8 | E24: ℓ/km | F24: =IF(P20="적용",ROUND(B24*D24,2),0) -> 0 | H24: 휘발유 | L24: =ROUNDDOWN(F24*G24,0) -> 0
A25: * 잡품 | B25: =L24 -> 0 | C25: 원 | D25: 95 | E25: % | L25: =ROUNDDOWN(B25*D25%,0) -> 0
A26: - 기계경비 | B26: =F22 -> 0 | C26: 인 | D26: 0.0042 | E26: 1대2인 | H26: 체인톱 | L26: =ROUNDDOWN(B26*D26*G26,0) -> 0
A27: ○ 풀베기 | B27: 모두베기 | D27: 조림 3년차 이상 | P27: 적용 | R27: 구분 | S27: 조건 | T27: 사용도구
A28: ○ 묘목찾기 | B28: =T28 -> 낫 | D28: (줄베기, 모두베기에만 적용) | P28: 적용 | R28: 묘목찾기 | T28: 낫 | U28: 인/100본 | V28: 보통인부 | W28: 0.07
A29: - 직접노무비 | C29: 본/ha | D29: =W28 -> 0.07 | E29: 인/100본 | F29: =IF(P28="적용",ROUND(B29*D29/100,2),0) -> 0 | G29: =기초자료!B14 -> 172068 | H29: 보통인부 | J29: =$G$78 -> 5 | K29: % | L29: =ROUNDDOWN((F29*G29)*(1+J29%),0) -> 0 | P29: ha당 식재본수 | R29: 맹아제거 | T29: 괭이,도끼 등 | U29: 인/100본 | V29: 보통인부 | W29: 0.2
A30: ○ 맹아제거 | B30: =T29 -> 괭이,도끼 등 | D30: (둘레베기, 줄베기에만 적용) | P30: 적용 | R30: 둘레베기 | T30: 낫 | U30: 인/100본 | V30: 보통인부 | W30: 0.18
A31: - 직접노무비 | C31: 본/ha | D31: =W29 -> 0.2 | E31: 인/100본 | F31: =IF(P30="적용",ROUND(B31*D31/100,2),0) -> 0 | G31: =G29 -> 172068 | H31: 보통인부 | J31: =IF($G$64="",0,$G$64)+IF($G$69="",0,G$69) -> 5 | K31: % | L31: =ROUNDDOWN((F31*G31)*(1+J31%),0) -> 0 | R31: 줄베기 | T31: 예취기 | U31: 인/ha | V31: 특별인부 | W31: 1.3
A32: ○ 둘레베기 | B32: =T30 -> 낫 | R32: 모두베기 | S32: 조림 당해 연도 | T32: 예취기 | U32: 인/ha | V32: 특별인부 | W32: 3.5
A33: - 직접노무비 | C33: 본/ha | D33: 0.18 | E33: 인/100본 | F33: =IF((B27="둘레베기")*(P27="적용"),ROUND(B33*D33/100,2),0) -> 0 | G33: =G31 -> 172068 | H33: 보통인부 | J33: =$G$78 -> 5 | K33: % | L33: =ROUNDDOWN((F33*G33)*(1+J33%),0) -> 0 | R33: 모두베기 | S33: 조림 2년차 | T33: 예취기 | U33: 인/ha | V33: 특별인부 | W33: 4
A34: ○ 줄베기 | B34: =T31 -> 예취기 | R34: 모두베기 | S34: 조림 3년차 이상 | T34: 예취기 | U34: 인/ha | V34: 특별인부 | W34: 5
A35: - 직접노무비 | B35: 1 | C35: ha | D35: 1.3 | E35: 인/ha | F35: =IF((B27="줄베기")*(P27="적용"),ROUND(B35*D35,2),0) -> 0 | G35: =기초자료!B16 -> 226122 | H35: 특별인부 | J35: =$G$78 -> 5 | K35: % | L35: =ROUNDDOWN((F35*G35)*(1+J35%),0) -> 0
A36: - 재료비
A37: * 연료 | B37: =F35 -> 0 | C37: 인/ha | D37: 5 | E37: ℓ/일.대 | F37: =IF(P27="적용",ROUND(B37*D37,2),0) -> 0 | H37: 휘발유 | L37: =ROUNDDOWN(F37*G37,0) -> 0
A38: * 잡품 | B38: =L37 -> 0 | C38: 원 | D38: 10 | E38: % | L38: =ROUNDDOWN(B38*D38%,0) -> 0
A39: - 기계경비 | B39: =F35 -> 0 | C39: 대/ha | D39: 0.0084 | E39: 1대1인 | H39: 예초기 | L39: =ROUNDDOWN(B39*D39*G39,0) -> 0
A40: ○ 모두베기 | B40: =T32 -> 예취기 | C40: =IF($D$27="","","("&$D$27&")") -> (조림 3년차 이상) | P40: 450 | Q40: 표준지크기(m2) | R40: 생존목(본) | S40: 1ha | T40: 묘목본수
A41: - 직접노무비 | B41: 1 | C41: ha | D41: =IF(D27=S32,W32,IF(D27=S33,W33,IF(D27=S34,W34,0))) -> 5 | E41: 인/ha | F41: =IF(($B$27="모두베기")*($P$27="적용"),ROUND(B41*D41,2),0) -> 5 | G41: =기초자료!B16 -> 226122 | H41: 특별인부 | J41: =$G$78 -> 5 | K41: % | L41: =ROUNDDOWN((F41*G41)*(1+J41%),0) -> 1187140 | P41: 활착율 | Q41: 200 | R41: =U44 -> 6.6666667 | S41: 10000 | T41: =R41*S41/Q41 -> 333.33333
A42: - 재료비 | P42: =T41/P40*100 -> 74.074074
A43: * 연료 | B43: =F41 -> 5 | C43: 인/ha | D43: 5 | E43: ℓ/인 | F43: =IF(P27="적용",ROUND(B43*D43,2),0) -> 25 | G43: =기초자료!B19 -> 1842 | H43: 휘발유 | L43: =ROUNDDOWN(F43*G43,0) -> 46050 | R43: 표준지1 | S43: 표준지2 | T43: 표준지3 | U43: 평균
A44: * 잡품 | B44: =L43 -> 46050 | C44: 원 | D44: 10 | E44: % | L44: =ROUNDDOWN(B44*D44%,0) -> 4605 | Q44: 표준지당 | R44: 5 | S44: 8 | T44: 7 | U44: =AVERAGE(R44:T44) -> 6.6666667
A45: - 기계경비 | B45: =F41 -> 5 | C45: 인 | D45: 0.0084 | E45: 1대1인 | G45: =기초자료!B26 -> 610000 | H45: =기초자료!A26 -> 배낭식동력예취기 | L45: =ROUNDDOWN(B45*D45*G45,0) -> 25620 | Q45: 1ha당 | R45: =R44*50 -> 250 | S45: =S44*50 -> 400 | T45: =T44*50 -> 350 | U45: =AVERAGE(R45:T45) -> 333.33333
A46: ◈ 합계 | L46: =SUM(L47:L49) -> 1263415 | Q46: 표준지 좌표 | R46: 126.65042 | S46: 126.64905 | T46: 126.64947
A47: ○ 노무비 | L47: =L41+L29 -> 1187140 | R47: 33.331976 | S47: 33.333052 | T47: 33.33467
A48: ○ 재료비 | L48: =L43+L44 -> 50655
A49: ○ 경비(기계경비) | L49: =L45 -> 25620
A51: □ 참고사항(소반내 실시설계 표준지 조사결과의 평균이나 전수조사를 적용)
A52: ○ 작업량 산정
A53: - 작업로선정 : | B53: =IF(P15="적용",B16,0) -> 0 | C53: km
A54: - 작업로설치 : | B54: =IF(P20="적용",B22,0) -> 0 | C54: km
A55: - 솎아베기량 : | B55: =IF(#REF!="적용",#REF!,0) -> #REF! | C55: 본/ha | D55: =#REF! -> #REF!
A56: - 가지치기량 : | B56: =IF(#REF!="적용",(#REF!+#REF!+#REF!+#REF!+#REF!),0) -> #REF! | C56: 본/ha
A57: - 산물임내정리량 : | C57: (㎥/ha)
A58: - 산물수집면적 : | B58: =K2 -> 0 | C58: ha | D58: (미수집 구역은 ha당 사업비에서 산물수집 사업비를 제외)
A59: ○ 투입인력 산정
A60: - ha당 투입인력 : | B60: =N87 -> 5 | C60: 인
A61: ○ 할인,할증율 산정
A62: 구 분 | B62: 할인,할증 요소 | C62: 단위작업(%)
C63: 선목 | D63: 경계표시 | E63: 작업로선정 | F63: 작업로설치 | G63: 풀베기 | H63: 덩굴류제거 (덩굴걷기) | I63: 덩굴류제거 (약제작업) | J63: 덩굴류제거 (뿌리제거) | K63: 솎아베기 | L63: 어린나무 가꾸기 | M63: 가지치기 | N63: 산물 임내정리
A64: 경사도 | B64: 중(15-30도이하) | G64: =IF(ISERROR(VLOOKUP($B64,$R$90:$S$151,2,FALSE)),"",(VLOOKUP($B64,$R$90:$S$151,2,FALSE))) -> 5 | O64: =IF(ISERROR(VLOOKUP($B64,$R$90:$S$143,2,FALSE)),"",(VLOOKUP($B64,$R$90:$S$143,2,FALSE))) -> 5 | P64: =IF(ISERROR(VLOOKUP($B64,$R$90:$S$143,2,FALSE)),"",(VLOOKUP($B64,$R$90:$S$143,2,FALSE))) -> 5 | Q64: =IF(ISERROR(VLOOKUP($B64,$R$90:$S$143,2,FALSE)),"",(VLOOKUP($B64,$R$90:$S$143,2,FALSE))) -> 5 | R64: =IF(ISERROR(VLOOKUP($B64,$R$90:$S$143,2,FALSE)),"",(VLOOKUP($B64,$R$90:$S$143,2,FALSE))) -> 5 | S64: =IF(ISERROR(VLOOKUP($B64,$R$90:$S$143,2,FALSE)),"",(VLOOKUP($B64,$R$90:$S$143,2,FALSE))) -> 5 | T64: =IF(ISERROR(VLOOKUP($B64,$R$90:$S$143,2,FALSE)),"",(VLOOKUP($B64,$R$90:$S$143,2,FALSE))) -> 5 | U64: =IF(ISERROR(VLOOKUP($B64,$R$90:$S$143,2,FALSE)),"",(VLOOKUP($B64,$R$90:$S$143,2,FALSE))) -> 5 | V64: =IF(ISERROR(VLOOKUP($B64,$R$90:$S$143,2,FALSE)),"",(VLOOKUP($B64,$R$90:$S$143,2,FALSE))) -> 5 | ... Z64: =IF(ISERROR(VLOOKUP($B64,$R$90:$S$143,2,FALSE)),"",(VLOOKUP($B64,$R$90:$S$143,2,FALSE))) -> 5
A65: 장애물의 정도 | B65: 가슴높이 이상 초본ㆍ관목 | G65: =IF(ISERROR(VLOOKUP($B65,$R$90:$S$143,2,FALSE)),"",(VLOOKUP($B65,$R$90:$S$143,2,FALSE))) -> 10
A66: 선목시기 | B66: 10월-11월, 3월-4월 | G66: =IF(ISERROR(VLOOKUP($B66,$R$90:$S$143,2,FALSE)),"",(VLOOKUP($B66,$R$90:$S$143,2,FALSE))) -> -10
A67: 제거대상식생(작업로설치) | B67: 쉽다(높이1.2m 미만이고, 낫으로도 제거가 용이) | G67: =IF(ISERROR(VLOOKUP($B67,$R$90:$S$143,2,FALSE)),"",(VLOOKUP($B67,$R$90:$S$143,2,FALSE))) -> -10
A68: 조림후경과년수(줄베기) | B68: 3년차 | G68: =IF(ISERROR(VLOOKUP($B68,$R$90:$S$143,2,FALSE)),"",(VLOOKUP($B68,$R$90:$S$143,2,FALSE))) -> 10
A69: 집단화정도(풀베기) | B69: 개소당 평균면적이 5ha 이상 | G69: =IF(ISERROR(VLOOKUP($B69,$R$90:$S$151,2,FALSE)),"",(VLOOKUP($B69,$R$90:$S$151,2,FALSE))) -> 0
A70: 집단화정도 | B70: 1∼5월, 10월~12월
A71: 작업시기(덩굴류) | B71: 6월∼9월
A72: 덩굴피복도 | B72: 밀(60∼80% 피복)
A73: 하층식생(덩굴류) | B73: 보행하는데 약간의 어려움이 있다
A74: 토양조건(덩굴류) | B74: 돌 등 장애물 함량이 10∼30%인 지역
A75: 작업시기(어린나무가꾸기) | B75: 6월∼9월
A76: 제거대상피복도 | B76: 중 (임지의 41%∼70% 분포) | L76: =IF(ISERROR(VLOOKUP($B76,$R$90:$S$143,2,FALSE)),"",(VLOOKUP($B76,$R$90:$S$143,2,FALSE))) -> 0
A77: 규격재생산여부 | B77: 미적용 | K77: =IF(ISERROR(VLOOKUP($B77,$R$90:$S$143,2,FALSE)),"",(VLOOKUP($B77,$R$90:$S$143,2,FALSE))) -> 0
A78: 합계 | C78: =SUM(C64:C77) -> 0 | D78: =SUM(D64:D77) -> 0 | E78: =SUM(E64:E77) -> 0 | F78: =SUM(F64:F77) -> 0 | G78: =SUM(G64:G77) -> 5 | H78: =SUM(H64:H77) -> 0 | I78: =SUM(I64:I77) -> 0 | J78: =SUM(J64:J77) -> 0 | ... N78: =SUM(N64:N77) -> 0
A82: ○ 작업원 소요량 산출 : | B82: =N87 -> 5 | C82: 명
A83: 작업단위 | B83: 선목 | C83: 경계표시 | D83: 작업로 선정 | E83: 작업로 설치 | F83: 풀베기 | G83: =H63 -> 덩굴류제거 (덩굴걷기) | H83: =I63 -> 덩굴류제거 (약제작업) | I83: =J63 -> 덩굴류제거 (뿌리제거) | J83: =K63 -> 솎아베기 | K83: =L63 -> 어린나무 가꾸기 | L83: =M63 -> 가지치기 | M83: 산물임내정리 | N83: 계
A84: 초급기술자 | B84: =ROUND(F6*1,2) -> 0 | N84: =SUM(B84:M84) -> 0
A85: 보통인부 | C85: =ROUND(F11*1,2) -> 0 | D85: =ROUND(F16*1,2) -> 0 | E85: =ROUND(F22*1,2) -> 0 | F85: =ROUND(F29*1+F31*1+F33*1,2) -> 0 | N85: =SUM(B85:M85) -> 0
A86: 특별인부 | F86: =F35*1+F41*1 -> 5 | N86: =SUM(B86:M86) -> 5
A87: 계 | B87: =SUM(B84:B86) -> 0 | C87: =SUM(C84:C86) -> 0 | D87: =SUM(D84:D86) -> 0 | E87: =SUM(E84:E86) -> 0 | F87: =SUM(F84:F86) -> 5 | G87: =SUM(G84:G86) -> 0 | I87: =SUM(I84:I86) -> 0 | J87: =SUM(J84:J86) -> 0 | K87: =SUM(K84:K86) -> 0 | M87: =SUM(M84:M86) -> 0 | N87: =SUM(B87:M87) -> 5
Q88: 숲가꾸기 할인할증요소 선택 기준(참고)
A89: 숲가꾸기 할인할증요소 선택 기준(참고) | Q89: 할인할증요소 | R89: 요소분류 | S89: 할인할증율
A90: 할인할증요소 | B90: 요소분류 | C90: 할인할증률 | D90: 요소분류 | F90: 요소분류 | H90: 할인할증률 | J90: 할인할증율 | L90: 요소분류 | N90: 할인할증률 | Q90: 경사도 | R90: 완(15도 이하) | S90: 0
A91: 경사도 | D91: 장애물의 정도 | J91: 선목시기 | R91: 중(15-30도이하) | S91: 5
A92: 완(15도 이하) | B92: 중(15-30도이하) | C92: 급(30도 초과) | D92: 무릎높이 이하 초본ㆍ관목 | F92: 가슴높이 미만 초본ㆍ관목 | H92: 가슴높이 이상 초본ㆍ관목 | J92: 10월-11월, 3월-4월 | L92: 12월-2월 | N92: 5월-9월 | R92: 급(30도 초과) | S92: 10
A93: 0 | B93: 5 | C93: 10 | D93: -10 | E93: 0 | F93: 0 | H93: 10 | J93: -10 | K93: 0 | L93: 0 | N93: 10 | Q93: 장애물의 정도 | R93: 무릎높이 이하 초본ㆍ관목 | S93: -10
R94: 가슴높이 미만 초본ㆍ관목 | S94: 0
A95: 조림후 경과년수(줄베기) | D95: 제거대상식생 | J95: 제거대상피복도 | R95: 가슴높이 이상 초본ㆍ관목 | S95: 10
A96: 당해년도 | B96: 2년차 | C96: 3년차 | D96: 쉽다(높이1.2m 미만이고, 낫으로도 제거가 용이) | F96: 쉽다(높이1.2m 미만이고, 낫으로도 제거가 용이) | H96: 어렵다(높이1.2m 이상이고, 직경이 4-6cm 이상) | J96: 소 (임지의 40% 이하 분포) | L96: 중 (임지의 41%∼70% 분포) | N96: 밀 (임지의 71% 이상 분포)) | Q96: 선목시기 | R96: 10월-11월, 3월-4월 | S96: -10
A97: 0 | B97: 2 | C97: 10 | D97: -10 | E97: 0 | F97: 0 | H97: 10 | J97: -20 | K97: 0 | L97: 0 | N97: 20 | R97: 12월-2월 | S97: 0
R98: 5월-9월 | S98: 10
A99: 집단화정도(풀베기) | D99: 집단화정도 | J99: 작업시기(어린) | M99: 작업시기(덩굴류) | Q99: 제거대상식생 | R99: 쉽다(높이1.2m 미만이고, 낫으로도 제거가 용이) | S99: -10
A100: 개소당 평균면적이 5ha 이상 | B100: 개소당 평균면적이 3-5ha 미만 | C100: 개소당 평균면적이 3ha 미만 | D100: 개소당 평균면적이 3ha 이상 | F100: 개소당 평균면적이 1-3ha 미만 | H100: 개소당 평균면적이 1ha 미만 | J100: 1∼5월, 10월~12월 | L100: 6월∼9월 | M100: 1∼5월 | N100: 6월∼9월 | R100: 보통이다(높이1.2m 이상이고,직경이 4-6cm 미만) | S100: 0
A101: 0 | B101: 5 | C101: 10 | D101: 0 | E101: 0 | F101: 5 | H101: 10 | J101: 0 | K101: 0 | L101: 10 | M101: 0 | N101: 10 | R101: 어렵다(높이1.2m 이상이고, 직경이 4-6cm 이상) | S101: 10
Q102: 조림후 경과년수 (줄베기) | R102: 당해년도 | S102: 0
A103: 토양조건 | D103: 하층식생 | J103: 덩굴 피복도 | R103: 2년차 | S103: 5
A104: 장애물이 거의 없음 | B104: 돌 등 장애물 함량이 10∼30%인 지역 | C104: 돌 등 장애물 함량이 30% 이상인 지역 | D104: 보행이 용이하다 | F104: 보행하는데 약간의 어려움이 있다 | H104: 식생을 제거하지 않고 보행이 곤란하다 | J104: 과밀(80%이상 피복) | K104: 밀(60∼80% 피복) | L104: 보통(40∼60% 피복) | M104: 소(20∼40% 피복) | N104: 과소(20%이하피복) | R104: 3년차 | S104: 10
...

Sheet 단가산출서(가시나무류 2년차)
A1: ha당 숲가꾸기 단가 산출서 | Q1: 선택항목 | R1: 입력항목
A2: 위 치 | B2: =표지!E28 -> 서귀포시 남원읍 한남리 산 2-1 외 | G2: 수 종 | H2: 가시나무류 | J2: 사업면적 | K2: =설계내역서!H7 -> 2 | M2: ha
A3: 구 분 | B3: 작업량 | D3: 단위품(인원,수량, | F3: 소요품 | G3: 단가 | J3: 할인,증률 | L3: 계
A4: 단위작업 | C4: 단위 | D4: 요율) | E4: 단위 | H4: 종류 | P4: 적용여부
A5: ○ 선목 | D5: ○ 미래목 본수 | P5: 적용 | R5: 구분 | S5: 소요인력 | T5: 소요재료 | U5: 재료량
A6: - 직접노무비 | C6: =IF(B5="","",IF(B5="미래목","ha","본/ha")) | D6: =IF(B5="제거대상목",S6,S7) -> 1 | E6: =IF(B5=R7,"인/ha","인/100본당") -> 인/100본당 | F6: =IF(P5="적용",IF(B5="미래목",1,ROUND(B6*D6/100,2)),0) -> 0 | H6: 초급기술자 | J6: =$C$78 -> 0 | K6: % | L6: =ROUNDDOWN((F6*G6)*(1+J6%),0) -> 0 | R6: 제거대상목 | S6: 0.4 | T6: 적색페인트 | U6: 0.17
A7: - 재료비 | R7: 미래목 | S7: 1 | T7: 황색페인트 | U7: 0.5
A8: * 페인트 | B8: =IF(B5="미래목",$E$5,$B$6) -> 0 | C8: 본/ha | D8: =IF(B5="제거대상목",U6,U7) -> 0.5 | E8: ℓ/100본당 | F8: =IF(P5="적용",ROUND(B8*(D8/100),2),0) -> 0 | H8: =IF(B5="제거대상목",T6,T7) -> 황색페인트 | L8: =ROUNDDOWN(F8*G8,0) -> 0
A9: * 잡품 | B9: =L8 -> 0 | C9: 원 | D9: 10 | E9: % | L9: =ROUNDDOWN(B9*D9%,0) -> 0
A10: ○ 경계표시 | P10: 적용
A11: - 직접노무비 | C11: ha | D11: 0.2 | E11: 인/ha | F11: =IF(P10="적용",ROUND(B11*D11,2),0) -> 0 | G11: =기초자료!B14 -> 172068 | H11: 보통인부 | J11: =$D$78 -> 0 | K11: % | L11: =ROUNDDOWN((F11*G11)*(1+J11%),0) -> 0
A12: - 재료비
A13: * 백색페인트 | C13: ha | D13: 0.2 | E13: ℓ/ha | F13: =IF(P10="적용",ROUND(B13*D13,2),0) -> 0 | G13: 7300 | H13: 백색페인트 | L13: =ROUNDDOWN(F13*G13,0) -> 0
A14: * 잡품 | B14: =L13 -> 0 | C14: 원 | D14: 5 | E14: % | L14: =ROUNDDOWN(B14*D14%,0) -> 0
A15: ○ 작업로 선정 | P15: 적용 | R15: 구분 | S15: 100본기준 | T15: 단위 | U15: 재료명 | V15: 잡품비율
A16: - 직접노무비 | C16: km | D16: 1 | E16: 인/km | F16: =IF(P15="적용",ROUND(B16*D16,2),0) -> 0 | G16: =기초자료!B14 -> 172068 | H16: 보통인부 | J16: =$E$78 -> 0 | K16: % | L16: =ROUNDDOWN((F16*G16)*(1+J16%),0) -> 0 | R16: * 백색페인트 | S16: 0.5 | T16: ℓ/km | U16: 백색페인트 | V16: 0.05
A17: - 재료비 | R17: * 백색마킹테이프 | S17: 0.6 | T17: 롤/km | U17: 백색마킹테이프 | V17: 0
B18: =B16 -> 0 | C18: km | D18: =IF(A18=R16,S16,S17) -> 0.6 | E18: =IF(A18=R16,T16,T17) -> 롤/km | F18: =IF(P15="적용",ROUND(B18*D18,2),0) -> 0 | H18: =IF(A18=R16,U16,U17) -> 백색마킹테이프 | L18: =ROUNDDOWN(F18*G18,0) -> 0
A19: * 잡품 | B19: =L18 -> 0 | C19: 원 | D19: =IF(ISERROR(VLOOKUP($A$18,$R$16:$V$17,5,FALSE)),0,VLOOKUP($A$18,$R$16:$V$17,5,FALSE))*100 -> 0 | E19: % | L19: =ROUNDDOWN(B19*D19%,0) -> 0
A20: ○ 작업로 설치 | P20: 적용
A21: - 직접노무비
A22: * 소작업로 | C22: km | D22: 2 | E22: 인/km | F22: =IF(P20="적용",ROUND(B22*D22,2),0) -> 0 | G22: =기초자료!B14 -> 172068 | H22: 보통인부 | J22: =$F$78 -> 0 | K22: % | L22: =ROUNDDOWN((F22*G22)*(1+J22%),0) -> 0
A23: - 재료비
A24: * 연료 | B24: =F22 -> 0 | C24: 인/ha | D24: =5.6/2 -> 2.8 | E24: ℓ/km | F24: =IF(P20="적용",ROUND(B24*D24,2),0) -> 0 | H24: 휘발유 | L24: =ROUNDDOWN(F24*G24,0) -> 0
A25: * 잡품 | B25: =L24 -> 0 | C25: 원 | D25: 95 | E25: % | L25: =ROUNDDOWN(B25*D25%,0) -> 0
A26: - 기계경비 | B26: =F22 -> 0 | C26: 인 | D26: 0.0042 | E26: 1대2인 | H26: 체인톱 | L26: =ROUNDDOWN(B26*D26*G26,0) -> 0
A27: ○ 풀베기 | B27: 모두베기 | D27: 조림 2년차 | P27: 적용 | R27: 구분 | S27: 조건 | T27: 사용도구 | U27: 단위 | V27: 인력구성 | W27: 소요인력
A28: ○ 묘목찾기 | B28: =T28 -> 낫 | D28: (줄베기, 모두베기에만 적용) | P28: 적용 | R28: 묘목찾기 | T28: 낫 | U28: 인/100본 | V28: 보통인부 | W28: 0.07
A29: - 직접노무비 | B29: =T41 -> 2116.6667 | C29: 본/ha | D29: =W28 -> 0.07 | E29: 인/100본 | F29: =IF(P28="적용",ROUND(B29*D29/100,2),0) -> 1.48 | G29: =기초자료!B14 -> 172068 | H29: 보통인부 | J29: =$G$78 -> 0 | K29: % | L29: =ROUNDDOWN((F29*G29)*(1+J29%),0) -> 254660 | P29: ha당 식재본수 | R29: 맹아제거 | T29: 괭이,도끼 등 | U29: 인/100본 | V29: 보통인부 | W29: 0.2
A30: ○ 맹아제거 | B30: =T29 -> 괭이,도끼 등 | D30: (둘레베기, 줄베기에만 적용) | P30: 적용 | R30: 둘레베기 | T30: 낫 | U30: 인/100본 | V30: 보통인부 | W30: 0.18
A31: - 직접노무비 | C31: 본/ha | D31: =W29 -> 0.2 | E31: 인/100본 | F31: =IF(P30="적용",ROUND(B31*D31/100,2),0) -> 0 | G31: =G29 -> 172068 | H31: 보통인부 | J31: =IF($G$64="",0,$G$64)+IF($G$69="",0,G$69) -> 0 | K31: % | L31: =ROUNDDOWN((F31*G31)*(1+J31%),0) -> 0 | R31: 줄베기 | T31: 예취기 | U31: 인/ha | V31: 특별인부 | W31: 1.3
A32: ○ 둘레베기 | B32: =T30 -> 낫 | R32: 모두베기 | S32: 조림 당해 연도 | T32: 예취기 | U32: 인/ha | V32: 특별인부 | W32: 3.5
A33: - 직접노무비 | C33: 본/ha | D33: 0.18 | E33: 인/100본 | F33: =IF((B27="둘레베기")*(P27="적용"),ROUND(B33*D33/100,2),0) -> 0 | G33: =G31 -> 172068 | H33: 보통인부 | J33: =$G$78 -> 0 | K33: % | L33: =ROUNDDOWN((F33*G33)*(1+J33%),0) -> 0 | R33: 모두베기 | S33: 조림 2년차 | T33: 예취기 | U33: 인/ha | V33: 특별인부 | W33: 4
A34: ○ 줄베기 | B34: =T31 -> 예취기 | R34: 모두베기 | S34: 조림 3년차 이상 | T34: 예취기 | U34: 인/ha | V34: 특별인부 | W34: 5
A35: - 직접노무비 | B35: 1 | C35: ha | D35: 1.3 | E35: 인/ha | F35: =IF((B27="줄베기")*(P27="적용"),ROUND(B35*D35,2),0) -> 0 | G35: =기초자료!B16 -> 226122 | H35: 특별인부 | J35: =$G$78 -> 0 | K35: % | L35: =ROUNDDOWN((F35*G35)*(1+J35%),0) -> 0
A36: - 재료비
A37: * 연료 | B37: =F35 -> 0 | C37: 인/ha | D37: 5 | E37: ℓ/일.대 | F37: =IF(P27="적용",ROUND(B37*D37,2),0) -> 0 | H37: 휘발유 | L37: =ROUNDDOWN(F37*G37,0) -> 0
A38: * 잡품 | B38: =L37 -> 0 | C38: 원 | D38: 10 | E38: % | L38: =ROUNDDOWN(B38*D38%,0) -> 0
A39: - 기계경비 | B39: =F35 -> 0 | C39: 대/ha | D39: 0.0084 | E39: 1대1인 | H39: 예초기 | L39: =ROUNDDOWN(B39*D39*G39,0) -> 0
A40: ○ 모두베기 | B40: =T32 -> 예취기 | C40: =IF($D$27="","","("&$D$27&")") -> (조림 2년차) | P40: 2500 | Q40: 표준지크기(m2) | R40: 생존목(본) | S40: 1ha | T40: 묘목본수
A41: - 직접노무비 | B41: 1 | C41: ha | D41: =IF(D27=S32,W32,IF(D27=S33,W33,IF(D27=S34,W34,0))) -> 4 | E41: 인/ha | F41: =IF(($B$27="모두베기")*($P$27="적용"),ROUND(B41*D41,2),0) -> 4 | G41: =기초자료!B16 -> 226122 | H41: 특별인부 | J41: =$G$78 -> 0 | K41: % | L41: =ROUNDDOWN((F41*G41)*(1+J41%),0) -> 904488 | P41: 활착율 | Q41: 200 | R41: =U44 -> 42.333333 | S41: 10000 | T41: =R41*S41/Q41 -> 2116.6667
A42: - 재료비 | P42: =T41/P40*100 -> 84.666667
A43: * 연료 | B43: =F41 -> 4 | C43: 인/ha | D43: 5 | E43: ℓ/인 | F43: =IF(P27="적용",ROUND(B43*D43,2),0) -> 20 | G43: =기초자료!B19 -> 1842 | H43: 휘발유 | L43: =ROUNDDOWN(F43*G43,0) -> 36840 | R43: 표준지1 | S43: 표준지2 | T43: 표준지3 | U43: 평균
A44: * 잡품 | B44: =L43 -> 36840 | C44: 원 | D44: 10 | E44: % | L44: =ROUNDDOWN(B44*D44%,0) -> 3684 | Q44: 표준지당 | R44: 44 | S44: 45 | T44: 38 | U44: =AVERAGE(R44:T44) -> 42.333333
A45: - 기계경비 | B45: =F41 -> 4 | C45: 인 | D45: 0.0084 | E45: 1대1인 | G45: =기초자료!B26 -> 610000 | H45: =기초자료!A26 -> 배낭식동력예취기 | L45: =ROUNDDOWN(B45*D45*G45,0) -> 20496 | Q45: 1ha당 | R45: =R44*50 -> 2200 | S45: =S44*50 -> 2250 | T45: =T44*50 -> 1900 | U45: =AVERAGE(R45:T45) -> 2116.6667
A46: ◈ 합계 | L46: =SUM(L47:L49) -> 1220168 | Q46: 표준지좌표 | R46: 126.63454 | S46: 126.63402 | T46: 1226.6347
A47: ○ 노무비 | L47: =L29+L41 -> 1159148 | R47: 33.35852 | S47: 33.3584 | T47: 33.35967
A48: ○ 재료비 | L48: =L43+L44 -> 40524
A49: ○ 경비(기계경비) | L49: =L45 -> 20496
A51: □ 참고사항(소반내 실시설계 표준지 조사결과의 평균이나 전수조사를 적용)
A52: ○ 작업량 산정
A53: - 작업로선정 : | B53: =IF(P15="적용",B16,0) -> 0 | C53: km
A54: - 작업로설치 : | B54: =IF(P20="적용",B22,0) -> 0 | C54: km
A55: - 솎아베기량 : | B55: =IF(#REF!="적용",#REF!,0) -> #REF! | C55: 본/ha | D55: =#REF! -> #REF!
A56: - 가지치기량 : | B56: =IF(#REF!="적용",(#REF!+#REF!+#REF!+#REF!+#REF!),0) -> #REF! | C56: 본/ha
A57: - 산물임내정리량 : | C57: (㎥/ha)
A58: - 산물수집면적 : | B58: =K2 -> 2 | C58: ha | D58: (미수집 구역은 ha당 사업비에서 산물수집 사업비를 제외)
A59: ○ 투입인력 산정
A60: - ha당 투입인력 : | B60: =N87 -> 5.48 | C60: 인
A61: ○ 할인,할증율 산정
A62: 구 분 | B62: 할인,할증 요소 | C62: 단위작업(%)
C63: 선목 | D63: 경계표시 | E63: 작업로선정 | F63: 작업로설치 | G63: 풀베기 | H63: 덩굴류제거 (덩굴걷기) | I63: 덩굴류제거 (약제작업) | J63: 덩굴류제거 (뿌리제거) | K63: 솎아베기 | L63: 어린나무 가꾸기 | M63: 가지치기 | N63: 산물 임내정리
A64: 경사도 | B64: 완(15도 이하) | C64: =IF(ISERROR(VLOOKUP($B64,$S$51:$T$104,2,FALSE)),"",(VLOOKUP($B64,$S$51:$T$104,2,FALSE))) | D64: =IF(ISERROR(VLOOKUP($B64,$S$51:$T$104,2,FALSE)),"",(VLOOKUP($B64,$S$51:$T$104,2,FALSE))) | E64: =IF(ISERROR(VLOOKUP($B64,$S$51:$T$104,2,FALSE)),"",(VLOOKUP($B64,$S$51:$T$104,2,FALSE))) | F64: =IF(ISERROR(VLOOKUP($B64,$S$51:$T$104,2,FALSE)),"",(VLOOKUP($B64,$S$51:$T$104,2,FALSE))) | G64: =IF(ISERROR(VLOOKUP($B64,$R$90:$S$152,2,FALSE)),"",(VLOOKUP($B64,$R$90:$S$152,2,FALSE))) -> 0 | H64: =IF(ISERROR(VLOOKUP($B64,$S$51:$T$104,2,FALSE)),"",(VLOOKUP($B64,$S$51:$T$104,2,FALSE))) | I64: =IF(ISERROR(VLOOKUP($B64,$S$51:$T$104,2,FALSE)),"",(VLOOKUP($B64,$S$51:$T$104,2,FALSE))) | J64: =IF(ISERROR(VLOOKUP($B64,$S$51:$T$104,2,FALSE)),"",(VLOOKUP($B64,$S$51:$T$104,2,FALSE))) | K64: =IF(ISERROR(VLOOKUP($B64,$S$51:$T$104,2,FALSE)),"",(VLOOKUP($B64,$S$51:$T$104,2,FALSE))) | L64: =IF(ISERROR(VLOOKUP($B64,$S$51:$T$104,2,FALSE)),"",(VLOOKUP($B64,$S$51:$T$104,2,FALSE))) | M64: =IF(ISERROR(VLOOKUP($B64,$S$51:$T$104,2,FALSE)),"",(VLOOKUP($B64,$S$51:$T$104,2,FALSE))) | N64: =IF(ISERROR(VLOOKUP($B64,$S$51:$T$104,2,FALSE)),"",(VLOOKUP($B64,$S$51:$T$104,2,FALSE)))
A65: 장애물의 정도 | B65: 가슴높이 미만 초본ㆍ관목 | C65: =IF(ISERROR(VLOOKUP($B65,$S$51:$T$104,2,FALSE)),"",(VLOOKUP($B65,$S$51:$T$104,2,FALSE))) | E65: =IF(ISERROR(VLOOKUP($B65,$S$51:$T$104,2,FALSE)),"",(VLOOKUP($B65,$S$51:$T$104,2,FALSE))) | G65: =IF(ISERROR(VLOOKUP($B65,$C$118:$D$171,2,FALSE)),"",(VLOOKUP($B65,$C$118:$D$171,2,FALSE))) | K65: =IF(ISERROR(VLOOKUP($B65,$S$51:$T$104,2,FALSE)),"",(VLOOKUP($B65,$S$51:$T$104,2,FALSE))) | M65: =IF(ISERROR(VLOOKUP($B65,$S$51:$T$104,2,FALSE)),"",(VLOOKUP($B65,$S$51:$T$104,2,FALSE)))
A66: 선목시기 | B66: 12월-2월 | C66: =IF(ISERROR(VLOOKUP($B66,$S$51:$T$104,2,FALSE)),"",(VLOOKUP($B66,$S$51:$T$104,2,FALSE))) | G66: =IF(ISERROR(VLOOKUP($B66,$C$118:$D$171,2,FALSE)),"",(VLOOKUP($B66,$C$118:$D$171,2,FALSE)))
A67: 제거대상식생(작업로설치) | B67: 보통이다(높이1.2m 이상이고,직경이 4-6cm 미만) | F67: =IF(ISERROR(VLOOKUP($B67,$S$51:$T$104,2,FALSE)),"",(VLOOKUP($B67,$S$51:$T$104,2,FALSE))) | G67: =IF(ISERROR(VLOOKUP($B67,$C$118:$D$171,2,FALSE)),"",(VLOOKUP($B67,$C$118:$D$171,2,FALSE)))
A68: 조림후경과년수(줄베기) | B68: 당해년도 | G68: =IF(ISERROR(VLOOKUP($B68,$C$118:$D$171,2,FALSE)),"",(VLOOKUP($B68,$C$118:$D$171,2,FALSE)))
A69: 집단화정도(풀베기) | B69: 미적용 | G69: =IF(ISERROR(VLOOKUP($B69,$R$90:$S$152,2,FALSE)),"",(VLOOKUP($B69,$R$90:$S$152,2,FALSE))) -> 0
A70: 집단화정도 | B70: 개소당 평균면적이 3ha 이상 | H70: =IF(ISERROR(VLOOKUP($B70,$S$51:$T$104,2,FALSE)),"",(VLOOKUP($B70,$S$51:$T$104,2,FALSE))) | I70: =IF(ISERROR(VLOOKUP($B70,$S$51:$T$104,2,FALSE)),"",(VLOOKUP($B70,$S$51:$T$104,2,FALSE))) | J70: =IF(ISERROR(VLOOKUP($B70,$S$51:$T$104,2,FALSE)),"",(VLOOKUP($B70,$S$51:$T$104,2,FALSE))) | L70: =IF(ISERROR(VLOOKUP($B70,$S$51:$T$104,2,FALSE)),"",(VLOOKUP($B70,$S$51:$T$104,2,FALSE)))
A71: 작업시기(덩굴류) | B71: 1∼5월 | H71: =IF(ISERROR(VLOOKUP($B71,$S$51:$T$107,2,FALSE)),"",(VLOOKUP($B71,$S$51:$T$107,2,FALSE))) | I71: =IF(ISERROR(VLOOKUP($B71,$S$51:$T$107,2,FALSE)),"",(VLOOKUP($B71,$S$51:$T$107,2,FALSE))) | J71: =IF(ISERROR(VLOOKUP($B71,$S$51:$T$107,2,FALSE)),"",(VLOOKUP($B71,$S$51:$T$107,2,FALSE)))
A72: 덩굴피복도 | B72: 보통(40∼60% 피복) | H72: =IF(ISERROR(VLOOKUP($B72,$S$51:$T$110,2,FALSE)),"",(VLOOKUP($B72,$S$51:$T$110,2,FALSE))) | I72: =IF(ISERROR(VLOOKUP($B72,$S$51:$T$110,2,FALSE)),"",(VLOOKUP($B72,$S$51:$T$110,2,FALSE)))
A73: 하층식생(덩굴류) | B73: 보행이 용이하다 | J73: =IF(ISERROR(VLOOKUP($B73,$S$51:$T$107,2,FALSE)),"",(VLOOKUP($B73,$S$51:$T$107,2,FALSE)))
A74: 토양조건(덩굴류) | B74: 장애물이 거의 없음 | J74: =IF(ISERROR(VLOOKUP($B74,$S$51:$T$113,2,FALSE)),"",(VLOOKUP($B74,$S$51:$T$113,2,FALSE)))
A75: 작업시기(어린나무가꾸기) | B75: 1∼5월, 10월~12월 | L75: =IF(ISERROR(VLOOKUP($B75,$S$51:$T$110,2,FALSE)),"",(VLOOKUP($B75,$S$51:$T$110,2,FALSE)))
A76: 제거대상피복도 | B76: 중 (임지의 41%∼70% 분포) | L76: =IF(ISERROR(VLOOKUP($B76,$S$51:$T$104,2,FALSE)),"",(VLOOKUP($B76,$S$51:$T$104,2,FALSE)))
A77: 규격재생산여부 | B77: 미적용 | K77: =IF(ISERROR(VLOOKUP($B77,$S$51:$T$104,2,FALSE)),"",(VLOOKUP($B77,$S$51:$T$104,2,FALSE)))
A78: 합계 | C78: =SUM(C64:C77) -> 0 | D78: =SUM(D64:D77) -> 0 | E78: =SUM(E64:E77) -> 0 | F78: =SUM(F64:F77) -> 0 | G78: =G64+G69 -> 0 | H78: =SUM(H64:H77) -> 0 | I78: =SUM(I64:I77) -> 0 | J78: =SUM(J64:J77) -> 0 | K78: =SUM(K64:K77) -> 0 | L78: =SUM(L64:L77) -> 0 | M78: =SUM(M64:M77) -> 0 | N78: =SUM(N64:N77) -> 0
A82: ○ 작업원 소요량 산출 : | B82: =N87 -> 5.48 | C82: 명
A83: 작업단위 | B83: 선목 | C83: 경계표시 | D83: 작업로 선정 | E83: 작업로 설치 | F83: 풀베기 | G83: =H63 -> 덩굴류제거 (덩굴걷기) | H83: =I63 -> 덩굴류제거 (약제작업) | I83: =J63 -> 덩굴류제거 (뿌리제거) | J83: =K63 -> 솎아베기 | K83: =L63 -> 어린나무 가꾸기 | L83: =M63 -> 가지치기 | M83: 산물임내정리 | N83: 계
A84: 초급기술자 | B84: =ROUND(F6*1,2) -> 0 | N84: =SUM(B84:M84) -> 0
A85: 보통인부 | C85: =ROUND(F11*1,2) -> 0 | D85: =ROUND(F16*1,2) -> 0 | E85: =ROUND(F22*1,2) -> 0 | F85: =ROUND(F29*1+F31*1+F33*1,2) -> 1.48 | N85: =SUM(B85:M85) -> 1.48
A86: 특별인부 | F86: =F35*1+F41*1 -> 4 | N86: =SUM(B86:M86) -> 4
A87: 계 | B87: =SUM(B84:B86) -> 0 | C87: =SUM(C84:C86) -> 0 | D87: =SUM(D84:D86) -> 0 | E87: =SUM(E84:E86) -> 0 | F87: =SUM(F84:F86) -> 5.48 | G87: =SUM(G84:G86) -> 0 | I87: =SUM(I84:I86) -> 0 | J87: =SUM(J84:J86) -> 0 | K87: =SUM(K84:K86) -> 0 | M87: =SUM(M84:M86) -> 0 | N87: =SUM(B87:M87) -> 5.48
Q89: 숲가꾸기 할인할증요소 선택 기준(참고)
A90: 숲가꾸기 할인할증요소 선택 기준(참고) | Q90: 할인할증요소 | R90: 요소분류 | S90: 할인할증율
A91: 할인할증요소 | B91: 요소분류 | C91: 할인할증률 | D91: 요소분류 | F91: 요소분류 | H91: 할인할증률 | J91: 할인할증율 | L91: 요소분류 | N91: 할인할증률 | Q91: 경사도 | R91: 완(15도 이하) | S91: 0
A92: 경사도 | D92: 장애물의 정도 | J92: 선목시기 | R92: 중(15-30도이하) | S92: 5
A93: 완(15도 이하) | B93: 중(15-30도이하) | C93: 급(30도 초과) | D93: 무릎높이 이하 초본ㆍ관목 | F93: 가슴높이 미만 초본ㆍ관목 | H93: 가슴높이 이상 초본ㆍ관목 | J93: 10월-11월, 3월-4월 | L93: 12월-2월 | N93: 5월-9월 | R93: 급(30도 초과) | S93: 10
A94: 0 | B94: 5 | C94: 10 | D94: -10 | E94: 0 | F94: 0 | H94: 10 | J94: -10 | K94: 0 | L94: 0 | N94: 10 | Q94: 장애물의 정도 | R94: 무릎높이 이하 초본ㆍ관목 | S94: -10
R95: 가슴높이 미만 초본ㆍ관목 | S95: 0
A96: 조림후 경과년수(줄베기) | D96: 제거대상식생 | J96: 제거대상피복도 | R96: 가슴높이 이상 초본ㆍ관목 | S96: 10
A97: 당해년도 | B97: 2년차 | C97: 3년차 | D97: 쉽다(높이1.2m 미만이고, 낫으로도 제거가 용이) | F97: 쉽다(높이1.2m 미만이고, 낫으로도 제거가 용이) | H97: 어렵다(높이1.2m 이상이고, 직경이 4-6cm 이상) | J97: 소 (임지의 40% 이하 분포) | L97: 중 (임지의 41%∼70% 분포) | N97: 밀 (임지의 71% 이상 분포)) | Q97: 선목시기 | R97: 10월-11월, 3월-4월 | S97: -10
A98: 0 | B98: 2 | C98: 10 | D98: -10 | E98: 0 | F98: 0 | H98: 10 | J98: -20 | K98: 0 | L98: 0 | N98: 20 | R98: 12월-2월 | S98: 0
R99: 5월-9월 | S99: 10
A100: 집단화정도(풀베기) | D100: 집단화정도 | J100: 작업시기(어린) | M100: 작업시기(덩굴류) | Q100: 제거대상식생 | R100: 쉽다(높이1.2m 미만이고, 낫으로도 제거가 용이) | S100: -10
A101: 개소당 평균면적이 5ha 이상 | B101: 개소당 평균면적이 3-5ha 미만 | C101: 개소당 평균면적이 3ha 미만 | D101: 개소당 평균면적이 3ha 이상 | F101: 개소당 평균면적이 1-3ha 미만 | H101: 개소당 평균면적이 1ha 미만 | J101: 1∼5월, 10월~12월 | L101: 6월∼9월 | M101: 1∼5월 | N101: 6월∼9월 | R101: 보통이다(높이1.2m 이상이고,직경이 4-6cm 미만) | S101: 0
A102: 0 | B102: 5 | C102: 10 | D102: 0 | E102: 0 | F102: 5 | H102: 10 | J102: 0 | K102: 0 | L102: 10 | M102: 0 | N102: 10 | R102: 어렵다(높이1.2m 이상이고, 직경이 4-6cm 이상) | S102: 10
Q103: 조림후 경과년수 (줄베기) | R103: 당해년도 | S103: 0
A104: 토양조건 | D104: 하층식생 | J104: 덩굴 피복도 | R104: 2년차 | S104: 5
A105: 장애물이 거의 없음 | B105: 돌 등 장애물 함량이 10∼30%인 지역 | C105: 돌 등 장애물 함량이 30% 이상인 지역 | D105: 보행이 용이하다 | F105: 보행하는데 약간의 어려움이 있다 | H105: 식생을 제거하지 않고 보행이 곤란하다 | J105: 과밀(80%이상 피복) | K105: 밀(60∼80% 피복) | L105: 보통(40∼60% 피복) | M105: 소(20∼40% 피복) | N105: 과소(20%이하피복) | R105: 3년차 | S105: 10
...

Sheet 단가산출서(소나무류)
A1: ha당 숲가꾸기 단가 산출서 | Q1: 선택항목 | R1: 입력항목
A2: 위 치 | B2: =표지!E28 -> 서귀포시 남원읍 한남리 산 2-1 외 | G2: 수 종 | H2: 소나무류 | J2: 사업면적 | K2: =설계내역서!H8 -> 0 | M2: ha
A3: 구 분 | B3: 작업량 | D3: 단위품(인원,수량, | F3: 소요품 | G3: 단가 | J3: 할인,증률 | L3: 계
A4: 단위작업 | C4: 단위 | D4: 요율) | E4: 단위 | H4: 종류 | P4: 적용여부
A5: ○ 선목 | D5: ○ 미래목 본수 | P5: 적용 | R5: 구분 | S5: 소요인력 | T5: 소요재료 | U5: 재료량
A6: - 직접노무비 | C6: =IF(B5="","",IF(B5="미래목","ha","본/ha")) | D6: =IF(B5="제거대상목",S6,S7) -> 1 | E6: =IF(B5=R7,"인/ha","인/100본당") -> 인/100본당 | F6: =IF(P5="적용",IF(B5="미래목",1,ROUND(B6*D6/100,2)),0) -> 0 | H6: 초급기술자 | J6: =$C$77 -> 0 | K6: % | L6: =ROUNDDOWN((F6*G6)*(1+J6%),0) -> 0 | R6: 제거대상목 | S6: 0.4 | T6: 적색페인트 | U6: 0.17
A7: - 재료비 | R7: 미래목 | S7: 1 | T7: 황색페인트 | U7: 0.5
A8: * 페인트 | B8: =IF(B5="미래목",$E$5,$B$6) -> 0 | C8: 본/ha | D8: =IF(B5="제거대상목",U6,U7) -> 0.5 | E8: ℓ/100본당 | F8: =IF(P5="적용",ROUND(B8*(D8/100),2),0) -> 0 | H8: =IF(B5="제거대상목",T6,T7) -> 황색페인트 | L8: =ROUNDDOWN(F8*G8,0) -> 0
A9: * 잡품 | B9: =L8 -> 0 | C9: 원 | D9: 10 | E9: % | L9: =ROUNDDOWN(B9*D9%,0) -> 0
A10: ○ 경계표시 | P10: 적용
A11: - 직접노무비 | C11: ha | D11: 0.2 | E11: 인/ha | F11: =IF(P10="적용",ROUND(B11*D11,2),0) -> 0 | G11: =기초자료!B14 -> 172068 | H11: 보통인부 | J11: =$D$77 -> 0 | K11: % | L11: =ROUNDDOWN((F11*G11)*(1+J11%),0) -> 0
A12: - 재료비
A13: * 백색페인트 | C13: ha | D13: 0.2 | E13: ℓ/ha | F13: =IF(P10="적용",ROUND(B13*D13,2),0) -> 0 | G13: 7300 | H13: 백색페인트 | L13: =ROUNDDOWN(F13*G13,0) -> 0
A14: * 잡품 | B14: =L13 -> 0 | C14: 원 | D14: 5 | E14: % | L14: =ROUNDDOWN(B14*D14%,0) -> 0
A15: ○ 작업로 선정 | P15: 적용 | R15: 구분 | S15: 100본기준 | T15: 단위 | U15: 재료명 | V15: 잡품비율
A16: - 직접노무비 | C16: km | D16: 1 | E16: 인/km | F16: =IF(P15="적용",ROUND(B16*D16,2),0) -> 0 | G16: =기초자료!B14 -> 172068 | H16: 보통인부 | J16: =$E$77 -> 0 | K16: % | L16: =ROUNDDOWN((F16*G16)*(1+J16%),0) -> 0 | R16: * 백색페인트 | S16: 0.5 | T16: ℓ/km | U16: 백색페인트 | V16: 0.05
A17: - 재료비 | R17: * 백색마킹테이프 | S17: 0.6 | T17: 롤/km | U17: 백색마킹테이프 | V17: 0
B18: =B16 -> 0 | C18: km | D18: =IF(A18=R16,S16,S17) -> 0.6 | E18: =IF(A18=R16,T16,T17) -> 롤/km | F18: =IF(P15="적용",ROUND(B18*D18,2),0) -> 0 | H18: =IF(A18=R16,U16,U17) -> 백색마킹테이프 | L18: =ROUNDDOWN(F18*G18,0) -> 0
A19: * 잡품 | B19: =L18 -> 0 | C19: 원 | D19: =IF(ISERROR(VLOOKUP($A$18,$R$16:$V$17,5,FALSE)),0,VLOOKUP($A$18,$R$16:$V$17,5,FALSE))*100 -> 0 | E19: % | L19: =ROUNDDOWN(B19*D19%,0) -> 0
A20: ○ 작업로 설치 | P20: 적용
A21: - 직접노무비
A22: * 소작업로 | C22: km | D22: 2 | E22: 인/km | F22: =IF(P20="적용",ROUND(B22*D22,2),0) -> 0 | G22: =기초자료!B14 -> 172068 | H22: 보통인부 | J22: =$F$77 -> 0 | K22: % | L22: =ROUNDDOWN((F22*G22)*(1+J22%),0) -> 0
A23: - 재료비
A24: * 연료 | B24: =F22 -> 0 | C24: 인/ha | D24: =5.6/2 -> 2.8 | E24: ℓ/km | F24: =IF(P20="적용",ROUND(B24*D24,2),0) -> 0 | H24: 휘발유 | L24: =ROUNDDOWN(F24*G24,0) -> 0
A25: * 잡품 | B25: =L24 -> 0 | C25: 원 | D25: 95 | E25: % | L25: =ROUNDDOWN(B25*D25%,0) -> 0
A26: - 기계경비 | B26: =F22 -> 0 | C26: 인 | D26: 0.0042 | E26: 1대2인 | H26: 체인톱 | L26: =ROUNDDOWN(B26*D26*G26,0) -> 0
A27: ○ 풀베기 | B27: 모두베기 | D27: 조림 3년차 이상 | P27: 적용 | R27: 구분 | S27: 조건 | T27: 사용도구
A28: ○ 묘목찾기 | B28: =T28 -> 낫 | D28: (줄베기, 모두베기에만 적용) | P28: 적용 | R28: 묘목찾기 | T28: 낫 | U28: 인/100본 | V28: 보통인부 | W28: 0.07
A29: - 직접노무비 | B29: =T45 -> 2150 | C29: 본/ha | D29: =W28 -> 0.07 | E29: 인/100본 | G29: =기초자료!B14 -> 172068 | H29: 보통인부 | J29: =$G$77 -> 0 | K29: % | L29: =ROUNDDOWN((F29*G29)*(1+J29%),0) -> 0 | P29: ha당 식재본수 | R29: 맹아제거 | T29: 괭이,도끼 등 | U29: 인/100본 | V29: 보통인부 | W29: 0.2
A30: ○ 맹아제거 | B30: =T29 -> 괭이,도끼 등 | D30: (둘레베기, 줄베기에만 적용) | P30: 적용 | R30: 둘레베기 | T30: 낫 | U30: 인/100본 | V30: 보통인부 | W30: 0.18
A31: - 직접노무비 | C31: 본/ha | D31: =W29 -> 0.2 | E31: 인/100본 | F31: =IF(P30="적용",ROUND(B31*D31/100,2),0) -> 0 | G31: =G29 -> 172068 | H31: 보통인부 | J31: =IF($G$64="",0,$G$64)+IF($G$69="",0,G$69) -> 0 | K31: % | L31: =ROUNDDOWN((F31*G31)*(1+J31%),0) -> 0 | R31: 줄베기 | T31: 예취기 | U31: 인/ha | V31: 특별인부 | W31: 1.3
A32: ○ 둘레베기 | B32: =T30 -> 낫 | R32: 모두베기 | S32: 조림 당해 연도 | T32: 예취기 | U32: 인/ha | V32: 특별인부 | W32: 3.5
A33: - 직접노무비 | C33: 본/ha | D33: 0.18 | E33: 인/100본 | F33: =IF((B27="둘레베기")*(P27="적용"),ROUND(B33*D33/100,2),0) -> 0 | G33: =G31 -> 172068 | H33: 보통인부 | J33: =$G$77 -> 0 | K33: % | L33: =ROUNDDOWN((F33*G33)*(1+J33%),0) -> 0 | R33: 모두베기 | S33: 조림 2년차 | T33: 예취기 | U33: 인/ha | V33: 특별인부 | W33: 4
A34: ○ 줄베기 | B34: =T31 -> 예취기 | R34: 모두베기 | S34: 조림 3년차 이상 | T34: 예취기 | U34: 인/ha | V34: 특별인부 | W34: 5
A35: - 직접노무비 | B35: 1 | C35: ha | D35: 1.3 | E35: 인/ha | F35: =IF((B27="줄베기")*(P27="적용"),ROUND(B35*D35,2),0) -> 0 | G35: =기초자료!B16 -> 226122 | H35: 특별인부 | J35: =$G$77 -> 0 | K35: % | L35: =ROUNDDOWN((F35*G35)*(1+J35%),0) -> 0
A36: - 재료비
A37: * 연료 | B37: =F35 -> 0 | C37: 인/ha | D37: 5 | E37: ℓ/일.대 | F37: =IF(P27="적용",ROUND(B37*D37,2),0) -> 0 | H37: 휘발유 | L37: =ROUNDDOWN(F37*G37,0) -> 0
A38: * 잡품 | B38: =L37 -> 0 | C38: 원 | D38: 10 | E38: % | L38: =ROUNDDOWN(B38*D38%,0) -> 0
A39: - 기계경비 | B39: =F35 -> 0 | C39: 대/ha | D39: 0.0084 | E39: 1대1인 | H39: 예초기 | L39: =ROUNDDOWN(B39*D39*G39,0) -> 0
A40: ○ 모두베기 | B40: =T32 -> 예취기 | C40: =IF($D$27="","","("&$D$27&")") -> (조림 3년차 이상) | P40: 3000 | Q40: 표준지크기(m2) | R40: 생존목(본) | S40: 1ha | T40: 묘목본수
A41: - 직접노무비 | B41: 1 | C41: ha | D41: =IF(D27=S32,W32,IF(D27=S33,W33,IF(D27=S34,W34,0))) -> 5 | E41: 인/ha | F41: =IF(($B$27="모두베기")*($P$27="적용"),ROUND(B41*D41,2),0) -> 5 | G41: =기초자료!B16 -> 226122 | H41: 특별인부 | J41: =$G$77 -> 0 | K41: % | L41: =ROUNDDOWN((F41*G41)*(1+J41%),0) -> 1130610 | P41: 활착율 | Q41: 200 | R41: =U44 -> 37.333333 | S41: 10000 | T41: =R41*S41/Q41 -> 1866.6667
A42: - 재료비 | P42: =T41/P40*100 -> 62.222222
A43: * 연료 | B43: =F41 -> 5 | C43: 인/ha | D43: 5 | E43: ℓ/인 | F43: =IF(P27="적용",ROUND(B43*D43,2),0) -> 25 | G43: =기초자료!B19 -> 1842 | H43: 휘발유 | L43: =ROUNDDOWN(F43*G43,0) -> 46050 | R43: 표준지1 | S43: 표준지2 | T43: 표준지3 | U43: 평균
A44: * 잡품 | B44: =L43 -> 46050 | C44: 원 | D44: 10 | E44: % | L44: =ROUNDDOWN(B44*D44%,0) -> 4605 | Q44: 표준지당 | R44: 24 | S44: 45 | T44: 43 | U44: =AVERAGE(R44:T44) -> 37.333333
A45: - 기계경비 | B45: =F41 -> 5 | C45: 인 | D45: 0.0084 | E45: 1대1인 | G45: =기초자료!B26 -> 610000 | H45: =기초자료!A26 -> 배낭식동력예취기 | L45: =ROUNDDOWN(B45*D45*G45,0) -> 25620 | Q45: 1ha당 | R45: =R44*50 -> 1200 | S45: =S44*50 -> 2250 | T45: =T44*50 -> 2150 | U45: =AVERAGE(R45:T45) -> 1866.6667
A46: ◈ 합계 | L46: =SUM(L47:L49) -> 1206885 | Q46: 표준지 좌표 | R46: 126.57302 | S46: 126.63898 | T46: 126.63948
A47: ○ 노무비 | L47: =L41+L29 -> 1130610 | R47: 33.30499 | S47: 33.368528 | T47: 33.36837
A48: ○ 재료비 | L48: =L43+L44 -> 50655
A49: ○ 경비(기계경비) | L49: =L45 -> 25620
A51: □ 참고사항(소반내 실시설계 표준지 조사결과의 평균이나 전수조사를 적용)
A52: ○ 작업량 산정
A53: - 작업로선정 : | B53: =IF(P15="적용",B16,0) -> 0 | C53: km
A54: - 작업로설치 : | B54: =IF(P20="적용",B22,0) -> 0 | C54: km
A55: - 솎아베기량 : | B55: =IF(#REF!="적용",#REF!,0) -> #REF! | C55: 본/ha | D55: =#REF! -> #REF!
A56: - 가지치기량 : | B56: =IF(#REF!="적용",(#REF!+#REF!+#REF!+#REF!+#REF!),0) -> #REF! | C56: 본/ha
A57: - 산물임내정리량 : | C57: (㎥/ha)
A58: - 산물수집면적 : | B58: =K2 -> 0 | C58: ha | D58: (미수집 구역은 ha당 사업비에서 산물수집 사업비를 제외)
A59: ○ 투입인력 산정
A60: - ha당 투입인력 : | B60: =N86 -> 5 | C60: 인
A61: ○ 할인,할증율 산정
A62: 구 분 | B62: 할인,할증 요소 | C62: 단위작업(%)
C63: 선목 | D63: 경계표시 | E63: 작업로선정 | F63: 작업로설치 | G63: 풀베기 | H63: 덩굴류제거 (덩굴걷기) | I63: 덩굴류제거 (약제작업) | J63: 덩굴류제거 (뿌리제거) | K63: 솎아베기 | L63: 어린나무 가꾸기 | M63: 가지치기 | N63: 산물 임내정리
A64: 경사도 | B64: 완(15도 이하) | C64: =IF(ISERROR(VLOOKUP($B64,$S$51:$T$103,2,FALSE)),"",(VLOOKUP($B64,$S$51:$T$103,2,FALSE))) | D64: =IF(ISERROR(VLOOKUP($B64,$S$51:$T$103,2,FALSE)),"",(VLOOKUP($B64,$S$51:$T$103,2,FALSE))) | E64: =IF(ISERROR(VLOOKUP($B64,$S$51:$T$103,2,FALSE)),"",(VLOOKUP($B64,$S$51:$T$103,2,FALSE))) | F64: =IF(ISERROR(VLOOKUP($B64,$S$51:$T$103,2,FALSE)),"",(VLOOKUP($B64,$S$51:$T$103,2,FALSE))) | G64: =IF(ISERROR(VLOOKUP($B64,$R$90:$S$152,2,FALSE)),"",(VLOOKUP($B64,$R$90:$S$152,2,FALSE))) -> 0 | H64: =IF(ISERROR(VLOOKUP($B64,$S$51:$T$103,2,FALSE)),"",(VLOOKUP($B64,$S$51:$T$103,2,FALSE))) | I64: =IF(ISERROR(VLOOKUP($B64,$S$51:$T$103,2,FALSE)),"",(VLOOKUP($B64,$S$51:$T$103,2,FALSE))) | J64: =IF(ISERROR(VLOOKUP($B64,$S$51:$T$103,2,FALSE)),"",(VLOOKUP($B64,$S$51:$T$103,2,FALSE))) | K64: =IF(ISERROR(VLOOKUP($B64,$S$51:$T$103,2,FALSE)),"",(VLOOKUP($B64,$S$51:$T$103,2,FALSE))) | L64: =IF(ISERROR(VLOOKUP($B64,$S$51:$T$103,2,FALSE)),"",(VLOOKUP($B64,$S$51:$T$103,2,FALSE))) | M64: =IF(ISERROR(VLOOKUP($B64,$S$51:$T$103,2,FALSE)),"",(VLOOKUP($B64,$S$51:$T$103,2,FALSE))) | N64: =IF(ISERROR(VLOOKUP($B64,$S$51:$T$103,2,FALSE)),"",(VLOOKUP($B64,$S$51:$T$103,2,FALSE)))
A65: 장애물의 정도 | B65: 가슴높이 미만 초본ㆍ관목 | C65: =IF(ISERROR(VLOOKUP($B65,$S$51:$T$103,2,FALSE)),"",(VLOOKUP($B65,$S$51:$T$103,2,FALSE))) | E65: =IF(ISERROR(VLOOKUP($B65,$S$51:$T$103,2,FALSE)),"",(VLOOKUP($B65,$S$51:$T$103,2,FALSE))) | K65: =IF(ISERROR(VLOOKUP($B65,$S$51:$T$103,2,FALSE)),"",(VLOOKUP($B65,$S$51:$T$103,2,FALSE))) | M65: =IF(ISERROR(VLOOKUP($B65,$S$51:$T$103,2,FALSE)),"",(VLOOKUP($B65,$S$51:$T$103,2,FALSE)))
A66: 선목시기 | B66: 12월-2월 | C66: =IF(ISERROR(VLOOKUP($B66,$S$51:$T$103,2,FALSE)),"",(VLOOKUP($B66,$S$51:$T$103,2,FALSE)))
A67: 제거대상식생(작업로설치) | B67: 보통이다(높이1.2m 이상이고,직경이 4-6cm 미만) | F67: =IF(ISERROR(VLOOKUP($B67,$S$51:$T$103,2,FALSE)),"",(VLOOKUP($B67,$S$51:$T$103,2,FALSE)))
A68: 조림후경과년수 | B68: 3년차
A69: 집단화정도(풀베기) | G69: =IF(ISERROR(VLOOKUP($B69,$R$90:$S$152,2,FALSE)),"",(VLOOKUP($B69,$R$90:$S$152,2,FALSE))) | O69: 미적용
A70: 집단화정도 | B70: 개소당 평균면적이 3ha 이상 | H70: =IF(ISERROR(VLOOKUP($B70,$S$51:$T$103,2,FALSE)),"",(VLOOKUP($B70,$S$51:$T$103,2,FALSE))) | I70: =IF(ISERROR(VLOOKUP($B70,$S$51:$T$103,2,FALSE)),"",(VLOOKUP($B70,$S$51:$T$103,2,FALSE))) | J70: =IF(ISERROR(VLOOKUP($B70,$S$51:$T$103,2,FALSE)),"",(VLOOKUP($B70,$S$51:$T$103,2,FALSE))) | L70: =IF(ISERROR(VLOOKUP($B70,$S$51:$T$103,2,FALSE)),"",(VLOOKUP($B70,$S$51:$T$103,2,FALSE)))
A71: 작업시기(덩굴류) | B71: 1∼5월 | H71: =IF(ISERROR(VLOOKUP($B71,$S$51:$T$106,2,FALSE)),"",(VLOOKUP($B71,$S$51:$T$106,2,FALSE))) | I71: =IF(ISERROR(VLOOKUP($B71,$S$51:$T$106,2,FALSE)),"",(VLOOKUP($B71,$S$51:$T$106,2,FALSE))) | J71: =IF(ISERROR(VLOOKUP($B71,$S$51:$T$106,2,FALSE)),"",(VLOOKUP($B71,$S$51:$T$106,2,FALSE)))
A72: 하층식생(덩굴류) | B72: 보행이 용이하다 | J72: =IF(ISERROR(VLOOKUP($B72,$S$51:$T$106,2,FALSE)),"",(VLOOKUP($B72,$S$51:$T$106,2,FALSE)))
A73: 토양조건(덩굴류) | B73: 장애물이 거의 없음 | J73: =IF(ISERROR(VLOOKUP($B73,$S$51:$T$112,2,FALSE)),"",(VLOOKUP($B73,$S$51:$T$112,2,FALSE)))
A74: 작업시기(어린나무가꾸기) | B74: 1∼5월, 10월~12월 | L74: =IF(ISERROR(VLOOKUP($B74,$S$51:$T$109,2,FALSE)),"",(VLOOKUP($B74,$S$51:$T$109,2,FALSE)))
A75: 제거대상피복도 | B75: 중 (임지의 41%∼70% 분포) | L75: =IF(ISERROR(VLOOKUP($B75,$S$51:$T$103,2,FALSE)),"",(VLOOKUP($B75,$S$51:$T$103,2,FALSE)))
A76: 규격재생산여부 | B76: 미적용 | K76: =IF(ISERROR(VLOOKUP($B76,$S$51:$T$103,2,FALSE)),"",(VLOOKUP($B76,$S$51:$T$103,2,FALSE)))
A77: 합계 | C77: =SUM(C64:C76) -> 0 | D77: =SUM(D64:D76) -> 0 | E77: =SUM(E64:E76) -> 0 | F77: =SUM(F64:F76) -> 0 | G77: =SUM(G64:G76) -> 0 | H77: =SUM(H64:H76) -> 0 | I77: =SUM(I64:I76) -> 0 | J77: =SUM(J64:J76) -> 0 | ... N77: =SUM(N64:N76) -> 0
A81: ○ 작업원 소요량 산출 : | B81: =N86 -> 5 | C81: 명
A82: 작업단위 | B82: 선목 | C82: 경계표시 | D82: 작업로 선정 | E82: 작업로 설치 | F82: 풀베기 | G82: =H63 -> 덩굴류제거 (덩굴걷기) | H82: =I63 -> 덩굴류제거 (약제작업) | I82: =J63 -> 덩굴류제거 (뿌리제거) | J82: =K63 -> 솎아베기 | K82: =L63 -> 어린나무 가꾸기 | L82: =M63 -> 가지치기 | M82: 산물임내정리 | N82: 계
A83: 초급기술자 | B83: =ROUND(F6*1,2) -> 0 | N83: =SUM(B83:M83) -> 0
A84: 보통인부 | C84: =ROUND(F11*1,2) -> 0 | D84: =ROUND(F16*1,2) -> 0 | E84: =ROUND(F22*1,2) -> 0 | F84: =ROUND(F29*1+F31*1+F33*1,2) -> 0 | N84: =SUM(B84:M84) -> 0
A85: 특별인부 | F85: =F35*1+F41*1 -> 5 | N85: =SUM(B85:M85) -> 5
A86: 계 | B86: =SUM(B83:B85) -> 0 | C86: =SUM(C83:C85) -> 0 | D86: =SUM(D83:D85) -> 0 | E86: =SUM(E83:E85) -> 0 | F86: =SUM(F83:F85) -> 5 | G86: =SUM(G83:G85) -> 0 | I86: =SUM(I83:I85) -> 0 | J86: =SUM(J83:J85) -> 0 | K86: =SUM(K83:K85) -> 0 | M86: =SUM(M83:M85) -> 0 | N86: =SUM(B86:M86) -> 5
Q88: 숲가꾸기 할인할증요소 선택 기준(참고)
A89: 숲가꾸기 할인할증요소 선택 기준(참고) | Q89: 할인할증요소 | R89: 요소분류 | S89: 할인할증율
A90: 할인할증요소 | B90: 요소분류 | C90: 할인할증률 | D90: 요소분류 | F90: 요소분류 | H90: 할인할증률 | J90: 할인할증율 | L90: 요소분류 | N90: 할인할증률 | Q90: 경사도 | R90: 완(15도 이하) | S90: 0
A91: 경사도 | D91: 장애물의 정도 | J91: 선목시기 | R91: 중(15-30도이하) | S91: 5
A92: 완(15도 이하) | B92: 중(15-30도이하) | C92: 급(30도 초과) | D92: 무릎높이 이하 초본ㆍ관목 | F92: 가슴높이 미만 초본ㆍ관목 | H92: 가슴높이 이상 초본ㆍ관목 | J92: 10월-11월, 3월-4월 | L92: 12월-2월 | N92: 5월-9월 | R92: 급(30도 초과) | S92: 10
A93: 0 | B93: 5 | C93: 10 | D93: -10 | E93: 0 | F93: 0 | H93: 10 | J93: -10 | K93: 0 | L93: 0 | N93: 10 | Q93: 장애물의 정도 | R93: 무릎높이 이하 초본ㆍ관목 | S93: -10
R94: 가슴높이 미만 초본ㆍ관목 | S94: 0
A95: 조림후 경과년수(줄베기) | D95: 제거대상식생 | J95: 제거대상피복도 | R95: 가슴높이 이상 초본ㆍ관목 | S95: 10
A96: 당해년도 | B96: 2년차 | C96: 3년차 | D96: 쉽다(높이1.2m 미만이고, 낫으로도 제거가 용이) | F96: 쉽다(높이1.2m 미만이고, 낫으로도 제거가 용이) | H96: 어렵다(높이1.2m 이상이고, 직경이 4-6cm 이상) | J96: 소 (임지의 40% 이하 분포) | L96: 중 (임지의 41%∼70% 분포) | N96: 밀 (임지의 71% 이상 분포)) | Q96: 선목시기 | R96: 10월-11월, 3월-4월 | S96: -10
A97: 0 | B97: 2 | C97: 10 | D97: -10 | E97: 0 | F97: 0 | H97: 10 | J97: -20 | K97: 0 | L97: 0 | N97: 20 | R97: 12월-2월 | S97: 0
R98: 5월-9월 | S98: 10
A99: 집단화정도(풀베기) | D99: 집단화정도 | J99: 작업시기(어린) | M99: 작업시기(덩굴류) | Q99: 제거대상식생 | R99: 쉽다(높이1.2m 미만이고, 낫으로도 제거가 용이) | S99: -10
A100: 개소당 평균면적이 5ha 이상 | B100: 개소당 평균면적이 3-5ha 미만 | C100: 개소당 평균면적이 3ha 미만 | D100: 개소당 평균면적이 3ha 이상 | F100: 개소당 평균면적이 1-3ha 미만 | H100: 개소당 평균면적이 1ha 미만 | J100: 1∼5월, 10월~12월 | L100: 6월∼9월 | M100: 1∼5월 | N100: 6월∼9월 | R100: 보통이다(높이1.2m 이상이고,직경이 4-6cm 미만) | S100: 0
A101: 0 | B101: 5 | C101: 10 | D101: 0 | E101: 0 | F101: 5 | H101: 10 | J101: 0 | K101: 0 | L101: 10 | M101: 0 | N101: 10 | R101: 어렵다(높이1.2m 이상이고, 직경이 4-6cm 이상) | S101: 10
Q102: 조림후 경과년수 (줄베기) | R102: 당해년도 | S102: 0
A103: 토양조건 | D103: 하층식생 | J103: 덩굴 피복도 | R103: 2년차 | S103: 5
A104: 장애물이 거의 없음 | B104: 돌 등 장애물 함량이 10∼30%인 지역 | C104: 돌 등 장애물 함량이 30% 이상인 지역 | D104: 보행이 용이하다 | F104: 보행하는데 약간의 어려움이 있다 | H104: 식생을 제거하지 않고 보행이 곤란하다 | J104: 과밀(80%이상 피복) | K104: 밀(60∼80% 피복) | L104: 보통(40∼60% 피복) | M104: 소(20∼40% 피복) | N104: 과소(20%이하피복) | R104: 3년차 | S104: 10
A105: 0 | B105: 5 | C105: 10 | D105: 0 | E105: 0 | F105: 5 | H105: 10 | J105: 50 | K105: 20 | L105: 0 | M105: -20 | N105: -50 | Q105: 집단화정도(풀베기) | R105: 개소당 평균면적이 5ha 이상 | S105: 0
...

Sheet 단가산출서(편백)
A1: ha당 숲가꾸기 단가 산출서 | Q1: 선택항목 | R1: 입력항목
A2: 위 치 | B2: =표지!E28 -> 서귀포시 남원읍 한남리 산 2-1 외 | G2: 수 종 | H2: 편백 | J2: 사업면적 | K2: =설계내역서!H9 -> 0 | M2: ha
A3: 구 분 | B3: 작업량 | D3: 단위품(인원,수량, | F3: 소요품 | G3: 단가 | J3: 할인,증률 | L3: 계
A4: 단위작업 | C4: 단위 | D4: 요율) | E4: 단위 | H4: 종류 | P4: 적용여부
A5: ○ 선목 | D5: ○ 미래목 본수 | P5: 적용 | R5: 구분 | S5: 소요인력 | T5: 소요재료 | U5: 재료량
A6: - 직접노무비 | C6: =IF(B5="","",IF(B5="미래목","ha","본/ha")) | D6: =IF(B5="제거대상목",S6,S7) -> 1 | E6: =IF(B5=R7,"인/ha","인/100본당") -> 인/100본당 | F6: =IF(P5="적용",IF(B5="미래목",1,ROUND(B6*D6/100,2)),0) -> 0 | H6: 초급기술자 | J6: =$C$78 -> 0 | K6: % | L6: =ROUNDDOWN((F6*G6)*(1+J6%),0) -> 0 | R6: 제거대상목 | S6: 0.4 | T6: 적색페인트 | U6: 0.17
A7: - 재료비 | R7: 미래목 | S7: 1 | T7: 황색페인트 | U7: 0.5
A8: * 페인트 | B8: =IF(B5="미래목",$E$5,$B$6) -> 0 | C8: 본/ha | D8: =IF(B5="제거대상목",U6,U7) -> 0.5 | E8: ℓ/100본당 | F8: =IF(P5="적용",ROUND(B8*(D8/100),2),0) -> 0 | H8: =IF(B5="제거대상목",T6,T7) -> 황색페인트 | L8: =ROUNDDOWN(F8*G8,0) -> 0
A9: * 잡품 | B9: =L8 -> 0 | C9: 원 | D9: 10 | E9: % | L9: =ROUNDDOWN(B9*D9%,0) -> 0
A10: ○ 경계표시 | P10: 적용
A11: - 직접노무비 | C11: ha | D11: 0.2 | E11: 인/ha | F11: =IF(P10="적용",ROUND(B11*D11,2),0) -> 0 | G11: =기초자료!B14 -> 172068 | H11: 보통인부 | J11: =$D$78 -> 0 | K11: % | L11: =ROUNDDOWN((F11*G11)*(1+J11%),0) -> 0
A12: - 재료비
A13: * 백색페인트 | C13: ha | D13: 0.2 | E13: ℓ/ha | F13: =IF(P10="적용",ROUND(B13*D13,2),0) -> 0 | G13: 7300 | H13: 백색페인트 | L13: =ROUNDDOWN(F13*G13,0) -> 0
A14: * 잡품 | B14: =L13 -> 0 | C14: 원 | D14: 5 | E14: % | L14: =ROUNDDOWN(B14*D14%,0) -> 0
A15: ○ 작업로 선정 | P15: 적용 | R15: 구분 | S15: 100본기준 | T15: 단위 | U15: 재료명 | V15: 잡품비율
A16: - 직접노무비 | C16: km | D16: 1 | E16: 인/km | F16: =IF(P15="적용",ROUND(B16*D16,2),0) -> 0 | G16: =기초자료!B14 -> 172068 | H16: 보통인부 | J16: =$E$78 -> 0 | K16: % | L16: =ROUNDDOWN((F16*G16)*(1+J16%),0) -> 0 | R16: * 백색페인트 | S16: 0.5 | T16: ℓ/km | U16: 백색페인트 | V16: 0.05
A17: - 재료비 | R17: * 백색마킹테이프 | S17: 0.6 | T17: 롤/km | U17: 백색마킹테이프 | V17: 0
B18: =B16 -> 0 | C18: km | D18: =IF(A18=R16,S16,S17) -> 0.6 | E18: =IF(A18=R16,T16,T17) -> 롤/km | F18: =IF(P15="적용",ROUND(B18*D18,2),0) -> 0 | H18: =IF(A18=R16,U16,U17) -> 백색마킹테이프 | L18: =ROUNDDOWN(F18*G18,0) -> 0
A19: * 잡품 | B19: =L18 -> 0 | C19: 원 | D19: =IF(ISERROR(VLOOKUP($A$18,$R$16:$V$17,5,FALSE)),0,VLOOKUP($A$18,$R$16:$V$17,5,FALSE))*100 -> 0 | E19: % | L19: =ROUNDDOWN(B19*D19%,0) -> 0
A20: ○ 작업로 설치 | P20: 적용
A21: - 직접노무비
A22: * 소작업로 | C22: km | D22: 2 | E22: 인/km | F22: =IF(P20="적용",ROUND(B22*D22,2),0) -> 0 | G22: =기초자료!B14 -> 172068 | H22: 보통인부 | J22: =$F$78 -> 0 | K22: % | L22: =ROUNDDOWN((F22*G22)*(1+J22%),0) -> 0
A23: - 재료비
A24: * 연료 | B24: =F22 -> 0 | C24: 인/ha | D24: =5.6/2 -> 2.8 | E24: ℓ/km | F24: =IF(P20="적용",ROUND(B24*D24,2),0) -> 0 | H24: 휘발유 | L24: =ROUNDDOWN(F24*G24,0) -> 0
A25: * 잡품 | B25: =L24 -> 0 | C25: 원 | D25: 95 | E25: % | L25: =ROUNDDOWN(B25*D25%,0) -> 0
A26: - 기계경비 | B26: =F22 -> 0 | C26: 인 | D26: 0.0042 | E26: 1대2인 | H26: 체인톱 | L26: =ROUNDDOWN(B26*D26*G26,0) -> 0
A27: ○ 풀베기 | B27: 모두베기 | D27: 조림 3년차 이상 | P27: 적용 | R27: 구분 | S27: 조건 | T27: 사용도구
A28: ○ 묘목찾기 | B28: =T28 -> 낫 | D28: (줄베기, 모두베기에만 적용) | P28: 적용 | R28: 묘목찾기 | T28: 낫 | U28: 인/100본 | V28: 보통인부 | W28: 0.07
A29: - 직접노무비 | B29: =T45 -> 1400 | C29: 본/ha | D29: =W28 -> 0.07 | E29: 인/100본 | F29: =IF(P28="적용",ROUND(B29*D29/100,2),0) -> 0.98 | G29: =기초자료!B14 -> 172068 | H29: 보통인부 | J29: =$G$78 -> 10 | K29: % | L29: =ROUNDDOWN((F29*G29)*(1+J29%),0) -> 185489 | P29: ha당 식재본수 | R29: 맹아제거 | T29: 괭이,도끼 등 | U29: 인/100본 | V29: 보통인부 | W29: 0.2
A30: ○ 맹아제거 | B30: =T29 -> 괭이,도끼 등 | D30: (둘레베기, 줄베기에만 적용) | P30: 적용 | R30: 둘레베기 | T30: 낫 | U30: 인/100본 | V30: 보통인부 | W30: 0.18
A31: - 직접노무비 | C31: 본/ha | D31: =W29 -> 0.2 | E31: 인/100본 | F31: =IF(P30="적용",ROUND(B31*D31/100,2),0) -> 0 | G31: =G29 -> 172068 | H31: 보통인부 | J31: =IF($G$64="",0,$G$64)+IF($G$69="",0,G$69) -> 10 | K31: % | L31: =ROUNDDOWN((F31*G31)*(1+J31%),0) -> 0 | R31: 줄베기 | T31: 예취기 | U31: 인/ha | V31: 특별인부 | W31: 1.3
A32: ○ 둘레베기 | B32: =T30 -> 낫 | R32: 모두베기 | S32: 조림 당해 연도 | T32: 예취기 | U32: 인/ha | V32: 특별인부 | W32: 3.5
A33: - 직접노무비 | C33: 본/ha | D33: 0.18 | E33: 인/100본 | F33: =IF((B27="둘레베기")*(P27="적용"),ROUND(B33*D33/100,2),0) -> 0 | G33: =G31 -> 172068 | H33: 보통인부 | J33: =$G$78 -> 10 | K33: % | L33: =ROUNDDOWN((F33*G33)*(1+J33%),0) -> 0 | R33: 모두베기 | S33: 조림 2년차 | T33: 예취기 | U33: 인/ha | V33: 특별인부 | W33: 4
A34: ○ 줄베기 | B34: =T31 -> 예취기 | R34: 모두베기 | S34: 조림 3년차 이상 | T34: 예취기 | U34: 인/ha | V34: 특별인부 | W34: 5
A35: - 직접노무비 | C35: ha | D35: 1.3 | E35: 인/ha | F35: =IF((B27="줄베기")*(P27="적용"),ROUND(B35*D35,2),0) -> 0 | G35: =기초자료!B16 -> 226122 | H35: 특별인부 | J35: =$G$78 -> 10 | K35: % | L35: =ROUNDDOWN((F35*G35)*(1+J35%),0) -> 0
A36: - 재료비
A37: * 연료 | B37: =F35 -> 0 | C37: 인/ha | D37: 5 | E37: ℓ/일.대 | F37: =IF(P27="적용",ROUND(B37*D37,2),0) -> 0 | H37: 휘발유 | L37: =ROUNDDOWN(F37*G37,0) -> 0
A38: * 잡품 | B38: =L37 -> 0 | C38: 원 | D38: 10 | E38: % | L38: =ROUNDDOWN(B38*D38%,0) -> 0
A39: - 기계경비 | B39: =F35 -> 0 | C39: 대/ha | D39: 0.0084 | E39: 1대1인 | H39: 예초기 | L39: =ROUNDDOWN(B39*D39*G39,0) -> 0
A40: ○ 모두베기 | B40: =T32 -> 예취기 | C40: =IF($D$27="","","("&$D$27&")") -> (조림 3년차 이상) | P40: 3000 | Q40: 표준지크기(m2) | R40: 생존목(본) | S40: 1ha | T40: 묘목본수
A41: - 직접노무비 | B41: 1 | C41: ha | D41: =IF(D27=S32,W32,IF(D27=S33,W33,IF(D27=S34,W34,0))) -> 5 | E41: 인/ha | F41: =IF(($B$27="모두베기")*($P$27="적용"),ROUND(B41*D41,2),0) -> 5 | G41: =기초자료!B16 -> 226122 | H41: 특별인부 | J41: =$G$78 -> 10 | K41: % | L41: =ROUNDDOWN((F41*G41)*(1+J41%),0) -> 1243671 | P41: 활착율 | Q41: 200 | R41: =ROUND(U44,0) -> 31 | S41: 10000 | T41: =R41*S41/200 -> 1550
A42: - 재료비 | P42: =T41/P40*100 -> 51.666667
A43: * 연료 | B43: =F41 -> 5 | C43: 인/ha | D43: 5 | E43: ℓ/인 | F43: =IF(P27="적용",ROUND(B43*D43,2),0) -> 25 | G43: =기초자료!B19 -> 1842 | H43: 휘발유 | L43: =ROUNDDOWN(F43*G43,0) -> 46050 | R43: 표준지1 | S43: 표준지2 | T43: 평균 | U43: 평균
A44: * 잡품 | B44: =L43 -> 46050 | C44: 원 | D44: 10 | E44: % | L44: =ROUNDDOWN(B44*D44%,0) -> 4605 | Q44: 표준지당 | R44: 29 | S44: 35 | T44: 28 | U44: =AVERAGE(R44:T44) -> 30.666667
A45: - 기계경비 | B45: =F41 -> 5 | C45: 인 | D45: 0.0084 | E45: 1대1인 | G45: =기초자료!B26 -> 610000 | H45: =기초자료!A26 -> 배낭식동력예취기 | L45: =ROUNDDOWN(B45*D45*G45,0) -> 25620 | Q45: 1ha당 | R45: =R44*50 -> 1450 | S45: =S44*50 -> 1750 | T45: =T44*50 -> 1400 | U45: =AVERAGE(R45:T45) -> 1533.3333
A46: ◈ 합계 | L46: =SUM(L47:L49) -> 1505435 | Q46: 표준지좌표 | R46: 126.63807 | S46: 126.63992 | T46: 126.64017
A47: ○ 노무비 | L47: =L41+L29 -> 1429160 | R47: 33.371208 | S47: 33.371919 | T47: 33.37078
A48: ○ 재료비 | L48: =L43+L44 -> 50655
A49: ○ 경비(기계경비) | L49: =L45 -> 25620
A51: □ 참고사항(소반내 실시설계 표준지 조사결과의 평균이나 전수조사를 적용)
A52: ○ 작업량 산정
A53: - 작업로선정 : | B53: =IF(P15="적용",B16,0) -> 0 | C53: km
A54: - 작업로설치 : | B54: =IF(P20="적용",B22,0) -> 0 | C54: km
A55: - 솎아베기량 : | B55: =IF(#REF!="적용",#REF!,0) -> #REF! | C55: 본/ha | D55: =#REF! -> #REF!
A56: - 가지치기량 : | B56: =IF(#REF!="적용",(#REF!+#REF!+#REF!+#REF!+#REF!),0) -> #REF! | C56: 본/ha
A57: - 산물임내정리량 : | C57: (㎥/ha)
A58: - 산물수집면적 : | B58: =K2 -> 0 | C58: ha | D58: (미수집 구역은 ha당 사업비에서 산물수집 사업비를 제외)
A59: ○ 투입인력 산정
A60: - ha당 투입인력 : | B60: =N87 -> 5.98 | C60: 인
A61: ○ 할인,할증율 산정
A62: 구 분 | B62: 할인,할증 요소 | C62: 단위작업(%)
C63: 선목 | D63: 경계표시 | E63: 작업로선정 | F63: 작업로설치 | G63: 풀베기 | H63: 덩굴류제거 (덩굴걷기) | I63: 덩굴류제거 (약제작업) | J63: 덩굴류제거 (뿌리제거) | K63: 솎아베기 | L63: 어린나무 가꾸기 | M63: 가지치기 | N63: 산물 임내정리
A64: 경사도 | B64: 완(15도 이하) | C64: =IF(ISERROR(VLOOKUP($B64,$S$51:$T$104,2,FALSE)),"",(VLOOKUP($B64,$S$51:$T$104,2,FALSE))) | D64: =IF(ISERROR(VLOOKUP($B64,$S$51:$T$104,2,FALSE)),"",(VLOOKUP($B64,$S$51:$T$104,2,FALSE))) | E64: =IF(ISERROR(VLOOKUP($B64,$S$51:$T$104,2,FALSE)),"",(VLOOKUP($B64,$S$51:$T$104,2,FALSE))) | F64: =IF(ISERROR(VLOOKUP($B64,$S$51:$T$104,2,FALSE)),"",(VLOOKUP($B64,$S$51:$T$104,2,FALSE))) | G64: =IF(ISERROR(VLOOKUP($B64,$R$90:$S$151,2,FALSE)),"",(VLOOKUP($B64,$R$90:$S$151,2,FALSE))) -> 0 | H64: =IF(ISERROR(VLOOKUP($B64,$S$51:$T$104,2,FALSE)),"",(VLOOKUP($B64,$S$51:$T$104,2,FALSE))) | I64: =IF(ISERROR(VLOOKUP($B64,$S$51:$T$104,2,FALSE)),"",(VLOOKUP($B64,$S$51:$T$104,2,FALSE))) | J64: =IF(ISERROR(VLOOKUP($B64,$S$51:$T$104,2,FALSE)),"",(VLOOKUP($B64,$S$51:$T$104,2,FALSE))) | K64: =IF(ISERROR(VLOOKUP($B64,$S$51:$T$104,2,FALSE)),"",(VLOOKUP($B64,$S$51:$T$104,2,FALSE))) | L64: =IF(ISERROR(VLOOKUP($B64,$S$51:$T$104,2,FALSE)),"",(VLOOKUP($B64,$S$51:$T$104,2,FALSE))) | M64: =IF(ISERROR(VLOOKUP($B64,$S$51:$T$104,2,FALSE)),"",(VLOOKUP($B64,$S$51:$T$104,2,FALSE))) | N64: =IF(ISERROR(VLOOKUP($B64,$S$51:$T$104,2,FALSE)),"",(VLOOKUP($B64,$S$51:$T$104,2,FALSE)))
A65: 장애물의 정도 | B65: 가슴높이 미만 초본ㆍ관목 | C65: =IF(ISERROR(VLOOKUP($B65,$S$51:$T$104,2,FALSE)),"",(VLOOKUP($B65,$S$51:$T$104,2,FALSE))) | E65: =IF(ISERROR(VLOOKUP($B65,$S$51:$T$104,2,FALSE)),"",(VLOOKUP($B65,$S$51:$T$104,2,FALSE))) | K65: =IF(ISERROR(VLOOKUP($B65,$S$51:$T$104,2,FALSE)),"",(VLOOKUP($B65,$S$51:$T$104,2,FALSE))) | M65: =IF(ISERROR(VLOOKUP($B65,$S$51:$T$104,2,FALSE)),"",(VLOOKUP($B65,$S$51:$T$104,2,FALSE)))
A66: 선목시기 | B66: 12월-2월 | C66: =IF(ISERROR(VLOOKUP($B66,$S$51:$T$104,2,FALSE)),"",(VLOOKUP($B66,$S$51:$T$104,2,FALSE)))
A67: 제거대상식생(작업로설치) | B67: 보통이다(높이1.2m 이상이고,직경이 4-6cm 미만) | F67: =IF(ISERROR(VLOOKUP($B67,$S$51:$T$104,2,FALSE)),"",(VLOOKUP($B67,$S$51:$T$104,2,FALSE)))
A68: 조림후경과년수 | B68: 3년차
A69: 집단화정도(풀베기) | B69: 개소당 평균면적이 3ha 미만 | G69: =IF(ISERROR(VLOOKUP($B69,$R$90:$S$151,2,FALSE)),"",(VLOOKUP($B69,$R$90:$S$151,2,FALSE))) -> 10
A70: 집단화정도 | B70: 개소당 평균면적이 3ha 이상 | H70: =IF(ISERROR(VLOOKUP($B70,$S$51:$T$104,2,FALSE)),"",(VLOOKUP($B70,$S$51:$T$104,2,FALSE))) | I70: =IF(ISERROR(VLOOKUP($B70,$S$51:$T$104,2,FALSE)),"",(VLOOKUP($B70,$S$51:$T$104,2,FALSE))) | J70: =IF(ISERROR(VLOOKUP($B70,$S$51:$T$104,2,FALSE)),"",(VLOOKUP($B70,$S$51:$T$104,2,FALSE))) | L70: =IF(ISERROR(VLOOKUP($B70,$S$51:$T$104,2,FALSE)),"",(VLOOKUP($B70,$S$51:$T$104,2,FALSE)))
A71: 작업시기(덩굴류) | B71: 1∼5월 | H71: =IF(ISERROR(VLOOKUP($B71,$S$51:$T$107,2,FALSE)),"",(VLOOKUP($B71,$S$51:$T$107,2,FALSE))) | I71: =IF(ISERROR(VLOOKUP($B71,$S$51:$T$107,2,FALSE)),"",(VLOOKUP($B71,$S$51:$T$107,2,FALSE))) | J71: =IF(ISERROR(VLOOKUP($B71,$S$51:$T$107,2,FALSE)),"",(VLOOKUP($B71,$S$51:$T$107,2,FALSE)))
A72: 덩굴피복도 | B72: 보통(40∼60% 피복) | H72: =IF(ISERROR(VLOOKUP($B72,$S$51:$T$109,2,FALSE)),"",(VLOOKUP($B72,$S$51:$T$109,2,FALSE))) | I72: =IF(ISERROR(VLOOKUP($B72,$S$51:$T$109,2,FALSE)),"",(VLOOKUP($B72,$S$51:$T$109,2,FALSE)))
A73: 하층식생(덩굴류) | B73: 보행이 용이하다 | J73: =IF(ISERROR(VLOOKUP($B73,$S$51:$T$107,2,FALSE)),"",(VLOOKUP($B73,$S$51:$T$107,2,FALSE)))
A74: 토양조건(덩굴류) | B74: 장애물이 거의 없음 | J74: =IF(ISERROR(VLOOKUP($B74,$S$51:$T$112,2,FALSE)),"",(VLOOKUP($B74,$S$51:$T$112,2,FALSE)))
A75: 작업시기(어린나무가꾸기) | B75: 1∼5월, 10월~12월 | L75: =IF(ISERROR(VLOOKUP($B75,$S$51:$T$109,2,FALSE)),"",(VLOOKUP($B75,$S$51:$T$109,2,FALSE)))
A76: 제거대상피복도 | B76: 중 (임지의 41%∼70% 분포) | L76: =IF(ISERROR(VLOOKUP($B76,$S$51:$T$104,2,FALSE)),"",(VLOOKUP($B76,$S$51:$T$104,2,FALSE)))
A77: 규격재생산여부 | B77: 미적용 | K77: =IF(ISERROR(VLOOKUP($B77,$S$51:$T$104,2,FALSE)),"",(VLOOKUP($B77,$S$51:$T$104,2,FALSE)))
A78: 합계 | C78: =SUM(C64:C77) -> 0 | D78: =SUM(D64:D77) -> 0 | E78: =SUM(E64:E77) -> 0 | F78: =SUM(F64:F77) -> 0 | G78: =SUM(G64:G77) -> 10 | H78: =SUM(H64:H77) -> 0 | I78: =SUM(I64:I77) -> 0 | J78: =SUM(J64:J77) -> 0 | ... N78: =SUM(N64:N77) -> 0
A82: ○ 작업원 소요량 산출 : | B82: =N87 -> 5.98 | C82: 명
A83: 작업단위 | B83: 선목 | C83: 경계표시 | D83: 작업로 선정 | E83: 작업로 설치 | F83: 풀베기 | G83: =H63 -> 덩굴류제거 (덩굴걷기) | H83: =I63 -> 덩굴류제거 (약제작업) | I83: =J63 -> 덩굴류제거 (뿌리제거) | J83: =K63 -> 솎아베기 | K83: =L63 -> 어린나무 가꾸기 | L83: =M63 -> 가지치기 | M83: 산물임내정리 | N83: 계
A84: 초급기술자 | B84: =ROUND(F6*1,2) -> 0 | N84: =SUM(B84:M84) -> 0
A85: 보통인부 | C85: =ROUND(F11*1,2) -> 0 | D85: =ROUND(F16*1,2) -> 0 | E85: =ROUND(F22*1,2) -> 0 | F85: =ROUND(F29*1+F31*1+F33*1,2) -> 0.98 | N85: =SUM(B85:M85) -> 0.98
A86: 특별인부 | F86: =F35*1+F41*1 -> 5 | N86: =SUM(B86:M86) -> 5
A87: 계 | B87: =SUM(B84:B86) -> 0 | C87: =SUM(C84:C86) -> 0 | D87: =SUM(D84:D86) -> 0 | E87: =SUM(E84:E86) -> 0 | F87: =SUM(F84:F86) -> 5.98 | G87: =SUM(G84:G86) -> 0 | I87: =SUM(I84:I86) -> 0 | J87: =SUM(J84:J86) -> 0 | K87: =SUM(K84:K86) -> 0 | M87: =SUM(M84:M86) -> 0 | N87: =SUM(B87:M87) -> 5.98
Q89: 숲가꾸기 할인할증요소 선택 기준(참고)
A90: 숲가꾸기 할인할증요소 선택 기준(참고) | Q90: 할인할증요소 | R90: 요소분류 | S90: 할인할증율
A91: 할인할증요소 | B91: 요소분류 | C91: 할인할증률 | D91: 요소분류 | F91: 요소분류 | H91: 할인할증률 | J91: 할인할증율 | L91: 요소분류 | N91: 할인할증률 | Q91: 경사도 | R91: 완(15도 이하) | S91: 0
A92: 경사도 | D92: 장애물의 정도 | J92: 선목시기 | R92: 중(15-30도이하) | S92: 5
A93: 완(15도 이하) | B93: 중(15-30도이하) | C93: 급(30도 초과) | D93: 무릎높이 이하 초본ㆍ관목 | F93: 가슴높이 미만 초본ㆍ관목 | H93: 가슴높이 이상 초본ㆍ관목 | J93: 10월-11월, 3월-4월 | L93: 12월-2월 | N93: 5월-9월 | R93: 급(30도 초과) | S93: 10
A94: 0 | B94: 5 | C94: 10 | D94: -10 | E94: 0 | F94: 0 | H94: 10 | J94: -10 | K94: 0 | L94: 0 | N94: 10 | Q94: 장애물의 정도 | R94: 무릎높이 이하 초본ㆍ관목 | S94: -10
R95: 가슴높이 미만 초본ㆍ관목 | S95: 0
A96: 조림후 경과년수(줄베기) | D96: 제거대상식생 | J96: 제거대상피복도 | R96: 가슴높이 이상 초본ㆍ관목 | S96: 10
A97: 당해년도 | B97: 2년차 | C97: 3년차 | D97: 쉽다(높이1.2m 미만이고, 낫으로도 제거가 용이) | F97: 쉽다(높이1.2m 미만이고, 낫으로도 제거가 용이) | H97: 어렵다(높이1.2m 이상이고, 직경이 4-6cm 이상) | J97: 소 (임지의 40% 이하 분포) | L97: 중 (임지의 41%∼70% 분포) | N97: 밀 (임지의 71% 이상 분포)) | Q97: 선목시기 | R97: 10월-11월, 3월-4월 | S97: -10
A98: 0 | B98: 2 | C98: 10 | D98: -10 | E98: 0 | F98: 0 | H98: 10 | J98: -20 | K98: 0 | L98: 0 | N98: 20 | R98: 12월-2월 | S98: 0
R99: 5월-9월 | S99: 10
A100: 집단화정도(풀베기) | D100: 집단화정도 | J100: 작업시기(어린) | M100: 작업시기(덩굴류) | Q100: 제거대상식생 | R100: 쉽다(높이1.2m 미만이고, 낫으로도 제거가 용이) | S100: -10
A101: 개소당 평균면적이 5ha 이상 | B101: 개소당 평균면적이 3-5ha 미만 | C101: 개소당 평균면적이 3ha 미만 | D101: 개소당 평균면적이 3ha 이상 | F101: 개소당 평균면적이 1-3ha 미만 | H101: 개소당 평균면적이 1ha 미만 | J101: 1∼5월, 10월~12월 | L101: 6월∼9월 | M101: 1∼5월 | N101: 6월∼9월 | R101: 보통이다(높이1.2m 이상이고,직경이 4-6cm 미만) | S101: 0
A102: 0 | B102: 5 | C102: 10 | D102: 0 | E102: 0 | F102: 5 | H102: 10 | J102: 0 | K102: 0 | L102: 10 | M102: 0 | N102: 10 | R102: 어렵다(높이1.2m 이상이고, 직경이 4-6cm 이상) | S102: 10
Q103: 조림후 경과년수 (줄베기) | R103: 당해년도 | S103: 0
A104: 토양조건 | D104: 하층식생 | J104: 덩굴 피복도 | R104: 2년차 | S104: 5
A105: 장애물이 거의 없음 | B105: 돌 등 장애물 함량이 10∼30%인 지역 | C105: 돌 등 장애물 함량이 30% 이상인 지역 | D105: 보행이 용이하다 | F105: 보행하는데 약간의 어려움이 있다 | H105: 식생을 제거하지 않고 보행이 곤란하다 | J105: 과밀(80%이상 피복) | K105: 밀(60∼80% 피복) | L105: 보통(40∼60% 피복) | M105: 소(20∼40% 피복) | N105: 과소(20%이하피복) | R105: 3년차 | S105: 10
...

Sheet 단가산출서(구상나무)
A1: ha당 숲가꾸기 단가 산출서 | Q1: 선택항목 | R1: 입력항목
A2: 위 치 | B2: =표지!E28 -> 서귀포시 남원읍 한남리 산 2-1 외 | G2: 수 종 | H2: 구상나무 | J2: 면적 | K2: =설계내역서!H10 -> 4.5 | M2: ha
A3: 구 분 | B3: 작업량 | D3: 단위품(인원,수량, | F3: 소요품 | G3: 단가 | J3: 할인,증률 | L3: 계
A4: 단위작업 | C4: 단위 | D4: 요율) | E4: 단위 | H4: 종류 | P4: 적용여부
A5: ○ 선목 | D5: ○ 미래목 본수 | P5: 적용 | R5: 구분 | S5: 소요인력 | T5: 소요재료
A6: - 직접노무비 | C6: =IF(B5="","",IF(B5="미래목","ha","본/ha")) | D6: =IF(B5="제거대상목",S6,S7) -> 1 | E6: =IF(B5=R7,"인/ha","인/100본당") -> 인/100본당 | F6: =IF(P5="적용",IF(B5="미래목",1,ROUND(B6*D6/100,2)),0) -> 0 | H6: 초급기술자 | J6: =$C$78 -> 0 | K6: % | L6: =ROUNDDOWN((F6*G6)*(1+J6%),0) -> 0 | R6: 제거대상목 | S6: 0.4 | T6: 적색페인트
A7: - 재료비 | R7: 미래목 | S7: 1 | T7: 황색페인트
A8: * 페인트 | B8: =IF(B5="미래목",$E$5,$B$6) -> 0 | C8: 본/ha | D8: =IF(B5="제거대상목",U6,U7) -> 0 | E8: ℓ/100본당 | F8: =IF(P5="적용",ROUND(B8*(D8/100),2),0) -> 0 | H8: =IF(B5="제거대상목",T6,T7) -> 황색페인트 | L8: =ROUNDDOWN(F8*G8,0) -> 0
A9: * 잡품 | B9: =L8 -> 0 | C9: 원 | D9: 10 | E9: % | L9: =ROUNDDOWN(B9*D9%,0) -> 0
A10: ○ 경계표시 | P10: 적용
A11: - 직접노무비 | C11: ha | D11: 0.2 | E11: 인/ha | F11: =IF(P10="적용",ROUND(B11*D11,2),0) -> 0 | G11: =기초자료!B14 -> 172068 | H11: 보통인부 | J11: =$D$78 -> 0 | K11: % | L11: =ROUNDDOWN((F11*G11)*(1+J11%),0) -> 0
A12: - 재료비
A13: * 백색페인트 | C13: ha | D13: 0.2 | E13: ℓ/ha | F13: =IF(P10="적용",ROUND(B13*D13,2),0) -> 0 | G13: 7300 | H13: 백색페인트 | L13: =ROUNDDOWN(F13*G13,0) -> 0
A14: * 잡품 | B14: =L13 -> 0 | C14: 원 | D14: 5 | E14: % | L14: =ROUNDDOWN(B14*D14%,0) -> 0
A15: ○ 작업로 선정 | P15: 적용 | R15: 구분 | S15: 100본기준 | T15: 단위
A16: - 직접노무비 | C16: km | D16: 1 | E16: 인/km | F16: =IF(P15="적용",ROUND(B16*D16,2),0) -> 0 | G16: =기초자료!B14 -> 172068 | H16: 보통인부 | J16: =$E$78 -> 0 | K16: % | L16: =ROUNDDOWN((F16*G16)*(1+J16%),0) -> 0 | R16: * 백색페인트 | S16: 0.5 | T16: ℓ/km
A17: - 재료비 | R17: * 백색마킹테이프 | S17: 0.6 | T17: 롤/km
B18: =B16 -> 0 | C18: km | D18: =IF(A18=R16,S16,S17) -> 0.6 | E18: =IF(A18=R16,T16,T17) -> 롤/km | F18: =IF(P15="적용",ROUND(B18*D18,2),0) -> 0 | H18: =IF(A18=R16,U16,U17) -> 0 | L18: =ROUNDDOWN(F18*G18,0) -> 0
A19: * 잡품 | B19: =L18 -> 0 | C19: 원 | D19: =IF(ISERROR(VLOOKUP($A$18,$R$16:$V$17,5,FALSE)),0,VLOOKUP($A$18,$R$16:$V$17,5,FALSE))*100 -> 0 | E19: % | L19: =ROUNDDOWN(B19*D19%,0) -> 0
A20: ○ 작업로 설치 | P20: 적용
A21: - 직접노무비
A22: * 소작업로 | C22: km | D22: 2 | E22: 인/km | F22: =IF(P20="적용",ROUND(B22*D22,2),0) -> 0 | G22: =기초자료!B14 -> 172068 | H22: 보통인부 | J22: =$F$78 -> 0 | K22: % | L22: =ROUNDDOWN((F22*G22)*(1+J22%),0) -> 0
A23: - 재료비
A24: * 연료 | B24: =F22 -> 0 | C24: 인/ha | D24: =5.6/2 -> 2.8 | E24: ℓ/km | F24: =IF(P20="적용",ROUND(B24*D24,2),0) -> 0 | H24: 휘발유 | L24: =ROUNDDOWN(F24*G24,0) -> 0
A25: * 잡품 | B25: =L24 -> 0 | C25: 원 | D25: 95 | E25: % | L25: =ROUNDDOWN(B25*D25%,0) -> 0
A26: - 기계경비 | B26: =F22 -> 0 | C26: 인 | D26: 0.0042 | E26: 1대2인 | H26: 체인톱 | L26: =ROUNDDOWN(B26*D26*G26,0) -> 0
A27: ○ 풀베기 | B27: 모두베기 | D27: 조림 3년차 이상 | P27: 적용 | R27: 구분 | S27: 조건 | T27: 사용도구
A28: ○ 묘목찾기 | B28: =T28 -> 낫 | D28: (줄베기, 모두베기에만 적용) | P28: 적용 | R28: 묘목찾기 | T28: 낫
A29: - 직접노무비 | B29: =T41 -> 1583.3333 | C29: 본/ha | D29: =T61 -> 0.07 | E29: 인/100본 | F29: =IF(P28="적용",ROUND(B29*D29/100,2),0) -> 1.11 | G29: =기초자료!B14 -> 172068 | H29: 보통인부 | J29: =$G$78 -> 5 | K29: % | L29: =ROUNDDOWN((F29*G29)*(1+J29%),0) -> 200545 | P29: ha당 식재본수 | R29: 맹아제거 | T29: 괭이,도끼 등
A30: ○ 맹아제거 | B30: =T29 -> 괭이,도끼 등 | D30: (둘레베기, 줄베기에만 적용) | P30: 적용 | R30: 둘레베기 | T30: 낫
A31: - 직접노무비 | C31: 본/ha | D31: =W29 -> 0 | E31: 인/100본 | F31: =IF(P30="적용",ROUND(B31*D31/100,2),0) -> 0 | G31: =G29 -> 172068 | H31: 보통인부 | J31: =IF($G$64="",0,$G$64)+IF($G$69="",0,G$69) -> 5 | K31: % | L31: =ROUNDDOWN((F31*G31)*(1+J31%),0) -> 0 | R31: 줄베기 | T31: 예취기
A32: ○ 둘레베기 | B32: =T30 -> 낫 | R32: 모두베기 | S32: 조림 당해 연도 | T32: 예취기
A33: - 직접노무비 | C33: 본/ha | D33: 0.18 | E33: 인/100본 | F33: =IF((B27="둘레베기")*(P27="적용"),ROUND(B33*D33/100,2),0) -> 0 | G33: =G31 -> 172068 | H33: 보통인부 | J33: =$G$78 -> 5 | K33: % | L33: =ROUNDDOWN((F33*G33)*(1+J33%),0) -> 0 | R33: 모두베기 | S33: 조림 2년차 | T33: 예취기
A34: ○ 줄베기 | B34: =T31 -> 예취기 | R34: 모두베기 | S34: 조림 3년차 이상 | T34: 예취기
A35: - 직접노무비 | C35: ha | D35: 1.3 | E35: 인/ha | F35: =IF((B27="줄베기")*(P27="적용"),ROUND(B35*D35,2),0) -> 0 | G35: =기초자료!B16 -> 226122 | H35: 특별인부 | J35: =$G$78 -> 5 | K35: % | L35: =ROUNDDOWN((F35*G35)*(1+J35%),0) -> 0
A36: - 재료비
A37: * 연료 | B37: =F35 -> 0 | C37: 인/ha | D37: 5 | E37: ℓ/일.대 | F37: =IF(P27="적용",ROUND(B37*D37,2),0) -> 0 | H37: 휘발유 | L37: =ROUNDDOWN(F37*G37,0) -> 0
A38: * 잡품 | B38: =L37 -> 0 | C38: 원 | D38: 10 | E38: % | L38: =ROUNDDOWN(B38*D38%,0) -> 0
A39: - 기계경비 | B39: =F35 -> 0 | C39: 대/ha | D39: 0.0084 | E39: 1대1인 | H39: 예초기 | L39: =ROUNDDOWN(B39*D39*G39,0) -> 0
A40: ○ 모두베기 | B40: =T32 -> 예취기 | C40: =IF($D$27="","","("&$D$27&")") -> (조림 3년차 이상) | P40: 2500 | Q40: 표준지크기(m2) | R40: 생존목(본) | S40: 1ha | T40: 묘목본수
A41: - 직접노무비 | B41: 1 | C41: ha | D41: =T65 -> 5 | E41: 인/ha | F41: =IF(($B$27="모두베기")*($P$27="적용"),ROUND(B41*D41,2),0) -> 5 | G41: =기초자료!B16 -> 226122 | H41: 특별인부 | J41: =$G$78 -> 5 | K41: % | L41: =ROUNDDOWN((F41*G41)*(1+J41%),0) -> 1187140 | P41: 활착율 | Q41: 200 | R41: =U44 -> 31.666667 | S41: 10000 | T41: =R41*S41/Q41 -> 1583.3333
A42: - 재료비 | P42: =T41/P40*100 -> 63.333333
A43: * 연료 | B43: =F41 -> 5 | C43: 인/ha | D43: 5 | E43: ℓ/인 | F43: =IF(P27="적용",ROUND(B43*D43,2),0) -> 25 | G43: =기초자료!B19 -> 1842 | H43: 휘발유 | L43: =ROUNDDOWN(F43*G43,0) -> 46050 | R43: 표준지1 | S43: 표준지2 | T43: 표준지3 | U43: 평균
A44: * 잡품 | B44: =L43 -> 46050 | C44: 원 | D44: 10 | E44: % | L44: =ROUNDDOWN(B44*D44%,0) -> 4605 | Q44: 표준지당 | R44: 30 | S44: 32 | T44: 33 | U44: =AVERAGE(R44:T44) -> 31.666667
A45: - 기계경비 | B45: =F41 -> 5 | C45: 인 | D45: 0.0084 | E45: 1대1인 | G45: =기초자료!B26 -> 610000 | H45: =기초자료!A26 -> 배낭식동력예취기 | L45: =ROUNDDOWN(B45*D45*G45,0) -> 25620 | Q45: 1ha당 | R45: =R44*50 -> 1500 | S45: =S44*50 -> 1600 | T45: =T44*50 -> 1650 | U45: =AVERAGE(R45:T45) -> 1583.3333
A46: ◈ 합계 | L46: =SUM(L47:L49) -> 1463960 | Q46: 표준지좌표 | R46: 126.64413 | S46: 126.64448 | T46: 126.64352
A47: ○ 노무비 | L47: =L41+L29 -> 1387685 | R47: 33.35414 | S47: 33.353452 | T47: 33.353829
A48: ○ 재료비 | L48: =L43+L44 -> 50655
A49: ○ 경비(기계경비) | L49: =L45 -> 25620
A51: □ 참고사항(소반내 실시설계 표준지 조사결과의 평균이나 전수조사를 적용)
A52: ○ 작업량 산정
A53: - 작업로선정 : | B53: =IF(P15="적용",B16,0) -> 0 | C53: km
A54: - 작업로설치 : | B54: =IF(P20="적용",B22,0) -> 0 | C54: km
A55: - 솎아베기량 : | B55: =IF(#REF!="적용",#REF!,0) -> #REF! | C55: 본/ha | D55: =#REF! -> #REF!
A56: - 가지치기량 : | B56: =IF(#REF!="적용",(#REF!+#REF!+#REF!+#REF!+#REF!),0) -> #REF! | C56: 본/ha
A57: - 산물임내정리량 : | C57: (㎥/ha)
A58: - 산물수집면적 : | B58: =K2 -> 4.5 | C58: ha | D58: (미수집 구역은 ha당 사업비에서 산물수집 사업비를 제외)
A59: ○ 투입인력 산정 | P59: 공 법 | R59: 사용 | S59: 단위 | T59: 소요 | U59: 인력
A60: - ha당 투입인력 : | B60: =N87 -> 6.11 | C60: 인 | R60: 도구 | T60: 인력 | U60: 구분
A61: ○ 할인,할증율 산정 | P61: 묘목찾기 | R61: 낫 | S61: 인/100본 | T61: 0.07 | U61: 보통인부
A62: 구 분 | B62: 할인,할증 요소 | C62: 단위작업(%) | P62: 모두베기 | Q62: 조림 당해 연도 | R62: 예취기 | S62: 인/ha | T62: 3.5 | U62: 특별인부
C63: 선목 | D63: 경계표시 | E63: 작업로선정 | F63: 작업로설치 | G63: 풀베기 | H63: 덩굴류제거 (덩굴걷기) | I63: 덩굴류제거 (약제작업) | J63: 덩굴류제거 (뿌리제거) | K63: 솎아베기 | L63: 어린나무 가꾸기 | M63: 가지치기 | N63: 산물 임내정리 | Q63: (전년도 추기조림 포함)
A64: 경사도 | B64: 중(15-30도이하) | G64: =IF(ISERROR(VLOOKUP($B64,$R$90:$S$152,2,FALSE)),"",(VLOOKUP($B64,$R$90:$S$152,2,FALSE))) -> 5 | Q64: 조림 2년차 | R64: 예취기 | S64: 인/ha | T64: 4 | U64: 특별인부
A65: 장애물의 정도 | B65: 가슴높이 미만 초본ㆍ관목 | C65: =IF(ISERROR(VLOOKUP($B65,$S$51:$T$104,2,FALSE)),"",(VLOOKUP($B65,$S$51:$T$104,2,FALSE))) | E65: =IF(ISERROR(VLOOKUP($B65,$S$51:$T$104,2,FALSE)),"",(VLOOKUP($B65,$S$51:$T$104,2,FALSE))) | K65: =IF(ISERROR(VLOOKUP($B65,$S$51:$T$104,2,FALSE)),"",(VLOOKUP($B65,$S$51:$T$104,2,FALSE))) | M65: =IF(ISERROR(VLOOKUP($B65,$S$51:$T$104,2,FALSE)),"",(VLOOKUP($B65,$S$51:$T$104,2,FALSE))) | Q65: 조림 3년차 이상 | R65: 예취기 | S65: 인/ha | T65: 5 | U65: 특별인부
A66: 선목시기 | B66: 12월-2월 | C66: =IF(ISERROR(VLOOKUP($B66,$S$51:$T$104,2,FALSE)),"",(VLOOKUP($B66,$S$51:$T$104,2,FALSE)))
A67: 제거대상식생(작업로설치) | B67: 보통이다(높이1.2m 이상이고,직경이 4-6cm 미만) | F67: =IF(ISERROR(VLOOKUP($B67,$S$51:$T$104,2,FALSE)),"",(VLOOKUP($B67,$S$51:$T$104,2,FALSE)))
A68: 조림후경과년수 | B68: 3년차
A69: 집단화정도(풀베기) | B69: 미적용 | G69: =IF(ISERROR(VLOOKUP($B69,$R$90:$S$152,2,FALSE)),"",(VLOOKUP($B69,$R$90:$S$152,2,FALSE))) -> 0
A70: 집단화정도 | B70: 개소당 평균면적이 3ha 이상 | H70: =IF(ISERROR(VLOOKUP($B70,$S$51:$T$104,2,FALSE)),"",(VLOOKUP($B70,$S$51:$T$104,2,FALSE))) | I70: =IF(ISERROR(VLOOKUP($B70,$S$51:$T$104,2,FALSE)),"",(VLOOKUP($B70,$S$51:$T$104,2,FALSE))) | J70: =IF(ISERROR(VLOOKUP($B70,$S$51:$T$104,2,FALSE)),"",(VLOOKUP($B70,$S$51:$T$104,2,FALSE))) | L70: =IF(ISERROR(VLOOKUP($B70,$S$51:$T$104,2,FALSE)),"",(VLOOKUP($B70,$S$51:$T$104,2,FALSE)))
A71: 작업시기(덩굴류) | B71: 1∼5월 | H71: =IF(ISERROR(VLOOKUP($B71,$S$51:$T$107,2,FALSE)),"",(VLOOKUP($B71,$S$51:$T$107,2,FALSE))) | I71: =IF(ISERROR(VLOOKUP($B71,$S$51:$T$107,2,FALSE)),"",(VLOOKUP($B71,$S$51:$T$107,2,FALSE))) | J71: =IF(ISERROR(VLOOKUP($B71,$S$51:$T$107,2,FALSE)),"",(VLOOKUP($B71,$S$51:$T$107,2,FALSE)))
A72: 덩굴피복도 | B72: 보통(40∼60% 피복) | H72: =IF(ISERROR(VLOOKUP($B72,$S$51:$T$110,2,FALSE)),"",(VLOOKUP($B72,$S$51:$T$110,2,FALSE))) | I72: =IF(ISERROR(VLOOKUP($B72,$S$51:$T$110,2,FALSE)),"",(VLOOKUP($B72,$S$51:$T$110,2,FALSE)))
A73: 하층식생(덩굴류) | B73: 보행이 용이하다 | J73: =IF(ISERROR(VLOOKUP($B73,$S$51:$T$107,2,FALSE)),"",(VLOOKUP($B73,$S$51:$T$107,2,FALSE)))
A74: 토양조건(덩굴류) | B74: 장애물이 거의 없음 | J74: =IF(ISERROR(VLOOKUP($B74,$S$51:$T$113,2,FALSE)),"",(VLOOKUP($B74,$S$51:$T$113,2,FALSE)))
A75: 작업시기(어린나무가꾸기) | B75: 1∼5월, 10월~12월 | L75: =IF(ISERROR(VLOOKUP($B75,$S$51:$T$110,2,FALSE)),"",(VLOOKUP($B75,$S$51:$T$110,2,FALSE)))
A76: 제거대상피복도 | B76: 중 (임지의 41%∼70% 분포) | L76: =IF(ISERROR(VLOOKUP($B76,$S$51:$T$104,2,FALSE)),"",(VLOOKUP($B76,$S$51:$T$104,2,FALSE)))
A77: 규격재생산여부 | B77: 미적용 | K77: =IF(ISERROR(VLOOKUP($B77,$S$51:$T$104,2,FALSE)),"",(VLOOKUP($B77,$S$51:$T$104,2,FALSE)))
A78: 합계 | C78: =SUM(C64:C77) -> 0 | D78: =SUM(D64:D77) -> 0 | E78: =SUM(E64:E77) -> 0 | F78: =SUM(F64:F77) -> 0 | G78: =SUM(G64:G77) -> 5 | H78: =SUM(H64:H77) -> 0 | I78: =SUM(I64:I77) -> 0 | J78: =SUM(J64:J77) -> 0 | ... N78: =SUM(N64:N77) -> 0
A82: ○ 작업원 소요량 산출 : | B82: =N87 -> 6.11 | C82: 명
A83: 작업단위 | B83: 선목 | C83: 경계표시 | D83: 작업로 선정 | E83: 작업로 설치 | F83: 풀베기 | G83: =H63 -> 덩굴류제거 (덩굴걷기) | H83: =I63 -> 덩굴류제거 (약제작업) | I83: =J63 -> 덩굴류제거 (뿌리제거) | J83: =K63 -> 솎아베기 | K83: =L63 -> 어린나무 가꾸기 | L83: =M63 -> 가지치기 | M83: 산물임내정리 | N83: 계
A84: 초급기술자 | B84: =ROUND(F6*1,2) -> 0 | N84: =SUM(B84:M84) -> 0
A85: 보통인부 | C85: =ROUND(F11*1,2) -> 0 | D85: =ROUND(F16*1,2) -> 0 | E85: =ROUND(F22*1,2) -> 0 | F85: =ROUND(F29*1+F31*1+F33*1,2) -> 1.11 | N85: =SUM(B85:M85) -> 1.11
A86: 특별인부 | F86: =F35*1+F41*1 -> 5 | N86: =SUM(B86:M86) -> 5
A87: 계 | B87: =SUM(B84:B86) -> 0 | C87: =SUM(C84:C86) -> 0 | D87: =SUM(D84:D86) -> 0 | E87: =SUM(E84:E86) -> 0 | F87: =SUM(F84:F86) -> 6.11 | G87: =SUM(G84:G86) -> 0 | I87: =SUM(I84:I86) -> 0 | J87: =SUM(J84:J86) -> 0 | K87: =SUM(K84:K86) -> 0 | M87: =SUM(M84:M86) -> 0 | N87: =SUM(B87:M87) -> 6.11
Q89: 숲가꾸기 할인할증요소 선택 기준(참고)
A90: 숲가꾸기 할인할증요소 선택 기준(참고) | Q90: 할인할증요소 | R90: 요소분류 | S90: 할인할증율
A91: 할인할증요소 | B91: 요소분류 | C91: 할인할증률 | D91: 요소분류 | F91: 요소분류 | H91: 할인할증률 | J91: 할인할증율 | L91: 요소분류 | N91: 할인할증률 | Q91: 경사도 | R91: 완(15도 이하) | S91: 0
A92: 경사도 | D92: 장애물의 정도 | J92: 선목시기 | R92: 중(15-30도이하) | S92: 5
A93: 완(15도 이하) | B93: 중(15-30도이하) | C93: 급(30도 초과) | D93: 무릎높이 이하 초본ㆍ관목 | F93: 가슴높이 미만 초본ㆍ관목 | H93: 가슴높이 이상 초본ㆍ관목 | J93: 10월-11월, 3월-4월 | L93: 12월-2월 | N93: 5월-9월 | R93: 급(30도 초과) | S93: 10
A94: 0 | B94: 5 | C94: 10 | D94: -10 | E94: 0 | F94: 0 | H94: 10 | J94: -10 | K94: 0 | L94: 0 | N94: 10 | Q94: 장애물의 정도 | R94: 무릎높이 이하 초본ㆍ관목 | S94: -10
R95: 가슴높이 미만 초본ㆍ관목 | S95: 0
A96: 조림후 경과년수(줄베기) | D96: 제거대상식생 | J96: 제거대상피복도 | R96: 가슴높이 이상 초본ㆍ관목 | S96: 10
A97: 당해년도 | B97: 2년차 | C97: 3년차 | D97: 쉽다(높이1.2m 미만이고, 낫으로도 제거가 용이) | F97: 쉽다(높이1.2m 미만이고, 낫으로도 제거가 용이) | H97: 어렵다(높이1.2m 이상이고, 직경이 4-6cm 이상) | J97: 소 (임지의 40% 이하 분포) | L97: 중 (임지의 41%∼70% 분포) | N97: 밀 (임지의 71% 이상 분포)) | Q97: 선목시기 | R97: 10월-11월, 3월-4월 | S97: -10
A98: 0 | B98: 2 | C98: 10 | D98: -10 | E98: 0 | F98: 0 | H98: 10 | J98: -20 | K98: 0 | L98: 0 | N98: 20 | R98: 12월-2월 | S98: 0
R99: 5월-9월 | S99: 10
A100: 집단화정도(풀베기) | D100: 집단화정도 | J100: 작업시기(어린) | M100: 작업시기(덩굴류) | Q100: 제거대상식생 | R100: 쉽다(높이1.2m 미만이고, 낫으로도 제거가 용이) | S100: -10
A101: 개소당 평균면적이 5ha 이상 | B101: 개소당 평균면적이 3-5ha 미만 | C101: 개소당 평균면적이 3ha 미만 | D101: 개소당 평균면적이 3ha 이상 | F101: 개소당 평균면적이 1-3ha 미만 | H101: 개소당 평균면적이 1ha 미만 | J101: 1∼5월, 10월~12월 | L101: 6월∼9월 | M101: 1∼5월 | N101: 6월∼9월 | R101: 보통이다(높이1.2m 이상이고,직경이 4-6cm 미만) | S101: 0
A102: 0 | B102: 5 | C102: 10 | D102: 0 | E102: 0 | F102: 5 | H102: 10 | J102: 0 | K102: 0 | L102: 10 | M102: 0 | N102: 10 | R102: 어렵다(높이1.2m 이상이고, 직경이 4-6cm 이상) | S102: 10
Q103: 조림후 경과년수 (줄베기) | R103: 당해년도 | S103: 0
A104: 토양조건 | D104: 하층식생 | J104: 덩굴 피복도 | R104: 2년차 | S104: 5
A105: 장애물이 거의 없음 | B105: 돌 등 장애물 함량이 10∼30%인 지역 | C105: 돌 등 장애물 함량이 30% 이상인 지역 | D105: 보행이 용이하다 | F105: 보행하는데 약간의 어려움이 있다 | H105: 식생을 제거하지 않고 보행이 곤란하다 | J105: 과밀(80%이상 피복) | K105: 밀(60∼80% 피복) | L105: 보통(40∼60% 피복) | M105: 소(20∼40% 피복) | N105: 과소(20%이하피복) | R105: 3년차 | S105: 10
...

Sheet 단가산출서(난대상록활엽수 3년차 이상)
A1: ha당 숲가꾸기 단가 산출서 | Q1: 선택항목 | R1: 입력항목
A2: 위 치 | B2: =표지!E28 -> 서귀포시 남원읍 한남리 산 2-1 외 | G2: 수 종 | H2: 난대상록활엽수 | J2: 사업면적 | K2: =설계내역서!H11 -> 12 | M2: ha
A3: 구 분 | B3: 작업량 | D3: 단위품(인원,수량, | F3: 소요품 | G3: 단가 | J3: 할인,증률 | L3: 계
A4: 단위작업 | C4: 단위 | D4: 요율) | E4: 단위 | H4: 종류 | P4: 적용여부
A5: ○ 선목 | D5: ○ 미래목 본수 | P5: 적용 | R5: 구분 | S5: 소요인력 | T5: 소요재료 | U5: 재료량
A6: - 직접노무비 | C6: =IF(B5="","",IF(B5="미래목","ha","본/ha")) | D6: =IF(B5="제거대상목",S6,S7) -> 1 | E6: =IF(B5=R7,"인/ha","인/100본당") -> 인/100본당 | F6: =IF(P5="적용",IF(B5="미래목",1,ROUND(B6*D6/100,2)),0) -> 0 | H6: 초급기술자 | J6: =$C$78 -> 0 | K6: % | L6: =ROUNDDOWN((F6*G6)*(1+J6%),0) -> 0 | R6: 제거대상목 | S6: 0.4 | T6: 적색페인트 | U6: 0.17
A7: - 재료비 | R7: 미래목 | S7: 1 | T7: 황색페인트 | U7: 0.5
A8: * 페인트 | B8: =IF(B5="미래목",$E$5,$B$6) -> 0 | C8: 본/ha | D8: =IF(B5="제거대상목",U6,U7) -> 0.5 | E8: ℓ/100본당 | F8: =IF(P5="적용",ROUND(B8*(D8/100),2),0) -> 0 | H8: =IF(B5="제거대상목",T6,T7) -> 황색페인트 | L8: =ROUNDDOWN(F8*G8,0) -> 0
A9: * 잡품 | B9: =L8 -> 0 | C9: 원 | D9: 10 | E9: % | L9: =ROUNDDOWN(B9*D9%,0) -> 0
A10: ○ 경계표시 | P10: 적용
A11: - 직접노무비 | C11: ha | D11: 0.2 | E11: 인/ha | F11: =IF(P10="적용",ROUND(B11*D11,2),0) -> 0 | G11: =기초자료!B14 -> 172068 | H11: 보통인부 | J11: =$D$78 -> 0 | K11: % | L11: =ROUNDDOWN((F11*G11)*(1+J11%),0) -> 0
A12: - 재료비
A13: * 백색페인트 | C13: ha | D13: 0.2 | E13: ℓ/ha | F13: =IF(P10="적용",ROUND(B13*D13,2),0) -> 0 | G13: 7300 | H13: 백색페인트 | L13: =ROUNDDOWN(F13*G13,0) -> 0
A14: * 잡품 | B14: =L13 -> 0 | C14: 원 | D14: 5 | E14: % | L14: =ROUNDDOWN(B14*D14%,0) -> 0
A15: ○ 작업로 선정 | P15: 적용 | R15: 구분 | S15: 100본기준 | T15: 단위 | U15: 재료명 | V15: 잡품비율
A16: - 직접노무비 | C16: km | D16: 1 | E16: 인/km | F16: =IF(P15="적용",ROUND(B16*D16,2),0) -> 0 | G16: =기초자료!B14 -> 172068 | H16: 보통인부 | J16: =$E$78 -> 0 | K16: % | L16: =ROUNDDOWN((F16*G16)*(1+J16%),0) -> 0 | R16: * 백색페인트 | S16: 0.5 | T16: ℓ/km | U16: 백색페인트 | V16: 0.05
A17: - 재료비 | R17: * 백색마킹테이프 | S17: 0.6 | T17: 롤/km | U17: 백색마킹테이프 | V17: 0
B18: =B16 -> 0 | C18: km | D18: =IF(A18=R16,S16,S17) -> 0.6 | E18: =IF(A18=R16,T16,T17) -> 롤/km | F18: =IF(P15="적용",ROUND(B18*D18,2),0) -> 0 | H18: =IF(A18=R16,U16,U17) -> 백색마킹테이프 | L18: =ROUNDDOWN(F18*G18,0) -> 0
A19: * 잡품 | B19: =L18 -> 0 | C19: 원 | D19: =IF(ISERROR(VLOOKUP($A$18,$R$16:$V$17,5,FALSE)),0,VLOOKUP($A$18,$R$16:$V$17,5,FALSE))*100 -> 0 | E19: % | L19: =ROUNDDOWN(B19*D19%,0) -> 0
A20: ○ 작업로 설치 | P20: 적용
A21: - 직접노무비
A22: * 소작업로 | C22: km | D22: 2 | E22: 인/km | F22: =IF(P20="적용",ROUND(B22*D22,2),0) -> 0 | G22: =기초자료!B14 -> 172068 | H22: 보통인부 | J22: =$F$78 -> 0 | K22: % | L22: =ROUNDDOWN((F22*G22)*(1+J22%),0) -> 0
A23: - 재료비
A24: * 연료 | B24: =F22 -> 0 | C24: 인/ha | D24: =5.6/2 -> 2.8 | E24: ℓ/km | F24: =IF(P20="적용",ROUND(B24*D24,2),0) -> 0 | H24: 휘발유 | L24: =ROUNDDOWN(F24*G24,0) -> 0
A25: * 잡품 | B25: =L24 -> 0 | C25: 원 | D25: 95 | E25: % | L25: =ROUNDDOWN(B25*D25%,0) -> 0
A26: - 기계경비 | B26: =F22 -> 0 | C26: 인 | D26: 0.0042 | E26: 1대2인 | H26: 체인톱 | L26: =ROUNDDOWN(B26*D26*G26,0) -> 0
A27: ○ 풀베기 | B27: 모두베기 | D27: 조림 3년차 이상 | P27: 적용 | R27: 구분 | S27: 조건 | T27: 사용도구 | U27: 단위 | V27: 인력구성 | W27: 소요인력
A28: ○ 묘목찾기 | B28: =T28 -> 낫 | D28: (줄베기, 모두베기에만 적용) | P28: 적용 | R28: 묘목찾기 | T28: 낫 | U28: 인/100본 | V28: 보통인부 | W28: 0.07
A29: - 직접노무비 | B29: =U45 -> 2383.3333 | C29: 본/ha | D29: =W28 -> 0.07 | E29: 인/100본 | F29: =IF(P28="적용",ROUND(B29*D29/100,2),0) -> 1.67 | G29: =기초자료!B14 -> 172068 | H29: 보통인부 | J29: =$G$78 -> 10 | K29: % | L29: =ROUNDDOWN((F29*G29)*(1+J29%),0) -> 316088 | P29: ha당 식재본수 | R29: 맹아제거 | T29: 괭이,도끼 등 | U29: 인/100본 | V29: 보통인부 | W29: 0.2
A30: ○ 맹아제거 | B30: =T29 -> 괭이,도끼 등 | D30: (둘레베기, 줄베기에만 적용) | P30: 적용 | R30: 둘레베기 | T30: 낫 | U30: 인/100본 | V30: 보통인부 | W30: 0.18
A31: - 직접노무비 | C31: 본/ha | D31: =W29 -> 0.2 | E31: 인/100본 | F31: =IF(P30="적용",ROUND(B31*D31/100,2),0) -> 0 | G31: =G29 -> 172068 | H31: 보통인부 | J31: =IF($G$64="",0,$G$64)+IF($G$69="",0,G$69) -> 10 | K31: % | L31: =ROUNDDOWN((F31*G31)*(1+J31%),0) -> 0 | R31: 줄베기 | T31: 예취기 | U31: 인/ha | V31: 특별인부 | W31: 1.3
A32: ○ 둘레베기 | B32: =T30 -> 낫 | R32: 모두베기 | S32: 조림 당해 연도 | T32: 예취기 | U32: 인/ha | V32: 특별인부 | W32: 3.5
A33: - 직접노무비 | C33: 본/ha | D33: 0.18 | E33: 인/100본 | F33: =IF((B27="둘레베기")*(P27="적용"),ROUND(B33*D33/100,2),0) -> 0 | G33: =G31 -> 172068 | H33: 보통인부 | J33: =$G$78 -> 10 | K33: % | L33: =ROUNDDOWN((F33*G33)*(1+J33%),0) -> 0 | R33: 모두베기 | S33: 조림 2년차 | T33: 예취기 | U33: 인/ha | V33: 특별인부 | W33: 4
A34: ○ 줄베기 | B34: =T31 -> 예취기 | R34: 모두베기 | S34: 조림 3년차 이상 | T34: 예취기 | U34: 인/ha | V34: 특별인부 | W34: 5
A35: - 직접노무비 | B35: 1 | C35: ha | D35: 1.3 | E35: 인/ha | F35: =IF((B27="줄베기")*(P27="적용"),ROUND(B35*D35,2),0) -> 0 | G35: =기초자료!B16 -> 226122 | H35: 특별인부 | J35: =$G$78 -> 10 | K35: % | L35: =ROUNDDOWN((F35*G35)*(1+J35%),0) -> 0
A36: - 재료비
A37: * 연료 | B37: =F35 -> 0 | C37: 인/ha | D37: 5 | E37: ℓ/일.대 | F37: =IF(P27="적용",ROUND(B37*D37,2),0) -> 0 | H37: 휘발유 | L37: =ROUNDDOWN(F37*G37,0) -> 0
A38: * 잡품 | B38: =L37 -> 0 | C38: 원 | D38: 10 | E38: % | L38: =ROUNDDOWN(B38*D38%,0) -> 0
A39: - 기계경비 | B39: =F35 -> 0 | C39: 대/ha | D39: 0.0084 | E39: 1대1인 | H39: 예초기 | L39: =ROUNDDOWN(B39*D39*G39,0) -> 0
A40: ○ 모두베기 | B40: =T32 -> 예취기 | C40: =IF($D$27="","","("&$D$27&")") -> (조림 3년차 이상) | P40: 3000 | Q40: 표준지크기(m2) | R40: 생존목(본) | S40: 1ha | T40: 묘목본수
A41: - 직접노무비 | B41: 1 | C41: ha | D41: =IF(D27=S32,W32,IF(D27=S33,W33,IF(D27=S34,W34,0))) -> 5 | E41: 인/ha | F41: =IF(($B$27="모두베기")*($P$27="적용"),ROUND(B41*D41,2),0) -> 5 | G41: =기초자료!B16 -> 226122 | H41: 특별인부 | J41: =$G$78 -> 10 | K41: % | L41: =ROUNDDOWN((F41*G41)*(1+J41%),0) -> 1243671 | P41: 활착율 | Q41: 200 | R41: =U44 -> 47.666667 | S41: 10000 | T41: =R41*S41/Q41 -> 2383.3333
A42: - 재료비 | P42: =T41/P40*100 -> 79.444444
A43: * 연료 | B43: =F41 -> 5 | C43: 인/ha | D43: 5 | E43: ℓ/인 | F43: =IF(P27="적용",ROUND(B43*D43,2),0) -> 25 | G43: =기초자료!B19 -> 1842 | H43: 휘발유 | L43: =ROUNDDOWN(F43*G43,0) -> 46050 | R43: 표준지1 | S43: 표준지2 | T43: 표준지3 | U43: 평균
A44: * 잡품 | B44: =L43 -> 46050 | C44: 원 | D44: 10 | E44: % | L44: =ROUNDDOWN(B44*D44%,0) -> 4605 | Q44: 표준지당 | R44: 45 | S44: 48 | T44: 50 | U44: =AVERAGE(R44:T44) -> 47.666667
A45: - 기계경비 | B45: =F41 -> 5 | C45: 인 | D45: 0.0084 | E45: 1대1인 | G45: =기초자료!B26 -> 610000 | H45: =기초자료!A26 -> 배낭식동력예취기 | L45: =ROUNDDOWN(B45*D45*G45,0) -> 25620 | Q45: 1ha당 | R45: =R44*50 -> 2250 | S45: =S44*50 -> 2400 | T45: =T44*50 -> 2500 | U45: =AVERAGE(R45:T45) -> 2383.3333
A46: ◈ 합계 | L46: =SUM(L47:L49) -> 1636034 | Q46: 표준지좌표 | R46: 126.63965 | S46: 126.63873 | T46: 126.63887
A47: ○ 노무비 | L47: =L41+L29 -> 1559759 | R47: 33.360023 | S47: 33.357762 | T47: 33.359152
A48: ○ 재료비 | L48: =L43+L44 -> 50655
A49: ○ 경비(기계경비) | L49: =L45 -> 25620
A51: □ 참고사항(소반내 실시설계 표준지 조사결과의 평균이나 전수조사를 적용)
A52: ○ 작업량 산정
A53: - 작업로선정 : | B53: =IF(P15="적용",B16,0) -> 0 | C53: km
A54: - 작업로설치 : | B54: =IF(P20="적용",B22,0) -> 0 | C54: km
A55: - 솎아베기량 : | B55: =IF(#REF!="적용",#REF!,0) -> #REF! | C55: 본/ha | D55: =#REF! -> #REF!
A56: - 가지치기량 : | B56: =IF(#REF!="적용",(#REF!+#REF!+#REF!+#REF!+#REF!),0) -> #REF! | C56: 본/ha
A57: - 산물임내정리량 : | C57: (㎥/ha)
A58: - 산물수집면적 : | B58: =K2 -> 12 | C58: ha | D58: (미수집 구역은 ha당 사업비에서 산물수집 사업비를 제외)
A59: ○ 투입인력 산정
A60: - ha당 투입인력 : | B60: =N87 -> 6.67 | C60: 인
A61: ○ 할인,할증율 산정
A62: 구 분 | B62: 할인,할증 요소 | C62: 단위작업(%)
C63: 선목 | D63: 경계표시 | E63: 작업로선정 | F63: 작업로설치 | G63: 풀베기 | H63: 덩굴류제거 (덩굴걷기) | I63: 덩굴류제거 (약제작업) | J63: 덩굴류제거 (뿌리제거) | K63: 솎아베기 | L63: 어린나무 가꾸기 | M63: 가지치기 | N63: 산물 임내정리
A64: 경사도 | B64: 완(15도 이하) | C64: =IF(ISERROR(VLOOKUP($B64,$S$51:$T$104,2,FALSE)),"",(VLOOKUP($B64,$S$51:$T$104,2,FALSE))) | D64: =IF(ISERROR(VLOOKUP($B64,$S$51:$T$104,2,FALSE)),"",(VLOOKUP($B64,$S$51:$T$104,2,FALSE))) | E64: =IF(ISERROR(VLOOKUP($B64,$S$51:$T$104,2,FALSE)),"",(VLOOKUP($B64,$S$51:$T$104,2,FALSE))) | F64: =IF(ISERROR(VLOOKUP($B64,$S$51:$T$104,2,FALSE)),"",(VLOOKUP($B64,$S$51:$T$104,2,FALSE))) | G64: =IF(ISERROR(VLOOKUP($B64,$R$90:$S$151,2,FALSE)),"",(VLOOKUP($B64,$R$90:$S$151,2,FALSE))) -> 0 | H64: =IF(ISERROR(VLOOKUP($B64,$S$51:$T$104,2,FALSE)),"",(VLOOKUP($B64,$S$51:$T$104,2,FALSE))) | I64: =IF(ISERROR(VLOOKUP($B64,$S$51:$T$104,2,FALSE)),"",(VLOOKUP($B64,$S$51:$T$104,2,FALSE))) | J64: =IF(ISERROR(VLOOKUP($B64,$S$51:$T$104,2,FALSE)),"",(VLOOKUP($B64,$S$51:$T$104,2,FALSE))) | K64: =IF(ISERROR(VLOOKUP($B64,$S$51:$T$104,2,FALSE)),"",(VLOOKUP($B64,$S$51:$T$104,2,FALSE))) | L64: =IF(ISERROR(VLOOKUP($B64,$S$51:$T$104,2,FALSE)),"",(VLOOKUP($B64,$S$51:$T$104,2,FALSE))) | M64: =IF(ISERROR(VLOOKUP($B64,$S$51:$T$104,2,FALSE)),"",(VLOOKUP($B64,$S$51:$T$104,2,FALSE))) | N64: =IF(ISERROR(VLOOKUP($B64,$S$51:$T$104,2,FALSE)),"",(VLOOKUP($B64,$S$51:$T$104,2,FALSE)))
A65: 장애물의 정도 | B65: 가슴높이 미만 초본ㆍ관목 | C65: =IF(ISERROR(VLOOKUP($B65,$S$51:$T$104,2,FALSE)),"",(VLOOKUP($B65,$S$51:$T$104,2,FALSE))) | E65: =IF(ISERROR(VLOOKUP($B65,$S$51:$T$104,2,FALSE)),"",(VLOOKUP($B65,$S$51:$T$104,2,FALSE))) | K65: =IF(ISERROR(VLOOKUP($B65,$S$51:$T$104,2,FALSE)),"",(VLOOKUP($B65,$S$51:$T$104,2,FALSE))) | M65: =IF(ISERROR(VLOOKUP($B65,$S$51:$T$104,2,FALSE)),"",(VLOOKUP($B65,$S$51:$T$104,2,FALSE)))
A66: 선목시기 | B66: 12월-2월 | C66: =IF(ISERROR(VLOOKUP($B66,$S$51:$T$104,2,FALSE)),"",(VLOOKUP($B66,$S$51:$T$104,2,FALSE)))
A67: 제거대상식생(작업로설치) | B67: 보통이다(높이1.2m 이상이고,직경이 4-6cm 미만) | F67: =IF(ISERROR(VLOOKUP($B67,$S$51:$T$104,2,FALSE)),"",(VLOOKUP($B67,$S$51:$T$104,2,FALSE)))
A68: 조림후경과년수 | B68: 3년차
A69: 집단화정도(풀베기) | B69: 개소당 평균면적이 3ha 미만 | G69: =IF(ISERROR(VLOOKUP($B69,$R$90:$S$151,2,FALSE)),"",(VLOOKUP($B69,$R$90:$S$151,2,FALSE))) -> 10
A70: 집단화정도 | B70: 개소당 평균면적이 3ha 이상 | H70: =IF(ISERROR(VLOOKUP($B70,$S$51:$T$104,2,FALSE)),"",(VLOOKUP($B70,$S$51:$T$104,2,FALSE))) | I70: =IF(ISERROR(VLOOKUP($B70,$S$51:$T$104,2,FALSE)),"",(VLOOKUP($B70,$S$51:$T$104,2,FALSE))) | J70: =IF(ISERROR(VLOOKUP($B70,$S$51:$T$104,2,FALSE)),"",(VLOOKUP($B70,$S$51:$T$104,2,FALSE))) | L70: =IF(ISERROR(VLOOKUP($B70,$S$51:$T$104,2,FALSE)),"",(VLOOKUP($B70,$S$51:$T$104,2,FALSE)))
A71: 작업시기(덩굴류) | B71: 1∼5월 | H71: =IF(ISERROR(VLOOKUP($B71,$S$51:$T$107,2,FALSE)),"",(VLOOKUP($B71,$S$51:$T$107,2,FALSE))) | I71: =IF(ISERROR(VLOOKUP($B71,$S$51:$T$107,2,FALSE)),"",(VLOOKUP($B71,$S$51:$T$107,2,FALSE))) | J71: =IF(ISERROR(VLOOKUP($B71,$S$51:$T$107,2,FALSE)),"",(VLOOKUP($B71,$S$51:$T$107,2,FALSE)))
A72: 덩굴피복도 | B72: 보통(40∼60% 피복) | H72: =IF(ISERROR(VLOOKUP($B72,$S$51:$T$109,2,FALSE)),"",(VLOOKUP($B72,$S$51:$T$109,2,FALSE))) | I72: =IF(ISERROR(VLOOKUP($B72,$S$51:$T$109,2,FALSE)),"",(VLOOKUP($B72,$S$51:$T$109,2,FALSE)))
A73: 하층식생(덩굴류) | B73: 보행이 용이하다 | J73: =IF(ISERROR(VLOOKUP($B73,$S$51:$T$107,2,FALSE)),"",(VLOOKUP($B73,$S$51:$T$107,2,FALSE)))
A74: 토양조건(덩굴류) | B74: 장애물이 거의 없음 | J74: =IF(ISERROR(VLOOKUP($B74,$S$51:$T$112,2,FALSE)),"",(VLOOKUP($B74,$S$51:$T$112,2,FALSE)))
A75: 작업시기(어린나무가꾸기) | B75: 1∼5월, 10월~12월 | L75: =IF(ISERROR(VLOOKUP($B75,$S$51:$T$109,2,FALSE)),"",(VLOOKUP($B75,$S$51:$T$109,2,FALSE)))
A76: 제거대상피복도 | B76: 중 (임지의 41%∼70% 분포) | L76: =IF(ISERROR(VLOOKUP($B76,$S$51:$T$104,2,FALSE)),"",(VLOOKUP($B76,$S$51:$T$104,2,FALSE)))
A77: 규격재생산여부 | B77: 미적용 | K77: =IF(ISERROR(VLOOKUP($B77,$S$51:$T$104,2,FALSE)),"",(VLOOKUP($B77,$S$51:$T$104,2,FALSE)))
A78: 합계 | C78: =SUM(C64:C77) -> 0 | D78: =SUM(D64:D77) -> 0 | E78: =SUM(E64:E77) -> 0 | F78: =SUM(F64:F77) -> 0 | G78: =SUM(G64:G77) -> 10 | H78: =SUM(H64:H77) -> 0 | I78: =SUM(I64:I77) -> 0 | J78: =SUM(J64:J77) -> 0 | ... N78: =SUM(N64:N77) -> 0
A82: ○ 작업원 소요량 산출 : | B82: =N87 -> 6.67 | C82: 명
A83: 작업단위 | B83: 선목 | C83: 경계표시 | D83: 작업로 선정 | E83: 작업로 설치 | F83: 풀베기 | G83: =H63 -> 덩굴류제거 (덩굴걷기) | H83: =I63 -> 덩굴류제거 (약제작업) | I83: =J63 -> 덩굴류제거 (뿌리제거) | J83: =K63 -> 솎아베기 | K83: =L63 -> 어린나무 가꾸기 | L83: =M63 -> 가지치기 | M83: 산물임내정리 | N83: 계
A84: 초급기술자 | B84: =ROUND(F6*1,2) -> 0 | N84: =SUM(B84:M84) -> 0
A85: 보통인부 | C85: =ROUND(F11*1,2) -> 0 | D85: =ROUND(F16*1,2) -> 0 | E85: =ROUND(F22*1,2) -> 0 | F85: =ROUND(F29*1+F31*1+F33*1,2) -> 1.67 | N85: =SUM(B85:M85) -> 1.67
A86: 특별인부 | F86: =F35*1+F41*1 -> 5 | N86: =SUM(B86:M86) -> 5
A87: 계 | B87: =SUM(B84:B86) -> 0 | C87: =SUM(C84:C86) -> 0 | D87: =SUM(D84:D86) -> 0 | E87: =SUM(E84:E86) -> 0 | F87: =SUM(F84:F86) -> 6.67 | G87: =SUM(G84:G86) -> 0 | I87: =SUM(I84:I86) -> 0 | J87: =SUM(J84:J86) -> 0 | K87: =SUM(K84:K86) -> 0 | M87: =SUM(M84:M86) -> 0 | N87: =SUM(B87:M87) -> 6.67
Q89: 숲가꾸기 할인할증요소 선택 기준(참고)
A90: 숲가꾸기 할인할증요소 선택 기준(참고) | Q90: 할인할증요소 | R90: 요소분류 | S90: 할인할증율
A91: 할인할증요소 | B91: 요소분류 | C91: 할인할증률 | D91: 요소분류 | F91: 요소분류 | H91: 할인할증률 | J91: 할인할증율 | L91: 요소분류 | N91: 할인할증률 | Q91: 경사도 | R91: 완(15도 이하) | S91: 0
A92: 경사도 | D92: 장애물의 정도 | J92: 선목시기 | R92: 중(15-30도이하) | S92: 5
A93: 완(15도 이하) | B93: 중(15-30도이하) | C93: 급(30도 초과) | D93: 무릎높이 이하 초본ㆍ관목 | F93: 가슴높이 미만 초본ㆍ관목 | H93: 가슴높이 이상 초본ㆍ관목 | J93: 10월-11월, 3월-4월 | L93: 12월-2월 | N93: 5월-9월 | R93: 급(30도 초과) | S93: 10
A94: 0 | B94: 5 | C94: 10 | D94: -10 | E94: 0 | F94: 0 | H94: 10 | J94: -10 | K94: 0 | L94: 0 | N94: 10 | Q94: 장애물의 정도 | R94: 무릎높이 이하 초본ㆍ관목 | S94: -10
R95: 가슴높이 미만 초본ㆍ관목 | S95: 0
A96: 조림후 경과년수(줄베기) | D96: 제거대상식생 | J96: 제거대상피복도 | R96: 가슴높이 이상 초본ㆍ관목 | S96: 10
A97: 당해년도 | B97: 2년차 | C97: 3년차 | D97: 쉽다(높이1.2m 미만이고, 낫으로도 제거가 용이) | F97: 쉽다(높이1.2m 미만이고, 낫으로도 제거가 용이) | H97: 어렵다(높이1.2m 이상이고, 직경이 4-6cm 이상) | J97: 소 (임지의 40% 이하 분포) | L97: 중 (임지의 41%∼70% 분포) | N97: 밀 (임지의 71% 이상 분포)) | Q97: 선목시기 | R97: 10월-11월, 3월-4월 | S97: -10
A98: 0 | B98: 2 | C98: 10 | D98: -10 | E98: 0 | F98: 0 | H98: 10 | J98: -20 | K98: 0 | L98: 0 | N98: 20 | R98: 12월-2월 | S98: 0
R99: 5월-9월 | S99: 10
A100: 집단화정도(풀베기) | D100: 집단화정도 | J100: 작업시기(어린) | M100: 작업시기(덩굴류) | Q100: 제거대상식생 | R100: 쉽다(높이1.2m 미만이고, 낫으로도 제거가 용이) | S100: -10
A101: 개소당 평균면적이 5ha 이상 | B101: 개소당 평균면적이 3-5ha 미만 | C101: 개소당 평균면적이 3ha 미만 | D101: 개소당 평균면적이 3ha 이상 | F101: 개소당 평균면적이 1-3ha 미만 | H101: 개소당 평균면적이 1ha 미만 | J101: 1∼5월, 10월~12월 | L101: 6월∼9월 | M101: 1∼5월 | N101: 6월∼9월 | R101: 보통이다(높이1.2m 이상이고,직경이 4-6cm 미만) | S101: 0
A102: 0 | B102: 5 | C102: 10 | D102: 0 | E102: 0 | F102: 5 | H102: 10 | J102: 0 | K102: 0 | L102: 10 | M102: 0 | N102: 10 | R102: 어렵다(높이1.2m 이상이고, 직경이 4-6cm 이상) | S102: 10
Q103: 조림후 경과년수 (줄베기) | R103: 당해년도 | S103: 0
A104: 토양조건 | D104: 하층식생 | J104: 덩굴 피복도 | R104: 2년차 | S104: 5
A105: 장애물이 거의 없음 | B105: 돌 등 장애물 함량이 10∼30%인 지역 | C105: 돌 등 장애물 함량이 30% 이상인 지역 | D105: 보행이 용이하다 | F105: 보행하는데 약간의 어려움이 있다 | H105: 식생을 제거하지 않고 보행이 곤란하다 | J105: 과밀(80%이상 피복) | K105: 밀(60∼80% 피복) | L105: 보통(40∼60% 피복) | M105: 소(20∼40% 피복) | N105: 과소(20%이하피복) | R105: 3년차 | S105: 10
...

Sheet 단가산출서(난대상록활엽수2년차) 
A1: ha당 숲가꾸기 단가 산출서 | Q1: 선택항목 | R1: 입력항목
A2: 위 치 | B2: =표지!E28 -> 서귀포시 남원읍 한남리 산 2-1 외 | G2: 수 종 | H2: 난대상록활엽수 | J2: 사업면적 | K2: =설계내역서!H12 -> 0 | M2: ha
A3: 구 분 | B3: 작업량 | D3: 단위품(인원,수량, | F3: 소요품 | G3: 단가 | J3: 할인,증률 | L3: 계 | R3: 구분 | S3: 조건 | T3: 사용도구 | U3: 단위 | V3: 인력구성 | W3: 소요인력
A4: 단위작업 | C4: 단위 | D4: 요율) | E4: 단위 | H4: 종류 | P4: 적용여부 | R4: 묘목찾기 | T4: 낫 | U4: 인/100본 | V4: 보통인부 | W4: 0.07
A5: ○ 선목 | D5: ○ 미래목 본수 | P5: 적용
A6: - 직접노무비 | C6: =IF(B5="","",IF(B5="미래목","ha","본/ha")) | D6: =IF(B5="제거대상목",S6,S7) -> 0 | E6: =IF(B5=R7,"인/ha","인/100본당") -> 인/ha | F6: =IF(P5="적용",IF(B5="미래목",1,ROUND(B6*D6/100,2)),0) -> 0 | H6: 초급기술자 | J6: =$C$78 -> 0 | K6: % | L6: =ROUNDDOWN((F6*G6)*(1+J6%),0) -> 0
A7: - 재료비
A8: * 페인트 | B8: =IF(B5="미래목",$E$5,$B$6) -> 0 | C8: 본/ha | D8: =IF(B5="제거대상목",U6,U7) -> 0 | E8: ℓ/100본당 | F8: =IF(P5="적용",ROUND(B8*(D8/100),2),0) -> 0 | H8: =IF(B5="제거대상목",T6,T7) -> 0 | L8: =ROUNDDOWN(F8*G8,0) -> 0
A9: * 잡품 | B9: =L8 -> 0 | C9: 원 | D9: 10 | E9: % | L9: =ROUNDDOWN(B9*D9%,0) -> 0
A10: ○ 경계표시 | P10: 적용
A11: - 직접노무비 | C11: ha | D11: 0.2 | E11: 인/ha | F11: =IF(P10="적용",ROUND(B11*D11,2),0) -> 0 | G11: =기초자료!B14 -> 172068 | H11: 보통인부 | J11: =$D$78 -> 0 | K11: % | L11: =ROUNDDOWN((F11*G11)*(1+J11%),0) -> 0
A12: - 재료비
A13: * 백색페인트 | C13: ha | D13: 0.2 | E13: ℓ/ha | F13: =IF(P10="적용",ROUND(B13*D13,2),0) -> 0 | G13: 7300 | H13: 백색페인트 | L13: =ROUNDDOWN(F13*G13,0) -> 0
A14: * 잡품 | B14: =L13 -> 0 | C14: 원 | D14: 5 | E14: % | L14: =ROUNDDOWN(B14*D14%,0) -> 0
A15: ○ 작업로 선정 | P15: 적용
A16: - 직접노무비 | C16: km | D16: 1 | E16: 인/km | F16: =IF(P15="적용",ROUND(B16*D16,2),0) -> 0 | G16: =기초자료!B14 -> 172068 | H16: 보통인부 | J16: =$E$78 -> 0 | K16: % | L16: =ROUNDDOWN((F16*G16)*(1+J16%),0) -> 0
A17: - 재료비
B18: =B16 -> 0 | C18: km | D18: =IF(A18=R16,S16,S17) -> 0 | E18: =IF(A18=R16,T16,T17) -> 0 | F18: =IF(P15="적용",ROUND(B18*D18,2),0) -> 0 | H18: =IF(A18=R16,U16,U17) -> 0 | L18: =ROUNDDOWN(F18*G18,0) -> 0
A19: * 잡품 | B19: =L18 -> 0 | C19: 원 | D19: =IF(ISERROR(VLOOKUP($A$18,$R$16:$V$17,5,FALSE)),0,VLOOKUP($A$18,$R$16:$V$17,5,FALSE))*100 -> 0 | E19: % | L19: =ROUNDDOWN(B19*D19%,0) -> 0
A20: ○ 작업로 설치 | P20: 적용
A21: - 직접노무비
A22: * 소작업로 | C22: km | D22: 2 | E22: 인/km | F22: =IF(P20="적용",ROUND(B22*D22,2),0) -> 0 | G22: =기초자료!B14 -> 172068 | H22: 보통인부 | J22: =$F$78 -> 0 | K22: % | L22: =ROUNDDOWN((F22*G22)*(1+J22%),0) -> 0
A23: - 재료비
A24: * 연료 | B24: =F22 -> 0 | C24: 인/ha | D24: =5.6/2 -> 2.8 | E24: ℓ/km | F24: =IF(P20="적용",ROUND(B24*D24,2),0) -> 0 | H24: 휘발유 | L24: =ROUNDDOWN(F24*G24,0) -> 0
A25: * 잡품 | B25: =L24 -> 0 | C25: 원 | D25: 95 | E25: % | L25: =ROUNDDOWN(B25*D25%,0) -> 0
A26: - 기계경비 | B26: =F22 -> 0 | C26: 인 | D26: 0.0042 | E26: 1대2인 | H26: 체인톱 | L26: =ROUNDDOWN(B26*D26*G26,0) -> 0
A27: ○ 풀베기 | B27: 모두베기 | D27: 조림 2년차 | P27: 적용
A28: ○ 묘목찾기 | B28: =T4 -> 낫 | D28: (줄베기, 모두베기에만 적용) | P28: 적용
A29: - 직접노무비 | B29: =T41 -> 2475 | C29: 본/ha | D29: =W4 -> 0.07 | E29: 인/100본 | F29: =IF(P28="적용",ROUND(B29*D29/100,2),0) -> 1.73 | G29: =기초자료!B14 -> 172068 | H29: 보통인부 | J29: =$G$78 -> 10 | K29: % | L29: =ROUNDDOWN((F29*G29)*(1+J29%),0) -> 327445 | P29: ha당 식재본수
A30: ○ 맹아제거 | B30: =T29 -> 0 | D30: (둘레베기, 줄베기에만 적용) | P30: 적용 | R30: 둘레베기 | T30: 낫 | U30: 인/100본 | V30: 보통인부 | W30: 0.18
A31: - 직접노무비 | C31: 본/ha | D31: =W29 -> 0 | E31: 인/100본 | F31: =IF(P30="적용",ROUND(B31*D31/100,2),0) -> 0 | G31: =G29 -> 172068 | H31: 보통인부 | J31: =IF($G$64="",0,$G$64)+IF($G$69="",0,G$69) -> 10 | K31: % | L31: =ROUNDDOWN((F31*G31)*(1+J31%),0) -> 0 | R31: 줄베기 | T31: 예취기 | U31: 인/ha | V31: 특별인부 | W31: 1.3
A32: ○ 둘레베기 | B32: =T30 -> 낫 | R32: 모두베기 | S32: 조림 당해 연도 | T32: 예취기 | U32: 인/ha | V32: 특별인부 | W32: 3.5
A33: - 직접노무비 | C33: 본/ha | D33: 0.18 | E33: 인/100본 | F33: =IF((B27="둘레베기")*(P27="적용"),ROUND(B33*D33/100,2),0) -> 0 | G33: =G31 -> 172068 | H33: 보통인부 | J33: =$G$78 -> 10 | K33: % | L33: =ROUNDDOWN((F33*G33)*(1+J33%),0) -> 0 | R33: 모두베기 | S33: 조림 2년차 | T33: 예취기 | U33: 인/ha | V33: 특별인부 | W33: 4
A34: ○ 줄베기 | B34: =T31 -> 예취기 | R34: 모두베기 | S34: 조림 3년차 이상 | T34: 예취기 | U34: 인/ha | V34: 특별인부 | W34: 5
A35: - 직접노무비 | B35: 1 | C35: ha | D35: 1.3 | E35: 인/ha | F35: =IF((B27="줄베기")*(P27="적용"),ROUND(B35*D35,2),0) -> 0 | G35: =기초자료!B16 -> 226122 | H35: 특별인부 | J35: =$G$78 -> 10 | K35: % | L35: =ROUNDDOWN((F35*G35)*(1+J35%),0) -> 0
A36: - 재료비
A37: * 연료 | B37: =F35 -> 0 | C37: 인/ha | D37: 5 | E37: ℓ/일.대 | F37: =IF(P27="적용",ROUND(B37*D37,2),0) -> 0 | H37: 휘발유 | L37: =ROUNDDOWN(F37*G37,0) -> 0
A38: * 잡품 | B38: =L37 -> 0 | C38: 원 | D38: 10 | E38: % | L38: =ROUNDDOWN(B38*D38%,0) -> 0
A39: - 기계경비 | B39: =F35 -> 0 | C39: 대/ha | D39: 0.0084 | E39: 1대1인 | H39: 예초기 | L39: =ROUNDDOWN(B39*D39*G39,0) -> 0
A40: ○ 모두베기 | B40: =T32 -> 예취기 | C40: =IF($D$27="","","("&$D$27&")") -> (조림 2년차) | P40: 3000 | Q40: 표준지크기(m2) | R40: 생존목(본) | S40: 1ha | T40: 묘목본수
A41: - 직접노무비 | B41: 1 | C41: ha | D41: =IF(D27=S32,W32,IF(D27=S33,W33,IF(D27=S34,W34,0))) -> 4 | E41: 인/ha | F41: =IF(($B$27="모두베기")*($P$27="적용"),ROUND(B41*D41,2),0) -> 4 | G41: =기초자료!B16 -> 226122 | H41: 특별인부 | J41: =$G$78 -> 10 | K41: % | L41: =ROUNDDOWN((F41*G41)*(1+J41%),0) -> 994936 | P41: 활착율 | Q41: 400 | R41: =T43 -> 99 | S41: 10000 | T41: =R41*S41/Q41 -> 2475
A42: - 재료비 | P42: =T41/P40*100 -> 82.5 | R42: 표준지1 | S42: 표준지2 | T42: 평균
A43: * 연료 | B43: =F41 -> 4 | C43: 인/ha | D43: 5 | E43: ℓ/인 | F43: =IF(P27="적용",ROUND(B43*D43,2),0) -> 20 | G43: =기초자료!B19 -> 1842 | H43: 휘발유 | L43: =ROUNDDOWN(F43*G43,0) -> 36840 | Q43: 표준지당 | R43: 98 | S43: 100 | T43: =AVERAGE(R43:S43) -> 99
A44: * 잡품 | B44: =L43 -> 36840 | C44: 원 | D44: 10 | E44: % | L44: =ROUNDDOWN(B44*D44%,0) -> 3684 | Q44: 1ha당 | R44: =R43*25 -> 2450 | S44: =S43*25 -> 2500 | T44: =AVERAGE(R44:S44) -> 2475
A45: - 기계경비 | B45: =F41 -> 4 | C45: 인 | D45: 0.0084 | E45: 1대1인 | G45: =기초자료!B26 -> 610000 | H45: =기초자료!A26 -> 배낭식동력예취기 | L45: =ROUNDDOWN(B45*D45*G45,0) -> 20496
A46: ◈ 합계 | L46: =SUM(L47:L49) -> 1383401
A47: ○ 노무비 | L47: =L29+L41 -> 1322381
A48: ○ 재료비 | L48: =L43+L44 -> 40524
A49: ○ 경비(기계경비) | L49: =L45 -> 20496
A51: □ 참고사항(소반내 실시설계 표준지 조사결과의 평균이나 전수조사를 적용)
A52: ○ 작업량 산정
A53: - 작업로선정 : | B53: =IF(P15="적용",B16,0) -> 0 | C53: km
A54: - 작업로설치 : | B54: =IF(P20="적용",B22,0) -> 0 | C54: km
A55: - 솎아베기량 : | B55: =IF(#REF!="적용",#REF!,0) -> #REF! | C55: 본/ha | D55: =#REF! -> #REF!
A56: - 가지치기량 : | B56: =IF(#REF!="적용",(#REF!+#REF!+#REF!+#REF!+#REF!),0) -> #REF! | C56: 본/ha
A57: - 산물임내정리량 : | C57: (㎥/ha)
A58: - 산물수집면적 : | B58: =K2 -> 0 | C58: ha | D58: (미수집 구역은 ha당 사업비에서 산물수집 사업비를 제외)
A59: ○ 투입인력 산정
A60: - ha당 투입인력 : | B60: =N87 -> 5.73 | C60: 인
A61: ○ 할인,할증율 산정
A62: 구 분 | B62: 할인,할증 요소 | C62: 단위작업(%)
C63: 선목 | D63: 경계표시 | E63: 작업로선정 | F63: 작업로설치 | G63: 풀베기 | H63: 덩굴류제거 (덩굴걷기) | I63: 덩굴류제거 (약제작업) | J63: 덩굴류제거 (뿌리제거) | K63: 솎아베기 | L63: 어린나무 가꾸기 | M63: 가지치기 | N63: 산물 임내정리
A64: 경사도 | B64: 완(15도 이하) | C64: =IF(ISERROR(VLOOKUP($B64,$S$51:$T$104,2,FALSE)),"",(VLOOKUP($B64,$S$51:$T$104,2,FALSE))) | D64: =IF(ISERROR(VLOOKUP($B64,$S$51:$T$104,2,FALSE)),"",(VLOOKUP($B64,$S$51:$T$104,2,FALSE))) | E64: =IF(ISERROR(VLOOKUP($B64,$S$51:$T$104,2,FALSE)),"",(VLOOKUP($B64,$S$51:$T$104,2,FALSE))) | F64: =IF(ISERROR(VLOOKUP($B64,$S$51:$T$104,2,FALSE)),"",(VLOOKUP($B64,$S$51:$T$104,2,FALSE))) | G64: =IF(ISERROR(VLOOKUP($B64,$S$51:$T$104,2,FALSE)),"",(VLOOKUP($B64,$S$51:$T$104,2,FALSE))) | H64: =IF(ISERROR(VLOOKUP($B64,$S$51:$T$104,2,FALSE)),"",(VLOOKUP($B64,$S$51:$T$104,2,FALSE))) | I64: =IF(ISERROR(VLOOKUP($B64,$S$51:$T$104,2,FALSE)),"",(VLOOKUP($B64,$S$51:$T$104,2,FALSE))) | J64: =IF(ISERROR(VLOOKUP($B64,$S$51:$T$104,2,FALSE)),"",(VLOOKUP($B64,$S$51:$T$104,2,FALSE))) | ... N64: =IF(ISERROR(VLOOKUP($B64,$S$51:$T$104,2,FALSE)),"",(VLOOKUP($B64,$S$51:$T$104,2,FALSE)))
A65: 장애물의 정도 | B65: 가슴높이 미만 초본ㆍ관목 | C65: =IF(ISERROR(VLOOKUP($B65,$S$51:$T$104,2,FALSE)),"",(VLOOKUP($B65,$S$51:$T$104,2,FALSE))) | E65: =IF(ISERROR(VLOOKUP($B65,$S$51:$T$104,2,FALSE)),"",(VLOOKUP($B65,$S$51:$T$104,2,FALSE))) | K65: =IF(ISERROR(VLOOKUP($B65,$S$51:$T$104,2,FALSE)),"",(VLOOKUP($B65,$S$51:$T$104,2,FALSE))) | M65: =IF(ISERROR(VLOOKUP($B65,$S$51:$T$104,2,FALSE)),"",(VLOOKUP($B65,$S$51:$T$104,2,FALSE)))
A66: 선목시기 | B66: 12월-2월 | C66: =IF(ISERROR(VLOOKUP($B66,$S$51:$T$104,2,FALSE)),"",(VLOOKUP($B66,$S$51:$T$104,2,FALSE)))
A67: 제거대상식생(작업로설치) | B67: 보통이다(높이1.2m 이상이고,직경이 4-6cm 미만) | F67: =IF(ISERROR(VLOOKUP($B67,$S$51:$T$104,2,FALSE)),"",(VLOOKUP($B67,$S$51:$T$104,2,FALSE)))
A68: 조림후경과년수 | B68: 3년차
A69: 집단화정도(풀베기) | B69: 개소당 평균면적이 3ha 미만 | G69: =C101 -> 10
A70: 집단화정도 | B70: 개소당 평균면적이 3ha 이상 | H70: =IF(ISERROR(VLOOKUP($B70,$S$51:$T$104,2,FALSE)),"",(VLOOKUP($B70,$S$51:$T$104,2,FALSE))) | I70: =IF(ISERROR(VLOOKUP($B70,$S$51:$T$104,2,FALSE)),"",(VLOOKUP($B70,$S$51:$T$104,2,FALSE))) | J70: =IF(ISERROR(VLOOKUP($B70,$S$51:$T$104,2,FALSE)),"",(VLOOKUP($B70,$S$51:$T$104,2,FALSE))) | L70: =IF(ISERROR(VLOOKUP($B70,$S$51:$T$104,2,FALSE)),"",(VLOOKUP($B70,$S$51:$T$104,2,FALSE)))
A71: 작업시기(덩굴류) | B71: 1∼5월 | H71: =IF(ISERROR(VLOOKUP($B71,$S$51:$T$107,2,FALSE)),"",(VLOOKUP($B71,$S$51:$T$107,2,FALSE))) | I71: =IF(ISERROR(VLOOKUP($B71,$S$51:$T$107,2,FALSE)),"",(VLOOKUP($B71,$S$51:$T$107,2,FALSE))) | J71: =IF(ISERROR(VLOOKUP($B71,$S$51:$T$107,2,FALSE)),"",(VLOOKUP($B71,$S$51:$T$107,2,FALSE)))
A72: 덩굴피복도 | B72: 보통(40∼60% 피복) | H72: =IF(ISERROR(VLOOKUP($B72,$S$51:$T$109,2,FALSE)),"",(VLOOKUP($B72,$S$51:$T$109,2,FALSE))) | I72: =IF(ISERROR(VLOOKUP($B72,$S$51:$T$109,2,FALSE)),"",(VLOOKUP($B72,$S$51:$T$109,2,FALSE)))
A73: 하층식생(덩굴류) | B73: 보행이 용이하다 | J73: =IF(ISERROR(VLOOKUP($B73,$S$51:$T$107,2,FALSE)),"",(VLOOKUP($B73,$S$51:$T$107,2,FALSE)))
A74: 토양조건(덩굴류) | B74: 장애물이 거의 없음 | J74: =IF(ISERROR(VLOOKUP($B74,$S$51:$T$112,2,FALSE)),"",(VLOOKUP($B74,$S$51:$T$112,2,FALSE)))
A75: 작업시기(어린나무가꾸기) | B75: 1∼5월, 10월~12월 | L75: =IF(ISERROR(VLOOKUP($B75,$S$51:$T$109,2,FALSE)),"",(VLOOKUP($B75,$S$51:$T$109,2,FALSE)))
A76: 제거대상피복도 | B76: 중 (임지의 41%∼70% 분포) | L76: =IF(ISERROR(VLOOKUP($B76,$S$51:$T$104,2,FALSE)),"",(VLOOKUP($B76,$S$51:$T$104,2,FALSE)))
A77: 규격재생산여부 | B77: 미적용 | K77: =IF(ISERROR(VLOOKUP($B77,$S$51:$T$104,2,FALSE)),"",(VLOOKUP($B77,$S$51:$T$104,2,FALSE)))
A78: 합계 | C78: =SUM(C64:C77) -> 0 | D78: =SUM(D64:D77) -> 0 | E78: =SUM(E64:E77) -> 0 | F78: =SUM(F64:F77) -> 0 | G78: =SUM(G64:G77) -> 10 | H78: =SUM(H64:H77) -> 0 | I78: =SUM(I64:I77) -> 0 | J78: =SUM(J64:J77) -> 0 | ... N78: =SUM(N64:N77) -> 0
A82: ○ 작업원 소요량 산출 : | B82: =N87 -> 5.73 | C82: 명
A83: 작업단위 | B83: 선목 | C83: 경계표시 | D83: 작업로 선정 | E83: 작업로 설치 | F83: 풀베기 | G83: =H63 -> 덩굴류제거 (덩굴걷기) | H83: =I63 -> 덩굴류제거 (약제작업) | I83: =J63 -> 덩굴류제거 (뿌리제거) | J83: =K63 -> 솎아베기 | K83: =L63 -> 어린나무 가꾸기 | L83: =M63 -> 가지치기 | M83: 산물임내정리 | N83: 계
A84: 초급기술자 | B84: =ROUND(F6*1,2) -> 0 | N84: =SUM(B84:M84) -> 0
A85: 보통인부 | C85: =ROUND(F11*1,2) -> 0 | D85: =ROUND(F16*1,2) -> 0 | E85: =ROUND(F22*1,2) -> 0 | F85: =ROUND(F29*1+F31*1+F33*1,2) -> 1.73 | N85: =SUM(B85:M85) -> 1.73
A86: 특별인부 | F86: =F35*1+F41*1 -> 4 | N86: =SUM(B86:M86) -> 4
A87: 계 | B87: =SUM(B84:B86) -> 0 | C87: =SUM(C84:C86) -> 0 | D87: =SUM(D84:D86) -> 0 | E87: =SUM(E84:E86) -> 0 | F87: =SUM(F84:F86) -> 5.73 | G87: =SUM(G84:G86) -> 0 | I87: =SUM(I84:I86) -> 0 | J87: =SUM(J84:J86) -> 0 | K87: =SUM(K84:K86) -> 0 | M87: =SUM(M84:M86) -> 0 | N87: =SUM(B87:M87) -> 5.73
A89: 숲가꾸기 할인할증요소 선택 기준(참고)
A90: 할인할증요소 | D90: 요소분류 | J90: 할인할증율
A91: 경사도 | D91: 장애물의 정도 | J91: 선목시기
A92: 완(15도 이하) | B92: 중(15-30도이하) | C92: 급(30도 초과) | D92: 무릎높이 이하 초본ㆍ관목 | F92: 가슴높이 미만 초본ㆍ관목 | H92: 가슴높이 이상 초본ㆍ관목 | J92: 10월-11월, 3월-4월 | L92: 12월-2월 | N92: 5월-9월
A93: 0 | B93: 5 | C93: 10 | D93: -10 | E93: 0 | F93: 0 | H93: 10 | J93: -10 | K93: 0 | L93: 0 | N93: 10
A95: 조림후 경과년수 | D95: 제거대상식생 | J95: 제거대상피복도
A96: 당해년도 | B96: 2년차 | C96: 3년차 | D96: 쉽다(높이1.2m 미만이고, 낫으로도 제거가 용이) | F96: 쉽다(높이1.2m 미만이고, 낫으로도 제거가 용이) | H96: 어렵다(높이1.2m 이상이고, 직경이 4-6cm 이상) | J96: 소 (임지의 40% 이하 분포) | L96: 중 (임지의 41%∼70% 분포) | N96: 밀 (임지의 71% 이상 분포))
A97: 0 | B97: 급(30도 초과) | C97: 10 | D97: -10 | E97: 0 | F97: 0 | H97: 10 | J97: -20 | K97: 0 | L97: 0 | N97: 20
A99: 집단화정도(풀베기) | D99: 집단화정도 | J99: 작업시기(어린) | M99: 작업시기(덩굴류)
A100: 개소당 평균면적이 5ha 이상 | B100: 개소당 평균면적이 3-5ha 미만 | C100: 개소당 평균면적이 3ha 미만 | D100: 개소당 평균면적이 3ha 이상 | F100: 개소당 평균면적이 1-3ha 미만 | H100: 개소당 평균면적이 1ha 미만 | J100: 1∼5월, 10월~12월 | L100: 6월∼9월 | M100: 1∼5월 | N100: 6월∼9월
A101: 0 | B101: 5 | C101: 10 | D101: 0 | E101: 0 | F101: 5 | H101: 10 | J101: 0 | K101: 0 | L101: 10 | M101: 0 | N101: 10
A103: 토양조건 | D103: 하층식생 | J103: 덩굴 피복도
A104: 장애물이 거의 없음 | B104: 돌 등 장애물 함량이 10∼30%인 지역 | C104: 돌 등 장애물 함량이 30% 이상인 지역 | D104: 보행이 용이하다 | F104: 보행하는데 약간의 어려움이 있다 | H104: 식생을 제거하지 않고 보행이 곤란하다 | J104: 과밀(80%이상 피복) | K104: 밀(60∼80% 피복) | L104: 보통(40∼60% 피복) | M104: 소(20∼40% 피복) | N104: 과소(20%이하피복)
A105: 0 | B105: 5 | C105: 10 | D105: 0 | E105: 0 | F105: 5 | H105: 10 | J105: 50 | K105: 20 | L105: 0 | M105: -20 | N105: -50
A107: 임상 | B107: 규격재생산적용
A108: 침엽수림 | B108: 규격재 생산을 위한 조재 | C108: 미적용
A109: 10 | B109: 10 | C109: 0

Sheet 단가산출서(난대상록활엽수 B 3년차) 
A1: ha당 숲가꾸기 단가 산출서 | Q1: 선택항목 | R1: 입력항목
A2: 위 치 | B2: =설계내역서!C6 -> 서귀포시 남원읍 한남리 산 2-1 외 | G2: 수 종 | H2: 난대상록활엽수 | J2: 사업면적 | K2: =설계내역서!H13 -> 0 | M2: ha
A3: 구 분 | B3: 작업량 | D3: 단위품(인원,수량, | F3: 소요품 | G3: 단가 | J3: 할인,증률 | L3: 계 | R3: 구분 | S3: 조건 | T3: 사용도구 | U3: 단위 | V3: 인력구성 | W3: 소요인력
A4: 단위작업 | C4: 단위 | D4: 요율) | E4: 단위 | H4: 종류 | P4: 적용여부 | R4: 묘목찾기 | T4: 낫 | U4: 인/100본 | V4: 보통인부 | W4: 0.07
A5: ○ 선목 | D5: ○ 미래목 본수 | P5: 적용
A6: - 직접노무비 | C6: =IF(B5="","",IF(B5="미래목","ha","본/ha")) | D6: =IF(B5="제거대상목",S6,S7) -> 0 | E6: =IF(B5=R7,"인/ha","인/100본당") -> 인/ha | F6: =IF(P5="적용",IF(B5="미래목",1,ROUND(B6*D6/100,2)),0) -> 0 | H6: 초급기술자 | J6: =$C$78 -> 0 | K6: % | L6: =ROUNDDOWN((F6*G6)*(1+J6%),0) -> 0
A7: - 재료비
A8: * 페인트 | B8: =IF(B5="미래목",$E$5,$B$6) -> 0 | C8: 본/ha | D8: =IF(B5="제거대상목",U6,U7) -> 0 | E8: ℓ/100본당 | F8: =IF(P5="적용",ROUND(B8*(D8/100),2),0) -> 0 | H8: =IF(B5="제거대상목",T6,T7) -> 0 | L8: =ROUNDDOWN(F8*G8,0) -> 0
A9: * 잡품 | B9: =L8 -> 0 | C9: 원 | D9: 10 | E9: % | L9: =ROUNDDOWN(B9*D9%,0) -> 0
A10: ○ 경계표시 | P10: 적용
A11: - 직접노무비 | C11: ha | D11: 0.2 | E11: 인/ha | F11: =IF(P10="적용",ROUND(B11*D11,2),0) -> 0 | G11: =기초자료!B14 -> 172068 | H11: 보통인부 | J11: =$D$78 -> 0 | K11: % | L11: =ROUNDDOWN((F11*G11)*(1+J11%),0) -> 0
A12: - 재료비
A13: * 백색페인트 | C13: ha | D13: 0.2 | E13: ℓ/ha | F13: =IF(P10="적용",ROUND(B13*D13,2),0) -> 0 | G13: 7300 | H13: 백색페인트 | L13: =ROUNDDOWN(F13*G13,0) -> 0
A14: * 잡품 | B14: =L13 -> 0 | C14: 원 | D14: 5 | E14: % | L14: =ROUNDDOWN(B14*D14%,0) -> 0
A15: ○ 작업로 선정 | P15: 적용
A16: - 직접노무비 | C16: km | D16: 1 | E16: 인/km | F16: =IF(P15="적용",ROUND(B16*D16,2),0) -> 0 | G16: =기초자료!B14 -> 172068 | H16: 보통인부 | J16: =$E$78 -> 0 | K16: % | L16: =ROUNDDOWN((F16*G16)*(1+J16%),0) -> 0
A17: - 재료비
B18: =B16 -> 0 | C18: km | D18: =IF(A18=R16,S16,S17) -> 0 | E18: =IF(A18=R16,T16,T17) -> 0 | F18: =IF(P15="적용",ROUND(B18*D18,2),0) -> 0 | H18: =IF(A18=R16,U16,U17) -> 0 | L18: =ROUNDDOWN(F18*G18,0) -> 0
A19: * 잡품 | B19: =L18 -> 0 | C19: 원 | D19: =IF(ISERROR(VLOOKUP($A$18,$R$16:$V$17,5,FALSE)),0,VLOOKUP($A$18,$R$16:$V$17,5,FALSE))*100 -> 0 | E19: % | L19: =ROUNDDOWN(B19*D19%,0) -> 0
A20: ○ 작업로 설치 | P20: 적용
A21: - 직접노무비
A22: * 소작업로 | C22: km | D22: 2 | E22: 인/km | F22: =IF(P20="적용",ROUND(B22*D22,2),0) -> 0 | G22: =기초자료!B14 -> 172068 | H22: 보통인부 | J22: =$F$78 -> 0 | K22: % | L22: =ROUNDDOWN((F22*G22)*(1+J22%),0) -> 0
A23: - 재료비
A24: * 연료 | B24: =F22 -> 0 | C24: 인/ha | D24: =5.6/2 -> 2.8 | E24: ℓ/km | F24: =IF(P20="적용",ROUND(B24*D24,2),0) -> 0 | H24: 휘발유 | L24: =ROUNDDOWN(F24*G24,0) -> 0
A25: * 잡품 | B25: =L24 -> 0 | C25: 원 | D25: 95 | E25: % | L25: =ROUNDDOWN(B25*D25%,0) -> 0
A26: - 기계경비 | B26: =F22 -> 0 | C26: 인 | D26: 0.0042 | E26: 1대2인 | H26: 체인톱 | L26: =ROUNDDOWN(B26*D26*G26,0) -> 0
A27: ○ 풀베기 | B27: 모두베기 | D27: 조림 3년차 이상 | P27: 적용
A28: ○ 묘목찾기 | B28: =T4 -> 낫 | D28: (줄베기, 모두베기에만 적용) | P28: 적용
A29: - 직접노무비 | B29: =T41 -> 2500 | C29: 본/ha | D29: =W4 -> 0.07 | E29: 인/100본 | F29: =IF(P28="적용",ROUND(B29*D29/100,2),0) -> 1.75 | G29: =기초자료!B14 -> 172068 | H29: 보통인부 | J29: =$G$78 -> 10 | K29: % | L29: =ROUNDDOWN((F29*G29)*(1+J29%),0) -> 331230 | P29: ha당 식재본수
A30: ○ 맹아제거 | B30: =T29 -> 0 | D30: (둘레베기, 줄베기에만 적용) | P30: 적용 | R30: 둘레베기 | T30: 낫 | U30: 인/100본 | V30: 보통인부 | W30: 0.18
A31: - 직접노무비 | C31: 본/ha | D31: =W29 -> 0 | E31: 인/100본 | F31: =IF(P30="적용",ROUND(B31*D31/100,2),0) -> 0 | G31: =G29 -> 172068 | H31: 보통인부 | J31: =IF($G$64="",0,$G$64)+IF($G$69="",0,G$69) -> 10 | K31: % | L31: =ROUNDDOWN((F31*G31)*(1+J31%),0) -> 0 | R31: 줄베기 | T31: 예취기 | U31: 인/ha | V31: 특별인부 | W31: 1.3
A32: ○ 둘레베기 | B32: =T30 -> 낫 | R32: 모두베기 | S32: 조림 당해 연도 | T32: 예취기 | U32: 인/ha | V32: 특별인부 | W32: 3.5
A33: - 직접노무비 | C33: 본/ha | D33: 0.18 | E33: 인/100본 | F33: =IF((B27="둘레베기")*(P27="적용"),ROUND(B33*D33/100,2),0) -> 0 | G33: =G31 -> 172068 | H33: 보통인부 | J33: =$G$78 -> 10 | K33: % | L33: =ROUNDDOWN((F33*G33)*(1+J33%),0) -> 0 | R33: 모두베기 | S33: 조림 2년차 | T33: 예취기 | U33: 인/ha | V33: 특별인부 | W33: 4
A34: ○ 줄베기 | B34: =T31 -> 예취기 | R34: 모두베기 | S34: 조림 3년차 이상 | T34: 예취기 | U34: 인/ha | V34: 특별인부 | W34: 5
A35: - 직접노무비 | B35: 1 | C35: ha | D35: 1.3 | E35: 인/ha | F35: =IF((B27="줄베기")*(P27="적용"),ROUND(B35*D35,2),0) -> 0 | G35: =기초자료!B16 -> 226122 | H35: 특별인부 | J35: =$G$78 -> 10 | K35: % | L35: =ROUNDDOWN((F35*G35)*(1+J35%),0) -> 0
A36: - 재료비
A37: * 연료 | B37: =F35 -> 0 | C37: 인/ha | D37: 5 | E37: ℓ/일.대 | F37: =IF(P27="적용",ROUND(B37*D37,2),0) -> 0 | H37: 휘발유 | L37: =ROUNDDOWN(F37*G37,0) -> 0
A38: * 잡품 | B38: =L37 -> 0 | C38: 원 | D38: 10 | E38: % | L38: =ROUNDDOWN(B38*D38%,0) -> 0
A39: - 기계경비 | B39: =F35 -> 0 | C39: 대/ha | D39: 0.0084 | E39: 1대1인 | H39: 예초기 | L39: =ROUNDDOWN(B39*D39*G39,0) -> 0
A40: ○ 모두베기 | B40: =T32 -> 예취기 | C40: =IF($D$27="","","("&$D$27&")") -> (조림 3년차 이상) | P40: 3000 | Q40: 표준지크기(m2) | R40: 생존목(본) | S40: 1ha | T40: 묘목본수
A41: - 직접노무비 | B41: 1 | C41: ha | D41: =IF(D27=S32,W32,IF(D27=S33,W33,IF(D27=S34,W34,0))) -> 5 | E41: 인/ha | F41: =IF(($B$27="모두베기")*($P$27="적용"),ROUND(B41*D41,2),0) -> 5 | G41: =기초자료!B16 -> 226122 | H41: 특별인부 | J41: =$G$78 -> 10 | K41: % | L41: =ROUNDDOWN((F41*G41)*(1+J41%),0) -> 1243671 | P41: 활착율 | Q41: 200 | R41: =U45 -> 50 | S41: 10000 | T41: =R41*S41/Q41 -> 2500
A42: - 재료비 | P42: =T41/P40*100 -> 83.333333 | R42: 표준지1 | S42: 표준지2 | T42: 평균
A43: * 연료 | B43: =F41 -> 5 | C43: 인/ha | D43: 5 | E43: ℓ/인 | F43: =IF(P27="적용",ROUND(B43*D43,2),0) -> 25 | G43: =기초자료!B19 -> 1842 | H43: 휘발유 | L43: =ROUNDDOWN(F43*G43,0) -> 46050
A44: * 잡품 | B44: =L43 -> 46050 | C44: 원 | D44: 10 | E44: % | L44: =ROUNDDOWN(B44*D44%,0) -> 4605 | R44: 1표준지 | S44: 2표준지 | T44: 3표준지 | U44: 평균
A45: - 기계경비 | B45: =F41 -> 5 | C45: 인 | D45: 0.0084 | E45: 1대1인 | G45: =기초자료!B26 -> 610000 | H45: =기초자료!A26 -> 배낭식동력예취기 | L45: =ROUNDDOWN(B45*D45*G45,0) -> 25620 | Q45: 표준지당 | R45: 50 | S45: 60 | T45: 40 | U45: =AVERAGE(R45:T45) -> 50
A46: ◈ 합계 | L46: =SUM(L47:L49) -> 1651176 | Q46: 1ha당 | R46: =R45*50 -> 2500 | S46: =S45*50 -> 3000 | T46: =T45*50 -> 2000 | U46: =AVERAGE(R46:T46) -> 2500
A47: ○ 노무비 | L47: =L29+L41 -> 1574901 | Q47: 표준지 좌표
A48: ○ 재료비 | L48: =L43+L44 -> 50655
A49: ○ 경비(기계경비) | L49: =L45 -> 25620
A51: □ 참고사항(소반내 실시설계 표준지 조사결과의 평균이나 전수조사를 적용)
A52: ○ 작업량 산정
A53: - 작업로선정 : | B53: =IF(P15="적용",B16,0) -> 0 | C53: km
A54: - 작업로설치 : | B54: =IF(P20="적용",B22,0) -> 0 | C54: km
A55: - 솎아베기량 : | B55: =IF(#REF!="적용",#REF!,0) -> #REF! | C55: 본/ha | D55: =#REF! -> #REF!
A56: - 가지치기량 : | B56: =IF(#REF!="적용",(#REF!+#REF!+#REF!+#REF!+#REF!),0) -> #REF! | C56: 본/ha
A57: - 산물임내정리량 : | C57: (㎥/ha)
A58: - 산물수집면적 : | B58: =K2 -> 0 | C58: ha | D58: (미수집 구역은 ha당 사업비에서 산물수집 사업비를 제외)
A59: ○ 투입인력 산정
A60: - ha당 투입인력 : | B60: =N87 -> 6.75 | C60: 인
A61: ○ 할인,할증율 산정
A62: 구 분 | B62: 할인,할증 요소 | C62: 단위작업(%)
C63: 선목 | D63: 경계표시 | E63: 작업로선정 | F63: 작업로설치 | G63: 풀베기 | H63: 덩굴류제거 (덩굴걷기) | I63: 덩굴류제거 (약제작업) | J63: 덩굴류제거 (뿌리제거) | K63: 솎아베기 | L63: 어린나무 가꾸기 | M63: 가지치기 | N63: 산물 임내정리
A64: 경사도 | B64: 완(15도 이하) | C64: =IF(ISERROR(VLOOKUP($B64,$S$51:$T$104,2,FALSE)),"",(VLOOKUP($B64,$S$51:$T$104,2,FALSE))) | D64: =IF(ISERROR(VLOOKUP($B64,$S$51:$T$104,2,FALSE)),"",(VLOOKUP($B64,$S$51:$T$104,2,FALSE))) | E64: =IF(ISERROR(VLOOKUP($B64,$S$51:$T$104,2,FALSE)),"",(VLOOKUP($B64,$S$51:$T$104,2,FALSE))) | F64: =IF(ISERROR(VLOOKUP($B64,$S$51:$T$104,2,FALSE)),"",(VLOOKUP($B64,$S$51:$T$104,2,FALSE))) | G64: =IF(ISERROR(VLOOKUP($B64,$R$90:$S$152,2,FALSE)),"",(VLOOKUP($B64,$R$90:$S$152,2,FALSE))) -> 0 | H64: =IF(ISERROR(VLOOKUP($B64,$S$51:$T$104,2,FALSE)),"",(VLOOKUP($B64,$S$51:$T$104,2,FALSE))) | I64: =IF(ISERROR(VLOOKUP($B64,$S$51:$T$104,2,FALSE)),"",(VLOOKUP($B64,$S$51:$T$104,2,FALSE))) | J64: =IF(ISERROR(VLOOKUP($B64,$S$51:$T$104,2,FALSE)),"",(VLOOKUP($B64,$S$51:$T$104,2,FALSE))) | K64: =IF(ISERROR(VLOOKUP($B64,$S$51:$T$104,2,FALSE)),"",(VLOOKUP($B64,$S$51:$T$104,2,FALSE))) | L64: =IF(ISERROR(VLOOKUP($B64,$S$51:$T$104,2,FALSE)),"",(VLOOKUP($B64,$S$51:$T$104,2,FALSE))) | M64: =IF(ISERROR(VLOOKUP($B64,$S$51:$T$104,2,FALSE)),"",(VLOOKUP($B64,$S$51:$T$104,2,FALSE))) | N64: =IF(ISERROR(VLOOKUP($B64,$S$51:$T$104,2,FALSE)),"",(VLOOKUP($B64,$S$51:$T$104,2,FALSE)))
A65: 장애물의 정도 | C65: =IF(ISERROR(VLOOKUP($B65,$S$51:$T$104,2,FALSE)),"",(VLOOKUP($B65,$S$51:$T$104,2,FALSE))) -> 0 | E65: =IF(ISERROR(VLOOKUP($B65,$S$51:$T$104,2,FALSE)),"",(VLOOKUP($B65,$S$51:$T$104,2,FALSE))) -> 0 | K65: =IF(ISERROR(VLOOKUP($B65,$S$51:$T$104,2,FALSE)),"",(VLOOKUP($B65,$S$51:$T$104,2,FALSE))) -> 0 | M65: =IF(ISERROR(VLOOKUP($B65,$S$51:$T$104,2,FALSE)),"",(VLOOKUP($B65,$S$51:$T$104,2,FALSE))) -> 0
A66: 선목시기 | B66: 12월-2월 | C66: =IF(ISERROR(VLOOKUP($B66,$S$51:$T$104,2,FALSE)),"",(VLOOKUP($B66,$S$51:$T$104,2,FALSE))) | G66: =IF(B66=A94,A95,(IF(B66=B94,B95,(IF(B66=C94,C95))))) -> FALSE
A67: 제거대상식생(작업로설치) | B67: 보통이다(높이1.2m 이상이고,직경이 4-6cm 미만) | F67: =IF(ISERROR(VLOOKUP($B67,$S$51:$T$104,2,FALSE)),"",(VLOOKUP($B67,$S$51:$T$104,2,FALSE))) | G67: =IF(B67=A95,A96,(IF(B67=B95,B96,(IF(B67=C95,C96))))) -> FALSE
A68: 조림후경과년수(줄베기) | B68: 당해년도 | G68: =IF(B68=A96,A97,(IF(B68=B96,B97,(IF(B68=C96,C97))))) -> FALSE
A69: 집단화정도(풀베기) | B69: 개소당 평균면적이 3ha 미만 | G69: =IF(ISERROR(VLOOKUP($B69,$R$90:$S$152,2,FALSE)),"",(VLOOKUP($B69,$R$90:$S$152,2,FALSE))) -> 10
A70: 집단화정도 | B70: 개소당 평균면적이 3ha 이상 | G70: =IF(B70=A98,A99,(IF(B70=B98,B99,(IF(B70=C98,C99))))) -> FALSE | H70: =IF(ISERROR(VLOOKUP($B70,$S$51:$T$104,2,FALSE)),"",(VLOOKUP($B70,$S$51:$T$104,2,FALSE))) | I70: =IF(ISERROR(VLOOKUP($B70,$S$51:$T$104,2,FALSE)),"",(VLOOKUP($B70,$S$51:$T$104,2,FALSE))) | J70: =IF(ISERROR(VLOOKUP($B70,$S$51:$T$104,2,FALSE)),"",(VLOOKUP($B70,$S$51:$T$104,2,FALSE))) | L70: =IF(ISERROR(VLOOKUP($B70,$S$51:$T$104,2,FALSE)),"",(VLOOKUP($B70,$S$51:$T$104,2,FALSE)))
A71: 작업시기(덩굴류) | B71: 1∼5월 | G71: =IF(B71=A99,A100,(IF(B71=B99,B100,(IF(B71=C99,C100))))) -> FALSE | H71: =IF(ISERROR(VLOOKUP($B71,$S$51:$T$107,2,FALSE)),"",(VLOOKUP($B71,$S$51:$T$107,2,FALSE))) | I71: =IF(ISERROR(VLOOKUP($B71,$S$51:$T$107,2,FALSE)),"",(VLOOKUP($B71,$S$51:$T$107,2,FALSE))) | J71: =IF(ISERROR(VLOOKUP($B71,$S$51:$T$107,2,FALSE)),"",(VLOOKUP($B71,$S$51:$T$107,2,FALSE)))
A72: 덩굴피복도 | B72: 보통(40∼60% 피복) | G72: =IF(B72=A100,A101,(IF(B72=B100,B101,(IF(B72=C100,C101))))) -> FALSE | H72: =IF(ISERROR(VLOOKUP($B72,$S$51:$T$110,2,FALSE)),"",(VLOOKUP($B72,$S$51:$T$110,2,FALSE))) | I72: =IF(ISERROR(VLOOKUP($B72,$S$51:$T$110,2,FALSE)),"",(VLOOKUP($B72,$S$51:$T$110,2,FALSE)))
A73: 하층식생(덩굴류) | J73: =IF(ISERROR(VLOOKUP($B73,$S$51:$T$107,2,FALSE)),"",(VLOOKUP($B73,$S$51:$T$107,2,FALSE))) -> 0
A74: 토양조건(덩굴류) | B74: 장애물이 거의 없음 | J74: =IF(ISERROR(VLOOKUP($B74,$S$51:$T$113,2,FALSE)),"",(VLOOKUP($B74,$S$51:$T$113,2,FALSE)))
A75: 작업시기(어린나무가꾸기) | B75: 1∼5월, 10월~12월 | L75: =IF(ISERROR(VLOOKUP($B75,$S$51:$T$110,2,FALSE)),"",(VLOOKUP($B75,$S$51:$T$110,2,FALSE)))
A76: 제거대상피복도 | B76: 중 (임지의 41%∼70% 분포) | L76: =IF(ISERROR(VLOOKUP($B76,$S$51:$T$104,2,FALSE)),"",(VLOOKUP($B76,$S$51:$T$104,2,FALSE)))
A77: 규격재생산여부 | B77: 미적용 | K77: =IF(ISERROR(VLOOKUP($B77,$S$51:$T$104,2,FALSE)),"",(VLOOKUP($B77,$S$51:$T$104,2,FALSE)))
A78: 합계 | C78: =SUM(C64:C77) -> 0 | D78: =SUM(D64:D77) -> 0 | E78: =SUM(E64:E77) -> 0 | F78: =SUM(F64:F77) -> 0 | G78: =SUM(G64:G77) -> 10 | H78: =SUM(H64:H77) -> 0 | I78: =SUM(I64:I77) -> 0 | J78: =SUM(J64:J77) -> 0 | ... N78: =SUM(N64:N77) -> 0
A82: ○ 작업원 소요량 산출 : | B82: =N87 -> 6.75 | C82: 명
A83: 작업단위 | B83: 선목 | C83: 경계표시 | D83: 작업로 선정 | E83: 작업로 설치 | F83: 풀베기 | G83: =H63 -> 덩굴류제거 (덩굴걷기) | H83: =I63 -> 덩굴류제거 (약제작업) | I83: =J63 -> 덩굴류제거 (뿌리제거) | J83: =K63 -> 솎아베기 | K83: =L63 -> 어린나무 가꾸기 | L83: =M63 -> 가지치기 | M83: 산물임내정리 | N83: 계
A84: 초급기술자 | B84: =ROUND(F6*1,2) -> 0 | N84: =SUM(B84:M84) -> 0
A85: 보통인부 | C85: =ROUND(F11*1,2) -> 0 | D85: =ROUND(F16*1,2) -> 0 | E85: =ROUND(F22*1,2) -> 0 | F85: =ROUND(F29*1+F31*1+F33*1,2) -> 1.75 | N85: =SUM(B85:M85) -> 1.75
A86: 특별인부 | F86: =F35*1+F41*1 -> 5 | N86: =SUM(B86:M86) -> 5
A87: 계 | B87: =SUM(B84:B86) -> 0 | C87: =SUM(C84:C86) -> 0 | D87: =SUM(D84:D86) -> 0 | E87: =SUM(E84:E86) -> 0 | F87: =SUM(F84:F86) -> 6.75 | G87: =SUM(G84:G86) -> 0 | I87: =SUM(I84:I86) -> 0 | J87: =SUM(J84:J86) -> 0 | K87: =SUM(K84:K86) -> 0 | M87: =SUM(M84:M86) -> 0 | N87: =SUM(B87:M87) -> 6.75
Q89: 숲가꾸기 할인할증요소 선택 기준(참고)
A90: 숲가꾸기 할인할증요소 선택 기준(참고) | Q90: 할인할증요소 | R90: 요소분류 | S90: 할인할증율
A91: 할인할증요소 | B91: 요소분류 | C91: 할인할증률 | D91: 요소분류 | F91: 요소분류 | H91: 할인할증률 | J91: 할인할증율 | L91: 요소분류 | N91: 할인할증률 | Q91: 경사도 | R91: 완(15도 이하) | S91: 0
A92: 경사도 | D92: 장애물의 정도 | J92: 선목시기 | R92: 중(15-30도이하) | S92: 5
A93: 완(15도 이하) | B93: 중(15-30도이하) | C93: 급(30도 초과) | D93: 무릎높이 이하 초본ㆍ관목 | F93: 가슴높이 미만 초본ㆍ관목 | H93: 가슴높이 이상 초본ㆍ관목 | J93: 10월-11월, 3월-4월 | L93: 12월-2월 | N93: 5월-9월 | R93: 급(30도 초과) | S93: 10
A94: 0 | B94: 5 | C94: 10 | D94: -10 | E94: 0 | F94: 0 | H94: 10 | J94: -10 | K94: 0 | L94: 0 | N94: 10 | Q94: 장애물의 정도 | R94: 무릎높이 이하 초본ㆍ관목 | S94: -10
R95: 가슴높이 미만 초본ㆍ관목 | S95: 0
A96: 조림후 경과년수(줄베기) | D96: 제거대상식생 | J96: 제거대상피복도 | R96: 가슴높이 이상 초본ㆍ관목 | S96: 10
A97: 당해년도 | B97: 2년차 | C97: 3년차 | D97: 쉽다(높이1.2m 미만이고, 낫으로도 제거가 용이) | F97: 쉽다(높이1.2m 미만이고, 낫으로도 제거가 용이) | H97: 어렵다(높이1.2m 이상이고, 직경이 4-6cm 이상) | J97: 소 (임지의 40% 이하 분포) | L97: 중 (임지의 41%∼70% 분포) | N97: 밀 (임지의 71% 이상 분포)) | Q97: 선목시기 | R97: 10월-11월, 3월-4월 | S97: -10
A98: 0 | B98: 2 | C98: 10 | D98: -10 | E98: 0 | F98: 0 | H98: 10 | J98: -20 | K98: 0 | L98: 0 | N98: 20 | R98: 12월-2월 | S98: 0
R99: 5월-9월 | S99: 10
A100: 집단화정도(풀베기) | D100: 집단화정도 | J100: 작업시기(어린) | M100: 작업시기(덩굴류) | Q100: 제거대상식생 | R100: 쉽다(높이1.2m 미만이고, 낫으로도 제거가 용이) | S100: -10
A101: 개소당 평균면적이 5ha 이상 | B101: 개소당 평균면적이 3-5ha 미만 | C101: 개소당 평균면적이 3ha 미만 | D101: 개소당 평균면적이 3ha 이상 | F101: 개소당 평균면적이 1-3ha 미만 | H101: 개소당 평균면적이 1ha 미만 | J101: 1∼5월, 10월~12월 | L101: 6월∼9월 | M101: 1∼5월 | N101: 6월∼9월 | R101: 보통이다(높이1.2m 이상이고,직경이 4-6cm 미만) | S101: 0
A102: 0 | B102: 5 | C102: 10 | D102: 0 | E102: 0 | F102: 5 | H102: 10 | J102: 0 | K102: 0 | L102: 10 | M102: 0 | N102: 10 | R102: 어렵다(높이1.2m 이상이고, 직경이 4-6cm 이상) | S102: 10
Q103: 조림후 경과년수 (줄베기) | R103: 당해년도 | S103: 0
A104: 토양조건 | D104: 하층식생 | J104: 덩굴 피복도 | R104: 2년차 | S104: 5
A105: 장애물이 거의 없음 | B105: 돌 등 장애물 함량이 10∼30%인 지역 | C105: 돌 등 장애물 함량이 30% 이상인 지역 | D105: 보행이 용이하다 | F105: 보행하는데 약간의 어려움이 있다 | H105: 식생을 제거하지 않고 보행이 곤란하다 | J105: 과밀(80%이상 피복) | K105: 밀(60∼80% 피복) | L105: 보통(40∼60% 피복) | M105: 소(20∼40% 피복) | N105: 과소(20%이하피복) | R105: 3년차 | S105: 10
...

Sheet 단가산출서(난대상록활엽수 1년차)
A1: ha당 숲가꾸기 단가 산출서 | Q1: 선택항목 | R1: 입력항목
A2: 위 치 | B2: =설계내역서!C6 -> 서귀포시 남원읍 한남리 산 2-1 외 | G2: 수 종 | H2: 난대상록활엽수 | J2: 사업면적 | K2: =설계내역서!H16 -> 0 | M2: ha
A3: 구 분 | B3: 작업량 | D3: 단위품(인원,수량, | F3: 소요품 | G3: 단가 | J3: 할인,증률 | L3: 계 | R3: 구분 | S3: 조건 | T3: 사용도구 | U3: 단위 | V3: 인력구성 | W3: 소요인력
A4: 단위작업 | C4: 단위 | D4: 요율) | E4: 단위 | H4: 종류 | P4: 적용여부 | R4: 묘목찾기 | T4: 낫 | U4: 인/100본 | V4: 보통인부 | W4: 0.07
A5: ○ 선목 | D5: ○ 미래목 본수 | P5: 적용
A6: - 직접노무비 | C6: =IF(B5="","",IF(B5="미래목","ha","본/ha")) | D6: =IF(B5="제거대상목",S6,S7) -> 0 | E6: =IF(B5=R7,"인/ha","인/100본당") -> 인/ha | F6: =IF(P5="적용",IF(B5="미래목",1,ROUND(B6*D6/100,2)),0) -> 0 | H6: 초급기술자 | J6: =$C$78 -> 0 | K6: % | L6: =ROUNDDOWN((F6*G6)*(1+J6%),0) -> 0
A7: - 재료비
A8: * 페인트 | B8: =IF(B5="미래목",$E$5,$B$6) -> 0 | C8: 본/ha | D8: =IF(B5="제거대상목",U6,U7) -> 0 | E8: ℓ/100본당 | F8: =IF(P5="적용",ROUND(B8*(D8/100),2),0) -> 0 | H8: =IF(B5="제거대상목",T6,T7) -> 0 | L8: =ROUNDDOWN(F8*G8,0) -> 0
A9: * 잡품 | B9: =L8 -> 0 | C9: 원 | D9: 10 | E9: % | L9: =ROUNDDOWN(B9*D9%,0) -> 0
A10: ○ 경계표시 | P10: 적용
A11: - 직접노무비 | C11: ha | D11: 0.2 | E11: 인/ha | F11: =IF(P10="적용",ROUND(B11*D11,2),0) -> 0 | G11: =기초자료!B14 -> 172068 | H11: 보통인부 | J11: =$D$78 -> 0 | K11: % | L11: =ROUNDDOWN((F11*G11)*(1+J11%),0) -> 0
A12: - 재료비
A13: * 백색페인트 | C13: ha | D13: 0.2 | E13: ℓ/ha | F13: =IF(P10="적용",ROUND(B13*D13,2),0) -> 0 | G13: 7300 | H13: 백색페인트 | L13: =ROUNDDOWN(F13*G13,0) -> 0
A14: * 잡품 | B14: =L13 -> 0 | C14: 원 | D14: 5 | E14: % | L14: =ROUNDDOWN(B14*D14%,0) -> 0
A15: ○ 작업로 선정 | P15: 적용
A16: - 직접노무비 | C16: km | D16: 1 | E16: 인/km | F16: =IF(P15="적용",ROUND(B16*D16,2),0) -> 0 | G16: =기초자료!B14 -> 172068 | H16: 보통인부 | J16: =$E$78 -> 0 | K16: % | L16: =ROUNDDOWN((F16*G16)*(1+J16%),0) -> 0
A17: - 재료비
B18: =B16 -> 0 | C18: km | D18: =IF(A18=R16,S16,S17) -> 0 | E18: =IF(A18=R16,T16,T17) -> 0 | F18: =IF(P15="적용",ROUND(B18*D18,2),0) -> 0 | H18: =IF(A18=R16,U16,U17) -> 0 | L18: =ROUNDDOWN(F18*G18,0) -> 0
A19: * 잡품 | B19: =L18 -> 0 | C19: 원 | D19: =IF(ISERROR(VLOOKUP($A$18,$R$16:$V$17,5,FALSE)),0,VLOOKUP($A$18,$R$16:$V$17,5,FALSE))*100 -> 0 | E19: % | L19: =ROUNDDOWN(B19*D19%,0) -> 0
A20: ○ 작업로 설치 | P20: 적용
A21: - 직접노무비
A22: * 소작업로 | C22: km | D22: 2 | E22: 인/km | F22: =IF(P20="적용",ROUND(B22*D22,2),0) -> 0 | G22: =기초자료!B14 -> 172068 | H22: 보통인부 | J22: =$F$78 -> 0 | K22: % | L22: =ROUNDDOWN((F22*G22)*(1+J22%),0) -> 0
A23: - 재료비
A24: * 연료 | B24: =F22 -> 0 | C24: 인/ha | D24: =5.6/2 -> 2.8 | E24: ℓ/km | F24: =IF(P20="적용",ROUND(B24*D24,2),0) -> 0 | H24: 휘발유 | L24: =ROUNDDOWN(F24*G24,0) -> 0
A25: * 잡품 | B25: =L24 -> 0 | C25: 원 | D25: 95 | E25: % | L25: =ROUNDDOWN(B25*D25%,0) -> 0
A26: - 기계경비 | B26: =F22 -> 0 | C26: 인 | D26: 0.0042 | E26: 1대2인 | H26: 체인톱 | L26: =ROUNDDOWN(B26*D26*G26,0) -> 0
A27: ○ 풀베기 | B27: 모두베기 | D27: 조림 당해 연도 | P27: 적용
A28: ○ 묘목찾기 | B28: =T4 -> 낫 | D28: (줄베기, 모두베기에만 적용) | P28: 적용
A29: - 직접노무비 | B29: =T41 -> 2916.6667 | C29: 본/ha | D29: =W4 -> 0.07 | E29: 인/100본 | F29: =IF(P28="적용",ROUND(B29*D29/100,2),0) -> 2.04 | G29: =기초자료!B14 -> 172068 | H29: 보통인부 | J29: =$G$78 -> 0 | K29: % | L29: =ROUNDDOWN((F29*G29)*(1+J29%),0) -> 351018 | P29: ha당 식재본수
A30: ○ 맹아제거 | B30: =T29 -> 0 | D30: (둘레베기, 줄베기에만 적용) | P30: 적용 | R30: 둘레베기 | T30: 낫 | U30: 인/100본 | V30: 보통인부 | W30: 0.18
A31: - 직접노무비 | C31: 본/ha | D31: =W29 -> 0 | E31: 인/100본 | F31: =IF(P30="적용",ROUND(B31*D31/100,2),0) -> 0 | G31: =G29 -> 172068 | H31: 보통인부 | J31: =IF($G$64="",0,$G$64)+IF($G$69="",0,G$69) -> 0 | K31: % | L31: =ROUNDDOWN((F31*G31)*(1+J31%),0) -> 0 | R31: 줄베기 | T31: 예취기 | U31: 인/ha | V31: 특별인부 | W31: 1.3
A32: ○ 둘레베기 | B32: =T30 -> 낫 | R32: 모두베기 | S32: 조림 당해 연도 | T32: 예취기 | U32: 인/ha | V32: 특별인부 | W32: 3.5
A33: - 직접노무비 | C33: 본/ha | D33: 0.18 | E33: 인/100본 | F33: =IF((B27="둘레베기")*(P27="적용"),ROUND(B33*D33/100,2),0) -> 0 | G33: =G31 -> 172068 | H33: 보통인부 | J33: =$G$78 -> 0 | K33: % | L33: =ROUNDDOWN((F33*G33)*(1+J33%),0) -> 0 | R33: 모두베기 | S33: 조림 2년차 | T33: 예취기 | U33: 인/ha | V33: 특별인부 | W33: 4
A34: ○ 줄베기 | B34: =T31 -> 예취기 | R34: 모두베기 | S34: 조림 3년차 이상 | T34: 예취기 | U34: 인/ha | V34: 특별인부 | W34: 5
A35: - 직접노무비 | B35: 1 | C35: ha | D35: 1.3 | E35: 인/ha | F35: =IF((B27="줄베기")*(P27="적용"),ROUND(B35*D35,2),0) -> 0 | G35: =기초자료!B16 -> 226122 | H35: 특별인부 | J35: =$G$78 -> 0 | K35: % | L35: =ROUNDDOWN((F35*G35)*(1+J35%),0) -> 0
A36: - 재료비
A37: * 연료 | B37: =F35 -> 0 | C37: 인/ha | D37: 5 | E37: ℓ/일.대 | F37: =IF(P27="적용",ROUND(B37*D37,2),0) -> 0 | H37: 휘발유 | L37: =ROUNDDOWN(F37*G37,0) -> 0
A38: * 잡품 | B38: =L37 -> 0 | C38: 원 | D38: 10 | E38: % | L38: =ROUNDDOWN(B38*D38%,0) -> 0
A39: - 기계경비 | B39: =F35 -> 0 | C39: 대/ha | D39: 0.0084 | E39: 1대1인 | H39: 예초기 | L39: =ROUNDDOWN(B39*D39*G39,0) -> 0
A40: ○ 모두베기 | B40: =T32 -> 예취기 | C40: =IF($D$27="","","("&$D$27&")") -> (조림 당해 연도) | P40: 3000 | Q40: 표준지크기(m2) | R40: 생존목(본) | S40: 1ha | T40: 묘목본수
A41: - 직접노무비 | B41: 1 | C41: ha | D41: =IF(D27=S32,W32,IF(D27=S33,W33,IF(D27=S34,W34,0))) -> 3.5 | E41: 인/ha | F41: =IF(($B$27="모두베기")*($P$27="적용"),ROUND(B41*D41,2),0) -> 3.5 | G41: =기초자료!B16 -> 226122 | H41: 특별인부 | J41: =$G$78 -> 0 | K41: % | L41: =ROUNDDOWN((F41*G41)*(1+J41%),0) -> 791427 | P41: 활착율 | Q41: 200 | R41: =U45 -> 58.333333 | S41: 10000 | T41: =R41*S41/Q41 -> 2916.6667
A42: - 재료비 | P42: =T41/P40*100 -> 97.222222 | R42: 표준지1 | S42: 표준지2 | T42: 평균
A43: * 연료 | B43: =F41 -> 3.5 | C43: 인/ha | D43: 5 | E43: ℓ/인 | F43: =IF(P27="적용",ROUND(B43*D43,2),0) -> 17.5 | G43: =기초자료!B19 -> 1842 | H43: 휘발유 | L43: =ROUNDDOWN(F43*G43,0) -> 32235
A44: * 잡품 | B44: =L43 -> 32235 | C44: 원 | D44: 10 | E44: % | L44: =ROUNDDOWN(B44*D44%,0) -> 3223 | R44: 1표준지 | S44: 2표준지 | T44: 3표준지 | U44: 평균
A45: - 기계경비 | B45: =F41 -> 3.5 | C45: 인 | D45: 0.0084 | E45: 1대1인 | G45: =기초자료!B26 -> 610000 | H45: =기초자료!A26 -> 배낭식동력예취기 | L45: =ROUNDDOWN(B45*D45*G45,0) -> 17934 | Q45: 표준지당 | R45: 58 | S45: 60 | T45: 57 | U45: =AVERAGE(R45:T45) -> 58.333333
A46: ◈ 합계 | L46: =SUM(L47:L49) -> 1195837 | Q46: 1ha당 | R46: =R45*50 -> 2900 | S46: =S45*50 -> 3000 | T46: =T45*50 -> 2850 | U46: =AVERAGE(R46:T46) -> 2916.6667
A47: ○ 노무비 | L47: =L29+L41 -> 1142445 | Q47: 표준지 좌표
A48: ○ 재료비 | L48: =L43+L44 -> 35458
A49: ○ 경비(기계경비) | L49: =L45 -> 17934
A51: □ 참고사항(소반내 실시설계 표준지 조사결과의 평균이나 전수조사를 적용)
A52: ○ 작업량 산정
A53: - 작업로선정 : | B53: =IF(P15="적용",B16,0) -> 0 | C53: km
A54: - 작업로설치 : | B54: =IF(P20="적용",B22,0) -> 0 | C54: km
A55: - 솎아베기량 : | B55: =IF(#REF!="적용",#REF!,0) -> #REF! | C55: 본/ha | D55: =#REF! -> #REF!
A56: - 가지치기량 : | B56: =IF(#REF!="적용",(#REF!+#REF!+#REF!+#REF!+#REF!),0) -> #REF! | C56: 본/ha
A57: - 산물임내정리량 : | C57: (㎥/ha)
A58: - 산물수집면적 : | B58: =K2 -> 0 | C58: ha | D58: (미수집 구역은 ha당 사업비에서 산물수집 사업비를 제외)
A59: ○ 투입인력 산정
A60: - ha당 투입인력 : | B60: =N87 -> 5.54 | C60: 인
A61: ○ 할인,할증율 산정
A62: 구 분 | B62: 할인,할증 요소 | C62: 단위작업(%)
C63: 선목 | D63: 경계표시 | E63: 작업로선정 | F63: 작업로설치 | G63: 풀베기 | H63: 덩굴류제거 (덩굴걷기) | I63: 덩굴류제거 (약제작업) | J63: 덩굴류제거 (뿌리제거) | K63: 솎아베기 | L63: 어린나무 가꾸기 | M63: 가지치기 | N63: 산물 임내정리
A64: 경사도 | B64: 완(15도 이하) | C64: =IF(ISERROR(VLOOKUP($B64,$S$51:$T$104,2,FALSE)),"",(VLOOKUP($B64,$S$51:$T$104,2,FALSE))) | D64: =IF(ISERROR(VLOOKUP($B64,$S$51:$T$104,2,FALSE)),"",(VLOOKUP($B64,$S$51:$T$104,2,FALSE))) | E64: =IF(ISERROR(VLOOKUP($B64,$S$51:$T$104,2,FALSE)),"",(VLOOKUP($B64,$S$51:$T$104,2,FALSE))) | F64: =IF(ISERROR(VLOOKUP($B64,$S$51:$T$104,2,FALSE)),"",(VLOOKUP($B64,$S$51:$T$104,2,FALSE))) | G64: =IF(ISERROR(VLOOKUP($B64,$R$90:$S$152,2,FALSE)),"",(VLOOKUP($B64,$R$90:$S$152,2,FALSE))) -> 0 | H64: =IF(ISERROR(VLOOKUP($B64,$S$51:$T$104,2,FALSE)),"",(VLOOKUP($B64,$S$51:$T$104,2,FALSE))) | I64: =IF(ISERROR(VLOOKUP($B64,$S$51:$T$104,2,FALSE)),"",(VLOOKUP($B64,$S$51:$T$104,2,FALSE))) | J64: =IF(ISERROR(VLOOKUP($B64,$S$51:$T$104,2,FALSE)),"",(VLOOKUP($B64,$S$51:$T$104,2,FALSE))) | K64: =IF(ISERROR(VLOOKUP($B64,$S$51:$T$104,2,FALSE)),"",(VLOOKUP($B64,$S$51:$T$104,2,FALSE))) | L64: =IF(ISERROR(VLOOKUP($B64,$S$51:$T$104,2,FALSE)),"",(VLOOKUP($B64,$S$51:$T$104,2,FALSE))) | M64: =IF(ISERROR(VLOOKUP($B64,$S$51:$T$104,2,FALSE)),"",(VLOOKUP($B64,$S$51:$T$104,2,FALSE))) | N64: =IF(ISERROR(VLOOKUP($B64,$S$51:$T$104,2,FALSE)),"",(VLOOKUP($B64,$S$51:$T$104,2,FALSE)))
A65: 장애물의 정도 | C65: =IF(ISERROR(VLOOKUP($B65,$S$51:$T$104,2,FALSE)),"",(VLOOKUP($B65,$S$51:$T$104,2,FALSE))) -> 0 | E65: =IF(ISERROR(VLOOKUP($B65,$S$51:$T$104,2,FALSE)),"",(VLOOKUP($B65,$S$51:$T$104,2,FALSE))) -> 0 | K65: =IF(ISERROR(VLOOKUP($B65,$S$51:$T$104,2,FALSE)),"",(VLOOKUP($B65,$S$51:$T$104,2,FALSE))) -> 0 | M65: =IF(ISERROR(VLOOKUP($B65,$S$51:$T$104,2,FALSE)),"",(VLOOKUP($B65,$S$51:$T$104,2,FALSE))) -> 0
A66: 선목시기 | B66: 12월-2월 | C66: =IF(ISERROR(VLOOKUP($B66,$S$51:$T$104,2,FALSE)),"",(VLOOKUP($B66,$S$51:$T$104,2,FALSE))) | G66: =IF(B66=A94,A95,(IF(B66=B94,B95,(IF(B66=C94,C95))))) -> FALSE
A67: 제거대상식생(작업로설치) | B67: 보통이다(높이1.2m 이상이고,직경이 4-6cm 미만) | F67: =IF(ISERROR(VLOOKUP($B67,$S$51:$T$104,2,FALSE)),"",(VLOOKUP($B67,$S$51:$T$104,2,FALSE))) | G67: =IF(B67=A95,A96,(IF(B67=B95,B96,(IF(B67=C95,C96))))) -> FALSE
A68: 조림후경과년수(줄베기) | B68: 당해년도 | G68: =IF(B68=A96,A97,(IF(B68=B96,B97,(IF(B68=C96,C97))))) -> FALSE
A69: 집단화정도(풀베기) | B69: 미적용 | G69: =IF(ISERROR(VLOOKUP($B69,$R$90:$S$152,2,FALSE)),"",(VLOOKUP($B69,$R$90:$S$152,2,FALSE))) -> 0
A70: 집단화정도 | B70: 개소당 평균면적이 3ha 이상 | G70: =IF(B70=A98,A99,(IF(B70=B98,B99,(IF(B70=C98,C99))))) -> FALSE | H70: =IF(ISERROR(VLOOKUP($B70,$S$51:$T$104,2,FALSE)),"",(VLOOKUP($B70,$S$51:$T$104,2,FALSE))) | I70: =IF(ISERROR(VLOOKUP($B70,$S$51:$T$104,2,FALSE)),"",(VLOOKUP($B70,$S$51:$T$104,2,FALSE))) | J70: =IF(ISERROR(VLOOKUP($B70,$S$51:$T$104,2,FALSE)),"",(VLOOKUP($B70,$S$51:$T$104,2,FALSE))) | L70: =IF(ISERROR(VLOOKUP($B70,$S$51:$T$104,2,FALSE)),"",(VLOOKUP($B70,$S$51:$T$104,2,FALSE)))
A71: 작업시기(덩굴류) | B71: 1∼5월 | G71: =IF(B71=A99,A100,(IF(B71=B99,B100,(IF(B71=C99,C100))))) -> FALSE | H71: =IF(ISERROR(VLOOKUP($B71,$S$51:$T$107,2,FALSE)),"",(VLOOKUP($B71,$S$51:$T$107,2,FALSE))) | I71: =IF(ISERROR(VLOOKUP($B71,$S$51:$T$107,2,FALSE)),"",(VLOOKUP($B71,$S$51:$T$107,2,FALSE))) | J71: =IF(ISERROR(VLOOKUP($B71,$S$51:$T$107,2,FALSE)),"",(VLOOKUP($B71,$S$51:$T$107,2,FALSE)))
A72: 덩굴피복도 | B72: 보통(40∼60% 피복) | G72: =IF(B72=A100,A101,(IF(B72=B100,B101,(IF(B72=C100,C101))))) -> FALSE | H72: =IF(ISERROR(VLOOKUP($B72,$S$51:$T$110,2,FALSE)),"",(VLOOKUP($B72,$S$51:$T$110,2,FALSE))) | I72: =IF(ISERROR(VLOOKUP($B72,$S$51:$T$110,2,FALSE)),"",(VLOOKUP($B72,$S$51:$T$110,2,FALSE)))
A73: 하층식생(덩굴류) | J73: =IF(ISERROR(VLOOKUP($B73,$S$51:$T$107,2,FALSE)),"",(VLOOKUP($B73,$S$51:$T$107,2,FALSE))) -> 0
A74: 토양조건(덩굴류) | B74: 장애물이 거의 없음 | J74: =IF(ISERROR(VLOOKUP($B74,$S$51:$T$113,2,FALSE)),"",(VLOOKUP($B74,$S$51:$T$113,2,FALSE)))
A75: 작업시기(어린나무가꾸기) | B75: 1∼5월, 10월~12월 | L75: =IF(ISERROR(VLOOKUP($B75,$S$51:$T$110,2,FALSE)),"",(VLOOKUP($B75,$S$51:$T$110,2,FALSE)))
A76: 제거대상피복도 | B76: 중 (임지의 41%∼70% 분포) | L76: =IF(ISERROR(VLOOKUP($B76,$S$51:$T$104,2,FALSE)),"",(VLOOKUP($B76,$S$51:$T$104,2,FALSE)))
A77: 규격재생산여부 | B77: 미적용 | K77: =IF(ISERROR(VLOOKUP($B77,$S$51:$T$104,2,FALSE)),"",(VLOOKUP($B77,$S$51:$T$104,2,FALSE)))
A78: 합계 | C78: =SUM(C64:C77) -> 0 | D78: =SUM(D64:D77) -> 0 | E78: =SUM(E64:E77) -> 0 | F78: =SUM(F64:F77) -> 0 | G78: =SUM(G64:G77) -> 0 | H78: =SUM(H64:H77) -> 0 | I78: =SUM(I64:I77) -> 0 | J78: =SUM(J64:J77) -> 0 | ... N78: =SUM(N64:N77) -> 0
A82: ○ 작업원 소요량 산출 : | B82: =N87 -> 5.54 | C82: 명
A83: 작업단위 | B83: 선목 | C83: 경계표시 | D83: 작업로 선정 | E83: 작업로 설치 | F83: 풀베기 | G83: =H63 -> 덩굴류제거 (덩굴걷기) | H83: =I63 -> 덩굴류제거 (약제작업) | I83: =J63 -> 덩굴류제거 (뿌리제거) | J83: =K63 -> 솎아베기 | K83: =L63 -> 어린나무 가꾸기 | L83: =M63 -> 가지치기 | M83: 산물임내정리 | N83: 계
A84: 초급기술자 | B84: =ROUND(F6*1,2) -> 0 | N84: =SUM(B84:M84) -> 0
A85: 보통인부 | C85: =ROUND(F11*1,2) -> 0 | D85: =ROUND(F16*1,2) -> 0 | E85: =ROUND(F22*1,2) -> 0 | F85: =ROUND(F29*1+F31*1+F33*1,2) -> 2.04 | N85: =SUM(B85:M85) -> 2.04
A86: 특별인부 | F86: =F35*1+F41*1 -> 3.5 | N86: =SUM(B86:M86) -> 3.5
A87: 계 | B87: =SUM(B84:B86) -> 0 | C87: =SUM(C84:C86) -> 0 | D87: =SUM(D84:D86) -> 0 | E87: =SUM(E84:E86) -> 0 | F87: =SUM(F84:F86) -> 5.54 | G87: =SUM(G84:G86) -> 0 | I87: =SUM(I84:I86) -> 0 | J87: =SUM(J84:J86) -> 0 | K87: =SUM(K84:K86) -> 0 | M87: =SUM(M84:M86) -> 0 | N87: =SUM(B87:M87) -> 5.54
Q89: 숲가꾸기 할인할증요소 선택 기준(참고)
A90: 숲가꾸기 할인할증요소 선택 기준(참고) | Q90: 할인할증요소 | R90: 요소분류 | S90: 할인할증율
A91: 할인할증요소 | B91: 요소분류 | C91: 할인할증률 | D91: 요소분류 | F91: 요소분류 | H91: 할인할증률 | J91: 할인할증율 | L91: 요소분류 | N91: 할인할증률 | Q91: 경사도 | R91: 완(15도 이하) | S91: 0
A92: 경사도 | D92: 장애물의 정도 | J92: 선목시기 | R92: 중(15-30도이하) | S92: 5
A93: 완(15도 이하) | B93: 중(15-30도이하) | C93: 급(30도 초과) | D93: 무릎높이 이하 초본ㆍ관목 | F93: 가슴높이 미만 초본ㆍ관목 | H93: 가슴높이 이상 초본ㆍ관목 | J93: 10월-11월, 3월-4월 | L93: 12월-2월 | N93: 5월-9월 | R93: 급(30도 초과) | S93: 10
A94: 0 | B94: 5 | C94: 10 | D94: -10 | E94: 0 | F94: 0 | H94: 10 | J94: -10 | K94: 0 | L94: 0 | N94: 10 | Q94: 장애물의 정도 | R94: 무릎높이 이하 초본ㆍ관목 | S94: -10
R95: 가슴높이 미만 초본ㆍ관목 | S95: 0
A96: 조림후 경과년수(줄베기) | D96: 제거대상식생 | J96: 제거대상피복도 | R96: 가슴높이 이상 초본ㆍ관목 | S96: 10
A97: 당해년도 | B97: 2년차 | C97: 3년차 | D97: 쉽다(높이1.2m 미만이고, 낫으로도 제거가 용이) | F97: 쉽다(높이1.2m 미만이고, 낫으로도 제거가 용이) | H97: 어렵다(높이1.2m 이상이고, 직경이 4-6cm 이상) | J97: 소 (임지의 40% 이하 분포) | L97: 중 (임지의 41%∼70% 분포) | N97: 밀 (임지의 71% 이상 분포)) | Q97: 선목시기 | R97: 10월-11월, 3월-4월 | S97: -10
A98: 0 | B98: 2 | C98: 10 | D98: -10 | E98: 0 | F98: 0 | H98: 10 | J98: -20 | K98: 0 | L98: 0 | N98: 20 | R98: 12월-2월 | S98: 0
R99: 5월-9월 | S99: 10
A100: 집단화정도(풀베기) | D100: 집단화정도 | J100: 작업시기(어린) | M100: 작업시기(덩굴류) | Q100: 제거대상식생 | R100: 쉽다(높이1.2m 미만이고, 낫으로도 제거가 용이) | S100: -10
A101: 개소당 평균면적이 5ha 이상 | B101: 개소당 평균면적이 3-5ha 미만 | C101: 개소당 평균면적이 3ha 미만 | D101: 개소당 평균면적이 3ha 이상 | F101: 개소당 평균면적이 1-3ha 미만 | H101: 개소당 평균면적이 1ha 미만 | J101: 1∼5월, 10월~12월 | L101: 6월∼9월 | M101: 1∼5월 | N101: 6월∼9월 | R101: 보통이다(높이1.2m 이상이고,직경이 4-6cm 미만) | S101: 0
A102: 0 | B102: 5 | C102: 10 | D102: 0 | E102: 0 | F102: 5 | H102: 10 | J102: 0 | K102: 0 | L102: 10 | M102: 0 | N102: 10 | R102: 어렵다(높이1.2m 이상이고, 직경이 4-6cm 이상) | S102: 10
Q103: 조림후 경과년수 (줄베기) | R103: 당해년도 | S103: 0
A104: 토양조건 | D104: 하층식생 | J104: 덩굴 피복도 | R104: 2년차 | S104: 5
A105: 장애물이 거의 없음 | B105: 돌 등 장애물 함량이 10∼30%인 지역 | C105: 돌 등 장애물 함량이 30% 이상인 지역 | D105: 보행이 용이하다 | F105: 보행하는데 약간의 어려움이 있다 | H105: 식생을 제거하지 않고 보행이 곤란하다 | J105: 과밀(80%이상 피복) | K105: 밀(60∼80% 피복) | L105: 보통(40∼60% 피복) | M105: 소(20∼40% 피복) | N105: 과소(20%이하피복) | R105: 3년차 | S105: 10
...

Sheet 소나무 가지치기
A1: 소반별(ha당) 숲가꾸기 단가 산출서 | Q1: 낙엽송 | R1: 0-2m | T1: 구분 | U1: 소요인력 | V1: 소요재료 | W1: 재료량 | Y1: 구분 | Z1: 100본기준 | AA1: 단위 | AB1: 재료명 | AC1: 잡품비율 | AE1: 기타침엽수 | AF1: 2-4m
A2: 위 치 | C2: =설계내역서!C6 -> 서귀포시 남원읍 한남리 산 2-1 외 | H2: 수 종 | I2: 벚나무 | K2: 사업면적 | L2: =설계내역서!H17 -> 4 | N2: ha | Q2: 잣나무 | R2: 0-4m | T2: 제거대상목 | U2: 0.4 | V2: 적색페인트 | W2: 0.17 | Y2: * 백색페인트 | Z2: 0.5 | AA2: ℓ/km | AB2: 백색페인트 | AC2: 0.05 | AE2: 편백 | AF2: 2-6m
A3: 구 분 | C3: 작업량 | E3: 단위품(인원,수량 | G3: 소요품 | H3: 단가 | K3: 할인,증률 | M3: 계 | Q3: 리기다 | R3: 0-6m | T3: 미래목 | U3: 1 | V3: 황색페인트 | W3: 0.5 | Y3: * 백색마킹테이프 | Z3: 0.6 | AA3: 롤/km | AB3: 백색마킹테이프 | AC3: 0 | AE3: 활엽수 | AF3: 4-6m
B4: 단위작업 | D4: 단위 | E4: ,요율) | F4: 단위 | I4: 종류
B5: ○ 선목 | E5: ○ 미래목 본수
B6: - 직접노무비 | D6: =IF(C5="","",IF(C5="미래목","ha","본/ha")) | E6: =IF(C5="제거대상목",U2,U3) -> 1 | F6: =IF(C5=T3,"인/ha","인/100본당") -> 인/100본당 | G6: =IF(Q5="적용",IF(C5="미래목",1,ROUND(C6*E6/100,2)),0) -> 0 | I6: 초급기술자 | K6: =$D$152 -> 0 | L6: % | M6: =ROUNDDOWN((G6*H6)*(1+K6%),0) -> 0
B7: - 재료비
B8: * 페인트 | C8: =IF(C5="미래목",$F$5,$C$6) -> 0 | D8: 본/ha | E8: =IF(C5="제거대상목",W2,W3) -> 0.5 | F8: ℓ/100본당 | G8: =IF(Q5="적용",ROUND(C8*(E8/100),2),0) -> 0 | I8: =IF(C5="제거대상목",V2,V3) -> 황색페인트 | M8: =ROUNDDOWN(G8*H8,0) -> 0
B9: * 잡품 | C9: =M8 -> 0 | D9: 원 | E9: 10 | F9: % | M9: =ROUNDDOWN(C9*E9%,0) -> 0
B10: ○ 경계표시
B11: - 직접노무비 | D11: ha | E11: 0.2 | F11: 인/ha | G11: =IF(Q10="적용",ROUND(C11*E11,2),0) -> 0 | H11: 148510 | I11: 보통인부 | K11: =$E$152 -> 0 | L11: % | M11: =ROUNDDOWN((G11*H11)*(1+K11%),0) -> 0
B12: - 재료비
B13: * 백색페인트 | D13: ha | E13: 0.2 | F13: ℓ/ha | G13: =IF(Q10="적용",ROUND(C13*E13,2),0) -> 0 | H13: 7300 | I13: 백색페인트 | M13: =ROUNDDOWN(G13*H13,0) -> 0
B14: * 잡품 | C14: =M13 -> 0 | D14: 원 | E14: 5 | F14: % | M14: =ROUNDDOWN(C14*E14%,0) -> 0
B15: ○ 작업로 선정
B16: - 직접노무비 | D16: km | E16: 1 | F16: 인/km | G16: =IF(Q15="적용",ROUND(C16*E16,2),0) -> 0 | H16: 148510 | I16: 보통인부 | K16: =$F$152 -> 0 | L16: % | M16: =ROUNDDOWN((G16*H16)*(1+K16%),0) -> 0
B17: - 재료비
C18: =C16 -> 0 | D18: km | E18: =IF(B18=Y2,Z2,Z3) -> 0.6 | F18: =IF(B18=Y2,AA2,AA3) -> 롤/km | G18: =IF(Q15="적용",ROUND(C18*E18,2),0) -> 0 | I18: =IF(B18=Y2,AB2,AB3) -> 백색마킹테이프 | M18: =ROUNDDOWN(G18*H18,0) -> 0
B19: * 잡품 | C19: =M18 -> 0 | D19: 원 | E19: =IF(ISERROR(VLOOKUP($B$18,$Y$2:$AC$3,5,FALSE)),0,VLOOKUP($B$18,$Y$2:$AC$3,5,FALSE))*100 -> 0 | F19: % | M19: =ROUNDDOWN(C19*E19%,0) -> 0
B20: ○ 작업로 설치
B21: - 직접노무비
B22: * 소작업로 | D22: km | E22: 2 | F22: 인/km | G22: =IF(Q20="적용",ROUND(C22*E22,2),0) -> 0 | H22: 148510 | I22: 보통인부 | K22: =$G$152 -> 0 | L22: % | M22: =ROUNDDOWN((G22*H22)*(1+K22%),0) -> 0
B23: - 재료비
B24: * 연료 | C24: =G22 -> 0 | D24: 인/ha | E24: =5.6/2 -> 2.8 | F24: ℓ/km | G24: =IF(Q20="적용",ROUND(C24*E24,2),0) -> 0 | H24: 1850 | I24: 휘발유 | M24: =ROUNDDOWN(G24*H24,0) -> 0
B25: * 잡품 | C25: =M24 -> 0 | D25: 원 | E25: 95 | F25: % | M25: =ROUNDDOWN(C25*E25%,0) -> 0
B26: - 기계경비 | C26: =G22 -> 0 | D26: 인 | E26: 0.0042 | F26: 1대2인 | H26: 800000 | I26: 체인톱 | M26: =ROUNDDOWN(C26*E26*H26,0) -> 0
B27: ○ 풀베기 | C27: 모두베기 | E27: 조림 2년차
B28: ○ 묘목찾기 | C28: =U28 -> 0 | E28: (줄베기, 모두베기에만 적용)
B29: - 직접노무비 | C29: =Q40 -> 0 | D29: 본/ha | E29: =X28 -> 0 | F29: 인/100본 | G29: =IF(Q28="적용",ROUND(C29*E29/100,2),0) -> 0 | H29: 148510 | I29: 보통인부 | K29: =$H$152 -> 0 | L29: % | M29: =ROUNDDOWN((G29*H29)*(1+K29%),0) -> 0
B30: ○ 맹아제거 | C30: =U29 -> 0 | E30: (둘레베기, 줄베기에만 적용)
B31: - 직접노무비 | D31: 본/ha | E31: =X29 -> 0 | F31: 인/100본 | G31: =IF(Q30="적용",ROUND(C31*E31/100,2),0) -> 0 | H31: =H29 -> 148510 | I31: 보통인부 | K31: =IF($H$139="",0,$H$139)+IF($H$144="",0,H$144) -> 0 | L31: % | M31: =ROUNDDOWN((G31*H31)*(1+K31%),0) -> 0
B32: ○ 둘레베기 | C32: =U30 -> 0
B33: - 직접노무비 | D33: 본/ha | E33: 0.18 | F33: 인/100본 | G33: =IF((C27="둘레베기")*(Q27="적용"),ROUND(C33*E33/100,2),0) -> 0 | H33: =H31 -> 148510 | I33: 보통인부 | K33: =$H$152 -> 0 | L33: % | M33: =ROUNDDOWN((G33*H33)*(1+K33%),0) -> 0
B34: ○ 줄베기 | C34: =U31 -> 0
B35: - 직접노무비 | C35: 1 | D35: ha | E35: 1.3 | F35: 인/ha | G35: =IF((C27="줄베기")*(Q27="적용"),ROUND(C35*E35,2),0) -> 0 | H35: 187435 | I35: 특별인부 | K35: =$H$152 -> 0 | L35: % | M35: =ROUNDDOWN((G35*H35)*(1+K35%),0) -> 0
B36: - 재료비
B37: * 연료 | C37: =G35 -> 0 | D37: 인/ha | E37: 5 | F37: ℓ/일.대 | G37: =IF(Q27="적용",ROUND(C37*E37,2),0) -> 0 | I37: 휘발유 | M37: =ROUNDDOWN(G37*H37,0) -> 0
B38: * 잡품 | C38: =M37 -> 0 | D38: 원 | E38: 10 | F38: % | M38: =ROUNDDOWN(C38*E38%,0) -> 0
B39: - 기계경비 | C39: =G35 -> 0 | D39: 대/ha | E39: 0.0084 | F39: 1대1인 | I39: 예초기 | M39: =ROUNDDOWN(C39*E39*H39,0) -> 0
B40: ○ 모두베기 | C40: =U32 -> 0 | D40: =IF($E$27="","","("&$E$27&")") -> (조림 2년차)
B41: - 직접노무비 | D41: ha | E41: =IF(E27=T32,X32,IF(E27=T33,X33,IF(E27=T34,X34,0))) -> 0 | F41: 인/ha | G41: =IF(($C$27="모두베기")*($Q$27="적용"),ROUND(C41*E41,2),0) -> 0 | H41: 187435 | I41: 특별인부 | K41: =$H$152 -> 0 | L41: % | M41: =ROUNDDOWN((G41*H41)*(1+K41%),0) -> 0
B42: - 재료비
B43: * 연료 | C43: =G41 -> 0 | D43: 인/ha | E43: 5 | F43: ℓ/인 | G43: =IF(Q27="적용",ROUND(C43*E43,2),0) -> 0 | H43: 1850 | I43: 휘발유 | M43: =ROUNDDOWN(G43*H43,0) -> 0
B44: * 잡품 | C44: =M43 -> 0 | D44: 원 | E44: 10 | F44: % | M44: =ROUNDDOWN(C44*E44%,0) -> 0
B45: - 기계경비 | C45: =G41 -> 0 | D45: 인 | E45: 0.0084 | F45: 1대1인 | H45: 610000 | I45: 배낭식동력예취기 | M45: =ROUNDDOWN(C45*E45*H45,0) -> 0
B46: ○ 덩굴류제거 | C46: 덩굴걷기
B47: - 직접노무비
B48: 기계작업 | D48: ha | E48: =IF(ISERROR(IF(C46=S44,VLOOKUP(B48,U44:V45,2,FALSE),VLOOKUP(B48,U44:V45,2,FALSE))),0,IF(C46=U44,VLOOKUP(B48,U56:V61,2,FALSE),VLOOKUP(B48,U44:V45,2,FALSE))) -> 0 | F48: 인/ha | G48: =IF(($C$46="덩굴걷기")*($Q$46="적용"),ROUND(C48*E48,2),0) -> 0 | H48: 197450 | I48: 특별인부 | K48: =I152 -> 0 | L48: % | M48: =ROUNDDOWN((G48*H48)*(1+K48%),0) -> 0
B49: - 재료비
B50: * 연료 | C50: =G48 -> 0 | D50: 인/ha | E50: 5 | F50: ℓ/인 | G50: =IF(Q46="적용",ROUND(C50*E50,2),0) -> 0 | H50: 1648 | I50: 휘발유 | M50: =ROUNDDOWN(G50*H50,0) -> 0
B51: * 잡품 | C51: =M50 -> 0 | D51: 원 | E51: 10 | F51: % | M51: =ROUNDDOWN(C51*E51%,0) -> 0
B52: - 기계경비 | C52: =G48 -> 0 | D52: 인 | E52: 0.0084 | F52: 1대1인 | H52: 610000 | I52: 배낭식동력예취기 | M52: =ROUNDDOWN(C52*E52*H52,0) -> 0
B53: - 직접노무비
B54: 약제주입기, 면봉 사용(덩굴걷기X) | D54: ha | E54: =IF(ISERROR(IF(C46=S46,VLOOKUP(B54,U46:V48,2,FALSE),VLOOKUP(B54,U46:V48,2,FALSE))),0,IF(C54=U46,VLOOKUP(B54,U62:V66,2,FALSE),VLOOKUP(B54,U46:V48,2,FALSE))) -> 0 | F54: 인/ha | G54: =IF(($C$46="약제처리")*($Q$46="적용"),ROUND(C54*E54,2),0) -> 0 | H54: 187435 | I54: 특별인부 | K54: =J152 -> 0 | L54: % | M54: =ROUNDDOWN((G54*H54)*(1+K54%),0) -> 0
B55: 작업보조 | D55: ha | E55: =IF(B54=U46,V48,IF(B54=U47,V49,IF(B54=U48,V49,IF(B54=U49,V49,0)))) -> 0 | F55: 인/ha | G55: =IF(($C$46="약제처리")*($Q$46="적용"),ROUND(C55*E55,2),0) -> 0 | H55: 148510 | I55: =I29 -> 보통인부 | K55: =K54 -> 0 | L55: % | M55: =ROUNDDOWN((G55*H55)*(1+K55%),0) -> 0
B56: - 재료비
B57: * 농약 (약제주입) | D57: 본 | E57: 1 | F57: 병/200본 | G57: =IF((B54=U46)*($C$46=T46),ROUND(C57/200,2),0) -> 0 | H57: 10000 | I57: 농약(글리포세이드) | M57: =ROUNDDOWN(G57*H57,0) -> 0
B58: * 잡품 | C58: =M57 -> 0 | D58: 원 | E58: 66 | F58: % | M58: =ROUNDDOWN(C58*E58%,0) -> 0
B59: * 농약 (약제살포) | D59: ha | E59: 10 | F59: 병/ha | G59: =IF((B54="약제 살포")*($Q$46="적용"),ROUND(C59*E59,2),0) -> 0 | H59: 10000 | I59: 농약(살포용) | M59: =ROUNDDOWN(G59*H59,0) -> 0
B60: * 잡품 | C60: =M59 -> 0 | D60: 원 | E60: 10 | F60: % | M60: =ROUNDDOWN(C60*E60%,0) -> 0
B61: - 기계경비 | C61: =IF((B54="약제 살포")*($Q$46="적용"),G54,0) -> 0 | D61: 인 | E61: 0.0084 | F61: 1대1인 | H61: 200000 | I61: 배부식분무기 | M61: =ROUNDDOWN(C61*E61*H61,0) -> 0
B62: - 직접노무비
B63: 뿌리제거(굴취) | C63: =Q64 -> 0 | D63: 본/ha | E63: =IF(($C$46=S46)*($Q$46="적용"),IF(B63=U50,V50,IF(B63=U51,V51,IF(B63=U52,V52,0)))) -> FALSE | F63: 인/100본 | G63: =IF(OR(B63=U50,B63=U51,B63=U52),ROUND(C63*E63/100,2),0) -> 0 | H63: 148510 | I63: 보통인부 | K63: =K152 -> 0 | L63: % | M63: =ROUNDDOWN((G63*H63)*(1+K63%),0) -> 0
B64: 표시봉설치 | C64: =C63 -> 0 | D64: 본/ha | E64: =IF(($C$46=S46)*($Q$46="적용"),IF(B63=U50,V53,IF(B63=U51,V48,IF(B63=U52,V53,0)))) -> FALSE | F64: 인/100본 | G64: =ROUND(C64*E64/100,2) -> 0 | H64: =H63 -> 148510 | I64: 보통인부 | K64: =K63 -> 0 | L64: % | M64: =ROUNDDOWN((G64*H64)*(1+K64%),0) -> 0
B65: - 재료비
B66: * 농약 (약제+면봉) | C66: =C63 -> 0 | D66: 본 | E66: 1 | F66: 병/200본 | G66: =IF((B63=U52)*($C$46=S46),ROUND(C66/200,2),0) -> 0 | H66: 10000 | I66: 농약(글리포세이드) | M66: =ROUNDDOWN(G66*H66,0) -> 0
B67: * 친환경 비닐랩 | C67: =C63 -> 0 | D67: 본/ha | E67: 1 | F67: 본/개 | G67: =IF((B63=U50)*($C$46=S46),ROUND(C67*E67,2),0) -> 0 | H67: 100 | I67: 생붕괴성필름 | M67: =ROUNDDOWN(G67*H67,0) -> 0
B68: ○ 솎아베기 | C68: 전목(벌목)
B69: - 직접노무비 | C69: =SUM(C70:C80) -> 0 | D69: 본/ha | G69: =IF(Q68="적용",ROUND(SUM(G70:G80),2),0) -> 0 | H69: =ROUNDDOWN((H70+H71)/2,0) -> 177259 | I69: 특별0.5, 보통0.5 | K69: =$L$152 -> 0 | L69: % | M69: =ROUNDDOWN((G69*H69)*(1+K69%),0) -> 0
B70: 10cm이하 | D70: 본/ha | E70: =IF($C$68=$S$70,U70,IF($C$68=$S$71,U70+V70,IF($C$68=$S$72,U70+V70+W70,0))) -> 0 | F70: 인/100본 | G70: =IF(C70=0,0,ROUND(C70*E70/100,2)) -> 0 | H70: 157068 | I70: 보통인부
B71: 12-14cm | D71: 본/ha | E71: =IF($C$68=$S$70,U71,IF($C$68=$S$71,U71+V71,IF($C$68=$S$72,U71+V71+#REF!,0))) -> 0 | F71: 인/100본 | G71: =IF(C71=0,0,ROUND(C71*E71/100,2)) -> 0 | H71: 197450 | I71: 특별인부
B72: 16-18cm | D72: 본/ha | E72: =IF($C$68=$S$70,U72,IF($C$68=$S$71,U72+V72,IF($C$68=$S$72,U72+V72+#REF!,0))) -> 0 | F72: 인/100본 | G72: =IF(C72=0,0,ROUND(C72*E72/100,2)) -> 0
B73: 20-22cm | D73: 본/ha | E73: =IF($C$68=$S$70,U73,IF($C$68=$S$71,U73+V73,IF($C$68=$S$72,U73+V73+#REF!,0))) -> 0 | F73: 인/100본 | G73: =IF(C73=0,0,ROUND(C73*E73/100,2)) -> 0
B74: 24-26cm | D74: 본/ha | E74: =IF($C$68=$S$70,U74,IF($C$68=$S$71,U74+V74,IF($C$68=$S$72,U74+V74+W74,0))) -> 0 | F74: 인/100본 | G74: =IF(C74=0,0,ROUND(C74*E74/100,2)) -> 0
B75: 28-30cm | D75: 본/ha | E75: =IF($C$68=$S$70,U75,IF($C$68=$S$71,U75+V75,IF($C$68=$S$72,U75+V75+W75,0))) -> 0 | F75: 인/100본 | G75: =IF(C75=0,0,ROUND(C75*E75/100,2)) -> 0
B76: 32-34cm | D76: 본/ha | E76: =IF($C$68=$S$70,U76,IF($C$68=$S$71,U76+V76,IF($C$68=$S$72,U76+V76+W76,0))) -> 0 | F76: 인/100본 | G76: =IF(C76=0,0,ROUND(C76*E76/100,2)) -> 0
B77: 36-38cm | D77: 본/ha | E77: =IF($C$68=$S$70,U77,IF($C$68=$S$71,U77+V77,IF($C$68=$S$72,U77+V77+W77,0))) -> 0 | F77: 인/100본 | G77: =IF(C77=0,0,ROUND(C77*E77/100,2)) -> 0
B78: 40-42cm | D78: 본/ha | E78: =IF($C$68=$S$70,U78,IF($C$68=$S$71,U78+V78,IF($C$68=$S$72,U78+V78+W78,0))) -> 0 | F78: 인/100본 | G78: =IF(C78=0,0,ROUND(C78*E78/100,2)) -> 0
B79: 44-46cm | D79: 본/ha | E79: =IF($C$68=$S$70,U79,IF($C$68=$S$71,U79+V79,IF($C$68=$S$72,U79+V79+W79,0))) -> 0 | F79: 인/100본 | G79: =IF(C79=0,0,ROUND(C79*E79/100,2)) -> 0
B80: 48이상 | D80: 본/ha | E80: =IF($C$68=$S$70,U80,IF($C$68=$S$71,U80+V80,IF($C$68=$S$72,U80+V80+W80,0))) -> 0 | F80: 인/100본 | G80: =IF(C80=0,0,ROUND(C80*E80/100,2)) -> 0
B81: - 재료비 | M81: =SUM(M82+M83) -> 0
B82: * 연료 | C82: =G69 -> 0 | D82: 인/ha | E82: =5.6/2 -> 2.8 | F82: ℓ | G82: =IF(Q68="적용",ROUND(C82*E82,2),0) -> 0 | H82: 1648 | I82: 휘발유 | M82: =ROUNDDOWN(G82*H82,0) -> 0
B83: * 잡품 | C83: =M82 -> 0 | D83: 원 | E83: 95 | F83: % | M83: =ROUNDDOWN(C83*E83%,0) -> 0
B84: * 기계경비 | C84: =G69 -> 0 | D84: 인 | E84: 0.0042 | F84: 1대2인 | H84: 800000 | I84: 체인톱 | M84: =ROUNDDOWN(C84*E84*H84,0) -> 0
B85: ○ 어린나무가꾸기 | C85: 유령림 단계
B86: - 직접노무비 | D86: ha | F86: 인/ha | H86: =ROUNDDOWN((H87+H88)/2,0) -> 177259 | I86: 보통0.5, 특별0.5 | K86: =$M$152 -> 0 | L86: % | M86: =ROUNDDOWN((G86*H86)*(1+K86%),0) -> 0
B87: * 6cm | C87: 0.55555556 | D87: 본/ha | E87: 6 | F87: 인/ha | G87: =ROUND(C87*E87,2) -> 3.33 | H87: 157068 | I87: 보통인부
B88: * 8cm | C88: 0.30246914 | D88: 본/ha | E88: 6.5 | F88: 인/ha | G88: =ROUND(C88*E88,2) -> 1.97 | H88: 197450 | I88: 특별인부
B89: * 10cm | C89: 0.024691358 | D89: 본/ha | E89: 7 | F89: 인/ha | G89: =ROUND(C89*E89,2) -> 0.17
B90: * 12cm | C90: 0.049382716 | D90: 본/ha | E90: 7 | F90: 인/ha | G90: =ROUND(C90*E90,2) -> 0.35
B91: * 14cm | C91: 0.055555556 | D91: 본/ha | E91: 7 | F91: 인/ha | G91: =ROUND(C91*E91,2) -> 0.39
B92: * 16cm | C92: 0.012345679 | D92: 본/ha | E92: 7 | F92: 인/ha | G92: =ROUND(C92*E92,2) -> 0.09
B93: - 재료비 | M93: =SUM(M94:N95) -> 0
B94: * 연료 | C94: =ROUND(G86/2,2) -> 0 | D94: 인/ha | E94: =5.6/2 -> 2.8 | F94: ℓ | G94: =ROUND(C94*E94,2) -> 0 | H94: 1648 | I94: 휘발유 | M94: =ROUNDDOWN(G94*H94,0) -> 0
B95: * 잡품 | C95: =M94 -> 0 | D95: 원 | E95: 95 | F95: % | M95: =ROUNDDOWN(C95*E95%,0) -> 0
B96: - 기계경비 | C96: =C94 -> 0 | D96: 인 | E96: 0.0084 | F96: 1대2인 | H96: 800000 | I96: 체인톱 | M96: =ROUNDDOWN(C96*E96*H96,0) -> 0
B97: ○ 가지치기 | C97: 지역시험림
C98: 소나무 0～6m | D98: =IF(C98=G194,H194,IF(C98=G195,H195,IF(C98=G196,H196,IF(C98=G197,H197,IF(C98=G198,H198,IF(C98=G199,H199,IF(C98=G200,H200))))))) -> 2.4
B99: - 직접노무비 | C99: 450 | D99: 본/ha | E99: =D98 -> 2.4 | F99: 인/100본 | G99: =ROUND(C99*E99/100,2) -> 10.8 | H99: =기초자료!B14 -> 172068 | I99: 보통인부 | K99: =$N$152 -> 5 | L99: % | M99: =ROUNDDOWN((G99*H99)*(1+K99%),0) -> 1951251 | Q99: 활엽수 | R99: 0～6m | S99: =Q99&R99 -> 활엽수0～6m | T99: =H186 -> 2.4
S100: =Q100&R100
...

Sheet 단가산출서(덩굴제거)
A1: 소반별(ha당) 숲가꾸기 단가 산출서 | P1: 소요인력 | W1: 표준지 조사 집계표(50㎡, 0.005ha/1개소)
A2: 위 치 | B2: =표지!E28 -> 서귀포시 남원읍 한남리 산 2-1 외 | G2: 수 종 | J2: 사업면적 | K2: =설계내역서!H18 -> 13.6 | M2: ha | P2: 구 분 | Q2: 사용도구 | R2: 단위 | S2: 소요인력 | T2: 인력구분 | V2: 표준지 | W2: 조사본수(본) | Y2: 할증요소
A3: 구 분 | B3: 작업량 | D3: 단위품(인원,수량 | F3: 소요품 | G3: 단가 | J3: 할인,증률 | L3: 계 | P3: 기계작업 | Q3: 예취기 | R3: 인/ha | S3: 3.3 | T3: 특별인부 | V3: NO. | W3: 표준지 | X3: ha당 | Y3: 경사도 | Z3: 집단화정도 | AA3: 작업시기 | AB3: 하층장애물 | AC3: 토양조건
A4: 단위작업 | C4: 단위 | D4: ,요율) | E4: 단위 | H4: 종류 | V4: 1 | W4: 8 | X4: =W4*200 -> 1600 | Y4: 완(15° 미만) | Z4: 3ha 이상 | AA4: 6~9월 | AB4: 해당없음 | AC4: 해당없음
A5: ○ 덩굴류제거 | B5: 덩굴걷기 | Q5: <덩굴피복도와 덩굴본수 환산표> | V5: 2 | W5: 5 | X5: =W5*200 -> 1000 | Y5: 완(15° 미만) | Z5: 3ha 이상 | AA5: 6~9월 | AB5: 해당없음 | AC5: 해당없음
A6: - 직접노무비 | P6: 덩굴 피복도(%) | Q6: 할인·할증율 | R6: 환산계수 | S6: 덩굴본수(본/ha) | V6: 3 | W6: 3 | X6: =W6*200 -> 600 | Y6: 완(15° 미만) | Z6: 3ha 이상 | AA6: 6~9월 | AB6: 해당없음 | AC6: 해당없음
A7: 기계작업 | B7: 1 | C7: ha | D7: =S3 -> 3.3 | E7: 인/ha | F7: =B7*D7 -> 3.3 | G7: =기초자료!B16 -> 226122 | H7: 특별인부 | J7: =H45 -> 10 | K7: % | L7: =ROUNDDOWN((F7*G7)*(1+J7%),0) -> 820822 | P7: 80% 이상 | Q7: 1.5 | R7: 1 | S7: 1600 | V7: 4 | W7: 7 | X7: =W7*200 -> 1400 | Y7: 완(15° 미만) | Z7: 3ha 이상 | AA7: 6~9월 | AB7: 해당없음 | AC7: 해당없음
A8: - 재료비 | P8: 60∼80% | Q8: 1.2 | R8: 0.8 | S8: 1300 | V8: 5 | W8: 7 | X8: =W8*200 -> 1400 | Y8: 완(15° 미만) | Z8: 3ha 이상 | AA8: 6~9월 | AB8: 해당없음 | AC8: 해당없음
A9: * 연료 | B9: =F7 -> 3.3 | C9: 인/ha | D9: 5 | E9: ℓ/인 | F9: =B9*D9 -> 16.5 | G9: =기초자료!B19 -> 1842 | H9: 휘발유 | L9: =ROUNDDOWN(F9*G9,0) -> 30393 | P9: 40∼60% | Q9: 1 | R9: 0.67 | S9: 1100 | V9: 6 | W9: 5 | X9: =W9*200 -> 1000 | Y9: 완(15° 미만) | Z9: 3ha 이상 | AA9: 6~9월 | AB9: 해당없음 | AC9: 해당없음
A10: * 잡품 | B10: =L9 -> 30393 | C10: 원 | D10: 10 | E10: % | L10: =ROUNDDOWN(B10*D10%,0) -> 3039 | P10: 20∼40% | Q10: 0.8 | R10: 0.53 | S10: 900 | V10: 7 | W10: 9 | X10: =W10*200 -> 1800 | Y10: 완(15° 미만) | Z10: 3ha 이상 | AA10: 6~9월 | AB10: 해당없음 | AC10: 해당없음
A11: - 기계경비 | B11: =F7 -> 3.3 | C11: 인 | D11: 0.0084 | E11: 1대1인 | G11: =기초자료!B26 -> 610000 | H11: =기초자료!A26 -> 배낭식동력예취기 | L11: =ROUNDDOWN(B11*D11*G11,0) -> 16909 | P11: 20%이하 | Q11: 0.5 | R11: 0.33 | S11: 500 | V11: 8 | W11: 6 | X11: =W11*200 -> 1200 | Y11: 완(15° 미만) | Z11: 3ha 이상 | AA11: 6~9월 | AB11: 해당없음 | AC11: 해당없음
A12: - 직접노무비 | V12: 9 | W12: 6 | X12: =W12*200 -> 1200 | Y12: 완(15° 미만) | Z12: 3ha 이상 | AA12: 6~9월 | AB12: 해당없음 | AC12: 해당없음
A13: ◈ 합계 | L13: =SUM(L14:M16) -> 871163 | V13: 10 | W13: 3 | X13: =W13*200 -> 600 | Y13: 완(15° 미만) | Z13: 3ha 이상 | AA13: 6~9월 | AB13: 해당없음 | AC13: 해당없음
A14: ○ 노무비 | L14: =L7 -> 820822 | V14: 11 | W14: 4 | X14: =W14*200 -> 800 | Y14: 완(15° 미만) | Z14: 3ha 이상 | AA14: 6~9월 | AB14: 해당없음 | AC14: 해당없음
A15: ○ 재료비 | L15: =L9+L10 -> 33432 | V15: 12 | W15: 2 | X15: =W15*200 -> 400 | Y15: 완(15° 미만) | Z15: 3ha 이상 | AA15: 6~9월 | AB15: 해당없음 | AC15: 해당없음
A16: ○ 경비(기계경비) | L16: =L11 -> 16909 | V16: 13 | W16: 13 | X16: =W16*200 -> 2600 | Y16: 완(15° 미만) | Z16: 3ha 이상 | AA16: 6~9월 | AB16: 해당없음 | AC16: 해당없음
V17: 14 | W17: 4 | X17: =W17*200 -> 800 | Y17: 완(15° 미만) | Z17: 3ha 이상 | AA17: 6~9월 | AB17: 해당없음 | AC17: 해당없음
A18: □ 참고사항(소반내 실시설계 표준지 조사결과의 평균이나 전수조사를 적용) | V18: 15 | W18: 5 | X18: =W18*200 -> 1000 | Y18: 완(15° 미만) | Z18: 3ha 이상 | AA18: 6~9월 | AB18: 해당없음 | AC18: 해당없음
A19: ○ 작업량 산정 | V19: 16 | W19: 6 | X19: =W19*200 -> 1200 | Y19: 완(15° 미만) | Z19: 3ha 이상 | AA19: 6~9월 | AB19: 해당없음 | AC19: 해당없음
A20: - 작업로선정 : | B20: =IF(#REF!="적용",#REF!,0) -> #REF! | C20: km | V20: 17 | W20: 7 | X20: =W20*200 -> 1400 | Y20: 완(15° 미만) | Z20: 3ha 이상 | AA20: 6~9월 | AB20: 해당없음 | AC20: 해당없음
A21: - 작업로설치 : | B21: =IF(#REF!="적용",#REF!,0) -> #REF! | C21: km | V21: 18 | W21: 10 | X21: =W21*200 -> 2000 | Y21: 완(15° 미만) | Z21: 3ha 이상 | AA21: 6~9월 | AB21: 해당없음 | AC21: 해당없음
A22: - 솎아베기량 : | B22: =IF(#REF!="적용",#REF!,0) -> #REF! | C22: 본/ha | D22: =#REF! -> #REF! | V22: 19 | W22: 6 | X22: =W22*200 -> 1200 | Y22: 완(15° 미만) | Z22: 3ha 이상 | AA22: 6~9월 | AB22: 해당없음 | AC22: 해당없음
A23: - 가지치기량 : | B23: =IF(#REF!="적용",(#REF!+#REF!+#REF!+#REF!+#REF!),0) -> #REF! | C23: 본/ha | V23: 20 | W23: 2 | X23: =W23*200 -> 400 | Y23: 완(15° 미만) | Z23: 3ha 이상 | AA23: 6~9월 | AB23: 해당없음 | AC23: 해당없음
A24: - 산물임내정리량 : | B24: =#REF! -> #REF! | C24: (㎥/ha) | V24: 21 | W24: 5 | X24: =W24*200 -> 1000 | Y24: 완(15° 미만) | Z24: 3ha 이상 | AA24: 6~9월 | AB24: 해당없음 | AC24: 해당없음
A25: - 산물수집면적 : | B25: =K2 -> 13.6 | C25: ha | D25: (미수집 구역은 ha당 사업비에서 산물수집 사업비를 제외) | V25: 22 | W25: 11 | X25: =W25*200 -> 2200 | Y25: 완(15° 미만) | Z25: 3ha 이상 | AA25: 6~9월 | AB25: 해당없음 | AC25: 해당없음
A26: ○ 투입인력 산정 | V26: 23 | W26: 3 | X26: =W26*200 -> 600 | Y26: 완(15° 미만) | Z26: 3ha 이상 | AA26: 6~9월 | AB26: 해당없음 | AC26: 해당없음
A27: - ha당 투입인력 : | B27: =N52 -> 3.3 | C27: 인 | V27: 24 | W27: 6 | X27: =W27*200 -> 1200 | Y27: 완(15° 미만) | Z27: 3ha 이상 | AA27: 6~9월 | AB27: 해당없음 | AC27: 해당없음
A28: ○ 할인,할증율 산정 | V28: 25 | W28: 3 | X28: =W28*200 -> 600 | Y28: 완(15° 미만) | Z28: 3ha 이상 | AA28: 6~9월 | AB28: 해당없음 | AC28: 해당없음
A29: 구 분 | B29: 할인,할증 요소 | C29: 단위작업(%) | V29: 26 | W29: 4 | X29: =W29*200 -> 800 | Y29: 완(15° 미만) | Z29: 3ha 이상 | AA29: 6~9월 | AB29: 해당없음 | AC29: 해당없음
C30: 선목 | D30: 경계표시 | E30: 작업로선정 | F30: 작업로설치 | G30: 풀베기 | H30: 덩굴류제거 (덩굴걷기) | I30: 덩굴류제거 (약제작업) | J30: 덩굴류제거 (뿌리제거) | K30: 솎아베기 | L30: 어린나무 가꾸기 | M30: 가지치기 | N30: 산물 임내정리 | V30: 27 | W30: 5 | X30: =W30*200 -> 1000 | Y30: 완(15° 미만) | Z30: 3ha 이상 | AA30: 6~9월 | AB30: 해당없음 | AC30: 해당없음
A31: 경사도 | B31: 완(15도 이하) | C31: =IF(ISERROR(VLOOKUP($B31,#REF!,2,FALSE)),"",(VLOOKUP($B31,#REF!,2,FALSE))) | D31: =IF(ISERROR(VLOOKUP($B31,#REF!,2,FALSE)),"",(VLOOKUP($B31,#REF!,2,FALSE))) | E31: =IF(ISERROR(VLOOKUP($B31,#REF!,2,FALSE)),"",(VLOOKUP($B31,#REF!,2,FALSE))) | F31: =IF(ISERROR(VLOOKUP($B31,#REF!,2,FALSE)),"",(VLOOKUP($B31,#REF!,2,FALSE))) | G31: =IF(ISERROR(VLOOKUP($B31,#REF!,2,FALSE)),"",(VLOOKUP($B31,#REF!,2,FALSE))) | H31: =IF(ISERROR(VLOOKUP($B31,$R$56:$S$118,2,FALSE)),"",(VLOOKUP($B31,$R$56:$S$118,2,FALSE))) -> 0 | I31: =IF(ISERROR(VLOOKUP($B31,#REF!,2,FALSE)),"",(VLOOKUP($B31,#REF!,2,FALSE))) | J31: =IF(ISERROR(VLOOKUP($B31,#REF!,2,FALSE)),"",(VLOOKUP($B31,#REF!,2,FALSE))) | K31: =IF(ISERROR(VLOOKUP($B31,#REF!,2,FALSE)),"",(VLOOKUP($B31,#REF!,2,FALSE))) | L31: =IF(ISERROR(VLOOKUP($B31,#REF!,2,FALSE)),"",(VLOOKUP($B31,#REF!,2,FALSE))) | M31: =IF(ISERROR(VLOOKUP($B31,#REF!,2,FALSE)),"",(VLOOKUP($B31,#REF!,2,FALSE))) | N31: =IF(ISERROR(VLOOKUP($B31,#REF!,2,FALSE)),"",(VLOOKUP($B31,#REF!,2,FALSE))) | V31: 28 | W31: 14 | X31: =W31*200 -> 2800 | Y31: 완(15° 미만) | Z31: 3ha 이상 | AA31: 6~9월 | AB31: 해당없음 | AC31: 해당없음
A32: 장애물의 정도 | B32: 가슴높이 미만 초본ㆍ관목 | C32: =IF(ISERROR(VLOOKUP($B32,#REF!,2,FALSE)),"",(VLOOKUP($B32,#REF!,2,FALSE))) | E32: =IF(ISERROR(VLOOKUP($B32,#REF!,2,FALSE)),"",(VLOOKUP($B32,#REF!,2,FALSE))) | H32: =IF(ISERROR(VLOOKUP($B32,$R$56:$S$118,2,FALSE)),"",(VLOOKUP($B32,$R$56:$S$118,2,FALSE))) -> 0 | K32: =IF(ISERROR(VLOOKUP($B32,#REF!,2,FALSE)),"",(VLOOKUP($B32,#REF!,2,FALSE))) | M32: =IF(ISERROR(VLOOKUP($B32,#REF!,2,FALSE)),"",(VLOOKUP($B32,#REF!,2,FALSE))) | N32: =IF(ISERROR(VLOOKUP($B32,#REF!,2,FALSE)),"",(VLOOKUP($B32,#REF!,2,FALSE))) | V32: 29 | W32: 7 | X32: =W32*200 -> 1400 | Y32: 완(15° 미만) | Z32: 3ha 이상 | AA32: 6~9월 | AB32: 해당없음 | AC32: 해당없음
A33: 선목시기 | B33: 5월-9월 | H33: =IF(ISERROR(VLOOKUP($B33,$R$56:$S$118,2,FALSE)),"",(VLOOKUP($B33,$R$56:$S$118,2,FALSE))) -> 10 | V33: 30 | W33: 3 | X33: =W33*200 -> 600 | Y33: 완(15° 미만) | Z33: 3ha 이상 | AA33: 6~9월 | AB33: 해당없음 | AC33: 해당없음
A34: 제거대상식생(작업로설치) | B34: 보통이다(높이1.2m 이상이고,직경이 4-6cm 미만) | F34: =IF(ISERROR(VLOOKUP($B34,#REF!,2,FALSE)),"",(VLOOKUP($B34,#REF!,2,FALSE))) | H34: =IF(ISERROR(VLOOKUP($B34,$R$56:$S$118,2,FALSE)),"",(VLOOKUP($B34,$R$56:$S$118,2,FALSE))) -> 0 | V34: 31 | W34: 6 | X34: =W34*200 -> 1200 | Y34: 완(15° 미만) | Z34: 3ha 이상 | AA34: 6~9월 | AB34: 해당없음 | AC34: 해당없음
A35: 조림후경과년수 | B35: 당해년도 | G35: =IF(B35="3년차",#REF!,(IF(B35="당해년도",#REF!,(IF(B35="2년차",#REF!))))) -> #REF! | H35: =IF(ISERROR(VLOOKUP($B35,$R$56:$S$118,2,FALSE)),"",(VLOOKUP($B35,$R$56:$S$118,2,FALSE))) -> 0 | V35: 32 | W35: 7 | X35: =W35*200 -> 1400 | Y35: 완(15° 미만) | Z35: 3ha 이상 | AA35: 6~9월 | AB35: 해당없음 | AC35: 해당없음
A36: 집단화정도(풀베기) | B36: 개소당 평균면적이 3-5ha 미만 | H36: =IF(ISERROR(VLOOKUP($B36,$R$56:$S$118,2,FALSE)),"",(VLOOKUP($B36,$R$56:$S$118,2,FALSE))) -> 5 | V36: 33 | W36: 10 | X36: =W36*200 -> 2000 | Y36: 완(15° 미만) | Z36: 3ha 이상 | AA36: 6~9월 | AB36: 해당없음 | AC36: 해당없음
A37: 집단화정도(덩굴제거) | B37: 개소당 평균면적이 3ha 이상 | H37: =IF(ISERROR(VLOOKUP($B37,$R$56:$S$118,2,FALSE)),"",(VLOOKUP($B37,$R$56:$S$118,2,FALSE))) -> 0 | L37: =IF(ISERROR(VLOOKUP($B37,#REF!,2,FALSE)),"",(VLOOKUP($B37,#REF!,2,FALSE))) | V37: 34 | W37: 6 | X37: =W37*200 -> 1200 | Y37: 완(15° 미만) | Z37: 3ha 이상 | AA37: 6~9월 | AB37: 해당없음 | AC37: 해당없음
A38: 작업시기(덩굴류) | B38: 6월∼9월 | H38: =IF(B38=R77,S77,IF(B38=R78,S78,IF(B38=R79,S79))) -> 10 | V38: 35 | W38: 7 | X38: =W38*200 -> 1400 | Y38: 완(15° 미만) | Z38: 3ha 이상 | AA38: 6~9월 | AB38: 해당없음 | AC38: 해당없음
A39: 덩굴피복도 | B39: 미적용 | H39: =IF(ISERROR(VLOOKUP($B39,$R$56:$S$118,2,FALSE)),"",(VLOOKUP($B39,$R$56:$S$118,2,FALSE))) -> 0 | I39: =IF(ISERROR(VLOOKUP($B39,#REF!,2,FALSE)),"",(VLOOKUP($B39,#REF!,2,FALSE))) | V39: 36 | W39: 5 | X39: =W39*200 -> 1000 | Y39: 완(15° 미만) | Z39: 3ha 이상 | AA39: 6~9월 | AB39: 해당없음 | AC39: 해당없음
A40: 하층식생(덩굴류 뿌리제거) | B40: 식생을 제거하지 않고 보행이 곤란하다 | V40: 37 | W40: 11 | X40: =W40*200 -> 2200 | Y40: 완(15° 미만) | Z40: 3ha 이상 | AA40: 6~9월 | AB40: 해당없음 | AC40: 해당없음
A41: 토양조건(덩굴류 뿌리제거) | B41: 돌 등 장애물 함량이 10∼30%인 지역 | V41: 38 | W41: 3 | X41: =W41*200 -> 600 | Y41: 완(15° 미만) | Z41: 3ha 이상 | AA41: 6~9월 | AB41: 해당없음 | AC41: 해당없음
A42: 작업시기(어린나무가꾸기) | B42: 6월∼9월 | V42: 39 | W42: 6 | X42: =W42*200 -> 1200 | Y42: 완(15° 미만) | Z42: 3ha 이상 | AA42: 6~9월 | AB42: 해당없음 | AC42: 해당없음
A43: 제거대상피복도 | B43: 중 (임지의 41%∼70% 분포) | L43: =IF(ISERROR(VLOOKUP($B43,#REF!,2,FALSE)),"",(VLOOKUP($B43,#REF!,2,FALSE))) | V43: 40 | W43: 4 | X43: =W43*200 -> 800 | Y43: 완(15° 미만) | Z43: 3ha 이상 | AA43: 6~9월 | AB43: 해당없음 | AC43: 해당없음
A44: 규격재생산여부 | B44: 미적용 | K44: =IF(ISERROR(VLOOKUP($B44,#REF!,2,FALSE)),"",(VLOOKUP($B44,#REF!,2,FALSE))) | V44: 41 | W44: 4 | X44: =W44*200 -> 800 | Y44: 완(15° 미만) | Z44: 3ha 이상 | AA44: 6~9월 | AB44: 해당없음 | AC44: 해당없음
A45: 합계 | C45: =SUM(C31:C44) -> 0 | D45: =SUM(D31:D44) -> 0 | E45: =SUM(E31:E44) -> 0 | F45: =SUM(F31:F44) -> 0 | G45: 0 | H45: =SUM(H31+H37+H38+H39) -> 10 | I45: =SUM(I31:I44) -> 0 | J45: =SUM(J31:J44) -> 0 | K45: =SUM(K31:K44) -> 0 | L45: =SUM(L31:L44) -> 0 | M45: =SUM(M31:M44) -> 0 | N45: =SUM(N31:N44) -> 0 | V45: 42 | W45: 7 | X45: =W45*200 -> 1400 | Y45: 완(15° 미만) | Z45: 3ha 이상 | AA45: 6~9월 | AB45: 해당없음 | AC45: 해당없음
V46: 43 | W46: 15 | X46: =W46*200 -> 3000 | Y46: 완(15° 미만) | Z46: 3ha 이상 | AA46: 6~9월 | AB46: 해당없음 | AC46: 해당없음
A47: ○ 작업원 소요량 산출 : | B47: =N52 -> 3.3 | C47: 명 | V47: 44 | W47: 4 | X47: =W47*200 -> 800 | Y47: 완(15° 미만) | Z47: 3ha 이상 | AA47: 6~9월 | AB47: 해당없음 | AC47: 해당없음
A48: 작업단위 | B48: 선목 | C48: 경계표시 | D48: 작업로 선정 | E48: 작업로 설치 | F48: 풀베기 | G48: =H30 -> 덩굴류제거 (덩굴걷기) | H48: =I30 -> 덩굴류제거 (약제작업) | I48: =J30 -> 덩굴류제거 (뿌리제거) | J48: =K30 -> 솎아베기 | K48: =L30 -> 어린나무 가꾸기 | L48: =M30 -> 가지치기 | M48: 산물임내정리 | N48: 계 | V48: 45 | W48: 3 | X48: =W48*200 -> 600 | Y48: 완(15° 미만) | Z48: 3ha 이상 | AA48: 6~9월 | AB48: 해당없음 | AC48: 해당없음
A49: 초급기술자 | N49: =SUM(B49:M49) -> 0 | V49: 46 | W49: 7 | X49: =W49*200 -> 1400 | Y49: 완(15° 미만) | Z49: 3ha 이상 | AA49: 6~9월 | AB49: 해당없음 | AC49: 해당없음
A50: 보통인부 | H50: =#REF! -> #REF! | I50: =#REF!+#REF! -> #REF! | J50: =ROUNDDOWN(#REF!/2,2) -> #REF! | K50: =ROUND(#REF!+#REF!+#REF!+#REF!+#REF!,2) -> #REF! | M50: =ROUND(#REF!,2) -> #REF! | N50: =SUM(B50:M50) -> #REF! | V50: 47 | W50: 7 | X50: =W50*200 -> 1400 | Y50: 완(15° 미만) | Z50: 3ha 이상 | AA50: 6~9월 | AB50: 해당없음 | AC50: 해당없음
A51: 특별인부 | G51: =F7 -> 3.3 | N51: =SUM(B51:M51) -> 3.3 | V51: 48 | W51: 9 | X51: =W51*200 -> 1800 | Y51: 완(15° 미만) | Z51: 3ha 이상 | AA51: 6~9월 | AB51: 해당없음 | AC51: 해당없음
A52: 계 | B52: =SUM(B49:B51) -> 0 | C52: =SUM(C49:C51) -> 0 | D52: =SUM(D49:D51) -> 0 | E52: =SUM(E49:E51) -> 0 | F52: =SUM(F49:F51) -> 0 | G52: =SUM(G49:G51) -> 3.3 | N52: =SUM(B52:M52) -> 3.3 | V52: 49 | W52: 6 | X52: =W52*200 -> 1200 | Y52: 완(15° 미만) | Z52: 3ha 이상 | AA52: 6~9월 | AB52: 해당없음 | AC52: 해당없음
V53: 50 | W53: 3 | X53: =W53*200 -> 600 | Y53: 완(15° 미만) | Z53: 3ha 이상 | AA53: 6~9월 | AB53: 해당없음 | AC53: 해당없음
Q54: 숲가꾸기 할인할증요소 선택 기준(참고) | V54: 51 | W54: 5 | X54: =W54*200 -> 1000 | Y54: 완(15° 미만) | Z54: 3ha 이상 | AA54: 6~9월 | AB54: 해당없음 | AC54: 해당없음
A55: 숲가꾸기 할인할증요소 선택 기준(참고) | Q55: 할인할증요소 | R55: 요소분류 | S55: 할인할증율 | V55: 52 | W55: 6 | X55: =W55*200 -> 1200 | Y55: 완(15° 미만) | Z55: 3ha 이상 | AA55: 6~9월 | AB55: 해당없음 | AC55: 해당없음
A56: 할인할증요소 | B56: 요소분류 | C56: 할인할증률 | D56: 요소분류 | F56: 요소분류 | H56: 할인할증률 | J56: 할인할증율 | L56: 요소분류 | N56: 할인할증률 | Q56: 경사도 | R56: 완(15도 이하) | S56: 0 | V56: 53 | W56: 3 | X56: =W56*200 -> 600 | Y56: 완(15° 미만) | Z56: 3ha 이상 | AA56: 6~9월 | AB56: 해당없음 | AC56: 해당없음
A57: 경사도 | D57: 장애물의 정도 | J57: 선목시기 | R57: 중(15-30도이하) | S57: 5 | V57: 54 | W57: 6 | X57: =W57*200 -> 1200 | Y57: 완(15° 미만) | Z57: 3ha 이상 | AA57: 6~9월 | AB57: 해당없음 | AC57: 해당없음
A58: 완(15도 이하) | B58: 중(15-30도이하) | C58: 급(30도 초과) | D58: 무릎높이 이하 초본ㆍ관목 | F58: 가슴높이 미만 초본ㆍ관목 | H58: 가슴높이 이상 초본ㆍ관목 | J58: 10월-11월, 3월-4월 | L58: 12월-2월 | N58: 5월-9월 | R58: 급(30도 초과) | S58: 10 | V58: 55 | W58: 8 | X58: =W58*200 -> 1600 | Y58: 완(15° 미만) | Z58: 3ha 이상 | AA58: 6~9월 | AB58: 해당없음 | AC58: 해당없음
A59: 0 | B59: 5 | C59: 10 | D59: -10 | E59: 0 | F59: 0 | H59: 10 | J59: -10 | K59: 0 | L59: 0 | N59: 10 | Q59: 장애물의 정도 | R59: 무릎높이 이하 초본ㆍ관목 | S59: -10 | V59: 56 | W59: 4 | X59: =W59*200 -> 800 | Y59: 완(15° 미만) | Z59: 3ha 이상 | AA59: 6~9월 | AB59: 해당없음 | AC59: 해당없음
R60: 가슴높이 미만 초본ㆍ관목 | S60: 0 | V60: 57 | W60: 5 | X60: =W60*200 -> 1000 | Y60: 완(15° 미만) | Z60: 3ha 이상 | AA60: 6~9월 | AB60: 해당없음 | AC60: 해당없음
A61: 조림후 경과년수(줄베기) | D61: 제거대상식생 | J61: 제거대상피복도 | R61: 가슴높이 이상 초본ㆍ관목 | S61: 10 | V61: 58 | W61: 13 | X61: =W61*200 -> 2600 | Y61: 완(15° 미만) | Z61: 3ha 이상 | AA61: 6~9월 | AB61: 해당없음 | AC61: 해당없음
A62: 당해년도 | B62: 2년차 | C62: 3년차 | D62: 쉽다(높이1.2m 미만이고, 낫으로도 제거가 용이) | F62: 쉽다(높이1.2m 미만이고, 낫으로도 제거가 용이) | H62: 어렵다(높이1.2m 이상이고, 직경이 4-6cm 이상) | J62: 소 (임지의 40% 이하 분포) | L62: 중 (임지의 41%∼70% 분포) | N62: 밀 (임지의 71% 이상 분포)) | Q62: 선목시기 | R62: 10월-11월, 3월-4월 | S62: -10 | V62: 59 | W62: 4 | X62: =W62*200 -> 800 | Y62: 완(15° 미만) | Z62: 3ha 이상 | AA62: 6~9월 | AB62: 해당없음 | AC62: 해당없음
A63: 0 | B63: 2 | C63: 10 | D63: -10 | E63: 0 | F63: 0 | H63: 10 | J63: -20 | K63: 0 | L63: 0 | N63: 20 | R63: 12월-2월 | S63: 0 | V63: 60 | W63: 3 | X63: =W63*200 -> 600 | Y63: 완(15° 미만) | Z63: 3ha 이상 | AA63: 6~9월 | AB63: 해당없음 | AC63: 해당없음
R64: 5월-9월 | S64: 10 | V64: 61 | W64: 7 | X64: =W64*200 -> 1400 | Y64: 완(15° 미만) | Z64: 3ha 이상 | AA64: 6~9월 | AB64: 해당없음 | AC64: 해당없음
A65: 집단화정도(풀베기) | D65: 집단화정도 | J65: 작업시기(어린) | M65: 작업시기(덩굴류) | Q65: 제거대상식생 | R65: 쉽다(높이1.2m 미만이고, 낫으로도 제거가 용이) | S65: -10 | V65: 62 | W65: 7 | X65: =W65*200 -> 1400 | Y65: 완(15° 미만) | Z65: 3ha 이상 | AA65: 6~9월 | AB65: 해당없음 | AC65: 해당없음
A66: 개소당 평균면적이 5ha 이상 | B66: 개소당 평균면적이 3-5ha 미만 | C66: 개소당 평균면적이 3ha 미만 | D66: 개소당 평균면적이 3ha 이상 | F66: 개소당 평균면적이 1-3ha 미만 | H66: 개소당 평균면적이 1ha 미만 | J66: 1∼5월, 10월~12월 | L66: 6월∼9월 | M66: 1∼5월 | N66: 6월∼9월 | O66: 10월~12월 | R66: 보통이다(높이1.2m 이상이고,직경이 4-6cm 미만) | S66: 0 | V66: 63 | W66: 10 | X66: =W66*200 -> 2000 | Y66: 완(15° 미만) | Z66: 3ha 이상 | AA66: 6~9월 | AB66: 해당없음 | AC66: 해당없음
A67: 0 | B67: 5 | C67: 10 | D67: 0 | E67: 0 | F67: 5 | H67: 10 | J67: 0 | K67: 0 | L67: 10 | M67: 0 | N67: 10 | O67: 5 | R67: 어렵다(높이1.2m 이상이고, 직경이 4-6cm 이상) | S67: 10 | V67: 64 | W67: 6 | X67: =W67*200 -> 1200 | Y67: 완(15° 미만) | Z67: 3ha 이상 | AA67: 6~9월 | AB67: 해당없음 | AC67: 해당없음
Q68: 조림후 경과년수 (줄베기) | R68: 당해년도 | S68: 0 | V68: 65 | W68: 2 | X68: =W68*200 -> 400 | Y68: 완(15° 미만) | Z68: 3ha 이상 | AA68: 6~9월 | AB68: 해당없음 | AC68: 해당없음
A69: 토양조건 | D69: 하층식생 | J69: 덩굴 피복도 | R69: 2년차 | S69: 5 | V69: 66 | W69: 7 | X69: =W69*200 -> 1400 | Y69: 완(15° 미만) | Z69: 3ha 이상 | AA69: 6~9월 | AB69: 해당없음 | AC69: 해당없음
A70: 장애물이 거의 없음 | B70: 돌 등 장애물 함량이 10∼30%인 지역 | C70: 돌 등 장애물 함량이 30% 이상인 지역 | D70: 보행이 용이하다 | F70: 보행하는데 약간의 어려움이 있다 | H70: 식생을 제거하지 않고 보행이 곤란하다 | J70: 과밀(80%이상 피복) | K70: 밀(60∼80% 피복) | L70: 보통(40∼60% 피복) | M70: 소(20∼40% 피복) | N70: 과소(20%이하피복) | O70: 미적용 | R70: 3년차 | S70: 10 | V70: 67 | W70: 12 | X70: =W70*200 -> 2400 | Y70: 완(15° 미만) | Z70: 3ha 이상 | AA70: 6~9월 | AB70: 해당없음 | AC70: 해당없음
A71: 0 | B71: 5 | C71: 10 | D71: 0 | E71: 0 | F71: 5 | H71: 10 | J71: 50 | K71: 20 | L71: 0 | M71: -20 | N71: -50 | Q71: 집단화정도(풀베기) | R71: 개소당 평균면적이 5ha 이상 | S71: 0 | V71: 68 | W71: 3 | X71: =W71*200 -> 600 | Y71: 완(15° 미만) | Z71: 3ha 이상 | AA71: 6~9월 | AB71: 해당없음 | AC71: 해당없음
R72: 개소당 평균면적이 3-5ha 미만 | S72: 5 | V72: 69 | W72: 5 | X72: =W72*200 -> 1000 | Y72: 완(15° 미만) | Z72: 3ha 이상 | AA72: 6~9월 | AB72: 해당없음 | AC72: 해당없음
A73: 임상 | B73: 규격재생산적용 | R73: 개소당 평균면적이 3ha 미만 | S73: 10 | V73: 70 | W73: 4 | X73: =W73*200 -> 800 | Y73: 완(15° 미만) | Z73: 3ha 이상 | AA73: 6~9월 | AB73: 해당없음 | AC73: 해당없음
A74: 침엽수림 | B74: 규격재 생산을 위한 조재 | C74: 미적용 | Q74: 집단화정도 | R74: 개소당 평균면적이 3ha 이상 | S74: 0 | V74: 71 | W74: 2 | X74: =W74*200 -> 400 | Y74: 완(15° 미만) | Z74: 3ha 이상 | AA74: 6~9월 | AB74: 해당없음 | AC74: 해당없음
A75: 10 | B75: 10 | C75: 0 | J75: 50 | K75: 20 | L75: 0 | M75: -20 | N75: -50 | R75: 개소당 평균면적이 1-3ha 미만 | S75: 5 | V75: 72 | W75: 6 | X75: =W75*200 -> 1200 | Y75: 완(15° 미만) | Z75: 3ha 이상 | AA75: 6~9월 | AB75: 해당없음 | AC75: 해당없음
R76: 개소당 평균면적이 1ha 미만 | S76: 10 | V76: 73 | W76: 3 | X76: =W76*200 -> 600 | Y76: 완(15° 미만) | Z76: 3ha 이상 | AA76: 6~9월 | AB76: 해당없음 | AC76: 해당없음
Q77: 작업시기(덩굴류) | R77: 1∼5월 | S77: 0 | V77: 74 | W77: 4 | X77: =W77*200 -> 800 | Y77: 완(15° 미만) | Z77: 3ha 이상 | AA77: 6~9월 | AB77: 해당없음 | AC77: 해당없음
R78: 6월∼9월 | S78: 10 | V78: 75 | W78: 7 | X78: =W78*200 -> 1400 | Y78: 완(15° 미만) | Z78: 3ha 이상 | AA78: 6~9월 | AB78: 해당없음 | AC78: 해당없음
R79: 10월~12월 | S79: 5
Q80: 작업시기(어린) | R80: 1∼5월, 10월~12월 | S80: 0 | V80: 76 | W80: 6 | X80: =W80*200 -> 1200 | Y80: 완(15° 미만) | Z80: 3ha 이상 | AA80: 6~9월 | AB80: 해당없음 | AC80: 해당없음
R81: 6월∼9월 | S81: 10 | V81: 77 | W81: 7 | X81: =W81*200 -> 1400 | Y81: 완(15° 미만) | Z81: 3ha 이상 | AA81: 6~9월 | AB81: 해당없음 | AC81: 해당없음
Q82: 규격재생산적용 | R82: 규격재 생산을 위한 조재 | S82: 10 | V82: 78 | W82: 8 | X82: =W82*200 -> 1600 | Y82: 완(15° 미만) | Z82: 3ha 이상 | AA82: 6~9월 | AB82: 해당없음 | AC82: 해당없음
R83: 미적용 | S83: 0 | V83: 79 | W83: 7 | X83: =W83*200 -> 1400 | Y83: 완(15° 미만) | Z83: 3ha 이상 | AA83: 6~9월 | AB83: 해당없음 | AC83: 해당없음
Q84: 제거대상피복도 | R84: 소 (임지의 40% 이하 분포) | S84: -20 | V84: 80 | W84: 2 | X84: =W84*200 -> 400 | Y84: 완(15° 미만) | Z84: 3ha 이상 | AA84: 6~9월 | AB84: 해당없음 | AC84: 해당없음
R85: 중 (임지의 41%∼70% 분포) | S85: 0 | V85: 81 | W85: 5 | X85: =W85*200 -> 1000 | Y85: 완(15° 미만) | Z85: 3ha 이상 | AA85: 6~9월 | AB85: 해당없음 | AC85: 해당없음
R86: 밀 (임지의 71% 이상 분포)) | S86: 20 | V86: 82 | W86: 13 | X86: =W86*200 -> 2600 | Y86: 완(15° 미만) | Z86: 3ha 이상 | AA86: 6~9월 | AB86: 해당없음 | AC86: 해당없음
Q87: 하층식생 | R87: 보행이 용이하다 | S87: 0 | V87: 83 | W87: 3 | X87: =W87*200 -> 600 | Y87: 완(15° 미만) | Z87: 3ha 이상 | AA87: 6~9월 | AB87: 해당없음 | AC87: 해당없음
Q88: 하층식생 | R88: 보행하는데 약간의 어려움이 있다 | S88: 5 | V88: 84 | W88: 6 | X88: =W88*200 -> 1200 | Y88: 완(15° 미만) | Z88: 3ha 이상 | AA88: 6~9월 | AB88: 해당없음 | AC88: 해당없음
Q89: 하층식생 | R89: 식생을 제거하지 않고 보행이 곤란하다 | S89: 10 | V89: 85 | W89: 12 | X89: =W89*200 -> 2400 | Y89: 완(15° 미만) | Z89: 3ha 이상 | AA89: 6~9월 | AB89: 해당없음 | AC89: 해당없음
Q90: 임상 | R90: 침엽수림 | S90: 10 | V90: 86 | W90: 4 | X90: =W90*200 -> 800 | Y90: 완(15° 미만) | Z90: 3ha 이상 | AA90: 6~9월 | AB90: 해당없음 | AC90: 해당없음
Q91: 소운반거리 | R91: 0-5m | S91: 0 | V91: 87 | W91: 5 | X91: =W91*200 -> 1000 | Y91: 완(15° 미만) | Z91: 3ha 이상 | AA91: 6~9월 | AB91: 해당없음 | AC91: 해당없음
Q92: 소운반거리 | R92: 6-10m | S92: 5 | V92: 88 | W92: 11 | X92: =W92*200 -> 2200 | Y92: 완(15° 미만) | Z92: 3ha 이상 | AA92: 6~9월 | AB92: 해당없음 | AC92: 해당없음
Q93: 소운반거리 | R93: 11-20m | S93: 10 | V93: 89 | W93: 4 | X93: =W93*200 -> 800 | Y93: 완(15° 미만) | Z93: 3ha 이상 | AA93: 6~9월 | AB93: 해당없음 | AC93: 해당없음
Q94: 집재방향 | R94: 하향10% | S94: 0 | V94: 90 | W94: 3 | X94: =W94*200 -> 600 | Y94: 완(15° 미만) | Z94: 3ha 이상 | AA94: 6~9월 | AB94: 해당없음 | AC94: 해당없음
Q95: 집재방향 | R95: 하향10% | S95: 1 | V95: 91 | W95: 5 | X95: =W95*200 -> 1000 | Y95: 완(15° 미만) | Z95: 3ha 이상 | AA95: 6~9월 | AB95: 해당없음 | AC95: 해당없음
Q96: 집재방향 | R96: 하향20% | S96: 2 | V96: 92 | W96: 7 | X96: =W96*200 -> 1400 | Y96: 완(15° 미만) | Z96: 3ha 이상 | AA96: 6~9월 | AB96: 해당없음 | AC96: 해당없음
Q97: 집재방향 | R97: 하향30% | S97: 3 | V97: 93 | W97: 8 | X97: =W97*200 -> 1600 | Y97: 완(15° 미만) | Z97: 3ha 이상 | AA97: 6~9월 | AB97: 해당없음 | AC97: 해당없음
Q98: 집재방향 | R98: 하향40% | S98: 4 | V98: 94 | W98: 6 | X98: =W98*200 -> 1200 | Y98: 완(15° 미만) | Z98: 3ha 이상 | AA98: 6~9월 | AB98: 해당없음 | AC98: 해당없음
... Q104: 집재방향 | R104: 하향100% | S104: 10 | V104: 100 | W104: 3 | X104: =W104*200 -> 600 | Y104: 완(15° 미만) | Z104: 3ha 이상 | AA104: 6~9월 | AB104: 해당없음 | AC104: 해당없음
Q105: 주행 장애물 상태 | R105: 돌,도랑,그루터기 등으로 주행이 매우 힘들다 | S105: 10 | V105: 계 | X105: =AVERAGE(X4:X104) -> 1186
...

Sheet 제비율
B2: ※ 적용시기 : 2026. 01. 01. 기초금액 발표분부터 | AL2: 2026년 토목∙조경∙산업환경설비공사 원가계산 간접공사비(제비율) 적용기준 (참고: 간접노무비율, 기타경비율, 일반관리비율, 이윤율, 공사이행보증수수료율은 조달청 분석요율임)
AC3: [간접노무비] | AL3: [기타경비] | BD3: [일반관리비] | BS3: [이윤] | BZ3: [건설기계대여대금 지급보증액 발급금액] | DK3: [산업안전보건관리비]
B7: 공사규모 | M7: 공사기간 | AC7: (직노) x 율 | AL7: (재+노) x 율 | AU7: 공사규모 | BD7: (재+노+경) x 율 | BS7: (노+경+일) x 율 | BZ7: (직접공사비) x 율 | DK7: □ 도급자관급자재 미포함 | EB7: (재+직노) x 요율 + 기초액
B9: (직접공사비) | AC9: 토목 | AF9: 조경 | AI9: 산업 설비 (토목) | AL9: 토목 | AO9: 조경 | AR9: 산업 설비 (토목) | AU9: (추정가격) | BD9: 토목, 조경, 산업∙설비(토목) | BL9: 전문· 전기·통신· 소방·기타
BZ11: 종합건설업 | CN11: 전문건설업 | DK11: □ 도급자관급자재 포함 | EB11: (재+직노+도급자관급) x 요율주2) + 기초액과
EB13: ((재+직노) x 요율주3) + 기초액) x 1.2 중 작은 금액
B15: 10억 미만 | M15: 6개월 이하 (183일) | AC15: 16.5 | AF15: 16.2 | AI15: =AC15 -> 16.5 | AL15: 5.2 | AO15: 4.6 | AR15: =AL15 -> 5.2 | AU15: 5억 미만 | BD15: 8 | BL15: 8 | BS15: 15 | BZ15: 구분 | CI15: 요율 | CN15: 구분 | DE15: 요율 | DK15: 산업안전보건관리비 대상액주1) | EB15: 구분 | ES15: 요율 | FA15: 기초액(천원)
M17: 7~12개월 (365일) | AC17: 16.7 | AF17: 16.3 | AI17: =AC17 -> 16.7 | AL17: 5.3 | AO17: 4.7 | AR17: =AL17 -> 5.3
M19: 13~36개월 (1095일) | AC19: 16.8 | AF19: 16.5 | AI19: =AC19 -> 16.8 | AL19: 5.6 | AO19: 5 | AR19: =AL19 -> 5.6 | BZ19: 토목공사(토건) | CI19: 0.4 | CN19: 준설공사, 포장공사 | DE19: 0.68 | DK19: 5억 미만 | EB19: 건축공사 | ES19: 3.11
M21: 36개월 초과 (1096일) | AC21: 17.7 | AF21: 17.4 | AI21: =AC21 -> 17.7 | AL21: 6.1 | AO21: 5.6 | AR21: =AL21 -> 6.1 | AU21: 5억 - 30억 미만 | BL21: 6.5 | EB21: 토목공사 | ES21: 3.15 | FA21: 2025.7.1.
B23: 10억 - 50억 미만 | M23: 6개월 이하 (183일) | AC23: 16.2 | AF23: 15.9 | AI23: =AC23 -> 16.2 | AL23: 5.3 | AO23: 4.7 | AR23: =AL23 -> 5.3 | CN23: 토공사, 비계구조물해제공사 | EB23: 중건설공사 | ES23: 3.64
M25: 7~12개월 (365일) | AC25: 16.4 | AF25: 16 | AI25: =AC25 -> 16.4 | AL25: 5.4 | AO25: 4.8 | AR25: =AL25 -> 5.4 | EB25: 특수건설공사 | ES25: 2.07
CN26: 상하수도설비공사, 수중공사 | DE26: 0.51
M27: 13~36개월 (1095일) | AC27: 16.5 | AF27: 16.2 | AI27: =AC27 -> 16.5 | AL27: 5.7 | AO27: 5.1 | AR27: =AL27 -> 5.7 | AU27: 30억 - 50억 미만 | BL27: 5 | DK27: 5억 ~ 50억 미만 | EB27: 건축공사 | ES27: 2.28 | FA27: 4325
M29: 36개월 초과 (1096일) | AC29: 17.5 | AF29: 17.1 | AI29: =AC29 -> 17.5 | AL29: 6.3 | AO29: 5.7 | AR29: =AL29 -> 6.3 | BZ29: 산업∙설비공사 | CI29: 0.16 | CN29: 보링그라우팅공사 | EB29: 토목공사 | ES29: 2.53 | FA29: 3300
B31: 50억 - 300억 미만 | M31: 6개월 이하 (183일) | AC31: 16.3 | AF31: 15.9 | AI31: =AC31 -> 16.3 | AL31: 5.7 | AO31: 5.2 | AR31: =AL31 -> 5.7 | EB31: 중건설공사 | ES31: 3.05 | FA31: 2975
CN32: 석공사, 시설물유지관리공사 | DE32: 0.32
M33: 7~12개월 (365일) | AC33: 16.4 | AF33: 16.1 | AI33: =AC33 -> 16.4 | AL33: 5.8 | AO33: 5.3 | AR33: =AL33 -> 5.8 | AU33: 50억 - 100억 미만 | BD33: 6.5 | BS33: 12 | EB33: 특수건설공사 | ES33: 1.59 | FA33: 2450
M35: 13~36개월 (1095일) | AC35: 16.6 | AF35: 16.2 | AI35: =AC35 -> 16.6 | AL35: 6.1 | AO35: 5.6 | AR35: =AL35 -> 6.1 | CN35: 철근콘크리트공사 | DK35: 50억 이상 | DR35: 추정금액 800억 미만 건설공사 (주공종이 토목인 경우 1,000억) | EB35: 건축공사 | ES35: 2.37
M37: 36개월 초과 (1096일) | AC37: 17.5 | AF37: 17.2 | AI37: =AC37 -> 17.5 | AL37: 6.7 | AO37: 6.2 | AR37: =AL37 -> 6.7 | EB37: 토목공사 | ES37: 2.6
BZ38: 조경공사 | CI38: 0.18 | CN38: 조경시설물설치, 조경식재공사 | DE38: 0.16
B39: 300억 - 1000억 미만 | M39: 6개월 이하 (183일) | AC39: 15.7 | AF39: 15.4 | AI39: =AC39 -> 15.7 | AL39: 6 | AO39: 5.5 | AR39: =AL39 -> 6 | AU39: 100억 - 300억 미만 | BL39: 4.5 | EB39: 중건설공사 | ES39: 3.11
M41: 7~12개월 (365일) | AC41: 15.9 | AF41: 15.5 | AI41: =AC41 -> 15.9 | AL41: 6.1 | AO41: 5.6 | AR41: =AL41 -> 6.1 | CN41: 도장공사, 철도궤도공사 | EB41: 특수건설공사 | ES41: 1.64
M43: 13~36개월 (1095일) | AC43: 16 | AF43: 15.6 | AI43: =AC43 -> 16 | AL43: 6.4 | AO43: 5.9 | AR43: =AL43 -> 6.4 | DR43: 추정금액 800억 이상 건설공사 (주공종이 토목인 경우 1,000억) | EB43: 건축공사 | ES43: 2.64
CN44: 철강재설치공사
M45: 36개월 초과 (1096일) | AC45: 16.9 | AF45: 16.6 | AI45: =AC45 -> 16.9 | AL45: 7 | AO45: 6.4 | AR45: =AL45 -> 7 | AU45: 300억 - 1000억 미만 | BD45: 5 | BS45: 10 | EB45: 토목공사 | ES45: 2.73
B47: 1000억 이상 | M47: 6개월 이하 (183일) | AC47: 15.7 | AF47: 15.3 | AI47: =AC47 -> 15.7 | AL47: 6.1 | AO47: 5.5 | AR47: =AL47 -> 6.1 | CN47: 그 외 | DE47: 0.1 | EB47: 중건설공사 | ES47: 3.39
M49: 7~12개월 (365일) | AC49: 15.8 | AF49: 15.5 | AI49: =AC49 -> 15.8 | AL49: 6.2 | AO49: 5.7 | AR49: =AL49 -> 6.2 | BZ49: * 적용제외: 국가유산수리공사, 전기, 정보통신, 소방시설 | EB49: 특수건설공사 | ES49: 1.78
M51: 13~36개월 (1095일) | AC51: 16 | AF51: 15.6 | AI51: =AC51 -> 16 | AL51: 6.5 | AO51: 6 | AR51: =AL51 -> 6.5 | AU51: 1000억 이상 | BD51: 4.5 | BS51: 9 | BZ51: ※ 건설기계대여대금 지급보증서 발급금액 및 업종별 건설기계 | DK51: * 총 공사금액(도급금액+도급자설치 관급금액) 2천만원 이상 건설공사
M53: 36개월 초과 (1096일) | AC53: 16.9 | AF53: 16.6 | AI53: =AC53 -> 16.9 | AL53: 7.1 | AO53: 6.5 | AR53: =AL53 -> 7.1 | BZ53: 투입비율 산정기준(국토부 고시 제2019-286호, 2019.6.19.) | DK53: 주1) 산업안전보건관리비 대상액
B55: * 기타경비항목: 수도광열비, 복리후생비, 소모품비, 여비∙교통비∙통신비, 세금과공과, 도서인쇄비
DK56: - 재료비+직접노무비+도급자설치 관급금액
B57: □ 산업∙설비(토목) 해당공종: 수처리시설(오폐수, 하수처리, 분뇨처리, 정수장) 등
B59: [고용보험료] | AU59: [건강보험료] | BD59: [노인장기요양보험료] | BR59: [연금보험료] | BZ59: [산재보험료] | DK59: 주2) 대상액이 재료비, 직접노무비, 도급자관급의 합계금액인 요율
DK62: 주3) 대상액이 재료비, 직접노무비의 합계금액인 요율
B63: (노) x 율 | AU63: (직노) x 3.595 | BD63: (건강보험료) x 13.14 | BR63: (직노) x 4.75 | BZ63: (노) x 3.56
B65: 공사배정규모(추정금액) | AH65: 요율 | AU65: * 공사기간 1개월(30일) 이상 모든 건설공사 (노인장기요양보험료는 소수점 다섯째자리에서 반올림) | BZ65: * 모든 건설공사 적용. 노동부 고시 제2024-77호(2024. 12. 30.), 산업재해보상보험법시행령 | DK65: * 산업안전보건관리비 산출 건설공사의 종류
B67: [1등급] 1400억 이상 | AH67: 1.57
DK68: - [건축공사] 「건설산업기본법 시행령」 (별표 1) 제1호 '나'목 / 제2호의 전문공사로서 건축물과
B69: [2등급] 900억 ~ 1400억 미만 | AH69: 1.30 | AU69: ※ 사회보험의 보험료 적용기준 (국토부 고시 제2021-905호, 2021.7.1.) | BZ69: ※ 사회보험의 보험료 적용기준 (국토부 고시 제2021-905호, 2021.7.1.)
B71: [3등급] 570억 ~ 900억 미만 | AH71: 1.13 | AU71: [환경보전비] | BZ71: [건설하도급대금지급보증서발급수수료] | DK71: 관련하여 분리하여 발주되었고 시간적·장소적으로도 독립하여 행하는 공사
B73: [4등급] 370억 ~ 570억 미만 | AH73: 1.06
DK74: - [토목공사] 「건설산업기본법 시행령」 (별표 1) 제1호 '가'목, '라'목 / 제2호의 전문공사로서
B75: [5등급] 220억 ~ 370억 미만 | AH75: 1.03 | AU75: (직접공사비) x 율 | BZ75: (직접공사비) x 율
B77: [6등급] 140억 ~ 220억 미만 | AH77: 1.02 | AU77: 공사의 종류 | BU77: 요율 | BZ77: 공사규모(추정가격) | DC77: 요율 | DK77: 건축공사 외의 시설물과 관련하여 분리하여 발주되었고 시간적·장소적으로도 독립하여 행하는 공사
B79: [7등급] 고시금액 ~ 140억 미만 | AH79: 1.01
AU80: 토목 | AZ80: 도로(예시: 교량,터널,활주로 등) | BU80: 0.9 | BZ80: 50억 미만 | DC80: 0.081 | DK80: - [중건설공사] 「건설산업기본법 시행령」 (별표 1) 제1호 '가'목, '라'목 해당공사 중
B81: 7등급 미만
AZ82: 플랜트(예시: 발전소,쓰레기소각장 등) | BU82: 0.4
B83: * 모든 건설공사에 적용, 국토부 고시 제2021-905호(2021.7.1.), 고용보험법 시행령 | BZ83: 50억 이상 - 100억 미만 | DC83: 0.08 | DK83: 다음과 같은 공사 및 이와 함께 부대하여 현장 내에서 행하는 공사
AZ84: 지하철 | BU84: 0.5
B85: * 총공사금액[(도급금액+관급금액)에서 부가세 제외] 2천만원 미만의 건설공사를 건설업자가 아닌 자가 시공 시 미적용
AZ86: 철도 | BU86: 1.5 | BZ86: 100억 이상 - 300억 미만 | DC86: 0.075 | DK86: · 고제방 댐 공사 등 - 댐 신설공사, 제방신설공사와 관련한 제반시설공사
B87: ※ 등급기준: 조달청 등급별 유자격자 명부 등록 및 운용기준(조달청 공고 제2023-235호, 2023.7.6.)
AZ88: 상하수도(예시: 폐수, 하수처리장, 정수장 등) | BU88: 0.5
B89: ※ 사회보험의 보험료 적용기준 (국토부 고시 제2021-905호, 2021.7.1.) | BZ89: 300억 이상 종심∙종평제(토목 및 산업설비) | DC89: 0.071 | DK89: · 화력, 수력, 원자력, 열병합 발전시설 등 설치공사 - 화력, 수력, 원자력, 열병합 발전시설과 관련된 신설공사 및 제반시설공사
AZ90: 항만 | BU90: 0.8
B91: [공사이행보증수수료]
AZ92: (오탁방지막 또는 준설토방지막을 설치하는 경우) | BU92: (1.8) | BZ92: 300억 이상 종심∙종평제(건축) | DC92: 0.068 | DK92: · 터널신설공사 등 - 도로, 철도, 지하철 공사로서 터널, 교량, 토공사 등이 포함된 복합시설물로 구성된 공사에 있어
AZ94: 댐 | BU94: 1.1
B95: 공사규모(직접공사비) | P95: 수수료 | BZ95: 턴키∙대안공사 | DC95: 0.084 | DK95: 터널공사비 비중이 가장 큰 비중을 차지하는 건설공사
AZ96: 택지개발 | BU96: 0.6
B98: 70억 미만 | P98: [직공비x0.0108%]x공기(년) | AZ98: 그 밖의 토목공사(하천 등) | BU98: 0.8 | BZ98: * 적용제외: 전문공사, 국가유산수리공사 | DK98: - [특수건설공사] 「건설산업기본법 시행령」(별표1) 제1호 '마'목로서 시행규칙(별표3)에서 구분한 조경공사
AU100: 조경 | AZ100: 조경 | BU100: 0.3 | BZ100: ※ 하도급대금 지급보증서 발급금액 적용기준
B101: 70억 이상 - 120억 미만 | P101: [79만원+(직공비-75억원)x0.0070%]x공기(년) | DK101: /아래 각목에 따른 건설공사 중 다른 공사와 분리하여 발주되었고 시간적·장소적으로도 독립하여 행하는 공사
AU102: 건축 | AZ102: 주택(재개발 및 재건축) | BU102: 0.7 | BZ102: (국토부 고시 제2016-921호, 2016.12.19.)
B104: 120억 이상 - 250억 미만 | P104: [116만원+(직공비-130억원)x0.0059%]x공기(년) | AZ104: 주택(신축) | BU104: 0.3 | DK104: · 「전기공사업법」, 「정보통신공사업법」, 「소방공사업법」, 「문화재수리공사업법」에 의한 공사
BZ105: [퇴직공제부금비]
AZ106: 그 밖의 건축공사 | BU106: 0.5
B107: 250억 이상 - 500억 미만 | P107: [186만원+(직공비-250억원)x0.0048%]x공기(년) | DK107: 비고 1 건축물과 관련하여 공사가 수행된다 하더라도 독립하여 행하는 공사가 토목공사, 중건설공사가 명백한 경우 해당 공사 종류로 분류
AU108: * 환경관리비의 산출기준 및 관리에 관한 지침
BZ109: (직노) x 2.3
B110: 500억 이상 | P110: [306만원+(직공비-500억원)x0.0040%]x공기(년) | DK110: 2 건축공사, 토목공사 및 중건설공사와 함께 부대하여 현장 내에서 이루어지는 공사는 개별 법령에 따라 수행되는 공사를 포함
AU111: (국토부 고시 제2018-528호, 2018.8.30.)
BZ112: * 추정금액이 1억 이상인 건설공사
B113: * 「지방계약법 시행령」 제51조제1항에 따른 적용 의무 대상 | AU113: ※ 적용제외: 전기공사, 정보통신공사, 소방시설공사, | DK113: ※ 건설업 산업안전보건관리비 계상 및 사용기준 (고용노동부 고시 제2024-53호, 2024.9.19.)
BZ114: ※ 국토부 고시 제2015-610호(2015.8.20.) 요율 적용
B115: - (시행령 제42조 제1항) 추정가격 300억 이상인 공사의 계약
AU116: 국가유산 수리공사
B117: - (시행령 제6장) 대형공사계약(대안입찰, 일괄입찰), 특정공사의 계약 | BZ117: □ 전기∙통신∙소방∙전문 및 기타공사의 경우 일반관리비요율을 제외한 각종 요율은 토목, 건축 등 관련 공사업종에 따라 적용
B119: - (시행령 제9장) 기술제안 입찰에 의한 계약 | BZ119: (단. 공사규모 및 기간은 해당공종<전기∙통신∙소방∙전문 및 기타공사>을 기준으로 함)
B122: 위 적용기준은 조달청 발주공사에 적용하는 기준이므로 참고자료로 활용하시기 바랍니다.

Sheet 솎아베기
A1: ha당 숲가꾸기(솎아베기) 단가 산출서 | P1: 선택항목 | Q1: 입력항목
A2: 위 치 | C2: =표지!E28 -> 서귀포시 남원읍 한남리 산 2-1 외 | H2: 수 종 | I2: 삼나무 | J2: 사업면적 | K2: =설계내역서!H14 -> 0 | L2: ha
A3: 구 분 | C3: 작업량 | E3: 단위품(인원,수량 | G3: 소요품 | H3: 단가 | J3: 할인 ,증률 | L3: 계
B4: 단위작업 | D4: 단위 | E4: ,요율) | F4: 단위 | I4: 종류 | O4: 적용여부
B5: ○ 선목 | E5: ○ 미래목 본수 | O5: 적용 | Q5: 구분 | R5: 소요인력 | S5: 소요재료 | T5: 재료량
B6: - 직접노무비 | D6: =IF(C5="","",IF(C5="미래목","ha","본/ha")) | E6: =IF(C5="제거대상목",R6,R7) -> 1 | F6: =IF(C5=Q7,"인/ha","인/100본당") -> 인/100본당 | G6: =IF(O5="적용",IF(C5="미래목",1,ROUND(C6*E6/100,2)),0) -> 0 | I6: 초급기술자 | J6: =$D$152 -> 0 | K6: % | L6: =ROUNDDOWN((G6*H6)*(1+J6%),0) -> 0 | Q6: 제거대상목 | R6: 0.4 | S6: 적색페인트 | T6: 0.17
B7: - 재료비 | Q7: 미래목 | R7: 1 | S7: 황색페인트 | T7: 0.5
B8: * 페인트 | C8: =IF(C5="미래목",$F$5,$C$6) -> 0 | D8: 본/ha | E8: =IF(C5="제거대상목",T6,T7) -> 0.5 | F8: ℓ/100본당 | G8: =IF(O5="적용",ROUND(C8*(E8/100),2),0) -> 0 | I8: =IF(C5="제거대상목",S6,S7) -> 황색페인트 | L8: =ROUNDDOWN(G8*H8,0) -> 0
B9: * 잡품 | C9: =L8 -> 0 | D9: 원 | E9: 10 | F9: % | L9: =ROUNDDOWN(C9*E9%,0) -> 0
B10: ○ 경계표시 | O10: 적용
B11: - 직접노무비 | D11: ha | E11: 0.2 | F11: 인/ha | G11: =IF(O10="적용",ROUND(C11*E11,2),0) -> 0 | I11: 보통인부 | J11: =$E$152 -> 0 | K11: % | L11: =ROUNDDOWN((G11*H11)*(1+J11%),0) -> 0
B12: - 재료비
B13: * 백색페인트 | D13: ha | E13: 0.2 | F13: ℓ/ha | G13: =IF(O10="적용",ROUND(C13*E13,2),0) -> 0 | I13: 백색페인트 | L13: =ROUNDDOWN(G13*H13,0) -> 0
B14: * 잡품 | C14: =L13 -> 0 | D14: 원 | E14: 5 | F14: % | L14: =ROUNDDOWN(C14*E14%,0) -> 0
B15: ○ 작업로 선정 | O15: 적용 | Q15: 구분 | R15: 100본기준 | S15: 단위 | T15: 재료명 | U15: 잡품비율
B16: - 직접노무비 | D16: km | E16: 1 | F16: 인/km | G16: =IF(O15="적용",ROUND(C16*E16,2),0) -> 0 | I16: 보통인부 | J16: =$F$152 -> 0 | K16: % | L16: =ROUNDDOWN((G16*H16)*(1+J16%),0) -> 0 | Q16: * 백색페인트 | R16: 0.5 | S16: ℓ/km | T16: 백색페인트 | U16: 0.05
B17: - 재료비 | Q17: * 백색마킹테이프 | R17: 0.6 | S17: 롤/km | T17: 백색마킹테이프 | U17: 0
C18: =C16 -> 0 | D18: km | E18: =IF(B18=Q16,R16,R17) -> 0.6 | F18: =IF(B18=Q16,S16,S17) -> 롤/km | G18: =IF(O15="적용",ROUND(C18*E18,2),0) -> 0 | I18: =IF(B18=Q16,T16,T17) -> 백색마킹테이프 | L18: =ROUNDDOWN(G18*H18,0) -> 0
B19: * 잡품 | C19: =L18 -> 0 | D19: 원 | E19: =IF(ISERROR(VLOOKUP($B$18,$Q$16:$U$17,5,FALSE)),0,VLOOKUP($B$18,$Q$16:$U$17,5,FALSE))*100 -> 0 | F19: % | L19: =ROUNDDOWN(C19*E19%,0) -> 0
B20: ○ 작업로 설치 | O20: 적용
B21: - 직접노무비
B22: * 소작업로 | D22: km | E22: 2 | F22: 인/km | G22: =IF(O20="적용",ROUND(C22*E22,2),0) -> 0 | I22: 보통인부 | J22: =$G$152 -> 0 | K22: % | L22: =ROUNDDOWN((G22*H22)*(1+J22%),0) -> 0
B23: - 재료비
B24: * 연료 | C24: =G22 -> 0 | D24: 인/ha | E24: =5.6/2 -> 2.8 | F24: ℓ/km | G24: =IF(O20="적용",ROUND(C24*E24,2),0) -> 0 | I24: 휘발유 | L24: =ROUNDDOWN(G24*H24,0) -> 0
B25: * 잡품 | C25: =L24 -> 0 | D25: 원 | E25: 95 | F25: % | L25: =ROUNDDOWN(C25*E25%,0) -> 0
B26: - 기계경비 | C26: =G22 -> 0 | D26: 인 | E26: 0.0042 | F26: 1대2인 | I26: 체인톱 | L26: =ROUNDDOWN(C26*E26*H26,0) -> 0
B27: ○ 풀베기 | C27: 모두베기 | O27: 적용 | Q27: 구분 | R27: 조건 | S27: 사용도구 | T27: 단위 | U27: 인력구성 | V27: 소요인력
B28: ○ 묘목찾기 | C28: =S28 -> 낫 | E28: (줄베기, 모두베기에만 적용) | O28: 적용 | Q28: 묘목찾기 | S28: 낫 | T28: 인/100본 | U28: 보통인부 | V28: 0.07
B29: - 직접노무비 | C29: =O40 -> 0 | D29: 본/ha | E29: =V28 -> 0.07 | F29: 인/100본 | G29: =IF(O28="적용",ROUND(C29*E29/100,2),0) -> 0 | H29: 138989 | I29: 보통인부 | J29: =$H$152 -> 0 | K29: % | L29: =ROUNDDOWN((G29*H29)*(1+J29%),0) -> 0 | O29: ha당 식재본수 | Q29: 맹아제거 | S29: 괭이,도끼 등 | T29: 인/100본 | U29: 보통인부 | V29: 0.2
B30: ○ 맹아제거 | C30: =S29 -> 괭이,도끼 등 | E30: (둘레베기, 줄베기에만 적용) | O30: 적용 | Q30: 둘레베기 | S30: 낫 | T30: 인/100본 | U30: 보통인부 | V30: 0.18
B31: - 직접노무비 | D31: 본/ha | E31: =V29 -> 0.2 | F31: 인/100본 | G31: =IF(O30="적용",ROUND(C31*E31/100,2),0) -> 0 | I31: 보통인부 | J31: =IF($H$142="",0,$H$142)+IF($H$147="",0,H$147) -> 0 | K31: % | L31: =ROUNDDOWN((G31*H31)*(1+J31%),0) -> 0 | Q31: 줄베기 | S31: 예취기 | T31: 인/ha | U31: 특별인부 | V31: 1.3
B32: ○ 둘레베기 | C32: =S30 -> 낫 | Q32: 모두베기 | R32: 조림 당해 연도 | S32: 예취기 | T32: 인/ha | U32: 특별인부 | V32: 3.5
B33: - 직접노무비 | D33: 본/ha | E33: 0.18 | F33: 인/100본 | G33: =IF((C27="둘레베기")*(O27="적용"),ROUND(C33*E33/100,2),0) -> 0 | I33: 보통인부 | J33: =$H$152 -> 0 | K33: % | L33: =ROUNDDOWN((G33*H33)*(1+J33%),0) -> 0 | Q33: 모두베기 | R33: 조림 2년차 | S33: 예취기 | T33: 인/ha | U33: 특별인부 | V33: 4
B34: ○ 줄베기 | C34: =S31 -> 예취기 | Q34: 모두베기 | R34: 조림 3년차 이상 | S34: 예취기 | T34: 인/ha | U34: 특별인부 | V34: 5
B35: - 직접노무비 | C35: 1 | D35: ha | E35: 1.3 | F35: 인/ha | G35: =IF((C27="줄베기")*(O27="적용"),ROUND(C35*E35,2),0) -> 0 | I35: 특별인부 | J35: =$H$152 -> 0 | K35: % | L35: =ROUNDDOWN((G35*H35)*(1+J35%),0) -> 0
B36: - 재료비
B37: * 연료 | C37: =G35 -> 0 | D37: 인/ha | E37: 5 | F37: ℓ/일.대 | G37: =IF(O27="적용",ROUND(C37*E37,2),0) -> 0 | I37: 휘발유 | L37: =ROUNDDOWN(G37*H37,0) -> 0
B38: * 잡품 | C38: =L37 -> 0 | D38: 원 | E38: 10 | F38: % | L38: =ROUNDDOWN(C38*E38%,0) -> 0
B39: - 기계경비 | C39: =G35 -> 0 | D39: 대/ha | E39: 0.0084 | F39: 1대1인 | I39: 예초기 | L39: =ROUNDDOWN(C39*E39*H39,0) -> 0
B40: ○ 모두베기 | C40: =S32 -> 예취기 | D40: =IF($E$27="","","("&$E$27&")") | P40: 표준지크기(m2) | Q40: 생존목(본) | R40: 1ha | S40: 묘목본수
B41: - 직접노무비 | D41: ha | E41: =IF(E27=R32,V32,IF(E27=R33,V33,IF(E27=R34,V34,0))) -> 0 | F41: 인/ha | G41: =IF(($C$27="모두베기")*($O$27="적용"),ROUND(C41*E41,2),0) -> 0 | H41: 167926 | I41: 특별인부 | J41: =$H$152 -> 0 | K41: % | L41: =ROUNDDOWN((G41*H41)*(1+J41%),0) -> 0 | O41: 활착율 | P41: 200 | Q41: 96 | R41: 10000 | S41: =Q41*R41/P41 -> 4800
B42: - 재료비 | O42: 100
B43: * 연료 | C43: =G41 -> 0 | D43: 인/ha | E43: 5 | F43: ℓ/인 | G43: =IF(O27="적용",ROUND(C43*E43,2),0) -> 0 | H43: 1260 | I43: 휘발유 | L43: =ROUNDDOWN(G43*H43,0) -> 0 | O43: =700*5 -> 3500 | R43: 구분 | S43: 구분 | T43: 1ha당 | U43: 단위 | W43: 표준지1 | X43: 표준지2 | Y43: 평균
B44: * 잡품 | C44: =L43 -> 0 | D44: 원 | E44: 10 | F44: % | L44: =ROUNDDOWN(C44*E44%,0) -> 0 | Q44: 약제처리 | R44: 약제처리 | S44: 600본 미만 | T44: 3.9 | U44: 인 | V44: 표준지당 | W44: 35
B45: - 기계경비 | C45: =G41 -> 0 | D45: 인 | E45: 0.0084 | F45: 1대1인 | H45: 800000 | I45: 체인톱 | L45: =ROUNDDOWN(C45*E45*H45,0) -> 0 | Q45: 비닐랩밀봉 | R45: 약제처리 | S45: 600-800본 | T45: 5.4 | U45: 인 | V45: 1ha당 | W45: =W44*25 -> 875
B46: ○ 덩굴류제거 | C46: 뿌리굴취 | O46: 적용 | Q46: 칡뿌리절단기 | R46: 약제처리 | S46: 801-1,000본 | T46: 7 | U46: 인
B47: - 직접노무비 | Q47: 뿌리굴취 | R47: 약제처리 | S47: 1,001-1,200본 | T47: 8.6 | U47: 인
B48: 801-1,000본 | C48: 0 | D48: ha | E48: =IF(ISERROR(IF(C46=Q47,VLOOKUP(B48,S49:T53,2,FALSE),VLOOKUP(B48,S44:T48,2,FALSE))),0,IF(C46=Q47,VLOOKUP(B48,S49:T53,2,FALSE),VLOOKUP(B48,S44:T48,2,FALSE))) -> 10.5 | F48: 인/ha | G48: =IF(O46="적용",ROUND(C48*E48,2),0) -> 0 | H48: 138989 | I48: 보통인부 | J48: =$I$152 -> 0 | K48: % | L48: =ROUNDDOWN((G48*H48)*(1+J48%),0) -> 0 | R48: 약제처리 | S48: 1,200본 초과 | T48: 10.1 | U48: 인
B49: - 재료비 | R49: 뿌리굴취 | S49: 600본 미만 | T49: 5.8 | U49: 인
B50: * 농약 | D50: 본/ha | E50: =IF(C46=Q44,1.5,0) -> 0 | F50: mℓ | G50: =IF(O46="적용",ROUND(C50*E50/300,2),0) -> 0 | I50: 농약(근사미) | L50: =ROUNDDOWN(G50*H50,0) -> 0 | R50: 뿌리굴취 | S50: 600-800본 | T50: 8.2 | U50: 인
B51: * 잡품 | C51: =L50 -> 0 | D51: 원 | E51: 66 | F51: % | L51: =ROUNDDOWN(C51*E51%,0) -> 0 | R51: 뿌리굴취 | S51: 801-1,000본 | T51: 10.5 | U51: 인
B52: * 생붕괴성 필름 | C52: =IF(C46=Q45,C50,0) -> 0 | D52: 본/ha | E52: =IF(C46=Q45,1,0) -> 0 | F52: 개 | G52: =IF(O46="적용",ROUND(C52*E52,0),0) -> 0 | I52: 생붕괴성필름 | L52: 별도구매 | R52: 뿌리굴취 | S52: 1,001-1,200본 | T52: 12.8 | U52: 인
B53: * 고무줄 | C53: =IF(C46=Q45,C50,0) -> 0 | D53: 개/ha | E53: =IF(C46=Q45,1,0) -> 0 | F53: 개 | G53: =IF(O46="적용",ROUND(C53*E53,0),0) -> 0 | I53: 고무줄 | L53: 별도구매 | R53: 뿌리굴취 | S53: 1,200본 초과 | T53: 15.2 | U53: 인
B54: o 제거목선목
B55: - 직접노무비
B56: ㆍ 제거목선목 | D56: 본/ha | E56: 0.4 | F56: 인/100본 | G56: =(C56*E56)/100 -> 0 | H56: =기초자료!B18 -> 0 | I56: 초급기술자 | J56: =$D$152 -> 0 | K56: % | L56: =ROUNDDOWN((G56*H56)*(1+J56%),0) -> 0
B57: - 재료비 | L57: =L58+L59 -> 0
B58: ㆍ페인트 | D58: ha | E58: =T6 -> 0.17 | F58: ℓ/ha | G58: =(E58*C58)/100 -> 0 | H58: 7300 | I58: 수성페인트 | L58: =G58*H58 -> 0
B59: ㆍ잡품(주재료의 10%) | C59: =L58 -> 0 | D59: 원 | E59: 10 | F59: % | L59: =C59*10% -> 0
B60: ○ 솎아베기 | C60: 단목(벌목+가지정리+토막내기) | O60: 적용
B61: - 직접노무비 | C61: =SUM(C62:C74) -> 350 | D61: 본/ha | G61: =IF(O60="적용",ROUND(SUM(G62:G74),2),0) -> 6.23 | H61: =ROUNDDOWN((H62+H63)/2,0) -> 199095 | I61: 특별0.5 보통0.5 | J61: =$J$152 -> 15 | K61: % | L61: =ROUNDDOWN((G61*H61)*(1+J61%),0) -> 1426416 | N61: 6.5 | Q61: 구분 | R61: 흉고직경 | S61: 벌목 | T61: 가지정리 | U61: 토막내기
B62: 10cm이하 | C62: ='제거량산출(삼나무)'!AI33 -> 0 | D62: 본/ha | E62: =IF($C$60=$Q$62,S62,IF($C$60=$Q$63,S62+T62,IF($C$60=$Q$64,S62+T62+U62,0))) -> 1 | F62: 인/100본 | G62: =IF(C62=0,0,ROUND(C62*E62/100,2)) -> 0 | H62: =기초자료!B14 -> 172068 | I62: 보통인부 | Q62: 전목(벌목) | R62: 10cm이하 | S62: 0.6 | T62: 0.2 | U62: 0.2
B63: 12-14cm | C63: ='제거량산출(삼나무)'!AI34 -> 6.25 | D63: 본/ha | E63: =IF($C$60=$Q$62,S63,IF($C$60=$Q$63,S63+T63,IF($C$60=$Q$64,S63+T63+U63,0))) -> 1.2 | F63: 인/100본 | G63: =IF(C63=0,0,ROUND(C63*E63/100,2)) -> 0.08 | H63: =기초자료!B16 -> 226122 | I63: 특별인부 | Q63: 전간재(벌목+가지정리) | R63: 12~14cm | S63: 0.7 | T63: 0.3 | U63: 0.2
B64: 16-18cm | C64: ='제거량산출(삼나무)'!AI35 -> 106.25 | D64: 본/ha | E64: =IF($C$60=$Q$62,S64,IF($C$60=$Q$63,S64+T64,IF($C$60=$Q$64,S64+T64+U64,0))) -> 1.6 | F64: 인/100본 | G64: =IF(C64=0,0,ROUND(C64*E64/100,2)) -> 1.7 | Q64: 단목(벌목+가지정리+토막내기) | R64: 16~18cm | S64: 1 | T64: 0.3 | U64: 0.3
B65: 20-22cm | C65: ='제거량산출(삼나무)'!AI36 -> 150 | D65: 본/ha | E65: =IF($C$60=$Q$62,S65,IF($C$60=$Q$63,S65+T65,IF($C$60=$Q$64,S65+T65+U65,0))) -> 1.8 | F65: 인/100본 | G65: =IF(C65=0,0,ROUND(C65*E65/100,2)) -> 2.7 | R65: 20~22cm | S65: 1.1 | T65: 0.3 | U65: 0.4
B66: 24-26cm | C66: ='제거량산출(삼나무)'!AI37 -> 87.5 | D66: 본/ha | E66: =IF($C$60=$Q$62,S66,IF($C$60=$Q$63,S66+T66,IF($C$60=$Q$64,S66+T66+U66,0))) -> 2 | F66: 인/100본 | G66: =IF(C66=0,0,ROUND(C66*E66/100,2)) -> 1.75 | R66: 24~26cm | S66: 1.2 | T66: 0.4 | U66: 0.4
B67: 28-30cm | C67: ='제거량산출(삼나무)'!AI38 -> 0 | D67: 본/ha | E67: =IF($C$60=$Q$62,S67,IF($C$60=$Q$63,S67+T67,IF($C$60=$Q$64,S67+T67+U67,0))) -> 2.6 | F67: 인/100본 | G67: =IF(C67=0,0,ROUND(C67*E67/100,2)) -> 0 | R67: 28~30cm | S67: 1.6 | T67: 0.5 | U67: 0.5
B68: 32-34cm | C68: ='제거량산출(삼나무)'!AI39 -> 0 | D68: 본/ha | E68: =IF($C$60=$Q$62,S68,IF($C$60=$Q$63,S68+T68,IF($C$60=$Q$64,S68+T68+U68,0))) -> 3.5 | F68: 인/100본 | G68: =IF(C68=0,0,ROUND(C68*E68/100,2)) -> 0 | R68: 32~34cm | S68: 2.1 | T68: 0.7 | U68: 0.7
B69: 36-38cm | C69: ='제거량산출(삼나무)'!AI40 -> 0 | D69: 본/ha | E69: =IF($C$60=$Q$62,S69,IF($C$60=$Q$63,S69+T69,IF($C$60=$Q$64,S69+T69+U69,0))) -> 4.4 | F69: 인/100본 | G69: =IF(C69=0,0,ROUND(C69*E69/100,2)) -> 0 | R69: 36~38cm | S69: 2.6 | T69: 0.9 | U69: 0.9
B70: 40-42cm | C70: ='제거량산출(삼나무)'!AI41 -> 0 | D70: 본/ha | E70: =IF($C$60=$Q$62,S70,IF($C$60=$Q$63,S70+T70,IF($C$60=$Q$64,S70+T70+U70,0))) -> 5.1 | F70: 인/100본 | G70: =IF(C70=0,0,ROUND(C70*E70/100,2)) -> 0 | P70: 조재율 | Q70: 0.7 | R70: 40~42cm | S70: 3.1 | T70: 1 | U70: 1
B71: 44-46cm | C71: ='제거량산출(삼나무)'!AI42 -> 0 | D71: 본/ha | E71: =IF($C$60=$Q$62,S71,IF($C$60=$Q$63,S71+T71,IF($C$60=$Q$64,S71+T71+U71,0))) -> 6.4 | F71: 인/100본 | G71: =IF(C71=0,0,ROUND(C71*E71/100,2)) -> 0 | O71: 재적합계 | P71: ='제거량산출(삼나무)'!AJ31*Q70 -> 59.873188 | R71: 44~46cm | S71: 3.8 | T71: 1.3 | U71: 1.3
B72: 48-50cm | C72: ='제거량산출(삼나무)'!AI43 -> 0 | D72: 본/ha | E72: =IF($C$60=$Q$62,S72,IF($C$60=$Q$63,S72+T72,IF($C$60=$Q$64,S72+T72+U72,0))) -> 7.4 | F72: 인/100본 | G72: =IF(C72=0,0,ROUND(C72*E72/100,2)) -> 0 | R72: 48cm이상 | S72: 4.4 | T72: 1.5 | U72: 1.5 | AD72: q
B73: 52-54cm | C73: ='제거량산출(삼나무)'!AI44 -> 0 | D73: 본/ha | E73: =E72 -> 7.4 | F73: 인/100본 | G73: =IF(C73=0,0,ROUND(C73*E73/100,2)) -> 0
B74: 56-58cm | C74: ='제거량산출(삼나무)'!AI45 -> 0 | D74: 본/ha | E74: =E72 -> 7.4 | F74: 인/100본 | G74: =IF(C74=0,0,ROUND(C74*E74/100,2)) -> 0
B75: - 재료비
B76: * 연료 | C76: =G61 -> 6.23 | D76: 인/ha | E76: =5.6/2 -> 2.8 | F76: ℓ | G76: =IF(O60="적용",ROUND(C76*E76,2),0) -> 17.44 | H76: =기초자료!B19 -> 1842 | I76: 휘발유 | L76: =ROUNDDOWN(G76*H76,0) -> 32124 | O76: 적용 | Q76: 구분 | R76: 원목의 직경(말구 평균직경)
B77: * 잡품 | C77: =L76 -> 32124 | D77: 원 | E77: 95 | F77: % | L77: =ROUNDDOWN(C77*E77%,0) -> 30517 | R77: 9cm 이하 | S77: 10~15cm | T77: 16~20cm | U77: 21~25cm | V77: 26~30cm | W77: 30cm 초과 | X77: 소요인력
B78: * 기계경비 | C78: =G61/2 -> 3.115 | D78: 인 | E78: 0.0042 | F78: 1대2인 | H78: 800000 | I78: 체인톱 | L78: =ROUNDDOWN(C78*E78*H78,0) -> 10466 | Q78: 1.8m | R78: 25.39 | S78: 28.21 | T78: 31.35 | U78: 34.48 | V78: 37.93 | W78: 41.73 | X78: 건설기계 운전기사1명
B79: ○ 장비집재 | Q79: 2.1m | R79: 27.17 | S79: 30.19 | T79: 33.55 | U79: 36.89 | V79: 40.59 | W79: 44.65
B80: - 2드럼 케이블윈치 집재 | C80: =V85 -> 8.96 | D80: 100m 이하 | G80: =P71/C80 -> 6.6822754 | H80: =(기초자료!B14*2)+(기초자료!B16*1) -> 570258 | I80: 특별1.0 보통2.0 | J80: 5 | K80: % | L80: =ROUNDDOWN((G80*H80)*(1+J80%),0) -> 4001152 | N80: 4.62 | Q80: 2.7m | R80: 29.42 | S80: 32.63 | T80: 36.32 | U80: 39.94 | V80: 43.94 | W80: 48.33
B81: - 재료비 | Q81: 3.6m | R81: 33.44 | S81: 37.16 | T81: 41.29 | U81: 45.41 | V81: 49.96 | W81: 54.95
B82: * 연료 | C82: =G80 -> 6.6822754 | D82: 대/ha | E82: =9.8 -> 9.8 | F82: ℓ | G82: =IF(O83="적용",ROUND(C82*E82,2),0) -> 65.49 | H82: =기초자료!B19 -> 1842 | I82: 휘발유 | L82: =ROUNDDOWN(G82*H82,0) -> 120632
B83: * 잡품 | C83: =L82 -> 120632 | D83: 원 | E83: 30 | F83: % | L83: =ROUNDDOWN(C83*E83%,0) -> 36189 | O83: 적용 | Q83: 구분 | R83: ha당 집재재적 | W83: 소요인력
B84: * 기계경비 | C84: =G80/3 -> 2.2274251 | D84: 인 | E84: 0.0012 | F84: 1대 | H84: 12000000 | I84: 2드럼 케이블 윈치 | L84: =ROUNDDOWN(C84*E84*H84,0) -> 32074 | R84: 20m 이하 | S84: 40m 이하 | T84: 60m 이하 | U84: 80m 이하 | V84: 100m 이하 | W84: 특별인부
B85: - 굴삭기 우드그랩 집적작업 (3.6m) | C85: =T81 -> 41.29 | D85: ㎥ | G85: =P71/C85 -> 1.4500651 | H85: =기초자료!B17 -> 283297 | I85: 건설기계 운전기사 1.0 | K85: % | L85: =ROUNDDOWN((G85*H85)*(1+J85%),0) -> 410799 | Q85: 수집량 | R85: 11.19 | S85: 10.54 | T85: 9.95 | U85: 9.44 | V85: 8.96
B86: - 재료비
B87: * 연료 | C87: =G85 -> 1.4500651 | D87: =T77 -> 16~20cm | E87: 20.8 | F87: ℓ(1일) | G87: =IF(O76="적용",ROUND(C87*E87,2),0) -> 30.16 | H87: =기초자료!B20 -> 1835 | I87: 경유 | L87: =ROUNDDOWN(G87*H87,0) -> 55343
B88: * 잡품 | C88: =L87 -> 55343 | D88: 원 | E88: 30 | F88: % | L88: =ROUNDDOWN(C88*E88%,0) -> 16602
B89: * 기계경비 | C89: =C87 -> 1.4500651 | D89: 인 | E89: 0.0015 | F89: 1대 | H89: 42000000 | I89: 소형굴삭기 | L89: =ROUNDDOWN(C89*E89*H89,0) -> 91354
B90: ○ 어린나무가꾸기 | C90: 평균직경 | D90: =IF(C91>0,ROUND((((C92*2)+(C93*4)+(C94*6)+(C95*8)+(C96*10))/C91)/2,0)*2,0) -> 0 | O90: 적용
B91: - 직접노무비 | C91: =SUM(C92:C96) -> 0 | D91: 본/ha | E91: =IF(D90>0,VLOOKUP(D90,$Q$92:$R$96,2,FALSE),0) -> 0 | F91: 인/ha | G91: =IF(O90="적용",E91,0) -> 0 | I91: 보통0.5 특별0.5 | J91: =$K$152 -> 0 | K91: % | L91: =ROUNDDOWN((G91*H91)*(1+J91%),0) -> 0 | Q91: 제거직경(cm) | R91: 소요인력(/ha)
B92: * 2cm | D92: 본/ha | E92: 4 | F92: 인/ha | I92: 특별인부 | Q92: 2 | R92: 4
B93: * 4cm | D93: 본/ha | E93: 5 | F93: 인/ha | I93: 보통인부 | Q93: 4 | R93: 5
B94: * 6cm | D94: 본/ha | E94: 6 | F94: 인/ha | Q94: 6 | R94: 6
B95: * 8cm | D95: 본/ha | E95: 6.5 | F95: 인/ha | Q95: 8 | R95: 6.5
B96: * 10cm 이상 | D96: 본/ha | E96: 7 | F96: 인/ha | Q96: 10 | R96: 7
B97: - 재료비
B98: * 연료 | C98: =G91 -> 0 | D98: 인/ha | E98: =5.6/2 -> 2.8 | F98: ℓ | G98: =IF(O90="적용",ROUND(C98*E98,2),0) -> 0 | I98: 휘발유 | L98: =ROUNDDOWN(G98*H98,0) -> 0
B99: * 잡품 | C99: =L98 -> 0 | D99: 원 | E99: 95 | F99: % | L99: =ROUNDDOWN(C99*E99%,0) -> 0
B100: - 기계경비 | C100: =G91 -> 0 | D100: 인 | E100: 0.0042 | F100: 1대2인 | I100: 체인톱 | L100: =ROUNDDOWN(C100*E100*H100,0) -> 0 | O100: 적용 | Q100: 소나무 | R100: 0-1m
...

Sheet 재적 조사서(삼나무) 
A1: 재적 조사서 | AR1: *삼나무 수피포함 수간재적표
A3: 개소 : | B3: =솎아베기!C2 -> 서귀포시 남원읍 한남리 산 2-1 외 | AG3: 표준 면적: | AI3: 0.16 | AK3: 사업면적: | AL3: =설계내역서!H14 -> 0 | AS3: 흉고직경
A4: 수 종 | B4: 직경 | C4: 표준지별 입목본수 (본) | AG4: 3점수고 | AH4: 단재적 | AI4: ha 당 입목 | AK4: 사업대상 내 입목 | AR4: 수고 | AS4: 6 | AT4: 8 | AU4: 10 | AV4: 12 | AW4: 14 | AX4: 16 | AY4: 18 | AZ4: 20 | BA4: 22 | BB4: 24 | BC4: 26 | BD4: 28 | BE4: 30 | BF4: 32 | BG4: 34 | BH4: 36 | BI4: 38 | BJ4: 40 | BK4: 42 | BL4: 44 | BM4: 46 | BN4: 48 | BO4: 50 | BP4: 52 | BQ4: 54 | BR4: 56 | BS4: 58 | BT4: 60 | BU4: 62 | BV4: 64 | BW4: 66 | BX4: 68 | BY4: 70 | BZ4: 72 | CA4: 74 | CB4: 76 | CC4: 78 | CD4: 80
B5: (㎝) | C5: 1 | D5: 2 | E5: 3 | F5: 4 | G5: 6 | H5: 7 | I5: 8 | J5: 9 | K5: 10 | L5: 11 | M5: 12 | N5: 13 | O5: 14 | P5: 15 | Q5: 16 | R5: 17 | S5: 18 | T5: 19 | U5: 20 | V5: 15 | W5: 16 | X5: 17 | Y5: 18 | Z5: 19 | AA5: 20 | AB5: 21 | AC5: 22 | AD5: 23 | AE5: 24 | AF5: 계 | AG5: (m) | AH5: (㎥) | AI5: 본수 | AJ5: 재적(㎥) | AK5: 본수 | AL5: 재적(㎥) | AR5: 5 | AS5: 0.0088 | AT5: 0.0147 | AU5: 0.0218 | AV5: 0.03 | AW5: 0.0392 | AX5: 0.0495 | AY5: 0.0607 | AZ5: 0.0729 | BA5: 0.0861 | BB5: 0.1001 | BC5: 0.1151 | BD5: 0.131 | BE5: 0.1479 | BF5: 0.1657 | BG5: 0.1844 | BH5: 0.2041 | BI5: 0.2248 | BJ5: 0.2465 | BK5: 0.2692 | BL5: 0.2929 | BM5: 0.3178 | BN5: 0.3437 | BO5: 0.3708 | BP5: 0.3991 | BQ5: 0.4286 | BR5: 0.4593 | BS5: 0.4913 | BT5: 0.5247 | BU5: 0.5594 | BV5: 0.5955 | BW5: 0.6331 | BX5: 0.6723 | BY5: 0.713 | BZ5: 0.7553 | CA5: 0.7993 | CB5: 0.8451 | CC5: 0.8926 | CD5: 0.942
B6: 14 | F6: 1 | AF6: =SUM(C6:F6) -> 1 | AG6: 11 | AH6: =VLOOKUP(AG6,AR4:CD35,6,0) -> 0.0919 | AI6: =AF6*1/AI3 -> 6.25 | AJ6: =AH6*AI6 -> 0.574375 | AK6: =AI6*AL3 -> 0 | AL6: =AH6*AK6 -> 0 | AR6: 6 | AS6: 0.0107 | AT6: 0.0179 | AU6: 0.0265 | AV6: 0.0366 | AW6: 0.0479 | AX6: 0.0605 | AY6: 0.0743 | AZ6: 0.0893 | BA6: 0.1054 | BB6: 0.1226 | BC6: 0.1409 | BD6: 0.1603 | BE6: 0.1808 | BF6: 0.2024 | BG6: 0.2251 | BH6: 0.2488 | BI6: 0.2737 | BJ6: 0.2997 | BK6: 0.3268 | BL6: 0.3551 | BM6: 0.3845 | BN6: 0.4152 | BO6: 0.447 | BP6: 0.4801 | BQ6: 0.5145 | BR6: 0.5502 | BS6: 0.5872 | BT6: 0.6256 | BU6: 0.6653 | BV6: 0.7065 | BW6: 0.7492 | BX6: 0.7934 | BY6: 0.8392 | BZ6: 0.8866 | CA6: 0.9356 | CB6: 0.9863 | CC6: 1.0388 | CD6: 1.093
B7: 16 | D7: 2 | E7: 1 | F7: 6 | AF7: =SUM(C7:F7) -> 9 | AG7: 12 | AH7: =VLOOKUP(AG7,AR5:CD36,7,0) -> 0.1277 | AI7: =AF7*1/AI3 -> 56.25 | AJ7: =AH7*AI7 -> 7.183125 | AK7: =AI7*AL3 -> 0 | AL7: =AH7*AK7 -> 0 | AR7: 7 | AS7: 0.0126 | AT7: 0.0211 | AU7: 0.0313 | AV7: 0.0432 | AW7: 0.0567 | AX7: 0.0716 | AY7: 0.088 | AZ7: 0.1058 | BA7: 0.1249 | BB7: 0.1453 | BC7: 0.167 | BD7: 0.19 | BE7: 0.2142 | BF7: 0.2397 | BG7: 0.2664 | BH7: 0.2944 | BI7: 0.3236 | BJ7: 0.3541 | BK7: 0.3858 | BL7: 0.4188 | BM7: 0.453 | BN7: 0.4886 | BO7: 0.5255 | BP7: 0.5636 | BQ7: 0.6032 | BR7: 0.6441 | BS7: 0.6864 | BT7: 0.7301 | BU7: 0.7753 | BV7: 0.822 | BW7: 0.8702 | BX7: 0.9199 | BY7: 0.9712 | BZ7: 1.0241 | CA7: 1.0787 | CB7: 1.135 | CC7: 1.1929 | CD7: 1.2527
