Workbook
Name _: #REF!
Name _?쾴?: #REF!
Name _?쾴?_?: #REF!
Name _?쾴?___P: #REF!
Name _?쾴?_T: #REF!
Name __?쾴?_?: #REF!
Name __?쾴?___P: #REF!
Name __?쾴?_T: #REF!
Name _________10: #REF!
Name _________11: #REF!
Name _________6: #REF!
Name _________7: #REF!
Name _________8: #REF!
Name _________9: #REF!
Name ________10: #REF!
Name ________11: #REF!
Name ________6: #REF!
Name ________7: #REF!
Name ________8: #REF!
Name ________9: #REF!
Name ________a1: [1]원가계산서!#REF!
Name ________C: #REF!
Name ________YO1: '[2]01'!#REF!
Name _______10: #REF!
Name _______11: #REF!
Name _______6: #REF!
Name _______7: #REF!
Name _______8: #REF!
Name _______9: #REF!
Name _______A1: #REF!
Name _______aab42: #REF!
Name _______C: #REF!
Name _______YO1: #REF!
Name _______YO1: '[2]01'!#REF!
Name ______10: #REF!
Name ______11: #REF!
Name ______6: #REF!
Name ______7: #REF!
Name ______8: #REF!
Name ______9: #REF!
Name ______A1: #REF!
Name ______aab42: #REF!
Name ______C: #REF!
Name ______SBB1: #REF!
Name ______SBB2: #REF!
Name ______SBB4: #REF!
Name ______SBB5: #REF!
Name ______SHH2: #REF!
Name ______SHH3: #REF!
Name ______YO1: #REF!
Name ______YO1: '[2]01'!#REF!
Name _____10: #REF!
Name _____11: #REF!
Name _____6: #REF!
Name _____7: #REF!
Name _____8: #REF!
Name _____9: #REF!
Name _____A1: #REF!
Name _____aab42: #REF!
Name _____C: #REF!

Sheet 간지
D8: 1.사업설명서
D12: 가. 설계설명서
D14: 나. 설계적용기준
D16: 다. 예정공정표
D35: 2.시방서
D39: 가. 일반시방서
D41: 나. 특별시방서
D43: 다. 전문시방서
D45: 라. 안전시방서
A55: 일반시방서
A83: 특별시방서
A111: 전문시방서
D146: 3.설계내역서
D150: 가. 사업비원가계산서
D152: 나. 총괄설계내역서
D154: 다. 설계내역서
C172: 4. 1-0-1 소구역모두베기-파쇄 | S172: 목 차
D176: 가. 단가산출서(소구역모두베기(파쇄))
U177: 1. 사업설명서 | AR177: 7. 4-0-1 단목벌채
D178: 나. 총수량산출(벌목+조재,소운반) | U178: 가. | W178: 설계설명서 | AR178: 가. | AT178: 단가산출서(단목벌채-파쇄)
U179: 나. | W179: 설계적용기준 | AR179: 나. | AT179: 총수량산출(벌목+조재)
D180: 다. 수량산출(소나무) | U180: 다. | W180: 예정공정표 | AR180: 다. | AT180: 재선충피해목수량산출(소나무)
AR181: 라. | AT181: GPS좌표 및 흉고(소나무)
D182: 라. GPS좌표 및 흉고(소나무) | U182: 2. 시방서 | AR182: 마. | AT182: 단가산출조서(작업로개설, 운반, 파쇄)
U183: 가. | W183: 일반시방서
D184: 마. 단가산출조서(운반, 파쇄) | U184: 나. | W184: 특별시방서 | AR184: 8. 5-0-1 예방나무주사(표준지조사)
U185: 다. | W185: 전문시방서 | AR185: 가. | AT185: 단가산출서(예방나무주사)
AR186: 나. | AT186: 예방나무주사수량산출(소나무, 해송)
U187: 3. 설계내역서 | AR187: 다. | AT187: 재적조서(소나무, 해송)
U188: 가. | W188: 사업비원가계산서
U189: 나. | W189: 총괄설계내역서 | AR189: 9. 5-0-2 예방나무주사(전수조사)
U190: 다. | W190: 설계내역서 | AR190: 가. | AT190: 단가산출서(예방나무주사)
U191: 4. 1-0-1 단목벌채 | AR191: 다. | AT191: 재적조서(소나무, 해송)
U192: 가. | W192: 단가산출서(단목벌채-파쇄)
A193: 5. 일위대가표
A220: 6. 기계경비
A247: 7. 자재단가 및 노임단가
A274: 참고자료 및 등록증 사본

Sheet 표지
O2: =A6 -> 2026년 소나무재선충병 훈증더미 제거사업
A6: =적용품셈및면적!D35 -> 2026년 소나무재선충병 훈증더미 제거사업
A14: =적용품셈및면적!D37 -> 2026.06

Sheet 메인
A2: 설 계 | B2: 2026년 월 일 | G2: 설계자 | J2: 검토자 | L2: 심사자 | N2: 담당자 | S2: 팀장 | V2: 과장
A3: 심 사 | B3: =B2 -> 2026년 월 일
A4: =적용품셈및면적!D34 -> 2026년 소나무재선충병 훈증더미 제거사업
A9: ○ | C9: 소재지 | E9: : | F9: =적용품셈및면적!D39 -> 전라남도 나주시 남평읍 상곡리 산 132외 27필지
A11: ○ | C11: 면적 | E11: : | F11: ='2. 단가산출서(훈증더미제거-파쇄)'!J4 -> 2.12 | G11: ha | H11: 1. | I11: =가.설계설명서!B11 -> 훈증더미제거(기계제거) | N11: : | O11: =가.설계설명서!E11 -> 158 | R11: 개 | U11: =가.설계설명서!G11 -> 117.12707
H15: 5. | I15: =가.설계설명서!B13 -> 예방나무주사-표준지 | N15: : | O15: =가.설계설명서!E13 -> 0 | R15: 본 | T15: ha
B17: ○ | C17: 총원가 | E17: : | F17: =가.사업비원가계산서!E29 -> 37555000 | L17: =가.사업비원가계산서!E29 -> 37555000
B18: ○ | C18: 원목매각대 | E18: : | F18: =가.사업비원가계산서!#REF! -> #REF! | L18: =가.사업비원가계산서!#REF! -> #REF!
B19: ○ | C19: 도급금액 | E19: : | F19: =가.사업비원가계산서!#REF! -> #REF! | L19: =가.사업비원가계산서!#REF! -> #REF!
B20: ○ | C20: 관급자재대 | E20: : | F20: =가.사업비원가계산서!E30 -> 0 | L20: =가.사업비원가계산서!E30 -> 0
B21: ○ | C21: 총사업비 | E21: : | F21: =가.사업비원가계산서!E31 -> 37555000 | L21: =가.사업비원가계산서!E31 -> 37555000
B24: ○ | C24: 설계자 | E24: : | F24: =적용품셈및면적!D40 -> ㈜가화석정산림이엔지 | J24: =적용품셈및면적!D41 -> 산림경영기술자 기술고급 박 선 미 | N24: (인)
Q26: 나주시장 귀하

Sheet 목차
A2: 목 차
E7: 1. 사업설명서 | Z7: 5. 일위대가
E8: 가. | G8: 설계설명서
E9: 나. | G9: 설계적용기준 | Z9: 6. 기계경비 | AV9: 5. 1-0-2 소구역골라베기
E10: 다. | G10: 예정공정표 | AV10: 가. | AX10: 단가산출서(소구역골라베기)
Z11: 7. 자재단가 및 노임단가 | AV11: 나. | AX11: 총수량산출(벌목+조재)
E12: 2. 시방서 | AV12: 다. | AX12: 수량산출(소나무, 해송)
E13: 가. | G13: 일반시방서 | Z13: 첨부. 참고자료 및 등록증 사본 | AV13: 라. | AX13: 조사야장(소나무, 해송)
E14: 나. | G14: 특별시방서 | AV14: 마. | AX14: GPS좌표 및 흉고(소나무, 해송)
E15: 다. | G15: 전문시방서 | Z15: ="별책. "&TEXT(적용품셈및면적!$D$34,0)&" 설계도" -> 별책. 2026년 소나무재선충병 훈증더미 제거사업 설계도 | AV15: 바. | AX15: 단가산출조서(운반, 파쇄)
E16: 라. | G16: 안전시방서
E18: 3. 설계내역서
E19: 가. | G19: 사업비원가계산서
E20: 나. | G20: 총괄설계내역서
E21: 다. | G21: 설계내역서
E23: 4. 1-0-1 훈증더미제거
E24: 가. | G24: 단가산출서(훈증더미제거-기계제거)
E25: 나. | G25: GPS좌표 및 흉고(훈증더미제거)
E28: 마. | G28: 단가산출조서(운반, 파쇄) | AV28: 가. | AX28: 단가산출서(예방나무주사)
AV29: 나. | AX29: 총수량산출(예방나무주사)
AV30: 다. | AX30: 예방나무주사 표준지집계표
AV34: 6. 일위대가
AV36: 7. 기계경비
AV38: 8. 자재단가 및 노임단가
AV40: 첨부. 참고자료 및 등록증 사본
AV42: ="별책. "&TEXT(적용품셈및면적!$D$34,0)&" 설계도" -> 별책. 2026년 소나무재선충병 훈증더미 제거사업 설계도

Sheet 가.설계설명서
A2: 설 계 설 명 서
A6: 1. | B6: 사 업 명 | C6: : | D6: =적용품셈및면적!D34 -> 2026년 소나무재선충병 훈증더미 제거사업
A8: 2. | B8: 소 재 지 | C8: : | D8: =적용품셈및면적!D39 -> 전라남도 나주시 남평읍 상곡리 산 132외 27필지
A10: 3. | B10: 본수 | C10: :
B11: 훈증더미제거(기계제거) | C11: : | D11: ( | E11: ='2. 단가산출서(훈증더미제거-파쇄)'!C44 -> 158 | F11: ="개) -" -> 개) - | G11: ='2. 단가산출서(훈증더미제거-파쇄)'!C46 -> 117.12707
B12: 예방나무주사-전수 | C12: : | D12: ( | E12: ='[412]가.1-0-2 단가산출서(예방나무주사-전수)'!H4 -> 0 | F12: ="본) " -> 본) | G12: ='가.1-0-1 단가산출서(소구역모두베기)'!C109 -> 258.63012
B13: 예방나무주사-표준지 | C13: : | D13: ( | F13: ="본) " -> 본) | G13: ='가.1-0-1 단가산출서(소구역모두베기)'!C110 -> 174.84817
A15: 4. | B15: 설계목적 | C15: : | D15: 재선충병 방제사업지에 대하여 적기에 방제작업을 실시하여 가치있는 임목을 보호함에 있으며, 피해목 조사와
D16: 방제방법, 작업난이도에 따라 사업비를 산출하여 소나무재선충병 방제 성과를 제고하는데 있다.
A18: 5. | B18: 제거목선정방법 | C18: : | D18: ① | E18: 소나무재선충에 의한 고사목 및 의심목, 매개충 서식처가 될 수 있는 피압목, 여타 병해로 인한 고사목을 제거대상목
E19: 으로 선정하였다.
D20: ② | E20: 소구역모두베기 벌채 구간은 소나무재선충 및 고사목을 전수조사하였고 나무마다 표식라벨을 부착 하였다.
D21: ③ | E21: 수종에 따라 입목의 크고 작음을 구분하지 않고 경급 6㎝이상 되는 입목은 모두 조사하였다.
D22: ④ | E22: 표준지 위치는 GPS를 이용한 세계측지계 좌표로 표기하였다.
D23: ⑤ | E23: 예방나무주사 구간은 전수조사를 조사하였다.
D24: ⑥ | E24: 예방나무주사 일부지역 및 소군락골라베기는 전수조사를 하였다.
D25: ⑥
D26: ⑦
D27: ⑧
A29: 6. | B29: 원목 운반장소 | C29: : | D29: 유니드 군산공장(전북 군산시 외항1길 56)
A31: 5. | B31: 사업기간 | C31: : | D31: 사업착공일로부터 | G31: =적용품셈및면적!D42 -> 29 | H31: 일간
F34: ①
F35: ②
F36: ③
F37: ③
F38: ④
F39: ⑤
F40: ⑥
F41: ⑦
F42: ⑧

Sheet 나.설계적용기준
A2: 설 계 적 용 기 준
A6: 1. | B6: 설계적용기준 | D6: : | E6: 설계적용기준은 산림청 제정 “지속가능한산림자원관리지침”과 “산림병해충 방제사업 설계·감리 및 사업시행요령", "소
E7: 나무재선충병 방제지침", "산림표준품셈" "임목수확 설계·감리 시범사업지침"을 적용하였다.
B8: 1) | C8: 수량의 계산법 | D8: : | E8: ① | F8: 품셈에 의한 재적 및 인원의 계산은 소수점 3째자리에서 반올림, 둘째자리로 표시.
E9: ② | F9: 면적의 계산은 전자면적계산의 방법을 사용하였고 소수점 셋째자리 이하는 절사.
E10: ③ | F10: 수고의 계산은 임분수고의 최저, 최고 및 평균을 측정하여 임분수고의 범위를 분모로 하고 평균 수고를 분자로하여 표시.
F11: (예 : 15 / 10~20)
E12: ④ | F12: 경급의 계산은 입목 가슴높이 지름을 2cm 괄약으로 측정하여 임목가슴높이 지름의 범위를 분모로, 평균 가슴높이
F13: 지름을 분자로 표시.(예 : 20 / 14~26)
B15: 2) | C15: 노임단가 | D15: : | E15: ① | F15: 노임단가는 대한건설협회에서 당해년도 상반기(2026년 상반기 단가)에 조사,공표하는 시중노임단가를 적용.
E16: ② | F16: 엔지니어링기술자노임 단가는 엔지니어링협회 공표를 적용.
B18: 3) | C18: 재료,자재단가 | D18: : | E18: ① | F18: 재료 및 자재의 단가는 거래실례가격 또는 통계법 제24조의 규정에 의한 지정기관이 조사하여 공표한 가격을 적용.
B20: 4) | C20: 할인,할증적용 | D20: : | E20: ① | F20: 품의 할인 및 할증은 각 단위 작업종별로 표준품셈에서 정한 할증요소를 적용.
F21: 단, 재료비의 경우는 할인 및 할증 요소를 적용하지 않았다.
E23: ② | F23: 중복가산 요령
F24: W = P × (1+a1+a2+a3+·······+an)
F25: W : 할증이 포함된 품 (소요인력)
F26: P : 기본품 또는 각장 해설란의 필요한 증·감 요소가 감안된 품
F27: a1 ~ an : 품 할증요소
B29: 5) | C29: 금액의 단위 | D29: : | E29: ① | F29: 설계서의 총액은 1,000원단위 이며 "미만 버림"을, 설계서(단가산출서)의 소계와 금액란은 1원단위이며
F30: "미만 버림"을 적용.
B32: 6) | C32: 사업비산출 | D32: : | E32: ① | F32: 국민연금, 건강보험료, 고용·산재보험, 노인장기요양보험은 최근에 나온 토목공사원가계산 제비율 적용기준 및
C33: 단가기준 | F33: 노동부(고용보험)요율 적용.
E35: ② | F35: 작업현장에서 산업재해 및 건강장해 예방을 위하여 관계법령 (산업안전보건법)에 의거 요구되는 산업안전보건
F36: 관리비는 건설공사에 준하여 별도 계상.
E38: ③ | F38: 산업재해보상보험률은 고용노동부고시를 적용.
A40: 2. | B40: 단가적용인자 | D40: : | E40: ① | F40: 훈증더미 제거(파쇄)
E41: ② | F41: 소구역모두베기
E42: ③ | F42: 모두베기
E43: ④ | F43: 임내정리
E44: ② | F44: 산지집재 및 집적작업
E45: ③ | F45: 작업로개설
E46: ④ | F46: 잔가지줍기
E47: ⑥ | F47: 훈증더미제거
E48: ⑥ | F48: 예방나무주사
A50: 3. | B50: 작업재료 공급방법 | D50: : | E50: ① | F50: 사업계약자 자율적으로 구입(사급자재)하여 사업에 사용.
E51: ② | F51: 나무주사는 발주처에서 제공.

Sheet 다.예정공정표
A1: 예정공정표
A3: 절대공기 : 29일
A4: 공 종 | J4: 10일 | O4: 20일 | T4: 29일 | AA4: 비 고
J5: 2 | K5: 4 | L5: 6 | M5: 8 | N5: 10 | O5: 12 | P5: 14 | Q5: 16 | R5: 18 | S5: 20 | T5: 22 | U5: 24 | V5: 26 | W5: 28 | X5: 29 | Y5: 25 | Z5: 20
A6: 설계서 검토 및 대상지경계 확인
J7: 1 | K7: 2
A9: 벌채
K10: 1 | L10: 2 | M10: 3 | N10: 4 | O10: 5 | P10: 6 | Q10: 7 | R10: 8 | S10: 9 | T10: 10 | U10: 11 | V10: 12
A12: 작업로 구축 및 복구
L13: 1 | M13: 2 | N13: 3 | O13: 4 | P13: 5 | Q13: 6 | R13: 7 | S13: 8 | Y13: 75
A15: 집적작업
M16: 1 | N16: 2 | O16: 3 | P16: 4 | Q16: 5 | R16: 6 | S16: 7 | T16: 8 | U16: 9 | V16: 10 | W16: 11 | Y16: 70 | Z16: 75
A18: 소운반
M19: 1 | N19: 2 | O19: 3 | P19: 4 | Q19: 5 | R19: 6 | S19: 7 | T19: 8 | U19: 9 | V19: 10 | W19: 11 | Y19: 70
A21: 대운반
N22: 5 | O22: 15 | P22: 20 | Q22: 25 | R22: 30 | S22: 35 | U22: 15 | V22: 20 | W22: 25 | X22: 30 | Y22: 35
A24: 파쇄
N25: 5 | O25: 15 | P25: 20 | Q25: 25 | R25: 30 | S25: 35 | T25: 40 | U25: 45 | V25: 50 | W25: 55 | X25: 60 | Y25: 65
A27: 나무주사
Q28: 5 | R28: 10 | S28: 15 | T28: 20 | U28: 25 | V28: 30 | W28: 35 | X28: 40 | Y28: 70 | Z28: 75
A30: 작업로복구
Q31: 5 | R31: 10 | S31: 15 | T31: 20 | W31: 5 | X31: 10 | Y31: 15 | Z31: 20
A33: 작업장정리ㆍ보완
U34: 1 | V34: 2 | W34: 3 | X34: 4 | Y34: 5 | Z34: 10

Sheet 필지별조서
A1: 대상지별 방제방법 조서
A2: No | B2: 지번 | C2: 더미갯수 | D2: 면적 | E2: 방제방법 | F2: 부대공정 | G2: 평균경급
B3: =COUNTA(B4:B32) -> 28 | C3: =SUM(C4:C32) -> 158 | D3: =SUM(D4:D32) -> 0
A4: 1 | B4: 전라남도 나주시 남평읍 상곡리 산 132 | C4: 1 | E4: 파쇄(기계) | F4: 운반 | I4: =B4&"외 27필지" -> 전라남도 나주시 남평읍 상곡리 산 132외 27필지
A5: 2 | B5: 전라남도 나주시 남평읍 상곡리 산 133 | C5: 3 | E5: 파쇄(기계) | F5: 운반
A6: 3 | B6: 전라남도 나주시 다도면 송학리 184 | C6: 1 | E6: 파쇄(기계) | F6: 운반
A7: 4 | B7: 전라남도 나주시 다도면 송학리 39-1 | C7: 1 | E7: 파쇄(기계) | F7: 운반
A8: 5 | B8: 전라남도 나주시 다도면 송학리 658 | C8: 2 | E8: 파쇄(기계) | F8: 운반
A9: 6 | B9: 전라남도 나주시 다도면 송학리 산 187 | C9: 3 | E9: 파쇄(기계) | F9: 운반
A10: 7 | B10: 전라남도 나주시 다도면 송학리 산 189 | C10: 2 | E10: 파쇄(기계) | F10: 운반
A11: 8 | B11: 전라남도 나주시 다도면 송학리 산 192-2 | C11: 1 | E11: 파쇄(기계) | F11: 운반
A12: 9 | B12: 전라남도 나주시 다도면 송학리 산 194 | C12: 6 | E12: 파쇄(기계) | F12: 운반
A13: 10 | B13: 전라남도 나주시 다도면 송학리 산 195 | C13: 1 | E13: 파쇄(기계) | F13: 운반
A14: 11 | B14: 전라남도 나주시 다도면 송학리 산 197 | C14: 36 | E14: 파쇄(기계) | F14: 운반
A15: 12 | B15: 전라남도 나주시 다도면 송학리 산 199 | C15: 9 | E15: 파쇄(기계) | F15: 운반
A16: 13 | B16: 전라남도 나주시 다도면 송학리 산 200 | C16: 5 | E16: 파쇄(기계) | F16: 운반
... A31: 28 | B31: 전라남도 나주시 문평면 오룡리 산 82-3 | C31: 2 | E31: 파쇄(기계) | F31: 운반
D36: 방제대상목분포
D37: =C3/D3 -> #DIV/0! | E37: ha당본수

Sheet 안전시방서
A1: 안 전 시 방 서
J15: 개인 안전보호구 착용 표준
J26: 안전입간판 설치
J37: 안전수칙 준수 현수막

Sheet 가.사업비원가계산서
A1: 사 업 비 원 가 계 산 서
N4: ( 단위 : 원) | S4: =TRUNC((E8+E9+E30)*L18/100) -> 383536
A5: 비목 | E5: 금액 | F5: 적용기준 | S5: =TRUNC((E8+E9)*L18*1.2/100) -> 460244
A6: 순사업원가 | B6: 재료비 | C6: 직접재료비 | E6: =나.총괄설계내역서!F7 -> 2916223
C7: 간접재료비
C8: 소계 | E8: =SUM(E6:E7) -> 2916223
B9: 노무비 | C9: 직접노무비 | E9: =나.총괄설계내역서!E7 -> 15612120
C10: 간접노무비 | E10: =TRUNC(E9*L10/100) -> 2872630 | F10: 직접노무비 | K10: × | L10: =품셈적용기준!E5 -> 18.4 | M10: %
C11: 소계 | E11: =SUM(E9:E10) -> 18484750
B12: 경 비 | C12: 기계경비 | E12: =나.총괄설계내역서!G7 -> 3695769 | F12: 기계손료×적용일수×장비단가
C13: 산업재해보상보험 | E13: =TRUNC(E11*L13/100) -> 1083206 | F13: (직접노무비+간접노무비) | K13: × | L13: =품셈적용기준!E6 -> 5.86 | M13: % | Q13: ※ 총공사금액 2천만원 미만 제외
C14: 고용보험료 | E14: =TRUNC(E11*L14/100) -> 212574 | F14: (직접노무비+간접노무비) | K14: × | L14: =품셈적용기준!E7 -> 1.15 | M14: % | Q14: ※ 총공사금액 2천만원 미만 제외
C15: 국민건강보험료 | F15: 직접노무비 | K15: × | L15: =품셈적용기준!E8 -> 3.595 | M15: % | Q15: ※ 1개월 미만 제외
C16: 노인장기요양보험료 | E16: =TRUNC(E15*L16/100) -> 0 | F16: 국민건강보험료 | K16: × | L16: =품셈적용기준!E10 -> 13.14 | M16: % | Q16: ※ 1개월 미만 제외 | T16: (재+직노)*율 | V16: =TRUNC((E8+E9)*L18/100) -> 383536 | X16: 관급미포함
C17: 국민연금보험료 | F17: 직접노무비 | K17: × | L17: =품셈적용기준!E9 -> 4.75 | M17: % | Q17: ※ 1개월 미만 제외 | T17: (재+직노+도급자관급)*율 | V17: =TRUNC((E8+E9+E30)*L18/100) -> 383536 | X17: 관급포함
C18: 산업안전보건관리비 | E18: =TRUNC((E8+E9)*L18/100) -> 383536 | F18: (재료비+직접노무비) | K18: × | L18: =품셈적용기준!E11 -> 2.07 | M18: % | Q18: ※ 4천만원 미만 제외 | T18: (재+직노)*율*1.2 | V18: =TRUNC((E8+E9)*L18/100*1.2) -> 460244
C19: 석면부담금 | E19: =TRUNC((E10)*L19/100) -> 172 | F19: (노무비) | K19: × | L19: =품셈적용기준!E12 -> 0.006 | M19: %
C20: 임금채권부담금 | E20: =TRUNC((E11)*L20/100) -> 16636 | F20: (노무비) | K20: × | L20: =품셈적용기준!E13 -> 0.09 | M20: %
C21: 기타경비 | E21: =TRUNC((E8+E11)*L21/100) -> 1048647 | F21: (재료비+노무비) | K21: × | L21: =품셈적용기준!E14 -> 4.9 | M21: %
C22: 퇴직공제부금비 | E22: =TRUNC((E9)*L22/100) -> 0 | F22: (직접노무비) | K22: × | L22: =품셈적용기준!E15 -> 0 | M22: %
C23: 소계 | E23: =SUM(E12:E22) -> 6440540
A24: 일반관리비 | E24: =TRUNC(SUM(E23,E11,E8)*L24/100) -> 2227321 | F24: (재료비+노무비+경비) | K24: × | L24: =품셈적용기준!E16 -> 8 | M24: % | Q24: 5억원~30억미만 미만 5.5%
A25: 소계 | E25: =SUM(E8,E11,E23,E24) -> 30068834 | F25: 재료비+노무비+경비+일반관리비
A26: 이윤 | E26: =TRUNC((E11+E23+E24)*L26) -> 4072075 | F26: (노무비+경비+ 일반관리비) | K26: × | L26: =T28 -> 0.14996994 | M26: % | S26: 사업비 원단위수정
A27: 원가 | E27: =TRUNC(SUM(E25:E26)) -> 34140909 | S27: 노+경+일반 | T27: =E11+E23+E24 -> 27152611 | U27: 4072891 | V27: 당초이윤
A28: 부 가 가 치 세 | E28: =(E27*L28/100) -> 3414090.9 | F28: 총원가 | K28: × | L28: =품셈적용기준!E18 -> 10 | M28: % | S28: 수정이윤율 | T28: =U28/T27 -> 0.14996994 | U28: =U27-T29 -> 4072075.5 | V28: 변경이윤
A29: 총원가 | E29: =ROUND(E27+E28,0) -> 37555000 | F29: 원가+부가가치세(천원미만절사) | T29: =897/1.1 -> 815.45455
A30: 관급자재대 | F30: 조달수수료 포함
A31: 총사업비 | E31: =E29 -> 37555000 | F31: 도급급액 (천원미만절사)

Sheet 나.총괄설계내역서
A1: 총 괄 설 계 내 역 서
F4: ( 단위 : 원)
A5: 구분 | B5: 수량 | C5: 단위 | D5: 합계 | E5: 직접노무비 | F5: 재료비 | G5: 기계경비 | H5: 비고
A6: 설 계 내 역 서(훈증더미제거) | B6: 1 | C6: 식 | D6: =SUM(E6:G6) -> 22224112 | E6: =다.설계내역서!F15 -> 15612120 | F6: =다.설계내역서!H15 -> 2916223 | G6: =다.설계내역서!J15 -> 3695769
A7: 합계 | D7: =D6 -> 22224112 | E7: =E6 -> 15612120 | F7: =F6 -> 2916223 | G7: =G6 -> 3695769

Sheet 다.설계내역서
A2: 설 계 내 역 서(훈증더미제거-기계제거)
H5: ( 단위 : 원)
A6: 공종 | B6: 수량 | C6: 단위 | D6: 합계 | E6: 직접노무비 | G6: 재료비 | I6: 기계경비 | K6: 비고
E7: 단가 | F7: 소계 | G7: 단가 | H7: 소계 | I7: 단가 | J7: 소계
A8: 훈증더미제거 | B8: ='2. 단가산출서(훈증더미제거-파쇄)'!C44 -> 158 | C8: 개 | D8: =SUM(F8,H8,J8)*2.12 -> 14476475 | F8: ='2. 단가산출서(훈증더미제거-파쇄)'!N9 -> 6317266 | H8: ='2. 단가산출서(훈증더미제거-파쇄)'!N12 -> 187053 | J8: ='2. 단가산출서(훈증더미제거-파쇄)'!N15 -> 324207 | K8: ='2. 단가산출서(훈증더미제거-파쇄)'!C44 -> 158
A9: 소운반 | D9: =SUM(F9,H9,J9) -> 2084509 | F9: ='2. 단가산출서(훈증더미제거-파쇄)'!N17 -> 1660041 | H9: ='2. 단가산출서(훈증더미제거-파쇄)'!N18 -> 168780 | J9: ='2. 단가산출서(훈증더미제거-파쇄)'!N19 -> 255688 | K9: ='2. 단가산출서(훈증더미제거-파쇄)'!C17 -> 117.12707
A10: 대운반 | D10: =SUM(F10,H10,J10) -> 2318060 | F10: ='2. 단가산출서(훈증더미제거-파쇄)'!N21 -> 1627363 | H10: ='2. 단가산출서(훈증더미제거-파쇄)'!N22 -> 369535 | J10: ='2. 단가산출서(훈증더미제거-파쇄)'!N23 -> 321162 | K10: ='2. 단가산출서(훈증더미제거-파쇄)'!C21 -> 117.12707
A11: 집적작업 | D11: =SUM(F11,H11,J11) -> 641889 | F11: ='2. 단가산출서(훈증더미제거-파쇄)'!N25 -> 388116 | H11: ='2. 단가산출서(훈증더미제거-파쇄)'!N27 -> 67541 | J11: ='2. 단가산출서(훈증더미제거-파쇄)'!N30 -> 186232 | K11: =K10 -> 117.12707
A12: 파쇄(훈증더미) | D12: =SUM(F12,H12,J12) -> 10061566 | F12: ='2. 단가산출서(훈증더미제거-파쇄)'!N32 -> 5389719 | H12: ='2. 단가산출서(훈증더미제거-파쇄)'!N33 -> 2088141 | J12: ='2. 단가산출서(훈증더미제거-파쇄)'!N34 -> 2583706 | K12: =K11 -> 117.12707
A13: 중기운반(파쇄장비) | D13: =F13+H13+J13 -> 153629 | F13: ='2. 단가산출서(훈증더미제거-파쇄)'!N36 -> 93682 | H13: ='2. 단가산출서(훈증더미제거-파쇄)'!N37 -> 35173 | J13: ='2. 단가산출서(훈증더미제거-파쇄)'!N38 -> 24774
A14: 방제실행 등록 | D14: =SUM(F14,H14,J14) -> 135933 | F14: ='2. 단가산출서(훈증더미제거-파쇄)'!N40 -> 135933
A15: 합계 | D15: =SUM(D8:D14) -> 29872061 | F15: =SUM(F8:F14) -> 15612120 | H15: =SUM(H8:H14) -> 2916223 | J15: =SUM(J8:J14) -> 3695769
D21: =#REF!+D15 -> #REF!

Sheet 가.1-0-1 단가산출서(소구역모두베기)
A1: 1-0-1 단가산출서(소구역모두베기-파쇄)
A4: 작업량 | E4: 피해목 벌채량 | G4: =C14+'마-1.1-0-1 수량산출(소구역-소나무-위험목)'!C42+'마-1.1-0-1 수량산출(소구역-해송-위험목)'!C42 -> 324 | I4: 파쇄량 | J4: =C105 -> 258.63012 | L4: =적용품셈및면적!E48 -> 0 | M4: ( 단위 : 원)
A5: 구분 | C5: 작업량 | E5: 단위품 | G5: 소요품 | H5: 단 가 | J5: 할인· 할증 | K5: 직접노무비 | L5: 재료비 | M5: 경비 | N5: 합계
E6: (인원,수량,요율)
B7: 단위작업 | D7: 단위 | F7: 단위 | I7: 종류
A8: 단위작업 | B8: o 경계표시 | N8: =N9+N10 -> 0
B9: - 직접노무비 | C9: =L4 -> 0 | D9: ha | E9: 0.2 | F9: 인/ha | G9: =ROUND((C9*E9),2) -> 0 | H9: =적용품셈및면적!$E$4 -> 172068 | I9: 보통인부 | J9: =K123 -> 0 | K9: =INT(H9*G9*(1+J9)) -> 0 | N9: =INT(SUM(K9:M9)) -> 0
B10: - 재료비 | N10: =N11+N12 -> 0
B11: 페인트 | C11: =C9 -> 0 | D11: ha | E11: 0.2 | F11: ℓ/ha | G11: =ROUND((C11*E11),2) -> 0 | H11: =적용품셈및면적!$E$13 -> 7300 | I11: 페인트(ℓ) | L11: =INT(H11*G11) -> 0 | N11: =INT(SUM(K11:M11)) -> 0
B12: 잡품 | C12: =N11 -> 0 | D12: 원 | E12: 5 | F12: % | L12: =INT(C12*E12/100) -> 0 | N12: =INT(SUM(K12:M12)) -> 0
B13: o 벌목+조재 | N13: =SUM(N14,N17,N21) -> 15815622
B14: - 직접노무비 | C14: ='다-1.1-0-1 수량산출(소구역-소나무)'!C42+'다-1.1-0-1 수량산출(소구역-해송)'!C42 -> 286 | D14: 본 | G14: ='나.1-0-1총수량산출(벌목+조재)'!G45 -> 70.07 | H14: =SUM(H15:H16)/2 -> 212655.5 | I14: 벌0.5+보0.5 | J14: =E121 -> 0 | K14: =INT(H14*G14*(1+J14)) -> 14900770 | N14: =INT(SUM(K14:M14)) -> 14900770
H15: =노임단가!L8 -> 253243 | I15: (벌목부)
H16: =노임단가!L6 -> 172068 | I16: (보통인부) | R16: =649-688 -> -39
B17: - 재료비(체인톱) | N17: =N18+N19+N20 -> 667646
B18: 연료 | C18: =G14 -> 70.07 | D18: 인/ha | E18: 5.6 | F18: ℓ(2인1조) | G18: =ROUND((E18/2)*C18,2) -> 196.2 | H18: =자재단가!R6 -> 1828 | I18: 휘발유(ℓ) | L18: =INT(H18*G18) -> 358653 | N18: =INT(SUM(K18:M18)) -> 358653
B19: 체인오일(친환경오일) | C19: =G14 -> 70.07 | D19: 인/ha | E19: 2.1 | F19: ℓ(2인1조) | G19: =ROUND((E19/2)*C19,2) -> 73.57 | H19: 2250 | I19: 체인오일(ℓ) | L19: =INT(H19*G19) -> 165532 | N19: =INT(SUM(K19:M19)) -> 165532
B20: 잡품 | C20: =N18 -> 358653 | D20: 원 | E20: 40 | F20: % | L20: =INT(C20*E20/100) -> 143461 | N20: =INT(SUM(K20:M20)) -> 143461
B21: - 기계손료(체인톱) | C21: =G14 -> 70.07 | D21: 인 | E21: 0.0084 | F21: (2인1대) | H21: =자재단가!R7 -> 840000 | I21: 기계톱(45cc) | M21: =INT((C21*E21*H21)/2) -> 247206 | N21: =INT(SUM(K21:M21)) -> 247206
B22: o 위험목제거(20㎝이상) | N22: =SUM(N23:N25) -> 350228 | O22: =C23+C27+C41+C45+C49 -> 38 | P22: 위험목본수
B23: - 직접노무비 | C23: ='바-1.1-0-1 GPS좌표 및 흉고(소구역-소나무위험목'!P4+'바-1.1-0-1 GPS좌표 및 흉고(소구역-해송 위험목'!P4 -> 2 | D23: 본 | E23: 1 | F23: 본 | G23: =C23*E23 -> 2 | H23: =일위대가총괄표!G7 -> 167269 | I23: 원 | K23: =INT(H23*G23) -> 334538 | N23: =INT(SUM(K23:M23)) -> 334538 | O23: ='바-1.1-0-1 GPS좌표 및 흉고(소구역-소나무위험목'!P9+'바-1.1-0-1 GPS좌표 및 흉고(소구역-해송 위험목'!P9 -> 38 | P23: 검산
B24: - 재료비 | C24: =C23 -> 2 | D24: 본 | E24: 1 | F24: 본 | G24: =C24*E24 -> 2 | H24: =일위대가총괄표!H7 -> 3088 | I24: 원 | L24: =INT(H24*G24) -> 6176 | N24: =INT(SUM(K24:M24)) -> 6176
B25: - 기계경비 | C25: =C23 -> 2 | D25: 본 | E25: 1 | F25: 본 | G25: =C25*E25 -> 2 | H25: =일위대가총괄표!I7 -> 4757 | I25: 원 | M25: =INT(G25*H25) -> 9514 | N25: =INT(SUM(K25:M25)) -> 9514
B26: o 위험목제거(22~30㎝) | N26: =SUM(N27:N29) -> 900588
B27: - 직접노무비 | C27: ='바-1.1-0-1 GPS좌표 및 흉고(소구역-소나무위험목'!P5+'바-1.1-0-1 GPS좌표 및 흉고(소구역-해송 위험목'!P5 -> 4 | D27: 본 | E27: 1 | F27: 본 | G27: =C27*E27 -> 4 | H27: =일위대가총괄표!G8 -> 215060 | I27: 원 | K27: =INT(H27*G27) -> 860240 | N27: =INT(SUM(K27:M27)) -> 860240
B28: - 재료비 | C28: =C27 -> 4 | D28: 본 | E28: 1 | F28: 본 | G28: =C28*E28 -> 4 | H28: =일위대가총괄표!H8 -> 3970 | I28: 원 | L28: =INT(H28*G28) -> 15880 | N28: =INT(SUM(K28:M28)) -> 15880
B29: - 기계경비 | C29: =C27 -> 4 | D29: 본 | E29: 1 | F29: 본 | G29: =C29*E29 -> 4 | H29: =일위대가총괄표!I8 -> 6117 | I29: 원 | M29: =INT(G29*H29) -> 24468 | N29: =INT(SUM(K29:M29)) -> 24468
B30: o 작업로설치(기계톱) | N30: =SUM(N31,N32,N35) -> 0
B31: - 직접노무비(대작업로) | D31: km | E31: 3 | F31: 인/km | G31: =ROUND(E31*C31,2) -> 0 | H31: =적용품셈및면적!$E$4 -> 172068 | I31: 보통인부 | J31: =I121 -> 0.1 | K31: =INT(H31*G31*(1+J31)) -> 0 | N31: =INT(SUM(K31:M31)) -> 0
B32: - 재료비(체인톱) | N32: =N33+N34 -> 0
B33: 연료 | C33: =G31 -> 0 | D33: 인 | E33: 5.6 | F33: ℓ(2인1조) | G33: =ROUND((E33*C33)/2,2) -> 0 | H33: =적용품셈및면적!$E$15 -> 1558 | I33: 휘발유(ℓ) | L33: =INT(H33*G33) -> 0 | N33: =INT(SUM(K33:M33)) -> 0 | O33: =C33*E33 -> 0
B34: 잡품 | C34: =N33 -> 0 | D34: 원 | E34: 95 | F34: % | L34: =INT((C34*E34/2)/100) -> 0 | N34: =INT(SUM(K34:M34)) -> 0
B35: - 기계경비 | C35: =G31 -> 0 | D35: 인 | E35: 0.0084 | F35: (2인1대) | H35: =적용품셈및면적!$E$17 -> 840000 | I35: 기계톱(45cc) | M35: =INT((C35*E35/2)*H35) -> 0 | N35: =INT(SUM(K35:M35)) -> 0
B36: o 작업로개설(굴삭기 0.2㎥당) | N36: =SUM(N37:N39) -> 0
B37: - 직접노무비(대작업로) | C37: =C31 -> 0 | D37: km | E37: 1 | F37: km | G37: =C37/E37 -> 0 | H37: =단가산출총괄표!G9*1000 -> 4618000 | I37: 원/km | K37: =INT(H37*G37*(1+J37)) -> 0 | N37: =INT(SUM(K37:M37)) -> 0
B38: - 재료비 | C38: =C37 -> 0 | D38: km | E38: 1 | F38: km | G38: =C38/E38 -> 0 | H38: =단가산출총괄표!H9*1000 -> 863000 | I38: 원/km | L38: =INT(H38*G38) -> 0 | N38: =INT(SUM(K38:M38)) -> 0
B39: - 기계경비 | C39: =C37 -> 0 | D39: km | E39: 1 | F39: km | G39: =C39/E39 -> 0 | H39: =단가산출총괄표!I9*1000 -> 1048000 | I39: 원/km | M39: =INT(G39*H39) -> 0 | N39: =INT(SUM(K39:M39)) -> 0
B40: o 위험목제거(32~40㎝) | N40: =SUM(N41:N43) -> 3462820
B41: - 직접노무비 | C41: ='바-1.1-0-1 GPS좌표 및 흉고(소구역-소나무위험목'!P6+'바-1.1-0-1 GPS좌표 및 흉고(소구역-해송 위험목'!P6 -> 10 | D41: 본 | E41: 1 | F41: 본 | G41: =C41*E41 -> 10 | H41: =일위대가총괄표!G9 -> 317748 | I41: 원 | K41: =INT(H41*G41) -> 3177480 | N41: =INT(SUM(K41:M41)) -> 3177480
B42: - 재료비 | C42: =C41 -> 10 | D42: 본 | E42: 1 | F42: 본 | G42: =C42*E42 -> 10 | H42: =일위대가총괄표!H9 -> 13673 | I42: 원 | L42: =INT(H42*G42) -> 136730 | N42: =INT(SUM(K42:M42)) -> 136730
B43: - 기계경비 | C43: =C41 -> 10 | D43: 본 | E43: 1 | F43: 본 | G43: =C43*E43 -> 10 | H43: =일위대가총괄표!I9 -> 14861 | I43: 원 | M43: =INT(G43*H43) -> 148610 | N43: =INT(SUM(K43:M43)) -> 148610
B44: o 위험목제거(42~50㎝) | N44: =SUM(N45:N47) -> 5470332
B45: - 직접노무비 | C45: ='바-1.1-0-1 GPS좌표 및 흉고(소구역-소나무위험목'!P7+'바-1.1-0-1 GPS좌표 및 흉고(소구역-해송 위험목'!P7 -> 12 | D45: 본 | E45: 1 | F45: 본 | G45: =C45*E45 -> 12 | H45: =일위대가총괄표!G10 -> 418174 | I45: 원 | K45: =INT(H45*G45) -> 5018088 | N45: =INT(SUM(K45:M45)) -> 5018088
B46: - 재료비 | C46: =C45 -> 12 | D46: 본 | E46: 1 | F46: 본 | G46: =C46*E46 -> 12 | H46: =일위대가총괄표!H10 -> 18059 | I46: 원 | L46: =INT(H46*G46) -> 216708 | N46: =INT(SUM(K46:M46)) -> 216708
B47: - 기계경비 | C47: =C45 -> 12 | D47: 본 | E47: 1 | F47: 본 | G47: =C47*E47 -> 12 | H47: =일위대가총괄표!I10 -> 19628 | I47: 원 | M47: =INT(G47*H47) -> 235536 | N47: =INT(SUM(K47:M47)) -> 235536
B48: o 위험목제거(52㎝이상) | N48: =SUM(N49:N51) -> 4895530
B49: - 직접노무비 | C49: ='바-1.1-0-1 GPS좌표 및 흉고(소구역-소나무위험목'!P8+'바-1.1-0-1 GPS좌표 및 흉고(소구역-해송 위험목'!P8 -> 10 | D49: 본 | E49: 1 | F49: 본 | G49: =C49*E49 -> 10 | H49: =일위대가총괄표!G11 -> 449174 | I49: 원 | K49: =INT(H49*G49) -> 4491740 | N49: =INT(SUM(K49:M49)) -> 4491740
B50: - 재료비 | C50: =C49 -> 10 | D50: 본 | E50: 1 | F50: 본 | G50: =C50*E50 -> 10 | H50: =일위대가총괄표!H11 -> 19349 | I50: 원 | L50: =INT(H50*G50) -> 193490 | N50: =INT(SUM(K50:M50)) -> 193490
B51: - 기계경비 | C51: =C49 -> 10 | D51: 본 | E51: 1 | F51: 본 | G51: =C51*E51 -> 10 | H51: =일위대가총괄표!I11 -> 21030 | I51: 원 | M51: =INT(G51*H51) -> 210300 | N51: =INT(SUM(K51:M51)) -> 210300
B52: o 벌도 위험목 점검 | N52: =SUM(N53:N53) -> 0
B53: - 직접노무비 | C53: =L4 -> 0 | D53: ha | E53: 0.13 | F53: 인/ha | G53: =ROUND(C53*E53,2) -> 0 | H53: =노임단가!L8 -> 253243 | I53: 벌목부 | K53: =INT(H53*G53*(1+J53)) -> 0 | N53: =INT(SUM(K53:M53)) -> 0
B54: o 벌목부 작업안전 보조 | N54: =SUM(N55:N55) -> 1548612 | O54: =G14/2 -> 35.035 | P54: 벌목인수
B55: - 직접노무비 | C55: 9 | D55: 인 | E55: 1 | F55: 인/4인 | G55: =ROUND(C55*E55,2) -> 9 | H55: =노임단가!L6 -> 172068 | I55: 보통인부 | K55: =INT(H55*G55*(1+J55)) -> 1548612 | N55: =INT(SUM(K55:M55)) -> 1548612 | O55: =O54/4 -> 8.75875 | P55: 4인당
B56: o 소운반(1ton트럭)(총입목재적)→중토장 | N56: =SUM(N57:N59) -> 4602838
B57: - 직접노무비 | C57: =C109 -> 258.63012 | D57: ㎥ | E57: 1 | F57: ㎥ | G57: =C57*E57 -> 258.63012 | H57: =단가산출총괄표!G4 -> 14,173 | I57: 원/Ton트럭 | K57: =INT(H57*G57*(1+J57)) -> 3665564 | N57: =INT(SUM(K57:M57)) -> 3665564
B58: - 재료비 | C58: =C57 -> 258.63012 | D58: ㎥ | E58: 1 | F58: ㎥ | G58: =C58*E58 -> 258.63012 | H58: =단가산출총괄표!H4 -> 1,441 | I58: 원/Ton트럭 | L58: =INT(H58*G58) -> 372685 | N58: =INT(SUM(K58:M58)) -> 372685
B59: - 기계경비 | C59: =C57 -> 258.63012 | D59: ㎥ | E59: 1 | F59: ㎥ | G59: =C59*E59 -> 258.63012 | H59: =단가산출총괄표!I4 -> 2,183 | I59: 원/Ton트럭 | M59: =INT(G59*H59) -> 564589 | N59: =INT(SUM(K59:M59)) -> 564589
B60: o 대운반(4.5ton트럭)(총입목재적)→파쇄장 | N60: =SUM(N61:N63) -> 5118547
B61: - 직접노무비 | C61: =C108 -> 258.63012 | D61: ㎥ | E61: 1 | F61: ㎥ | G61: =C61*E61 -> 258.63012 | H61: =단가산출총괄표!G5 -> 13,894 | I61: 원/ton | K61: =INT(H61*G61*(1+J61)) -> 3593406 | N61: =INT(SUM(K61:M61)) -> 3593406
B62: - 재료비 | C62: =C61 -> 258.63012 | D62: ㎥ | E62: 1 | F62: ㎥ | G62: =C62*E62 -> 258.63012 | H62: =단가산출총괄표!H5 -> 3,155 | I62: 원/ton | L62: =INT(H62*G62) -> 815978 | N62: =INT(SUM(K62:M62)) -> 815978
B63: - 기계경비 | C63: =C61 -> 258.63012 | D63: ㎥ | E63: 1 | F63: ㎥ | G63: =C63*E63 -> 258.63012 | H63: =단가산출총괄표!I5 -> 2,742 | I63: 원/ton | M63: =INT(G63*H63) -> 709163 | N63: =INT(SUM(K63:M63)) -> 709163
B64: o 산지집재(원목재적) | N64: =SUM(N65,N68,N71) -> 2741735 | O64: =C65/$L$4 -> #DIV/0!
B65: - 직접노무비 | C65: =C104 -> 174.84817 | D65: ㎥ | E65: 40.89 | F65: ㎥/대,일 | G65: =ROUND(C65/E65,2) -> 4.28 | H65: =SUM(H66:H67) -> 455365 | I65: 건1+보1 | K65: =INT(H65*G65*(1+J65)) -> 1948962 | N65: =INT(SUM(K65:M65)) -> 1948962
A66: 단위작업 | B66: └ ha당 40㎥초과 | H66: =노임단가!$L$4 -> 283297 | I66: 건설기계운전사
H67: =노임단가!$L$6 -> 172068 | I67: 보통인부1인
B68: - 재료비 | N68: =N69+N70 -> 210967
B69: 연료 | C69: =G65 -> 4.28 | D69: 일 | E69: 20.8 | F69: ℓ/일 | G69: =ROUND((E69*C69),2) -> 89.02 | H69: =자재단가!$R$5 -> 1823 | I69: 경유(ℓ) | L69: =INT(H69*G69) -> 162283 | N69: =INT(SUM(K69:M69)) -> 162283
B70: 잡품 | C70: =N69 -> 162283 | D70: 원 | E70: 30 | F70: %(주연료의) | L70: =INT(C70*E70/100) -> 48684 | N70: =INT(SUM(K70:M70)) -> 48684
B71: - 기계경비(굴삭기+우드그랩) | C71: =C69 -> 4.28 | D71: 일 | E71: 8 | F71: 시간/일 | H71: =기계경비총괄표!$I$6 -> 16992 | I71: 원/시간 | M71: =INT(C71*E71*H71) -> 581806 | N71: =INT(SUM(K71:M71)) -> 581806
B72: o 재해산물수집(지조+조재) | N72: =SUM(N73:N74) -> 1601264 | O72: =C73/L4 -> #DIV/0!
B73: - 직접노무비 | C73: =C106+C107 -> 83.781942 | D73: ㎥ | E73: 9.9 | F73: ㎥/일 | G73: =ROUND(C73/E73,2) -> 8.46 | H73: =노임단가!$L$6 -> 172068 | I73: 보통인부 | J73: =G121 -> 0.1 | K73: =INT(H73*G73*(1+J73)) -> 1601264 | N73: =INT(SUM(K73:M73)) -> 1601264
B74: └ 30m이하(45㎥이상)
B75: o 잔가지줍기 | N75: =SUM(N76:N76) -> 891312
B76: - 직접노무비 | C76: =G4 -> 324 | D76: 본 | E76: 0.016 | F76: 인/본당 | G76: =ROUND(C76*E76,2) -> 5.18 | H76: =노임단가!$L$6 -> 172068 | I76: 보통인부 | K76: =INT(H76*G76*(1+J76)) -> 891312 | N76: =INT(SUM(K76:M76)) -> 891312
B77: o 집적작업(원목) | N77: =SUM(N78,N80,N83) -> 955787 | O77: =P103 -> 34
B78: - 직접노무비(2.7m) | C78: =C104 -> 174.84817 | D78: ㎥ | E78: =48.33+(48.33*77%) -> 85.5441 | F78: ㎥/일 | G78: =ROUND(C78/E78,2) -> 2.04 | H78: =노임단가!$L$4 -> 283297 | I78: 건설기계운전사 | K78: =INT(H78*G78) -> 577925 | N78: =INT(SUM(K78:M78)) -> 577925
B79: └30㎝초과(평균직경)
B80: - 재료비 | N80: =N81+N82 -> 100553
B81: 연료 | C81: =G78 -> 2.04 | D81: 일 | E81: 20.8 | F81: ℓ/일 | G81: =ROUND((E81*C81),2) -> 42.43 | H81: =자재단가!$R$5 -> 1823 | I81: 경유(ℓ) | L81: =INT(H81*G81) -> 77349 | N81: =INT(SUM(K81:M81)) -> 77349
B82: 잡품 | C82: =N81 -> 77349 | D82: 원 | E82: 30 | F82: %(주연료의) | L82: =INT(C82*E82/100) -> 23204 | N82: =INT(SUM(K82:M82)) -> 23204
B83: - 기계경비(굴삭기+우드그랩) | C83: =C81 -> 2.04 | D83: 일 | E83: 8 | F83: 시간/일 | H83: =기계경비총괄표!$I$6 -> 16992 | I83: 원/시간 | M83: =INT(C83*E83*H83) -> 277309 | N83: =INT(SUM(K83:M83)) -> 277309
B84: o 방제실행 등록 | N84: =SUM(N85:N85) -> 278750
B85: - 직접노무비 | C85: =G4 -> 324 | D85: 본 | E85: 0.005 | F85: 인/본당 | G85: =ROUND(C85*E85,2) -> 1.62 | H85: =적용품셈및면적!$E$4 -> 172068 | I85: 보통인부 | K85: =INT(H85*G85*(1+J85)) -> 278750 | N85: =INT(SUM(K85:M85)) -> 278750
B86: o 이동식임목파쇄기93.25kW | N86: =SUM(N87:N89) -> 22217101
B87: - 직접노무비 | C87: =C108 -> 258.63012 | D87: ㎥ | E87: 1 | F87: ㎥ | G87: =C87*E87 -> 258.63012 | H87: =단가산출총괄표!G6 -> 46,016 | I87: 원/㎥ | K87: =INT(H87*G87) -> 11901123 | N87: =INT(SUM(K87:M87)) -> 11901123
B88: - 재료비 | C88: =C87 -> 258.63012 | D88: ㎥ | E88: 1 | F88: ㎥ | G88: =C88*E88 -> 258.63012 | H88: =단가산출총괄표!H6 -> 17,828 | I88: 원/㎥ | L88: =INT(H88*G88) -> 4610857 | N88: =INT(SUM(K88:M88)) -> 4610857
B89: - 기계경비 | C89: =C87 -> 258.63012 | D89: ㎥ | E89: 1 | F89: ㎥ | G89: =C89*E89 -> 258.63012 | H89: =단가산출총괄표!I6 -> 22,059 | I89: 원/㎥ | M89: =INT(G89*H89) -> 5705121 | N89: =INT(SUM(K89:M89)) -> 5705121
B90: o 중기운반(우드그랩0.7㎥급) | N90: =SUM(N91:N93) -> 0
B91: - 직접노무비 | C91: 1 | D91: 식 | H91: =단가산출총괄표!G8 -> 0 | I91: 원 | K91: =INT(H91*C91) -> 0 | N91: =INT(SUM(K91:M91)) -> 0
B92: - 재료비 | C92: 1 | D92: 식 | H92: =단가산출총괄표!H8 -> 0 | I92: 원 | L92: =INT(H92*C92) -> 0 | N92: =INT(SUM(K92:M92)) -> 0
B93: - 기계경비 | C93: 1 | D93: 식 | H93: =단가산출총괄표!I8 -> 0 | I93: 원 | M93: =INT(H93*C93) -> 0 | N93: =INT(SUM(K93:M93)) -> 0
B94: o 중기운반(파쇄장비) | N94: =SUM(N95:N97) -> 118456
B95: - 직접노무비 | C95: 1 | D95: 식 | H95: =단가산출총괄표!G7 -> 93,682 | I95: 원 | K95: =INT(H95*C95) -> 93682 | N95: =INT(SUM(K95:M95)) -> 93682
B96: - 재료비 | C96: =C95 -> 1 | D96: 식 | H96: =단가산출총괄표!H8 -> 0 | I96: 원 | L96: =INT(H96*C96) -> 0 | N96: =INT(SUM(K96:M96)) -> 0
B97: - 기계경비 | C97: =C95 -> 1 | D97: 식 | H97: =단가산출총괄표!I7 -> 24,774 | I97: 원 | M97: =INT(H97*C97) -> 24774 | N97: =INT(SUM(K97:M97)) -> 24774
A98: 합계 | K98: =SUM(K8:K97) -> 54883456 | L98: =SUM(L8:L97) -> 7347670 | M98: =SUM(M8:M97) -> 8738396 | N98: =N8+N13+N22+N26+N40+N44+N48+N52+N54+N30+N36+N56+N60+N64+N72+N75+N77+N84+N86+N90+N94 -> 70969522
B100: ○ 작업량 산정
B101: └ 벌채본수 : | C101: =G4 -> 324 | D101: 본 | O101: 평균경급
B102: └ 평 균 경 급 : | C102: =P103 -> 34 | D102: ㎝ | F102: =(C103-C104)/L4 -> #DIV/0! | G102: ㎥ - ha당 재해산물 수집량 = 제거목 입목재적 - 원목 수집량 | O102: =P103 -> 34 | P102: ='라-1.1-0-1 GPS좌표 및 흉고(소구역-소나무)'!C140+'바-1.1-0-1 GPS좌표 및 흉고(소구역-소나무위험목'!C23+'라-1.1-0-1 GPS좌표 및 흉고(소구역-해송)'!C154+'바-1.1-0-1 GPS좌표 및 흉고(소구역-해송 위험목'!C23 -> 136
B103: └ 산물수집량 : | C103: =C104+C106+C107 -> 258.63012 | D103: ㎥) - ※ 벌채목의 총재적(원목+지조+조재) | O103: =ROUNDUP(O102,0) -> 34 | P103: =P102/4 -> 34
...

Sheet 나.1-0-1총수량산출(벌목+조재)
A1: 1-0-1 총수량산출(벌목+조재)-소구역모두베기
A4: 구 분 | C4: 작업량 | E4: 단위품 | G4: 소요품
E5: (인원,수량,요율)
B6: 흉고직경 | D6: 단위 | F6: 단위
A7: 단위작업 | B7: 6㎝ | C7: ='다-1.1-0-1 수량산출(소구역-소나무)'!E4+'다-1.1-0-1 수량산출(소구역-해송)'!E4 -> 0.0078 | D7: ㎥ | E7: =산출기초조사서!E6 -> 1.13 | F7: ㎥/인 | G7: =ROUND(C7/E7,2) -> 0.01 | L7: 35 | M7: 100 | N7: =L7/M7 -> 0.35
B8: 8㎝ | C8: ='다-1.1-0-1 수량산출(소구역-소나무)'!E5+'다-1.1-0-1 수량산출(소구역-해송)'!E5 -> 0 | D8: ㎥ | E8: =산출기초조사서!E7 -> 1.18 | F8: ㎥/인 | G8: =ROUND(C8/E8,2) -> 0 | L8: 40
B9: 10㎝ | C9: ='다-1.1-0-1 수량산출(소구역-소나무)'!E6+'다-1.1-0-1 수량산출(소구역-해송)'!E6 -> 0.06464 | D9: ㎥ | E9: =산출기초조사서!E8 -> 1.24 | F9: ㎥/인 | G9: =ROUND(C9/E9,2) -> 0.05
B10: 12㎝ | C10: ='다-1.1-0-1 수량산출(소구역-소나무)'!E7+'다-1.1-0-1 수량산출(소구역-해송)'!E7 -> 0.36292 | D10: ㎥ | E10: =산출기초조사서!E9 -> 1.26 | F10: ㎥/인 | G10: =ROUND(C10/E10,2) -> 0.29
B11: 14㎝ | C11: ='다-1.1-0-1 수량산출(소구역-소나무)'!E8+'다-1.1-0-1 수량산출(소구역-해송)'!E8 -> 0.88837 | D11: ㎥ | E11: =산출기초조사서!E10 -> 1.29 | F11: ㎥/인 | G11: =ROUND(C11/E11,2) -> 0.69
B12: 16㎝ | C12: ='다-1.1-0-1 수량산출(소구역-소나무)'!E9+'다-1.1-0-1 수량산출(소구역-해송)'!E9 -> 1.0542 | D12: ㎥ | E12: =산출기초조사서!E11 -> 1.32 | F12: ㎥/인 | G12: =ROUND(C12/E12,2) -> 0.8
B13: 18㎝ | C13: ='다-1.1-0-1 수량산출(소구역-소나무)'!E10+'다-1.1-0-1 수량산출(소구역-해송)'!E10 -> 2.26715 | D13: ㎥ | E13: =산출기초조사서!E12 -> 1.34 | F13: ㎥/인 | G13: =ROUND(C13/E13,2) -> 1.69
B14: 20㎝ | C14: ='다-1.1-0-1 수량산출(소구역-소나무)'!E11+'다-1.1-0-1 수량산출(소구역-해송)'!E11 -> 4.58801 | D14: ㎥ | E14: =산출기초조사서!E13 -> 1.51 | F14: ㎥/인 | G14: =ROUND(C14/E14,2) -> 3.04
B15: 22㎝ | C15: ='다-1.1-0-1 수량산출(소구역-소나무)'!E12+'다-1.1-0-1 수량산출(소구역-해송)'!E12 -> 4.33088 | D15: ㎥ | E15: =산출기초조사서!E14 -> 1.6 | F15: ㎥/인 | G15: =ROUND(C15/E15,2) -> 2.71
B16: 24㎝ | C16: ='다-1.1-0-1 수량산출(소구역-소나무)'!E13+'다-1.1-0-1 수량산출(소구역-해송)'!E13 -> 6.33849 | D16: ㎥ | E16: =산출기초조사서!E15 -> 1.74 | F16: ㎥/인 | G16: =ROUND(C16/E16,2) -> 3.64
B17: 26㎝ | C17: ='다-1.1-0-1 수량산출(소구역-소나무)'!E14+'다-1.1-0-1 수량산출(소구역-해송)'!E14 -> 7.51716 | D17: ㎥ | E17: =산출기초조사서!E16 -> 1.84 | F17: ㎥/인 | G17: =ROUND(C17/E17,2) -> 4.09
B18: 28㎝ | C18: ='다-1.1-0-1 수량산출(소구역-소나무)'!E15+'다-1.1-0-1 수량산출(소구역-해송)'!E15 -> 7.83408 | D18: ㎥ | E18: =산출기초조사서!E17 -> 1.94 | F18: ㎥/인 | G18: =ROUND(C18/E18,2) -> 4.04
B19: 30㎝ | C19: ='다-1.1-0-1 수량산출(소구역-소나무)'!E16+'다-1.1-0-1 수량산출(소구역-해송)'!E16 -> 14.7805 | D19: ㎥ | E19: =산출기초조사서!E18 -> 2.05 | F19: ㎥/인 | G19: =ROUND(C19/E19,2) -> 7.21
B20: 32㎝ | C20: ='다-1.1-0-1 수량산출(소구역-소나무)'!E17+'다-1.1-0-1 수량산출(소구역-해송)'!E17 -> 8.93388 | D20: ㎥ | E20: =산출기초조사서!E19 -> 2.13 | F20: ㎥/인 | G20: =ROUND(C20/E20,2) -> 4.19
... B28: 48㎝ | C28: ='다-1.1-0-1 수량산출(소구역-소나무)'!E25+'다-1.1-0-1 수량산출(소구역-해송)'!E25 -> 3.389 | D28: ㎥ | E28: =산출기초조사서!E27 -> 2.74 | F28: ㎥/인 | G28: =ROUND(C28/E28,2) -> 1.24
B29: 50㎝ | C29: ='다-1.1-0-1 수량산출(소구역-소나무)'!E26+'다-1.1-0-1 수량산출(소구역-해송)'!E26 -> 3.54288 | D29: ㎥ | E29: =산출기초조사서!$E$28 -> 2.8 | F29: ㎥/인 | G29: =ROUND(C29/E29,2) -> 1.27
B30: 52㎝ | C30: ='다-1.1-0-1 수량산출(소구역-소나무)'!E27+'다-1.1-0-1 수량산출(소구역-해송)'!E27 -> 2.06778 | D30: ㎥ | E30: =산출기초조사서!$E$28 -> 2.8 | F30: ㎥/인 | G30: =ROUND(C30/E30,2) -> 0.74
B31: 54㎝ | C31: ='다-1.1-0-1 수량산출(소구역-소나무)'!E28+'다-1.1-0-1 수량산출(소구역-해송)'!E28 -> 2.2247 | D31: ㎥ | E31: =산출기초조사서!$E$28 -> 2.8 | F31: ㎥/인 | G31: =ROUND(C31/E31,2) -> 0.79
B32: 56㎝ | C32: ='다-1.1-0-1 수량산출(소구역-소나무)'!E29+'다-1.1-0-1 수량산출(소구역-해송)'!E29 -> 4.53938 | D32: ㎥ | E32: =산출기초조사서!$E$28 -> 2.8 | F32: ㎥/인 | G32: =ROUND(C32/E32,2) -> 1.62
B33: 58㎝ | C33: ='다-1.1-0-1 수량산출(소구역-소나무)'!E30+'다-1.1-0-1 수량산출(소구역-해송)'!E30 -> 0 | D33: ㎥ | E33: =산출기초조사서!$E$28 -> 2.8 | F33: ㎥/인 | G33: =ROUND(C33/E33,2) -> 0
B34: 60㎝ | C34: ='다-1.1-0-1 수량산출(소구역-소나무)'!E31+'다-1.1-0-1 수량산출(소구역-해송)'!E31 -> 0 | D34: ㎥ | E34: =산출기초조사서!$E$28 -> 2.8 | F34: ㎥/인 | G34: =ROUND(C34/E34,2) -> 0
B35: 62㎝ | C35: ='다-1.1-0-1 수량산출(소구역-소나무)'!E32+'다-1.1-0-1 수량산출(소구역-해송)'!E32 -> 2.51782 | D35: ㎥ | E35: =산출기초조사서!$E$28 -> 2.8 | F35: ㎥/인 | G35: =ROUND(C35/E35,2) -> 0.9
B36: 64㎝ | C36: ='다-1.1-0-1 수량산출(소구역-소나무)'!E33+'다-1.1-0-1 수량산출(소구역-해송)'!E33 -> 0 | D36: ㎥ | E36: =산출기초조사서!$E$28 -> 2.8 | F36: ㎥/인 | G36: =ROUND(C36/E36,2) -> 0
B37: 66㎝ | C37: ='다-1.1-0-1 수량산출(소구역-소나무)'!E34+'다-1.1-0-1 수량산출(소구역-해송)'!E34 -> 0 | D37: ㎥ | E37: =산출기초조사서!$E$28 -> 2.8 | F37: ㎥/인 | G37: =ROUND(C37/E37,2) -> 0
B38: 68㎝ | C38: ='다-1.1-0-1 수량산출(소구역-소나무)'!E35+'다-1.1-0-1 수량산출(소구역-해송)'!E35 -> 0 | D38: ㎥ | E38: =산출기초조사서!$E$28 -> 2.8 | F38: ㎥/인 | G38: =ROUND(C38/E38,2) -> 0
B39: 70㎝ | C39: ='다-1.1-0-1 수량산출(소구역-소나무)'!E36+'다-1.1-0-1 수량산출(소구역-해송)'!E36 -> 0 | D39: ㎥ | E39: =산출기초조사서!$E$28 -> 2.8 | F39: ㎥/인 | G39: =ROUND(C39/E39,2) -> 0
B40: 72㎝ | C40: ='다-1.1-0-1 수량산출(소구역-소나무)'!E37+'다-1.1-0-1 수량산출(소구역-해송)'!E37 -> 0 | D40: ㎥ | E40: =산출기초조사서!$E$28 -> 2.8 | F40: ㎥/인 | G40: =ROUND(C40/E40,2) -> 0
... B44: 80㎝ | C44: ='다-1.1-0-1 수량산출(소구역-소나무)'!E41+'다-1.1-0-1 수량산출(소구역-해송)'!E41 -> 0 | D44: ㎥ | E44: =산출기초조사서!$E$28 -> 2.8 | F44: ㎥/인 | G44: =ROUND(C44/E44,2) -> 0
A45: 합계 | C45: =SUM(C7:C44) -> 153.54498 | G45: =SUM(G7:G44) -> 70.07
A46: ※위험목 제거는 제외

Sheet 다-1.1-0-1 수량산출(소구역-소나무)
A1: 1-0-1 수량산출-소구역모두베기-소나무 | U1: 124 | V1: 1.81 | W1: 100
A2: 경급 (㎝) | B2: 수고 (m) | C2: 본수 (본) | D2: 수간재적 (㎥/본) | E2: 총재적 (㎥) | F2: 지조율 (%) | G2: 조재율 (%) | H2: 총원목량 (㎥) | I2: 원목집재 재적별 집계 (㎥) | J2: 총조재량 (㎥) | K2: 총지조량 (㎥) | L2: 총입목재적 (㎥) | M2: 총원목 운반량 (㎥) | N2: 총잔가지 운반량 (㎥) 층적부피rm= 총잔가지량*1.81 | O2: 총파쇄량 =총지조+총조재 (㎥) | P2: 총파쇄량 =조재량+지조량 (㎥) | Q2: 총소각량 (㎥) | R2: 소각 단위품 (㎥/인) | S2: 총소각 소요품 (㎥/인) | T2: 비고 | AA2: =121.08*69000 -> 8354520 | AB2: =AA2-AA3 -> 8112360
AA3: =121.08*2000 -> 242160
A4: 6 | B4: 5 | C4: =SUMIF('라-1.1-0-1 GPS좌표 및 흉고(소구역-소나무)'!$C$4:$C$139,A4,'라-1.1-0-1 GPS좌표 및 흉고(소구역-소나무)'!$K$4:$K$139) -> 1 | D4: =IF(B4="","",INDEX(수간재적표!$C$2:$AX$427,$U$1+B4-2,A4/2-2)) -> 0.0078 | E4: =C4*D4 -> 0.0078 | F4: 28.9 | G4: =조재율표!H5*$W$1 -> 31 | H4: =E4*G4/100 -> 0.002418 | I4: =SUM(H4:H14) -> 9.913403 | J4: =E4-H4 -> 0.005382 | K4: =E4*F4/100 -> 0.0022542 | L4: =SUM(K4,E4) -> 0.0100542 | M4: =H4 -> 0.002418 | N4: =(J4+K4)*$V$1 -> 0.013821522 | O4: =J4+K4 -> 0.0076362 | P4: =J4+K4 -> 0.0076362 | Q4: =J4+K4 -> 0.0076362 | R4: =산출기초조사서!I6 -> 7.22 | S4: =ROUND(Q4/R4,2) -> 0 | V4: =D4*800 -> 6.24 | X4: =L4-H4 -> 0.0076362 | Y4: =D4*800 -> 6.24 | AB4: =(C4*100)/25 -> 4 | AE4: =SUMIF('라-1.1-0-1 GPS좌표 및 흉고(소구역-소나무)'!$C$4:$C$139,"6",'라-1.1-0-1 GPS좌표 및 흉고(소구역-소나무)'!$K$4:$K$139) -> 1
A5: 8 | C5: =SUMIF('라-1.1-0-1 GPS좌표 및 흉고(소구역-소나무)'!$C$4:$C$139,A5,'라-1.1-0-1 GPS좌표 및 흉고(소구역-소나무)'!$K$4:$K$139) -> 0 | D5: =IF(B5="","",INDEX(수간재적표!$C$2:$AX$427,$U$1+B5-2,A5/2-2)) | H5: =E5*G5/100 -> 0 | J5: =E5-H5 -> 0 | K5: =E5*F5/100 -> 0 | L5: =SUM(K5,E5) -> 0 | M5: =H5 -> 0 | N5: =(J5+K5)*$V$1 -> 0 | O5: =J5+K5 -> 0 | P5: =J5+K5 -> 0 | Q5: =J5+K5 -> 0 | R5: =산출기초조사서!I7 -> 7.39 | S5: =ROUND(Q5/R5,2) -> 0 | V5: =D5*800 -> #VALUE! | X5: =L5-H5 -> 0 | Z5: =D4*800 -> 6.24 | AB5: =(C5*100)/25 -> 0 | AE5: =SUMIF('라-1.1-0-1 GPS좌표 및 흉고(소구역-소나무)'!$C$4:$C$139,"8",'라-1.1-0-1 GPS좌표 및 흉고(소구역-소나무)'!$K$4:$K$139) -> 0
A6: 10 | B6: 8 | C6: =SUMIF('라-1.1-0-1 GPS좌표 및 흉고(소구역-소나무)'!$C$4:$C$139,A6,'라-1.1-0-1 GPS좌표 및 흉고(소구역-소나무)'!$K$4:$K$139) -> 1 | D6: =IF(B6="","",INDEX(수간재적표!$C$2:$AX$427,$U$1+B6-2,A6/2-2)) -> 0.03208 | E6: =C6*D6 -> 0.03208 | F6: 28.9 | G6: =조재율표!H5*$W$1 -> 31 | H6: =E6*G6/100 -> 0.0099448 | J6: =E6-H6 -> 0.0221352 | K6: =E6*F6/100 -> 0.00927112 | L6: =SUM(K6,E6) -> 0.04135112 | M6: =H6 -> 0.0099448 | N6: =(J6+K6)*$V$1 -> 0.056845439 | O6: =J6+K6 -> 0.03140632 | P6: =J6+K6 -> 0.03140632 | Q6: =J6+K6 -> 0.03140632 | R6: =산출기초조사서!I8 -> 7.56 | S6: =ROUND(Q6/R6,2) -> 0 | V6: =D6*800 -> 25.664 | X6: =L6-H6 -> 0.03140632 | AB6: =(C6*100)/25 -> 4 | AE6: =SUMIF('라-1.1-0-1 GPS좌표 및 흉고(소구역-소나무)'!$C$4:$C$139,"10",'라-1.1-0-1 GPS좌표 및 흉고(소구역-소나무)'!$K$4:$K$139) -> 1
A7: 12 | B7: 8 | C7: =SUMIF('라-1.1-0-1 GPS좌표 및 흉고(소구역-소나무)'!$C$4:$C$139,A7,'라-1.1-0-1 GPS좌표 및 흉고(소구역-소나무)'!$K$4:$K$139) -> 5 | D7: =IF(B7="","",INDEX(수간재적표!$C$2:$AX$427,$U$1+B7-2,A7/2-2)) -> 0.04505 | E7: =C7*D7 -> 0.22525 | F7: 28.9 | G7: =조재율표!H6*$W$1 -> 51 | H7: =E7*G7/100 -> 0.1148775 | J7: =E7-H7 -> 0.1103725 | K7: =E7*F7/100 -> 0.06509725 | L7: =SUM(K7,E7) -> 0.29034725 | M7: =H7 -> 0.1148775 | N7: =(J7+K7)*$V$1 -> 0.31760025 | O7: =J7+K7 -> 0.17546975 | P7: =J7+K7 -> 0.17546975 | Q7: =J7+K7 -> 0.17546975 | R7: =산출기초조사서!I9 -> 7.72 | S7: =ROUND(Q7/R7,2) -> 0.02 | V7: =D7*800 -> 36.04 | X7: =L7-H7 -> 0.17546975 | AB7: =(C7*100)/25 -> 20 | AE7: =SUMIF('라-1.1-0-1 GPS좌표 및 흉고(소구역-소나무)'!$C$4:$C$139,"12",'라-1.1-0-1 GPS좌표 및 흉고(소구역-소나무)'!$K$4:$K$139) -> 5
A8: 14 | B8: 9 | C8: =SUMIF('라-1.1-0-1 GPS좌표 및 흉고(소구역-소나무)'!$C$4:$C$139,A8,'라-1.1-0-1 GPS좌표 및 흉고(소구역-소나무)'!$K$4:$K$139) -> 5 | D8: =IF(B8="","",INDEX(수간재적표!$C$2:$AX$427,$U$1+B8-2,A8/2-2)) -> 0.06753 | E8: =C8*D8 -> 0.33765 | F8: 28.9 | G8: =조재율표!H7*$W$1 -> 64 | H8: =E8*G8/100 -> 0.216096 | J8: =E8-H8 -> 0.121554 | K8: =E8*F8/100 -> 0.09758085 | L8: =SUM(K8,E8) -> 0.43523085 | M8: =H8 -> 0.216096 | N8: =(J8+K8)*$V$1 -> 0.39663408 | O8: =J8+K8 -> 0.21913485 | P8: =J8+K8 -> 0.21913485 | Q8: =J8+K8 -> 0.21913485 | R8: =산출기초조사서!I10 -> 7.89 | S8: =ROUND(Q8/R8,2) -> 0.03 | V8: =D8*800 -> 54.024 | X8: =L8-H8 -> 0.21913485 | AB8: =(C8*100)/25 -> 20 | AE8: =SUMIF('라-1.1-0-1 GPS좌표 및 흉고(소구역-소나무)'!$C$4:$C$139,"14",'라-1.1-0-1 GPS좌표 및 흉고(소구역-소나무)'!$K$4:$K$139) -> 5
A9: 16 | B9: 9 | C9: =SUMIF('라-1.1-0-1 GPS좌표 및 흉고(소구역-소나무)'!$C$4:$C$139,A9,'라-1.1-0-1 GPS좌표 및 흉고(소구역-소나무)'!$K$4:$K$139) -> 3 | D9: =IF(B9="","",INDEX(수간재적표!$C$2:$AX$427,$U$1+B9-2,A9/2-2)) -> 0.08668 | E9: =C9*D9 -> 0.26004 | F9: 28.9 | G9: =조재율표!H8*$W$1 -> 72 | H9: =E9*G9/100 -> 0.1872288 | J9: =E9-H9 -> 0.0728112 | K9: =E9*F9/100 -> 0.07515156 | L9: =SUM(K9,E9) -> 0.33519156 | M9: =H9 -> 0.1872288 | N9: =(J9+K9)*$V$1 -> 0.2678126 | O9: =J9+K9 -> 0.14796276 | P9: =J9+K9 -> 0.14796276 | Q9: =J9+K9 -> 0.14796276 | R9: =산출기초조사서!I11 -> 8.06 | S9: =ROUND(Q9/R9,2) -> 0.02 | V9: =D9*800 -> 69.344 | X9: =L9-H9 -> 0.14796276 | AB9: =(C9*100)/25 -> 12 | AE9: =SUMIF('라-1.1-0-1 GPS좌표 및 흉고(소구역-소나무)'!$C$4:$C$139,"16",'라-1.1-0-1 GPS좌표 및 흉고(소구역-소나무)'!$K$4:$K$139) -> 3 | AF9: =AE9+AE10+AE11 -> 19
A10: 18 | B10: 11 | C10: =SUMIF('라-1.1-0-1 GPS좌표 및 흉고(소구역-소나무)'!$C$4:$C$139,A10,'라-1.1-0-1 GPS좌표 및 흉고(소구역-소나무)'!$K$4:$K$139) -> 5 | D10: =IF(B10="","",INDEX(수간재적표!$C$2:$AX$427,$U$1+B10-2,A10/2-2)) -> 0.13195 | E10: =C10*D10 -> 0.65975 | F10: 28.9 | G10: =조재율표!H9*$W$1 -> 77 | H10: =E10*G10/100 -> 0.5080075 | J10: =E10-H10 -> 0.1517425 | K10: =E10*F10/100 -> 0.19066775 | L10: =SUM(K10,E10) -> 0.85041775 | M10: =H10 -> 0.5080075 | N10: =(J10+K10)*$V$1 -> 0.61976255 | O10: =J10+K10 -> 0.34241025 | P10: =J10+K10 -> 0.34241025 | Q10: =J10+K10 -> 0.34241025 | R10: =산출기초조사서!I12 -> 8.22 | S10: =ROUND(Q10/R10,2) -> 0.04 | V10: =D10*800 -> 105.56 | X10: =L10-H10 -> 0.34241025 | AB10: =(C10*100)/25 -> 20 | AE10: =SUMIF('라-1.1-0-1 GPS좌표 및 흉고(소구역-소나무)'!$C$4:$C$139,"18",'라-1.1-0-1 GPS좌표 및 흉고(소구역-소나무)'!$K$4:$K$139) -> 5
A11: 20 | B11: 12 | C11: =SUMIF('라-1.1-0-1 GPS좌표 및 흉고(소구역-소나무)'!$C$4:$C$139,A11,'라-1.1-0-1 GPS좌표 및 흉고(소구역-소나무)'!$K$4:$K$139) -> 11 | D11: =IF(B11="","",INDEX(수간재적표!$C$2:$AX$427,$U$1+B11-2,A11/2-2)) -> 0.17536 | E11: =C11*D11 -> 1.92896 | F11: 28.9 | G11: =조재율표!H10*$W$1 -> 80 | H11: =E11*G11/100 -> 1.543168 | J11: =E11-H11 -> 0.385792 | K11: =E11*F11/100 -> 0.55746944 | L11: =SUM(K11,E11) -> 2.4864294 | M11: =H11 -> 1.543168 | N11: =(J11+K11)*$V$1 -> 1.7073032 | O11: =J11+K11 -> 0.94326144 | P11: =J11+K11 -> 0.94326144 | Q11: =J11+K11 -> 0.94326144 | R11: =산출기초조사서!I13 -> 8.39 | S11: =ROUND(Q11/R11,2) -> 0.11 | V11: =D11*800 -> 140.288 | X11: =L11-H11 -> 0.94326144 | AB11: =(C11*100)/25 -> 44 | AE11: =SUMIF('라-1.1-0-1 GPS좌표 및 흉고(소구역-소나무)'!$C$4:$C$139,"20",'라-1.1-0-1 GPS좌표 및 흉고(소구역-소나무)'!$K$4:$K$139) -> 11
A12: 22 | B12: 13 | C12: =SUMIF('라-1.1-0-1 GPS좌표 및 흉고(소구역-소나무)'!$C$4:$C$139,A12,'라-1.1-0-1 GPS좌표 및 흉고(소구역-소나무)'!$K$4:$K$139) -> 8 | D12: =IF(B12="","",INDEX(수간재적표!$C$2:$AX$427,$U$1+B12-2,A12/2-2)) -> 0.2272 | E12: =C12*D12 -> 1.8176 | F12: 28.9 | G12: =조재율표!H11*$W$1 -> 82 | H12: =E12*G12/100 -> 1.490432 | J12: =E12-H12 -> 0.327168 | K12: =E12*F12/100 -> 0.5252864 | L12: =SUM(K12,E12) -> 2.3428864 | M12: =H12 -> 1.490432 | N12: =(J12+K12)*$V$1 -> 1.5429425 | O12: =J12+K12 -> 0.8524544 | P12: =J12+K12 -> 0.8524544 | Q12: =J12+K12 -> 0.8524544 | R12: =산출기초조사서!I14 -> 8.56 | S12: =ROUND(Q12/R12,2) -> 0.1 | V12: =D12*800 -> 181.76 | X12: =L12-H12 -> 0.8524544 | AB12: =(C12*100)/25 -> 32 | AC12: 4.8 | AE12: =SUMIF('라-1.1-0-1 GPS좌표 및 흉고(소구역-소나무)'!$C$4:$C$139,"22",'라-1.1-0-1 GPS좌표 및 흉고(소구역-소나무)'!$K$4:$K$139) -> 8
A13: 24 | B13: 14 | C13: =SUMIF('라-1.1-0-1 GPS좌표 및 흉고(소구역-소나무)'!$C$4:$C$139,A13,'라-1.1-0-1 GPS좌표 및 흉고(소구역-소나무)'!$K$4:$K$139) -> 9 | D13: =IF(B13="","",INDEX(수간재적표!$C$2:$AX$427,$U$1+B13-2,A13/2-2)) -> 0.28819 | E13: =C13*D13 -> 2.59371 | F13: 28.9 | G13: =조재율표!H12*$W$1 -> 84 | H13: =E13*G13/100 -> 2.1787164 | J13: =E13-H13 -> 0.4149936 | K13: =E13*F13/100 -> 0.74958219 | L13: =SUM(K13,E13) -> 3.3432922 | M13: =H13 -> 2.1787164 | N13: =(J13+K13)*$V$1 -> 2.1078822 | O13: =J13+K13 -> 1.1645758 | P13: =J13+K13 -> 1.1645758 | Q13: =J13+K13 -> 1.1645758 | R13: =산출기초조사서!I15 -> 8.72 | S13: =ROUND(Q13/R13,2) -> 0.13 | V13: =D13*800 -> 230.552 | X13: =L13-H13 -> 1.1645758 | AB13: =(C13*100)/25 -> 36 | AE13: =SUMIF('라-1.1-0-1 GPS좌표 및 흉고(소구역-소나무)'!$C$4:$C$139,"24",'라-1.1-0-1 GPS좌표 및 흉고(소구역-소나무)'!$K$4:$K$139) -> 9
A14: 26 | B14: 15 | C14: =SUMIF('라-1.1-0-1 GPS좌표 및 흉고(소구역-소나무)'!$C$4:$C$139,A14,'라-1.1-0-1 GPS좌표 및 흉고(소구역-소나무)'!$K$4:$K$139) -> 12 | D14: =IF(B14="","",INDEX(수간재적표!$C$2:$AX$427,$U$1+B14-2,A14/2-2)) -> 0.35907 | E14: =C14*D14 -> 4.30884 | F14: 28.9 | G14: =조재율표!H13*$W$1 -> 85 | H14: =E14*G14/100 -> 3.662514 | J14: =E14-H14 -> 0.646326 | K14: =E14*F14/100 -> 1.2452548 | L14: =SUM(K14,E14) -> 5.5540948 | M14: =H14 -> 3.662514 | N14: =(J14+K14)*$V$1 -> 3.4237612 | O14: =J14+K14 -> 1.8915808 | P14: =J14+K14 -> 1.8915808 | Q14: =J14+K14 -> 1.8915808 | R14: =산출기초조사서!I16 -> 8.89 | S14: =ROUND(Q14/R14,2) -> 0.21 | V14: =D14*800 -> 287.256 | X14: =L14-H14 -> 1.8915808 | AB14: =(C14*100)/25 -> 48 | AE14: =SUMIF('라-1.1-0-1 GPS좌표 및 흉고(소구역-소나무)'!$C$4:$C$139,"26",'라-1.1-0-1 GPS좌표 및 흉고(소구역-소나무)'!$K$4:$K$139) -> 12
A15: 28 | B15: 16 | C15: =SUMIF('라-1.1-0-1 GPS좌표 및 흉고(소구역-소나무)'!$C$4:$C$139,A15,'라-1.1-0-1 GPS좌표 및 흉고(소구역-소나무)'!$K$4:$K$139) -> 3 | D15: =IF(B15="","",INDEX(수간재적표!$C$2:$AX$427,$U$1+B15-2,A15/2-2)) -> 0.44056 | E15: =C15*D15 -> 1.32168 | F15: 28.9 | G15: =조재율표!H14*$W$1 -> 86 | H15: =E15*G15/100 -> 1.1366448 | I15: =SUM(H15:H16) -> 8.0175048 | J15: =E15-H15 -> 0.1850352 | K15: =E15*F15/100 -> 0.38196552 | L15: =SUM(K15,E15) -> 1.7036455 | M15: =H15 -> 1.1366448 | N15: =(J15+K15)*$V$1 -> 1.0262713 | O15: =J15+K15 -> 0.56700072 | P15: =J15+K15 -> 0.56700072 | Q15: =J15+K15 -> 0.56700072 | R15: =산출기초조사서!I17 -> 9.06 | S15: =ROUND(Q15/R15,2) -> 0.06 | V15: =D15*800 -> 352.448 | X15: =L15-H15 -> 0.56700072 | AB15: =(C15*100)/25 -> 12 | AE15: =SUMIF('라-1.1-0-1 GPS좌표 및 흉고(소구역-소나무)'!$C$4:$C$139,"28",'라-1.1-0-1 GPS좌표 및 흉고(소구역-소나무)'!$K$4:$K$139) -> 3
A16: 30 | B16: 17 | C16: =SUMIF('라-1.1-0-1 GPS좌표 및 흉고(소구역-소나무)'!$C$4:$C$139,A16,'라-1.1-0-1 GPS좌표 및 흉고(소구역-소나무)'!$K$4:$K$139) -> 15 | D16: =IF(B16="","",INDEX(수간재적표!$C$2:$AX$427,$U$1+B16-2,A16/2-2)) -> 0.5334 | E16: =C16*D16 -> 8.001 | F16: 28.9 | G16: =조재율표!H15*$W$1 -> 86 | H16: =E16*G16/100 -> 6.88086 | J16: =E16-H16 -> 1.12014 | K16: =E16*F16/100 -> 2.312289 | L16: =SUM(K16,E16) -> 10.313289 | M16: =H16 -> 6.88086 | N16: =(J16+K16)*$V$1 -> 6.2126965 | O16: =J16+K16 -> 3.432429 | P16: =J16+K16 -> 3.432429 | Q16: =J16+K16 -> 3.432429 | R16: =산출기초조사서!I18 -> 9.23 | S16: =ROUND(Q16/R16,2) -> 0.37 | V16: =D16*800 -> 426.72 | X16: =L16-H16 -> 3.432429 | AB16: =(C16*100)/25 -> 60 | AE16: =SUMIF('라-1.1-0-1 GPS좌표 및 흉고(소구역-소나무)'!$C$4:$C$139,"30",'라-1.1-0-1 GPS좌표 및 흉고(소구역-소나무)'!$K$4:$K$139) -> 15
A17: 32 | B17: 17 | C17: =SUMIF('라-1.1-0-1 GPS좌표 및 흉고(소구역-소나무)'!$C$4:$C$139,A17,'라-1.1-0-1 GPS좌표 및 흉고(소구역-소나무)'!$K$4:$K$139) -> 9 | D17: =IF(B17="","",INDEX(수간재적표!$C$2:$AX$427,$U$1+B17-2,A17/2-2)) -> 0.60294 | E17: =C17*D17 -> 5.42646 | F17: 28.9 | G17: =조재율표!H16*$W$1 -> 87 | H17: =E17*G17/100 -> 4.7210202 | I17: =SUM(H17:H36) -> 54.027213 | J17: =E17-H17 -> 0.7054398 | K17: =E17*F17/100 -> 1.5682469 | L17: =SUM(K17,E17) -> 6.9947069 | M17: =H17 -> 4.7210202 | N17: =(J17+K17)*$V$1 -> 4.115373 | O17: =J17+K17 -> 2.2736867 | P17: =J17+K17 -> 2.2736867 | Q17: =J17+K17 -> 2.2736867 | R17: =산출기초조사서!I19 -> 9.39 | S17: =ROUND(Q17/R17,2) -> 0.24 | V17: =D17*800 -> 482.352 | X17: =L17-H17 -> 2.2736867 | AB17: =(C17*100)/25 -> 36 | AE17: =SUMIF('라-1.1-0-1 GPS좌표 및 흉고(소구역-소나무)'!$C$4:$C$139,"32",'라-1.1-0-1 GPS좌표 및 흉고(소구역-소나무)'!$K$4:$K$139) -> 9
A18: 34 | B18: 18 | C18: =SUMIF('라-1.1-0-1 GPS좌표 및 흉고(소구역-소나무)'!$C$4:$C$139,A18,'라-1.1-0-1 GPS좌표 및 흉고(소구역-소나무)'!$K$4:$K$139) -> 7 | D18: =IF(B18="","",INDEX(수간재적표!$C$2:$AX$427,$U$1+B18-2,A18/2-2)) -> 0.71634 | E18: =C18*D18 -> 5.01438 | F18: 28.9 | G18: =조재율표!H17*$W$1 -> 87 | H18: =E18*G18/100 -> 4.3625106 | J18: =E18-H18 -> 0.6518694 | K18: =E18*F18/100 -> 1.4491558 | L18: =SUM(K18,E18) -> 6.4635358 | M18: =H18 -> 4.3625106 | N18: =(J18+K18)*$V$1 -> 3.8028556 | O18: =J18+K18 -> 2.1010252 | P18: =J18+K18 -> 2.1010252 | Q18: =J18+K18 -> 2.1010252 | R18: =산출기초조사서!I20 -> 9.56 | S18: =ROUND(Q18/R18,2) -> 0.22 | V18: =D18*800 -> 573.072 | X18: =L18-H18 -> 2.1010252 | AB18: =(C18*100)/25 -> 28 | AE18: =SUMIF('라-1.1-0-1 GPS좌표 및 흉고(소구역-소나무)'!$C$4:$C$139,"34",'라-1.1-0-1 GPS좌표 및 흉고(소구역-소나무)'!$K$4:$K$139) -> 7
A19: 36 | B19: 18 | C19: =SUMIF('라-1.1-0-1 GPS좌표 및 흉고(소구역-소나무)'!$C$4:$C$139,A19,'라-1.1-0-1 GPS좌표 및 흉고(소구역-소나무)'!$K$4:$K$139) -> 10 | D19: =IF(B19="","",INDEX(수간재적표!$C$2:$AX$427,$U$1+B19-2,A19/2-2)) -> 0.79879 | E19: =C19*D19 -> 7.9879 | F19: 28.9 | G19: =조재율표!H18*$W$1 -> 88 | H19: =E19*G19/100 -> 7.029352 | J19: =E19-H19 -> 0.958548 | K19: =E19*F19/100 -> 2.3085031 | L19: =SUM(K19,E19) -> 10.296403 | M19: =H19 -> 7.029352 | N19: =(J19+K19)*$V$1 -> 5.9133625 | O19: =J19+K19 -> 3.2670511 | P19: =J19+K19 -> 3.2670511 | Q19: =J19+K19 -> 3.2670511 | R19: =산출기초조사서!I21 -> 9.73 | S19: =ROUND(Q19/R19,2) -> 0.34 | V19: =D19*800 -> 639.032 | X19: =L19-H19 -> 3.2670511 | AB19: =(C19*100)/25 -> 40 | AE19: =SUMIF('라-1.1-0-1 GPS좌표 및 흉고(소구역-소나무)'!$C$4:$C$139,"36",'라-1.1-0-1 GPS좌표 및 흉고(소구역-소나무)'!$K$4:$K$139) -> 10
A20: 38 | B20: 19 | C20: =SUMIF('라-1.1-0-1 GPS좌표 및 흉고(소구역-소나무)'!$C$4:$C$139,A20,'라-1.1-0-1 GPS좌표 및 흉고(소구역-소나무)'!$K$4:$K$139) -> 6 | D20: =IF(B20="","",INDEX(수간재적표!$C$2:$AX$427,$U$1+B20-2,A20/2-2)) -> 0.93476 | E20: =C20*D20 -> 5.60856 | F20: 28.9 | G20: =조재율표!H19*$W$1 -> 88 | H20: =E20*G20/100 -> 4.9355328 | J20: =E20-H20 -> 0.6730272 | K20: =E20*F20/100 -> 1.6208738 | L20: =SUM(K20,E20) -> 7.2294338 | M20: =H20 -> 4.9355328 | N20: =(J20+K20)*$V$1 -> 4.1519609 | O20: =J20+K20 -> 2.293901 | P20: =J20+K20 -> 2.293901 | Q20: =J20+K20 -> 2.293901 | R20: =산출기초조사서!I22 -> 9.89 | S20: =ROUND(Q20/R20,2) -> 0.23 | V20: =D20*800 -> 747.808 | X20: =L20-H20 -> 2.293901 | AB20: =(C20*100)/25 -> 24 | AE20: =SUMIF('라-1.1-0-1 GPS좌표 및 흉고(소구역-소나무)'!$C$4:$C$139,"38",'라-1.1-0-1 GPS좌표 및 흉고(소구역-소나무)'!$K$4:$K$139) -> 6
A21: 40 | B21: 20 | C21: =SUMIF('라-1.1-0-1 GPS좌표 및 흉고(소구역-소나무)'!$C$4:$C$139,A21,'라-1.1-0-1 GPS좌표 및 흉고(소구역-소나무)'!$K$4:$K$139) -> 9 | D21: =IF(B21="","",INDEX(수간재적표!$C$2:$AX$427,$U$1+B21-2,A21/2-2)) -> 1.0853 | E21: =C21*D21 -> 9.7677 | F21: 28.9 | G21: =조재율표!H20*$W$1 -> 88 | H21: =E21*G21/100 -> 8.595576 | J21: =E21-H21 -> 1.172124 | K21: =E21*F21/100 -> 2.8228653 | L21: =SUM(K21,E21) -> 12.590565 | M21: =H21 -> 8.595576 | N21: =(J21+K21)*$V$1 -> 7.2309306 | O21: =J21+K21 -> 3.9949893 | P21: =J21+K21 -> 3.9949893 | Q21: =J21+K21 -> 3.9949893 | R21: =산출기초조사서!I23 -> 10.06 | S21: =ROUND(Q21/R21,2) -> 0.4 | V21: =D21*800 -> 868.24 | X21: =L21-H21 -> 3.9949893 | AB21: =(C21*100)/25 -> 36 | AE21: =SUMIF('라-1.1-0-1 GPS좌표 및 흉고(소구역-소나무)'!$C$4:$C$139,"40",'라-1.1-0-1 GPS좌표 및 흉고(소구역-소나무)'!$K$4:$K$139) -> 9
A22: 42 | B22: 20 | C22: =SUMIF('라-1.1-0-1 GPS좌표 및 흉고(소구역-소나무)'!$C$4:$C$139,A22,'라-1.1-0-1 GPS좌표 및 흉고(소구역-소나무)'!$K$4:$K$139) -> 4 | D22: =IF(B22="","",INDEX(수간재적표!$C$2:$AX$427,$U$1+B22-2,A22/2-2)) -> 1.19169 | E22: =C22*D22 -> 4.76676 | F22: 28.9 | G22: =조재율표!H21*$W$1 -> 88 | H22: =E22*G22/100 -> 4.1947488 | J22: =E22-H22 -> 0.5720112 | K22: =E22*F22/100 -> 1.3775936 | L22: =SUM(K22,E22) -> 6.1443536 | M22: =H22 -> 4.1947488 | N22: =(J22+K22)*$V$1 -> 3.5287848 | O22: =J22+K22 -> 1.9496048 | P22: =J22+K22 -> 1.9496048 | Q22: =J22+K22 -> 1.9496048 | R22: =산출기초조사서!I24 -> 10.23 | S22: =ROUND(Q22/R22,2) -> 0.19 | V22: =D22*800 -> 953.352 | X22: =L22-H22 -> 1.9496048 | AB22: =(C22*100)/25 -> 16 | AE22: =SUMIF('라-1.1-0-1 GPS좌표 및 흉고(소구역-소나무)'!$C$4:$C$139,"42",'라-1.1-0-1 GPS좌표 및 흉고(소구역-소나무)'!$K$4:$K$139) -> 4
A23: 44 | B23: 21 | C23: =SUMIF('라-1.1-0-1 GPS좌표 및 흉고(소구역-소나무)'!$C$4:$C$139,A23,'라-1.1-0-1 GPS좌표 및 흉고(소구역-소나무)'!$K$4:$K$139) -> 2 | D23: =IF(B23="","",INDEX(수간재적표!$C$2:$AX$427,$U$1+B23-2,A23/2-2)) -> 1.36807 | E23: =C23*D23 -> 2.73614 | F23: 28.9 | G23: =조재율표!H22*$W$1 -> 89 | H23: =E23*G23/100 -> 2.4351646 | J23: =E23-H23 -> 0.3009754 | K23: =E23*F23/100 -> 0.79074446 | L23: =SUM(K23,E23) -> 3.5268845 | M23: =H23 -> 2.4351646 | N23: =(J23+K23)*$V$1 -> 1.9760129 | O23: =J23+K23 -> 1.0917199 | P23: =J23+K23 -> 1.0917199 | Q23: =J23+K23 -> 1.0917199 | R23: =산출기초조사서!I25 -> 10.4 | S23: =ROUND(Q23/R23,2) -> 0.1 | V23: =D23*800 -> 1094.456 | X23: =L23-H23 -> 1.0917199 | AB23: =(C23*100)/25 -> 8 | AE23: =SUMIF('라-1.1-0-1 GPS좌표 및 흉고(소구역-소나무)'!$C$4:$C$139,"44",'라-1.1-0-1 GPS좌표 및 흉고(소구역-소나무)'!$K$4:$K$139) -> 2
A24: 46 | B24: 22 | C24: =SUMIF('라-1.1-0-1 GPS좌표 및 흉고(소구역-소나무)'!$C$4:$C$139,A24,'라-1.1-0-1 GPS좌표 및 흉고(소구역-소나무)'!$K$4:$K$139) -> 5 | D24: =IF(B24="","",INDEX(수간재적표!$C$2:$AX$427,$U$1+B24-2,A24/2-2)) -> 1.56105 | E24: =C24*D24 -> 7.80525 | F24: 28.9 | G24: =조재율표!H23*$W$1 -> 89 | H24: =E24*G24/100 -> 6.9466725 | J24: =E24-H24 -> 0.8585775 | K24: =E24*F24/100 -> 2.2557173 | L24: =SUM(K24,E24) -> 10.060967 | M24: =H24 -> 6.9466725 | N24: =(J24+K24)*$V$1 -> 5.6368735 | O24: =J24+K24 -> 3.1142948 | P24: =J24+K24 -> 3.1142948 | Q24: =J24+K24 -> 3.1142948 | R24: =산출기초조사서!I26 -> 10.56 | S24: =ROUND(Q24/R24,2) -> 0.29 | V24: =D24*800 -> 1248.84 | X24: =L24-H24 -> 3.1142948 | AB24: =(C24*100)/25 -> 20 | AE24: =SUMIF('라-1.1-0-1 GPS좌표 및 흉고(소구역-소나무)'!$C$4:$C$139,"46",'라-1.1-0-1 GPS좌표 및 흉고(소구역-소나무)'!$K$4:$K$139) -> 5
A25: 48 | B25: 22 | C25: =SUMIF('라-1.1-0-1 GPS좌표 및 흉고(소구역-소나무)'!$C$4:$C$139,A25,'라-1.1-0-1 GPS좌표 및 흉고(소구역-소나무)'!$K$4:$K$139) -> 2 | D25: =IF(B25="","",INDEX(수간재적표!$C$2:$AX$427,$U$1+B25-2,A25/2-2)) -> 1.6945 | E25: =C25*D25 -> 3.389 | F25: 28.9 | G25: =조재율표!H24*$W$1 -> 89 | H25: =E25*G25/100 -> 3.01621 | J25: =E25-H25 -> 0.37279 | K25: =E25*F25/100 -> 0.979421 | L25: =SUM(K25,E25) -> 4.368421 | M25: =H25 -> 3.01621 | N25: =(J25+K25)*$V$1 -> 2.4475019 | O25: =J25+K25 -> 1.352211 | P25: =J25+K25 -> 1.352211 | Q25: =J25+K25 -> 1.352211 | R25: =산출기초조사서!$I$27 -> 10.73 | S25: =ROUND(Q25/R25,2) -> 0.13 | V25: =D25*800 -> 1355.6 | X25: =L25-H25 -> 1.352211 | AB25: =(C25*100)/25 -> 8 | AE25: =SUMIF('라-1.1-0-1 GPS좌표 및 흉고(소구역-소나무)'!$C$4:$C$139,"48",'라-1.1-0-1 GPS좌표 및 흉고(소구역-소나무)'!$K$4:$K$139) -> 2
A26: 50 | B26: 23 | C26: =SUMIF('라-1.1-0-1 GPS좌표 및 흉고(소구역-소나무)'!$C$4:$C$139,A26,'라-1.1-0-1 GPS좌표 및 흉고(소구역-소나무)'!$K$4:$K$139) -> 1 | D26: =IF(B26="","",INDEX(수간재적표!$C$2:$AX$427,$U$1+B26-2,A26/2-2)) -> 1.91669 | E26: =C26*D26 -> 1.91669 | F26: 28.9 | G26: =조재율표!H25*$W$1 -> 89 | H26: =E26*G26/100 -> 1.7058541 | J26: =E26-H26 -> 0.2108359 | K26: =E26*F26/100 -> 0.55392341 | L26: =SUM(K26,E26) -> 2.4706134 | M26: =H26 -> 1.7058541 | N26: =(J26+K26)*$V$1 -> 1.3842144 | O26: =J26+K26 -> 0.76475931 | P26: =J26+K26 -> 0.76475931 | Q26: =J26+K26 -> 0.76475931 | V26: =D26*800 -> 1533.352 | X26: =L26-H26 -> 0.76475931 | AB26: =(C26*100)/25 -> 4 | AE26: =SUMIF('라-1.1-0-1 GPS좌표 및 흉고(소구역-소나무)'!$C$4:$C$139,"50",'라-1.1-0-1 GPS좌표 및 흉고(소구역-소나무)'!$K$4:$K$139) -> 1
A27: 52 | B27: 23 | C27: =SUMIF('라-1.1-0-1 GPS좌표 및 흉고(소구역-소나무)'!$C$4:$C$139,A27,'라-1.1-0-1 GPS좌표 및 흉고(소구역-소나무)'!$K$4:$K$139) -> 1 | D27: =IF(B27="","",INDEX(수간재적표!$C$2:$AX$427,$U$1+B27-2,A27/2-2)) -> 2.06778 | E27: =C27*D27 -> 2.06778 | F27: 28.9 | G27: =조재율표!H26*$W$1 -> 89 | H27: =E27*G27/100 -> 1.8403242 | J27: =E27-H27 -> 0.2274558 | K27: =E27*F27/100 -> 0.59758842 | L27: =SUM(K27,E27) -> 2.6653684 | M27: =H27 -> 1.8403242 | N27: =(J27+K27)*$V$1 -> 1.49333 | O27: =J27+K27 -> 0.82504422 | P27: =J27+K27 -> 0.82504422 | Q27: =J27+K27 -> 0.82504422 | R27: =산출기초조사서!$I$27 -> 10.73 | S27: =ROUND(Q27/R27,2) -> 0.08 | X27: =L27-H27 -> 0.82504422 | AB27: =(C27*100)/25 -> 4 | AE27: =SUMIF('라-1.1-0-1 GPS좌표 및 흉고(소구역-소나무)'!$C$4:$C$139,"52",'라-1.1-0-1 GPS좌표 및 흉고(소구역-소나무)'!$K$4:$K$139) -> 1
A28: 54 | B28: 23 | C28: =SUMIF('라-1.1-0-1 GPS좌표 및 흉고(소구역-소나무)'!$C$4:$C$139,A28,'라-1.1-0-1 GPS좌표 및 흉고(소구역-소나무)'!$K$4:$K$139) -> 1 | D28: =IF(B28="","",INDEX(수간재적표!$C$2:$AX$427,$U$1+B28-2,A28/2-2)) -> 2.2247 | E28: =C28*D28 -> 2.2247 | F28: 28.9 | G28: =조재율표!H27*$W$1 -> 90 | H28: =E28*G28/100 -> 2.00223 | J28: =E28-H28 -> 0.22247 | K28: =E28*F28/100 -> 0.6429383 | L28: =SUM(K28,E28) -> 2.8676383 | M28: =H28 -> 2.00223 | N28: =(J28+K28)*$V$1 -> 1.566389 | O28: =J28+K28 -> 0.8654083 | P28: =J28+K28 -> 0.8654083 | Q28: =J28+K28 -> 0.8654083 | X28: =L28-H28 -> 0.8654083 | AB28: =(C28*100)/25 -> 4 | AE28: =SUMIF('라-1.1-0-1 GPS좌표 및 흉고(소구역-소나무)'!$C$4:$C$139,"54",'라-1.1-0-1 GPS좌표 및 흉고(소구역-소나무)'!$K$4:$K$139) -> 1
A29: 56 | B29: 24 | C29: =SUMIF('라-1.1-0-1 GPS좌표 및 흉고(소구역-소나무)'!$C$4:$C$139,A29,'라-1.1-0-1 GPS좌표 및 흉고(소구역-소나무)'!$K$4:$K$139) -> 1 | D29: =IF(B29="","",INDEX(수간재적표!$C$2:$AX$427,$U$1+B29-2,A29/2-2)) -> 2.49113 | E29: =C29*D29 -> 2.49113 | F29: 28.9 | G29: =조재율표!H28*$W$1 -> 90 | H29: =E29*G29/100 -> 2.242017 | J29: =E29-H29 -> 0.249113 | K29: =E29*F29/100 -> 0.71993657 | L29: =SUM(K29,E29) -> 3.2110666 | M29: =H29 -> 2.242017 | N29: =(J29+K29)*$V$1 -> 1.7539797 | O29: =J29+K29 -> 0.96904957 | P29: =J29+K29 -> 0.96904957 | Q29: =J29+K29 -> 0.96904957 | X29: =L29-H29 -> 0.96904957 | AB29: =(C29*100)/25 -> 4 | AE29: =SUMIF('라-1.1-0-1 GPS좌표 및 흉고(소구역-소나무)'!$C$4:$C$139,"56",'라-1.1-0-1 GPS좌표 및 흉고(소구역-소나무)'!$K$4:$K$139) -> 1
A30: 58 | C30: =SUMIF('라-1.1-0-1 GPS좌표 및 흉고(소구역-소나무)'!$C$4:$C$139,A30,'라-1.1-0-1 GPS좌표 및 흉고(소구역-소나무)'!$K$4:$K$139) -> 0 | H30: =E30*G30/100 -> 0 | J30: =E30-H30 -> 0 | K30: =E30*F30/100 -> 0 | L30: =SUM(K30,E30) -> 0 | M30: =H30 -> 0 | N30: =(J30+K30)*$V$1 -> 0 | O30: =J30+K30 -> 0 | P30: =J30+K30 -> 0 | Q30: =J30+K30 -> 0 | V30: =D30*800 -> 0 | X30: =L30-H30 -> 0 | AB30: =(C30*100)/25 -> 0 | AE30: =SUMIF('라-1.1-0-1 GPS좌표 및 흉고(소구역-소나무)'!$C$4:$C$139,"58",'라-1.1-0-1 GPS좌표 및 흉고(소구역-소나무)'!$K$4:$K$139) -> 0
A31: 60 | C31: =SUMIF('라-1.1-0-1 GPS좌표 및 흉고(소구역-소나무)'!$C$4:$C$139,A31,'라-1.1-0-1 GPS좌표 및 흉고(소구역-소나무)'!$K$4:$K$139) -> 0 | D31: =IF(B31="","",INDEX([412]수간재적표!$C$2:$AX$427,$U$1+B31-2,A31/2-2)) | H31: =E31*G31/100 -> 0 | J31: =E31-H31 -> 0 | K31: =E31*F31/100 -> 0 | L31: =SUM(K31,E31) -> 0 | M31: =H31 -> 0 | N31: =(J31+K31)*$V$1 -> 0 | O31: =J31+K31 -> 0 | P31: =J31+K31 -> 0 | Q31: =J31+K31 -> 0 | X31: =L31-H31 -> 0 | AB31: =(C31*100)/25 -> 0 | AE31: =SUM(AE4:AE30) -> 136
A32: 62 | C32: =SUMIF('라-1.1-0-1 GPS좌표 및 흉고(소구역-소나무)'!$C$4:$C$139,A32,'라-1.1-0-1 GPS좌표 및 흉고(소구역-소나무)'!$K$4:$K$139) -> 0 | D32: =IF(B32="","",INDEX([412]수간재적표!$C$2:$AX$427,$U$1+B32-2,A32/2-2)) | H32: =E32*G32/100 -> 0 | J32: =E32-H32 -> 0 | K32: =E32*F32/100 -> 0 | L32: =SUM(K32,E32) -> 0 | M32: =H32 -> 0 | N32: =(J32+K32)*$V$1 -> 0 | O32: =J32+K32 -> 0 | P32: =J32+K32 -> 0 | Q32: =J32+K32 -> 0 | R32: =산출기초조사서!$I$27 -> 10.73 | S32: =ROUND(Q32/R32,2) -> 0 | X32: =L32-H32 -> 0 | AB32: =(C32*100)/25 -> 0
A33: 64 | C33: =SUMIF('라-1.1-0-1 GPS좌표 및 흉고(소구역-소나무)'!$C$4:$C$139,A33,'라-1.1-0-1 GPS좌표 및 흉고(소구역-소나무)'!$K$4:$K$139) -> 0 | D33: =IF(B33="","",INDEX([412]수간재적표!$C$2:$AX$427,$U$1+B33-2,A33/2-2)) | H33: =E33*G33/100 -> 0 | J33: =E33-H33 -> 0 | K33: =E33*F33/100 -> 0 | L33: =SUM(K33,E33) -> 0 | M33: =H33 -> 0 | N33: =(J33+K33)*$V$1 -> 0 | O33: =J33+K33 -> 0 | P33: =J33+K33 -> 0 | Q33: =J33+K33 -> 0 | X33: =L33-H33 -> 0 | AB33: =(C33*100)/25 -> 0
A34: 66 | C34: =SUMIF('라-1.1-0-1 GPS좌표 및 흉고(소구역-소나무)'!$C$4:$C$139,A34,'라-1.1-0-1 GPS좌표 및 흉고(소구역-소나무)'!$K$4:$K$139) -> 0 | D34: =IF(B34="","",INDEX([412]수간재적표!$C$2:$AX$427,$U$1+B34-2,A34/2-2)) | H34: =E34*G34/100 -> 0 | J34: =E34-H34 -> 0 | K34: =E34*F34/100 -> 0 | L34: =SUM(K34,E34) -> 0 | M34: =H34 -> 0 | N34: =(J34+K34)*$V$1 -> 0 | O34: =J34+K34 -> 0 | P34: =J34+K34 -> 0 | Q34: =J34+K34 -> 0 | X34: =L34-H34 -> 0 | AB34: =(C34*100)/25 -> 0
A35: 68 | C35: =SUMIF('라-1.1-0-1 GPS좌표 및 흉고(소구역-소나무)'!$C$4:$C$139,A35,'라-1.1-0-1 GPS좌표 및 흉고(소구역-소나무)'!$K$4:$K$139) -> 0 | D35: =IF(B35="","",INDEX([412]수간재적표!$C$2:$AX$427,$U$1+B35-2,A35/2-2)) | H35: =E35*G35/100 -> 0 | J35: =E35-H35 -> 0 | K35: =E35*F35/100 -> 0 | L35: =SUM(K35,E35) -> 0 | M35: =H35 -> 0 | N35: =(J35+K35)*$V$1 -> 0 | O35: =J35+K35 -> 0 | P35: =J35+K35 -> 0 | X35: =L35-H35 -> 0 | AB35: =(C35*100)/35 -> 0
A36: 70 | C36: =SUMIF('라-1.1-0-1 GPS좌표 및 흉고(소구역-소나무)'!$C$4:$C$139,A36,'라-1.1-0-1 GPS좌표 및 흉고(소구역-소나무)'!$K$4:$K$139) -> 0 | D36: =IF(B36="","",INDEX([412]수간재적표!$C$2:$AX$427,$U$1+B36-2,A36/2-2)) | H36: =E36*G36/100 -> 0 | J36: =E36-H36 -> 0 | K36: =E36*F36/100 -> 0 | L36: =SUM(K36,E36) -> 0 | M36: =H36 -> 0 | N36: =(J36+K36)*$V$1 -> 0 | O36: =J36+K36 -> 0 | P36: =J36+K36 -> 0 | X36: =L36-H36 -> 0
A37: 72 | C37: =SUMIF('라-1.1-0-1 GPS좌표 및 흉고(소구역-소나무)'!$C$4:$C$139,A37,'라-1.1-0-1 GPS좌표 및 흉고(소구역-소나무)'!$K$4:$K$139) -> 0 | H37: =E37*G37/100 -> 0 | J37: =E37-H37 -> 0 | K37: =E37*F37/100 -> 0 | L37: =SUM(K37,E37) -> 0 | M37: =H37 -> 0 | N37: =(J37+K37)*$V$1 -> 0 | O37: =J37+K37 -> 0
A38: 74 | C38: =SUMIF('라-1.1-0-1 GPS좌표 및 흉고(소구역-소나무)'!$C$4:$C$139,A38,'라-1.1-0-1 GPS좌표 및 흉고(소구역-소나무)'!$K$4:$K$139) -> 0 | H38: =E38*G38/100 -> 0 | J38: =E38-H38 -> 0 | K38: =E38*F38/100 -> 0 | L38: =SUM(K38,E38) -> 0 | M38: =H38 -> 0 | N38: =(J38+K38)*$V$1 -> 0 | O38: =J38+K38 -> 0
A39: 76 | C39: =SUMIF('라-1.1-0-1 GPS좌표 및 흉고(소구역-소나무)'!$C$4:$C$139,A39,'라-1.1-0-1 GPS좌표 및 흉고(소구역-소나무)'!$K$4:$K$139) -> 0 | D39: =IF(B39="","",INDEX([412]수간재적표!$C$2:$AX$427,$U$1+B39-2,A39/2-2)) | H39: =E39*G39/100 -> 0 | J39: =E39-H39 -> 0 | K39: =E39*F39/100 -> 0 | L39: =SUM(K39,E39) -> 0 | M39: =H39 -> 0 | N39: =(J39+K39)*$V$1 -> 0 | O39: =J39+K39 -> 0
A40: 78 | C40: =SUMIF('라-1.1-0-1 GPS좌표 및 흉고(소구역-소나무)'!$C$4:$C$139,A40,'라-1.1-0-1 GPS좌표 및 흉고(소구역-소나무)'!$K$4:$K$139) -> 0 | D40: =IF(B40="","",INDEX([412]수간재적표!$C$2:$AX$427,$U$1+B40-2,A40/2-2)) | H40: =E40*G40/100 -> 0 | J40: =E40-H40 -> 0 | K40: =E40*F40/100 -> 0 | L40: =SUM(K40,E40) -> 0 | M40: =H40 -> 0 | N40: =(J40+K40)*$V$1 -> 0 | O40: =J40+K40 -> 0
A41: 80 | C41: =SUMIF('라-1.1-0-1 GPS좌표 및 흉고(소구역-소나무)'!$C$4:$C$139,A41,'라-1.1-0-1 GPS좌표 및 흉고(소구역-소나무)'!$K$4:$K$139) -> 0 | D41: =IF(B41="","",INDEX([412]수간재적표!$C$2:$AX$427,$U$1+B41-2,A41/2-2)) | H41: =E41*G41/100 -> 0 | J41: =E41-H41 -> 0 | K41: =E41*F41/100 -> 0 | L41: =SUM(K41,E41) -> 0 | M41: =H41 -> 0 | N41: =(J41+K41)*$V$1 -> 0 | O41: =J41+K41 -> 0
A42: 합계 | C42: =SUM(C4:C41) -> 136 | E42: =SUM(E4:E41) -> 82.69681 | H42: =SUM(H4:H41) -> 71.958121 | J42: =SUM(J4:J41) -> 10.738689 | K42: =SUM(K4:K41) -> 23.899378 | L42: =SUM(L4:L41) -> 106.59619 | M42: =SUM(M4:M41) -> 71.958121 | N42: =SUM(N4:N41) -> 62.694902 | O42: =SUM(O4:O41) -> 34.638067 | P42: =SUM(P4:P36) -> 34.638067 | Q42: =SUM(Q4:Q36) -> 34.638067 | R42: =SUM(R4:R36) -> 218.92 | S42: =SUM(S4:S36) -> 3.31 | X42: =SUM(X4:X41) -> 34.638067
O45: =O42+'[412]다-2.1-0-1 수량산출(단목-해송)'!O42+'[412]다-4.1-0-1 수량산출(위험목-소나무)'!O42+'[412]다-5.1-0-1 수량산출(위험목-해송)'!O42 -> #VALUE!
C47: =C42+'[412]다-2.1-0-1 수량산출(단목-해송)'!C42 -> 136 | X47: =189+306+1 -> 496
E50: =E42+'[412]다-2.1-0-1 수량산출(단목-해송)'!E42+'[412]다-3.1-0-1 수량산출(위험목-잣나무)'!E42 -> #VALUE!

Sheet 라-1.1-0-1 GPS좌표 및 흉고(소구역-소나무)
A1: 1-0-1 소구역모두베기 GPS좌표 및 흉고-(소나무) | M1: =H146 -> 41
A2: 순번 | B2: 일련번호 | C2: 경급 (㎝) | D2: GRS80좌표-(TM 중부) | F2: 주 소 | G2: 피해고사목 | H2: 기타고사목 | I2: 비병징목 | J2: 비고
D3: x | E3: y | F3: 읍면동리 | M3: ○
A4: 1 | B4: B5_1500407 | C4: 18 | D4: 173374 | E4: 279040 | F4: 노안면 계림리 산 95 | H4: ○ | J4: 기타고사목 | K4: 1 | L4: 일반목 | O4: 42~50cm
A5: 2 | B5: B5_1500120 | C5: 18 | D5: 173488 | E5: 278992 | F5: 노안면 계림리 산 99 | I5: ○ | J5: 비병징목 | K5: 1 | L5: 일반목 | O5: 50cm이상
A6: 3 | B6: B5_1500119 | C6: 14 | D6: 173483 | E6: 278990 | F6: 노안면 계림리 산 99 | I6: ○ | J6: 비병징목 | K6: 1 | L6: 일반목
A7: 4 | B7: B5_1500118 | C7: 22 | D7: 173480 | E7: 278995 | F7: 노안면 계림리 산 99 | I7: ○ | J7: 비병징목 | K7: 1 | L7: 일반목
A8: 5 | B8: B5_1500117 | C8: 26 | D8: 173480 | E8: 278989 | F8: 노안면 계림리 산 99 | I8: ○ | J8: 비병징목 | K8: 1 | L8: 일반목
A9: 6 | B9: B5_1500116 | C9: 26 | D9: 173475 | E9: 278988 | F9: 노안면 계림리 산 99 | I9: ○ | J9: 비병징목 | K9: 1 | L9: 일반목
A10: 7 | B10: B5_1500115 | C10: 20 | D10: 173477 | E10: 278990 | F10: 노안면 계림리 산 99 | I10: ○ | J10: 비병징목 | K10: 1 | L10: 일반목
A11: 8 | B11: B5_1746333 | C11: 32 | D11: 173476 | E11: 278993 | F11: 노안면 계림리 산 99 | I11: ○ | J11: 비병징목 | K11: 1 | L11: 일반목
A12: 9 | B12: B5_1500114 | C12: 14 | D12: 173477 | E12: 278993 | F12: 노안면 계림리 산 99 | I12: ○ | J12: 비병징목 | K12: 1 | L12: 일반목
A13: 10 | B13: B5_1500113 | C13: 10 | D13: 173473 | E13: 279001 | F13: 노안면 계림리 산 97 | I13: ○ | J13: 비병징목 | K13: 1 | L13: 일반목
A14: 11 | B14: B5_1500111 | C14: 24 | D14: 173479 | E14: 278994 | F14: 노안면 계림리 산 99 | I14: ○ | J14: 비병징목 | K14: 1 | L14: 일반목
A15: 12 | B15: B5_1500109 | C15: 20 | D15: 173478 | E15: 279007 | F15: 노안면 계림리 산 97 | H15: ○ | J15: 기타고사목 | K15: 1 | L15: 일반목
A16: 13 | B16: B5_1500108 | C16: 22 | D16: 173477 | E16: 279001 | F16: 노안면 계림리 산 99 | I16: ○ | J16: 비병징목 | K16: 1 | L16: 일반목
A17: 14 | B17: B5_1746332 | C17: 26 | D17: 173482 | E17: 278997 | F17: 노안면 계림리 산 99 | I17: ○ | J17: 비병징목 | K17: 1 | L17: 일반목
A18: 15 | B18: B5_1746332 | C18: 18 | D18: 173482 | E18: 278997 | F18: 노안면 계림리 산 99 | I18: ○ | J18: 비병징목 | K18: 1 | L18: 일반목
A19: 16 | B19: B5_1500107 | C19: 18 | D19: 173490 | E19: 279000 | F19: 노안면 계림리 산 99 | I19: ○ | J19: 비병징목 | K19: 1 | L19: 일반목
A20: 17 | B20: B5_1500105 | C20: 22 | D20: 173489 | E20: 279013 | F20: 노안면 계림리 산 97 | H20: ○ | J20: 기타고사목 | K20: 1 | L20: 일반목
A21: 18 | B21: B5_1500104 | C21: 18 | D21: 173497 | E21: 279007 | F21: 노안면 계림리 산 99 | H21: ○ | J21: 기타고사목 | K21: 1 | L21: 일반목
A22: 19 | B22: B5_1746331 | C22: 30 | D22: 173498 | E22: 279010 | F22: 노안면 계림리 산 99 | H22: ○ | J22: 기타고사목 | K22: 1 | L22: 일반목
A23: 20 | B23: B5_1746330 | C23: 32 | D23: 173498 | E23: 279018 | F23: 노안면 계림리 산 97 | H23: ○ | J23: 기타고사목 | K23: 1 | L23: 일반목
A24: 21 | B24: B5_1500102 | C24: 26 | D24: 173495 | E24: 279017 | F24: 노안면 계림리 산 97 | I24: ○ | J24: 비병징목 | K24: 1 | L24: 일반목
A25: 22 | B25: B5_1746325 | C25: 28 | D25: 173471 | E25: 279040 | F25: 노안면 계림리 산 97 | H25: ○ | J25: 기타고사목 | K25: 1 | L25: 일반목
A26: 23 | B26: B5_1500099 | C26: 24 | D26: 173476 | E26: 279008 | F26: 노안면 계림리 산 97 | I26: ○ | J26: 비병징목 | K26: 1 | L26: 일반목
A27: 24 | B27: B5_1500098 | C27: 22 | D27: 173474 | E27: 279006 | F27: 노안면 계림리 산 97 | I27: ○ | J27: 비병징목 | K27: 1 | L27: 일반목
A28: 25 | B28: B5_1500097 | C28: 16 | D28: 173471 | E28: 279001 | F28: 노안면 계림리 산 97 | H28: ○ | J28: 기타고사목 | K28: 1 | L28: 일반목
A29: 26 | B29: B5_1500096 | C29: 24 | D29: 173471 | E29: 279002 | F29: 노안면 계림리 산 97 | I29: ○ | J29: 비병징목 | K29: 1 | L29: 일반목
A30: 27 | B30: B5_1500095 | C30: 24 | D30: 173470 | E30: 278999 | F30: 노안면 계림리 산 97 | H30: ○ | J30: 기타고사목 | K30: 1 | L30: 일반목
A31: 28 | B31: B5_1746321 | C31: 34 | D31: 173472 | E31: 278994 | F31: 노안면 계림리 산 99 | I31: ○ | J31: 비병징목 | K31: 1 | L31: 일반목
A32: 29 | B32: B5_1500094 | C32: 12 | D32: 173473 | E32: 278993 | F32: 노안면 계림리 산 99 | H32: ○ | J32: 기타고사목 | K32: 1 | L32: 일반목
A33: 30 | B33: B5_1500093 | C33: 24 | D33: 173469 | E33: 278994 | F33: 노안면 계림리 산 99 | I33: ○ | J33: 비병징목 | K33: 1 | L33: 일반목
A34: 31 | B34: B5_1500092 | C34: 20 | D34: 173470 | E34: 278991 | F34: 노안면 계림리 산 99 | I34: ○ | J34: 비병징목 | K34: 1 | L34: 일반목
A35: 32 | B35: B5_1500091 | C35: 14 | D35: 173469 | E35: 278991 | F35: 노안면 계림리 산 99 | H35: ○ | J35: 기타고사목 | K35: 1 | L35: 일반목
A36: 33 | B36: B5_1500148 | C36: 12 | D36: 173480 | E36: 278967 | F36: 노안면 계림리 산 99 | H36: ○ | J36: 기타고사목 | K36: 1 | L36: 일반목
A37: 34 | B37: B5_1500147 | C37: 14 | D37: 173478 | E37: 278972 | F37: 노안면 계림리 산 99 | H37: ○ | J37: 기타고사목 | K37: 1 | L37: 일반목
A38: 35 | B38: B5_1500146 | C38: 22 | D38: 173474 | E38: 278976 | F38: 노안면 계림리 산 99 | I38: ○ | J38: 비병징목 | K38: 1 | L38: 일반목
A39: 36 | B39: B5_1500145 | C39: 14 | D39: 173470 | E39: 278977 | F39: 노안면 계림리 산 99 | H39: ○ | J39: 기타고사목 | K39: 1 | L39: 일반목
A40: 37 | B40: B5_1500141 | C40: 20 | D40: 173470 | E40: 278963 | F40: 노안면 계림리 산 99 | H40: ○ | J40: 기타고사목 | K40: 1 | L40: 일반목
A41: 38 | B41: B5_1500140 | C41: 26 | D41: 173471 | E41: 278965 | F41: 노안면 계림리 산 99 | H41: ○ | J41: 기타고사목 | K41: 1 | L41: 일반목
A42: 39 | B42: B5_1500139 | C42: 20 | D42: 173475 | E42: 278969 | F42: 노안면 계림리 산 99 | H42: ○ | J42: 기타고사목 | K42: 1 | L42: 일반목
A43: 40 | B43: B5_1500135 | C43: 12 | D43: 173475 | E43: 278963 | F43: 노안면 계림리 산 99 | H43: ○ | J43: 기타고사목 | K43: 1 | L43: 일반목
A44: 41 | B44: B5_1500135 | C44: 6 | D44: 173475 | E44: 278963 | F44: 노안면 계림리 산 99 | H44: ○ | J44: 기타고사목 | K44: 1 | L44: 일반목
A45: 42 | B45: B5_1500132 | C45: 26 | D45: 173476 | E45: 278959 | F45: 노안면 계림리 산 99 | I45: ○ | J45: 비병징목 | K45: 1 | L45: 일반목
A46: 43 | B46: B5_1500131 | C46: 20 | D46: 173473 | E46: 278965 | F46: 노안면 계림리 산 99 | H46: ○ | J46: 기타고사목 | K46: 1 | L46: 일반목
A47: 44 | B47: B5_1746532 | C47: 30 | D47: 173473 | E47: 278960 | F47: 노안면 계림리 산 99 | I47: ○ | J47: 비병징목 | K47: 1 | L47: 일반목
A48: 45 | B48: B5_1500129 | C48: 16 | D48: 173469 | E48: 278951 | F48: 노안면 계림리 산 99 | H48: ○ | J48: 기타고사목 | K48: 1 | L48: 일반목
A49: 46 | B49: B5_1500128 | C49: 26 | D49: 173468 | E49: 278958 | F49: 노안면 계림리 산 99 | H49: ○ | J49: 기타고사목 | K49: 1 | L49: 일반목
A50: 47 | B50: B5_1500127 | C50: 12 | D50: 173465 | E50: 278956 | F50: 노안면 계림리 산 99 | I50: ○ | J50: 비병징목 | K50: 1 | L50: 일반목
A51: 48 | B51: B21_1237287 | C51: 22 | D51: 173487 | E51: 278956 | F51: 노안면 계림리 산 99 | I51: ○ | J51: 비병징목 | K51: 1 | L51: 일반목
A52: 49 | B52: B21_1237286 | C52: 20 | D52: 173487 | E52: 278956 | F52: 노안면 계림리 산 99 | G52: ○ | J52: 피해고사목 | K52: 1 | L52: 일반목
A53: 50 | B53: B21_1237285 | C53: 24 | D53: 173487 | E53: 278956 | F53: 노안면 계림리 산 99 | G53: ○ | J53: 피해고사목 | K53: 1 | L53: 일반목
A54: 51 | B54: B21_1237283 | C54: 16 | D54: 173487 | E54: 278956 | F54: 노안면 계림리 산 99 | G54: ○ | J54: 피해고사목 | K54: 1 | L54: 일반목
A55: 52 | B55: B21_1237282 | C55: 20 | D55: 173479 | E55: 278939 | F55: 노안면 계림리 산 99 | G55: ○ | J55: 피해고사목 | K55: 1 | L55: 일반목 | O55: 50cm이상
A56: 53 | B56: B21_1237281 | C56: 26 | D56: 173479 | E56: 278939 | F56: 노안면 계림리 산 99 | G56: ○ | J56: 피해고사목 | K56: 1 | L56: 일반목
A57: 54 | B57: B21_1237280 | C57: 26 | D57: 173479 | E57: 278939 | F57: 노안면 계림리 산 99 | G57: ○ | J57: 피해고사목 | K57: 1 | L57: 일반목
A58: 55 | B58: B5_1746327 | C58: 46 | D58: 173477 | E58: 279051 | F58: 노안면 계림리 산 97 | I58: ○ | J58: 비병징목 | K58: 1 | L58: 일반목
A59: 56 | B59: B5_1746539 | C59: 36 | D59: 173470 | E59: 278987 | F59: 노안면 계림리 산 99 | H59: ○ | J59: 기타고사목 | K59: 1 | L59: 일반목
A60: 57 | B60: B5_1746538 | C60: 34 | D60: 173467 | E60: 278980 | F60: 노안면 계림리 산 99 | I60: ○ | J60: 비병징목 | K60: 1 | L60: 일반목
A61: 58 | B61: B5_1500149 | C61: 24 | D61: 173468 | E61: 278980 | F61: 노안면 계림리 산 99 | I61: ○ | J61: 비병징목 | K61: 1 | L61: 일반목
A62: 59 | B62: B5_1746536 | C62: 32 | D62: 173470 | E62: 278972 | F62: 노안면 계림리 산 99 | H62: ○ | J62: 기타고사목 | K62: 1 | L62: 일반목
A63: 60 | B63: B5_1746535 | C63: 28 | D63: 173467 | E63: 278969 | F63: 노안면 계림리 산 99 | H63: ○ | J63: 기타고사목 | K63: 1 | L63: 일반목
A64: 61 | B64: B5_1746534 | C64: 36 | D64: 173467 | E64: 278964 | F64: 노안면 계림리 산 99 | I64: ○ | J64: 비병징목 | K64: 1 | L64: 일반목
A65: 62 | B65: B5_1746533 | C65: 40 | D65: 173466 | E65: 278966 | F65: 노안면 계림리 산 99 | H65: ○ | J65: 기타고사목 | K65: 1 | L65: 일반목
A66: 63 | B66: B5_1746527 | C66: 30 | D66: 173456 | E66: 278938 | F66: 노안면 계림리 산 99 | H66: ○ | J66: 기타고사목 | K66: 1 | L66: 일반목
A67: 64 | B67: B5_1502069 | C67: 48 | D67: 174025 | E67: 277293 | F67: 노안면 안산리 산 3-3 | H67: ○ | J67: 기타고사목 | K67: 1 | L67: 일반목
A68: 65 | B68: B5_1502067 | C68: 38 | D68: 174025 | E68: 277297 | F68: 노안면 안산리 산 3-3 | I68: ○ | J68: 비병징목 | K68: 1 | L68: 일반목
A69: 66 | B69: B5_1502064 | C69: 24 | D69: 174018 | E69: 277289 | F69: 노안면 안산리 산 3-3 | H69: ○ | J69: 기타고사목 | K69: 1 | L69: 일반목
A70: 67 | B70: B5_1743855 | C70: 44 | D70: 174011 | E70: 277297 | F70: 노안면 안산리 산 3-3 | I70: ○ | J70: 비병징목 | K70: 1 | L70: 일반목
A71: 68 | B71: B5_1743854 | C71: 40 | D71: 174019 | E71: 277297 | F71: 노안면 안산리 산 3-3 | H71: ○ | J71: 기타고사목 | K71: 1 | L71: 일반목
A72: 69 | B72: B5_1743853 | C72: 40 | D72: 174019 | E72: 277297 | F72: 노안면 안산리 산 3-3 | H72: ○ | J72: 기타고사목 | K72: 1 | L72: 일반목
A73: 70 | B73: B5_1743852 | C73: 46 | D73: 174031 | E73: 277302 | F73: 노안면 안산리 산 3-3 | I73: ○ | J73: 비병징목 | K73: 1 | L73: 일반목
A74: 71 | B74: B5_1743851 | C74: 34 | D74: 174031 | E74: 277304 | F74: 노안면 안산리 산 3-3 | I74: ○ | J74: 비병징목 | K74: 1 | L74: 일반목
A75: 72 | B75: B5_1502061 | C75: 30 | D75: 174030 | E75: 277306 | F75: 노안면 안산리 산 3-3 | I75: ○ | J75: 비병징목 | K75: 1 | L75: 일반목
A76: 73 | B76: B5_1500420 | C76: 30 | D76: 174031 | E76: 277306 | F76: 노안면 안산리 산 3-3 | I76: ○ | J76: 비병징목 | K76: 1 | L76: 일반목
A77: 74 | B77: B5_1743850 | C77: 36 | D77: 174035 | E77: 277302 | F77: 노안면 안산리 산 3-3 | I77: ○ | J77: 비병징목 | K77: 1 | L77: 일반목
A78: 75 | B78: B5_1743849 | C78: 36 | D78: 174044 | E78: 277299 | F78: 노안면 안산리 산 3-3 | I78: ○ | J78: 비병징목 | K78: 1 | L78: 일반목
A79: 76 | B79: B5_1743848 | C79: 36 | D79: 174048 | E79: 277298 | F79: 노안면 안산리 산 3-3 | I79: ○ | J79: 비병징목 | K79: 1 | L79: 일반목
A80: 77 | B80: B3_1079524 | C80: 26 | D80: 174044 | E80: 277303 | F80: 노안면 안산리 산 3-3 | I80: ○ | J80: 비병징목 | K80: 1 | L80: 일반목
A81: 78 | B81: B5_1743847 | C81: 36 | D81: 174057 | E81: 277282 | F81: 노안면 안산리 산 3-3 | I81: ○ | J81: 비병징목 | K81: 1 | L81: 일반목
A82: 79 | B82: B5_1743846 | C82: 36 | D82: 174060 | E82: 277279 | F82: 노안면 안산리 산 3-3 | I82: ○ | J82: 비병징목 | K82: 1 | L82: 일반목
A83: 80 | B83: B5_1502059 | C83: 50 | D83: 174068 | E83: 277281 | F83: 노안면 안산리 산 3-3 | I83: ○ | J83: 비병징목 | K83: 1 | L83: 일반목
A84: 81 | B84: B5_1743844 | C84: 42 | D84: 174062 | E84: 277272 | F84: 노안면 안산리 산 3-3 | I84: ○ | J84: 비병징목 | K84: 1 | L84: 일반목
... A87: 84 | B87: B5_1743841 | C87: 38 | D87: 174077 | E87: 277290 | F87: 노안면 안산리 산 3-3 | I87: ○ | J87: 비병징목 | K87: 1 | L87: 일반목
A88: 85 | B88: B5_1502058 | C88: 22 | D88: 174068 | E88: 277282 | F88: 노안면 안산리 산 3-3 | H88: ○ | J88: 기타고사목 | K88: 1 | L88: 일반목
A89: 86 | B89: B5_1502057 | C89: 24 | D89: 174068 | E89: 277288 | F89: 노안면 안산리 산 3-3 | H89: ○ | J89: 기타고사목 | K89: 1 | L89: 일반목
A90: 87 | B90: B5_1502055 | C90: 40 | D90: 174069 | E90: 277293 | F90: 노안면 안산리 산 3-3 | I90: ○ | J90: 비병징목 | K90: 1 | L90: 일반목
A91: 88 | B91: B5_1502054 | C91: 38 | D91: 174056 | E91: 277300 | F91: 노안면 안산리 산 3-3 | I91: ○ | J91: 비병징목 | K91: 1 | L91: 일반목
A92: 89 | B92: B5_1502053 | C92: 30 | D92: 174052 | E92: 277305 | F92: 노안면 안산리 산 3-3 | H92: ○ | J92: 기타고사목 | K92: 1 | L92: 일반목
A93: 90 | B93: B5_1502052 | C93: 28 | D93: 174045 | E93: 277304 | F93: 노안면 안산리 산 3-3 | I93: ○ | J93: 비병징목 | K93: 1 | L93: 일반목
A94: 91 | B94: B5_1502051 | C94: 30 | D94: 174045 | E94: 277301 | F94: 노안면 안산리 산 3-3 | H94: ○ | J94: 기타고사목 | K94: 1 | L94: 일반목
A95: 92 | B95: B5_1749060 | C95: 34 | D95: 174048 | E95: 277299 | F95: 노안면 안산리 산 3-3 | I95: ○ | J95: 비병징목 | K95: 1 | L95: 일반목
A96: 93 | B96: B5_1749059 | C96: 30 | D96: 174046 | E96: 277300 | F96: 노안면 안산리 산 3-3 | H96: ○ | J96: 기타고사목 | K96: 1 | L96: 일반목
A97: 94 | B97: B5_1749058 | C97: 42 | D97: 174048 | E97: 277290 | F97: 노안면 안산리 산 3-3 | I97: ○ | J97: 비병징목 | K97: 1 | L97: 일반목
A98: 95 | B98: B5_1749057 | C98: 42 | D98: 174054 | E98: 277289 | F98: 노안면 안산리 산 3-3 | I98: ○ | J98: 비병징목 | K98: 1 | L98: 일반목
A99: 96 | B99: B5_1749056 | C99: 40 | D99: 174048 | E99: 277292 | F99: 노안면 안산리 산 3-3 | I99: ○ | J99: 비병징목 | K99: 1 | L99: 일반목
A100: 97 | B100: B5_1502050 | C100: 30 | D100: 174053 | E100: 277286 | F100: 노안면 안산리 산 3-3 | I100: ○ | J100: 비병징목 | K100: 1 | L100: 일반목
A101: 98 | B101: B5_1502048 | C101: 54 | D101: 174057 | E101: 277285 | F101: 노안면 안산리 산 3-3 | I101: ○ | J101: 비병징목 | K101: 1 | L101: 일반목
A102: 99 | B102: B5_1749055 | C102: 32 | D102: 174056 | E102: 277279 | F102: 노안면 안산리 산 3-3 | H102: ○ | J102: 기타고사목 | K102: 1 | L102: 일반목
...

Sheet 마-1.1-0-1 수량산출(소구역-소나무-위험목)
A1: 1-0-1 수량산출-소구역모두베기-소나무(위험목) | U1: 124 | V1: 1.81 | W1: 100
A2: 경급 (㎝) | B2: 수고 (m) | C2: 본수 (본) | D2: 수간재적 (㎥/본) | E2: 총재적 (㎥) | F2: 지조율 (%) | G2: 조재율 (%) | H2: 총원목량 (㎥) | I2: 원목집재 재적별 집계 (㎥) | J2: 총조재량 (㎥) | K2: 총지조량 (㎥) | L2: 총입목재적 (㎥) | M2: 총원목 운반량 (㎥) | N2: 총잔가지 운반량 (㎥) 층적부피rm= 총잔가지량*1.81 | O2: 총파쇄량 =총지조+총조재 (㎥) | P2: 총파쇄량 =조재량+지조량 (㎥) | Q2: 총소각량 (㎥) | R2: 소각 단위품 (㎥/인) | S2: 총소각 소요품 (㎥/인) | T2: 비고 | AA2: =121.08*69000 -> 8354520 | AB2: =AA2-AA3 -> 8112360
AA3: =121.08*2000 -> 242160
A4: 6 | C4: =SUMIF('바-1.1-0-1 GPS좌표 및 흉고(소구역-소나무위험목'!$C$4:$C$22,A4,'바-1.1-0-1 GPS좌표 및 흉고(소구역-소나무위험목'!$K$4:$K$22) -> 0 | H4: =E4*G4/100 -> 0 | I4: =SUM(H4:H14) -> 0.7120205 | J4: =E4-H4 -> 0 | K4: =E4*F4/100 -> 0 | L4: =SUM(K4,E4) -> 0 | M4: =H4 -> 0 | N4: =(J4+K4)*$V$1 -> 0 | O4: =J4+K4 -> 0 | P4: =J4+K4 -> 0 | Q4: =J4+K4 -> 0 | R4: =산출기초조사서!I6 -> 7.22 | S4: =ROUND(Q4/R4,2) -> 0 | V4: =D4*800 -> 0 | X4: =L4-H4 -> 0 | Y4: =D4*800 -> 0 | AB4: =(C4*100)/25 -> 0 | AE4: =SUMIF('바-1.1-0-1 GPS좌표 및 흉고(소구역-소나무위험목'!$C$4:$C$22,"6",'바-1.1-0-1 GPS좌표 및 흉고(소구역-소나무위험목'!$K$4:$K$22) -> 0
A5: 8 | C5: =SUMIF('바-1.1-0-1 GPS좌표 및 흉고(소구역-소나무위험목'!$C$4:$C$22,A5,'바-1.1-0-1 GPS좌표 및 흉고(소구역-소나무위험목'!$K$4:$K$22) -> 0 | H5: =E5*G5/100 -> 0 | J5: =E5-H5 -> 0 | K5: =E5*F5/100 -> 0 | L5: =SUM(K5,E5) -> 0 | M5: =H5 -> 0 | N5: =(J5+K5)*$V$1 -> 0 | O5: =J5+K5 -> 0 | P5: =J5+K5 -> 0 | Q5: =J5+K5 -> 0 | R5: =산출기초조사서!I7 -> 7.39 | S5: =ROUND(Q5/R5,2) -> 0 | V5: =D5*800 -> 0 | X5: =L5-H5 -> 0 | Z5: =D4*800 -> 0 | AB5: =(C5*100)/25 -> 0 | AE5: =SUMIF('바-1.1-0-1 GPS좌표 및 흉고(소구역-소나무위험목'!$C$4:$C$22,"8",'바-1.1-0-1 GPS좌표 및 흉고(소구역-소나무위험목'!$K$4:$K$22) -> 0
A6: 10 | C6: =SUMIF('바-1.1-0-1 GPS좌표 및 흉고(소구역-소나무위험목'!$C$4:$C$22,A6,'바-1.1-0-1 GPS좌표 및 흉고(소구역-소나무위험목'!$K$4:$K$22) -> 0 | H6: =E6*G6/100 -> 0 | J6: =E6-H6 -> 0 | K6: =E6*F6/100 -> 0 | L6: =SUM(K6,E6) -> 0 | M6: =H6 -> 0 | N6: =(J6+K6)*$V$1 -> 0 | O6: =J6+K6 -> 0 | P6: =J6+K6 -> 0 | Q6: =J6+K6 -> 0 | R6: =산출기초조사서!I8 -> 7.56 | S6: =ROUND(Q6/R6,2) -> 0 | V6: =D6*800 -> 0 | X6: =L6-H6 -> 0 | AB6: =(C6*100)/25 -> 0 | AE6: =SUMIF('바-1.1-0-1 GPS좌표 및 흉고(소구역-소나무위험목'!$C$4:$C$22,"10",'바-1.1-0-1 GPS좌표 및 흉고(소구역-소나무위험목'!$K$4:$K$22) -> 0
A7: 12 | H7: =E7*G7/100 -> 0 | J7: =E7-H7 -> 0 | K7: =E7*F7/100 -> 0 | L7: =SUM(K7,E7) -> 0 | M7: =H7 -> 0 | N7: =(J7+K7)*$V$1 -> 0 | O7: =J7+K7 -> 0 | P7: =J7+K7 -> 0 | Q7: =J7+K7 -> 0 | R7: =산출기초조사서!I9 -> 7.72 | S7: =ROUND(Q7/R7,2) -> 0 | V7: =D7*800 -> 0 | X7: =L7-H7 -> 0 | AB7: =(C7*100)/25 -> 0 | AE7: =SUMIF('바-1.1-0-1 GPS좌표 및 흉고(소구역-소나무위험목'!$C$4:$C$22,"12",'바-1.1-0-1 GPS좌표 및 흉고(소구역-소나무위험목'!$K$4:$K$22) -> 0
A8: 14 | C8: =SUMIF('바-1.1-0-1 GPS좌표 및 흉고(소구역-소나무위험목'!$C$4:$C$22,A8,'바-1.1-0-1 GPS좌표 및 흉고(소구역-소나무위험목'!$K$4:$K$22) -> 0 | D8: =IF(B8="","",INDEX(수간재적표!$C$2:$AX$427,$U$1+B8-2,A8/2-2)) | H8: =E8*G8/100 -> 0 | J8: =E8-H8 -> 0 | K8: =E8*F8/100 -> 0 | L8: =SUM(K8,E8) -> 0 | M8: =H8 -> 0 | N8: =(J8+K8)*$V$1 -> 0 | O8: =J8+K8 -> 0 | P8: =J8+K8 -> 0 | Q8: =J8+K8 -> 0 | R8: =산출기초조사서!I10 -> 7.89 | S8: =ROUND(Q8/R8,2) -> 0 | V8: =D8*800 -> #VALUE! | X8: =L8-H8 -> 0 | AB8: =(C8*100)/25 -> 0 | AE8: =SUMIF('바-1.1-0-1 GPS좌표 및 흉고(소구역-소나무위험목'!$C$4:$C$22,"14",'바-1.1-0-1 GPS좌표 및 흉고(소구역-소나무위험목'!$K$4:$K$22) -> 0
A9: 16 | C9: =SUMIF('바-1.1-0-1 GPS좌표 및 흉고(소구역-소나무위험목'!$C$4:$C$22,A9,'바-1.1-0-1 GPS좌표 및 흉고(소구역-소나무위험목'!$K$4:$K$22) -> 0 | D9: =IF(B9="","",INDEX(수간재적표!$C$2:$AX$427,$U$1+B9-2,A9/2-2)) | H9: =E9*G9/100 -> 0 | J9: =E9-H9 -> 0 | K9: =E9*F9/100 -> 0 | L9: =SUM(K9,E9) -> 0 | M9: =H9 -> 0 | N9: =(J9+K9)*$V$1 -> 0 | O9: =J9+K9 -> 0 | P9: =J9+K9 -> 0 | Q9: =J9+K9 -> 0 | R9: =산출기초조사서!I11 -> 8.06 | S9: =ROUND(Q9/R9,2) -> 0 | V9: =D9*800 -> #VALUE! | X9: =L9-H9 -> 0 | AB9: =(C9*100)/25 -> 0 | AE9: =SUMIF('바-1.1-0-1 GPS좌표 및 흉고(소구역-소나무위험목'!$C$4:$C$22,"16",'바-1.1-0-1 GPS좌표 및 흉고(소구역-소나무위험목'!$K$4:$K$22) -> 0 | AF9: =AE9+AE10+AE11 -> 1
A10: 18 | B10: 11 | C10: =SUMIF('바-1.1-0-1 GPS좌표 및 흉고(소구역-소나무위험목'!$C$4:$C$22,A10,'바-1.1-0-1 GPS좌표 및 흉고(소구역-소나무위험목'!$K$4:$K$22) -> 1 | D10: =IF(B10="","",INDEX(수간재적표!$C$2:$AX$427,$U$1+B10-2,A10/2-2)) -> 0.13195 | E10: =C10*D10 -> 0.13195 | F10: 28.9 | G10: =조재율표!H9*$W$1 -> 77 | H10: =E10*G10/100 -> 0.1016015 | J10: =E10-H10 -> 0.0303485 | K10: =E10*F10/100 -> 0.03813355 | L10: =SUM(K10,E10) -> 0.17008355 | M10: =H10 -> 0.1016015 | N10: =(J10+K10)*$V$1 -> 0.12395251 | O10: =J10+K10 -> 0.06848205 | P10: =J10+K10 -> 0.06848205 | Q10: =J10+K10 -> 0.06848205 | R10: =산출기초조사서!I12 -> 8.22 | S10: =ROUND(Q10/R10,2) -> 0.01 | V10: =D10*800 -> 105.56 | X10: =L10-H10 -> 0.06848205 | AB10: =(C10*100)/25 -> 4 | AE10: =SUMIF('바-1.1-0-1 GPS좌표 및 흉고(소구역-소나무위험목'!$C$4:$C$22,"18",'바-1.1-0-1 GPS좌표 및 흉고(소구역-소나무위험목'!$K$4:$K$22) -> 1
A11: 20 | H11: =E11*G11/100 -> 0 | J11: =E11-H11 -> 0 | K11: =E11*F11/100 -> 0 | L11: =SUM(K11,E11) -> 0 | M11: =H11 -> 0 | N11: =(J11+K11)*$V$1 -> 0 | O11: =J11+K11 -> 0 | P11: =J11+K11 -> 0 | Q11: =J11+K11 -> 0 | R11: =산출기초조사서!I13 -> 8.39 | S11: =ROUND(Q11/R11,2) -> 0 | V11: =D11*800 -> 0 | X11: =L11-H11 -> 0 | AB11: =(C11*100)/25 -> 0 | AE11: =SUMIF('바-1.1-0-1 GPS좌표 및 흉고(소구역-소나무위험목'!$C$4:$C$22,"20",'바-1.1-0-1 GPS좌표 및 흉고(소구역-소나무위험목'!$K$4:$K$22) -> 0
A12: 22 | C12: =SUMIF('바-1.1-0-1 GPS좌표 및 흉고(소구역-소나무위험목'!$C$4:$C$22,A12,'바-1.1-0-1 GPS좌표 및 흉고(소구역-소나무위험목'!$K$4:$K$22) -> 0 | D12: =IF(B12="","",INDEX(수간재적표!$C$2:$AX$427,$U$1+B12-2,A12/2-2)) | H12: =E12*G12/100 -> 0 | J12: =E12-H12 -> 0 | K12: =E12*F12/100 -> 0 | L12: =SUM(K12,E12) -> 0 | M12: =H12 -> 0 | N12: =(J12+K12)*$V$1 -> 0 | O12: =J12+K12 -> 0 | P12: =J12+K12 -> 0 | Q12: =J12+K12 -> 0 | R12: =산출기초조사서!I14 -> 8.56 | S12: =ROUND(Q12/R12,2) -> 0 | V12: =D12*800 -> #VALUE! | X12: =L12-H12 -> 0 | AB12: =(C12*100)/25 -> 0 | AC12: 4.8 | AE12: =SUMIF('바-1.1-0-1 GPS좌표 및 흉고(소구역-소나무위험목'!$C$4:$C$22,"22",'바-1.1-0-1 GPS좌표 및 흉고(소구역-소나무위험목'!$K$4:$K$22) -> 0
A13: 24 | H13: =E13*G13/100 -> 0 | J13: =E13-H13 -> 0 | K13: =E13*F13/100 -> 0 | L13: =SUM(K13,E13) -> 0 | M13: =H13 -> 0 | N13: =(J13+K13)*$V$1 -> 0 | O13: =J13+K13 -> 0 | P13: =J13+K13 -> 0 | Q13: =J13+K13 -> 0 | R13: =산출기초조사서!I15 -> 8.72 | S13: =ROUND(Q13/R13,2) -> 0 | V13: =D13*800 -> 0 | X13: =L13-H13 -> 0 | AB13: =(C13*100)/25 -> 0 | AE13: =SUMIF('바-1.1-0-1 GPS좌표 및 흉고(소구역-소나무위험목'!$C$4:$C$22,"24",'바-1.1-0-1 GPS좌표 및 흉고(소구역-소나무위험목'!$K$4:$K$22) -> 0
A14: 26 | B14: 15 | C14: =SUMIF('바-1.1-0-1 GPS좌표 및 흉고(소구역-소나무위험목'!$C$4:$C$22,A14,'바-1.1-0-1 GPS좌표 및 흉고(소구역-소나무위험목'!$K$4:$K$22) -> 2 | D14: =IF(B14="","",INDEX(수간재적표!$C$2:$AX$427,$U$1+B14-2,A14/2-2)) -> 0.35907 | E14: =C14*D14 -> 0.71814 | F14: 28.9 | G14: =조재율표!H13*$W$1 -> 85 | H14: =E14*G14/100 -> 0.610419 | J14: =E14-H14 -> 0.107721 | K14: =E14*F14/100 -> 0.20754246 | L14: =SUM(K14,E14) -> 0.92568246 | M14: =H14 -> 0.610419 | N14: =(J14+K14)*$V$1 -> 0.57062686 | O14: =J14+K14 -> 0.31526346 | P14: =J14+K14 -> 0.31526346 | Q14: =J14+K14 -> 0.31526346 | R14: =산출기초조사서!I16 -> 8.89 | S14: =ROUND(Q14/R14,2) -> 0.04 | V14: =D14*800 -> 287.256 | X14: =L14-H14 -> 0.31526346 | AB14: =(C14*100)/25 -> 8 | AE14: =SUMIF('바-1.1-0-1 GPS좌표 및 흉고(소구역-소나무위험목'!$C$4:$C$22,"26",'바-1.1-0-1 GPS좌표 및 흉고(소구역-소나무위험목'!$K$4:$K$22) -> 2
A15: 28 | B15: 16 | C15: =SUMIF('바-1.1-0-1 GPS좌표 및 흉고(소구역-소나무위험목'!$C$4:$C$22,A15,'바-1.1-0-1 GPS좌표 및 흉고(소구역-소나무위험목'!$K$4:$K$22) -> 1 | D15: =IF(B15="","",INDEX(수간재적표!$C$2:$AX$427,$U$1+B15-2,A15/2-2)) -> 0.44056 | E15: =C15*D15 -> 0.44056 | F15: 28.9 | G15: =조재율표!H14*$W$1 -> 86 | H15: =E15*G15/100 -> 0.3788816 | I15: =SUM(H15:H16) -> 0.3788816 | J15: =E15-H15 -> 0.0616784 | K15: =E15*F15/100 -> 0.12732184 | L15: =SUM(K15,E15) -> 0.56788184 | M15: =H15 -> 0.3788816 | N15: =(J15+K15)*$V$1 -> 0.34209043 | O15: =J15+K15 -> 0.18900024 | P15: =J15+K15 -> 0.18900024 | Q15: =J15+K15 -> 0.18900024 | R15: =산출기초조사서!I17 -> 9.06 | S15: =ROUND(Q15/R15,2) -> 0.02 | V15: =D15*800 -> 352.448 | X15: =L15-H15 -> 0.18900024 | AB15: =(C15*100)/25 -> 4 | AE15: =SUMIF('바-1.1-0-1 GPS좌표 및 흉고(소구역-소나무위험목'!$C$4:$C$22,"28",'바-1.1-0-1 GPS좌표 및 흉고(소구역-소나무위험목'!$K$4:$K$22) -> 1
A16: 30 | H16: =E16*G16/100 -> 0 | J16: =E16-H16 -> 0 | K16: =E16*F16/100 -> 0 | L16: =SUM(K16,E16) -> 0 | M16: =H16 -> 0 | N16: =(J16+K16)*$V$1 -> 0 | O16: =J16+K16 -> 0 | P16: =J16+K16 -> 0 | Q16: =J16+K16 -> 0 | R16: =산출기초조사서!I18 -> 9.23 | S16: =ROUND(Q16/R16,2) -> 0 | V16: =D16*800 -> 0 | X16: =L16-H16 -> 0 | AB16: =(C16*100)/25 -> 0 | AE16: =SUMIF('바-1.1-0-1 GPS좌표 및 흉고(소구역-소나무위험목'!$C$4:$C$22,"30",'바-1.1-0-1 GPS좌표 및 흉고(소구역-소나무위험목'!$K$4:$K$22) -> 0
A17: 32 | B17: 17 | C17: =SUMIF('바-1.1-0-1 GPS좌표 및 흉고(소구역-소나무위험목'!$C$4:$C$22,A17,'바-1.1-0-1 GPS좌표 및 흉고(소구역-소나무위험목'!$K$4:$K$22) -> 1 | D17: =IF(B17="","",INDEX(수간재적표!$C$2:$AX$427,$U$1+B17-2,A17/2-2)) -> 0.60294 | E17: =C17*D17 -> 0.60294 | F17: 28.9 | G17: =조재율표!H16*$W$1 -> 87 | H17: =E17*G17/100 -> 0.5245578 | I17: =SUM(H17:H36) -> 22.390306 | J17: =E17-H17 -> 0.0783822 | K17: =E17*F17/100 -> 0.17424966 | L17: =SUM(K17,E17) -> 0.77718966 | M17: =H17 -> 0.5245578 | N17: =(J17+K17)*$V$1 -> 0.45726367 | O17: =J17+K17 -> 0.25263186 | P17: =J17+K17 -> 0.25263186 | Q17: =J17+K17 -> 0.25263186 | R17: =산출기초조사서!I19 -> 9.39 | S17: =ROUND(Q17/R17,2) -> 0.03 | V17: =D17*800 -> 482.352 | X17: =L17-H17 -> 0.25263186 | AB17: =(C17*100)/25 -> 4 | AE17: =SUMIF('바-1.1-0-1 GPS좌표 및 흉고(소구역-소나무위험목'!$C$4:$C$22,"32",'바-1.1-0-1 GPS좌표 및 흉고(소구역-소나무위험목'!$K$4:$K$22) -> 1
A18: 34 | H18: =E18*G18/100 -> 0 | J18: =E18-H18 -> 0 | K18: =E18*F18/100 -> 0 | L18: =SUM(K18,E18) -> 0 | M18: =H18 -> 0 | N18: =(J18+K18)*$V$1 -> 0 | O18: =J18+K18 -> 0 | P18: =J18+K18 -> 0 | Q18: =J18+K18 -> 0 | R18: =산출기초조사서!I20 -> 9.56 | S18: =ROUND(Q18/R18,2) -> 0 | V18: =D18*800 -> 0 | X18: =L18-H18 -> 0 | AB18: =(C18*100)/25 -> 0 | AE18: =SUMIF('바-1.1-0-1 GPS좌표 및 흉고(소구역-소나무위험목'!$C$4:$C$22,"34",'바-1.1-0-1 GPS좌표 및 흉고(소구역-소나무위험목'!$K$4:$K$22) -> 0
A19: 36 | B19: 18 | C19: =SUMIF('바-1.1-0-1 GPS좌표 및 흉고(소구역-소나무위험목'!$C$4:$C$22,A19,'바-1.1-0-1 GPS좌표 및 흉고(소구역-소나무위험목'!$K$4:$K$22) -> 1 | D19: =IF(B19="","",INDEX(수간재적표!$C$2:$AX$427,$U$1+B19-2,A19/2-2)) -> 0.79879 | E19: =C19*D19 -> 0.79879 | F19: 28.9 | G19: =조재율표!H18*$W$1 -> 88 | H19: =E19*G19/100 -> 0.7029352 | J19: =E19-H19 -> 0.0958548 | K19: =E19*F19/100 -> 0.23085031 | L19: =SUM(K19,E19) -> 1.0296403 | M19: =H19 -> 0.7029352 | N19: =(J19+K19)*$V$1 -> 0.59133625 | O19: =J19+K19 -> 0.32670511 | P19: =J19+K19 -> 0.32670511 | Q19: =J19+K19 -> 0.32670511 | R19: =산출기초조사서!I21 -> 9.73 | S19: =ROUND(Q19/R19,2) -> 0.03 | V19: =D19*800 -> 639.032 | X19: =L19-H19 -> 0.32670511 | AB19: =(C19*100)/25 -> 4 | AE19: =SUMIF('바-1.1-0-1 GPS좌표 및 흉고(소구역-소나무위험목'!$C$4:$C$22,"36",'바-1.1-0-1 GPS좌표 및 흉고(소구역-소나무위험목'!$K$4:$K$22) -> 1
A20: 38 | B20: 19 | C20: =SUMIF('바-1.1-0-1 GPS좌표 및 흉고(소구역-소나무위험목'!$C$4:$C$22,A20,'바-1.1-0-1 GPS좌표 및 흉고(소구역-소나무위험목'!$K$4:$K$22) -> 2 | D20: =IF(B20="","",INDEX(수간재적표!$C$2:$AX$427,$U$1+B20-2,A20/2-2)) -> 0.93476 | E20: =C20*D20 -> 1.86952 | F20: 28.9 | G20: =조재율표!H19*$W$1 -> 88 | H20: =E20*G20/100 -> 1.6451776 | J20: =E20-H20 -> 0.2243424 | K20: =E20*F20/100 -> 0.54029128 | L20: =SUM(K20,E20) -> 2.4098113 | M20: =H20 -> 1.6451776 | N20: =(J20+K20)*$V$1 -> 1.383987 | O20: =J20+K20 -> 0.76463368 | P20: =J20+K20 -> 0.76463368 | Q20: =J20+K20 -> 0.76463368 | R20: =산출기초조사서!I22 -> 9.89 | S20: =ROUND(Q20/R20,2) -> 0.08 | V20: =D20*800 -> 747.808 | X20: =L20-H20 -> 0.76463368 | AB20: =(C20*100)/25 -> 8 | AE20: =SUMIF('바-1.1-0-1 GPS좌표 및 흉고(소구역-소나무위험목'!$C$4:$C$22,"38",'바-1.1-0-1 GPS좌표 및 흉고(소구역-소나무위험목'!$K$4:$K$22) -> 2
A21: 40 | B21: 20 | C21: =SUMIF('바-1.1-0-1 GPS좌표 및 흉고(소구역-소나무위험목'!$C$4:$C$22,A21,'바-1.1-0-1 GPS좌표 및 흉고(소구역-소나무위험목'!$K$4:$K$22) -> 2 | D21: =IF(B21="","",INDEX(수간재적표!$C$2:$AX$427,$U$1+B21-2,A21/2-2)) -> 1.0853 | E21: =C21*D21 -> 2.1706 | F21: 28.9 | G21: =조재율표!H20*$W$1 -> 88 | H21: =E21*G21/100 -> 1.910128 | J21: =E21-H21 -> 0.260472 | K21: =E21*F21/100 -> 0.6273034 | L21: =SUM(K21,E21) -> 2.7979034 | M21: =H21 -> 1.910128 | N21: =(J21+K21)*$V$1 -> 1.6068735 | O21: =J21+K21 -> 0.8877754 | P21: =J21+K21 -> 0.8877754 | Q21: =J21+K21 -> 0.8877754 | R21: =산출기초조사서!I23 -> 10.06 | S21: =ROUND(Q21/R21,2) -> 0.09 | V21: =D21*800 -> 868.24 | X21: =L21-H21 -> 0.8877754 | AB21: =(C21*100)/25 -> 8 | AE21: =SUMIF('바-1.1-0-1 GPS좌표 및 흉고(소구역-소나무위험목'!$C$4:$C$22,"40",'바-1.1-0-1 GPS좌표 및 흉고(소구역-소나무위험목'!$K$4:$K$22) -> 2
A22: 42 | C22: =SUMIF('바-1.1-0-1 GPS좌표 및 흉고(소구역-소나무위험목'!$C$4:$C$22,A22,'바-1.1-0-1 GPS좌표 및 흉고(소구역-소나무위험목'!$K$4:$K$22) -> 0 | D22: =IF(B22="","",INDEX(수간재적표!$C$2:$AX$427,$U$1+B22-2,A22/2-2)) | H22: =E22*G22/100 -> 0 | J22: =E22-H22 -> 0 | K22: =E22*F22/100 -> 0 | L22: =SUM(K22,E22) -> 0 | M22: =H22 -> 0 | N22: =(J22+K22)*$V$1 -> 0 | O22: =J22+K22 -> 0 | P22: =J22+K22 -> 0 | Q22: =J22+K22 -> 0 | R22: =산출기초조사서!I24 -> 10.23 | S22: =ROUND(Q22/R22,2) -> 0 | X22: =L22-H22 -> 0 | AB22: =(C22*100)/25 -> 0 | AE22: =SUMIF('바-1.1-0-1 GPS좌표 및 흉고(소구역-소나무위험목'!$C$4:$C$22,"42",'바-1.1-0-1 GPS좌표 및 흉고(소구역-소나무위험목'!$K$4:$K$22) -> 0
A23: 44 | B23: 22 | C23: =SUMIF('바-1.1-0-1 GPS좌표 및 흉고(소구역-소나무위험목'!$C$4:$C$22,A23,'바-1.1-0-1 GPS좌표 및 흉고(소구역-소나무위험목'!$K$4:$K$22) -> 1 | D23: =IF(B23="","",INDEX(수간재적표!$C$2:$AX$427,$U$1+B23-2,A23/2-2)) -> 1.4331 | E23: =C23*D23 -> 1.4331 | F23: 28.9 | G23: =조재율표!H22*$W$1 -> 89 | H23: =E23*G23/100 -> 1.275459 | J23: =E23-H23 -> 0.157641 | K23: =E23*F23/100 -> 0.4141659 | L23: =SUM(K23,E23) -> 1.8472659 | M23: =H23 -> 1.275459 | N23: =(J23+K23)*$V$1 -> 1.0349705 | O23: =J23+K23 -> 0.5718069 | P23: =J23+K23 -> 0.5718069 | Q23: =J23+K23 -> 0.5718069 | R23: =산출기초조사서!I25 -> 10.4 | S23: =ROUND(Q23/R23,2) -> 0.05 | X23: =L23-H23 -> 0.5718069 | AB23: =(C23*100)/25 -> 4 | AE23: =SUMIF('바-1.1-0-1 GPS좌표 및 흉고(소구역-소나무위험목'!$C$4:$C$22,"44",'바-1.1-0-1 GPS좌표 및 흉고(소구역-소나무위험목'!$K$4:$K$22) -> 1
A24: 46 | B24: 23 | C24: =SUMIF('바-1.1-0-1 GPS좌표 및 흉고(소구역-소나무위험목'!$C$4:$C$22,A24,'바-1.1-0-1 GPS좌표 및 흉고(소구역-소나무위험목'!$K$4:$K$22) -> 3 | D24: =IF(B24="","",INDEX(수간재적표!$C$2:$AX$427,$U$1+B24-2,A24/2-2)) -> 1.63188 | E24: =C24*D24 -> 4.89564 | F24: 28.9 | G24: =조재율표!H23*$W$1 -> 89 | H24: =E24*G24/100 -> 4.3571196 | J24: =E24-H24 -> 0.5385204 | K24: =E24*F24/100 -> 1.41484 | L24: =SUM(K24,E24) -> 6.31048 | M24: =H24 -> 4.3571196 | N24: =(J24+K24)*$V$1 -> 3.5355823 | O24: =J24+K24 -> 1.9533604 | P24: =J24+K24 -> 1.9533604 | Q24: =J24+K24 -> 1.9533604 | R24: =산출기초조사서!I26 -> 10.56 | S24: =ROUND(Q24/R24,2) -> 0.18 | V24: =D24*800 -> 1305.504 | X24: =L24-H24 -> 1.9533604 | AB24: =(C24*100)/25 -> 12 | AE24: =SUMIF('바-1.1-0-1 GPS좌표 및 흉고(소구역-소나무위험목'!$C$4:$C$22,"46",'바-1.1-0-1 GPS좌표 및 흉고(소구역-소나무위험목'!$K$4:$K$22) -> 3
A25: 48 | C25: =SUMIF('바-1.1-0-1 GPS좌표 및 흉고(소구역-소나무위험목'!$C$4:$C$22,A25,'바-1.1-0-1 GPS좌표 및 흉고(소구역-소나무위험목'!$K$4:$K$22) -> 0 | D25: =IF(B25="","",INDEX([412]수간재적표!$C$2:$AX$427,$U$1+B25-2,A25/2-2)) | H25: =E25*G25/100 -> 0 | J25: =E25-H25 -> 0 | K25: =E25*F25/100 -> 0 | L25: =SUM(K25,E25) -> 0 | M25: =H25 -> 0 | N25: =(J25+K25)*$V$1 -> 0 | O25: =J25+K25 -> 0 | P25: =J25+K25 -> 0 | Q25: =J25+K25 -> 0 | R25: =산출기초조사서!$I$27 -> 10.73 | S25: =ROUND(Q25/R25,2) -> 0 | X25: =L25-H25 -> 0 | AB25: =(C25*100)/25 -> 0 | AE25: =SUMIF('바-1.1-0-1 GPS좌표 및 흉고(소구역-소나무위험목'!$C$4:$C$22,"48",'바-1.1-0-1 GPS좌표 및 흉고(소구역-소나무위험목'!$K$4:$K$22) -> 0
A26: 50 | B26: 24 | C26: =SUMIF('바-1.1-0-1 GPS좌표 및 흉고(소구역-소나무위험목'!$C$4:$C$22,A26,'바-1.1-0-1 GPS좌표 및 흉고(소구역-소나무위험목'!$K$4:$K$22) -> 1 | D26: =IF(B26="","",INDEX(수간재적표!$C$2:$AX$427,$U$1+B26-2,A26/2-2)) -> 1.99989 | E26: =C26*D26 -> 1.99989 | F26: 28.9 | G26: =조재율표!H25*$W$1 -> 89 | H26: =E26*G26/100 -> 1.7799021 | J26: =E26-H26 -> 0.2199879 | K26: =E26*F26/100 -> 0.57796821 | L26: =SUM(K26,E26) -> 2.5778582 | M26: =H26 -> 1.7799021 | N26: =(J26+K26)*$V$1 -> 1.4443006 | O26: =J26+K26 -> 0.79795611 | P26: =J26+K26 -> 0.79795611 | Q26: =J26+K26 -> 0.79795611 | X26: =L26-H26 -> 0.79795611 | AB26: =(C26*100)/25 -> 4 | AE26: =SUMIF('바-1.1-0-1 GPS좌표 및 흉고(소구역-소나무위험목'!$C$4:$C$22,"50",'바-1.1-0-1 GPS좌표 및 흉고(소구역-소나무위험목'!$K$4:$K$22) -> 1
A27: 52 | B27: 24 | C27: =SUMIF('바-1.1-0-1 GPS좌표 및 흉고(소구역-소나무위험목'!$C$4:$C$22,A27,'바-1.1-0-1 GPS좌표 및 흉고(소구역-소나무위험목'!$K$4:$K$22) -> 1 | D27: =IF(B27="","",INDEX(수간재적표!$C$2:$AX$427,$U$1+B27-2,A27/2-2)) -> 2.15754 | E27: =C27*D27 -> 2.15754 | F27: 28.9 | G27: =조재율표!H26*$W$1 -> 89 | H27: =E27*G27/100 -> 1.9202106 | J27: =E27-H27 -> 0.2373294 | K27: =E27*F27/100 -> 0.62352906 | L27: =SUM(K27,E27) -> 2.7810691 | M27: =H27 -> 1.9202106 | N27: =(J27+K27)*$V$1 -> 1.5581538 | O27: =J27+K27 -> 0.86085846 | P27: =J27+K27 -> 0.86085846 | Q27: =J27+K27 -> 0.86085846 | R27: =산출기초조사서!$I$27 -> 10.73 | S27: =ROUND(Q27/R27,2) -> 0.08 | X27: =L27-H27 -> 0.86085846 | AB27: =(C27*100)/25 -> 4 | AE27: =SUMIF('바-1.1-0-1 GPS좌표 및 흉고(소구역-소나무위험목'!$C$4:$C$22,"52",'바-1.1-0-1 GPS좌표 및 흉고(소구역-소나무위험목'!$K$4:$K$22) -> 1
A28: 54 | C28: =SUMIF('바-1.1-0-1 GPS좌표 및 흉고(소구역-소나무위험목'!$C$4:$C$22,A28,'바-1.1-0-1 GPS좌표 및 흉고(소구역-소나무위험목'!$K$4:$K$22) -> 0 | D28: =IF(B28="","",INDEX([412]수간재적표!$C$2:$AX$427,$U$1+B28-2,A28/2-2)) | H28: =E28*G28/100 -> 0 | J28: =E28-H28 -> 0 | K28: =E28*F28/100 -> 0 | L28: =SUM(K28,E28) -> 0 | M28: =H28 -> 0 | N28: =(J28+K28)*$V$1 -> 0 | O28: =J28+K28 -> 0 | P28: =J28+K28 -> 0 | Q28: =J28+K28 -> 0 | X28: =L28-H28 -> 0 | AB28: =(C28*100)/25 -> 0 | AE28: =SUMIF('바-1.1-0-1 GPS좌표 및 흉고(소구역-소나무위험목'!$C$4:$C$22,"54",'바-1.1-0-1 GPS좌표 및 흉고(소구역-소나무위험목'!$K$4:$K$22) -> 0
A29: 56 | B29: 25 | C29: =SUMIF('바-1.1-0-1 GPS좌표 및 흉고(소구역-소나무위험목'!$C$4:$C$22,A29,'바-1.1-0-1 GPS좌표 및 흉고(소구역-소나무위험목'!$K$4:$K$22) -> 2 | D29: =IF(B29="","",INDEX(수간재적표!$C$2:$AX$427,$U$1+B29-2,A29/2-2)) -> 2.59478 | E29: =C29*D29 -> 5.18956 | F29: 28.9 | G29: =조재율표!H28*$W$1 -> 90 | H29: =E29*G29/100 -> 4.670604 | J29: =E29-H29 -> 0.518956 | K29: =E29*F29/100 -> 1.4997828 | L29: =SUM(K29,E29) -> 6.6893428 | M29: =H29 -> 4.670604 | N29: =(J29+K29)*$V$1 -> 3.6539173 | O29: =J29+K29 -> 2.0187388 | P29: =J29+K29 -> 2.0187388 | Q29: =J29+K29 -> 2.0187388 | X29: =L29-H29 -> 2.0187388 | AB29: =(C29*100)/25 -> 8 | AE29: =SUMIF('바-1.1-0-1 GPS좌표 및 흉고(소구역-소나무위험목'!$C$4:$C$22,"56",'바-1.1-0-1 GPS좌표 및 흉고(소구역-소나무위험목'!$K$4:$K$22) -> 2
A30: 58 | C30: =SUMIF('바-1.1-0-1 GPS좌표 및 흉고(소구역-소나무위험목'!$C$4:$C$22,A30,'바-1.1-0-1 GPS좌표 및 흉고(소구역-소나무위험목'!$K$4:$K$22) -> 0 | H30: =E30*G30/100 -> 0 | J30: =E30-H30 -> 0 | K30: =E30*F30/100 -> 0 | L30: =SUM(K30,E30) -> 0 | M30: =H30 -> 0 | N30: =(J30+K30)*$V$1 -> 0 | O30: =J30+K30 -> 0 | P30: =J30+K30 -> 0 | Q30: =J30+K30 -> 0 | V30: =D30*800 -> 0 | X30: =L30-H30 -> 0 | AB30: =(C30*100)/25 -> 0 | AE30: =SUMIF('바-1.1-0-1 GPS좌표 및 흉고(소구역-소나무위험목'!$C$4:$C$22,"58",'바-1.1-0-1 GPS좌표 및 흉고(소구역-소나무위험목'!$K$4:$K$22) -> 0
A31: 60 | C31: =SUMIF('바-1.1-0-1 GPS좌표 및 흉고(소구역-소나무위험목'!$C$4:$C$22,A31,'바-1.1-0-1 GPS좌표 및 흉고(소구역-소나무위험목'!$K$4:$K$22) -> 0 | D31: =IF(B31="","",INDEX([412]수간재적표!$C$2:$AX$427,$U$1+B31-2,A31/2-2)) | H31: =E31*G31/100 -> 0 | J31: =E31-H31 -> 0 | K31: =E31*F31/100 -> 0 | L31: =SUM(K31,E31) -> 0 | M31: =H31 -> 0 | N31: =(J31+K31)*$V$1 -> 0 | O31: =J31+K31 -> 0 | P31: =J31+K31 -> 0 | Q31: =J31+K31 -> 0 | X31: =L31-H31 -> 0 | AB31: =(C31*100)/25 -> 0 | AE31: =SUM(AE4:AE30) -> 18
A32: 62 | C32: =SUMIF('바-1.1-0-1 GPS좌표 및 흉고(소구역-소나무위험목'!$C$4:$C$22,A32,'바-1.1-0-1 GPS좌표 및 흉고(소구역-소나무위험목'!$K$4:$K$22) -> 0 | D32: =IF(B32="","",INDEX([412]수간재적표!$C$2:$AX$427,$U$1+B32-2,A32/2-2)) | H32: =E32*G32/100 -> 0 | J32: =E32-H32 -> 0 | K32: =E32*F32/100 -> 0 | L32: =SUM(K32,E32) -> 0 | M32: =H32 -> 0 | N32: =(J32+K32)*$V$1 -> 0 | O32: =J32+K32 -> 0 | P32: =J32+K32 -> 0 | Q32: =J32+K32 -> 0 | R32: =산출기초조사서!$I$27 -> 10.73 | S32: =ROUND(Q32/R32,2) -> 0 | X32: =L32-H32 -> 0 | AB32: =(C32*100)/25 -> 0
A33: 64 | C33: =SUMIF('바-1.1-0-1 GPS좌표 및 흉고(소구역-소나무위험목'!$C$4:$C$22,A33,'바-1.1-0-1 GPS좌표 및 흉고(소구역-소나무위험목'!$K$4:$K$22) -> 0 | D33: =IF(B33="","",INDEX([412]수간재적표!$C$2:$AX$427,$U$1+B33-2,A33/2-2)) | H33: =E33*G33/100 -> 0 | J33: =E33-H33 -> 0 | K33: =E33*F33/100 -> 0 | L33: =SUM(K33,E33) -> 0 | M33: =H33 -> 0 | N33: =(J33+K33)*$V$1 -> 0 | O33: =J33+K33 -> 0 | P33: =J33+K33 -> 0 | Q33: =J33+K33 -> 0 | X33: =L33-H33 -> 0 | AB33: =(C33*100)/25 -> 0
A34: 66 | B34: 28 | C34: =SUMIF('바-1.1-0-1 GPS좌표 및 흉고(소구역-소나무위험목'!$C$4:$C$22,A34,'바-1.1-0-1 GPS좌표 및 흉고(소구역-소나무위험목'!$K$4:$K$22) -> 1 | D34: =IF(B34="","",INDEX(수간재적표!$C$2:$AX$427,$U$1+B34-2,A34/2-2)) -> 4.00468 | E34: =C34*D34 -> 4.00468 | F34: 28.9 | G34: =조재율표!$H$30*$W$1 -> 90 | H34: =E34*G34/100 -> 3.604212 | J34: =E34-H34 -> 0.400468 | K34: =E34*F34/100 -> 1.1573525 | L34: =SUM(K34,E34) -> 5.1620325 | M34: =H34 -> 3.604212 | N34: =(J34+K34)*$V$1 -> 2.8196551 | O34: =J34+K34 -> 1.5578205 | P34: =J34+K34 -> 1.5578205 | Q34: =J34+K34 -> 1.5578205 | X34: =L34-H34 -> 1.5578205 | AB34: =(C34*100)/25 -> 4
A35: 68 | C35: =SUMIF('바-1.1-0-1 GPS좌표 및 흉고(소구역-소나무위험목'!$C$4:$C$22,A35,'바-1.1-0-1 GPS좌표 및 흉고(소구역-소나무위험목'!$K$4:$K$22) -> 0 | D35: =IF(B35="","",INDEX([412]수간재적표!$C$2:$AX$427,$U$1+B35-2,A35/2-2)) | H35: =E35*G35/100 -> 0 | J35: =E35-H35 -> 0 | K35: =E35*F35/100 -> 0 | L35: =SUM(K35,E35) -> 0 | M35: =H35 -> 0 | N35: =(J35+K35)*$V$1 -> 0 | O35: =J35+K35 -> 0 | P35: =J35+K35 -> 0 | X35: =L35-H35 -> 0 | AB35: =(C35*100)/35 -> 0
A36: 70 | C36: =SUMIF('바-1.1-0-1 GPS좌표 및 흉고(소구역-소나무위험목'!$C$4:$C$22,A36,'바-1.1-0-1 GPS좌표 및 흉고(소구역-소나무위험목'!$K$4:$K$22) -> 0 | D36: =IF(B36="","",INDEX([412]수간재적표!$C$2:$AX$427,$U$1+B36-2,A36/2-2)) | H36: =E36*G36/100 -> 0 | J36: =E36-H36 -> 0 | K36: =E36*F36/100 -> 0 | L36: =SUM(K36,E36) -> 0 | M36: =H36 -> 0 | N36: =(J36+K36)*$V$1 -> 0 | O36: =J36+K36 -> 0 | P36: =J36+K36 -> 0 | X36: =L36-H36 -> 0
A37: 72 | C37: =SUMIF('바-1.1-0-1 GPS좌표 및 흉고(소구역-소나무위험목'!$C$4:$C$22,A37,'바-1.1-0-1 GPS좌표 및 흉고(소구역-소나무위험목'!$K$4:$K$22) -> 0 | H37: =E37*G37/100 -> 0 | J37: =E37-H37 -> 0 | K37: =E37*F37/100 -> 0 | L37: =SUM(K37,E37) -> 0 | M37: =H37 -> 0 | N37: =(J37+K37)*$V$1 -> 0 | O37: =J37+K37 -> 0
A38: 74 | C38: =SUMIF('바-1.1-0-1 GPS좌표 및 흉고(소구역-소나무위험목'!$C$4:$C$22,A38,'바-1.1-0-1 GPS좌표 및 흉고(소구역-소나무위험목'!$K$4:$K$22) -> 0 | H38: =E38*G38/100 -> 0 | J38: =E38-H38 -> 0 | K38: =E38*F38/100 -> 0 | L38: =SUM(K38,E38) -> 0 | M38: =H38 -> 0 | N38: =(J38+K38)*$V$1 -> 0 | O38: =J38+K38 -> 0
A39: 76 | C39: =SUMIF('바-1.1-0-1 GPS좌표 및 흉고(소구역-소나무위험목'!$C$4:$C$22,A39,'바-1.1-0-1 GPS좌표 및 흉고(소구역-소나무위험목'!$K$4:$K$22) -> 0 | D39: =IF(B39="","",INDEX([412]수간재적표!$C$2:$AX$427,$U$1+B39-2,A39/2-2)) | H39: =E39*G39/100 -> 0 | J39: =E39-H39 -> 0 | K39: =E39*F39/100 -> 0 | L39: =SUM(K39,E39) -> 0 | M39: =H39 -> 0 | N39: =(J39+K39)*$V$1 -> 0 | O39: =J39+K39 -> 0
A40: 78 | C40: =SUMIF('바-1.1-0-1 GPS좌표 및 흉고(소구역-소나무위험목'!$C$4:$C$22,A40,'바-1.1-0-1 GPS좌표 및 흉고(소구역-소나무위험목'!$K$4:$K$22) -> 0 | D40: =IF(B40="","",INDEX([412]수간재적표!$C$2:$AX$427,$U$1+B40-2,A40/2-2)) | H40: =E40*G40/100 -> 0 | J40: =E40-H40 -> 0 | K40: =E40*F40/100 -> 0 | L40: =SUM(K40,E40) -> 0 | M40: =H40 -> 0 | N40: =(J40+K40)*$V$1 -> 0 | O40: =J40+K40 -> 0
A41: 80 | C41: =SUMIF('바-1.1-0-1 GPS좌표 및 흉고(소구역-소나무위험목'!$C$4:$C$22,A41,'바-1.1-0-1 GPS좌표 및 흉고(소구역-소나무위험목'!$K$4:$K$22) -> 0 | D41: =IF(B41="","",INDEX([412]수간재적표!$C$2:$AX$427,$U$1+B41-2,A41/2-2)) | H41: =E41*G41/100 -> 0 | J41: =E41-H41 -> 0 | K41: =E41*F41/100 -> 0 | L41: =SUM(K41,E41) -> 0 | M41: =H41 -> 0 | N41: =(J41+K41)*$V$1 -> 0 | O41: =J41+K41 -> 0
A42: 합계 | C42: =SUM(C4:C41) -> 19 | E42: =SUM(E4:E41) -> 26.41291 | H42: =SUM(H4:H41) -> 23.481208 | J42: =SUM(J4:J41) -> 2.931702 | K42: =SUM(K4:K41) -> 7.633331 | L42: =SUM(L4:L41) -> 34.046241 | M42: =SUM(M4:M41) -> 23.481208 | N42: =SUM(N4:N41) -> 19.12271 | O42: =SUM(O4:O41) -> 10.565033 | P42: =SUM(P4:P36) -> 10.565033 | Q42: =SUM(Q4:Q36) -> 10.565033 | R42: =SUM(R4:R36) -> 218.92 | S42: =SUM(S4:S36) -> 0.61 | X42: =SUM(X4:X41) -> 10.565033
O45: =O42+'[412]다-2.1-0-1 수량산출(단목-해송)'!O42+'[412]다-4.1-0-1 수량산출(위험목-소나무)'!O42+'[412]다-5.1-0-1 수량산출(위험목-해송)'!O42 -> #VALUE!
C47: =C42+'[412]다-2.1-0-1 수량산출(단목-해송)'!C42 -> 19 | X47: =189+306+1 -> 496
E50: =E42+'[412]다-2.1-0-1 수량산출(단목-해송)'!E42+'[412]다-3.1-0-1 수량산출(위험목-잣나무)'!E42 -> #VALUE!

Sheet 바-1.1-0-1 GPS좌표 및 흉고(소구역-소나무위험목
A1: 1-0-1 소구역모두베기 GPS좌표 및 흉고-(소나무-위험목) | M1: =H29 -> 3
A2: 순번 | B2: 일련번호 | C2: 경급 (㎝) | D2: GRS80좌표-(TM 중부) | F2: 주 소 | G2: 피해고사목 | H2: 기타고사목 | I2: 비병징목 | J2: 비고
D3: x | E3: y | F3: 읍면동리 | M3: ○
A4: 1 | B4: B5_1502065 | C4: 50 | D4: 174020 | E4: 277287 | F4: 노안면 안산리 산 3-3 | I4: ○ | J4: 비병징목 | K4: 1 | L4: 위험목 | N4: =L4 -> 위험목 | O4: 20cm이하 | P4: =SUM(R4:R11) -> 1 | Q4: 6 | R4: =COUNTIF($C$4:$C$22,Q4) -> 0
A5: 2 | B5: B5_1502062 | C5: 56 | D5: 174013 | E5: 277286 | F5: 노안면 안산리 산 3-3 | H5: ○ | J5: 기타고사목 | K5: 1 | L5: 위험목 | O5: 22~30cm | P5: =SUM(R12:R16) -> 3 | Q5: 8 | R5: =COUNTIF($C$4:$C$22,Q5) -> 0
A6: 3 | B6: B5_1743856 | C6: 40 | D6: 174013 | E6: 277291 | F6: 노안면 안산리 산 3-3 | I6: ○ | J6: 비병징목 | K6: 1 | L6: 위험목 | O6: 32~40cm | P6: =SUM(R17:R21) -> 6 | Q6: 10 | R6: =COUNTIF($C$4:$C$22,Q6) -> 0
A7: 4 | B7: B5_1749045 | C7: 66 | D7: 174025 | E7: 277259 | F7: 노안면 안산리 산 3-3 | I7: ○ | J7: 비병징목 | K7: 1 | L7: 위험목 | O7: 42~50cm | P7: =SUM(R22:R22) -> 0 | Q7: 12 | R7: =COUNTIF($C$4:$C$22,Q7) -> 0
A8: 5 | B8: B5_1749044 | C8: 52 | D8: 174043 | E8: 277258 | F8: 노안면 안산리 산 3-3 | I8: ○ | J8: 비병징목 | K8: 1 | L8: 위험목 | O8: 50cm이상 | P8: =SUM(R23:R35) -> 9 | Q8: 14 | R8: =COUNTIF($C$4:$C$22,Q8) -> 0
A9: 6 | B9: B5_1747372 | C9: 46 | D9: 174074 | E9: 277253 | F9: 노안면 안산리 산 3-3 | I9: ○ | J9: 비병징목 | K9: 1 | L9: 위험목 | P9: =SUM(P4:P8) -> 19 | Q9: 16 | R9: =COUNTIF($C$4:$C$22,Q9) -> 0
A10: 7 | B10: B5_1747579 | C10: 44 | D10: 174095 | E10: 277278 | F10: 노안면 안산리 산 3-3 | I10: ○ | J10: 비병징목 | K10: 1 | L10: 위험목 | Q10: 18 | R10: =COUNTIF($C$4:$C$22,Q10) -> 1
A11: 8 | B11: B5_1747578 | C11: 26 | D11: 174099 | E11: 277281 | F11: 노안면 안산리 산 3-3 | I11: ○ | J11: 비병징목 | K11: 1 | L11: 위험목 | Q11: 20 | R11: =COUNTIF($C$4:$C$22,Q11) -> 0
A12: 9 | B12: B4_4228014 | C12: 56 | D12: 174091 | E12: 277279 | F12: 노안면 안산리 산 3-3 | G12: ○ | J12: 피해고사목 | K12: 1 | L12: 위험목 | Q12: 22 | R12: =COUNTIF($C$4:$C$22,Q12) -> 0
A13: 10 | B13: B2_2546777 | C13: 36 | D13: 171890 | E13: 277563 | F13: 노안면 오정리 산 13 | G13: ○ | J13: 피해고사목 | K13: 1 | L13: 위험목 | Q13: 24 | R13: =COUNTIF($C$4:$C$22,Q13) -> 0
A14: 11 | B14: B5_1504413 | C14: 18 | D14: 175646 | E14: 277465 | F14: 노안면 유곡리 산 204-1 | H14: ○ | J14: 기타고사목 | K14: 1 | L14: 위험목 | Q14: 26 | R14: =COUNTIF($C$4:$C$22,Q14) -> 2
A15: 12 | B15: B5_1746643 | C15: 38 | D15: 175645 | E15: 277467 | F15: 노안면 유곡리 산 204-1 | I15: ○ | J15: 비병징목 | K15: 1 | L15: 위험목 | Q15: 28 | R15: =COUNTIF($C$4:$C$22,Q15) -> 1
A16: 13 | B16: B5_1746642 | C16: 40 | D16: 175651 | E16: 277459 | F16: 노안면 유곡리 산 204-1 | I16: ○ | J16: 비병징목 | K16: 1 | L16: 위험목 | Q16: 30 | R16: =COUNTIF($C$4:$C$22,Q16) -> 0
A17: 14 | B17: B5_1746641 | C17: 46 | D17: 175632 | E17: 277479 | F17: 노안면 유곡리 산 204-1 | H17: ○ | J17: 기타고사목 | K17: 1 | L17: 위험목 | Q17: 32 | R17: =COUNTIF($C$4:$C$22,Q17) -> 1
A18: 15 | B18: B5_1504412 | C18: 26 | D18: 175638 | E18: 277482 | F18: 노안면 유곡리 산 204-1 | I18: ○ | J18: 비병징목 | K18: 1 | L18: 위험목 | Q18: 34 | R18: =COUNTIF($C$4:$C$22,Q18) -> 0
A19: 16 | B19: B5_1504411 | C19: 28 | D19: 175644 | E19: 277479 | F19: 노안면 유곡리 산 204-1 | I19: ○ | J19: 비병징목 | K19: 1 | L19: 위험목 | Q19: 36 | R19: =COUNTIF($C$4:$C$22,Q19) -> 1
A20: 17 | B20: B5_1746339 | C20: 32 | D20: 175646 | E20: 277481 | F20: 노안면 유곡리 산 204-1 | I20: ○ | J20: 비병징목 | K20: 1 | L20: 위험목 | Q20: 38 | R20: =COUNTIF($C$4:$C$22,Q20) -> 2
A21: 18 | B21: B5_1746338 | C21: 38 | D21: 175640 | E21: 277485 | F21: 노안면 유곡리 산 204-1 | I21: ○ | J21: 비병징목 | K21: 1 | L21: 위험목 | Q21: 40 | R21: =COUNTIF($C$4:$C$22,Q21) -> 2
A22: 19 | B22: B4_4224811 | C22: 46 | D22: 177853 | E22: 275168 | F22: 노안면 학산리 산 42-6 | G22: ○ | J22: 피해고사목 | K22: 1 | L22: 위험목 | Q22: 42 | R22: =COUNTIF($C$4:$C$22,Q22) -> 0
A23: 평균경급 | C23: =C27 -> 38 | Q23: 44 | R23: =COUNTIF($C$4:$C$22,Q23) -> 1
Q24: 46 | R24: =COUNTIF($C$4:$C$22,Q24) -> 3
Q25: 48 | R25: =COUNTIF($C$4:$C$22,Q25) -> 0
A26: 평균경급 | C26: =AVERAGE(C4:C22) -> 41.263158 | E26: =AVERAGE(C4:C22,'[412]라-2.1-0-1 GPS좌표 및 흉고(단목-해송)'!C4:C229,'[412]라-4.1-0-1 GPS좌표 및 흉고(위험목-소나무)'!C4:C76,'[412]라-3.1-0-1 GPS좌표 및 흉고(위험목-잣나무)'!C4,'[412]라-5.1-0-1 GPS좌표 및 흉고(위험목-해송)'!C4:C25) -> 39.5 | Q26: 50 | R26: =COUNTIF($C$4:$C$22,Q26) -> 1
C27: 38 | F27: ㎝ | Q27: 52 | R27: =COUNTIF($C$4:$C$22,Q27) -> 1
Q28: 54 | R28: =COUNTIF($C$4:$C$22,Q28) -> 0
G29: =COUNTA(G4:G22) -> 3 | H29: =COUNTA(H4:H22) -> 3 | I29: =COUNTA(I4:I22) -> 13 | J29: =SUM(G29:I29) -> 19 | Q29: 56 | R29: =COUNTIF($C$4:$C$22,Q29) -> 2
Q30: 58 | R30: =COUNTIF($C$4:$C$22,Q30) -> 0
C31: =SUM(C4:C22) -> 784 | Q31: 60 | R31: =COUNTIF($C$4:$C$22,Q31) -> 0
Q32: 62 | R32: =COUNTIF($C$4:$C$22,Q32) -> 0
Q33: 64 | R33: =COUNTIF($C$4:$C$22,Q33) -> 0
Q34: 66 | R34: =COUNTIF($C$4:$C$22,Q34) -> 1
Q35: 68 | R35: =COUNTIF($C$4:$C$22,Q35) -> 0
R36: =SUM(R4:R35) -> 19

Sheet 다-1.1-0-1 수량산출(소구역-해송)
A1: 1-0-1 수량산출-소구역모두베기-해송 | U1: 250 | V1: 1.81 | W1: 100
A2: 경급 (㎝) | B2: 수고 (m) | C2: 본수 (본) | D2: 수간재적 (㎥/본) | E2: 총재적 (㎥) | F2: 지조율 (%) | G2: 조재율 (%) | H2: 총원목량 (㎥) | I2: 원목집재 재적별 집계 (㎥) | J2: 총조재량 (㎥) | K2: 총지조량 (㎥) | L2: 총입목재적 (㎥) | M2: 총원목 운반량 (㎥) | N2: 총잔가지 운반량 (㎥) 층적부피rm= 총잔가지량*1.81 | O2: 총파쇄량 =총지조+총조재 (㎥) | P2: 총파쇄량 =조재량+지조량 (㎥) | Q2: 총소각량 (㎥) | R2: 소각 단위품 (㎥/인) | S2: 총소각 소요품 (㎥/인) | T2: 비고 | AA2: =121.08*69000 -> 8354520 | AB2: =AA2-AA3 -> 8112360
AA3: =121.08*2000 -> 242160
A4: 6 | C4: =SUMIF('라-1.1-0-1 GPS좌표 및 흉고(소구역-해송)'!$C$4:$C$153,A4,'라-1.1-0-1 GPS좌표 및 흉고(소구역-해송)'!$K$4:$K$153) -> 0 | H4: =E4*G4/100 -> 0 | I4: =SUM(H4:H14) -> 12.303076 | J4: =E4-H4 -> 0 | K4: =E4*F4/100 -> 0 | L4: =SUM(K4,E4) -> 0 | M4: =H4 -> 0 | N4: =(J4+K4)*$V$1 -> 0 | O4: =J4+K4 -> 0 | P4: =J4+K4 -> 0 | Q4: =J4+K4 -> 0 | R4: =산출기초조사서!I6 -> 7.22 | S4: =ROUND(Q4/R4,2) -> 0 | V4: =D4*800 -> 0 | X4: =L4-H4 -> 0 | Y4: =D4*800 -> 0 | AB4: =(C4*100)/25 -> 0 | AE4: =SUMIF('라-1.1-0-1 GPS좌표 및 흉고(소구역-해송)'!$C$4:$C$153,"6",'라-1.1-0-1 GPS좌표 및 흉고(소구역-해송)'!$K$4:$K$153) -> 0
A5: 8 | C5: =SUMIF('라-1.1-0-1 GPS좌표 및 흉고(소구역-해송)'!$C$4:$C$153,A5,'라-1.1-0-1 GPS좌표 및 흉고(소구역-해송)'!$K$4:$K$153) -> 0 | H5: =E5*G5/100 -> 0 | J5: =E5-H5 -> 0 | K5: =E5*F5/100 -> 0 | L5: =SUM(K5,E5) -> 0 | M5: =H5 -> 0 | N5: =(J5+K5)*$V$1 -> 0 | O5: =J5+K5 -> 0 | P5: =J5+K5 -> 0 | Q5: =J5+K5 -> 0 | R5: =산출기초조사서!I7 -> 7.39 | S5: =ROUND(Q5/R5,2) -> 0 | V5: =D5*800 -> 0 | X5: =L5-H5 -> 0 | Z5: =D4*800 -> 0 | AB5: =(C5*100)/25 -> 0 | AE5: =SUMIF('라-1.1-0-1 GPS좌표 및 흉고(소구역-해송)'!$C$4:$C$153,"8",'라-1.1-0-1 GPS좌표 및 흉고(소구역-해송)'!$K$4:$K$153) -> 0
A6: 10 | B6: 8 | C6: =SUMIF('라-1.1-0-1 GPS좌표 및 흉고(소구역-해송)'!$C$4:$C$153,A6,'라-1.1-0-1 GPS좌표 및 흉고(소구역-해송)'!$K$4:$K$153) -> 1 | D6: =IF(B6="","",INDEX(수간재적표!$C$2:$AX$427,$U$1+B6-2,A6/2-2)) -> 0.03256 | E6: =C6*D6 -> 0.03256 | F6: 28.9 | G6: =조재율표!H5*$W$1 -> 31 | H6: =E6*G6/100 -> 0.0100936 | J6: =E6-H6 -> 0.0224664 | K6: =E6*F6/100 -> 0.00940984 | L6: =SUM(K6,E6) -> 0.04196984 | M6: =H6 -> 0.0100936 | N6: =(J6+K6)*$V$1 -> 0.057695994 | O6: =J6+K6 -> 0.03187624 | P6: =J6+K6 -> 0.03187624 | Q6: =J6+K6 -> 0.03187624 | R6: =산출기초조사서!I8 -> 7.56 | S6: =ROUND(Q6/R6,2) -> 0 | V6: =D6*800 -> 26.048 | X6: =L6-H6 -> 0.03187624 | AB6: =(C6*100)/25 -> 4 | AE6: =SUMIF('라-1.1-0-1 GPS좌표 및 흉고(소구역-해송)'!$C$4:$C$153,"10",'라-1.1-0-1 GPS좌표 및 흉고(소구역-해송)'!$K$4:$K$153) -> 1
A7: 12 | B7: 8 | C7: =SUMIF('라-1.1-0-1 GPS좌표 및 흉고(소구역-해송)'!$C$4:$C$153,A7,'라-1.1-0-1 GPS좌표 및 흉고(소구역-해송)'!$K$4:$K$153) -> 3 | D7: =IF(B7="","",INDEX(수간재적표!$C$2:$AX$427,$U$1+B7-2,A7/2-2)) -> 0.04589 | E7: =C7*D7 -> 0.13767 | F7: 28.9 | G7: =조재율표!H6*$W$1 -> 51 | H7: =E7*G7/100 -> 0.0702117 | J7: =E7-H7 -> 0.0674583 | K7: =E7*F7/100 -> 0.03978663 | L7: =SUM(K7,E7) -> 0.17745663 | M7: =H7 -> 0.0702117 | N7: =(J7+K7)*$V$1 -> 0.19411332 | O7: =J7+K7 -> 0.10724493 | P7: =J7+K7 -> 0.10724493 | Q7: =J7+K7 -> 0.10724493 | R7: =산출기초조사서!I9 -> 7.72 | S7: =ROUND(Q7/R7,2) -> 0.01 | V7: =D7*800 -> 36.712 | X7: =L7-H7 -> 0.10724493 | AB7: =(C7*100)/25 -> 12 | AE7: =SUMIF('라-1.1-0-1 GPS좌표 및 흉고(소구역-해송)'!$C$4:$C$153,"12",'라-1.1-0-1 GPS좌표 및 흉고(소구역-해송)'!$K$4:$K$153) -> 3
A8: 14 | B8: 9 | C8: =SUMIF('라-1.1-0-1 GPS좌표 및 흉고(소구역-해송)'!$C$4:$C$153,A8,'라-1.1-0-1 GPS좌표 및 흉고(소구역-해송)'!$K$4:$K$153) -> 8 | D8: =IF(B8="","",INDEX(수간재적표!$C$2:$AX$427,$U$1+B8-2,A8/2-2)) -> 0.06884 | E8: =C8*D8 -> 0.55072 | F8: 28.9 | G8: =조재율표!H7*$W$1 -> 64 | H8: =E8*G8/100 -> 0.3524608 | J8: =E8-H8 -> 0.1982592 | K8: =E8*F8/100 -> 0.15915808 | L8: =SUM(K8,E8) -> 0.70987808 | M8: =H8 -> 0.3524608 | N8: =(J8+K8)*$V$1 -> 0.64692528 | O8: =J8+K8 -> 0.35741728 | P8: =J8+K8 -> 0.35741728 | Q8: =J8+K8 -> 0.35741728 | R8: =산출기초조사서!I10 -> 7.89 | S8: =ROUND(Q8/R8,2) -> 0.05 | V8: =D8*800 -> 55.072 | X8: =L8-H8 -> 0.35741728 | AB8: =(C8*100)/25 -> 32 | AE8: =SUMIF('라-1.1-0-1 GPS좌표 및 흉고(소구역-해송)'!$C$4:$C$153,"14",'라-1.1-0-1 GPS좌표 및 흉고(소구역-해송)'!$K$4:$K$153) -> 8
A9: 16 | B9: 9 | C9: =SUMIF('라-1.1-0-1 GPS좌표 및 흉고(소구역-해송)'!$C$4:$C$153,A9,'라-1.1-0-1 GPS좌표 및 흉고(소구역-해송)'!$K$4:$K$153) -> 9 | D9: =IF(B9="","",INDEX(수간재적표!$C$2:$AX$427,$U$1+B9-2,A9/2-2)) -> 0.08824 | E9: =C9*D9 -> 0.79416 | F9: 28.9 | G9: =조재율표!H8*$W$1 -> 72 | H9: =E9*G9/100 -> 0.5717952 | J9: =E9-H9 -> 0.2223648 | K9: =E9*F9/100 -> 0.22951224 | L9: =SUM(K9,E9) -> 1.0236722 | M9: =H9 -> 0.5717952 | N9: =(J9+K9)*$V$1 -> 0.81789744 | O9: =J9+K9 -> 0.45187704 | P9: =J9+K9 -> 0.45187704 | Q9: =J9+K9 -> 0.45187704 | R9: =산출기초조사서!I11 -> 8.06 | S9: =ROUND(Q9/R9,2) -> 0.06 | V9: =D9*800 -> 70.592 | X9: =L9-H9 -> 0.45187704 | AB9: =(C9*100)/25 -> 36 | AE9: =SUMIF('라-1.1-0-1 GPS좌표 및 흉고(소구역-해송)'!$C$4:$C$153,"16",'라-1.1-0-1 GPS좌표 및 흉고(소구역-해송)'!$K$4:$K$153) -> 9 | AF9: =AE9+AE10+AE11 -> 36
A10: 18 | B10: 11 | C10: =SUMIF('라-1.1-0-1 GPS좌표 및 흉고(소구역-해송)'!$C$4:$C$153,A10,'라-1.1-0-1 GPS좌표 및 흉고(소구역-해송)'!$K$4:$K$153) -> 12 | D10: =IF(B10="","",INDEX(수간재적표!$C$2:$AX$427,$U$1+B10-2,A10/2-2)) -> 0.13395 | E10: =C10*D10 -> 1.6074 | F10: 28.9 | G10: =조재율표!H9*$W$1 -> 77 | H10: =E10*G10/100 -> 1.237698 | J10: =E10-H10 -> 0.369702 | K10: =E10*F10/100 -> 0.4645386 | L10: =SUM(K10,E10) -> 2.0719386 | M10: =H10 -> 1.237698 | N10: =(J10+K10)*$V$1 -> 1.5099755 | O10: =J10+K10 -> 0.8342406 | P10: =J10+K10 -> 0.8342406 | Q10: =J10+K10 -> 0.8342406 | R10: =산출기초조사서!I12 -> 8.22 | S10: =ROUND(Q10/R10,2) -> 0.1 | V10: =D10*800 -> 107.16 | X10: =L10-H10 -> 0.8342406 | AB10: =(C10*100)/25 -> 48 | AE10: =SUMIF('라-1.1-0-1 GPS좌표 및 흉고(소구역-해송)'!$C$4:$C$153,"18",'라-1.1-0-1 GPS좌표 및 흉고(소구역-해송)'!$K$4:$K$153) -> 12
A11: 20 | B11: 12 | C11: =SUMIF('라-1.1-0-1 GPS좌표 및 흉고(소구역-해송)'!$C$4:$C$153,A11,'라-1.1-0-1 GPS좌표 및 흉고(소구역-해송)'!$K$4:$K$153) -> 15 | D11: =IF(B11="","",INDEX(수간재적표!$C$2:$AX$427,$U$1+B11-2,A11/2-2)) -> 0.17727 | E11: =C11*D11 -> 2.65905 | F11: 28.9 | G11: =조재율표!H10*$W$1 -> 80 | H11: =E11*G11/100 -> 2.12724 | J11: =E11-H11 -> 0.53181 | K11: =E11*F11/100 -> 0.76846545 | L11: =SUM(K11,E11) -> 3.4275155 | M11: =H11 -> 2.12724 | N11: =(J11+K11)*$V$1 -> 2.3534986 | O11: =J11+K11 -> 1.3002755 | P11: =J11+K11 -> 1.3002755 | Q11: =J11+K11 -> 1.3002755 | R11: =산출기초조사서!I13 -> 8.39 | S11: =ROUND(Q11/R11,2) -> 0.15 | V11: =D11*800 -> 141.816 | X11: =L11-H11 -> 1.3002755 | AB11: =(C11*100)/25 -> 60 | AE11: =SUMIF('라-1.1-0-1 GPS좌표 및 흉고(소구역-해송)'!$C$4:$C$153,"20",'라-1.1-0-1 GPS좌표 및 흉고(소구역-해송)'!$K$4:$K$153) -> 15
A12: 22 | B12: 13 | C12: =SUMIF('라-1.1-0-1 GPS좌표 및 흉고(소구역-해송)'!$C$4:$C$153,A12,'라-1.1-0-1 GPS좌표 및 흉고(소구역-해송)'!$K$4:$K$153) -> 11 | D12: =IF(B12="","",INDEX(수간재적표!$C$2:$AX$427,$U$1+B12-2,A12/2-2)) -> 0.22848 | E12: =C12*D12 -> 2.51328 | F12: 28.9 | G12: =조재율표!H11*$W$1 -> 82 | H12: =E12*G12/100 -> 2.0608896 | J12: =E12-H12 -> 0.4523904 | K12: =E12*F12/100 -> 0.72633792 | L12: =SUM(K12,E12) -> 3.2396179 | M12: =H12 -> 2.0608896 | N12: =(J12+K12)*$V$1 -> 2.1334983 | O12: =J12+K12 -> 1.1787283 | P12: =J12+K12 -> 1.1787283 | Q12: =J12+K12 -> 1.1787283 | R12: =산출기초조사서!I14 -> 8.56 | S12: =ROUND(Q12/R12,2) -> 0.14 | V12: =D12*800 -> 182.784 | X12: =L12-H12 -> 1.1787283 | AB12: =(C12*100)/25 -> 44 | AC12: 4.8 | AE12: =SUMIF('라-1.1-0-1 GPS좌표 및 흉고(소구역-해송)'!$C$4:$C$153,"22",'라-1.1-0-1 GPS좌표 및 흉고(소구역-해송)'!$K$4:$K$153) -> 11
A13: 24 | B13: 14 | C13: =SUMIF('라-1.1-0-1 GPS좌표 및 흉고(소구역-해송)'!$C$4:$C$153,A13,'라-1.1-0-1 GPS좌표 및 흉고(소구역-해송)'!$K$4:$K$153) -> 13 | D13: =IF(B13="","",INDEX(수간재적표!$C$2:$AX$427,$U$1+B13-2,A13/2-2)) -> 0.28806 | E13: =C13*D13 -> 3.74478 | F13: 28.9 | G13: =조재율표!H12*$W$1 -> 84 | H13: =E13*G13/100 -> 3.1456152 | J13: =E13-H13 -> 0.5991648 | K13: =E13*F13/100 -> 1.0822414 | L13: =SUM(K13,E13) -> 4.8270214 | M13: =H13 -> 3.1456152 | N13: =(J13+K13)*$V$1 -> 3.0433453 | O13: =J13+K13 -> 1.6814062 | P13: =J13+K13 -> 1.6814062 | Q13: =J13+K13 -> 1.6814062 | R13: =산출기초조사서!I15 -> 8.72 | S13: =ROUND(Q13/R13,2) -> 0.19 | V13: =D13*800 -> 230.448 | X13: =L13-H13 -> 1.6814062 | AB13: =(C13*100)/25 -> 52 | AE13: =SUMIF('라-1.1-0-1 GPS좌표 및 흉고(소구역-해송)'!$C$4:$C$153,"24",'라-1.1-0-1 GPS좌표 및 흉고(소구역-해송)'!$K$4:$K$153) -> 13
A14: 26 | B14: 15 | C14: =SUMIF('라-1.1-0-1 GPS좌표 및 흉고(소구역-해송)'!$C$4:$C$153,A14,'라-1.1-0-1 GPS좌표 및 흉고(소구역-해송)'!$K$4:$K$153) -> 9 | D14: =IF(B14="","",INDEX(수간재적표!$C$2:$AX$427,$U$1+B14-2,A14/2-2)) -> 0.35648 | E14: =C14*D14 -> 3.20832 | F14: 28.9 | G14: =조재율표!H13*$W$1 -> 85 | H14: =E14*G14/100 -> 2.727072 | J14: =E14-H14 -> 0.481248 | K14: =E14*F14/100 -> 0.92720448 | L14: =SUM(K14,E14) -> 4.1355245 | M14: =H14 -> 2.727072 | N14: =(J14+K14)*$V$1 -> 2.549299 | O14: =J14+K14 -> 1.4084525 | P14: =J14+K14 -> 1.4084525 | Q14: =J14+K14 -> 1.4084525 | R14: =산출기초조사서!I16 -> 8.89 | S14: =ROUND(Q14/R14,2) -> 0.16 | V14: =D14*800 -> 285.184 | X14: =L14-H14 -> 1.4084525 | AB14: =(C14*100)/25 -> 36 | AE14: =SUMIF('라-1.1-0-1 GPS좌표 및 흉고(소구역-해송)'!$C$4:$C$153,"26",'라-1.1-0-1 GPS좌표 및 흉고(소구역-해송)'!$K$4:$K$153) -> 9
A15: 28 | B15: 16 | C15: =SUMIF('라-1.1-0-1 GPS좌표 및 흉고(소구역-해송)'!$C$4:$C$153,A15,'라-1.1-0-1 GPS좌표 및 흉고(소구역-해송)'!$K$4:$K$153) -> 15 | D15: =IF(B15="","",INDEX(수간재적표!$C$2:$AX$427,$U$1+B15-2,A15/2-2)) -> 0.43416 | E15: =C15*D15 -> 6.5124 | F15: 28.9 | G15: =조재율표!H14*$W$1 -> 86 | H15: =E15*G15/100 -> 5.600664 | I15: =SUM(H15:H16) -> 11.431034 | J15: =E15-H15 -> 0.911736 | K15: =E15*F15/100 -> 1.8820836 | L15: =SUM(K15,E15) -> 8.3944836 | M15: =H15 -> 5.600664 | N15: =(J15+K15)*$V$1 -> 5.0568135 | O15: =J15+K15 -> 2.7938196 | P15: =J15+K15 -> 2.7938196 | Q15: =J15+K15 -> 2.7938196 | R15: =산출기초조사서!I17 -> 9.06 | S15: =ROUND(Q15/R15,2) -> 0.31 | V15: =D15*800 -> 347.328 | X15: =L15-H15 -> 2.7938196 | AB15: =(C15*100)/25 -> 60 | AE15: =SUMIF('라-1.1-0-1 GPS좌표 및 흉고(소구역-해송)'!$C$4:$C$153,"28",'라-1.1-0-1 GPS좌표 및 흉고(소구역-해송)'!$K$4:$K$153) -> 15
A16: 30 | B16: 17 | C16: =SUMIF('라-1.1-0-1 GPS좌표 및 흉고(소구역-해송)'!$C$4:$C$153,A16,'라-1.1-0-1 GPS좌표 및 흉고(소구역-해송)'!$K$4:$K$153) -> 13 | D16: =IF(B16="","",INDEX(수간재적표!$C$2:$AX$427,$U$1+B16-2,A16/2-2)) -> 0.5215 | E16: =C16*D16 -> 6.7795 | F16: 28.9 | G16: =조재율표!H15*$W$1 -> 86 | H16: =E16*G16/100 -> 5.83037 | J16: =E16-H16 -> 0.94913 | K16: =E16*F16/100 -> 1.9592755 | L16: =SUM(K16,E16) -> 8.7387755 | M16: =H16 -> 5.83037 | N16: =(J16+K16)*$V$1 -> 5.264214 | O16: =J16+K16 -> 2.9084055 | P16: =J16+K16 -> 2.9084055 | Q16: =J16+K16 -> 2.9084055 | R16: =산출기초조사서!I18 -> 9.23 | S16: =ROUND(Q16/R16,2) -> 0.32 | V16: =D16*800 -> 417.2 | X16: =L16-H16 -> 2.9084055 | AB16: =(C16*100)/25 -> 52 | AE16: =SUMIF('라-1.1-0-1 GPS좌표 및 흉고(소구역-해송)'!$C$4:$C$153,"30",'라-1.1-0-1 GPS좌표 및 흉고(소구역-해송)'!$K$4:$K$153) -> 13
A17: 32 | B17: 17 | C17: =SUMIF('라-1.1-0-1 GPS좌표 및 흉고(소구역-해송)'!$C$4:$C$153,A17,'라-1.1-0-1 GPS좌표 및 흉고(소구역-해송)'!$K$4:$K$153) -> 6 | D17: =IF(B17="","",INDEX(수간재적표!$C$2:$AX$427,$U$1+B17-2,A17/2-2)) -> 0.58457 | E17: =C17*D17 -> 3.50742 | F17: 28.9 | G17: =조재율표!H16*$W$1 -> 87 | H17: =E17*G17/100 -> 3.0514554 | I17: =SUM(H17:H36) -> 37.353077 | J17: =E17-H17 -> 0.4559646 | K17: =E17*F17/100 -> 1.0136444 | L17: =SUM(K17,E17) -> 4.5210644 | M17: =H17 -> 3.0514554 | N17: =(J17+K17)*$V$1 -> 2.6599923 | O17: =J17+K17 -> 1.469609 | P17: =J17+K17 -> 1.469609 | Q17: =J17+K17 -> 1.469609 | R17: =산출기초조사서!I19 -> 9.39 | S17: =ROUND(Q17/R17,2) -> 0.16 | V17: =D17*800 -> 467.656 | X17: =L17-H17 -> 1.469609 | AB17: =(C17*100)/25 -> 24 | AE17: =SUMIF('라-1.1-0-1 GPS좌표 및 흉고(소구역-해송)'!$C$4:$C$153,"32",'라-1.1-0-1 GPS좌표 및 흉고(소구역-해송)'!$K$4:$K$153) -> 6
A18: 34 | B18: 18 | C18: =SUMIF('라-1.1-0-1 GPS좌표 및 흉고(소구역-해송)'!$C$4:$C$153,A18,'라-1.1-0-1 GPS좌표 및 흉고(소구역-해송)'!$K$4:$K$153) -> 4 | D18: =IF(B18="","",INDEX(수간재적표!$C$2:$AX$427,$U$1+B18-2,A18/2-2)) -> 0.68846 | E18: =C18*D18 -> 2.75384 | F18: 28.9 | G18: =조재율표!H17*$W$1 -> 87 | H18: =E18*G18/100 -> 2.3958408 | J18: =E18-H18 -> 0.3579992 | K18: =E18*F18/100 -> 0.79585976 | L18: =SUM(K18,E18) -> 3.5496998 | M18: =H18 -> 2.3958408 | N18: =(J18+K18)*$V$1 -> 2.0884847 | O18: =J18+K18 -> 1.153859 | P18: =J18+K18 -> 1.153859 | Q18: =J18+K18 -> 1.153859 | R18: =산출기초조사서!I20 -> 9.56 | S18: =ROUND(Q18/R18,2) -> 0.12 | V18: =D18*800 -> 550.768 | X18: =L18-H18 -> 1.153859 | AB18: =(C18*100)/25 -> 16 | AE18: =SUMIF('라-1.1-0-1 GPS좌표 및 흉고(소구역-해송)'!$C$4:$C$153,"34",'라-1.1-0-1 GPS좌표 및 흉고(소구역-해송)'!$K$4:$K$153) -> 4
A19: 36 | B19: 18 | C19: =SUMIF('라-1.1-0-1 GPS좌표 및 흉고(소구역-해송)'!$C$4:$C$153,A19,'라-1.1-0-1 GPS좌표 및 흉고(소구역-해송)'!$K$4:$K$153) -> 3 | D19: =IF(B19="","",INDEX(수간재적표!$C$2:$AX$427,$U$1+B19-2,A19/2-2)) -> 0.76071 | E19: =C19*D19 -> 2.28213 | F19: 28.9 | G19: =조재율표!H18*$W$1 -> 88 | H19: =E19*G19/100 -> 2.0082744 | J19: =E19-H19 -> 0.2738556 | K19: =E19*F19/100 -> 0.65953557 | L19: =SUM(K19,E19) -> 2.9416656 | M19: =H19 -> 2.0082744 | N19: =(J19+K19)*$V$1 -> 1.689438 | O19: =J19+K19 -> 0.93339117 | P19: =J19+K19 -> 0.93339117 | Q19: =J19+K19 -> 0.93339117 | R19: =산출기초조사서!I21 -> 9.73 | S19: =ROUND(Q19/R19,2) -> 0.1 | V19: =D19*800 -> 608.568 | X19: =L19-H19 -> 0.93339117 | AB19: =(C19*100)/25 -> 12 | AE19: =SUMIF('라-1.1-0-1 GPS좌표 및 흉고(소구역-해송)'!$C$4:$C$153,"36",'라-1.1-0-1 GPS좌표 및 흉고(소구역-해송)'!$K$4:$K$153) -> 3
A20: 38 | B20: 19 | C20: =SUMIF('라-1.1-0-1 GPS좌표 및 흉고(소구역-해송)'!$C$4:$C$153,A20,'라-1.1-0-1 GPS좌표 및 흉고(소구역-해송)'!$K$4:$K$153) -> 5 | D20: =IF(B20="","",INDEX(수간재적표!$C$2:$AX$427,$U$1+B20-2,A20/2-2)) -> 0.88185 | E20: =C20*D20 -> 4.40925 | F20: 28.9 | G20: =조재율표!H19*$W$1 -> 88 | H20: =E20*G20/100 -> 3.88014 | J20: =E20-H20 -> 0.52911 | K20: =E20*F20/100 -> 1.2742733 | L20: =SUM(K20,E20) -> 5.6835233 | M20: =H20 -> 3.88014 | N20: =(J20+K20)*$V$1 -> 3.2641237 | O20: =J20+K20 -> 1.8033833 | P20: =J20+K20 -> 1.8033833 | Q20: =J20+K20 -> 1.8033833 | R20: =산출기초조사서!I22 -> 9.89 | S20: =ROUND(Q20/R20,2) -> 0.18 | V20: =D20*800 -> 705.48 | X20: =L20-H20 -> 1.8033833 | AB20: =(C20*100)/25 -> 20 | AE20: =SUMIF('라-1.1-0-1 GPS좌표 및 흉고(소구역-해송)'!$C$4:$C$153,"38",'라-1.1-0-1 GPS좌표 및 흉고(소구역-해송)'!$K$4:$K$153) -> 5
A21: 40 | B21: 20 | C21: =SUMIF('라-1.1-0-1 GPS좌표 및 흉고(소구역-해송)'!$C$4:$C$153,A21,'라-1.1-0-1 GPS좌표 및 흉고(소구역-해송)'!$K$4:$K$153) -> 5 | D21: =IF(B21="","",INDEX(수간재적표!$C$2:$AX$427,$U$1+B21-2,A21/2-2)) -> 1.01397 | E21: =C21*D21 -> 5.06985 | F21: 28.9 | G21: =조재율표!H20*$W$1 -> 88 | H21: =E21*G21/100 -> 4.461468 | J21: =E21-H21 -> 0.608382 | K21: =E21*F21/100 -> 1.4651866 | L21: =SUM(K21,E21) -> 6.5350367 | M21: =H21 -> 4.461468 | N21: =(J21+K21)*$V$1 -> 3.7531593 | O21: =J21+K21 -> 2.0735687 | P21: =J21+K21 -> 2.0735687 | Q21: =J21+K21 -> 2.0735687 | R21: =산출기초조사서!I23 -> 10.06 | S21: =ROUND(Q21/R21,2) -> 0.21 | V21: =D21*800 -> 811.176 | X21: =L21-H21 -> 2.0735687 | AB21: =(C21*100)/25 -> 20 | AE21: =SUMIF('라-1.1-0-1 GPS좌표 및 흉고(소구역-해송)'!$C$4:$C$153,"40",'라-1.1-0-1 GPS좌표 및 흉고(소구역-해송)'!$K$4:$K$153) -> 5
A22: 42 | B22: 21 | C22: =SUMIF('라-1.1-0-1 GPS좌표 및 흉고(소구역-해송)'!$C$4:$C$153,A22,'라-1.1-0-1 GPS좌표 및 흉고(소구역-해송)'!$K$4:$K$153) -> 9 | D22: =IF(B22="","",INDEX(수간재적표!$C$2:$AX$427,$U$1+B22-2,A22/2-2)) -> 1.15733 | E22: =C22*D22 -> 10.41597 | F22: 28.9 | G22: =조재율표!H21*$W$1 -> 88 | H22: =E22*G22/100 -> 9.1660536 | J22: =E22-H22 -> 1.2499164 | K22: =E22*F22/100 -> 3.0102153 | L22: =SUM(K22,E22) -> 13.426185 | M22: =H22 -> 9.1660536 | N22: =(J22+K22)*$V$1 -> 7.7108384 | O22: =J22+K22 -> 4.2601317 | P22: =J22+K22 -> 4.2601317 | Q22: =J22+K22 -> 4.2601317 | R22: =산출기초조사서!I24 -> 10.23 | S22: =ROUND(Q22/R22,2) -> 0.42 | V22: =D22*800 -> 925.864 | X22: =L22-H22 -> 4.2601317 | AB22: =(C22*100)/25 -> 36 | AE22: =SUMIF('라-1.1-0-1 GPS좌표 및 흉고(소구역-해송)'!$C$4:$C$153,"42",'라-1.1-0-1 GPS좌표 및 흉고(소구역-해송)'!$K$4:$K$153) -> 9
A23: 44 | B23: 21 | C23: =SUMIF('라-1.1-0-1 GPS좌표 및 흉고(소구역-해송)'!$C$4:$C$153,A23,'라-1.1-0-1 GPS좌표 및 흉고(소구역-해송)'!$K$4:$K$153) -> 5 | D23: =IF(B23="","",INDEX(수간재적표!$C$2:$AX$427,$U$1+B23-2,A23/2-2)) -> 1.25262 | E23: =C23*D23 -> 6.2631 | F23: 28.9 | G23: =조재율표!H22*$W$1 -> 89 | H23: =E23*G23/100 -> 5.574159 | J23: =E23-H23 -> 0.688941 | K23: =E23*F23/100 -> 1.8100359 | L23: =SUM(K23,E23) -> 8.0731359 | M23: =H23 -> 5.574159 | N23: =(J23+K23)*$V$1 -> 4.5231482 | O23: =J23+K23 -> 2.4989769 | P23: =J23+K23 -> 2.4989769 | Q23: =J23+K23 -> 2.4989769 | R23: =산출기초조사서!I25 -> 10.4 | S23: =ROUND(Q23/R23,2) -> 0.24 | V23: =D23*800 -> 1002.096 | X23: =L23-H23 -> 2.4989769 | AB23: =(C23*100)/25 -> 20 | AE23: =SUMIF('라-1.1-0-1 GPS좌표 및 흉고(소구역-해송)'!$C$4:$C$153,"44",'라-1.1-0-1 GPS좌표 및 흉고(소구역-해송)'!$K$4:$K$153) -> 5
A24: 46 | B24: 22 | C24: =SUMIF('라-1.1-0-1 GPS좌표 및 흉고(소구역-해송)'!$C$4:$C$153,A24,'라-1.1-0-1 GPS좌표 및 흉고(소구역-해송)'!$K$4:$K$153) -> 1 | D24: =IF(B24="","",INDEX(수간재적표!$C$2:$AX$427,$U$1+B24-2,A24/2-2)) -> 1.41451 | E24: =C24*D24 -> 1.41451 | F24: 28.9 | G24: =조재율표!H23*$W$1 -> 89 | H24: =E24*G24/100 -> 1.2589139 | J24: =E24-H24 -> 0.1555961 | K24: =E24*F24/100 -> 0.40879339 | L24: =SUM(K24,E24) -> 1.8233034 | M24: =H24 -> 1.2589139 | N24: =(J24+K24)*$V$1 -> 1.021545 | O24: =J24+K24 -> 0.56438949 | P24: =J24+K24 -> 0.56438949 | Q24: =J24+K24 -> 0.56438949 | R24: =산출기초조사서!I26 -> 10.56 | S24: =ROUND(Q24/R24,2) -> 0.05 | V24: =D24*800 -> 1131.608 | X24: =L24-H24 -> 0.56438949 | AB24: =(C24*100)/25 -> 4 | AE24: =SUMIF('라-1.1-0-1 GPS좌표 및 흉고(소구역-해송)'!$C$4:$C$153,"46",'라-1.1-0-1 GPS좌표 및 흉고(소구역-해송)'!$K$4:$K$153) -> 1
A25: 48 | C25: =SUMIF('라-1.1-0-1 GPS좌표 및 흉고(소구역-해송)'!$C$4:$C$153,A25,'라-1.1-0-1 GPS좌표 및 흉고(소구역-해송)'!$K$4:$K$153) -> 0 | D25: =IF(B25="","",INDEX(수간재적표!$C$2:$AX$427,$U$1+B25-2,A25/2-2)) | H25: =E25*G25/100 -> 0 | J25: =E25-H25 -> 0 | K25: =E25*F25/100 -> 0 | L25: =SUM(K25,E25) -> 0 | M25: =H25 -> 0 | N25: =(J25+K25)*$V$1 -> 0 | O25: =J25+K25 -> 0 | P25: =J25+K25 -> 0 | Q25: =J25+K25 -> 0 | R25: =산출기초조사서!$I$27 -> 10.73 | S25: =ROUND(Q25/R25,2) -> 0 | V25: =D25*800 -> #VALUE! | X25: =L25-H25 -> 0 | AB25: =(C25*100)/25 -> 0 | AE25: =SUMIF('라-1.1-0-1 GPS좌표 및 흉고(소구역-해송)'!$C$4:$C$153,"48",'라-1.1-0-1 GPS좌표 및 흉고(소구역-해송)'!$K$4:$K$153) -> 0
A26: 50 | B26: 22 | C26: =SUMIF('라-1.1-0-1 GPS좌표 및 흉고(소구역-해송)'!$C$4:$C$153,A26,'라-1.1-0-1 GPS좌표 및 흉고(소구역-해송)'!$K$4:$K$153) -> 1 | D26: =IF(B26="","",INDEX(수간재적표!$C$2:$AX$427,$U$1+B26-2,A26/2-2)) -> 1.62619 | E26: =C26*D26 -> 1.62619 | F26: 28.9 | G26: =조재율표!H25*$W$1 -> 89 | H26: =E26*G26/100 -> 1.4473091 | J26: =E26-H26 -> 0.1788809 | K26: =E26*F26/100 -> 0.46996891 | L26: =SUM(K26,E26) -> 2.0961589 | M26: =H26 -> 1.4473091 | N26: =(J26+K26)*$V$1 -> 1.1744182 | O26: =J26+K26 -> 0.64884981 | P26: =J26+K26 -> 0.64884981 | Q26: =J26+K26 -> 0.64884981 | V26: =D26*800 -> 1300.952 | X26: =L26-H26 -> 0.64884981 | AB26: =(C26*100)/25 -> 4 | AE26: =SUMIF('라-1.1-0-1 GPS좌표 및 흉고(소구역-해송)'!$C$4:$C$153,"50",'라-1.1-0-1 GPS좌표 및 흉고(소구역-해송)'!$K$4:$K$153) -> 1
A27: 52 | C27: =SUMIF('라-1.1-0-1 GPS좌표 및 흉고(소구역-해송)'!$C$4:$C$153,A27,'라-1.1-0-1 GPS좌표 및 흉고(소구역-해송)'!$K$4:$K$153) -> 0 | D27: =IF(B27="","",INDEX(수간재적표!$C$2:$AX$427,$U$1+B27-2,A27/2-2)) | H27: =E27*G27/100 -> 0 | J27: =E27-H27 -> 0 | K27: =E27*F27/100 -> 0 | L27: =SUM(K27,E27) -> 0 | M27: =H27 -> 0 | N27: =(J27+K27)*$V$1 -> 0 | O27: =J27+K27 -> 0 | P27: =J27+K27 -> 0 | Q27: =J27+K27 -> 0 | R27: =산출기초조사서!$I$27 -> 10.73 | S27: =ROUND(Q27/R27,2) -> 0 | X27: =L27-H27 -> 0 | AB27: =(C27*100)/25 -> 0 | AE27: =SUMIF('라-1.1-0-1 GPS좌표 및 흉고(소구역-해송)'!$C$4:$C$153,"52",'라-1.1-0-1 GPS좌표 및 흉고(소구역-해송)'!$K$4:$K$153) -> 0
A28: 54 | C28: =SUMIF('라-1.1-0-1 GPS좌표 및 흉고(소구역-해송)'!$C$4:$C$153,A28,'라-1.1-0-1 GPS좌표 및 흉고(소구역-해송)'!$K$4:$K$153) -> 0 | D28: =IF(B28="","",INDEX(수간재적표!$C$2:$AX$427,$U$1+B28-2,A28/2-2)) | H28: =E28*G28/100 -> 0 | J28: =E28-H28 -> 0 | K28: =E28*F28/100 -> 0 | L28: =SUM(K28,E28) -> 0 | M28: =H28 -> 0 | N28: =(J28+K28)*$V$1 -> 0 | O28: =J28+K28 -> 0 | P28: =J28+K28 -> 0 | Q28: =J28+K28 -> 0 | X28: =L28-H28 -> 0 | AB28: =(C28*100)/25 -> 0 | AE28: =SUMIF('라-1.1-0-1 GPS좌표 및 흉고(소구역-해송)'!$C$4:$C$153,"54",'라-1.1-0-1 GPS좌표 및 흉고(소구역-해송)'!$K$4:$K$153) -> 0
A29: 56 | B29: 23 | C29: =SUMIF('라-1.1-0-1 GPS좌표 및 흉고(소구역-해송)'!$C$4:$C$153,A29,'라-1.1-0-1 GPS좌표 및 흉고(소구역-해송)'!$K$4:$K$153) -> 1 | D29: =IF(B29="","",INDEX(수간재적표!$C$2:$AX$427,$U$1+B29-2,A29/2-2)) -> 2.04825 | E29: =C29*D29 -> 2.04825 | F29: 28.9 | G29: =조재율표!H28*$W$1 -> 90 | H29: =E29*G29/100 -> 1.843425 | J29: =E29-H29 -> 0.204825 | K29: =E29*F29/100 -> 0.59194425 | L29: =SUM(K29,E29) -> 2.6401942 | M29: =H29 -> 1.843425 | N29: =(J29+K29)*$V$1 -> 1.4421523 | O29: =J29+K29 -> 0.79676925 | P29: =J29+K29 -> 0.79676925 | Q29: =J29+K29 -> 0.79676925 | X29: =L29-H29 -> 0.79676925 | AB29: =(C29*100)/25 -> 4 | AE29: =SUMIF('라-1.1-0-1 GPS좌표 및 흉고(소구역-해송)'!$C$4:$C$153,"56",'라-1.1-0-1 GPS좌표 및 흉고(소구역-해송)'!$K$4:$K$153) -> 1
A30: 58 | C30: =SUMIF('라-1.1-0-1 GPS좌표 및 흉고(소구역-해송)'!$C$4:$C$153,A30,'라-1.1-0-1 GPS좌표 및 흉고(소구역-해송)'!$K$4:$K$153) -> 0 | D30: =IF(B30="","",INDEX(수간재적표!$C$2:$AX$427,$U$1+B30-2,A30/2-2)) | H30: =E30*G30/100 -> 0 | J30: =E30-H30 -> 0 | K30: =E30*F30/100 -> 0 | L30: =SUM(K30,E30) -> 0 | M30: =H30 -> 0 | N30: =(J30+K30)*$V$1 -> 0 | O30: =J30+K30 -> 0 | P30: =J30+K30 -> 0 | Q30: =J30+K30 -> 0 | V30: =D30*800 -> #VALUE! | X30: =L30-H30 -> 0 | AB30: =(C30*100)/25 -> 0 | AE30: =SUMIF('라-1.1-0-1 GPS좌표 및 흉고(소구역-해송)'!$C$4:$C$153,"58",'라-1.1-0-1 GPS좌표 및 흉고(소구역-해송)'!$K$4:$K$153) -> 0
A31: 60 | C31: =SUMIF('라-1.1-0-1 GPS좌표 및 흉고(소구역-해송)'!$C$4:$C$153,A31,'라-1.1-0-1 GPS좌표 및 흉고(소구역-해송)'!$K$4:$K$153) -> 0 | D31: =IF(B31="","",INDEX(수간재적표!$C$2:$AX$427,$U$1+B31-2,A31/2-2)) | H31: =E31*G31/100 -> 0 | J31: =E31-H31 -> 0 | K31: =E31*F31/100 -> 0 | L31: =SUM(K31,E31) -> 0 | M31: =H31 -> 0 | N31: =(J31+K31)*$V$1 -> 0 | O31: =J31+K31 -> 0 | P31: =J31+K31 -> 0 | Q31: =J31+K31 -> 0 | X31: =L31-H31 -> 0 | AB31: =(C31*100)/25 -> 0 | AE31: =SUM(AE4:AE30) -> 149
A32: 62 | B32: 24 | C32: =SUMIF('라-1.1-0-1 GPS좌표 및 흉고(소구역-해송)'!$C$4:$C$153,A32,'라-1.1-0-1 GPS좌표 및 흉고(소구역-해송)'!$K$4:$K$153) -> 1 | D32: =IF(B32="","",INDEX(수간재적표!$C$2:$AX$427,$U$1+B32-2,A32/2-2)) -> 2.51782 | E32: =C32*D32 -> 2.51782 | F32: 28.9 | G32: =조재율표!$H$30*$W$1 -> 90 | H32: =E32*G32/100 -> 2.266038 | J32: =E32-H32 -> 0.251782 | K32: =E32*F32/100 -> 0.72764998 | L32: =SUM(K32,E32) -> 3.24547 | M32: =H32 -> 2.266038 | N32: =(J32+K32)*$V$1 -> 1.7727719 | O32: =J32+K32 -> 0.97943198 | P32: =J32+K32 -> 0.97943198 | Q32: =J32+K32 -> 0.97943198 | R32: =산출기초조사서!$I$27 -> 10.73 | S32: =ROUND(Q32/R32,2) -> 0.09 | X32: =L32-H32 -> 0.97943198 | AB32: =(C32*100)/25 -> 4
A33: 64 | C33: =SUMIF('라-1.1-0-1 GPS좌표 및 흉고(소구역-해송)'!$C$4:$C$153,A33,'라-1.1-0-1 GPS좌표 및 흉고(소구역-해송)'!$K$4:$K$153) -> 0 | D33: =IF(B33="","",INDEX(수간재적표!$C$2:$AX$427,$U$1+B33-2,A33/2-2)) | H33: =E33*G33/100 -> 0 | J33: =E33-H33 -> 0 | K33: =E33*F33/100 -> 0 | L33: =SUM(K33,E33) -> 0 | M33: =H33 -> 0 | N33: =(J33+K33)*$V$1 -> 0 | O33: =J33+K33 -> 0 | P33: =J33+K33 -> 0 | Q33: =J33+K33 -> 0 | X33: =L33-H33 -> 0 | AB33: =(C33*100)/25 -> 0
A34: 66 | D34: =IF(B34="","",INDEX(수간재적표!$C$2:$AX$427,$U$1+B34-2,A34/2-2)) | H34: =E34*G34/100 -> 0 | J34: =E34-H34 -> 0 | K34: =E34*F34/100 -> 0 | L34: =SUM(K34,E34) -> 0 | M34: =H34 -> 0 | N34: =(J34+K34)*$V$1 -> 0 | O34: =J34+K34 -> 0 | P34: =J34+K34 -> 0 | Q34: =J34+K34 -> 0 | X34: =L34-H34 -> 0 | AB34: =(C34*100)/25 -> 0
A35: 68 | D35: =IF(B35="","",INDEX(수간재적표!$C$2:$AX$427,$U$1+B35-2,A35/2-2)) | H35: =E35*G35/100 -> 0 | J35: =E35-H35 -> 0 | K35: =E35*F35/100 -> 0 | L35: =SUM(K35,E35) -> 0 | M35: =H35 -> 0 | N35: =(J35+K35)*$V$1 -> 0 | O35: =J35+K35 -> 0 | P35: =J35+K35 -> 0 | X35: =L35-H35 -> 0 | AB35: =(C35*100)/35 -> 0
A36: 70 | C36: =SUMIF('라-1.1-0-1 GPS좌표 및 흉고(소구역-해송)'!$C$4:$C$153,A36,'라-1.1-0-1 GPS좌표 및 흉고(소구역-해송)'!$K$4:$K$153) -> 0 | D36: =IF(B36="","",INDEX(수간재적표!$C$2:$AX$427,$U$1+B36-2,A36/2-2)) | H36: =E36*G36/100 -> 0 | J36: =E36-H36 -> 0 | K36: =E36*F36/100 -> 0 | L36: =SUM(K36,E36) -> 0 | M36: =H36 -> 0 | N36: =(J36+K36)*$V$1 -> 0 | O36: =J36+K36 -> 0 | P36: =J36+K36 -> 0 | X36: =L36-H36 -> 0
A37: 72 | C37: =SUMIF('라-1.1-0-1 GPS좌표 및 흉고(소구역-해송)'!$C$4:$C$153,A37,'라-1.1-0-1 GPS좌표 및 흉고(소구역-해송)'!$K$4:$K$153) -> 0 | D37: =IF(B37="","",INDEX(수간재적표!$C$2:$AX$427,$U$1+B37-2,A37/2-2)) | H37: =E37*G37/100 -> 0 | J37: =E37-H37 -> 0 | K37: =E37*F37/100 -> 0 | L37: =SUM(K37,E37) -> 0 | M37: =H37 -> 0 | N37: =(J37+K37)*$V$1 -> 0 | O37: =J37+K37 -> 0
A38: 74 | C38: =SUMIF('라-1.1-0-1 GPS좌표 및 흉고(소구역-해송)'!$C$4:$C$153,A38,'라-1.1-0-1 GPS좌표 및 흉고(소구역-해송)'!$K$4:$K$153) -> 0 | D38: =IF(B38="","",INDEX(수간재적표!$C$2:$AX$427,$U$1+B38-2,A38/2-2)) | H38: =E38*G38/100 -> 0 | J38: =E38-H38 -> 0 | K38: =E38*F38/100 -> 0 | L38: =SUM(K38,E38) -> 0 | M38: =H38 -> 0 | N38: =(J38+K38)*$V$1 -> 0 | O38: =J38+K38 -> 0
A39: 76 | C39: =SUMIF('라-1.1-0-1 GPS좌표 및 흉고(소구역-해송)'!$C$4:$C$153,A39,'라-1.1-0-1 GPS좌표 및 흉고(소구역-해송)'!$K$4:$K$153) -> 0 | D39: =IF(B39="","",INDEX([412]수간재적표!$C$2:$AX$427,$U$1+B39-2,A39/2-2)) | H39: =E39*G39/100 -> 0 | J39: =E39-H39 -> 0 | K39: =E39*F39/100 -> 0 | L39: =SUM(K39,E39) -> 0 | M39: =H39 -> 0 | N39: =(J39+K39)*$V$1 -> 0 | O39: =J39+K39 -> 0
A40: 78 | C40: =SUMIF('라-1.1-0-1 GPS좌표 및 흉고(소구역-해송)'!$C$4:$C$153,A40,'라-1.1-0-1 GPS좌표 및 흉고(소구역-해송)'!$K$4:$K$153) -> 0 | D40: =IF(B40="","",INDEX([412]수간재적표!$C$2:$AX$427,$U$1+B40-2,A40/2-2)) | H40: =E40*G40/100 -> 0 | J40: =E40-H40 -> 0 | K40: =E40*F40/100 -> 0 | L40: =SUM(K40,E40) -> 0 | M40: =H40 -> 0 | N40: =(J40+K40)*$V$1 -> 0 | O40: =J40+K40 -> 0
A41: 80 | C41: =SUMIF('라-1.1-0-1 GPS좌표 및 흉고(소구역-해송)'!$C$4:$C$153,A41,'라-1.1-0-1 GPS좌표 및 흉고(소구역-해송)'!$K$4:$K$153) -> 0 | D41: =IF(B41="","",INDEX([412]수간재적표!$C$2:$AX$427,$U$1+B41-2,A41/2-2)) | H41: =E41*G41/100 -> 0 | J41: =E41-H41 -> 0 | K41: =E41*F41/100 -> 0 | L41: =SUM(K41,E41) -> 0 | M41: =H41 -> 0 | N41: =(J41+K41)*$V$1 -> 0 | O41: =J41+K41 -> 0
A42: 합계 | C42: =SUM(C4:C41) -> 150 | E42: =SUM(E4:E41) -> 70.84817 | H42: =SUM(H4:H41) -> 61.087187 | J42: =SUM(J4:J41) -> 9.7609827 | K42: =SUM(K4:K41) -> 20.475121 | L42: =SUM(L4:L41) -> 91.323291 | M42: =SUM(M4:M41) -> 61.087187 | N42: =SUM(N4:N41) -> 54.727348 | O42: =SUM(O4:O41) -> 30.236104 | P42: =SUM(P4:P36) -> 30.236104 | Q42: =SUM(Q4:Q36) -> 30.236104 | R42: =SUM(R4:R36) -> 218.92 | S42: =SUM(S4:S36) -> 3.06 | X42: =SUM(X4:X41) -> 30.236104
O45: =O42+'[412]다-2.1-0-1 수량산출(단목-해송)'!O42+'[412]다-4.1-0-1 수량산출(위험목-소나무)'!O42+'[412]다-5.1-0-1 수량산출(위험목-해송)'!O42 -> #VALUE!
C47: =C42+'[412]다-2.1-0-1 수량산출(단목-해송)'!C42 -> 150 | X47: =189+306+1 -> 496
E50: =E42+'[412]다-2.1-0-1 수량산출(단목-해송)'!E42+'[412]다-3.1-0-1 수량산출(위험목-잣나무)'!E42 -> #VALUE!

Sheet 라-1.1-0-1 GPS좌표 및 흉고(소구역-해송)
A1: 1-0-1 소구역모두베기 GPS좌표 및 흉고-(해송) | M1: =H160 -> 19
A2: 순번 | B2: 일련번호 | C2: 경급 (㎝) | D2: GRS80좌표-(TM 중부) | F2: 주 소 | G2: 피해고사목 | H2: 기타고사목 | I2: 비병징목 | J2: 비고
D3: x | E3: y | F3: 읍면동리 | M3: ○
A4: 1 | B4: B5_1500419 | C4: 20 | D4: 173409 | E4: 279044 | F4: 노안면 계림리 산 95 | I4: ○ | J4: 비병징목 | K4: 1 | L4: 일반목
A5: 2 | B5: B5_1500418 | C5: 16 | D5: 173401 | E5: 279045 | F5: 노안면 계림리 산 95 | I5: ○ | J5: 비병징목 | K5: 1 | L5: 일반목
A6: 3 | B6: B5_1500417 | C6: 26 | D6: 173404 | E6: 279041 | F6: 노안면 계림리 산 95 | H6: ○ | J6: 기타고사목 | K6: 1 | L6: 일반목
A7: 4 | B7: B5_1500416 | C7: 22 | D7: 173406 | E7: 279042 | F7: 노안면 계림리 산 95 | I7: ○ | J7: 비병징목 | K7: 1 | L7: 일반목
A8: 5 | B8: B5_1747888 | C8: 30 | D8: 173407 | E8: 279035 | F8: 노안면 계림리 산 95 | I8: ○ | J8: 비병징목 | K8: 1 | L8: 일반목
A9: 6 | B9: B5_1747887 | C9: 28 | D9: 173408 | E9: 279035 | F9: 노안면 계림리 산 95 | I9: ○ | J9: 비병징목 | K9: 1 | L9: 일반목
A10: 7 | B10: B5_1747886 | C10: 30 | D10: 173402 | E10: 279035 | F10: 노안면 계림리 산 95 | I10: ○ | J10: 비병징목 | K10: 1 | L10: 일반목
A11: 8 | B11: B5_1500415 | C11: 24 | D11: 173399 | E11: 279032 | F11: 노안면 계림리 산 95 | I11: ○ | J11: 비병징목 | K11: 1 | L11: 일반목
A12: 9 | B12: B5_1500414 | C12: 22 | D12: 173400 | E12: 279037 | F12: 노안면 계림리 산 95 | I12: ○ | J12: 비병징목 | K12: 1 | L12: 일반목
A13: 10 | B13: B5_1500413 | C13: 14 | D13: 173395 | E13: 279029 | F13: 노안면 계림리 산 95 | I13: ○ | J13: 비병징목 | K13: 1 | L13: 일반목
A14: 11 | B14: B5_1500412 | C14: 14 | D14: 173391 | E14: 279033 | F14: 노안면 계림리 산 95 | I14: ○ | J14: 비병징목 | K14: 1 | L14: 일반목
A15: 12 | B15: B5_1500411 | C15: 26 | D15: 173387 | E15: 279036 | F15: 노안면 계림리 산 95 | I15: ○ | J15: 비병징목 | K15: 1 | L15: 일반목
A16: 13 | B16: B5_1500410 | C16: 18 | D16: 173383 | E16: 279036 | F16: 노안면 계림리 산 95 | I16: ○ | J16: 비병징목 | K16: 1 | L16: 일반목
A17: 14 | B17: B5_1500409 | C17: 26 | D17: 173383 | E17: 279038 | F17: 노안면 계림리 산 95 | I17: ○ | J17: 비병징목 | K17: 1 | L17: 일반목
A18: 15 | B18: B5_1500408 | C18: 22 | D18: 173383 | E18: 279036 | F18: 노안면 계림리 산 95 | I18: ○ | J18: 비병징목 | K18: 1 | L18: 일반목
... A37: 34 | B37: B5_1500395 | C37: 16 | D37: 173390 | E37: 279018 | F37: 노안면 계림리 산 95 | I37: ○ | J37: 비병징목 | K37: 1 | L37: 일반목
A38: 35 | B38: B5_1746697 | C38: 38 | D38: 173395 | E38: 279012 | F38: 노안면 계림리 산 95 | H38: ○ | J38: 기타고사목 | K38: 1 | L38: 일반목
A39: 36 | B39: B5_1746696 | C39: 42 | D39: 173391 | E39: 279010 | F39: 노안면 계림리 산 95 | I39: ○ | J39: 비병징목 | K39: 1 | L39: 일반목
A40: 37 | B40: B5_1500394 | C40: 24 | D40: 173394 | E40: 279005 | F40: 노안면 계림리 산 95 | I40: ○ | J40: 비병징목 | K40: 1 | L40: 일반목
A41: 38 | B41: B5_1746695 | C41: 30 | D41: 173391 | E41: 279004 | F41: 노안면 계림리 산 95 | I41: ○ | J41: 비병징목 | K41: 1 | L41: 일반목
A42: 39 | B42: B5_1746694 | C42: 38 | D42: 173395 | E42: 279006 | F42: 노안면 계림리 산 95 | I42: ○ | J42: 비병징목 | K42: 1 | L42: 일반목
A43: 40 | B43: B5_1500393 | C43: 28 | D43: 173402 | E43: 279021 | F43: 노안면 계림리 산 95 | I43: ○ | J43: 비병징목 | K43: 1 | L43: 일반목
A44: 41 | B44: B5_1500392 | C44: 18 | D44: 173401 | E44: 279020 | F44: 노안면 계림리 산 95 | I44: ○ | J44: 비병징목 | K44: 1 | L44: 일반목
A45: 42 | B45: B5_1500391 | C45: 16 | D45: 173400 | E45: 279022 | F45: 노안면 계림리 산 95 | I45: ○ | J45: 비병징목 | K45: 1 | L45: 일반목
A46: 43 | B46: B5_1746693 | C46: 30 | D46: 173401 | E46: 279018 | F46: 노안면 계림리 산 95 | I46: ○ | J46: 비병징목 | K46: 1 | L46: 일반목
A47: 44 | B47: B5_1746692 | C47: 44 | D47: 173392 | E47: 279029 | F47: 노안면 계림리 산 95 | H47: ○ | J47: 기타고사목 | K47: 1 | L47: 일반목
A48: 45 | B48: B5_1504440 | C48: 14 | D48: 173399 | E48: 279026 | F48: 노안면 계림리 산 95 | I48: ○ | J48: 비병징목 | K48: 1 | L48: 일반목
A49: 46 | B49: B5_1504439 | C49: 20 | D49: 173400 | E49: 279027 | F49: 노안면 계림리 산 95 | I49: ○ | J49: 비병징목 | K49: 1 | L49: 일반목
A50: 47 | B50: B5_1746691 | C50: 42 | D50: 173404 | E50: 279022 | F50: 노안면 계림리 산 95 | I50: ○ | J50: 비병징목 | K50: 1 | L50: 일반목
A51: 48 | B51: B5_1504438 | C51: 28 | D51: 173400 | E51: 279023 | F51: 노안면 계림리 산 95 | I51: ○ | J51: 비병징목 | K51: 1 | L51: 일반목
A52: 49 | B52: B5_1504437 | C52: 24 | D52: 173402 | E52: 279016 | F52: 노안면 계림리 산 95 | I52: ○ | J52: 비병징목 | K52: 1 | L52: 일반목
A53: 50 | B53: B5_1504436 | C53: 20 | D53: 173409 | E53: 279017 | F53: 노안면 계림리 산 95 | I53: ○ | J53: 비병징목 | K53: 1 | L53: 일반목
A54: 51 | B54: B5_1746690 | C54: 46 | D54: 173411 | E54: 279025 | F54: 노안면 계림리 산 95 | I54: ○ | J54: 비병징목 | K54: 1 | L54: 일반목
A55: 52 | B55: B5_1746689 | C55: 28 | D55: 173410 | E55: 279026 | F55: 노안면 계림리 산 95 | I55: ○ | J55: 비병징목 | K55: 1 | L55: 일반목
A56: 53 | B56: B5_1746687 | C56: 42 | D56: 173416 | E56: 279006 | F56: 노안면 계림리 산 95 | I56: ○ | J56: 비병징목 | K56: 1 | L56: 일반목
A57: 54 | B57: B5_1500112 | C57: 20 | D57: 173472 | E57: 279000 | F57: 노안면 계림리 산 97 | I57: ○ | J57: 비병징목 | K57: 1 | L57: 일반목
A58: 55 | B58: B5_1500110 | C58: 12 | D58: 173481 | E58: 279007 | F58: 노안면 계림리 산 97 | H58: ○ | J58: 기타고사목 | K58: 1 | L58: 일반목
A59: 56 | B59: B5_1500106 | C59: 24 | D59: 173494 | E59: 279010 | F59: 노안면 계림리 산 97 | I59: ○ | J59: 비병징목 | K59: 1 | L59: 일반목
A60: 57 | B60: B5_1500103 | C60: 16 | D60: 173504 | E60: 279008 | F60: 노안면 계림리 산 99 | I60: ○ | J60: 비병징목 | K60: 1 | L60: 일반목
A61: 58 | B61: B5_1500101 | C61: 14 | D61: 173478 | E61: 279060 | F61: 노안면 계림리 산 97 | I61: ○ | J61: 비병징목 | K61: 1 | L61: 일반목
A62: 59 | B62: B5_1746326 | C62: 30 | D62: 173473 | E62: 279046 | F62: 노안면 계림리 산 97 | I62: ○ | J62: 비병징목 | K62: 1 | L62: 일반목
A63: 60 | B63: B5_1746324 | C63: 36 | D63: 173474 | E63: 279032 | F63: 노안면 계림리 산 97 | I63: ○ | J63: 비병징목 | K63: 1 | L63: 일반목
A64: 61 | B64: B5_1746323 | C64: 30 | D64: 173471 | E64: 279028 | F64: 노안면 계림리 산 97 | I64: ○ | J64: 비병징목 | K64: 1 | L64: 일반목
A65: 62 | B65: B5_1500100 | C65: 22 | D65: 173477 | E65: 279023 | F65: 노안면 계림리 산 97 | H65: ○ | J65: 기타고사목 | K65: 1 | L65: 일반목
A66: 63 | B66: B5_1746322 | C66: 44 | D66: 173474 | E66: 279026 | F66: 노안면 계림리 산 97 | I66: ○ | J66: 비병징목 | K66: 1 | L66: 일반목
A67: 64 | B67: B5_1500150 | C67: 20 | D67: 173470 | E67: 278987 | F67: 노안면 계림리 산 99 | I67: ○ | J67: 비병징목 | K67: 1 | L67: 일반목
A68: 65 | B68: B5_1746537 | C68: 42 | D68: 173475 | E68: 278974 | F68: 노안면 계림리 산 99 | H68: ○ | J68: 기타고사목 | K68: 1 | L68: 일반목
A69: 66 | B69: B5_1500144 | C69: 10 | D69: 173469 | E69: 278968 | F69: 노안면 계림리 산 99 | I69: ○ | J69: 비병징목 | K69: 1 | L69: 일반목
A70: 67 | B70: B5_1500142 | C70: 20 | D70: 173464 | E70: 278957 | F70: 노안면 계림리 산 99 | I70: ○ | J70: 비병징목 | K70: 1 | L70: 일반목
A71: 68 | B71: B5_1500138 | C71: 16 | D71: 173472 | E71: 278960 | F71: 노안면 계림리 산 99 | H71: ○ | J71: 기타고사목 | K71: 1 | L71: 일반목
A72: 69 | B72: B5_1500137 | C72: 22 | D72: 173480 | E72: 278962 | F72: 노안면 계림리 산 99 | H72: ○ | J72: 기타고사목 | K72: 1 | L72: 일반목
A73: 70 | B73: B5_1500136 | C73: 12 | D73: 173474 | E73: 278962 | F73: 노안면 계림리 산 99 | H73: ○ | J73: 기타고사목 | K73: 1 | L73: 일반목
A74: 71 | B74: B5_1500134 | C74: 22 | D74: 173476 | E74: 278957 | F74: 노안면 계림리 산 99 | I74: ○ | J74: 비병징목 | K74: 1 | L74: 일반목
A75: 72 | B75: B5_1500133 | C75: 20 | D75: 173479 | E75: 278958 | F75: 노안면 계림리 산 99 | I75: ○ | J75: 비병징목 | K75: 1 | L75: 일반목
A76: 73 | B76: B5_1500130 | C76: 16 | D76: 173476 | E76: 278950 | F76: 노안면 계림리 산 99 | I76: ○ | J76: 비병징목 | K76: 1 | L76: 일반목
A77: 74 | B77: B5_1500124 | C77: 18 | D77: 173464 | E77: 278932 | F77: 노안면 계림리 산 99 | H77: ○ | J77: 기타고사목 | K77: 1 | L77: 일반목
A78: 75 | B78: B5_1500123 | C78: 24 | D78: 173465 | E78: 278932 | F78: 노안면 계림리 산 99 | H78: ○ | J78: 기타고사목 | K78: 1 | L78: 일반목
A79: 76 | B79: B5_1500122 | C79: 24 | D79: 173465 | E79: 278939 | F79: 노안면 계림리 산 99 | I79: ○ | J79: 비병징목 | K79: 1 | L79: 일반목
A80: 77 | B80: B5_1500121 | C80: 18 | D80: 173463 | E80: 278947 | F80: 노안면 계림리 산 99 | H80: ○ | J80: 기타고사목 | K80: 1 | L80: 일반목
A81: 78 | B81: B5_1746526 | C81: 30 | D81: 173472 | E81: 278941 | F81: 노안면 계림리 산 99 | H81: ○ | J81: 기타고사목 | K81: 1 | L81: 일반목
A82: 79 | B82: B5_1746525 | C82: 32 | D82: 173489 | E82: 278933 | F82: 노안면 계림리 산 99 | H82: ○ | J82: 기타고사목 | K82: 1 | L82: 일반목
A83: 80 | B83: B5_1746524 | C83: 34 | D83: 173488 | E83: 278933 | F83: 노안면 계림리 산 99 | H83: ○ | J83: 기타고사목 | K83: 1 | L83: 일반목
A84: 81 | B84: B5_1746523 | C84: 34 | D84: 173495 | E84: 278931 | F84: 노안면 계림리 산 99 | H84: ○ | J84: 기타고사목 | K84: 1 | L84: 일반목
A85: 82 | B85: B5_1746522 | C85: 28 | D85: 173495 | E85: 278931 | F85: 노안면 계림리 산 99 | H85: ○ | J85: 기타고사목 | K85: 1 | L85: 일반목
A86: 83 | B86: B5_1746521 | C86: 36 | D86: 173483 | E86: 278935 | F86: 노안면 계림리 산 99 | I86: ○ | J86: 비병징목 | K86: 1 | L86: 일반목
A87: 84 | B87: B5_1504435 | C87: 16 | D87: 173419 | E87: 279022 | F87: 노안면 계림리 산 95 | I87: ○ | J87: 비병징목 | K87: 1 | L87: 일반목
A88: 85 | B88: B5_1746688 | C88: 38 | D88: 173416 | E88: 279027 | F88: 노안면 계림리 산 95 | I88: ○ | J88: 비병징목 | K88: 1 | L88: 일반목
A89: 86 | B89: B5_1746329 | C89: 32 | D89: 173476 | E89: 279063 | F89: 노안면 계림리 산 97 | I89: ○ | J89: 비병징목 | K89: 1 | L89: 일반목
A90: 87 | B90: B5_1746328 | C90: 28 | D90: 173478 | E90: 279054 | F90: 노안면 계림리 산 97 | I90: ○ | J90: 비병징목 | K90: 1 | L90: 일반목
A91: 88 | B91: B5_1746540 | C91: 40 | D91: 173471 | E91: 278989 | F91: 노안면 계림리 산 99 | I91: ○ | J91: 비병징목 | K91: 1 | L91: 일반목
A92: 89 | B92: B5_1500143 | C92: 16 | D92: 173467 | E92: 278966 | F92: 노안면 계림리 산 99 | I92: ○ | J92: 비병징목 | K92: 1 | L92: 일반목
A93: 90 | B93: B5_1500126 | C93: 26 | D93: 173467 | E93: 278955 | F93: 노안면 계림리 산 99 | I93: ○ | J93: 비병징목 | K93: 1 | L93: 일반목
A94: 91 | B94: B5_1746531 | C94: 50 | D94: 173463 | E94: 278950 | F94: 노안면 계림리 산 99 | I94: ○ | J94: 비병징목 | K94: 1 | L94: 일반목
A95: 92 | B95: B5_1500125 | C95: 14 | D95: 173461 | E95: 278944 | F95: 노안면 계림리 산 99 | I95: ○ | J95: 비병징목 | K95: 1 | L95: 일반목
A96: 93 | B96: B5_1504433 | C96: 12 | D96: 172578 | E96: 278095 | F96: 노안면 안산리 771-2 | I96: ○ | J96: 비병징목 | K96: 1 | L96: 일반목
A97: 94 | B97: B5_1747890 | C97: 44 | D97: 177907 | E97: 275192 | F97: 노안면 학산리 산 42-6 | I97: ○ | J97: 비병징목 | K97: 1 | L97: 일반목
... A135: 132 | B135: B5_1500073 | C135: 20 | D135: 177859 | E135: 275175 | F135: 노안면 학산리 산 42-6 | I135: ○ | J135: 비병징목 | K135: 1 | L135: 일반목
A136: 133 | B136: B5_1500072 | C136: 14 | D136: 177853 | E136: 275172 | F136: 노안면 학산리 산 42-6 | H136: ○ | J136: 기타고사목 | K136: 1 | L136: 일반목
A137: 134 | B137: B5_1500071 | C137: 28 | D137: 177865 | E137: 275173 | F137: 노안면 학산리 산 42-6 | I137: ○ | J137: 비병징목 | K137: 1 | L137: 일반목
A138: 135 | B138: B5_1500070 | C138: 14 | D138: 177859 | E138: 275174 | F138: 노안면 학산리 산 42-6 | H138: ○ | J138: 기타고사목 | K138: 1 | L138: 일반목
A139: 136 | B139: B5_1747898 | C139: 42 | D139: 177863 | E139: 275174 | F139: 노안면 학산리 산 42-6 | I139: ○ | J139: 비병징목 | K139: 1 | L139: 일반목
A140: 137 | B140: B5_1747897 | C140: 42 | D140: 177873 | E140: 275178 | F140: 노안면 학산리 산 42-6 | I140: ○ | J140: 비병징목 | K140: 1 | L140: 일반목
A141: 138 | B141: B5_1747896 | C141: 42 | D141: 177873 | E141: 275179 | F141: 노안면 학산리 산 42-6 | I141: ○ | J141: 비병징목 | K141: 1 | L141: 일반목
A142: 139 | B142: B5_1500069 | C142: 22 | D142: 177876 | E142: 275176 | F142: 노안면 학산리 산 42-6 | I142: ○ | J142: 비병징목 | K142: 1 | L142: 일반목
A143: 140 | B143: B5_1747895 | C143: 42 | D143: 177874 | E143: 275179 | F143: 노안면 학산리 산 42-6 | I143: ○ | J143: 비병징목 | K143: 1 | L143: 일반목
A144: 141 | B144: B5_1500068 | C144: 18 | D144: 177874 | E144: 275182 | F144: 노안면 학산리 산 42-6 | I144: ○ | J144: 비병징목 | K144: 1 | L144: 일반목
A145: 142 | B145: B5_1500067 | C145: 18 | D145: 177877 | E145: 275182 | F145: 노안면 학산리 산 42-6 | I145: ○ | J145: 비병징목 | K145: 1 | L145: 일반목
A146: 143 | B146: B5_1500066 | C146: 22 | D146: 177890 | E146: 275181 | F146: 노안면 학산리 산 42-6 | I146: ○ | J146: 비병징목 | K146: 1 | L146: 일반목
A147: 144 | B147: B5_1500065 | C147: 26 | D147: 177888 | E147: 275186 | F147: 노안면 학산리 산 42-6 | I147: ○ | J147: 비병징목 | K147: 1 | L147: 일반목
A148: 145 | B148: B5_1500064 | C148: 24 | D148: 177889 | E148: 275185 | F148: 노안면 학산리 산 42-6 | I148: ○ | J148: 비병징목 | K148: 1 | L148: 일반목
A149: 146 | B149: B5_1747894 | C149: 30 | D149: 177901 | E149: 275188 | F149: 노안면 학산리 산 42-6 | I149: ○ | J149: 비병징목 | K149: 1 | L149: 일반목
A150: 147 | B150: B5_1747893 | C150: 44 | D150: 177898 | E150: 275186 | F150: 노안면 학산리 산 42-6 | I150: ○ | J150: 비병징목 | K150: 1 | L150: 일반목
... A153: 150 | B153: B5_1747891 | C153: 42 | D153: 177906 | E153: 275194 | F153: 노안면 학산리 산 42-6 | I153: ○ | J153: 비병징목 | K153: 1 | L153: 일반목
A154: 평균경급 | C154: =C158 -> 28
A157: 평균경급 | C157: =AVERAGE(C4:C153) -> 27.026667 | E157: =AVERAGE(C4:C153,'[412]라-2.1-0-1 GPS좌표 및 흉고(단목-해송)'!C4:C229,'[412]라-4.1-0-1 GPS좌표 및 흉고(위험목-소나무)'!C4:C76,'[412]라-3.1-0-1 GPS좌표 및 흉고(위험목-잣나무)'!C4,'[412]라-5.1-0-1 GPS좌표 및 흉고(위험목-해송)'!C4:C25) -> 26.887417
C158: 28 | F158: ㎝
G160: =COUNTA(G4:G153) -> 0 | H160: =COUNTA(H4:H153) -> 19 | I160: =COUNTA(I4:I153) -> 131 | J160: =SUM(G160:I160) -> 150
...

Sheet 수간재적표
B1: 흉고직경 수고 | C1: 6 | D1: 8 | E1: 10 | F1: 12 | G1: 14 | H1: 16 | I1: 18 | J1: 20 | K1: 22 | L1: 24 | M1: 26 | N1: 28 | O1: 30 | P1: 32 | Q1: 34 | R1: 36 | S1: 38 | T1: 40 | U1: 42 | V1: 44 | W1: 46 | X1: 48 | Y1: 50 | Z1: 52 | AA1: 54 | AB1: 56 | AC1: 58 | AD1: 60 | AE1: 62 | AF1: 64 | AG1: 66 | AH1: 68 | AI1: 70 | AJ1: 72 | AK1: 74 | AL1: 76 | AM1: 78 | AN1: 80 | AO1: 82 | AP1: 84 | AQ1: 86 | AR1: 88 | AS1: 90 | AT1: 92 | AU1: 94 | AV1: 96 | AW1: 98 | AX1: 100
A2: 잣나무-2024 | B2: 5 | C2: 0.00846 | D2: 0.01449 | E2: 0.02199 | F2: 0.03093 | G2: 0.04125 | H2: 0.05294 | I2: 0.06596 | J2: 0.08029 | K2: 0.09591 | L2: 0.1128 | M2: 0.13095 | N2: 0.15033 | O2: 0.17094 | P2: 0.19276 | Q2: 0.21578 | R2: 0.23997 | S2: 0.26534 | T2: 0.29187 | U2: 0.31956 | V2: 0.34838 | W2: 0.37833 | X2: 0.4094 | Y2: 0.44159 | Z2: 0.47487 | AA2: 0.50925 | AB2: 0.54472 | AC2: 0.58127 | AD2: 0.61888 | AE2: 0.65756 | AF2: 0.6973 | AG2: 0.73808 | AH2: 0.77991 | AI2: 0.82277 | AJ2: 0.86665 | AK2: 0.91156 | AL2: 0.95749 | AM2: 1.00442 | AN2: 1.05236 | AO2: 1.10129 | AP2: 1.15121 | AQ2: 1.20212 | AR2: 1.25401 | AS2: 1.30687 | AT2: 1.3607 | AU2: 1.41549 | AV2: 1.47124 | AW2: 1.52795 | AX2: 1.5856
B3: 6 | C3: 0.01012 | D3: 0.01734 | E3: 0.02633 | F3: 0.03702 | G3: 0.04938 | H3: 0.06337 | I3: 0.07896 | J3: 0.09611 | K3: 0.11481 | L3: 0.13504 | M3: 0.15676 | N3: 0.17997 | O3: 0.20464 | P3: 0.23076 | Q3: 0.25831 | R3: 0.28728 | S3: 0.31765 | T3: 0.34941 | U3: 0.38255 | V3: 0.41705 | W3: 0.45291 | X3: 0.49011 | Y3: 0.52864 | Z3: 0.56849 | AA3: 0.60965 | AB3: 0.65211 | AC3: 0.69586 | AD3: 0.74089 | AE3: 0.7872 | AF3: 0.83477 | AG3: 0.8836 | AH3: 0.93367 | AI3: 0.98498 | AJ3: 1.03752 | AK3: 1.09129 | AL3: 1.14627 | AM3: 1.20246 | AN3: 1.25985 | AO3: 1.31843 | AP3: 1.3782 | AQ3: 1.43915 | AR3: 1.50127 | AS3: 1.56455 | AT3: 1.629 | AU3: 1.6946 | AV3: 1.76135 | AW3: 1.82923 | AX3: 1.89825
B4: 7 | C4: 0.01179 | D4: 0.0202 | E4: 0.03067 | F4: 0.04312 | G4: 0.05752 | H4: 0.07381 | I4: 0.09196 | J4: 0.11195 | K4: 0.13373 | L4: 0.15728 | M4: 0.18259 | N4: 0.20962 | O4: 0.23835 | P4: 0.26878 | Q4: 0.30087 | R4: 0.33461 | S4: 0.36999 | T4: 0.40698 | U4: 0.44558 | V4: 0.48577 | W4: 0.52754 | X4: 0.57087 | Y4: 0.61574 | Z4: 0.66216 | AA4: 0.71011 | AB4: 0.75957 | AC4: 0.81053 | AD4: 0.86298 | AE4: 0.91692 | AF4: 0.97233 | AG4: 1.02921 | AH4: 1.08753 | AI4: 1.1473 | AJ4: 1.20851 | AK4: 1.27113 | AL4: 1.33518 | AM4: 1.40063 | AN4: 1.46748 | AO4: 1.53572 | AP4: 1.60534 | AQ4: 1.67634 | AR4: 1.7487 | AS4: 1.82242 | AT4: 1.89749 | AU4: 1.9739 | AV4: 2.05165 | AW4: 2.13073 | AX4: 2.21113
B5: 8 | C5: 0.01346 | D5: 0.02306 | E5: 0.035 | F5: 0.04922 | G5: 0.06565 | H5: 0.08425 | I5: 0.10498 | J5: 0.12779 | K5: 0.15265 | L5: 0.17954 | M5: 0.20842 | N5: 0.23928 | O5: 0.27208 | P5: 0.30681 | Q5: 0.34345 | R5: 0.38196 | S5: 0.42235 | T5: 0.46458 | U5: 0.50864 | V5: 0.55452 | W5: 0.6022 | X5: 0.65166 | Y5: 0.70289 | Z5: 0.75588 | AA5: 0.81061 | AB5: 0.86707 | AC5: 0.92525 | AD5: 0.98513 | AE5: 1.04671 | AF5: 1.10997 | AG5: 1.17489 | AH5: 1.24147 | AI5: 1.30971 | AJ5: 1.37957 | AK5: 1.45107 | AL5: 1.52418 | AM5: 1.5989 | AN5: 1.67521 | AO5: 1.75312 | AP5: 1.8326 | AQ5: 1.91365 | AR5: 1.99625 | AS5: 2.08041 | AT5: 2.16612 | AU5: 2.25335 | AV5: 2.34211 | AW5: 2.43239 | AX5: 2.52417
B6: 9 | C6: 0.01513 | D6: 0.02592 | E6: 0.03935 | F6: 0.05533 | G6: 0.0738 | H6: 0.0947 | I6: 0.11799 | J6: 0.14363 | K6: 0.17158 | L6: 0.2018 | M6: 0.23427 | N6: 0.26896 | O6: 0.30583 | P6: 0.34486 | Q6: 0.38604 | R6: 0.42934 | S6: 0.47473 | T6: 0.5222 | U6: 0.57173 | V6: 0.6233 | W6: 0.67689 | X6: 0.73249 | Y6: 0.79008 | Z6: 0.84964 | AA6: 0.91116 | AB6: 0.97462 | AC6: 1.04002 | AD6: 1.10733 | AE6: 1.17654 | AF6: 1.24765 | AG6: 1.32063 | AH6: 1.39547 | AI6: 1.47217 | AJ6: 1.55071 | AK6: 1.63107 | AL6: 1.71326 | AM6: 1.79725 | AN6: 1.88303 | AO6: 1.9706 | AP6: 2.05994 | AQ6: 2.15105 | AR6: 2.24391 | AS6: 2.33851 | AT6: 2.43485 | AU6: 2.53291 | AV6: 2.63268 | AW6: 2.73416 | AX6: 2.83734
B7: 10 | C7: 0.0168 | D7: 0.02878 | E7: 0.04369 | F7: 0.06143 | G7: 0.08194 | H7: 0.10515 | I7: 0.13102 | J7: 0.15948 | K7: 0.19052 | L7: 0.22408 | M7: 0.26013 | N7: 0.29864 | O7: 0.33958 | P7: 0.38293 | Q7: 0.42865 | R7: 0.47672 | S7: 0.52713 | T7: 0.57984 | U7: 0.63483 | V7: 0.69209 | W7: 0.7516 | X7: 0.81334 | Y7: 0.87728 | Z7: 0.94342 | AA7: 1.01173 | AB7: 1.08221 | AC7: 1.15482 | AD7: 1.22956 | AE7: 1.30642 | AF7: 1.38537 | AG7: 1.46641 | AH7: 1.54952 | AI7: 1.63468 | AJ7: 1.72189 | AK7: 1.81113 | AL7: 1.90239 | AM7: 1.99565 | AN7: 2.09091 | AO7: 2.18815 | AP7: 2.28736 | AQ7: 2.38852 | AR7: 2.49164 | AS7: 2.59669 | AT7: 2.70366 | AU7: 2.81255 | AV7: 2.92334 | AW7: 3.03603 | AX7: 3.1506
B8: 11 | C8: 0.01847 | D8: 0.03164 | E8: 0.04803 | F8: 0.06754 | G8: 0.09008 | H8: 0.11561 | I8: 0.14404 | J8: 0.17534 | K8: 0.20946 | L8: 0.24635 | M8: 0.28599 | N8: 0.32833 | O8: 0.37334 | P8: 0.421 | Q8: 0.47126 | R8: 0.52412 | S8: 0.57953 | T8: 0.63749 | U8: 0.69795 | V8: 0.76091 | W8: 0.82633 | X8: 0.89421 | Y8: 0.96451 | Z8: 1.03723 | AA8: 1.11233 | AB8: 1.18981 | AC8: 1.26965 | AD8: 1.35183 | AE8: 1.43633 | AF8: 1.52313 | AG8: 1.61223 | AH8: 1.7036 | AI8: 1.79724 | AJ8: 1.89312 | AK8: 1.99124 | AL8: 2.09157 | AM8: 2.19411 | AN8: 2.29884 | AO8: 2.40575 | AP8: 2.51483 | AQ8: 2.62606 | AR8: 2.73943 | AS8: 2.85493 | AT8: 2.97254 | AU8: 3.09227 | AV8: 3.21408 | AW8: 3.33798 | AX8: 3.46394
B9: 12 | C9: 0.02014 | D9: 0.0345 | E9: 0.05237 | F9: 0.07365 | G9: 0.09823 | H9: 0.12606 | I9: 0.15707 | J9: 0.1912 | K9: 0.2284 | L9: 0.26863 | M9: 0.31186 | N9: 0.35803 | O9: 0.40711 | P9: 0.45907 | Q9: 0.51389 | R9: 0.57153 | S9: 0.63195 | T9: 0.69515 | U9: 0.76108 | V9: 0.82973 | W9: 0.90108 | X9: 0.97509 | Y9: 1.05176 | Z9: 1.13105 | AA9: 1.21295 | AB9: 1.29744 | AC9: 1.3845 | AD9: 1.47411 | AE9: 1.56626 | AF9: 1.66092 | AG9: 1.75808 | AH9: 1.85772 | AI9: 1.95983 | AJ9: 2.06438 | AK9: 2.17138 | AL9: 2.28079 | AM9: 2.39261 | AN9: 2.50682 | AO9: 2.6234 | AP9: 2.74235 | AQ9: 2.86364 | AR9: 2.98727 | AS9: 3.11322 | AT9: 3.24148 | AU9: 3.37204 | AV9: 3.50488 | AW9: 3.63999 | AX9: 3.77735
B10: 13 | C10: 0.02181 | D10: 0.03736 | E10: 0.05672 | F10: 0.07975 | G10: 0.10638 | H10: 0.13652 | I10: 0.1701 | J10: 0.20706 | K10: 0.24735 | L10: 0.29092 | M10: 0.33773 | N10: 0.38773 | O10: 0.44088 | P10: 0.49716 | Q10: 0.55652 | R10: 0.61894 | S10: 0.68438 | T10: 0.75282 | U10: 0.82423 | V10: 0.89857 | W10: 0.97584 | X10: 1.05599 | Y10: 1.13902 | Z10: 1.22489 | AA10: 1.31359 | AB10: 1.40509 | AC10: 1.49937 | AD10: 1.59642 | AE10: 1.69621 | AF10: 1.79873 | AG10: 1.90395 | AH10: 2.01186 | AI10: 2.12244 | AJ10: 2.23568 | AK10: 2.35155 | AL10: 2.47004 | AM10: 2.59114 | AN10: 2.71483 | AO10: 2.84109 | AP10: 2.96991 | AQ10: 3.10127 | AR10: 3.23516 | AS10: 3.37156 | AT10: 3.51047 | AU10: 3.65186 | AV10: 3.79573 | AW10: 3.94205 | AX10: 4.09082
B11: 14 | C11: 0.02348 | D11: 0.04023 | E11: 0.06106 | F11: 0.08586 | G11: 0.11453 | H11: 0.14698 | I11: 0.18313 | J11: 0.22292 | K11: 0.2663 | L11: 0.31321 | M11: 0.3636 | N11: 0.41743 | O11: 0.47466 | P11: 0.53525 | Q11: 0.59916 | R11: 0.66636 | S11: 0.73682 | T11: 0.8105 | U11: 0.88738 | V11: 0.96742 | W11: 1.05061 | X11: 1.13691 | Y11: 1.22629 | Z11: 1.31875 | AA11: 1.41424 | AB11: 1.51275 | AC11: 1.61426 | AD11: 1.71875 | AE11: 1.82619 | AF11: 1.93656 | AG11: 2.04984 | AH11: 2.16602 | AI11: 2.28508 | AJ11: 2.40699 | AK11: 2.53175 | AL11: 2.65932 | AM11: 2.7897 | AN11: 2.92287 | AO11: 3.05881 | AP11: 3.1975 | AQ11: 3.33893 | AR11: 3.48308 | AS11: 3.62994 | AT11: 3.7795 | AU11: 3.93172 | AV11: 4.08662 | AW11: 4.24416 | AX11: 4.40433
B12: 15 | C12: 0.02515 | D12: 0.04309 | E12: 0.06541 | F12: 0.09198 | G12: 0.12268 | H12: 0.15744 | I12: 0.19616 | J12: 0.23879 | K12: 0.28525 | L12: 0.3355 | M12: 0.38948 | N12: 0.44714 | O12: 0.50844 | P12: 0.57334 | Q12: 0.64181 | R12: 0.71379 | S12: 0.78926 | T12: 0.86819 | U12: 0.95054 | V12: 1.03628 | W12: 1.12539 | X12: 1.21783 | Y12: 1.31358 | Z12: 1.41261 | AA12: 1.51491 | AB12: 1.62043 | AC12: 1.72917 | AD12: 1.84109 | AE12: 1.95618 | AF12: 2.07441 | AG12: 2.19576 | AH12: 2.32021 | AI12: 2.44774 | AJ12: 2.57833 | AK12: 2.71197 | AL12: 2.84863 | AM12: 2.98829 | AN12: 3.13094 | AO12: 3.27655 | AP12: 3.42512 | AQ12: 3.57662 | AR12: 3.73104 | AS12: 3.88835 | AT12: 4.04856 | AU12: 4.21162 | AV12: 4.37755 | AW12: 4.5463 | AX12: 4.71788
B13: 16 | C13: 0.02682 | D13: 0.04595 | E13: 0.06975 | F13: 0.09809 | G13: 0.13083 | H13: 0.1679 | I13: 0.2092 | J13: 0.25465 | K13: 0.30421 | L13: 0.35779 | M13: 0.41536 | N13: 0.47685 | O13: 0.54223 | P13: 0.61144 | Q13: 0.68445 | R13: 0.76122 | S13: 0.84171 | T13: 0.92588 | U13: 1.0137 | V13: 1.10514 | W13: 1.20017 | X13: 1.29876 | Y13: 1.40087 | Z13: 1.50649 | AA13: 1.61558 | AB13: 1.72812 | AC13: 1.84408 | AD13: 1.96344 | AE13: 2.08618 | AF13: 2.21227 | AG13: 2.34168 | AH13: 2.47441 | AI13: 2.61042 | AJ13: 2.74969 | AK13: 2.89221 | AL13: 3.03795 | AM13: 3.1869 | AN13: 3.33903 | AO13: 3.49432 | AP13: 3.65277 | AQ13: 3.81434 | AR13: 3.97902 | AS13: 4.14679 | AT13: 4.31765 | AU13: 4.49155 | AV13: 4.66851 | AW13: 4.84848 | AX13: 5.03147
B14: 17 | C14: 0.0285 | D14: 0.04882 | E14: 0.0741 | F14: 0.1042 | G14: 0.13899 | H14: 0.17836 | I14: 0.22223 | J14: 0.27052 | K14: 0.32316 | L14: 0.38009 | M14: 0.44124 | N14: 0.50657 | O14: 0.57602 | P14: 0.64955 | Q14: 0.72711 | R14: 0.80866 | S14: 0.89416 | T14: 0.98358 | U14: 1.07687 | V14: 1.17401 | W14: 1.27497 | X14: 1.3797 | Y14: 1.48818 | Z14: 1.60037 | AA14: 1.71626 | AB14: 1.83582 | AC14: 1.95901 | AD14: 2.08581 | AE14: 2.2162 | AF14: 2.35014 | AG14: 2.48763 | AH14: 2.62862 | AI14: 2.77311 | AJ14: 2.92107 | AK14: 3.07247 | AL14: 3.22729 | AM14: 3.38552 | AN14: 3.54714 | AO14: 3.71211 | AP14: 3.88043 | AQ14: 4.05208 | AR14: 4.22703 | AS14: 4.40526 | AT14: 4.58676 | AU14: 4.77151 | AV14: 4.95949 | AW14: 5.15069 | AX14: 5.34508
... B32: 35 | C32: 0.0586 | D32: 0.10038 | E32: 0.15238 | F32: 0.21427 | G32: 0.2858 | H32: 0.36677 | I32: 0.45698 | J32: 0.55629 | K32: 0.66454 | L32: 0.7816 | M32: 0.90736 | N32: 1.0417 | O32: 1.18452 | P32: 1.33572 | Q32: 1.49522 | R32: 1.66293 | S32: 1.83877 | T32: 2.02266 | U32: 2.21452 | V32: 2.41429 | W32: 2.6219 | X32: 2.83729 | Y32: 3.06038 | Z32: 3.29113 | AA32: 3.52946 | AB32: 3.77534 | AC32: 4.02869 | AD32: 4.28947 | AE32: 4.55763 | AF32: 4.83311 | AG32: 5.11587 | AH32: 5.40585 | AI32: 5.70302 | AJ32: 6.00732 | AK32: 6.3187 | AL32: 6.63714 | AM32: 6.96257 | AN32: 7.29497 | AO32: 7.63428 | AP32: 7.98048 | AQ32: 8.33351 | AR32: 8.69334 | AS32: 9.05993 | AT32: 9.43324 | AU32: 9.81324 | AV32: 10.19989 | AW32: 10.59315 | AX32: 10.99299
A33: 낙엽송 | B33: 3 | C33: 0.0044 | D33: 0.0076 | E33: 0.0116 | F33: 0.0165 | G33: 0.0222 | H33: 0.0288 | I33: 0.0364 | J33: 0.0451 | K33: 0.0549 | L33: 0.066 | M33: 0.0784 | N33: 0.0924 | O33: 0.108 | P33: 0.1254 | Q33: 0.1449 | R33: 0.1665 | S33: 0.1904 | T33: 0.2171 | U33: 0.2465 | V33: 0.2791 | W33: 0.3152 | X33: 0.355 | Y33: 0.3989 | Z33: 0.4473 | AA33: 0.5006 | AB33: 0.5592 | AC33: 0.3388 | AD33: 0.3714 | AE33: 0.4066 | AF33: 0.4447 | AG33: 0.4858 | AH33: 0.5301 | AI33: 0.578 | AJ33: 0.6297 | AK33: 0.6854 | AL33: 0.7454 | AM33: 0.8102 | AN33: 0.8799
B34: 4 | C34: 0.006 | D34: 0.0104 | E34: 0.0158 | F34: 0.0223 | G34: 0.0298 | H34: 0.0385 | I34: 0.0483 | J34: 0.0593 | K34: 0.0716 | L34: 0.0852 | M34: 0.1002 | N34: 0.1167 | O34: 0.1348 | P34: 0.1546 | Q34: 0.1763 | R34: 0.2 | S34: 0.2258 | T34: 0.2539 | U34: 0.2845 | V34: 0.3177 | W34: 0.3538 | X34: 0.393 | Y34: 0.4354 | Z34: 0.4814 | AA34: 0.5312 | AB34: 0.5851 | AC34: 0.4278 | AD34: 0.4644 | AE34: 0.5034 | AF34: 0.545 | AG34: 0.5894 | AH34: 0.6366 | AI34: 0.687 | AJ34: 0.7406 | AK34: 0.7977 | AL34: 0.8584 | AM34: 0.9231 | AN34: 0.9918
B35: 5 | C35: 0.0076 | D35: 0.0131 | E35: 0.02 | F35: 0.0282 | G35: 0.0377 | H35: 0.0485 | I35: 0.0606 | J35: 0.074 | K35: 0.0889 | L35: 0.1052 | M35: 0.123 | N35: 0.1423 | O35: 0.1633 | P35: 0.186 | Q35: 0.2105 | R35: 0.2369 | S35: 0.2653 | T35: 0.2959 | U35: 0.3287 | V35: 0.364 | W35: 0.4017 | X35: 0.4422 | Y35: 0.4855 | Z35: 0.5318 | AA35: 0.5813 | AB35: 0.6342 | AC35: 0.5155 | AD35: 0.556 | AE35: 0.5987 | AF35: 0.6438 | AG35: 0.6915 | AH35: 0.7418 | AI35: 0.7948 | AJ35: 0.8508 | AK35: 0.9098 | AL35: 0.972 | AM35: 1.0376 | AN35: 1.1067 | AO35: 1.1024 | AP35: 1.1729 | AQ35: 1.2469 | AR35: 1.3248 | AS35: 1.4066 | AT35: 1.4926 | AU35: 1.5829 | AV35: 1.6777 | AW35: 1.7773 | AX35: 1.8818
B36: 6 | C36: 0.0092 | D36: 0.0159 | E36: 0.0242 | F36: 0.0341 | G36: 0.0456 | H36: 0.0586 | I36: 0.0731 | J36: 0.0891 | K36: 0.1067 | L36: 0.1259 | M36: 0.1466 | N36: 0.169 | O36: 0.1932 | P36: 0.2191 | Q36: 0.2468 | R36: 0.2764 | S36: 0.308 | T36: 0.3417 | U36: 0.3776 | V36: 0.4157 | W36: 0.4562 | X36: 0.4992 | Y36: 0.5448 | Z36: 0.5931 | AA36: 0.6443 | AB36: 0.6985 | AC36: 0.6056 | AD36: 0.6502 | AE36: 0.6971 | AF36: 0.7461 | AG36: 0.7976 | AH36: 0.8515 | AI36: 0.9079 | AJ36: 0.9671 | AK36: 1.029 | AL36: 1.0938 | AM36: 1.1617 | AN36: 1.2327 | AO36: 1.1831 | AP36: 1.2514 | AQ36: 1.3228 | AR36: 1.3973 | AS36: 1.475 | AT36: 1.5561 | AU36: 1.6407 | AV36: 1.7289 | AW36: 1.821 | AX36: 1.9169
B37: 7 | C37: 0.0108 | D37: 0.0187 | E37: 0.0285 | F37: 0.0401 | G37: 0.0536 | H37: 0.0688 | I37: 0.0858 | J37: 0.1045 | K37: 0.1249 | L37: 0.147 | M37: 0.1709 | N37: 0.1966 | O37: 0.224 | P37: 0.2534 | Q37: 0.2846 | R37: 0.3178 | S37: 0.353 | T37: 0.3902 | U37: 0.4297 | V37: 0.4713 | W37: 0.5152 | X37: 0.5615 | Y37: 0.6103 | Z37: 0.6616 | AA37: 0.7157 | AB37: 0.7725 | AC37: 0.6986 | AD37: 0.7478 | AE37: 0.799 | AF37: 0.8525 | AG37: 0.9082 | AH37: 0.9663 | AI37: 1.0268 | AJ37: 1.0898 | AK37: 1.1555 | AL37: 1.2238 | AM37: 1.2949 | AN37: 1.369 | AO37: 1.2829 | AP37: 1.351 | AQ37: 1.4218 | AR37: 1.4951 | AS37: 1.5712 | AT37: 1.6502 | AU37: 1.7321 | AV37: 1.817 | AW37: 1.9051 | AX37: 1.9964
B38: 8 | C38: 0.0124 | D38: 0.0215 | E38: 0.0328 | F38: 0.0462 | G38: 0.0617 | H38: 0.0791 | I38: 0.0986 | J38: 0.12 | K38: 0.1433 | L38: 0.1685 | M38: 0.1956 | N38: 0.2247 | O38: 0.2557 | P38: 0.2886 | Q38: 0.3236 | R38: 0.3605 | S38: 0.3996 | T38: 0.4407 | U38: 0.4841 | V38: 0.5296 | W38: 0.5774 | X38: 0.6276 | Y38: 0.6802 | Z38: 0.7353 | AA38: 0.7929 | AB38: 0.8532 | AC38: 0.7943 | AD38: 0.8482 | AE38: 0.9043 | AF38: 0.9625 | AG38: 1.023 | AH38: 1.0857 | AI38: 1.1508 | AJ38: 1.2182 | AK38: 1.2882 | AL38: 1.3607 | AM38: 1.4359 | AN38: 1.5138 | AO38: 1.3982 | AP38: 1.4675 | AQ38: 1.5391 | AR38: 1.613 | AS38: 1.6893 | AT38: 1.768 | AU38: 1.8493 | AV38: 1.9332 | AW38: 2.0198 | AX38: 2.1091
B39: 9 | C39: 0.0141 | D39: 0.0243 | E39: 0.0371 | F39: 0.0522 | G39: 0.0698 | H39: 0.0895 | I39: 0.1115 | J39: 0.1356 | K39: 0.1619 | L39: 0.1902 | M39: 0.2207 | N39: 0.2532 | O39: 0.2878 | P39: 0.3245 | Q39: 0.3634 | R39: 0.4043 | S39: 0.4474 | T39: 0.4927 | U39: 0.5402 | V39: 0.5899 | W39: 0.642 | X39: 0.6964 | Y39: 0.7532 | Z39: 0.8125 | AA39: 0.8743 | AB39: 0.9387 | AC39: 0.8923 | AD39: 0.9513 | AE39: 1.0125 | AF39: 1.0758 | AG39: 1.1413 | AH39: 1.209 | AI39: 1.279 | AJ39: 1.3514 | AK39: 1.4262 | AL39: 1.5035 | AM39: 1.5832 | AN39: 1.6656 | AO39: 1.5259 | AP39: 1.5974 | AQ39: 1.6709 | AR39: 1.7465 | AS39: 1.8242 | AT39: 1.9041 | AU39: 1.9863 | AV39: 2.0707 | AW39: 2.1575 | AX39: 2.2467
B40: 10 | C40: 0.0157 | D40: 0.0271 | E40: 0.0414 | F40: 0.0583 | G40: 0.0779 | H40: 0.0999 | I40: 0.1245 | J40: 0.1514 | K40: 0.1806 | L40: 0.2122 | M40: 0.246 | N40: 0.2821 | O40: 0.3204 | P40: 0.361 | Q40: 0.4038 | R40: 0.4488 | S40: 0.4962 | T40: 0.5457 | U40: 0.5976 | V40: 0.6518 | W40: 0.7084 | X40: 0.7673 | Y40: 0.8287 | Z40: 0.8925 | AA40: 0.9589 | AB40: 1.0278 | AC40: 0.9922 | AD40: 1.0566 | AE40: 1.1231 | AF40: 1.1917 | AG40: 1.2626 | AH40: 1.3356 | AI40: 1.4109 | AJ40: 1.4886 | AK40: 1.5686 | AL40: 1.651 | AM40: 1.7359 | AN40: 1.8232 | AO40: 1.6636 | AP40: 1.7381 | AQ40: 1.8144 | AR40: 1.8925 | AS40: 1.9727 | AT40: 2.0547 | AU40: 2.1388 | AV40: 2.2249 | AW40: 2.3131 | AX40: 2.4035
B41: 11 | C41: 0.0173 | D41: 0.0299 | E41: 0.0457 | F41: 0.0644 | G41: 0.086 | H41: 0.1104 | I41: 0.1375 | J41: 0.1672 | K41: 0.1995 | L41: 0.2343 | M41: 0.2715 | N41: 0.3112 | O41: 0.3533 | P41: 0.3978 | Q41: 0.4447 | R41: 0.494 | S41: 0.5456 | T41: 0.5997 | U41: 0.6561 | V41: 0.7149 | W41: 0.7762 | X41: 0.8399 | Y41: 0.906 | Z41: 0.9747 | AA41: 1.0459 | AB41: 1.1196 | AC41: 1.0939 | AD41: 1.1638 | AE41: 1.2358 | AF41: 1.31 | AG41: 1.3864 | AH41: 1.465 | AI41: 1.5459 | AJ41: 1.6291 | AK41: 1.7146 | AL41: 1.8025 | AM41: 1.8928 | AN41: 1.9856 | AO41: 1.8096 | AP41: 1.8876 | AQ41: 1.9673 | AR41: 2.0488 | AS41: 2.132 | AT41: 2.217 | AU41: 2.3038 | AV41: 2.3925 | AW41: 2.483 | AX41: 2.5755
B42: 12 | C42: 0.0189 | D42: 0.0327 | E42: 0.05 | F42: 0.0705 | G42: 0.0942 | H42: 0.1209 | I42: 0.1506 | J42: 0.1831 | K42: 0.2184 | L42: 0.2565 | M42: 0.2972 | N42: 0.3405 | O42: 0.3865 | P42: 0.435 | Q42: 0.4861 | R42: 0.5396 | S42: 0.5957 | T42: 0.6543 | U42: 0.7154 | V42: 0.779 | W42: 0.8451 | X42: 0.9137 | Y42: 0.9849 | Z42: 1.0586 | AA42: 1.1348 | AB42: 1.2137 | AC42: 1.197 | AD42: 1.2725 | AE42: 1.3502 | AF42: 1.4302 | AG42: 1.5124 | AH42: 1.5968 | AI42: 1.6835 | AJ42: 1.7725 | AK42: 1.8638 | AL42: 1.9575 | AM42: 2.0535 | AN42: 2.152 | AO42: 1.9625 | AP42: 2.0446 | AQ42: 2.1282 | AR42: 2.2135 | AS42: 2.3004 | AT42: 2.3889 | AU42: 2.4791 | AV42: 2.571 | AW42: 2.6646 | AX42: 2.76
B43: 13 | C43: 0.0205 | D43: 0.0355 | E43: 0.0543 | F43: 0.0766 | G43: 0.1024 | H43: 0.1314 | I43: 0.1637 | J43: 0.199 | K43: 0.2374 | L43: 0.2788 | M43: 0.323 | N43: 0.37 | O43: 0.4199 | P43: 0.4724 | Q43: 0.5277 | R43: 0.5857 | S43: 0.6463 | T43: 0.7095 | U43: 0.7754 | V43: 0.8438 | W43: 0.9149 | X43: 0.9886 | Y43: 1.0649 | Z43: 1.1438 | AA43: 1.2253 | AB43: 1.3095 | AC43: 1.3013 | AD43: 1.3826 | AE43: 1.4662 | AF43: 1.552 | AG43: 1.6402 | AH43: 1.7306 | AI43: 1.8232 | AJ43: 1.9182 | AK43: 2.0156 | AL43: 2.1153 | AM43: 2.2174 | AN43: 2.3219 | AO43: 2.1213 | AP43: 2.2079 | AQ43: 2.2959 | AR43: 2.3854 | AS43: 2.4765 | AT43: 2.569 | AU43: 2.6631 | AV43: 2.7588 | AW43: 2.856 | AX43: 2.9548
B44: 14 | C44: 0.0221 | D44: 0.0383 | E44: 0.0586 | F44: 0.0827 | G44: 0.1105 | H44: 0.1419 | I44: 0.1768 | J44: 0.215 | K44: 0.2565 | L44: 0.3012 | M44: 0.3489 | N44: 0.3997 | O44: 0.4534 | P44: 0.5101 | Q44: 0.5697 | R44: 0.632 | S44: 0.6972 | T44: 0.7652 | U44: 0.8359 | V44: 0.9093 | W44: 0.9855 | X44: 1.0644 | Y44: 1.1459 | Z44: 1.2302 | AA44: 1.3171 | AB44: 1.4068 | AC44: 1.4066 | AD44: 1.4939 | AE44: 1.5835 | AF44: 1.6754 | AG44: 1.7696 | AH44: 1.8661 | AI44: 1.9649 | AJ44: 2.0661 | AK44: 2.1697 | AL44: 2.2756 | AM44: 2.3839 | AN44: 2.4946 | AO44: 2.2852 | AP44: 2.3766 | AQ44: 2.4693 | AR44: 2.5635 | AS44: 2.6591 | AT44: 2.7561 | AU44: 2.8545 | AV44: 2.9544 | AW44: 3.0557 | AX44: 3.1585
B45: 15 | C45: 0.0237 | D45: 0.0412 | E45: 0.0629 | F45: 0.0888 | G45: 0.1187 | H45: 0.1525 | I45: 0.19 | J45: 0.2311 | K45: 0.2756 | L45: 0.3236 | M45: 0.3749 | N45: 0.4294 | O45: 0.4871 | P45: 0.548 | Q45: 0.6118 | R45: 0.6787 | S45: 0.7485 | T45: 0.8212 | U45: 0.8969 | V45: 0.9754 | W45: 1.0567 | X45: 1.1408 | Y45: 1.2278 | Z45: 1.3175 | AA45: 1.41 | AB45: 1.5053 | AC45: 1.5129 | AD45: 1.6062 | AE45: 1.7019 | AF45: 1.7999 | AG45: 1.9003 | AH45: 2.0031 | AI45: 2.1083 | AJ45: 2.2158 | AK45: 2.3257 | AL45: 2.4381 | AM45: 2.5528 | AN45: 2.6699 | AO45: 2.4535 | AP45: 2.55 | AQ45: 2.6478 | AR45: 2.747 | AS45: 2.8474 | AT45: 2.9492 | AU45: 3.0524 | AV45: 3.1568 | AW45: 3.2626 | AX45: 3.3698
B46: 16 | C46: 0.0254 | D46: 0.044 | E46: 0.0672 | F46: 0.0949 | G46: 0.1269 | H46: 0.1631 | I46: 0.2032 | J46: 0.2471 | K46: 0.2948 | L46: 0.3461 | M46: 0.401 | N46: 0.4593 | O46: 0.521 | P46: 0.5859 | Q46: 0.6542 | R46: 0.7255 | S46: 0.8001 | T46: 0.8776 | U46: 0.9582 | V46: 1.0419 | W46: 1.1284 | X46: 1.2179 | Y46: 1.3103 | Z46: 1.4056 | AA46: 1.5038 | AB46: 1.6048 | AC46: 1.62 | AD46: 1.7194 | AE46: 1.8212 | AF46: 1.9255 | AG46: 2.0323 | AH46: 2.1415 | AI46: 2.2531 | AJ46: 2.3671 | AK46: 2.4835 | AL46: 2.6024 | AM46: 2.7237 | AN46: 2.8474 | AO46: 2.6257 | AP46: 2.7276 | AQ46: 2.8307 | AR46: 2.9351 | AS46: 3.0407 | AT46: 3.1476 | AU46: 3.2558 | AV46: 3.3652 | AW46: 3.4758 | AX46: 3.5877
... B65: 35 | C65: 0.0561 | D65: 0.0975 | E65: 0.1495 | F65: 0.2116 | G65: 0.2834 | H65: 0.3647 | I65: 0.4552 | J65: 0.5544 | K65: 0.6623 | L65: 0.7784 | M65: 0.9025 | N65: 1.0344 | O65: 1.1739 | P65: 1.3208 | Q65: 1.4747 | R65: 1.6356 | S65: 1.8032 | T65: 1.9773 | U65: 2.1578 | V65: 2.3444 | W65: 2.5371 | X65: 2.7356 | Y65: 2.9397 | Z65: 3.1495 | AA65: 3.3646 | AB65: 3.5849 | AC65: 3.7296 | AD65: 3.954 | AE65: 4.183 | AF65: 4.4165 | AG65: 4.6544 | AH65: 4.8965 | AI65: 5.1427 | AJ65: 5.393 | AK65: 5.6472 | AL65: 5.9051 | AM65: 6.1669 | AN65: 6.4322 | AO65: 6.2877 | AP65: 6.5182 | AQ65: 6.7496 | AR65: 6.9821 | AS65: 7.2155 | AT65: 7.4496 | AU65: 7.6844 | AV65: 7.9198 | AW65: 8.1557 | AX65: 8.392
A66: 리기다소나무 | B66: 5 | C66: 0.00787 | D66: 0.01358 | E66: 0.02074 | F66: 0.02933 | G66: 0.03931 | H66: 0.05067 | I66: 0.0634 | J66: 0.07748 | K66: 0.09291 | L66: 0.10966 | M66: 0.12774 | N66: 0.14714 | O66: 0.16785 | P66: 0.18986 | Q66: 0.21318 | R66: 0.23779 | S66: 0.2637 | T66: 0.29089 | U66: 0.31938 | V66: 0.34915 | W66: 0.3802 | X66: 0.41253 | Y66: 0.44614 | Z66: 0.48102 | AA66: 0.51719 | AB66: 0.55463 | AC66: 0.59334 | AD66: 0.63332 | AE66: 0.67458 | AF66: 0.71711 | AG66: 0.76091 | AH66: 0.80599 | AI66: 0.85233 | AJ66: 0.89995 | AK66: 0.94884 | AL66: 0.999 | AM66: 1.05043 | AN66: 1.10314 | AO66: 1.15712 | AP66: 1.21238 | AQ66: 1.26891 | AR66: 1.32672 | AS66: 1.3858 | AT66: 1.44616 | AU66: 1.5078 | AV66: 1.57072 | AW66: 1.63492 | AX66: 1.7004
B67: 6 | C67: 0.00943 | D67: 0.01627 | E67: 0.02486 | F67: 0.03515 | G67: 0.04711 | H67: 0.06073 | I67: 0.07599 | J67: 0.09287 | K67: 0.11135 | L67: 0.13143 | M67: 0.1531 | N67: 0.17635 | O67: 0.20117 | P67: 0.22756 | Q67: 0.25551 | R67: 0.28501 | S67: 0.31606 | T67: 0.34866 | U67: 0.3828 | V67: 0.41848 | W67: 0.4557 | X67: 0.49446 | Y67: 0.53474 | Z67: 0.57656 | AA67: 0.61991 | AB67: 0.66479 | AC67: 0.71119 | AD67: 0.75912 | AE67: 0.80858 | AF67: 0.85956 | AG67: 0.91207 | AH67: 0.9661 | AI67: 1.02165 | AJ67: 1.07874 | AK67: 1.13734 | AL67: 1.19747 | AM67: 1.25913 | AN67: 1.32232 | AO67: 1.38703 | AP67: 1.45327 | AQ67: 1.52104 | AR67: 1.59034 | AS67: 1.66117 | AT67: 1.73353 | AU67: 1.80743 | AV67: 1.88286 | AW67: 1.95983 | AX67: 2.03833
B68: 7 | C68: 0.01099 | D68: 0.01897 | E68: 0.02898 | F68: 0.04097 | G68: 0.05492 | H68: 0.0708 | I68: 0.08858 | J68: 0.10825 | K68: 0.1298 | L68: 0.15321 | M68: 0.17847 | N68: 0.20558 | O68: 0.23451 | P68: 0.26527 | Q68: 0.29785 | R68: 0.33224 | S68: 0.36844 | T68: 0.40645 | U68: 0.44625 | V68: 0.48784 | W68: 0.53123 | X68: 0.57641 | Y68: 0.62338 | Z68: 0.67213 | AA68: 0.72267 | AB68: 0.77499 | AC68: 0.82908 | AD68: 0.88496 | AE68: 0.94262 | AF68: 1.00206 | AG68: 1.06327 | AH68: 1.12626 | AI68: 1.19104 | AJ68: 1.25759 | AK68: 1.32591 | AL68: 1.39602 | AM68: 1.46791 | AN68: 1.54157 | AO68: 1.61702 | AP68: 1.69425 | AQ68: 1.77326 | AR68: 1.85406 | AS68: 1.93664 | AT68: 2.02101 | AU68: 2.10717 | AV68: 2.19511 | AW68: 2.28485 | AX68: 2.37638
B69: 8 | C69: 0.01255 | D69: 0.02167 | E69: 0.0331 | F69: 0.0468 | G69: 0.06273 | H69: 0.08086 | I69: 0.10118 | J69: 0.12365 | K69: 0.14826 | L69: 0.175 | M69: 0.20385 | N69: 0.23481 | O69: 0.26786 | P69: 0.30299 | Q69: 0.34021 | R69: 0.37949 | S69: 0.42084 | T69: 0.46425 | U69: 0.50971 | V69: 0.55722 | W69: 0.60679 | X69: 0.65839 | Y69: 0.71204 | Z69: 0.76773 | AA69: 0.82545 | AB69: 0.88521 | AC69: 0.94701 | AD69: 1.01084 | AE69: 1.0767 | AF69: 1.14459 | AG69: 1.21452 | AH69: 1.28647 | AI69: 1.36046 | AJ69: 1.43648 | AK69: 1.51453 | AL69: 1.59462 | AM69: 1.67673 | AN69: 1.76088 | AO69: 1.84707 | AP69: 1.93529 | AQ69: 2.02555 | AR69: 2.11785 | AS69: 2.21218 | AT69: 2.30856 | AU69: 2.40698 | AV69: 2.50745 | AW69: 2.60996 | AX69: 2.71452
B70: 9 | C70: 0.01412 | D70: 0.02437 | E70: 0.03722 | F70: 0.05262 | G70: 0.07054 | H70: 0.09093 | I70: 0.11377 | J70: 0.13904 | K70: 0.16672 | L70: 0.19679 | M70: 0.22923 | N70: 0.26405 | O70: 0.30121 | P70: 0.34072 | Q70: 0.38257 | R70: 0.42675 | S70: 0.47324 | T70: 0.52206 | U70: 0.57318 | V70: 0.62662 | W70: 0.68235 | X70: 0.74039 | Y70: 0.80072 | Z70: 0.86334 | AA70: 0.92826 | AB70: 0.99546 | AC70: 1.06496 | AD70: 1.13674 | AE70: 1.2108 | AF70: 1.28716 | AG70: 1.36579 | AH70: 1.44672 | AI70: 1.52992 | AJ70: 1.61541 | AK70: 1.70319 | AL70: 1.79325 | AM70: 1.8856 | AN70: 1.98024 | AO70: 2.07716 | AP70: 2.17638 | AQ70: 2.27789 | AR70: 2.38169 | AS70: 2.48778 | AT70: 2.59617 | AU70: 2.70686 | AV70: 2.81985 | AW70: 2.93513 | AX70: 3.05273
B71: 10 | C71: 0.01568 | D71: 0.02706 | E71: 0.04134 | F71: 0.05845 | G71: 0.07835 | H71: 0.101 | I71: 0.12637 | J71: 0.15444 | K71: 0.18518 | L71: 0.21858 | M71: 0.25462 | N71: 0.29329 | O71: 0.33457 | P71: 0.37846 | Q71: 0.42494 | R71: 0.47401 | S71: 0.52566 | T71: 0.57988 | U71: 0.63667 | V71: 0.69602 | W71: 0.75793 | X71: 0.82239 | Y71: 0.88941 | Z71: 0.95897 | AA71: 1.03108 | AB71: 1.10573 | AC71: 1.18292 | AD71: 1.26266 | AE71: 1.34493 | AF71: 1.42974 | AG71: 1.51709 | AH71: 1.60698 | AI71: 1.69941 | AJ71: 1.79437 | AK71: 1.89188 | AL71: 1.99192 | AM71: 2.0945 | AN71: 2.19963 | AO71: 2.3073 | AP71: 2.41751 | AQ71: 2.53026 | AR71: 2.64557 | AS71: 2.76342 | AT71: 2.88382 | AU71: 3.00678 | AV71: 3.13229 | AW71: 3.26036 | AX71: 3.39099
B72: 11 | C72: 0.01724 | D72: 0.02976 | E72: 0.04546 | F72: 0.06428 | G72: 0.08616 | H72: 0.11107 | I72: 0.13897 | J72: 0.16984 | K72: 0.20365 | L72: 0.24038 | M72: 0.28001 | N72: 0.32253 | O72: 0.36793 | P72: 0.4162 | Q72: 0.46732 | R72: 0.52128 | S72: 0.57808 | T72: 0.63771 | U72: 0.70016 | V72: 0.76543 | W72: 0.83352 | X72: 0.90441 | Y72: 0.97811 | Z72: 1.05461 | AA72: 1.13391 | AB72: 1.21601 | AC72: 1.30091 | AD72: 1.38859 | AE72: 1.47907 | AF72: 1.57235 | AG72: 1.66841 | AH72: 1.76727 | AI72: 1.86892 | AJ72: 1.97336 | AK72: 2.08059 | AL72: 2.19061 | AM72: 2.30343 | AN72: 2.41905 | AO72: 2.53746 | AP72: 2.65867 | AQ72: 2.78267 | AR72: 2.90948 | AS72: 3.0391 | AT72: 3.17152 | AU72: 3.30674 | AV72: 3.44478 | AW72: 3.58563 | AX72: 3.72929
B73: 12 | C73: 0.01881 | D73: 0.03246 | E73: 0.04959 | F73: 0.07011 | G73: 0.09398 | H73: 0.12114 | I73: 0.15157 | J73: 0.18524 | K73: 0.22211 | L73: 0.26217 | M73: 0.3054 | N73: 0.35178 | O73: 0.4013 | P73: 0.45394 | Q73: 0.5097 | R73: 0.56855 | S73: 0.63051 | T73: 0.69554 | U73: 0.76366 | V73: 0.83485 | W73: 0.90911 | X73: 0.98644 | Y73: 1.06682 | Z73: 1.15026 | AA73: 1.23676 | AB73: 1.3263 | AC73: 1.4189 | AD73: 1.51454 | AE73: 1.61323 | AF73: 1.71497 | AG73: 1.81975 | AH73: 1.92757 | AI73: 2.03844 | AJ73: 2.15236 | AK73: 2.26932 | AL73: 2.38933 | AM73: 2.51238 | AN73: 2.63849 | AO73: 2.76764 | AP73: 2.89985 | AQ73: 3.03511 | AR73: 3.17343 | AS73: 3.3148 | AT73: 3.45924 | AU73: 3.60674 | AV73: 3.7573 | AW73: 3.91093 | AX73: 4.06763
B74: 13 | C74: 0.02037 | D74: 0.03516 | E74: 0.05371 | F74: 0.07594 | G74: 0.10179 | H74: 0.13121 | I74: 0.16418 | J74: 0.20064 | K74: 0.24058 | L74: 0.28397 | M74: 0.3308 | N74: 0.38103 | O74: 0.43467 | P74: 0.49169 | Q74: 0.55208 | R74: 0.61583 | S74: 0.68294 | T74: 0.75338 | U74: 0.82717 | V74: 0.90428 | W74: 0.98472 | X74: 1.06847 | Y74: 1.15554 | Z74: 1.24592 | AA74: 1.33961 | AB74: 1.43661 | AC74: 1.5369 | AD74: 1.6405 | AE74: 1.7474 | AF74: 1.8576 | AG74: 1.9711 | AH74: 2.08789 | AI74: 2.20798 | AJ74: 2.33138 | AK74: 2.45807 | AL74: 2.58806 | AM74: 2.72135 | AN74: 2.85795 | AO74: 2.99785 | AP74: 3.14105 | AQ74: 3.28757 | AR74: 3.43739 | AS74: 3.59053 | AT74: 3.74698 | AU74: 3.90676 | AV74: 4.06985 | AW74: 4.23626 | AX74: 4.406
B75: 14 | C75: 0.02193 | D75: 0.03786 | E75: 0.05783 | F75: 0.08177 | G75: 0.1096 | H75: 0.14129 | I75: 0.17678 | J75: 0.21604 | K75: 0.25905 | L75: 0.30578 | M75: 0.35619 | N75: 0.41029 | O75: 0.46804 | P75: 0.52944 | Q75: 0.59447 | R75: 0.66311 | S75: 0.73537 | T75: 0.81123 | U75: 0.89068 | V75: 0.97371 | W75: 1.06032 | X75: 1.15051 | Y75: 1.24427 | Z75: 1.34159 | AA75: 1.44247 | AB75: 1.54692 | AC75: 1.65492 | AD75: 1.76647 | AE75: 1.88158 | AF75: 2.00024 | AG75: 2.12246 | AH75: 2.24822 | AI75: 2.37754 | AJ75: 2.51041 | AK75: 2.64683 | AL75: 2.78681 | AM75: 2.93034 | AN75: 3.07743 | AO75: 3.22807 | AP75: 3.38228 | AQ75: 3.54005 | AR75: 3.70138 | AS75: 3.86628 | AT75: 4.03475 | AU75: 4.2068 | AV75: 4.38242 | AW75: 4.56162 | AX75: 4.7444
B76: 15 | C76: 0.0235 | D76: 0.04056 | E76: 0.06196 | F76: 0.0876 | G76: 0.11742 | H76: 0.15136 | I76: 0.18938 | J76: 0.23145 | K76: 0.27752 | L76: 0.32758 | M76: 0.38159 | N76: 0.43954 | O76: 0.50142 | P76: 0.56719 | Q76: 0.63686 | R76: 0.7104 | S76: 0.78781 | T76: 0.86908 | U76: 0.95419 | V76: 1.04315 | W76: 1.13594 | X76: 1.23256 | Y76: 1.333 | Z76: 1.43726 | AA76: 1.54534 | AB76: 1.65724 | AC76: 1.77294 | AD76: 1.89245 | AE76: 2.01577 | AF76: 2.14289 | AG76: 2.27383 | AH76: 2.40856 | AI76: 2.5471 | AJ76: 2.68945 | AK76: 2.8356 | AL76: 2.98557 | AM76: 3.13934 | AN76: 3.29692 | AO76: 3.45831 | AP76: 3.62352 | AQ76: 3.79254 | AR76: 3.96538 | AS76: 4.14205 | AT76: 4.32254 | AU76: 4.50686 | AV76: 4.69501 | AW76: 4.88699 | AX76: 5.08282
B77: 16 | C77: 0.02506 | D77: 0.04326 | E77: 0.06608 | F77: 0.09343 | G77: 0.12523 | H77: 0.16144 | I77: 0.20199 | J77: 0.24685 | K77: 0.29599 | L77: 0.34938 | M77: 0.40699 | N77: 0.4688 | O77: 0.53479 | P77: 0.60495 | Q77: 0.67925 | R77: 0.75769 | S77: 0.84025 | T77: 0.92693 | U77: 1.01771 | V77: 1.11259 | W77: 1.21155 | X77: 1.31461 | Y77: 1.42174 | Z77: 1.53294 | AA77: 1.64822 | AB77: 1.76756 | AC77: 1.89097 | AD77: 2.01844 | AE77: 2.14997 | AF77: 2.28555 | AG77: 2.4252 | AH77: 2.56891 | AI77: 2.71668 | AJ77: 2.8685 | AK77: 3.02439 | AL77: 3.18434 | AM77: 3.34835 | AN77: 3.51642 | AO77: 3.68856 | AP77: 3.86477 | AQ77: 4.04505 | AR77: 4.2294 | AS77: 4.41783 | AT77: 4.61034 | AU77: 4.80694 | AV77: 5.00762 | AW77: 5.21239 | AX77: 5.42125
B78: 17 | C78: 0.02662 | D78: 0.04596 | E78: 0.0702 | F78: 0.09926 | G78: 0.13305 | H78: 0.17151 | I78: 0.2146 | J78: 0.26226 | K78: 0.31447 | L78: 0.37119 | M78: 0.43239 | N78: 0.49806 | O78: 0.56817 | P78: 0.6427 | Q78: 0.72164 | R78: 0.80498 | S78: 0.89269 | T78: 0.98478 | U78: 1.08123 | V78: 1.18203 | W78: 1.28718 | X78: 1.39666 | Y78: 1.51048 | Z78: 1.62863 | AA78: 1.7511 | AB78: 1.87789 | AC78: 2.009 | AD78: 2.14443 | AE78: 2.28417 | AF78: 2.42822 | AG78: 2.57659 | AH78: 2.72927 | AI78: 2.88626 | AJ78: 3.04756 | AK78: 3.21318 | AL78: 3.38312 | AM78: 3.55737 | AN78: 3.73593 | AO78: 3.91882 | AP78: 4.10603 | AQ78: 4.29757 | AR78: 4.49343 | AS78: 4.69363 | AT78: 4.89816 | AU78: 5.10703 | AV78: 5.32024 | AW78: 5.5378 | AX78: 5.75971
... B96: 35 | C96: 0.05478 | D96: 0.09456 | E96: 0.14445 | F96: 0.20423 | G96: 0.27376 | H96: 0.35291 | I96: 0.44156 | J96: 0.53964 | K96: 0.64706 | L96: 0.76377 | M96: 0.88972 | N96: 1.02484 | O96: 1.16911 | P96: 1.32248 | Q96: 1.48492 | R96: 1.65641 | S96: 1.83691 | T96: 2.0264 | U96: 2.22488 | V96: 2.43231 | W96: 2.64868 | X96: 2.87399 | Y96: 3.10821 | Z96: 3.35134 | AA96: 3.60337 | AB96: 3.8643 | AC96: 4.13412 | AD96: 4.41282 | AE96: 4.7004 | AF96: 4.99685 | AG96: 5.30219 | AH96: 5.6164 | AI96: 5.93949 | AJ96: 6.27146 | AK96: 6.6123 | AL96: 6.96203 | AM96: 7.32065 | AN96: 7.68815 | AO96: 8.06455 | AP96: 8.44985 | AQ96: 8.84405 | AR96: 9.24716 | AS96: 9.65919 | AT96: 10.08015 | AU96: 10.51003 | AV96: 10.94886 | AW96: 11.39663 | AX96: 11.85336
A97: 소나무(강원) | B97: 5 | C97: 0.008 | D97: 0.0135 | E97: 0.0202 | F97: 0.0281 | G97: 0.0372 | H97: 0.0475 | I97: 0.059 | J97: 0.0716 | K97: 0.0854 | L97: 0.1003 | M97: 0.1164 | N97: 0.1337 | O97: 0.1521 | P97: 0.1718 | Q97: 0.1926 | R97: 0.2146 | S97: 0.2379 | T97: 0.2624 | U97: 0.2882 | V97: 0.3152 | W97: 0.3435 | X97: 0.3732 | Y97: 0.4042 | Z97: 0.4365 | AA97: 0.4703 | AB97: 0.5055 | AC97: 0.5421 | AD97: 0.5802 | AE97: 0.6198 | AF97: 0.661 | AG97: 0.7037 | AH97: 0.7481 | AI97: 0.7941 | AJ97: 0.8419 | AK97: 0.8913 | AL97: 0.9426 | AM97: 0.9957 | AN97: 1.0507
B98: 6 | C98: 0.0096 | D98: 0.0162 | E98: 0.0243 | F98: 0.0338 | G98: 0.0448 | H98: 0.0572 | I98: 0.071 | J98: 0.0862 | K98: 0.1028 | L98: 0.1207 | M98: 0.14 | N98: 0.1608 | O98: 0.1829 | P98: 0.2064 | Q98: 0.2314 | R98: 0.2578 | S98: 0.2856 | T98: 0.3148 | U98: 0.3456 | V98: 0.3778 | W98: 0.4115 | X98: 0.4468 | Y98: 0.4836 | Z98: 0.5219 | AA98: 0.5619 | AB98: 0.6035 | AC98: 0.6467 | AD98: 0.6916 | AE98: 0.7381 | AF98: 0.7864 | AG98: 0.8365 | AH98: 0.8884 | AI98: 0.9421 | AJ98: 0.9976 | AK98: 1.055 | AL98: 1.1144 | AM98: 1.1758 | AN98: 1.2392
B99: 7 | C99: 0.0113 | D99: 0.019 | E99: 0.0284 | F99: 0.0396 | G99: 0.0524 | H99: 0.0669 | I99: 0.083 | J99: 0.1008 | K99: 0.1202 | L99: 0.1411 | M99: 0.1637 | N99: 0.188 | O99: 0.2138 | P99: 0.2412 | Q99: 0.2704 | R99: 0.3011 | S99: 0.3335 | T99: 0.3676 | U99: 0.4034 | V99: 0.4409 | W99: 0.4801 | X99: 0.521 | Y99: 0.5637 | Z99: 0.6082 | AA99: 0.6545 | AB99: 0.7026 | AC99: 0.7526 | AD99: 0.8045 | AE99: 0.8583 | AF99: 0.914 | AG99: 0.9716 | AH99: 1.0313 | AI99: 1.093 | AJ99: 1.1568 | AK99: 1.2226 | AL99: 1.2906 | AM99: 1.3607 | AN99: 1.4331
B100: 8 | C100: 0.0129 | D100: 0.0217 | E100: 0.0325 | F100: 0.0453 | G100: 0.06 | H100: 0.0766 | I100: 0.0951 | J100: 0.1154 | K100: 0.1376 | L100: 0.1616 | M100: 0.1875 | N100: 0.2152 | O100: 0.2447 | P100: 0.2761 | Q100: 0.3094 | R100: 0.3446 | S100: 0.3816 | T100: 0.4205 | U100: 0.4614 | V100: 0.5042 | W100: 0.5489 | X100: 0.5956 | Y100: 0.6443 | Z100: 0.695 | AA100: 0.7478 | AB100: 0.8025 | AC100: 0.8594 | AD100: 0.9184 | AE100: 0.9795 | AF100: 1.0427 | AG100: 1.1082 | AH100: 1.1758 | AI100: 1.2458 | AJ100: 1.3179 | AK100: 1.3924 | AL100: 1.4693 | AM100: 1.5485 | AN100: 1.6302
B101: 9 | C101: 0.0145 | D101: 0.0245 | E101: 0.0366 | F101: 0.0511 | G101: 0.0676 | H101: 0.0863 | I101: 0.1071 | J101: 0.13 | K101: 0.155 | L101: 0.1821 | M101: 0.2112 | N101: 0.2424 | O101: 0.2757 | P101: 0.3111 | Q101: 0.3486 | R101: 0.3881 | S101: 0.4298 | T101: 0.4736 | U101: 0.5196 | V101: 0.5677 | W101: 0.618 | X101: 0.6705 | Y101: 0.7252 | Z101: 0.7822 | AA101: 0.8414 | AB101: 0.9029 | AC101: 0.9667 | AD101: 1.0329 | AE101: 1.1014 | AF101: 1.1723 | AG101: 1.2456 | AH101: 1.3214 | AI101: 1.3996 | AJ101: 1.4804 | AK101: 1.5637 | AL101: 1.6496 | AM101: 1.7381 | AN101: 1.8292
B102: 10 | C102: 0.0162 | D102: 0.0272 | E102: 0.0408 | F102: 0.0568 | G102: 0.0752 | H102: 0.0961 | I102: 0.1192 | J102: 0.1447 | K102: 0.1725 | L102: 0.2026 | M102: 0.235 | N102: 0.2697 | O102: 0.3067 | P102: 0.3461 | Q102: 0.3877 | R102: 0.4317 | S102: 0.4781 | T102: 0.5268 | U102: 0.5779 | V102: 0.6313 | W102: 0.6872 | X102: 0.7456 | Y102: 0.8063 | Z102: 0.8696 | AA102: 0.9353 | AB102: 1.0036 | AC102: 1.0744 | AD102: 1.1478 | AE102: 1.2238 | AF102: 1.3024 | AG102: 1.3836 | AH102: 1.4676 | AI102: 1.5543 | AJ102: 1.6437 | AK102: 1.7359 | AL102: 1.831 | AM102: 1.9289 | AN102: 2.0296
B103: 11 | C103: 0.0178 | D103: 0.03 | E103: 0.0449 | F103: 0.0625 | G103: 0.0829 | H103: 0.1058 | I103: 0.1313 | J103: 0.1593 | K103: 0.1899 | L103: 0.2231 | M103: 0.2588 | N103: 0.297 | O103: 0.3378 | P103: 0.3811 | Q103: 0.427 | R103: 0.4754 | S103: 0.5264 | T103: 0.58 | U103: 0.6362 | V103: 0.6951 | W103: 0.7566 | X103: 0.8207 | Y103: 0.8876 | Z103: 0.9571 | AA103: 1.0294 | AB103: 1.1045 | AC103: 1.1823 | AD103: 1.263 | AE103: 1.3465 | AF103: 1.4328 | AG103: 1.5221 | AH103: 1.6143 | AI103: 1.7095 | AJ103: 1.8076 | AK103: 1.9088 | AL103: 2.0131 | AM103: 2.1205 | AN103: 2.231
B104: 12 | C104: 0.0194 | D104: 0.0327 | E104: 0.049 | F104: 0.0683 | G104: 0.0905 | H104: 0.1155 | I104: 0.1433 | J104: 0.174 | K104: 0.2074 | L104: 0.2436 | M104: 0.2826 | N104: 0.3243 | O104: 0.3688 | P104: 0.4161 | Q104: 0.4662 | R104: 0.5191 | S104: 0.5748 | T104: 0.6333 | U104: 0.6947 | V104: 0.7589 | W104: 0.826 | X104: 0.896 | Y104: 0.9689 | Z104: 1.0448 | AA104: 1.1237 | AB104: 1.2056 | AC104: 1.2905 | AD104: 1.3784 | AE104: 1.4694 | AF104: 1.5636 | AG104: 1.6609 | AH104: 1.7614 | AI104: 1.8651 | AJ104: 1.972 | AK104: 2.0823 | AL104: 2.1958 | AM104: 2.3127 | AN104: 2.433
B105: 13 | C105: 0.0211 | D105: 0.0355 | E105: 0.0531 | F105: 0.074 | G105: 0.0981 | H105: 0.1252 | I105: 0.1554 | J105: 0.1886 | K105: 0.2249 | L105: 0.2641 | M105: 0.3064 | N105: 0.3516 | O105: 0.3999 | P105: 0.4512 | Q105: 0.5055 | R105: 0.5628 | S105: 0.6232 | T105: 0.6866 | U105: 0.7531 | V105: 0.8227 | W105: 0.8955 | X105: 0.9713 | Y105: 1.0504 | Z105: 1.1326 | AA105: 1.2181 | AB105: 1.3068 | AC105: 1.3987 | AD105: 1.494 | AE105: 1.5926 | AF105: 1.6946 | AG105: 1.7999 | AH105: 1.9087 | AI105: 2.021 | AJ105: 2.1368 | AK105: 2.2561 | AL105: 2.379 | AM105: 2.5055 | AN105: 2.6356
B106: 14 | C106: 0.0227 | D106: 0.0382 | E106: 0.0573 | F106: 0.0798 | G106: 0.1057 | H106: 0.1349 | I106: 0.1675 | J106: 0.2033 | K106: 0.2424 | L106: 0.2847 | M106: 0.3302 | N106: 0.379 | O106: 0.431 | P106: 0.4862 | Q106: 0.5447 | R106: 0.6065 | S106: 0.6716 | T106: 0.7399 | U106: 0.8116 | V106: 0.8866 | W106: 0.965 | X106: 1.0467 | Y106: 1.1319 | Z106: 1.2205 | AA106: 1.3125 | AB106: 1.4081 | AC106: 1.5071 | AD106: 1.6097 | AE106: 1.7159 | AF106: 1.8257 | AG106: 1.9392 | AH106: 2.0563 | AI106: 2.1772 | AJ106: 2.3018 | AK106: 2.4302 | AL106: 2.5624 | AM106: 2.6986 | AN106: 2.8386
B107: 15 | C107: 0.0243 | D107: 0.041 | E107: 0.0614 | F107: 0.0855 | G107: 0.1133 | H107: 0.1447 | I107: 0.1796 | J107: 0.218 | K107: 0.2598 | L107: 0.3052 | M107: 0.354 | N107: 0.4063 | O107: 0.4621 | P107: 0.5213 | Q107: 0.584 | R107: 0.6503 | S107: 0.72 | T107: 0.7933 | U107: 0.8701 | V107: 0.9505 | W107: 1.0345 | X107: 1.1222 | Y107: 1.2135 | Z107: 1.3084 | AA107: 1.4071 | AB107: 1.5094 | AC107: 1.6156 | AD107: 1.7256 | AE107: 1.8393 | AF107: 1.957 | AG107: 2.0785 | AH107: 2.204 | AI107: 2.3335 | AJ107: 2.467 | AK107: 2.6045 | AL107: 2.7462 | AM107: 2.8919 | AN107: 3.0419
B108: 16 | C108: 0.026 | D108: 0.0437 | E108: 0.0655 | F108: 0.0913 | G108: 0.1209 | H108: 0.1544 | I108: 0.1916 | J108: 0.2326 | K108: 0.2773 | L108: 0.3257 | M108: 0.3778 | N108: 0.4336 | O108: 0.4932 | P108: 0.5564 | Q108: 0.6233 | R108: 0.694 | S108: 0.7685 | T108: 0.8467 | U108: 0.9287 | V108: 1.0145 | W108: 1.1041 | X108: 1.1977 | Y108: 1.2951 | Z108: 1.3964 | AA108: 1.5016 | AB108: 1.6109 | AC108: 1.7242 | AD108: 1.8415 | AE108: 1.9629 | AF108: 2.0884 | AG108: 2.218 | AH108: 2.3519 | AI108: 2.49 | AJ108: 2.6324 | AK108: 2.7791 | AL108: 2.9301 | AM108: 3.0856 | AN108: 3.2455
B109: 17 | C109: 0.0276 | D109: 0.0465 | E109: 0.0696 | F109: 0.097 | G109: 0.1286 | H109: 0.1641 | I109: 0.2037 | J109: 0.2473 | K109: 0.2948 | L109: 0.3463 | M109: 0.4017 | N109: 0.461 | O109: 0.5243 | P109: 0.5915 | Q109: 0.6627 | R109: 0.7378 | S109: 0.8169 | T109: 0.9001 | U109: 0.9872 | V109: 1.0785 | W109: 1.1738 | X109: 1.2732 | Y109: 1.3767 | Z109: 1.4844 | AA109: 1.5963 | AB109: 1.7124 | AC109: 1.8328 | AD109: 1.9574 | AE109: 2.0865 | AF109: 2.2198 | AG109: 2.3576 | AH109: 2.4999 | AI109: 2.6466 | AJ109: 2.7979 | AK109: 2.9537 | AL109: 3.1142 | AM109: 3.2794 | AN109: 3.4492
... B127: 35 | C127: 0.057 | D127: 0.096 | E127: 0.1439 | F127: 0.2005 | G127: 0.2657 | H127: 0.3392 | I127: 0.4211 | J127: 0.5112 | K127: 0.6095 | L127: 0.716 | M127: 0.8306 | N127: 0.9534 | O127: 1.0843 | P127: 1.2235 | Q127: 1.3708 | R127: 1.5263 | S127: 1.6901 | T127: 1.8621 | U127: 2.0425 | V127: 2.2313 | W127: 2.4285 | X127: 2.6342 | Y127: 2.8485 | Z127: 3.0713 | AA127: 3.3028 | AB127: 3.543 | AC127: 3.792 | AD127: 4.0498 | AE127: 4.3166 | AF127: 4.5924 | AG127: 4.8772 | AH127: 5.1712 | AI127: 5.4745 | AJ127: 5.787 | AK127: 6.1089 | AL127: 6.4403 | AM127: 6.7813 | AN127: 7.1319
A128: 중부지방소나무 | B128: 5 | C128: 0.0078 | D128: 0.01331 | E128: 0.02015 | F128: 0.0283 | G128: 0.03774 | H128: 0.04844 | I128: 0.0604 | J128: 0.07361 | K128: 0.08806 | L128: 0.10375 | M128: 0.12067 | N128: 0.13883 | O128: 0.15822 | P128: 0.17884 | Q128: 0.2007 | R128: 0.2238 | S128: 0.24813 | T128: 0.27371 | U128: 0.30054 | V128: 0.32861 | W128: 0.35795 | X128: 0.38854 | Y128: 0.4204 | Z128: 0.45353 | AA128: 0.48793 | AB128: 0.52362 | AC128: 0.5606 | AD128: 0.59888 | AE128: 0.63846 | AF128: 0.67936 | AG128: 0.72157 | AH128: 0.76511 | AI128: 0.80998 | AJ128: 0.85619 | AK128: 0.90375 | AL128: 0.95267 | AM128: 1.00296 | AN128: 1.05462 | AO128: 1.10767 | AP128: 1.16211 | AQ128: 1.21795 | AR128: 1.2752 | AS128: 1.33387 | AT128: 1.39397 | AU128: 1.45551 | AV128: 1.5185 | AW128: 1.58295 | AX128: 1.64887
B129: 6 | C129: 0.00934 | D129: 0.01593 | E129: 0.02413 | F129: 0.03388 | G129: 0.04518 | H129: 0.05799 | I129: 0.07231 | J129: 0.08813 | K129: 0.10543 | L129: 0.12421 | M129: 0.14448 | N129: 0.16621 | O129: 0.18943 | P129: 0.21412 | Q129: 0.24029 | R129: 0.26795 | S129: 0.29708 | T129: 0.32771 | U129: 0.35983 | V129: 0.39345 | W129: 0.42857 | X129: 0.4652 | Y129: 0.50334 | Z129: 0.54301 | AA129: 0.58421 | AB129: 0.62695 | AC129: 0.67123 | AD129: 0.71707 | AE129: 0.76446 | AF129: 0.81343 | AG129: 0.86398 | AH129: 0.91611 | AI129: 0.96984 | AJ129: 1.02518 | AK129: 1.08214 | AL129: 1.14072 | AM129: 1.20094 | AN129: 1.26281 | AO129: 1.32633 | AP129: 1.39153 | AQ129: 1.4584 | AR129: 1.52696 | AS129: 1.59722 | AT129: 1.6692 | AU129: 1.7429 | AV129: 1.81834 | AW129: 1.89552 | AX129: 1.97446
B130: 7 | C130: 0.01088 | D130: 0.01856 | E130: 0.0281 | F130: 0.03947 | G130: 0.05262 | H130: 0.06755 | I130: 0.08423 | J130: 0.10265 | K130: 0.12281 | L130: 0.14469 | M130: 0.16829 | N130: 0.19361 | O130: 0.22066 | P130: 0.24942 | Q130: 0.27991 | R130: 0.31212 | S130: 0.34606 | T130: 0.38174 | U130: 0.41916 | V130: 0.45832 | W130: 0.49923 | X130: 0.5419 | Y130: 0.58634 | Z130: 0.63256 | AA130: 0.68055 | AB130: 0.73034 | AC130: 0.78193 | AD130: 0.83532 | AE130: 0.89054 | AF130: 0.94759 | AG130: 1.00647 | AH130: 1.06721 | AI130: 1.12981 | AJ130: 1.19428 | AK130: 1.26063 | AL130: 1.32888 | AM130: 1.39904 | AN130: 1.47112 | AO130: 1.54513 | AP130: 1.62108 | AQ130: 1.69899 | AR130: 1.77887 | AS130: 1.86073 | AT130: 1.94459 | AU130: 2.03046 | AV130: 2.11835 | AW130: 2.20827 | AX130: 2.30025
B131: 8 | C131: 0.01242 | D131: 0.02119 | E131: 0.03208 | F131: 0.04505 | G131: 0.06007 | H131: 0.07712 | I131: 0.09616 | J131: 0.11719 | K131: 0.14019 | L131: 0.16517 | M131: 0.19212 | N131: 0.22103 | O131: 0.2519 | P131: 0.28474 | Q131: 0.31954 | R131: 0.35632 | S131: 0.39507 | T131: 0.4358 | U131: 0.47851 | V131: 0.52322 | W131: 0.56993 | X131: 0.61865 | Y131: 0.66938 | Z131: 0.72214 | AA131: 0.77693 | AB131: 0.83377 | AC131: 0.89267 | AD131: 0.95363 | AE131: 1.01667 | AF131: 1.0818 | AG131: 1.14903 | AH131: 1.21837 | AI131: 1.28984 | AJ131: 1.36345 | AK131: 1.43921 | AL131: 1.51713 | AM131: 1.59723 | AN131: 1.67952 | AO131: 1.76402 | AP131: 1.85074 | AQ131: 1.93969 | AR131: 2.03089 | AS131: 2.12435 | AT131: 2.2201 | AU131: 2.31814 | AV131: 2.41848 | AW131: 2.52116 | AX131: 2.62617
B132: 9 | C132: 0.01396 | D132: 0.02381 | E132: 0.03606 | F132: 0.05064 | G132: 0.06753 | H132: 0.08668 | I132: 0.10809 | J132: 0.13173 | K132: 0.15759 | L132: 0.18567 | M132: 0.21595 | N132: 0.24845 | O132: 0.28315 | P132: 0.32007 | Q132: 0.35919 | R132: 0.40053 | S132: 0.44409 | T132: 0.48987 | U132: 0.53789 | V132: 0.58815 | W132: 0.64065 | X132: 0.69542 | Y132: 0.75245 | Z132: 0.81175 | AA132: 0.87335 | AB132: 0.93725 | AC132: 1.00345 | AD132: 1.07198 | AE132: 1.14285 | AF132: 1.21606 | AG132: 1.29164 | AH132: 1.36959 | AI132: 1.44993 | AJ132: 1.53268 | AK132: 1.61784 | AL132: 1.70544 | AM132: 1.79549 | AN132: 1.888 | AO132: 1.98299 | AP132: 2.08047 | AQ132: 2.18047 | AR132: 2.283 | AS132: 2.38807 | AT132: 2.4957 | AU132: 2.60592 | AV132: 2.71873 | AW132: 2.83415 | AX132: 2.95221
B133: 10 | C133: 0.0155 | D133: 0.02644 | E133: 0.04004 | F133: 0.05623 | G133: 0.07498 | H133: 0.09625 | I133: 0.12002 | J133: 0.14627 | K133: 0.17499 | L133: 0.20616 | M133: 0.2398 | N133: 0.27588 | O133: 0.31442 | P133: 0.3554 | Q133: 0.39885 | R133: 0.44475 | S133: 0.49312 | T133: 0.54396 | U133: 0.59728 | V133: 0.65309 | W133: 0.71139 | X133: 0.7722 | Y133: 0.83553 | Z133: 0.90139 | AA133: 0.96979 | AB133: 1.04075 | AC133: 1.11427 | AD133: 1.19037 | AE133: 1.26906 | AF133: 1.35036 | AG133: 1.43429 | AH133: 1.52085 | AI133: 1.61007 | AJ133: 1.70195 | AK133: 1.79653 | AL133: 1.8938 | AM133: 1.9938 | AN133: 2.09653 | AO133: 2.20201 | AP133: 2.31027 | AQ133: 2.42132 | AR133: 2.53517 | AS133: 2.65185 | AT133: 2.77138 | AU133: 2.89377 | AV133: 3.01905 | AW133: 3.14723 | AX133: 3.27834
B134: 11 | C134: 0.01705 | D134: 0.02907 | E134: 0.04402 | F134: 0.06183 | G134: 0.08244 | H134: 0.10582 | I134: 0.13195 | J134: 0.16081 | K134: 0.19239 | L134: 0.22667 | M134: 0.26364 | N134: 0.30332 | O134: 0.34569 | P134: 0.39075 | Q134: 0.43852 | R134: 0.48899 | S134: 0.54217 | T134: 0.59806 | U134: 0.65669 | V134: 0.71805 | W134: 0.78215 | X134: 0.84901 | Y134: 0.91864 | Z134: 0.99105 | AA134: 1.06626 | AB134: 1.14427 | AC134: 1.2251 | AD134: 1.30877 | AE134: 1.3953 | AF134: 1.48469 | AG134: 1.57697 | AH134: 1.67214 | AI134: 1.77024 | AJ134: 1.87127 | AK134: 1.97525 | AL134: 2.0822 | AM134: 2.19215 | AN134: 2.3051 | AO134: 2.42109 | AP134: 2.54012 | AQ134: 2.66222 | AR134: 2.7874 | AS134: 2.9157 | AT134: 3.04712 | AU134: 3.1817 | AV134: 3.31944 | AW134: 3.46038 | AX134: 3.60453
B135: 12 | C135: 0.01859 | D135: 0.0317 | E135: 0.048 | F135: 0.06742 | G135: 0.0899 | H135: 0.1154 | I135: 0.14389 | J135: 0.17536 | K135: 0.20979 | L135: 0.24717 | M135: 0.28749 | N135: 0.33076 | O135: 0.37696 | P135: 0.4261 | Q135: 0.47819 | R135: 0.53323 | S135: 0.59122 | T135: 0.65218 | U135: 0.7161 | V135: 0.78302 | W135: 0.85292 | X135: 0.92583 | Y135: 1.00176 | Z135: 1.08073 | AA135: 1.16274 | AB135: 1.24781 | AC135: 1.33596 | AD135: 1.42721 | AE135: 1.52156 | AF135: 1.61904 | AG135: 1.71967 | AH135: 1.82346 | AI135: 1.93044 | AJ135: 2.04061 | AK135: 2.15401 | AL135: 2.27064 | AM135: 2.39054 | AN135: 2.51372 | AO135: 2.6402 | AP135: 2.77001 | AQ135: 2.90316 | AR135: 3.03968 | AS135: 3.17959 | AT135: 3.32291 | AU135: 3.46967 | AV135: 3.61989 | AW135: 3.77359 | AX135: 3.93079
B136: 13 | C136: 0.02013 | D136: 0.03433 | E136: 0.05199 | F136: 0.07301 | G136: 0.09735 | H136: 0.12497 | I136: 0.15583 | J136: 0.18991 | K136: 0.2272 | L136: 0.26768 | M136: 0.31135 | N136: 0.3582 | O136: 0.40824 | P136: 0.46146 | Q136: 0.51787 | R136: 0.57748 | S136: 0.64028 | T136: 0.7063 | U136: 0.77553 | V136: 0.848 | W136: 0.9237 | X136: 1.00267 | Y136: 1.0849 | Z136: 1.17042 | AA136: 1.25924 | AB136: 1.35137 | AC136: 1.44684 | AD136: 1.54566 | AE136: 1.64784 | AF136: 1.75342 | AG136: 1.8624 | AH136: 1.97481 | AI136: 2.09066 | AJ136: 2.20998 | AK136: 2.33279 | AL136: 2.45911 | AM136: 2.58896 | AN136: 2.72237 | AO136: 2.85935 | AP136: 2.99994 | AQ136: 3.14414 | AR136: 3.292 | AS136: 3.44352 | AT136: 3.59875 | AU136: 3.75769 | AV136: 3.92038 | AW136: 4.08684 | AX136: 4.2571
B137: 14 | C137: 0.02167 | D137: 0.03696 | E137: 0.05597 | F137: 0.07861 | G137: 0.10481 | H137: 0.13455 | I137: 0.16777 | J137: 0.20446 | K137: 0.24461 | L137: 0.28819 | M137: 0.33521 | N137: 0.38565 | O137: 0.43952 | P137: 0.49682 | Q137: 0.55756 | R137: 0.62173 | S137: 0.68935 | T137: 0.76042 | U137: 0.83496 | V137: 0.91298 | W137: 0.99449 | X137: 1.07951 | Y137: 1.16805 | Z137: 1.26012 | AA137: 1.35575 | AB137: 1.45494 | AC137: 1.55773 | AD137: 1.66412 | AE137: 1.77414 | AF137: 1.88781 | AG137: 2.00515 | AH137: 2.12617 | AI137: 2.25091 | AJ137: 2.37937 | AK137: 2.5116 | AL137: 2.6476 | AM137: 2.78741 | AN137: 2.93104 | AO137: 3.07853 | AP137: 3.22989 | AQ137: 3.38516 | AR137: 3.54435 | AS137: 3.70749 | AT137: 3.87462 | AU137: 4.04575 | AV137: 4.22091 | AW137: 4.40014 | AX137: 4.58345
B138: 15 | C138: 0.02321 | D138: 0.03959 | E138: 0.05995 | F138: 0.0842 | G138: 0.11227 | H138: 0.14412 | I138: 0.17971 | J138: 0.21902 | K138: 0.26202 | L138: 0.30871 | M138: 0.35907 | N138: 0.41311 | O138: 0.47081 | P138: 0.53219 | Q138: 0.59725 | R138: 0.66599 | S138: 0.73842 | T138: 0.81456 | U138: 0.89441 | V138: 0.97798 | W138: 1.06529 | X138: 1.15636 | Y138: 1.2512 | Z138: 1.34983 | AA138: 1.45227 | AB138: 1.55853 | AC138: 1.66863 | AD138: 1.7826 | AE138: 1.90046 | AF138: 2.02222 | AG138: 2.14791 | AH138: 2.27755 | AI138: 2.41117 | AJ138: 2.54879 | AK138: 2.69043 | AL138: 2.83612 | AM138: 2.98588 | AN138: 3.13974 | AO138: 3.29773 | AP138: 3.45988 | AQ138: 3.6262 | AR138: 3.79673 | AS138: 3.97149 | AT138: 4.15052 | AU138: 4.33384 | AV138: 4.52148 | AW138: 4.71347 | AX138: 4.90984
B139: 16 | C139: 0.02476 | D139: 0.04222 | E139: 0.06394 | F139: 0.0898 | G139: 0.11974 | H139: 0.1537 | I139: 0.19166 | J139: 0.23357 | K139: 0.27944 | L139: 0.32922 | M139: 0.38294 | N139: 0.44056 | O139: 0.5021 | P139: 0.56756 | Q139: 0.63694 | R139: 0.71025 | S139: 0.7875 | T139: 0.8687 | U139: 0.95385 | V139: 1.04298 | W139: 1.1361 | X139: 1.23322 | Y139: 1.33437 | Z139: 1.43955 | AA139: 1.5488 | AB139: 1.66212 | AC139: 1.77955 | AD139: 1.90109 | AE139: 2.02678 | AF139: 2.15664 | AG139: 2.29069 | AH139: 2.42895 | AI139: 2.57145 | AJ139: 2.71822 | AK139: 2.86928 | AL139: 3.02465 | AM139: 3.18437 | AN139: 3.34847 | AO139: 3.51696 | AP139: 3.68988 | AQ139: 3.86726 | AR139: 4.04913 | AS139: 4.23551 | AT139: 4.42645 | AU139: 4.62195 | AV139: 4.82207 | AW139: 5.02683 | AX139: 5.23626
B140: 17 | C140: 0.0263 | D140: 0.04486 | E140: 0.06792 | F140: 0.09539 | G140: 0.1272 | H140: 0.16328 | I140: 0.2036 | J140: 0.24813 | K140: 0.29685 | L140: 0.34974 | M140: 0.4068 | N140: 0.46802 | O140: 0.5334 | P140: 0.60294 | Q140: 0.67664 | R140: 0.75452 | S140: 0.83658 | T140: 0.92284 | U140: 1.0133 | V140: 1.10799 | W140: 1.20691 | X140: 1.31009 | Y140: 1.41754 | Z140: 1.52928 | AA140: 1.64534 | AB140: 1.76573 | AC140: 1.89047 | AD140: 2.01959 | AE140: 2.15312 | AF140: 2.29107 | AG140: 2.43348 | AH140: 2.58036 | AI140: 2.73174 | AJ140: 2.88766 | AK140: 3.04814 | AL140: 3.2132 | AM140: 3.38288 | AN140: 3.5572 | AO140: 3.7362 | AP140: 3.91991 | AQ140: 4.10835 | AR140: 4.30155 | AS140: 4.49956 | AT140: 4.7024 | AU140: 4.9101 | AV140: 5.12269 | AW140: 5.34022 | AX140: 5.56271
... B158: 35 | C158: 0.05408 | D158: 0.09224 | E158: 0.13967 | F158: 0.19617 | G158: 0.26157 | H158: 0.33578 | I158: 0.4187 | J158: 0.51027 | K158: 0.61046 | L158: 0.71924 | M158: 0.83658 | N158: 0.96248 | O158: 1.09693 | P158: 1.23995 | Q158: 1.39153 | R158: 1.55169 | S158: 1.72047 | T158: 1.89786 | U158: 2.08391 | V158: 2.27865 | W158: 2.4821 | X158: 2.6943 | Y158: 2.9153 | Z158: 3.14512 | AA158: 3.38381 | AB158: 3.63141 | AC158: 3.88798 | AD158: 4.15355 | AE158: 4.42818 | AF158: 4.71192 | AG158: 5.00481 | AH158: 5.30692 | AI158: 5.61829 | AJ158: 5.93899 | AK158: 6.26906 | AL158: 6.60857 | AM158: 6.95758 | AN158: 7.31614 | AO158: 7.68432 | AP158: 8.06218 | AQ158: 8.44978 | AR158: 8.8472 | AS158: 9.25448 | AT158: 9.6717 | AU158: 10.09893 | AV158: 10.53624 | AW158: 10.98369 | AX158: 11.44135
A159: 상수리나무 | B159: 5 | C159: 0.0079 | D159: 0.0131 | E159: 0.0195 | F159: 0.0269 | G159: 0.0353 | H159: 0.0446 | I159: 0.0549 | J159: 0.066 | K159: 0.0781 | L159: 0.0911 | M159: 0.105 | N159: 0.1198 | O159: 0.1356 | P159: 0.1523 | Q159: 0.17 | R159: 0.1888 | S159: 0.2085 | T159: 0.2293 | U159: 0.2513 | V159: 0.2743 | W159: 0.2986 | X159: 0.3241 | Y159: 0.3508 | Z159: 0.3789 | AA159: 0.4083 | AB159: 0.4392 | AC159: 0.4715 | AD159: 0.5053 | AE159: 0.5408 | AF159: 0.5779 | AG159: 0.6167 | AH159: 0.6573 | AI159: 0.6998 | AJ159: 0.7442 | AK159: 0.7906 | AL159: 0.8392 | AM159: 0.8899 | AN159: 0.9428 | AO159: 0.9981 | AP159: 1.0559 | AQ159: 1.1162 | AR159: 1.1792 | AS159: 1.2449 | AT159: 1.3135 | AU159: 1.385 | AV159: 1.4597 | AW159: 1.5375 | AX159: 1.6187
B160: 6 | C160: 0.0096 | D160: 0.016 | E160: 0.0237 | F160: 0.0327 | G160: 0.043 | H160: 0.0543 | I160: 0.0668 | J160: 0.0804 | K160: 0.0951 | L160: 0.1108 | M160: 0.1276 | N160: 0.1455 | O160: 0.1644 | P160: 0.1843 | Q160: 0.2054 | R160: 0.2276 | S160: 0.2509 | T160: 0.2753 | U160: 0.3009 | V160: 0.3278 | W160: 0.3558 | X160: 0.3851 | Y160: 0.4157 | Z160: 0.4476 | AA160: 0.4809 | AB160: 0.5157 | AC160: 0.5518 | AD160: 0.5895 | AE160: 0.6288 | AF160: 0.6696 | AG160: 0.7121 | AH160: 0.7563 | AI160: 0.8023 | AJ160: 0.8501 | AK160: 0.8998 | AL160: 0.9514 | AM160: 1.0051 | AN160: 1.0608 | AO160: 1.1187 | AP160: 1.1788 | AQ160: 1.2413 | AR160: 1.3061 | AS160: 1.3734 | AT160: 1.4432 | AU160: 1.5156 | AV160: 1.5908 | AW160: 1.6688 | AX160: 1.7497
B161: 7 | C161: 0.0112 | D161: 0.0188 | E161: 0.0279 | F161: 0.0386 | G161: 0.0507 | H161: 0.0641 | I161: 0.0789 | J161: 0.095 | K161: 0.1122 | L161: 0.1308 | M161: 0.1505 | N161: 0.1714 | O161: 0.1936 | P161: 0.2169 | Q161: 0.2415 | R161: 0.2672 | S161: 0.2942 | T161: 0.3224 | U161: 0.3519 | V161: 0.3826 | W161: 0.4147 | X161: 0.448 | Y161: 0.4828 | Z161: 0.5188 | AA161: 0.5563 | AB161: 0.5952 | AC161: 0.6356 | AD161: 0.6776 | AE161: 0.721 | AF161: 0.7661 | AG161: 0.8127 | AH161: 0.8611 | AI161: 0.9112 | AJ161: 0.963 | AK161: 1.0166 | AL161: 1.0722 | AM161: 1.1296 | AN161: 1.189 | AO161: 1.2505 | AP161: 1.314 | AQ161: 1.3797 | AR161: 1.4477 | AS161: 1.5179 | AT161: 1.5904 | AU161: 1.6654 | AV161: 1.7428 | AW161: 1.8228 | AX161: 1.9055
B162: 8 | C162: 0.0129 | D162: 0.0216 | E162: 0.0322 | F162: 0.0445 | G162: 0.0584 | H162: 0.074 | I162: 0.091 | J162: 0.1096 | K162: 0.1295 | L162: 0.1509 | M162: 0.1736 | N162: 0.1977 | O162: 0.2232 | P162: 0.2499 | Q162: 0.278 | R162: 0.3075 | S162: 0.3383 | T162: 0.3704 | U162: 0.4039 | V162: 0.4387 | W162: 0.4749 | X162: 0.5125 | Y162: 0.5516 | Z162: 0.592 | AA162: 0.6339 | AB162: 0.6773 | AC162: 0.7222 | AD162: 0.7687 | AE162: 0.8167 | AF162: 0.8663 | AG162: 0.9175 | AH162: 0.9705 | AI162: 1.0251 | AJ162: 1.0815 | AK162: 1.1396 | AL162: 1.1996 | AM162: 1.2615 | AN162: 1.3253 | AO162: 1.391 | AP162: 1.4587 | AQ162: 1.5286 | AR162: 1.6005 | AS162: 1.6746 | AT162: 1.7509 | AU162: 1.8295 | AV162: 1.9104 | AW162: 1.9937 | AX162: 2.0795
B163: 9 | C163: 0.0146 | D163: 0.0244 | E163: 0.0364 | F163: 0.0504 | G163: 0.0662 | H163: 0.0838 | I163: 0.1032 | J163: 0.1242 | K163: 0.1469 | L163: 0.1711 | M163: 0.1969 | N163: 0.2242 | O163: 0.253 | P163: 0.2833 | Q163: 0.315 | R163: 0.3482 | S163: 0.3829 | T163: 0.4191 | U163: 0.4566 | V163: 0.4957 | W163: 0.5362 | X163: 0.5782 | Y163: 0.6217 | Z163: 0.6668 | AA163: 0.7133 | AB163: 0.7614 | AC163: 0.811 | AD163: 0.8622 | AE163: 0.9151 | AF163: 0.9696 | AG163: 1.0257 | AH163: 1.0835 | AI163: 1.1431 | AJ163: 1.2044 | AK163: 1.2674 | AL163: 1.3323 | AM163: 1.3991 | AN163: 1.4677 | AO163: 1.5383 | AP163: 1.6108 | AQ163: 1.6854 | AR163: 1.762 | AS163: 1.8407 | AT163: 1.9215 | AU163: 2.0046 | AV163: 2.0898 | AW163: 2.1774 | AX163: 2.2673
B164: 10 | C164: 0.0162 | D164: 0.0272 | E164: 0.0406 | F164: 0.0563 | G164: 0.074 | H164: 0.0937 | I164: 0.1154 | J164: 0.139 | K164: 0.1643 | L164: 0.1915 | M164: 0.2203 | N164: 0.2509 | O164: 0.2831 | P164: 0.3169 | Q164: 0.3523 | R164: 0.3894 | S164: 0.428 | T164: 0.4683 | U164: 0.5101 | V164: 0.5534 | W164: 0.5984 | X164: 0.6449 | Y164: 0.693 | Z164: 0.7428 | AA164: 0.7941 | AB164: 0.847 | AC164: 0.9016 | AD164: 0.9578 | AE164: 1.0157 | AF164: 1.0752 | AG164: 1.1365 | AH164: 1.1995 | AI164: 1.2642 | AJ164: 1.3308 | AK164: 1.3991 | AL164: 1.4692 | AM164: 1.5412 | AN164: 1.6151 | AO164: 1.691 | AP164: 1.7687 | AQ164: 1.8485 | AR164: 1.9303 | AS164: 2.0141 | AT164: 2.1001 | AU164: 2.1882 | AV164: 2.2784 | AW164: 2.3709 | AX164: 2.4657
B165: 11 | C165: 0.0179 | D165: 0.0301 | E165: 0.0449 | F165: 0.0621 | G165: 0.0818 | H165: 0.1036 | I165: 0.1277 | J165: 0.1537 | K165: 0.1818 | L165: 0.2119 | M165: 0.2438 | N165: 0.2777 | O165: 0.3133 | P165: 0.3507 | Q165: 0.3899 | R165: 0.4308 | S165: 0.4735 | T165: 0.5179 | U165: 0.564 | V165: 0.6118 | W165: 0.6612 | X165: 0.7124 | Y165: 0.7652 | Z165: 0.8198 | AA165: 0.876 | AB165: 0.9339 | AC165: 0.9936 | AD165: 1.0549 | AE165: 1.118 | AF165: 1.1829 | AG165: 1.2495 | AH165: 1.3179 | AI165: 1.388 | AJ165: 1.46 | AK165: 1.5338 | AL165: 1.6095 | AM165: 1.6871 | AN165: 1.7666 | AO165: 1.848 | AP165: 1.9313 | AQ165: 2.0167 | AR165: 2.1041 | AS165: 2.1935 | AT165: 2.285 | AU165: 2.3786 | AV165: 2.4743 | AW165: 2.5723 | AX165: 2.6724
B166: 12 | C166: 0.0196 | D166: 0.0329 | E166: 0.0491 | F166: 0.0681 | G166: 0.0896 | H166: 0.1136 | I166: 0.1399 | J166: 0.1686 | K166: 0.1994 | L166: 0.2324 | M166: 0.2674 | N166: 0.3046 | O166: 0.3436 | P166: 0.3847 | Q166: 0.4277 | R166: 0.4726 | S166: 0.5193 | T166: 0.5679 | U166: 0.6183 | V166: 0.6706 | W166: 0.7246 | X166: 0.7805 | Y166: 0.8382 | Z166: 0.8976 | AA166: 0.9589 | AB166: 1.0219 | AC166: 1.0867 | AD166: 1.1534 | AE166: 1.2218 | AF166: 1.2921 | AG166: 1.3642 | AH166: 1.4382 | AI166: 1.514 | AJ166: 1.5916 | AK166: 1.6712 | AL166: 1.7526 | AM166: 1.836 | AN166: 1.9213 | AO166: 2.0085 | AP166: 2.0978 | AQ166: 2.189 | AR166: 2.2823 | AS166: 2.3776 | AT166: 2.475 | AU166: 2.5745 | AV166: 2.6762 | AW166: 2.78 | AX166: 2.886
B167: 13 | C167: 0.0213 | D167: 0.0357 | E167: 0.0534 | F167: 0.074 | G167: 0.0974 | H167: 0.1235 | I167: 0.1522 | J167: 0.1834 | K167: 0.217 | L167: 0.2529 | M167: 0.2911 | N167: 0.3315 | O167: 0.3741 | P167: 0.4188 | Q167: 0.4656 | R167: 0.5145 | S167: 0.5653 | T167: 0.6182 | U167: 0.673 | V167: 0.7298 | W167: 0.7885 | X167: 0.8491 | Y167: 0.9117 | Z167: 0.9761 | AA167: 1.0425 | AB167: 1.1108 | AC167: 1.1809 | AD167: 1.2529 | AE167: 1.3269 | AF167: 1.4027 | AG167: 1.4804 | AH167: 1.5601 | AI167: 1.6417 | AJ167: 1.7252 | AK167: 1.8106 | AL167: 1.898 | AM167: 1.9873 | AN167: 2.0787 | AO167: 2.172 | AP167: 2.2674 | AQ167: 2.3648 | AR167: 2.4642 | AS167: 2.5657 | AT167: 2.6693 | AU167: 2.7751 | AV167: 2.8829 | AW167: 2.9929 | AX167: 3.1052
B168: 14 | C168: 0.0229 | D168: 0.0386 | E168: 0.0576 | F168: 0.0799 | G168: 0.1052 | H168: 0.1334 | I168: 0.1645 | J168: 0.1982 | K168: 0.2346 | L168: 0.2735 | M168: 0.3148 | N168: 0.3586 | O168: 0.4047 | P168: 0.4531 | Q168: 0.5037 | R168: 0.5565 | S168: 0.6115 | T168: 0.6687 | U168: 0.728 | V168: 0.7893 | W168: 0.8527 | X168: 0.9182 | Y168: 0.9857 | Z168: 1.0553 | AA168: 1.1268 | AB168: 1.2003 | AC168: 1.2759 | AD168: 1.3534 | AE168: 1.4329 | AF168: 1.5144 | AG168: 1.5979 | AH168: 1.6834 | AI168: 1.7709 | AJ168: 1.8603 | AK168: 1.9518 | AL168: 2.0453 | AM168: 2.1408 | AN168: 2.2384 | AO168: 2.338 | AP168: 2.4397 | AQ168: 2.5434 | AR168: 2.6492 | AS168: 2.7571 | AT168: 2.8672 | AU168: 2.9794 | AV168: 3.0937 | AW168: 3.2103 | AX168: 3.329
B169: 15 | C169: 0.0246 | D169: 0.0414 | E169: 0.0618 | F169: 0.0858 | G169: 0.113 | H169: 0.1434 | I169: 0.1768 | J169: 0.2131 | K169: 0.2522 | L169: 0.2941 | M169: 0.3386 | N169: 0.3857 | O169: 0.4353 | P169: 0.4874 | Q169: 0.5419 | R169: 0.5988 | S169: 0.658 | T169: 0.7194 | U169: 0.7832 | V169: 0.8491 | W169: 0.9173 | X169: 0.9877 | Y169: 1.0602 | Z169: 1.1348 | AA169: 1.2116 | AB169: 1.2905 | AC169: 1.3715 | AD169: 1.4546 | AE169: 1.5398 | AF169: 1.6271 | AG169: 1.7164 | AH169: 1.8078 | AI169: 1.9013 | AJ169: 1.9969 | AK169: 2.0945 | AL169: 2.1943 | AM169: 2.2961 | AN169: 2.4 | AO169: 2.5061 | AP169: 2.6142 | AQ169: 2.7245 | AR169: 2.8369 | AS169: 2.9514 | AT169: 3.0681 | AU169: 3.187 | AV169: 3.308 | AW169: 3.4313 | AX169: 3.5568
B170: 16 | C170: 0.0263 | D170: 0.0442 | E170: 0.0661 | F170: 0.0917 | G170: 0.1208 | H170: 0.1533 | I170: 0.1891 | J170: 0.228 | K170: 0.2699 | L170: 0.3147 | M170: 0.3624 | N170: 0.4129 | O170: 0.466 | P170: 0.5218 | Q170: 0.5802 | R170: 0.6411 | S170: 0.7045 | T170: 0.7703 | U170: 0.8386 | V170: 0.9092 | W170: 0.9822 | X170: 1.0574 | Y170: 1.135 | Z170: 1.2149 | AA170: 1.2969 | AB170: 1.3812 | AC170: 1.4678 | AD170: 1.5565 | AE170: 1.6474 | AF170: 1.7405 | AG170: 1.8358 | AH170: 1.9333 | AI170: 2.0329 | AJ170: 2.1346 | AK170: 2.2386 | AL170: 2.3447 | AM170: 2.4529 | AN170: 2.5633 | AO170: 2.6759 | AP170: 2.7907 | AQ170: 2.9076 | AR170: 3.0267 | AS170: 3.1481 | AT170: 3.2716 | AU170: 3.3973 | AV170: 3.5253 | AW170: 3.6555 | AX170: 3.788
