Workbook
Name _: #REF!
Name _?쾴?: #REF!
Name _?쾴?_?: #REF!
Name _?쾴?___P: #REF!
Name _?쾴?_T: #REF!
Name __?쾴?_?: #REF!
Name __?쾴?___P: #REF!
Name __?쾴?_T: #REF!
Name _________10: #REF!
Name _________11: #REF!
Name _________6: #REF!
Name _________7: #REF!
Name _________8: #REF!
Name _________9: #REF!
Name ________10: #REF!
Name ________11: #REF!
Name ________6: #REF!
Name ________7: #REF!
Name ________8: #REF!
Name ________9: #REF!
Name ________a1: [1]원가계산서!#REF!
Name ________C: #REF!
Name ________YO1: '[2]01'!#REF!
Name _______10: #REF!
Name _______11: #REF!
Name _______6: #REF!
Name _______7: #REF!
Name _______8: #REF!
Name _______9: #REF!
Name _______A1: #REF!
Name _______aab42: #REF!
Name _______C: #REF!
Name _______YO1: #REF!
Name _______YO1: '[2]01'!#REF!
Name ______10: #REF!
Name ______11: #REF!
Name ______6: #REF!
Name ______7: #REF!
Name ______8: #REF!
Name ______9: #REF!
Name ______A1: #REF!
Name ______aab42: #REF!
Name ______C: #REF!
Name ______SBB1: #REF!
Name ______SBB2: #REF!
Name ______SBB4: #REF!
Name ______SBB5: #REF!
Name ______SHH2: #REF!
Name ______SHH3: #REF!
Name ______YO1: #REF!
Name ______YO1: '[2]01'!#REF!
Name _____10: #REF!
Name _____11: #REF!
Name _____6: #REF!
Name _____7: #REF!
Name _____8: #REF!
Name _____9: #REF!
Name _____A1: #REF!
Name _____aab42: #REF!
Name _____C: #REF!

Sheet 간지
D8: 1.사업설명서
D12: 가. 설계설명서
D14: 나. 설계적용기준
D16: 다. 예정공정표
D35: 2.시방서
D39: 가. 일반시방서
D41: 나. 특별시방서
D43: 다. 전문시방서
D45: 라. 안전시방서
A55: 일반시방서
A83: 특별시방서
A111: 전문시방서
D146: 3.설계내역서
D150: 가. 사업비원가계산서
D152: 나. 총괄설계내역서
D154: 다. 설계내역서
C172: 4. 1-0-1 소구역모두베기-파쇄 | S172: 목 차
D176: 가. 단가산출서(소구역모두베기(파쇄))
U177: 1. 사업설명서 | AR177: 7. 4-0-1 단목벌채
D178: 나. 총수량산출(벌목+조재,소운반) | U178: 가. | W178: 설계설명서 | AR178: 가. | AT178: 단가산출서(단목벌채-파쇄)
U179: 나. | W179: 설계적용기준 | AR179: 나. | AT179: 총수량산출(벌목+조재)
D180: 다. 수량산출(소나무) | U180: 다. | W180: 예정공정표 | AR180: 다. | AT180: 재선충피해목수량산출(소나무)
AR181: 라. | AT181: GPS좌표 및 흉고(소나무)
D182: 라. GPS좌표 및 흉고(소나무) | U182: 2. 시방서 | AR182: 마. | AT182: 단가산출조서(작업로개설, 운반, 파쇄)
U183: 가. | W183: 일반시방서
D184: 마. 단가산출조서(운반, 파쇄) | U184: 나. | W184: 특별시방서 | AR184: 8. 5-0-1 예방나무주사(표준지조사)
U185: 다. | W185: 전문시방서 | AR185: 가. | AT185: 단가산출서(예방나무주사)
AR186: 나. | AT186: 예방나무주사수량산출(소나무, 해송)
U187: 3. 설계내역서 | AR187: 다. | AT187: 재적조서(소나무, 해송)
U188: 가. | W188: 사업비원가계산서
U189: 나. | W189: 총괄설계내역서 | AR189: 9. 5-0-2 예방나무주사(전수조사)
U190: 다. | W190: 설계내역서 | AR190: 가. | AT190: 단가산출서(예방나무주사)
U191: 4. 1-0-1 단목벌채 | AR191: 다. | AT191: 재적조서(소나무, 해송)
U192: 가. | W192: 단가산출서(단목벌채-파쇄)
A193: 5. 일위대가표
A220: 6. 기계경비
A247: 7. 자재단가 및 노임단가
A274: 참고자료 및 등록증 사본

Sheet 표지
O2: =A6 -> 2026년 소나무재선충병 훈증더미 제거사업
A6: =적용품셈및면적!D35 -> 2026년 소나무재선충병 훈증더미 제거사업
A14: =적용품셈및면적!D37 -> 2026.06

Sheet 메인
A2: 설 계 | B2: 2026년 월 일 | G2: 설계자 | J2: 검토자 | L2: 심사자 | N2: 담당자 | S2: 팀장 | V2: 과장
A3: 심 사 | B3: =B2 -> 2026년 월 일
A4: =적용품셈및면적!D34 -> 2026년 소나무재선충병 훈증더미 제거사업
A9: ○ | C9: 소재지 | E9: : | F9: =적용품셈및면적!D39 -> 전라남도 나주시 남평읍 상곡리 산 132외 27필지
A11: ○ | C11: 면적 | E11: : | F11: ='2. 단가산출서(훈증더미제거-파쇄)'!J4 -> 2.12 | G11: ha | H11: 1. | I11: =가.설계설명서!B11 -> 훈증더미제거(기계제거) | N11: : | O11: =가.설계설명서!E11 -> 158 | R11: 개 | U11: =가.설계설명서!G11 -> 117.12707
H15: 5. | I15: =가.설계설명서!B13 -> 예방나무주사-표준지 | N15: : | O15: =가.설계설명서!E13 -> 0 | R15: 본 | T15: ha
B17: ○ | C17: 총원가 | E17: : | F17: =가.사업비원가계산서!E29 -> 37555000 | L17: =가.사업비원가계산서!E29 -> 37555000
B18: ○ | C18: 원목매각대 | E18: : | F18: =가.사업비원가계산서!#REF! -> #REF! | L18: =가.사업비원가계산서!#REF! -> #REF!
B19: ○ | C19: 도급금액 | E19: : | F19: =가.사업비원가계산서!#REF! -> #REF! | L19: =가.사업비원가계산서!#REF! -> #REF!
B20: ○ | C20: 관급자재대 | E20: : | F20: =가.사업비원가계산서!E30 -> 0 | L20: =가.사업비원가계산서!E30 -> 0
B21: ○ | C21: 총사업비 | E21: : | F21: =가.사업비원가계산서!E31 -> 37555000 | L21: =가.사업비원가계산서!E31 -> 37555000
B24: ○ | C24: 설계자 | E24: : | F24: =적용품셈및면적!D40 -> ㈜가화석정산림이엔지 | J24: =적용품셈및면적!D41 -> 산림경영기술자 기술고급 박 선 미 | N24: (인)
Q26: 나주시장 귀하

Sheet 목차
A2: 목 차
E7: 1. 사업설명서 | Z7: 5. 일위대가
E8: 가. | G8: 설계설명서
E9: 나. | G9: 설계적용기준 | Z9: 6. 기계경비 | AV9: 5. 1-0-2 소구역골라베기
E10: 다. | G10: 예정공정표 | AV10: 가. | AX10: 단가산출서(소구역골라베기)
Z11: 7. 자재단가 및 노임단가 | AV11: 나. | AX11: 총수량산출(벌목+조재)
E12: 2. 시방서 | AV12: 다. | AX12: 수량산출(소나무, 해송)
E13: 가. | G13: 일반시방서 | Z13: 첨부. 참고자료 및 등록증 사본 | AV13: 라. | AX13: 조사야장(소나무, 해송)
E14: 나. | G14: 특별시방서 | AV14: 마. | AX14: GPS좌표 및 흉고(소나무, 해송)
E15: 다. | G15: 전문시방서 | Z15: ="별책. "&TEXT(적용품셈및면적!$D$34,0)&" 설계도" -> 별책. 2026년 소나무재선충병 훈증더미 제거사업 설계도 | AV15: 바. | AX15: 단가산출조서(운반, 파쇄)
E16: 라. | G16: 안전시방서
E18: 3. 설계내역서
E19: 가. | G19: 사업비원가계산서
E20: 나. | G20: 총괄설계내역서
E21: 다. | G21: 설계내역서
E23: 4. 1-0-1 훈증더미제거
E24: 가. | G24: 단가산출서(훈증더미제거-기계제거)
E25: 나. | G25: GPS좌표 및 흉고(훈증더미제거)
E28: 마. | G28: 단가산출조서(운반, 파쇄) | AV28: 가. | AX28: 단가산출서(예방나무주사)
AV29: 나. | AX29: 총수량산출(예방나무주사)
AV30: 다. | AX30: 예방나무주사 표준지집계표
AV34: 6. 일위대가
AV36: 7. 기계경비
AV38: 8. 자재단가 및 노임단가
AV40: 첨부. 참고자료 및 등록증 사본
AV42: ="별책. "&TEXT(적용품셈및면적!$D$34,0)&" 설계도" -> 별책. 2026년 소나무재선충병 훈증더미 제거사업 설계도

Sheet 가.설계설명서
A2: 설 계 설 명 서
A6: 1. | B6: 사 업 명 | C6: : | D6: =적용품셈및면적!D34 -> 2026년 소나무재선충병 훈증더미 제거사업
A8: 2. | B8: 소 재 지 | C8: : | D8: =적용품셈및면적!D39 -> 전라남도 나주시 남평읍 상곡리 산 132외 27필지
A10: 3. | B10: 본수 | C10: :
B11: 훈증더미제거(기계제거) | C11: : | D11: ( | E11: ='2. 단가산출서(훈증더미제거-파쇄)'!C44 -> 158 | F11: ="개) -" -> 개) - | G11: ='2. 단가산출서(훈증더미제거-파쇄)'!C46 -> 117.12707
B12: 예방나무주사-전수 | C12: : | D12: ( | E12: ='[412]가.1-0-2 단가산출서(예방나무주사-전수)'!H4 -> 0 | F12: ="본) " -> 본) | G12: ='가.1-0-1 단가산출서(소구역모두베기)'!C109 -> 258.63012
B13: 예방나무주사-표준지 | C13: : | D13: ( | F13: ="본) " -> 본) | G13: ='가.1-0-1 단가산출서(소구역모두베기)'!C110 -> 174.84817
A15: 4. | B15: 설계목적 | C15: : | D15: 재선충병 방제사업지에 대하여 적기에 방제작업을 실시하여 가치있는 임목을 보호함에 있으며, 피해목 조사와
D16: 방제방법, 작업난이도에 따라 사업비를 산출하여 소나무재선충병 방제 성과를 제고하는데 있다.
A18: 5. | B18: 제거목선정방법 | C18: : | D18: ① | E18: 소나무재선충에 의한 고사목 및 의심목, 매개충 서식처가 될 수 있는 피압목, 여타 병해로 인한 고사목을 제거대상목
E19: 으로 선정하였다.
D20: ② | E20: 소구역모두베기 벌채 구간은 소나무재선충 및 고사목을 전수조사하였고 나무마다 표식라벨을 부착 하였다.
D21: ③ | E21: 수종에 따라 입목의 크고 작음을 구분하지 않고 경급 6㎝이상 되는 입목은 모두 조사하였다.
D22: ④ | E22: 표준지 위치는 GPS를 이용한 세계측지계 좌표로 표기하였다.
D23: ⑤ | E23: 예방나무주사 구간은 전수조사를 조사하였다.
D24: ⑥ | E24: 예방나무주사 일부지역 및 소군락골라베기는 전수조사를 하였다.
D25: ⑥
D26: ⑦
D27: ⑧
A29: 6. | B29: 원목 운반장소 | C29: : | D29: 유니드 군산공장(전북 군산시 외항1길 56)
A31: 5. | B31: 사업기간 | C31: : | D31: 사업착공일로부터 | G31: =적용품셈및면적!D42 -> 29 | H31: 일간
F34: ①
F35: ②
F36: ③
F37: ③
F38: ④
F39: ⑤
F40: ⑥
F41: ⑦
F42: ⑧

Sheet 나.설계적용기준
A2: 설 계 적 용 기 준
A6: 1. | B6: 설계적용기준 | D6: : | E6: 설계적용기준은 산림청 제정 “지속가능한산림자원관리지침”과 “산림병해충 방제사업 설계·감리 및 사업시행요령", "소
E7: 나무재선충병 방제지침", "산림표준품셈" "임목수확 설계·감리 시범사업지침"을 적용하였다.
B8: 1) | C8: 수량의 계산법 | D8: : | E8: ① | F8: 품셈에 의한 재적 및 인원의 계산은 소수점 3째자리에서 반올림, 둘째자리로 표시.
E9: ② | F9: 면적의 계산은 전자면적계산의 방법을 사용하였고 소수점 셋째자리 이하는 절사.
E10: ③ | F10: 수고의 계산은 임분수고의 최저, 최고 및 평균을 측정하여 임분수고의 범위를 분모로 하고 평균 수고를 분자로하여 표시.
F11: (예 : 15 / 10~20)
E12: ④ | F12: 경급의 계산은 입목 가슴높이 지름을 2cm 괄약으로 측정하여 임목가슴높이 지름의 범위를 분모로, 평균 가슴높이
F13: 지름을 분자로 표시.(예 : 20 / 14~26)
B15: 2) | C15: 노임단가 | D15: : | E15: ① | F15: 노임단가는 대한건설협회에서 당해년도 상반기(2026년 상반기 단가)에 조사,공표하는 시중노임단가를 적용.
E16: ② | F16: 엔지니어링기술자노임 단가는 엔지니어링협회 공표를 적용.
B18: 3) | C18: 재료,자재단가 | D18: : | E18: ① | F18: 재료 및 자재의 단가는 거래실례가격 또는 통계법 제24조의 규정에 의한 지정기관이 조사하여 공표한 가격을 적용.
B20: 4) | C20: 할인,할증적용 | D20: : | E20: ① | F20: 품의 할인 및 할증은 각 단위 작업종별로 표준품셈에서 정한 할증요소를 적용.
F21: 단, 재료비의 경우는 할인 및 할증 요소를 적용하지 않았다.
E23: ② | F23: 중복가산 요령
F24: W = P × (1+a1+a2+a3+·······+an)
F25: W : 할증이 포함된 품 (소요인력)
F26: P : 기본품 또는 각장 해설란의 필요한 증·감 요소가 감안된 품
F27: a1 ~ an : 품 할증요소
B29: 5) | C29: 금액의 단위 | D29: : | E29: ① | F29: 설계서의 총액은 1,000원단위 이며 "미만 버림"을, 설계서(단가산출서)의 소계와 금액란은 1원단위이며
F30: "미만 버림"을 적용.
B32: 6) | C32: 사업비산출 | D32: : | E32: ① | F32: 국민연금, 건강보험료, 고용·산재보험, 노인장기요양보험은 최근에 나온 토목공사원가계산 제비율 적용기준 및
C33: 단가기준 | F33: 노동부(고용보험)요율 적용.
E35: ② | F35: 작업현장에서 산업재해 및 건강장해 예방을 위하여 관계법령 (산업안전보건법)에 의거 요구되는 산업안전보건
F36: 관리비는 건설공사에 준하여 별도 계상.
E38: ③ | F38: 산업재해보상보험률은 고용노동부고시를 적용.
A40: 2. | B40: 단가적용인자 | D40: : | E40: ① | F40: 훈증더미 제거(파쇄)
E41: ② | F41: 소구역모두베기
E42: ③ | F42: 모두베기
E43: ④ | F43: 임내정리
E44: ② | F44: 산지집재 및 집적작업
E45: ③ | F45: 작업로개설
E46: ④ | F46: 잔가지줍기
E47: ⑥ | F47: 훈증더미제거
E48: ⑥ | F48: 예방나무주사
A50: 3. | B50: 작업재료 공급방법 | D50: : | E50: ① | F50: 사업계약자 자율적으로 구입(사급자재)하여 사업에 사용.
E51: ② | F51: 나무주사는 발주처에서 제공.

Sheet 다.예정공정표
A1: 예정공정표
A3: 절대공기 : 29일
A4: 공 종 | J4: 10일 | O4: 20일 | T4: 29일 | AA4: 비 고
J5: 2 | K5: 4 | L5: 6 | M5: 8 | N5: 10 | O5: 12 | P5: 14 | Q5: 16 | R5: 18 | S5: 20 | T5: 22 | U5: 24 | V5: 26 | W5: 28 | X5: 29 | Y5: 25 | Z5: 20
A6: 설계서 검토 및 대상지경계 확인
J7: 1 | K7: 2
A9: 벌채
K10: 1 | L10: 2 | M10: 3 | N10: 4 | O10: 5 | P10: 6 | Q10: 7 | R10: 8 | S10: 9 | T10: 10 | U10: 11 | V10: 12
A12: 작업로 구축 및 복구
L13: 1 | M13: 2 | N13: 3 | O13: 4 | P13: 5 | Q13: 6 | R13: 7 | S13: 8 | Y13: 75
A15: 집적작업
M16: 1 | N16: 2 | O16: 3 | P16: 4 | Q16: 5 | R16: 6 | S16: 7 | T16: 8 | U16: 9 | V16: 10 | W16: 11 | Y16: 70 | Z16: 75
A18: 소운반
M19: 1 | N19: 2 | O19: 3 | P19: 4 | Q19: 5 | R19: 6 | S19: 7 | T19: 8 | U19: 9 | V19: 10 | W19: 11 | Y19: 70
A21: 대운반
N22: 5 | O22: 15 | P22: 20 | Q22: 25 | R22: 30 | S22: 35 | U22: 15 | V22: 20 | W22: 25 | X22: 30 | Y22: 35
A24: 파쇄
N25: 5 | O25: 15 | P25: 20 | Q25: 25 | R25: 30 | S25: 35 | T25: 40 | U25: 45 | V25: 50 | W25: 55 | X25: 60 | Y25: 65
A27: 나무주사
Q28: 5 | R28: 10 | S28: 15 | T28: 20 | U28: 25 | V28: 30 | W28: 35 | X28: 40 | Y28: 70 | Z28: 75
A30: 작업로복구
Q31: 5 | R31: 10 | S31: 15 | T31: 20 | W31: 5 | X31: 10 | Y31: 15 | Z31: 20
A33: 작업장정리ㆍ보완
U34: 1 | V34: 2 | W34: 3 | X34: 4 | Y34: 5 | Z34: 10

Sheet 필지별조서
A1: 대상지별 방제방법 조서
A2: No | B2: 지번 | C2: 더미갯수 | D2: 면적 | E2: 방제방법 | F2: 부대공정 | G2: 평균경급
B3: =COUNTA(B4:B32) -> 28 | C3: =SUM(C4:C32) -> 158 | D3: =SUM(D4:D32) -> 0
A4: 1 | B4: 전라남도 나주시 남평읍 상곡리 산 132 | C4: 1 | E4: 파쇄(기계) | F4: 운반 | I4: =B4&"외 27필지" -> 전라남도 나주시 남평읍 상곡리 산 132외 27필지
A5: 2 | B5: 전라남도 나주시 남평읍 상곡리 산 133 | C5: 3 | E5: 파쇄(기계) | F5: 운반
A6: 3 | B6: 전라남도 나주시 다도면 송학리 184 | C6: 1 | E6: 파쇄(기계) | F6: 운반
A7: 4 | B7: 전라남도 나주시 다도면 송학리 39-1 | C7: 1 | E7: 파쇄(기계) | F7: 운반
A8: 5 | B8: 전라남도 나주시 다도면 송학리 658 | C8: 2 | E8: 파쇄(기계) | F8: 운반
A9: 6 | B9: 전라남도 나주시 다도면 송학리 산 187 | C9: 3 | E9: 파쇄(기계) | F9: 운반
A10: 7 | B10: 전라남도 나주시 다도면 송학리 산 189 | C10: 2 | E10: 파쇄(기계) | F10: 운반
A11: 8 | B11: 전라남도 나주시 다도면 송학리 산 192-2 | C11: 1 | E11: 파쇄(기계) | F11: 운반
A12: 9 | B12: 전라남도 나주시 다도면 송학리 산 194 | C12: 6 | E12: 파쇄(기계) | F12: 운반
A13: 10 | B13: 전라남도 나주시 다도면 송학리 산 195 | C13: 1 | E13: 파쇄(기계) | F13: 운반
A14: 11 | B14: 전라남도 나주시 다도면 송학리 산 197 | C14: 36 | E14: 파쇄(기계) | F14: 운반
A15: 12 | B15: 전라남도 나주시 다도면 송학리 산 199 | C15: 9 | E15: 파쇄(기계) | F15: 운반
A16: 13 | B16: 전라남도 나주시 다도면 송학리 산 200 | C16: 5 | E16: 파쇄(기계) | F16: 운반
... A31: 28 | B31: 전라남도 나주시 문평면 오룡리 산 82-3 | C31: 2 | E31: 파쇄(기계) | F31: 운반
D36: 방제대상목분포
D37: =C3/D3 -> #DIV/0! | E37: ha당본수

Sheet 안전시방서
A1: 안 전 시 방 서
J15: 개인 안전보호구 착용 표준
J26: 안전입간판 설치
J37: 안전수칙 준수 현수막

Sheet 가.사업비원가계산서
A1: 사 업 비 원 가 계 산 서
N4: ( 단위 : 원) | S4: =TRUNC((E8+E9+E30)*L18/100) -> 383536
A5: 비목 | E5: 금액 | F5: 적용기준 | S5: =TRUNC((E8+E9)*L18*1.2/100) -> 460244
A6: 순사업원가 | B6: 재료비 | C6: 직접재료비 | E6: =나.총괄설계내역서!F7 -> 2916223
C7: 간접재료비
C8: 소계 | E8: =SUM(E6:E7) -> 2916223
B9: 노무비 | C9: 직접노무비 | E9: =나.총괄설계내역서!E7 -> 15612120
C10: 간접노무비 | E10: =TRUNC(E9*L10/100) -> 2872630 | F10: 직접노무비 | K10: × | L10: =품셈적용기준!E5 -> 18.4 | M10: %
C11: 소계 | E11: =SUM(E9:E10) -> 18484750
B12: 경 비 | C12: 기계경비 | E12: =나.총괄설계내역서!G7 -> 3695769 | F12: 기계손료×적용일수×장비단가
C13: 산업재해보상보험 | E13: =TRUNC(E11*L13/100) -> 1083206 | F13: (직접노무비+간접노무비) | K13: × | L13: =품셈적용기준!E6 -> 5.86 | M13: % | Q13: ※ 총공사금액 2천만원 미만 제외
C14: 고용보험료 | E14: =TRUNC(E11*L14/100) -> 212574 | F14: (직접노무비+간접노무비) | K14: × | L14: =품셈적용기준!E7 -> 1.15 | M14: % | Q14: ※ 총공사금액 2천만원 미만 제외
C15: 국민건강보험료 | F15: 직접노무비 | K15: × | L15: =품셈적용기준!E8 -> 3.595 | M15: % | Q15: ※ 1개월 미만 제외
C16: 노인장기요양보험료 | E16: =TRUNC(E15*L16/100) -> 0 | F16: 국민건강보험료 | K16: × | L16: =품셈적용기준!E10 -> 13.14 | M16: % | Q16: ※ 1개월 미만 제외 | T16: (재+직노)*율 | V16: =TRUNC((E8+E9)*L18/100) -> 383536 | X16: 관급미포함
C17: 국민연금보험료 | F17: 직접노무비 | K17: × | L17: =품셈적용기준!E9 -> 4.75 | M17: % | Q17: ※ 1개월 미만 제외 | T17: (재+직노+도급자관급)*율 | V17: =TRUNC((E8+E9+E30)*L18/100) -> 383536 | X17: 관급포함
C18: 산업안전보건관리비 | E18: =TRUNC((E8+E9)*L18/100) -> 383536 | F18: (재료비+직접노무비) | K18: × | L18: =품셈적용기준!E11 -> 2.07 | M18: % | Q18: ※ 4천만원 미만 제외 | T18: (재+직노)*율*1.2 | V18: =TRUNC((E8+E9)*L18/100*1.2) -> 460244
C19: 석면부담금 | E19: =TRUNC((E10)*L19/100) -> 172 | F19: (노무비) | K19: × | L19: =품셈적용기준!E12 -> 0.006 | M19: %
C20: 임금채권부담금 | E20: =TRUNC((E11)*L20/100) -> 16636 | F20: (노무비) | K20: × | L20: =품셈적용기준!E13 -> 0.09 | M20: %
C21: 기타경비 | E21: =TRUNC((E8+E11)*L21/100) -> 1048647 | F21: (재료비+노무비) | K21: × | L21: =품셈적용기준!E14 -> 4.9 | M21: %
C22: 퇴직공제부금비 | E22: =TRUNC((E9)*L22/100) -> 0 | F22: (직접노무비) | K22: × | L22: =품셈적용기준!E15 -> 0 | M22: %
C23: 소계 | E23: =SUM(E12:E22) -> 6440540
A24: 일반관리비 | E24: =TRUNC(SUM(E23,E11,E8)*L24/100) -> 2227321 | F24: (재료비+노무비+경비) | K24: × | L24: =품셈적용기준!E16 -> 8 | M24: % | Q24: 5억원~30억미만 미만 5.5%
A25: 소계 | E25: =SUM(E8,E11,E23,E24) -> 30068834 | F25: 재료비+노무비+경비+일반관리비
A26: 이윤 | E26: =TRUNC((E11+E23+E24)*L26) -> 4072075 | F26: (노무비+경비+ 일반관리비) | K26: × | L26: =T28 -> 0.14996994 | M26: % | S26: 사업비 원단위수정
A27: 원가 | E27: =TRUNC(SUM(E25:E26)) -> 34140909 | S27: 노+경+일반 | T27: =E11+E23+E24 -> 27152611 | U27: 4072891 | V27: 당초이윤
A28: 부 가 가 치 세 | E28: =(E27*L28/100) -> 3414090.9 | F28: 총원가 | K28: × | L28: =품셈적용기준!E18 -> 10 | M28: % | S28: 수정이윤율 | T28: =U28/T27 -> 0.14996994 | U28: =U27-T29 -> 4072075.5 | V28: 변경이윤
A29: 총원가 | E29: =ROUND(E27+E28,0) -> 37555000 | F29: 원가+부가가치세(천원미만절사) | T29: =897/1.1 -> 815.45455
A30: 관급자재대 | F30: 조달수수료 포함
A31: 총사업비 | E31: =E29 -> 37555000 | F31: 도급급액 (천원미만절사)

Sheet 나.총괄설계내역서
A1: 총 괄 설 계 내 역 서
F4: ( 단위 : 원)
A5: 구분 | B5: 수량 | C5: 단위 | D5: 합계 | E5: 직접노무비 | F5: 재료비 | G5: 기계경비 | H5: 비고
A6: 설 계 내 역 서(훈증더미제거) | B6: 1 | C6: 식 | D6: =SUM(E6:G6) -> 22224112 | E6: =다.설계내역서!F15 -> 15612120 | F6: =다.설계내역서!H15 -> 2916223 | G6: =다.설계내역서!J15 -> 3695769
A7: 합계 | D7: =D6 -> 22224112 | E7: =E6 -> 15612120 | F7: =F6 -> 2916223 | G7: =G6 -> 3695769

Sheet 다.설계내역서
A2: 설 계 내 역 서(훈증더미제거-기계제거)
H5: ( 단위 : 원)
A6: 공종 | B6: 수량 | C6: 단위 | D6: 합계 | E6: 직접노무비 | G6: 재료비 | I6: 기계경비 | K6: 비고
E7: 단가 | F7: 소계 | G7: 단가 | H7: 소계 | I7: 단가 | J7: 소계
A8: 훈증더미제거 | B8: ='2. 단가산출서(훈증더미제거-파쇄)'!C44 -> 158 | C8: 개 | D8: =SUM(F8,H8,J8)*2.12 -> 14476475 | F8: ='2. 단가산출서(훈증더미제거-파쇄)'!N9 -> 6317266 | H8: ='2. 단가산출서(훈증더미제거-파쇄)'!N12 -> 187053 | J8: ='2. 단가산출서(훈증더미제거-파쇄)'!N15 -> 324207 | K8: ='2. 단가산출서(훈증더미제거-파쇄)'!C44 -> 158
A9: 소운반 | D9: =SUM(F9,H9,J9) -> 2084509 | F9: ='2. 단가산출서(훈증더미제거-파쇄)'!N17 -> 1660041 | H9: ='2. 단가산출서(훈증더미제거-파쇄)'!N18 -> 168780 | J9: ='2. 단가산출서(훈증더미제거-파쇄)'!N19 -> 255688 | K9: ='2. 단가산출서(훈증더미제거-파쇄)'!C17 -> 117.12707
A10: 대운반 | D10: =SUM(F10,H10,J10) -> 2318060 | F10: ='2. 단가산출서(훈증더미제거-파쇄)'!N21 -> 1627363 | H10: ='2. 단가산출서(훈증더미제거-파쇄)'!N22 -> 369535 | J10: ='2. 단가산출서(훈증더미제거-파쇄)'!N23 -> 321162 | K10: ='2. 단가산출서(훈증더미제거-파쇄)'!C21 -> 117.12707
A11: 집적작업 | D11: =SUM(F11,H11,J11) -> 641889 | F11: ='2. 단가산출서(훈증더미제거-파쇄)'!N25 -> 388116 | H11: ='2. 단가산출서(훈증더미제거-파쇄)'!N27 -> 67541 | J11: ='2. 단가산출서(훈증더미제거-파쇄)'!N30 -> 186232 | K11: =K10 -> 117.12707
A12: 파쇄(훈증더미) | D12: =SUM(F12,H12,J12) -> 10061566 | F12: ='2. 단가산출서(훈증더미제거-파쇄)'!N32 -> 5389719 | H12: ='2. 단가산출서(훈증더미제거-파쇄)'!N33 -> 2088141 | J12: ='2. 단가산출서(훈증더미제거-파쇄)'!N34 -> 2583706 | K12: =K11 -> 117.12707
A13: 중기운반(파쇄장비) | D13: =F13+H13+J13 -> 153629 | F13: ='2. 단가산출서(훈증더미제거-파쇄)'!N36 -> 93682 | H13: ='2. 단가산출서(훈증더미제거-파쇄)'!N37 -> 35173 | J13: ='2. 단가산출서(훈증더미제거-파쇄)'!N38 -> 24774
A14: 방제실행 등록 | D14: =SUM(F14,H14,J14) -> 135933 | F14: ='2. 단가산출서(훈증더미제거-파쇄)'!N40 -> 135933
A15: 합계 | D15: =SUM(D8:D14) -> 29872061 | F15: =SUM(F8:F14) -> 15612120 | H15: =SUM(H8:H14) -> 2916223 | J15: =SUM(J8:J14) -> 3695769
D21: =#REF!+D15 -> #REF!

Sheet 가.1-0-1 단가산출서(소구역모두베기)
A1: 1-0-1 단가산출서(소구역모두베기-파쇄)
A4: 작업량 | E4: 피해목 벌채량 | G4: =C14+'마-1.1-0-1 수량산출(소구역-소나무-위험목)'!C42+'마-1.1-0-1 수량산출(소구역-해송-위험목)'!C42 -> 324 | I4: 파쇄량 | J4: =C105 -> 258.63012 | L4: =적용품셈및면적!E48 -> 0 | M4: ( 단위 : 원)
A5: 구분 | C5: 작업량 | E5: 단위품 | G5: 소요품 | H5: 단 가 | J5: 할인· 할증 | K5: 직접노무비 | L5: 재료비 | M5: 경비 | N5: 합계
E6: (인원,수량,요율)
B7: 단위작업 | D7: 단위 | F7: 단위 | I7: 종류
A8: 단위작업 | B8: o 경계표시 | N8: =N9+N10 -> 0
B9: - 직접노무비 | C9: =L4 -> 0 | D9: ha | E9: 0.2 | F9: 인/ha | G9: =ROUND((C9*E9),2) -> 0 | H9: =적용품셈및면적!$E$4 -> 172068 | I9: 보통인부 | J9: =K123 -> 0 | K9: =INT(H9*G9*(1+J9)) -> 0 | N9: =INT(SUM(K9:M9)) -> 0
B10: - 재료비 | N10: =N11+N12 -> 0
B11: 페인트 | C11: =C9 -> 0 | D11: ha | E11: 0.2 | F11: ℓ/ha | G11: =ROUND((C11*E11),2) -> 0 | H11: =적용품셈및면적!$E$13 -> 7300 | I11: 페인트(ℓ) | L11: =INT(H11*G11) -> 0 | N11: =INT(SUM(K11:M11)) -> 0
B12: 잡품 | C12: =N11 -> 0 | D12: 원 | E12: 5 | F12: % | L12: =INT(C12*E12/100) -> 0 | N12: =INT(SUM(K12:M12)) -> 0
B13: o 벌목+조재 | N13: =SUM(N14,N17,N21) -> 15815622
B14: - 직접노무비 | C14: ='다-1.1-0-1 수량산출(소구역-소나무)'!C42+'다-1.1-0-1 수량산출(소구역-해송)'!C42 -> 286 | D14: 본 | G14: ='나.1-0-1총수량산출(벌목+조재)'!G45 -> 70.07 | H14: =SUM(H15:H16)/2 -> 212655.5 | I14: 벌0.5+보0.5 | J14: =E121 -> 0 | K14: =INT(H14*G14*(1+J14)) -> 14900770 | N14: =INT(SUM(K14:M14)) -> 14900770
H15: =노임단가!L8 -> 253243 | I15: (벌목부)
H16: =노임단가!L6 -> 172068 | I16: (보통인부) | R16: =649-688 -> -39
B17: - 재료비(체인톱) | N17: =N18+N19+N20 -> 667646
B18: 연료 | C18: =G14 -> 70.07 | D18: 인/ha | E18: 5.6 | F18: ℓ(2인1조) | G18: =ROUND((E18/2)*C18,2) -> 196.2 | H18: =자재단가!R6 -> 1828 | I18: 휘발유(ℓ) | L18: =INT(H18*G18) -> 358653 | N18: =INT(SUM(K18:M18)) -> 358653
B19: 체인오일(친환경오일) | C19: =G14 -> 70.07 | D19: 인/ha | E19: 2.1 | F19: ℓ(2인1조) | G19: =ROUND((E19/2)*C19,2) -> 73.57 | H19: 2250 | I19: 체인오일(ℓ) | L19: =INT(H19*G19) -> 165532 | N19: =INT(SUM(K19:M19)) -> 165532
B20: 잡품 | C20: =N18 -> 358653 | D20: 원 | E20: 40 | F20: % | L20: =INT(C20*E20/100) -> 143461 | N20: =INT(SUM(K20:M20)) -> 143461
B21: - 기계손료(체인톱) | C21: =G14 -> 70.07 | D21: 인 | E21: 0.0084 | F21: (2인1대) | H21: =자재단가!R7 -> 840000 | I21: 기계톱(45cc) | M21: =INT((C21*E21*H21)/2) -> 247206 | N21: =INT(SUM(K21:M21)) -> 247206
B22: o 위험목제거(20㎝이상) | N22: =SUM(N23:N25) -> 350228 | O22: =C23+C27+C41+C45+C49 -> 38 | P22: 위험목본수
B23: - 직접노무비 | C23: ='바-1.1-0-1 GPS좌표 및 흉고(소구역-소나무위험목'!P4+'바-1.1-0-1 GPS좌표 및 흉고(소구역-해송 위험목'!P4 -> 2 | D23: 본 | E23: 1 | F23: 본 | G23: =C23*E23 -> 2 | H23: =일위대가총괄표!G7 -> 167269 | I23: 원 | K23: =INT(H23*G23) -> 334538 | N23: =INT(SUM(K23:M23)) -> 334538 | O23: ='바-1.1-0-1 GPS좌표 및 흉고(소구역-소나무위험목'!P9+'바-1.1-0-1 GPS좌표 및 흉고(소구역-해송 위험목'!P9 -> 38 | P23: 검산
B24: - 재료비 | C24: =C23 -> 2 | D24: 본 | E24: 1 | F24: 본 | G24: =C24*E24 -> 2 | H24: =일위대가총괄표!H7 -> 3088 | I24: 원 | L24: =INT(H24*G24) -> 6176 | N24: =INT(SUM(K24:M24)) -> 6176
B25: - 기계경비 | C25: =C23 -> 2 | D25: 본 | E25: 1 | F25: 본 | G25: =C25*E25 -> 2 | H25: =일위대가총괄표!I7 -> 4757 | I25: 원 | M25: =INT(G25*H25) -> 9514 | N25: =INT(SUM(K25:M25)) -> 9514
B26: o 위험목제거(22~30㎝) | N26: =SUM(N27:N29) -> 900588
B27: - 직접노무비 | C27: ='바-1.1-0-1 GPS좌표 및 흉고(소구역-소나무위험목'!P5+'바-1.1-0-1 GPS좌표 및 흉고(소구역-해송 위험목'!P5 -> 4 | D27: 본 | E27: 1 | F27: 본 | G27: =C27*E27 -> 4 | H27: =일위대가총괄표!G8 -> 215060 | I27: 원 | K27: =INT(H27*G27) -> 860240 | N27: =INT(SUM(K27:M27)) -> 860240
B28: - 재료비 | C28: =C27 -> 4 | D28: 본 | E28: 1 | F28: 본 | G28: =C28*E28 -> 4 | H28: =일위대가총괄표!H8 -> 3970 | I28: 원 | L28: =INT(H28*G28) -> 15880 | N28: =INT(SUM(K28:M28)) -> 15880
B29: - 기계경비 | C29: =C27 -> 4 | D29: 본 | E29: 1 | F29: 본 | G29: =C29*E29 -> 4 | H29: =일위대가총괄표!I8 -> 6117 | I29: 원 | M29: =INT(G29*H29) -> 24468 | N29: =INT(SUM(K29:M29)) -> 24468
B30: o 작업로설치(기계톱) | N30: =SUM(N31,N32,N35) -> 0
B31: - 직접노무비(대작업로) | D31: km | E31: 3 | F31: 인/km | G31: =ROUND(E31*C31,2) -> 0 | H31: =적용품셈및면적!$E$4 -> 172068 | I31: 보통인부 | J31: =I121 -> 0.1 | K31: =INT(H31*G31*(1+J31)) -> 0 | N31: =INT(SUM(K31:M31)) -> 0
B32: - 재료비(체인톱) | N32: =N33+N34 -> 0
B33: 연료 | C33: =G31 -> 0 | D33: 인 | E33: 5.6 | F33: ℓ(2인1조) | G33: =ROUND((E33*C33)/2,2) -> 0 | H33: =적용품셈및면적!$E$15 -> 1558 | I33: 휘발유(ℓ) | L33: =INT(H33*G33) -> 0 | N33: =INT(SUM(K33:M33)) -> 0 | O33: =C33*E33 -> 0
B34: 잡품 | C34: =N33 -> 0 | D34: 원 | E34: 95 | F34: % | L34: =INT((C34*E34/2)/100) -> 0 | N34: =INT(SUM(K34:M34)) -> 0
B35: - 기계경비 | C35: =G31 -> 0 | D35: 인 | E35: 0.0084 | F35: (2인1대) | H35: =적용품셈및면적!$E$17 -> 840000 | I35: 기계톱(45cc) | M35: =INT((C35*E35/2)*H35) -> 0 | N35: =INT(SUM(K35:M35)) -> 0
B36: o 작업로개설(굴삭기 0.2㎥당) | N36: =SUM(N37:N39) -> 0
B37: - 직접노무비(대작업로) | C37: =C31 -> 0 | D37: km | E37: 1 | F37: km | G37: =C37/E37 -> 0 | H37: =단가산출총괄표!G9*1000 -> 4618000 | I37: 원/km | K37: =INT(H37*G37*(1+J37)) -> 0 | N37: =INT(SUM(K37:M37)) -> 0
B38: - 재료비 | C38: =C37 -> 0 | D38: km | E38: 1 | F38: km | G38: =C38/E38 -> 0 | H38: =단가산출총괄표!H9*1000 -> 863000 | I38: 원/km | L38: =INT(H38*G38) -> 0 | N38: =INT(SUM(K38:M38)) -> 0
B39: - 기계경비 | C39: =C37 -> 0 | D39: km | E39: 1 | F39: km | G39: =C39/E39 -> 0 | H39: =단가산출총괄표!I9*1000 -> 1048000 | I39: 원/km | M39: =INT(G39*H39) -> 0 | N39: =INT(SUM(K39:M39)) -> 0
B40: o 위험목제거(32~40㎝) | N40: =SUM(N41:N43) -> 3462820
B41: - 직접노무비 | C41: ='바-1.1-0-1 GPS좌표 및 흉고(소구역-소나무위험목'!P6+'바-1.1-0-1 GPS좌표 및 흉고(소구역-해송 위험목'!P6 -> 10 | D41: 본 | E41: 1 | F41: 본 | G41: =C41*E41 -> 10 | H41: =일위대가총괄표!G9 -> 317748 | I41: 원 | K41: =INT(H41*G41) -> 3177480 | N41: =INT(SUM(K41:M41)) -> 3177480
B42: - 재료비 | C42: =C41 -> 10 | D42: 본 | E42: 1 | F42: 본 | G42: =C42*E42 -> 10 | H42: =일위대가총괄표!H9 -> 13673 | I42: 원 | L42: =INT(H42*G42) -> 136730 | N42: =INT(SUM(K42:M42)) -> 136730
...

Sheet 나.1-0-1총수량산출(벌목+조재)
A1: 1-0-1 총수량산출(벌목+조재)-소구역모두베기
A4: 구 분 | C4: 작업량 | E4: 단위품 | G4: 소요품
E5: (인원,수량,요율)
B6: 흉고직경 | D6: 단위 | F6: 단위
A7: 단위작업 | B7: 6㎝ | C7: ='다-1.1-0-1 수량산출(소구역-소나무)'!E4+'다-1.1-0-1 수량산출(소구역-해송)'!E4 -> 0.0078 | D7: ㎥ | E7: =산출기초조사서!E6 -> 1.13 | F7: ㎥/인 | G7: =ROUND(C7/E7,2) -> 0.01 | L7: 35 | M7: 100 | N7: =L7/M7 -> 0.35
B8: 8㎝ | C8: ='다-1.1-0-1 수량산출(소구역-소나무)'!E5+'다-1.1-0-1 수량산출(소구역-해송)'!E5 -> 0 | D8: ㎥ | E8: =산출기초조사서!E7 -> 1.18 | F8: ㎥/인 | G8: =ROUND(C8/E8,2) -> 0 | L8: 40
B9: 10㎝ | C9: ='다-1.1-0-1 수량산출(소구역-소나무)'!E6+'다-1.1-0-1 수량산출(소구역-해송)'!E6 -> 0.06464 | D9: ㎥ | E9: =산출기초조사서!E8 -> 1.24 | F9: ㎥/인 | G9: =ROUND(C9/E9,2) -> 0.05
B10: 12㎝ | C10: ='다-1.1-0-1 수량산출(소구역-소나무)'!E7+'다-1.1-0-1 수량산출(소구역-해송)'!E7 -> 0.36292 | D10: ㎥ | E10: =산출기초조사서!E9 -> 1.26 | F10: ㎥/인 | G10: =ROUND(C10/E10,2) -> 0.29
B11: 14㎝ | C11: ='다-1.1-0-1 수량산출(소구역-소나무)'!E8+'다-1.1-0-1 수량산출(소구역-해송)'!E8 -> 0.88837 | D11: ㎥ | E11: =산출기초조사서!E10 -> 1.29 | F11: ㎥/인 | G11: =ROUND(C11/E11,2) -> 0.69
B12: 16㎝ | C12: ='다-1.1-0-1 수량산출(소구역-소나무)'!E9+'다-1.1-0-1 수량산출(소구역-해송)'!E9 -> 1.0542 | D12: ㎥ | E12: =산출기초조사서!E11 -> 1.32 | F12: ㎥/인 | G12: =ROUND(C12/E12,2) -> 0.8
B13: 18㎝ | C13: ='다-1.1-0-1 수량산출(소구역-소나무)'!E10+'다-1.1-0-1 수량산출(소구역-해송)'!E10 -> 2.26715 | D13: ㎥ | E13: =산출기초조사서!E12 -> 1.34 | F13: ㎥/인 | G13: =ROUND(C13/E13,2) -> 1.69
B14: 20㎝ | C14: ='다-1.1-0-1 수량산출(소구역-소나무)'!E11+'다-1.1-0-1 수량산출(소구역-해송)'!E11 -> 4.58801 | D14: ㎥ | E14: =산출기초조사서!E13 -> 1.51 | F14: ㎥/인 | G14: =ROUND(C14/E14,2) -> 3.04
B15: 22㎝ | C15: ='다-1.1-0-1 수량산출(소구역-소나무)'!E12+'다-1.1-0-1 수량산출(소구역-해송)'!E12 -> 4.33088 | D15: ㎥ | E15: =산출기초조사서!E14 -> 1.6 | F15: ㎥/인 | G15: =ROUND(C15/E15,2) -> 2.71
B16: 24㎝ | C16: ='다-1.1-0-1 수량산출(소구역-소나무)'!E13+'다-1.1-0-1 수량산출(소구역-해송)'!E13 -> 6.33849 | D16: ㎥ | E16: =산출기초조사서!E15 -> 1.74 | F16: ㎥/인 | G16: =ROUND(C16/E16,2) -> 3.64
B17: 26㎝ | C17: ='다-1.1-0-1 수량산출(소구역-소나무)'!E14+'다-1.1-0-1 수량산출(소구역-해송)'!E14 -> 7.51716 | D17: ㎥ | E17: =산출기초조사서!E16 -> 1.84 | F17: ㎥/인 | G17: =ROUND(C17/E17,2) -> 4.09
B18: 28㎝ | C18: ='다-1.1-0-1 수량산출(소구역-소나무)'!E15+'다-1.1-0-1 수량산출(소구역-해송)'!E15 -> 7.83408 | D18: ㎥ | E18: =산출기초조사서!E17 -> 1.94 | F18: ㎥/인 | G18: =ROUND(C18/E18,2) -> 4.04
B19: 30㎝ | C19: ='다-1.1-0-1 수량산출(소구역-소나무)'!E16+'다-1.1-0-1 수량산출(소구역-해송)'!E16 -> 14.7805 | D19: ㎥ | E19: =산출기초조사서!E18 -> 2.05 | F19: ㎥/인 | G19: =ROUND(C19/E19,2) -> 7.21
B20: 32㎝ | C20: ='다-1.1-0-1 수량산출(소구역-소나무)'!E17+'다-1.1-0-1 수량산출(소구역-해송)'!E17 -> 8.93388 | D20: ㎥ | E20: =산출기초조사서!E19 -> 2.13 | F20: ㎥/인 | G20: =ROUND(C20/E20,2) -> 4.19
... B28: 48㎝ | C28: ='다-1.1-0-1 수량산출(소구역-소나무)'!E25+'다-1.1-0-1 수량산출(소구역-해송)'!E25 -> 3.389 | D28: ㎥ | E28: =산출기초조사서!E27 -> 2.74 | F28: ㎥/인 | G28: =ROUND(C28/E28,2) -> 1.24
B29: 50㎝ | C29: ='다-1.1-0-1 수량산출(소구역-소나무)'!E26+'다-1.1-0-1 수량산출(소구역-해송)'!E26 -> 3.54288 | D29: ㎥ | E29: =산출기초조사서!$E$28 -> 2.8 | F29: ㎥/인 | G29: =ROUND(C29/E29,2) -> 1.27
B30: 52㎝ | C30: ='다-1.1-0-1 수량산출(소구역-소나무)'!E27+'다-1.1-0-1 수량산출(소구역-해송)'!E27 -> 2.06778 | D30: ㎥ | E30: =산출기초조사서!$E$28 -> 2.8 | F30: ㎥/인 | G30: =ROUND(C30/E30,2) -> 0.74
B31: 54㎝ | C31: ='다-1.1-0-1 수량산출(소구역-소나무)'!E28+'다-1.1-0-1 수량산출(소구역-해송)'!E28 -> 2.2247 | D31: ㎥ | E31: =산출기초조사서!$E$28 -> 2.8 | F31: ㎥/인 | G31: =ROUND(C31/E31,2) -> 0.79
B32: 56㎝ | C32: ='다-1.1-0-1 수량산출(소구역-소나무)'!E29+'다-1.1-0-1 수량산출(소구역-해송)'!E29 -> 4.53938 | D32: ㎥ | E32: =산출기초조사서!$E$28 -> 2.8 | F32: ㎥/인 | G32: =ROUND(C32/E32,2) -> 1.62
B33: 58㎝ | C33: ='다-1.1-0-1 수량산출(소구역-소나무)'!E30+'다-1.1-0-1 수량산출(소구역-해송)'!E30 -> 0 | D33: ㎥ | E33: =산출기초조사서!$E$28 -> 2.8 | F33: ㎥/인 | G33: =ROUND(C33/E33,2) -> 0
B34: 60㎝ | C34: ='다-1.1-0-1 수량산출(소구역-소나무)'!E31+'다-1.1-0-1 수량산출(소구역-해송)'!E31 -> 0 | D34: ㎥ | E34: =산출기초조사서!$E$28 -> 2.8 | F34: ㎥/인 | G34: =ROUND(C34/E34,2) -> 0
B35: 62㎝ | C35: ='다-1.1-0-1 수량산출(소구역-소나무)'!E32+'다-1.1-0-1 수량산출(소구역-해송)'!E32 -> 2.51782 | D35: ㎥ | E35: =산출기초조사서!$E$28 -> 2.8 | F35: ㎥/인 | G35: =ROUND(C35/E35,2) -> 0.9
B36: 64㎝ | C36: ='다-1.1-0-1 수량산출(소구역-소나무)'!E33+'다-1.1-0-1 수량산출(소구역-해송)'!E33 -> 0 | D36: ㎥ | E36: =산출기초조사서!$E$28 -> 2.8 | F36: ㎥/인 | G36: =ROUND(C36/E36,2) -> 0
B37: 66㎝ | C37: ='다-1.1-0-1 수량산출(소구역-소나무)'!E34+'다-1.1-0-1 수량산출(소구역-해송)'!E34 -> 0 | D37: ㎥ | E37: =산출기초조사서!$E$28 -> 2.8 | F37: ㎥/인 | G37: =ROUND(C37/E37,2) -> 0
B38: 68㎝ | C38: ='다-1.1-0-1 수량산출(소구역-소나무)'!E35+'다-1.1-0-1 수량산출(소구역-해송)'!E35 -> 0 | D38: ㎥ | E38: =산출기초조사서!$E$28 -> 2.8 | F38: ㎥/인 | G38: =ROUND(C38/E38,2) -> 0
B39: 70㎝ | C39: ='다-1.1-0-1 수량산출(소구역-소나무)'!E36+'다-1.1-0-1 수량산출(소구역-해송)'!E36 -> 0 | D39: ㎥ | E39: =산출기초조사서!$E$28 -> 2.8 | F39: ㎥/인 | G39: =ROUND(C39/E39,2) -> 0
B40: 72㎝ | C40: ='다-1.1-0-1 수량산출(소구역-소나무)'!E37+'다-1.1-0-1 수량산출(소구역-해송)'!E37 -> 0 | D40: ㎥ | E40: =산출기초조사서!$E$28 -> 2.8 | F40: ㎥/인 | G40: =ROUND(C40/E40,2) -> 0
... B44: 80㎝ | C44: ='다-1.1-0-1 수량산출(소구역-소나무)'!E41+'다-1.1-0-1 수량산출(소구역-해송)'!E41 -> 0 | D44: ㎥ | E44: =산출기초조사서!$E$28 -> 2.8 | F44: ㎥/인 | G44: =ROUND(C44/E44,2) -> 0
A45: 합계 | C45: =SUM(C7:C44) -> 153.54498 | G45: =SUM(G7:G44) -> 70.07
A46: ※위험목 제거는 제외

Sheet 다-1.1-0-1 수량산출(소구역-소나무)
A1: 1-0-1 수량산출-소구역모두베기-소나무 | U1: 124 | V1: 1.81 | W1: 100
A2: 경급 (㎝) | B2: 수고 (m) | C2: 본수 (본) | D2: 수간재적 (㎥/본) | E2: 총재적 (㎥) | F2: 지조율 (%) | G2: 조재율 (%) | H2: 총원목량 (㎥) | I2: 원목집재 재적별 집계 (㎥) | J2: 총조재량 (㎥) | K2: 총지조량 (㎥) | L2: 총입목재적 (㎥) | M2: 총원목 운반량 (㎥) | N2: 총잔가지 운반량 (㎥) 층적부피rm= 총잔가지량*1.81 | O2: 총파쇄량 =총지조+총조재 (㎥) | P2: 총파쇄량 =조재량+지조량 (㎥) | Q2: 총소각량 (㎥) | R2: 소각 단위품 (㎥/인) | S2: 총소각 소요품 (㎥/인) | T2: 비고 | AA2: =121.08*69000 -> 8354520 | AB2: =AA2-AA3 -> 8112360
AA3: =121.08*2000 -> 242160
A4: 6 | B4: 5 | C4: =SUMIF('라-1.1-0-1 GPS좌표 및 흉고(소구역-소나무)'!$C$4:$C$139,A4,'라-1.1-0-1 GPS좌표 및 흉고(소구역-소나무)'!$K$4:$K$139) -> 1 | D4: =IF(B4="","",INDEX(수간재적표!$C$2:$AX$427,$U$1+B4-2,A4/2-2)) -> 0.0078 | E4: =C4*D4 -> 0.0078 | F4: 28.9 | G4: =조재율표!H5*$W$1 -> 31 | H4: =E4*G4/100 -> 0.002418 | I4: =SUM(H4:H14) -> 9.913403 | J4: =E4-H4 -> 0.005382 | K4: =E4*F4/100 -> 0.0022542 | L4: =SUM(K4,E4) -> 0.0100542 | M4: =H4 -> 0.002418 | N4: =(J4+K4)*$V$1 -> 0.013821522 | O4: =J4+K4 -> 0.0076362 | P4: =J4+K4 -> 0.0076362 | Q4: =J4+K4 -> 0.0076362 | R4: =산출기초조사서!I6 -> 7.22 | S4: =ROUND(Q4/R4,2) -> 0 | V4: =D4*800 -> 6.24 | X4: =L4-H4 -> 0.0076362 | Y4: =D4*800 -> 6.24 | AB4: =(C4*100)/25 -> 4 | AE4: =SUMIF('라-1.1-0-1 GPS좌표 및 흉고(소구역-소나무)'!$C$4:$C$139,"6",'라-1.1-0-1 GPS좌표 및 흉고(소구역-소나무)'!$K$4:$K$139) -> 1
A5: 8 | C5: =SUMIF('라-1.1-0-1 GPS좌표 및 흉고(소구역-소나무)'!$C$4:$C$139,A5,'라-1.1-0-1 GPS좌표 및 흉고(소구역-소나무)'!$K$4:$K$139) -> 0 | D5: =IF(B5="","",INDEX(수간재적표!$C$2:$AX$427,$U$1+B5-2,A5/2-2)) | H5: =E5*G5/100 -> 0 | J5: =E5-H5 -> 0 | K5: =E5*F5/100 -> 0 | L5: =SUM(K5,E5) -> 0 | M5: =H5 -> 0 | N5: =(J5+K5)*$V$1 -> 0 | O5: =J5+K5 -> 0 | P5: =J5+K5 -> 0 | Q5: =J5+K5 -> 0 | R5: =산출기초조사서!I7 -> 7.39 | S5: =ROUND(Q5/R5,2) -> 0 | V5: =D5*800 -> #VALUE! | X5: =L5-H5 -> 0 | Z5: =D4*800 -> 6.24 | AB5: =(C5*100)/25 -> 0 | AE5: =SUMIF('라-1.1-0-1 GPS좌표 및 흉고(소구역-소나무)'!$C$4:$C$139,"8",'라-1.1-0-1 GPS좌표 및 흉고(소구역-소나무)'!$K$4:$K$139) -> 0
A6: 10 | B6: 8 | C6: =SUMIF('라-1.1-0-1 GPS좌표 및 흉고(소구역-소나무)'!$C$4:$C$139,A6,'라-1.1-0-1 GPS좌표 및 흉고(소구역-소나무)'!$K$4:$K$139) -> 1 | D6: =IF(B6="","",INDEX(수간재적표!$C$2:$AX$427,$U$1+B6-2,A6/2-2)) -> 0.03208 | E6: =C6*D6 -> 0.03208 | F6: 28.9 | G6: =조재율표!H5*$W$1 -> 31 | H6: =E6*G6/100 -> 0.0099448 | J6: =E6-H6 -> 0.0221352 | K6: =E6*F6/100 -> 0.00927112 | L6: =SUM(K6,E6) -> 0.04135112 | M6: =H6 -> 0.0099448 | N6: =(J6+K6)*$V$1 -> 0.056845439 | O6: =J6+K6 -> 0.03140632 | P6: =J6+K6 -> 0.03140632 | Q6: =J6+K6 -> 0.03140632 | R6: =산출기초조사서!I8 -> 7.56 | S6: =ROUND(Q6/R6,2) -> 0 | V6: =D6*800 -> 25.664 | X6: =L6-H6 -> 0.03140632 | AB6: =(C6*100)/25 -> 4 | AE6: =SUMIF('라-1.1-0-1 GPS좌표 및 흉고(소구역-소나무)'!$C$4:$C$139,"10",'라-1.1-0-1 GPS좌표 및 흉고(소구역-소나무)'!$K$4:$K$139) -> 1
A7: 12 | B7: 8 | C7: =SUMIF('라-1.1-0-1 GPS좌표 및 흉고(소구역-소나무)'!$C$4:$C$139,A7,'라-1.1-0-1 GPS좌표 및 흉고(소구역-소나무)'!$K$4:$K$139) -> 5 | D7: =IF(B7="","",INDEX(수간재적표!$C$2:$AX$427,$U$1+B7-2,A7/2-2)) -> 0.04505 | E7: =C7*D7 -> 0.22525 | F7: 28.9 | G7: =조재율표!H6*$W$1 -> 51 | H7: =E7*G7/100 -> 0.1148775 | J7: =E7-H7 -> 0.1103725 | K7: =E7*F7/100 -> 0.06509725 | L7: =SUM(K7,E7) -> 0.29034725 | M7: =H7 -> 0.1148775 | N7: =(J7+K7)*$V$1 -> 0.31760025 | O7: =J7+K7 -> 0.17546975 | P7: =J7+K7 -> 0.17546975 | Q7: =J7+K7 -> 0.17546975 | R7: =산출기초조사서!I9 -> 7.72 | S7: =ROUND(Q7/R7,2) -> 0.02 | V7: =D7*800 -> 36.04 | X7: =L7-H7 -> 0.17546975 | AB7: =(C7*100)/25 -> 20 | AE7: =SUMIF('라-1.1-0-1 GPS좌표 및 흉고(소구역-소나무)'!$C$4:$C$139,"12",'라-1.1-0-1 GPS좌표 및 흉고(소구역-소나무)'!$K$4:$K$139) -> 5
A8: 14 | B8: 9 | C8: =SUMIF('라-1.1-0-1 GPS좌표 및 흉고(소구역-소나무)'!$C$4:$C$139,A8,'라-1.1-0-1 GPS좌표 및 흉고(소구역-소나무)'!$K$4:$K$139) -> 5 | D8: =IF(B8="","",INDEX(수간재적표!$C$2:$AX$427,$U$1+B8-2,A8/2-2)) -> 0.06753 | E8: =C8*D8 -> 0.33765 | F8: 28.9 | G8: =조재율표!H7*$W$1 -> 64 | H8: =E8*G8/100 -> 0.216096 | J8: =E8-H8 -> 0.121554 | K8: =E8*F8/100 -> 0.09758085 | L8: =SUM(K8,E8) -> 0.43523085 | M8: =H8 -> 0.216096 | N8: =(J8+K8)*$V$1 -> 0.39663408 | O8: =J8+K8 -> 0.21913485 | P8: =J8+K8 -> 0.21913485 | Q8: =J8+K8 -> 0.21913485 | R8: =산출기초조사서!I10 -> 7.89 | S8: =ROUND(Q8/R8,2) -> 0.03 | V8: =D8*800 -> 54.024 | X8: =L8-H8 -> 0.21913485 | AB8: =(C8*100)/25 -> 20 | AE8: =SUMIF('라-1.1-0-1 GPS좌표 및 흉고(소구역-소나무)'!$C$4:$C$139,"14",'라-1.1-0-1 GPS좌표 및 흉고(소구역-소나무)'!$K$4:$K$139) -> 5
A9: 16 | B9: 9 | C9: =SUMIF('라-1.1-0-1 GPS좌표 및 흉고(소구역-소나무)'!$C$4:$C$139,A9,'라-1.1-0-1 GPS좌표 및 흉고(소구역-소나무)'!$K$4:$K$139) -> 3 | D9: =IF(B9="","",INDEX(수간재적표!$C$2:$AX$427,$U$1+B9-2,A9/2-2)) -> 0.08668 | E9: =C9*D9 -> 0.26004 | F9: 28.9 | G9: =조재율표!H8*$W$1 -> 72 | H9: =E9*G9/100 -> 0.1872288 | J9: =E9-H9 -> 0.0728112 | K9: =E9*F9/100 -> 0.07515156 | L9: =SUM(K9,E9) -> 0.33519156 | M9: =H9 -> 0.1872288 | N9: =(J9+K9)*$V$1 -> 0.2678126 | O9: =J9+K9 -> 0.14796276 | P9: =J9+K9 -> 0.14796276 | Q9: =J9+K9 -> 0.14796276 | R9: =산출기초조사서!I11 -> 8.06 | S9: =ROUND(Q9/R9,2) -> 0.02 | V9: =D9*800 -> 69.344 | X9: =L9-H9 -> 0.14796276 | AB9: =(C9*100)/25 -> 12 | AE9: =SUMIF('라-1.1-0-1 GPS좌표 및 흉고(소구역-소나무)'!$C$4:$C$139,"16",'라-1.1-0-1 GPS좌표 및 흉고(소구역-소나무)'!$K$4:$K$139) -> 3 | AF9: =AE9+AE10+AE11 -> 19
A10: 18 | B10: 11 | C10: =SUMIF('라-1.1-0-1 GPS좌표 및 흉고(소구역-소나무)'!$C$4:$C$139,A10,'라-1.1-0-1 GPS좌표 및 흉고(소구역-소나무)'!$K$4:$K$139) -> 5 | D10: =IF(B10="","",INDEX(수간재적표!$C$2:$AX$427,$U$1+B10-2,A10/2-2)) -> 0.13195 | E10: =C10*D10 -> 0.65975 | F10: 28.9 | G10: =조재율표!H9*$W$1 -> 77 | H10: =E10*G10/100 -> 0.5080075 | J10: =E10-H10 -> 0.1517425 | K10: =E10*F10/100 -> 0.19066775 | L10: =SUM(K10,E10) -> 0.85041775 | M10: =H10 -> 0.5080075 | N10: =(J10+K10)*$V$1 -> 0.61976255 | O10: =J10+K10 -> 0.34241025 | P10: =J10+K10 -> 0.34241025 | Q10: =J10+K10 -> 0.34241025 | R10: =산출기초조사서!I12 -> 8.22 | S10: =ROUND(Q10/R10,2) -> 0.04 | V10: =D10*800 -> 105.56 | X10: =L10-H10 -> 0.34241025 | AB10: =(C10*100)/25 -> 20 | AE10: =SUMIF('라-1.1-0-1 GPS좌표 및 흉고(소구역-소나무)'!$C$4:$C$139,"18",'라-1.1-0-1 GPS좌표 및 흉고(소구역-소나무)'!$K$4:$K$139) -> 5
A11: 20 | B11: 12 | C11: =SUMIF('라-1.1-0-1 GPS좌표 및 흉고(소구역-소나무)'!$C$4:$C$139,A11,'라-1.1-0-1 GPS좌표 및 흉고(소구역-소나무)'!$K$4:$K$139) -> 11 | D11: =IF(B11="","",INDEX(수간재적표!$C$2:$AX$427,$U$1+B11-2,A11/2-2)) -> 0.17536 | E11: =C11*D11 -> 1.92896 | F11: 28.9 | G11: =조재율표!H10*$W$1 -> 80 | H11: =E11*G11/100 -> 1.543168 | J11: =E11-H11 -> 0.385792 | K11: =E11*F11/100 -> 0.55746944 | L11: =SUM(K11,E11) -> 2.4864294 | M11: =H11 -> 1.543168 | N11: =(J11+K11)*$V$1 -> 1.7073032 | O11: =J11+K11 -> 0.94326144 | P11: =J11+K11 -> 0.94326144 | Q11: =J11+K11 -> 0.94326144 | R11: =산출기초조사서!I13 -> 8.39 | S11: =ROUND(Q11/R11,2) -> 0.11 | V11: =D11*800 -> 140.288 | X11: =L11-H11 -> 0.94326144 | AB11: =(C11*100)/25 -> 44 | AE11: =SUMIF('라-1.1-0-1 GPS좌표 및 흉고(소구역-소나무)'!$C$4:$C$139,"20",'라-1.1-0-1 GPS좌표 및 흉고(소구역-소나무)'!$K$4:$K$139) -> 11
A12: 22 | B12: 13 | C12: =SUMIF('라-1.1-0-1 GPS좌표 및 흉고(소구역-소나무)'!$C$4:$C$139,A12,'라-1.1-0-1 GPS좌표 및 흉고(소구역-소나무)'!$K$4:$K$139) -> 8 | D12: =IF(B12="","",INDEX(수간재적표!$C$2:$AX$427,$U$1+B12-2,A12/2-2)) -> 0.2272 | E12: =C12*D12 -> 1.8176 | F12: 28.9 | G12: =조재율표!H11*$W$1 -> 82 | H12: =E12*G12/100 -> 1.490432 | J12: =E12-H12 -> 0.327168 | K12: =E12*F12/100 -> 0.5252864 | L12: =SUM(K12,E12) -> 2.3428864 | M12: =H12 -> 1.490432 | N12: =(J12+K12)*$V$1 -> 1.5429425 | O12: =J12+K12 -> 0.8524544 | P12: =J12+K12 -> 0.8524544 | Q12: =J12+K12 -> 0.8524544 | R12: =산출기초조사서!I14 -> 8.56 | S12: =ROUND(Q12/R12,2) -> 0.1 | V12: =D12*800 -> 181.76 | X12: =L12-H12 -> 0.8524544 | AB12: =(C12*100)/25 -> 32 | AC12: 4.8 | AE12: =SUMIF('라-1.1-0-1 GPS좌표 및 흉고(소구역-소나무)'!$C$4:$C$139,"22",'라-1.1-0-1 GPS좌표 및 흉고(소구역-소나무)'!$K$4:$K$139) -> 8
A13: 24 | B13: 14 | C13: =SUMIF('라-1.1-0-1 GPS좌표 및 흉고(소구역-소나무)'!$C$4:$C$139,A13,'라-1.1-0-1 GPS좌표 및 흉고(소구역-소나무)'!$K$4:$K$139) -> 9 | D13: =IF(B13="","",INDEX(수간재적표!$C$2:$AX$427,$U$1+B13-2,A13/2-2)) -> 0.28819 | E13: =C13*D13 -> 2.59371 | F13: 28.9 | G13: =조재율표!H12*$W$1 -> 84 | H13: =E13*G13/100 -> 2.1787164 | J13: =E13-H13 -> 0.4149936 | K13: =E13*F13/100 -> 0.74958219 | L13: =SUM(K13,E13) -> 3.3432922 | M13: =H13 -> 2.1787164 | N13: =(J13+K13)*$V$1 -> 2.1078822 | O13: =J13+K13 -> 1.1645758 | P13: =J13+K13 -> 1.1645758 | Q13: =J13+K13 -> 1.1645758 | R13: =산출기초조사서!I15 -> 8.72 | S13: =ROUND(Q13/R13,2) -> 0.13 | V13: =D13*800 -> 230.552 | X13: =L13-H13 -> 1.1645758 | AB13: =(C13*100)/25 -> 36 | AE13: =SUMIF('라-1.1-0-1 GPS좌표 및 흉고(소구역-소나무)'!$C$4:$C$139,"24",'라-1.1-0-1 GPS좌표 및 흉고(소구역-소나무)'!$K$4:$K$139) -> 9
A14: 26 | B14: 15 | C14: =SUMIF('라-1.1-0-1 GPS좌표 및 흉고(소구역-소나무)'!$C$4:$C$139,A14,'라-1.1-0-1 GPS좌표 및 흉고(소구역-소나무)'!$K$4:$K$139) -> 12 | D14: =IF(B14="","",INDEX(수간재적표!$C$2:$AX$427,$U$1+B14-2,A14/2-2)) -> 0.35907 | E14: =C14*D14 -> 4.30884 | F14: 28.9 | G14: =조재율표!H13*$W$1 -> 85 | H14: =E14*G14/100 -> 3.662514 | J14: =E14-H14 -> 0.646326 | K14: =E14*F14/100 -> 1.2452548 | L14: =SUM(K14,E14) -> 5.5540948 | M14: =H14 -> 3.662514 | N14: =(J14+K14)*$V$1 -> 3.4237612 | O14: =J14+K14 -> 1.8915808 | P14: =J14+K14 -> 1.8915808 | Q14: =J14+K14 -> 1.8915808 | R14: =산출기초조사서!I16 -> 8.89 | S14: =ROUND(Q14/R14,2) -> 0.21 | V14: =D14*800 -> 287.256 | X14: =L14-H14 -> 1.8915808 | AB14: =(C14*100)/25 -> 48 | AE14: =SUMIF('라-1.1-0-1 GPS좌표 및 흉고(소구역-소나무)'!$C$4:$C$139,"26",'라-1.1-0-1 GPS좌표 및 흉고(소구역-소나무)'!$K$4:$K$139) -> 12
A15: 28 | B15: 16 | C15: =SUMIF('라-1.1-0-1 GPS좌표 및 흉고(소구역-소나무)'!$C$4:$C$139,A15,'라-1.1-0-1 GPS좌표 및 흉고(소구역-소나무)'!$K$4:$K$139) -> 3 | D15: =IF(B15="","",INDEX(수간재적표!$C$2:$AX$427,$U$1+B15-2,A15/2-2)) -> 0.44056 | E15: =C15*D15 -> 1.32168 | F15: 28.9 | G15: =조재율표!H14*$W$1 -> 86 | H15: =E15*G15/100 -> 1.1366448 | I15: =SUM(H15:H16) -> 8.0175048 | J15: =E15-H15 -> 0.1850352 | K15: =E15*F15/100 -> 0.38196552 | L15: =SUM(K15,E15) -> 1.7036455 | M15: =H15 -> 1.1366448 | N15: =(J15+K15)*$V$1 -> 1.0262713 | O15: =J15+K15 -> 0.56700072 | P15: =J15+K15 -> 0.56700072 | Q15: =J15+K15 -> 0.56700072 | R15: =산출기초조사서!I17 -> 9.06 | S15: =ROUND(Q15/R15,2) -> 0.06 | V15: =D15*800 -> 352.448 | X15: =L15-H15 -> 0.56700072 | AB15: =(C15*100)/25 -> 12 | AE15: =SUMIF('라-1.1-0-1 GPS좌표 및 흉고(소구역-소나무)'!$C$4:$C$139,"28",'라-1.1-0-1 GPS좌표 및 흉고(소구역-소나무)'!$K$4:$K$139) -> 3
A16: 30 | B16: 17 | C16: =SUMIF('라-1.1-0-1 GPS좌표 및 흉고(소구역-소나무)'!$C$4:$C$139,A16,'라-1.1-0-1 GPS좌표 및 흉고(소구역-소나무)'!$K$4:$K$139) -> 15 | D16: =IF(B16="","",INDEX(수간재적표!$C$2:$AX$427,$U$1+B16-2,A16/2-2)) -> 0.5334 | E16: =C16*D16 -> 8.001 | F16: 28.9 | G16: =조재율표!H15*$W$1 -> 86 | H16: =E16*G16/100 -> 6.88086 | J16: =E16-H16 -> 1.12014 | K16: =E16*F16/100 -> 2.312289 | L16: =SUM(K16,E16) -> 10.313289 | M16: =H16 -> 6.88086 | N16: =(J16+K16)*$V$1 -> 6.2126965 | O16: =J16+K16 -> 3.432429 | P16: =J16+K16 -> 3.432429 | Q16: =J16+K16 -> 3.432429 | R16: =산출기초조사서!I18 -> 9.23 | S16: =ROUND(Q16/R16,2) -> 0.37 | V16: =D16*800 -> 426.72 | X16: =L16-H16 -> 3.432429 | AB16: =(C16*100)/25 -> 60 | AE16: =SUMIF('라-1.1-0-1 GPS좌표 및 흉고(소구역-소나무)'!$C$4:$C$139,"30",'라-1.1-0-1 GPS좌표 및 흉고(소구역-소나무)'!$K$4:$K$139) -> 15
A17: 32 | B17: 17 | C17: =SUMIF('라-1.1-0-1 GPS좌표 및 흉고(소구역-소나무)'!$C$4:$C$139,A17,'라-1.1-0-1 GPS좌표 및 흉고(소구역-소나무)'!$K$4:$K$139) -> 9 | D17: =IF(B17="","",INDEX(수간재적표!$C$2:$AX$427,$U$1+B17-2,A17/2-2)) -> 0.60294 | E17: =C17*D17 -> 5.42646 | F17: 28.9 | G17: =조재율표!H16*$W$1 -> 87 | H17: =E17*G17/100 -> 4.7210202 | I17: =SUM(H17:H36) -> 54.027213 | J17: =E17-H17 -> 0.7054398 | K17: =E17*F17/100 -> 1.5682469 | L17: =SUM(K17,E17) -> 6.9947069 | M17: =H17 -> 4.7210202 | N17: =(J17+K17)*$V$1 -> 4.115373 | O17: =J17+K17 -> 2.2736867 | P17: =J17+K17 -> 2.2736867 | Q17: =J17+K17 -> 2.2736867 | R17: =산출기초조사서!I19 -> 9.39 | S17: =ROUND(Q17/R17,2) -> 0.24 | V17: =D17*800 -> 482.352 | X17: =L17-H17 -> 2.2736867 | AB17: =(C17*100)/25 -> 36 | AE17: =SUMIF('라-1.1-0-1 GPS좌표 및 흉고(소구역-소나무)'!$C$4:$C$139,"32",'라-1.1-0-1 GPS좌표 및 흉고(소구역-소나무)'!$K$4:$K$139) -> 9
A18: 34 | B18: 18 | C18: =SUMIF('라-1.1-0-1 GPS좌표 및 흉고(소구역-소나무)'!$C$4:$C$139,A18,'라-1.1-0-1 GPS좌표 및 흉고(소구역-소나무)'!$K$4:$K$139) -> 7 | D18: =IF(B18="","",INDEX(수간재적표!$C$2:$AX$427,$U$1+B18-2,A18/2-2)) -> 0.71634 | E18: =C18*D18 -> 5.01438 | F18: 28.9 | G18: =조재율표!H17*$W$1 -> 87 | H18: =E18*G18/100 -> 4.3625106 | J18: =E18-H18 -> 0.6518694 | K18: =E18*F18/100 -> 1.4491558 | L18: =SUM(K18,E18) -> 6.4635358 | M18: =H18 -> 4.3625106 | N18: =(J18+K18)*$V$1 -> 3.8028556 | O18: =J18+K18 -> 2.1010252 | P18: =J18+K18 -> 2.1010252 | Q18: =J18+K18 -> 2.1010252 | R18: =산출기초조사서!I20 -> 9.56 | S18: =ROUND(Q18/R18,2) -> 0.22 | V18: =D18*800 -> 573.072 | X18: =L18-H18 -> 2.1010252 | AB18: =(C18*100)/25 -> 28 | AE18: =SUMIF('라-1.1-0-1 GPS좌표 및 흉고(소구역-소나무)'!$C$4:$C$139,"34",'라-1.1-0-1 GPS좌표 및 흉고(소구역-소나무)'!$K$4:$K$139) -> 7
A19: 36 | B19: 18 | C19: =SUMIF('라-1.1-0-1 GPS좌표 및 흉고(소구역-소나무)'!$C$4:$C$139,A19,'라-1.1-0-1 GPS좌표 및 흉고(소구역-소나무)'!$K$4:$K$139) -> 10 | D19: =IF(B19="","",INDEX(수간재적표!$C$2:$AX$427,$U$1+B19-2,A19/2-2)) -> 0.79879 | E19: =C19*D19 -> 7.9879 | F19: 28.9 | G19: =조재율표!H18*$W$1 -> 88 | H19: =E19*G19/100 -> 7.029352 | J19: =E19-H19 -> 0.958548 | K19: =E19*F19/100 -> 2.3085031 | L19: =SUM(K19,E19) -> 10.296403 | M19: =H19 -> 7.029352 | N19: =(J19+K19)*$V$1 -> 5.9133625 | O19: =J19+K19 -> 3.2670511 | P19: =J19+K19 -> 3.2670511 | Q19: =J19+K19 -> 3.2670511 | R19: =산출기초조사서!I21 -> 9.73 | S19: =ROUND(Q19/R19,2) -> 0.34 | V19: =D19*800 -> 639.032 | X19: =L19-H19 -> 3.2670511 | AB19: =(C19*100)/25 -> 40 | AE19: =SUMIF('라-1.1-0-1 GPS좌표 및 흉고(소구역-소나무)'!$C$4:$C$139,"36",'라-1.1-0-1 GPS좌표 및 흉고(소구역-소나무)'!$K$4:$K$139) -> 10
A20: 38 | B20: 19 | C20: =SUMIF('라-1.1-0-1 GPS좌표 및 흉고(소구역-소나무)'!$C$4:$C$139,A20,'라-1.1-0-1 GPS좌표 및 흉고(소구역-소나무)'!$K$4:$K$139) -> 6 | D20: =IF(B20="","",INDEX(수간재적표!$C$2:$AX$427,$U$1+B20-2,A20/2-2)) -> 0.93476 | E20: =C20*D20 -> 5.60856 | F20: 28.9 | G20: =조재율표!H19*$W$1 -> 88 | H20: =E20*G20/100 -> 4.9355328 | J20: =E20-H20 -> 0.6730272 | K20: =E20*F20/100 -> 1.6208738 | L20: =SUM(K20,E20) -> 7.2294338 | M20: =H20 -> 4.9355328 | N20: =(J20+K20)*$V$1 -> 4.1519609 | O20: =J20+K20 -> 2.293901 | P20: =J20+K20 -> 2.293901 | Q20: =J20+K20 -> 2.293901 | R20: =산출기초조사서!I22 -> 9.89 | S20: =ROUND(Q20/R20,2) -> 0.23 | V20: =D20*800 -> 747.808 | X20: =L20-H20 -> 2.293901 | AB20: =(C20*100)/25 -> 24 | AE20: =SUMIF('라-1.1-0-1 GPS좌표 및 흉고(소구역-소나무)'!$C$4:$C$139,"38",'라-1.1-0-1 GPS좌표 및 흉고(소구역-소나무)'!$K$4:$K$139) -> 6
A21: 40 | B21: 20 | C21: =SUMIF('라-1.1-0-1 GPS좌표 및 흉고(소구역-소나무)'!$C$4:$C$139,A21,'라-1.1-0-1 GPS좌표 및 흉고(소구역-소나무)'!$K$4:$K$139) -> 9 | D21: =IF(B21="","",INDEX(수간재적표!$C$2:$AX$427,$U$1+B21-2,A21/2-2)) -> 1.0853 | E21: =C21*D21 -> 9.7677 | F21: 28.9 | G21: =조재율표!H20*$W$1 -> 88 | H21: =E21*G21/100 -> 8.595576 | J21: =E21-H21 -> 1.172124 | K21: =E21*F21/100 -> 2.8228653 | L21: =SUM(K21,E21) -> 12.590565 | M21: =H21 -> 8.595576 | N21: =(J21+K21)*$V$1 -> 7.2309306 | O21: =J21+K21 -> 3.9949893 | P21: =J21+K21 -> 3.9949893 | Q21: =J21+K21 -> 3.9949893 | R21: =산출기초조사서!I23 -> 10.06 | S21: =ROUND(Q21/R21,2) -> 0.4 | V21: =D21*800 -> 868.24 | X21: =L21-H21 -> 3.9949893 | AB21: =(C21*100)/25 -> 36 | AE21: =SUMIF('라-1.1-0-1 GPS좌표 및 흉고(소구역-소나무)'!$C$4:$C$139,"40",'라-1.1-0-1 GPS좌표 및 흉고(소구역-소나무)'!$K$4:$K$139) -> 9
A22: 42 | B22: 20 | C22: =SUMIF('라-1.1-0-1 GPS좌표 및 흉고(소구역-소나무)'!$C$4:$C$139,A22,'라-1.1-0-1 GPS좌표 및 흉고(소구역-소나무)'!$K$4:$K$139) -> 4 | D22: =IF(B22="","",INDEX(수간재적표!$C$2:$AX$427,$U$1+B22-2,A22/2-2)) -> 1.19169 | E22: =C22*D22 -> 4.76676 | F22: 28.9 | G22: =조재율표!H21*$W$1 -> 88 | H22: =E22*G22/100 -> 4.1947488 | J22: =E22-H22 -> 0.5720112 | K22: =E22*F22/100 -> 1.3775936 | L22: =SUM(K22,E22) -> 6.1443536 | M22: =H22 -> 4.1947488 | N22: =(J22+K22)*$V$1 -> 3.5287848 | O22: =J22+K22 -> 1.9496048 | P22: =J22+K22 -> 1.9496048 | Q22: =J22+K22 -> 1.9496048 | R22: =산출기초조사서!I24 -> 10.23 | S22: =ROUND(Q22/R22,2) -> 0.19 | V22: =D22*800 -> 953.352 | X22: =L22-H22 -> 1.9496048 | AB22: =(C22*100)/25 -> 16 | AE22: =SUMIF('라-1.1-0-1 GPS좌표 및 흉고(소구역-소나무)'!$C$4:$C$139,"42",'라-1.1-0-1 GPS좌표 및 흉고(소구역-소나무)'!$K$4:$K$139) -> 4
A23: 44 | B23: 21 | C23: =SUMIF('라-1.1-0-1 GPS좌표 및 흉고(소구역-소나무)'!$C$4:$C$139,A23,'라-1.1-0-1 GPS좌표 및 흉고(소구역-소나무)'!$K$4:$K$139) -> 2 | D23: =IF(B23="","",INDEX(수간재적표!$C$2:$AX$427,$U$1+B23-2,A23/2-2)) -> 1.36807 | E23: =C23*D23 -> 2.73614 | F23: 28.9 | G23: =조재율표!H22*$W$1 -> 89 | H23: =E23*G23/100 -> 2.4351646 | J23: =E23-H23 -> 0.3009754 | K23: =E23*F23/100 -> 0.79074446 | L23: =SUM(K23,E23) -> 3.5268845 | M23: =H23 -> 2.4351646 | N23: =(J23+K23)*$V$1 -> 1.9760129 | O23: =J23+K23 -> 1.0917199 | P23: =J23+K23 -> 1.0917199 | Q23: =J23+K23 -> 1.0917199 | R23: =산출기초조사서!I25 -> 10.4 | S23: =ROUND(Q23/R23,2) -> 0.1 | V23: =D23*800 -> 1094.456 | X23: =L23-H23 -> 1.0917199 | AB23: =(C23*100)/25 -> 8 | AE23: =SUMIF('라-1.1-0-1 GPS좌표 및 흉고(소구역-소나무)'!$C$4:$C$139,"44",'라-1.1-0-1 GPS좌표 및 흉고(소구역-소나무)'!$K$4:$K$139) -> 2
A24: 46 | B24: 22 | C24: =SUMIF('라-1.1-0-1 GPS좌표 및 흉고(소구역-소나무)'!$C$4:$C$139,A24,'라-1.1-0-1 GPS좌표 및 흉고(소구역-소나무)'!$K$4:$K$139) -> 5 | D24: =IF(B24="","",INDEX(수간재적표!$C$2:$AX$427,$U$1+B24-2,A24/2-2)) -> 1.56105 | E24: =C24*D24 -> 7.80525 | F24: 28.9 | G24: =조재율표!H23*$W$1 -> 89 | H24: =E24*G24/100 -> 6.9466725 | J24: =E24-H24 -> 0.8585775 | K24: =E24*F24/100 -> 2.2557173 | L24: =SUM(K24,E24) -> 10.060967 | M24: =H24 -> 6.9466725 | N24: =(J24+K24)*$V$1 -> 5.6368735 | O24: =J24+K24 -> 3.1142948 | P24: =J24+K24 -> 3.1142948 | Q24: =J24+K24 -> 3.1142948 | R24: =산출기초조사서!I26 -> 10.56 | S24: =ROUND(Q24/R24,2) -> 0.29 | V24: =D24*800 -> 1248.84 | X24: =L24-H24 -> 3.1142948 | AB24: =(C24*100)/25 -> 20 | AE24: =SUMIF('라-1.1-0-1 GPS좌표 및 흉고(소구역-소나무)'!$C$4:$C$139,"46",'라-1.1-0-1 GPS좌표 및 흉고(소구역-소나무)'!$K$4:$K$139) -> 5
A25: 48 | B25: 22 | C25: =SUMIF('라-1.1-0-1 GPS좌표 및 흉고(소구역-소나무)'!$C$4:$C$139,A25,'라-1.1-0-1 GPS좌표 및 흉고(소구역-소나무)'!$K$4:$K$139) -> 2 | D25: =IF(B25="","",INDEX(수간재적표!$C$2:$AX$427,$U$1+B25-2,A25/2-2)) -> 1.6945 | E25: =C25*D25 -> 3.389 | F25: 28.9 | G25: =조재율표!H24*$W$1 -> 89 | H25: =E25*G25/100 -> 3.01621 | J25: =E25-H25 -> 0.37279 | K25: =E25*F25/100 -> 0.979421 | L25: =SUM(K25,E25) -> 4.368421 | M25: =H25 -> 3.01621 | N25: =(J25+K25)*$V$1 -> 2.4475019 | O25: =J25+K25 -> 1.352211 | P25: =J25+K25 -> 1.352211 | Q25: =J25+K25 -> 1.352211 | R25: =산출기초조사서!$I$27 -> 10.73 | S25: =ROUND(Q25/R25,2) -> 0.13 | V25: =D25*800 -> 1355.6 | X25: =L25-H25 -> 1.352211 | AB25: =(C25*100)/25 -> 8 | AE25: =SUMIF('라-1.1-0-1 GPS좌표 및 흉고(소구역-소나무)'!$C$4:$C$139,"48",'라-1.1-0-1 GPS좌표 및 흉고(소구역-소나무)'!$K$4:$K$139) -> 2
A26: 50 | B26: 23 | C26: =SUMIF('라-1.1-0-1 GPS좌표 및 흉고(소구역-소나무)'!$C$4:$C$139,A26,'라-1.1-0-1 GPS좌표 및 흉고(소구역-소나무)'!$K$4:$K$139) -> 1 | D26: =IF(B26="","",INDEX(수간재적표!$C$2:$AX$427,$U$1+B26-2,A26/2-2)) -> 1.91669 | E26: =C26*D26 -> 1.91669 | F26: 28.9 | G26: =조재율표!H25*$W$1 -> 89 | H26: =E26*G26/100 -> 1.7058541 | J26: =E26-H26 -> 0.2108359 | K26: =E26*F26/100 -> 0.55392341 | L26: =SUM(K26,E26) -> 2.4706134 | M26: =H26 -> 1.7058541 | N26: =(J26+K26)*$V$1 -> 1.3842144 | O26: =J26+K26 -> 0.76475931 | P26: =J26+K26 -> 0.76475931 | Q26: =J26+K26 -> 0.76475931 | V26: =D26*800 -> 1533.352 | X26: =L26-H26 -> 0.76475931 | AB26: =(C26*100)/25 -> 4 | AE26: =SUMIF('라-1.1-0-1 GPS좌표 및 흉고(소구역-소나무)'!$C$4:$C$139,"50",'라-1.1-0-1 GPS좌표 및 흉고(소구역-소나무)'!$K$4:$K$139) -> 1
A27: 52 | B27: 23 | C27: =SUMIF('라-1.1-0-1 GPS좌표 및 흉고(소구역-소나무)'!$C$4:$C$139,A27,'라-1.1-0-1 GPS좌표 및 흉고(소구역-소나무)'!$K$4:$K$139) -> 1 | D27: =IF(B27="","",INDEX(수간재적표!$C$2:$AX$427,$U$1+B27-2,A27/2-2)) -> 2.06778 | E27: =C27*D27 -> 2.06778 | F27: 28.9 | G27: =조재율표!H26*$W$1 -> 89 | H27: =E27*G27/100 -> 1.8403242 | J27: =E27-H27 -> 0.2274558 | K27: =E27*F27/100 -> 0.59758842 | L27: =SUM(K27,E27) -> 2.6653684 | M27: =H27 -> 1.8403242 | N27: =(J27+K27)*$V$1 -> 1.49333 | O27: =J27+K27 -> 0.82504422 | P27: =J27+K27 -> 0.82504422 | Q27: =J27+K27 -> 0.82504422 | R27: =산출기초조사서!$I$27 -> 10.73 | S27: =ROUND(Q27/R27,2) -> 0.08 | X27: =L27-H27 -> 0.82504422 | AB27: =(C27*100)/25 -> 4 | AE27: =SUMIF('라-1.1-0-1 GPS좌표 및 흉고(소구역-소나무)'!$C$4:$C$139,"52",'라-1.1-0-1 GPS좌표 및 흉고(소구역-소나무)'!$K$4:$K$139) -> 1
A28: 54 | B28: 23 | C28: =SUMIF('라-1.1-0-1 GPS좌표 및 흉고(소구역-소나무)'!$C$4:$C$139,A28,'라-1.1-0-1 GPS좌표 및 흉고(소구역-소나무)'!$K$4:$K$139) -> 1 | D28: =IF(B28="","",INDEX(수간재적표!$C$2:$AX$427,$U$1+B28-2,A28/2-2)) -> 2.2247 | E28: =C28*D28 -> 2.2247 | F28: 28.9 | G28: =조재율표!H27*$W$1 -> 90 | H28: =E28*G28/100 -> 2.00223 | J28: =E28-H28 -> 0.22247 | K28: =E28*F28/100 -> 0.6429383 | L28: =SUM(K28,E28) -> 2.8676383 | M28: =H28 -> 2.00223 | N28: =(J28+K28)*$V$1 -> 1.566389 | O28: =J28+K28 -> 0.8654083 | P28: =J28+K28 -> 0.8654083 | Q28: =J28+K28 -> 0.8654083 | X28: =L28-H28 -> 0.8654083 | AB28: =(C28*100)/25 -> 4 | AE28: =SUMIF('라-1.1-0-1 GPS좌표 및 흉고(소구역-소나무)'!$C$4:$C$139,"54",'라-1.1-0-1 GPS좌표 및 흉고(소구역-소나무)'!$K$4:$K$139) -> 1
A29: 56 | B29: 24 | C29: =SUMIF('라-1.1-0-1 GPS좌표 및 흉고(소구역-소나무)'!$C$4:$C$139,A29,'라-1.1-0-1 GPS좌표 및 흉고(소구역-소나무)'!$K$4:$K$139) -> 1 | D29: =IF(B29="","",INDEX(수간재적표!$C$2:$AX$427,$U$1+B29-2,A29/2-2)) -> 2.49113 | E29: =C29*D29 -> 2.49113 | F29: 28.9 | G29: =조재율표!H28*$W$1 -> 90 | H29: =E29*G29/100 -> 2.242017 | J29: =E29-H29 -> 0.249113 | K29: =E29*F29/100 -> 0.71993657 | L29: =SUM(K29,E29) -> 3.2110666 | M29: =H29 -> 2.242017 | N29: =(J29+K29)*$V$1 -> 1.7539797 | O29: =J29+K29 -> 0.96904957 | P29: =J29+K29 -> 0.96904957 | Q29: =J29+K29 -> 0.96904957 | X29: =L29-H29 -> 0.96904957 | AB29: =(C29*100)/25 -> 4 | AE29: =SUMIF('라-1.1-0-1 GPS좌표 및 흉고(소구역-소나무)'!$C$4:$C$139,"56",'라-1.1-0-1 GPS좌표 및 흉고(소구역-소나무)'!$K$4:$K$139) -> 1
A30: 58 | C30: =SUMIF('라-1.1-0-1 GPS좌표 및 흉고(소구역-소나무)'!$C$4:$C$139,A30,'라-1.1-0-1 GPS좌표 및 흉고(소구역-소나무)'!$K$4:$K$139) -> 0 | H30: =E30*G30/100 -> 0 | J30: =E30-H30 -> 0 | K30: =E30*F30/100 -> 0 | L30: =SUM(K30,E30) -> 0 | M30: =H30 -> 0 | N30: =(J30+K30)*$V$1 -> 0 | O30: =J30+K30 -> 0 | P30: =J30+K30 -> 0 | Q30: =J30+K30 -> 0 | V30: =D30*800 -> 0 | X30: =L30-H30 -> 0 | AB30: =(C30*100)/25 -> 0 | AE30: =SUMIF('라-1.1-0-1 GPS좌표 및 흉고(소구역-소나무)'!$C$4:$C$139,"58",'라-1.1-0-1 GPS좌표 및 흉고(소구역-소나무)'!$K$4:$K$139) -> 0
A31: 60 | C31: =SUMIF('라-1.1-0-1 GPS좌표 및 흉고(소구역-소나무)'!$C$4:$C$139,A31,'라-1.1-0-1 GPS좌표 및 흉고(소구역-소나무)'!$K$4:$K$139) -> 0 | D31: =IF(B31="","",INDEX([412]수간재적표!$C$2:$AX$427,$U$1+B31-2,A31/2-2)) | H31: =E31*G31/100 -> 0 | J31: =E31-H31 -> 0 | K31: =E31*F31/100 -> 0 | L31: =SUM(K31,E31) -> 0 | M31: =H31 -> 0 | N31: =(J31+K31)*$V$1 -> 0 | O31: =J31+K31 -> 0 | P31: =J31+K31 -> 0 | Q31: =J31+K31 -> 0 | X31: =L31-H31 -> 0 | AB31: =(C31*100)/25 -> 0 | AE31: =SUM(AE4:AE30) -> 136
A32: 62 | C32: =SUMIF('라-1.1-0-1 GPS좌표 및 흉고(소구역-소나무)'!$C$4:$C$139,A32,'라-1.1-0-1 GPS좌표 및 흉고(소구역-소나무)'!$K$4:$K$139) -> 0 | D32: =IF(B32="","",INDEX([412]수간재적표!$C$2:$AX$427,$U$1+B32-2,A32/2-2)) | H32: =E32*G32/100 -> 0 | J32: =E32-H32 -> 0 | K32: =E32*F32/100 -> 0 | L32: =SUM(K32,E32) -> 0 | M32: =H32 -> 0 | N32: =(J32+K32)*$V$1 -> 0 | O32: =J32+K32 -> 0 | P32: =J32+K32 -> 0 | Q32: =J32+K32 -> 0 | R32: =산출기초조사서!$I$27 -> 10.73 | S32: =ROUND(Q32/R32,2) -> 0 | X32: =L32-H32 -> 0 | AB32: =(C32*100)/25 -> 0
A33: 64 | C33: =SUMIF('라-1.1-0-1 GPS좌표 및 흉고(소구역-소나무)'!$C$4:$C$139,A33,'라-1.1-0-1 GPS좌표 및 흉고(소구역-소나무)'!$K$4:$K$139) -> 0 | D33: =IF(B33="","",INDEX([412]수간재적표!$C$2:$AX$427,$U$1+B33-2,A33/2-2)) | H33: =E33*G33/100 -> 0 | J33: =E33-H33 -> 0 | K33: =E33*F33/100 -> 0 | L33: =SUM(K33,E33) -> 0 | M33: =H33 -> 0 | N33: =(J33+K33)*$V$1 -> 0 | O33: =J33+K33 -> 0 | P33: =J33+K33 -> 0 | Q33: =J33+K33 -> 0 | X33: =L33-H33 -> 0 | AB33: =(C33*100)/25 -> 0
A34: 66 | C34: =SUMIF('라-1.1-0-1 GPS좌표 및 흉고(소구역-소나무)'!$C$4:$C$139,A34,'라-1.1-0-1 GPS좌표 및 흉고(소구역-소나무)'!$K$4:$K$139) -> 0 | D34: =IF(B34="","",INDEX([412]수간재적표!$C$2:$AX$427,$U$1+B34-2,A34/2-2)) | H34: =E34*G34/100 -> 0 | J34: =E34-H34 -> 0 | K34: =E34*F34/100 -> 0 | L34: =SUM(K34,E34) -> 0 | M34: =H34 -> 0 | N34: =(J34+K34)*$V$1 -> 0 | O34: =J34+K34 -> 0 | P34: =J34+K34 -> 0 | Q34: =J34+K34 -> 0 | X34: =L34-H34 -> 0 | AB34: =(C34*100)/25 -> 0
A35: 68 | C35: =SUMIF('라-1.1-0-1 GPS좌표 및 흉고(소구역-소나무)'!$C$4:$C$139,A35,'라-1.1-0-1 GPS좌표 및 흉고(소구역-소나무)'!$K$4:$K$139) -> 0 | D35: =IF(B35="","",INDEX([412]수간재적표!$C$2:$AX$427,$U$1+B35-2,A35/2-2)) | H35: =E35*G35/100 -> 0 | J35: =E35-H35 -> 0 | K35: =E35*F35/100 -> 0 | L35: =SUM(K35,E35) -> 0 | M35: =H35 -> 0 | N35: =(J35+K35)*$V$1 -> 0 | O35: =J35+K35 -> 0 | P35: =J35+K35 -> 0 | X35: =L35-H35 -> 0 | AB35: =(C35*100)/35 -> 0
A36: 70 | C36: =SUMIF('라-1.1-0-1 GPS좌표 및 흉고(소구역-소나무)'!$C$4:$C$139,A36,'라-1.1-0-1 GPS좌표 및 흉고(소구역-소나무)'!$K$4:$K$139) -> 0 | D36: =IF(B36="","",INDEX([412]수간재적표!$C$2:$AX$427,$U$1+B36-2,A36/2-2)) | H36: =E36*G36/100 -> 0 | J36: =E36-H36 -> 0 | K36: =E36*F36/100 -> 0 | L36: =SUM(K36,E36) -> 0 | M36: =H36 -> 0 | N36: =(J36+K36)*$V$1 -> 0 | O36: =J36+K36 -> 0 | P36: =J36+K36 -> 0 | X36: =L36-H36 -> 0
A37: 72 | C37: =SUMIF('라-1.1-0-1 GPS좌표 및 흉고(소구역-소나무)'!$C$4:$C$139,A37,'라-1.1-0-1 GPS좌표 및 흉고(소구역-소나무)'!$K$4:$K$139) -> 0 | H37: =E37*G37/100 -> 0 | J37: =E37-H37 -> 0 | K37: =E37*F37/100 -> 0 | L37: =SUM(K37,E37) -> 0 | M37: =H37 -> 0 | N37: =(J37+K37)*$V$1 -> 0 | O37: =J37+K37 -> 0
A38: 74 | C38: =SUMIF('라-1.1-0-1 GPS좌표 및 흉고(소구역-소나무)'!$C$4:$C$139,A38,'라-1.1-0-1 GPS좌표 및 흉고(소구역-소나무)'!$K$4:$K$139) -> 0 | H38: =E38*G38/100 -> 0 | J38: =E38-H38 -> 0 | K38: =E38*F38/100 -> 0 | L38: =SUM(K38,E38) -> 0 | M38: =H38 -> 0 | N38: =(J38+K38)*$V$1 -> 0 | O38: =J38+K38 -> 0
A39: 76 | C39: =SUMIF('라-1.1-0-1 GPS좌표 및 흉고(소구역-소나무)'!$C$4:$C$139,A39,'라-1.1-0-1 GPS좌표 및 흉고(소구역-소나무)'!$K$4:$K$139) -> 0 | D39: =IF(B39="","",INDEX([412]수간재적표!$C$2:$AX$427,$U$1+B39-2,A39/2-2)) | H39: =E39*G39/100 -> 0 | J39: =E39-H39 -> 0 | K39: =E39*F39/100 -> 0 | L39: =SUM(K39,E39) -> 0 | M39: =H39 -> 0 | N39: =(J39+K39)*$V$1 -> 0 | O39: =J39+K39 -> 0
A40: 78 | C40: =SUMIF('라-1.1-0-1 GPS좌표 및 흉고(소구역-소나무)'!$C$4:$C$139,A40,'라-1.1-0-1 GPS좌표 및 흉고(소구역-소나무)'!$K$4:$K$139) -> 0 | D40: =IF(B40="","",INDEX([412]수간재적표!$C$2:$AX$427,$U$1+B40-2,A40/2-2)) | H40: =E40*G40/100 -> 0 | J40: =E40-H40 -> 0 | K40: =E40*F40/100 -> 0 | L40: =SUM(K40,E40) -> 0 | M40: =H40 -> 0 | N40: =(J40+K40)*$V$1 -> 0 | O40: =J40+K40 -> 0
...

Sheet 라-1.1-0-1 GPS좌표 및 흉고(소구역-소나무)
A1: 1-0-1 소구역모두베기 GPS좌표 및 흉고-(소나무) | M1: =H146 -> 41
A2: 순번 | B2: 일련번호 | C2: 경급 (㎝) | D2: GRS80좌표-(TM 중부) | F2: 주 소 | G2: 피해고사목 | H2: 기타고사목 | I2: 비병징목 | J2: 비고
D3: x | E3: y | F3: 읍면동리 | M3: ○
A4: 1 | B4: B5_1500407 | C4: 18 | D4: 173374 | E4: 279040 | F4: 노안면 계림리 산 95 | H4: ○ | J4: 기타고사목 | K4: 1 | L4: 일반목 | O4: 42~50cm
A5: 2 | B5: B5_1500120 | C5: 18 | D5: 173488 | E5: 278992 | F5: 노안면 계림리 산 99 | I5: ○ | J5: 비병징목 | K5: 1 | L5: 일반목 | O5: 50cm이상
A6: 3 | B6: B5_1500119 | C6: 14 | D6: 173483 | E6: 278990 | F6: 노안면 계림리 산 99 | I6: ○ | J6: 비병징목 | K6: 1 | L6: 일반목
A7: 4 | B7: B5_1500118 | C7: 22 | D7: 173480 | E7: 278995 | F7: 노안면 계림리 산 99 | I7: ○ | J7: 비병징목 | K7: 1 | L7: 일반목
A8: 5 | B8: B5_1500117 | C8: 26 | D8: 173480 | E8: 278989 | F8: 노안면 계림리 산 99 | I8: ○ | J8: 비병징목 | K8: 1 | L8: 일반목
A9: 6 | B9: B5_1500116 | C9: 26 | D9: 173475 | E9: 278988 | F9: 노안면 계림리 산 99 | I9: ○ | J9: 비병징목 | K9: 1 | L9: 일반목
A10: 7 | B10: B5_1500115 | C10: 20 | D10: 173477 | E10: 278990 | F10: 노안면 계림리 산 99 | I10: ○ | J10: 비병징목 | K10: 1 | L10: 일반목
A11: 8 | B11: B5_1746333 | C11: 32 | D11: 173476 | E11: 278993 | F11: 노안면 계림리 산 99 | I11: ○ | J11: 비병징목 | K11: 1 | L11: 일반목
A12: 9 | B12: B5_1500114 | C12: 14 | D12: 173477 | E12: 278993 | F12: 노안면 계림리 산 99 | I12: ○ | J12: 비병징목 | K12: 1 | L12: 일반목
A13: 10 | B13: B5_1500113 | C13: 10 | D13: 173473 | E13: 279001 | F13: 노안면 계림리 산 97 | I13: ○ | J13: 비병징목 | K13: 1 | L13: 일반목
A14: 11 | B14: B5_1500111 | C14: 24 | D14: 173479 | E14: 278994 | F14: 노안면 계림리 산 99 | I14: ○ | J14: 비병징목 | K14: 1 | L14: 일반목
A15: 12 | B15: B5_1500109 | C15: 20 | D15: 173478 | E15: 279007 | F15: 노안면 계림리 산 97 | H15: ○ | J15: 기타고사목 | K15: 1 | L15: 일반목
A16: 13 | B16: B5_1500108 | C16: 22 | D16: 173477 | E16: 279001 | F16: 노안면 계림리 산 99 | I16: ○ | J16: 비병징목 | K16: 1 | L16: 일반목
A17: 14 | B17: B5_1746332 | C17: 26 | D17: 173482 | E17: 278997 | F17: 노안면 계림리 산 99 | I17: ○ | J17: 비병징목 | K17: 1 | L17: 일반목
A18: 15 | B18: B5_1746332 | C18: 18 | D18: 173482 | E18: 278997 | F18: 노안면 계림리 산 99 | I18: ○ | J18: 비병징목 | K18: 1 | L18: 일반목
A19: 16 | B19: B5_1500107 | C19: 18 | D19: 173490 | E19: 279000 | F19: 노안면 계림리 산 99 | I19: ○ | J19: 비병징목 | K19: 1 | L19: 일반목
A20: 17 | B20: B5_1500105 | C20: 22 | D20: 173489 | E20: 279013 | F20: 노안면 계림리 산 97 | H20: ○ | J20: 기타고사목 | K20: 1 | L20: 일반목
A21: 18 | B21: B5_1500104 | C21: 18 | D21: 173497 | E21: 279007 | F21: 노안면 계림리 산 99 | H21: ○ | J21: 기타고사목 | K21: 1 | L21: 일반목
A22: 19 | B22: B5_1746331 | C22: 30 | D22: 173498 | E22: 279010 | F22: 노안면 계림리 산 99 | H22: ○ | J22: 기타고사목 | K22: 1 | L22: 일반목
A23: 20 | B23: B5_1746330 | C23: 32 | D23: 173498 | E23: 279018 | F23: 노안면 계림리 산 97 | H23: ○ | J23: 기타고사목 | K23: 1 | L23: 일반목
A24: 21 | B24: B5_1500102 | C24: 26 | D24: 173495 | E24: 279017 | F24: 노안면 계림리 산 97 | I24: ○ | J24: 비병징목 | K24: 1 | L24: 일반목
A25: 22 | B25: B5_1746325 | C25: 28 | D25: 173471 | E25: 279040 | F25: 노안면 계림리 산 97 | H25: ○ | J25: 기타고사목 | K25: 1 | L25: 일반목
A26: 23 | B26: B5_1500099 | C26: 24 | D26: 173476 | E26: 279008 | F26: 노안면 계림리 산 97 | I26: ○ | J26: 비병징목 | K26: 1 | L26: 일반목
A27: 24 | B27: B5_1500098 | C27: 22 | D27: 173474 | E27: 279006 | F27: 노안면 계림리 산 97 | I27: ○ | J27: 비병징목 | K27: 1 | L27: 일반목
A28: 25 | B28: B5_1500097 | C28: 16 | D28: 173471 | E28: 279001 | F28: 노안면 계림리 산 97 | H28: ○ | J28: 기타고사목 | K28: 1 | L28: 일반목
A29: 26 | B29: B5_1500096 | C29: 24 | D29: 173471 | E29: 279002 | F29: 노안면 계림리 산 97 | I29: ○ | J29: 비병징목 | K29: 1 | L29: 일반목
A30: 27 | B30: B5_1500095 | C30: 24 | D30: 173470 | E30: 278999 | F30: 노안면 계림리 산 97 | H30: ○ | J30: 기타고사목 | K30: 1 | L30: 일반목
A31: 28 | B31: B5_1746321 | C31: 34 | D31: 173472 | E31: 278994 | F31: 노안면 계림리 산 99 | I31: ○ | J31: 비병징목 | K31: 1 | L31: 일반목
A32: 29 | B32: B5_1500094 | C32: 12 | D32: 173473 | E32: 278993 | F32: 노안면 계림리 산 99 | H32: ○ | J32: 기타고사목 | K32: 1 | L32: 일반목
A33: 30 | B33: B5_1500093 | C33: 24 | D33: 173469 | E33: 278994 | F33: 노안면 계림리 산 99 | I33: ○ | J33: 비병징목 | K33: 1 | L33: 일반목
A34: 31 | B34: B5_1500092 | C34: 20 | D34: 173470 | E34: 278991 | F34: 노안면 계림리 산 99 | I34: ○ | J34: 비병징목 | K34: 1 | L34: 일반목
A35: 32 | B35: B5_1500091 | C35: 14 | D35: 173469 | E35: 278991 | F35: 노안면 계림리 산 99 | H35: ○ | J35: 기타고사목 | K35: 1 | L35: 일반목
A36: 33 | B36: B5_1500148 | C36: 12 | D36: 173480 | E36: 278967 | F36: 노안면 계림리 산 99 | H36: ○ | J36: 기타고사목 | K36: 1 | L36: 일반목
A37: 34 | B37: B5_1500147 | C37: 14 | D37: 173478 | E37: 278972 | F37: 노안면 계림리 산 99 | H37: ○ | J37: 기타고사목 | K37: 1 | L37: 일반목
A38: 35 | B38: B5_1500146 | C38: 22 | D38: 173474 | E38: 278976 | F38: 노안면 계림리 산 99 | I38: ○ | J38: 비병징목 | K38: 1 | L38: 일반목
A39: 36 | B39: B5_1500145 | C39: 14 | D39: 173470 | E39: 278977 | F39: 노안면 계림리 산 99 | H39: ○ | J39: 기타고사목 | K39: 1 | L39: 일반목
A40: 37 | B40: B5_1500141 | C40: 20 | D40: 173470 | E40: 278963 | F40: 노안면 계림리 산 99 | H40: ○ | J40: 기타고사목 | K40: 1 | L40: 일반목
...

Sheet 마-1.1-0-1 수량산출(소구역-소나무-위험목)
A1: 1-0-1 수량산출-소구역모두베기-소나무(위험목) | U1: 124 | V1: 1.81 | W1: 100
A2: 경급 (㎝) | B2: 수고 (m) | C2: 본수 (본) | D2: 수간재적 (㎥/본) | E2: 총재적 (㎥) | F2: 지조율 (%) | G2: 조재율 (%) | H2: 총원목량 (㎥) | I2: 원목집재 재적별 집계 (㎥) | J2: 총조재량 (㎥) | K2: 총지조량 (㎥) | L2: 총입목재적 (㎥) | M2: 총원목 운반량 (㎥) | N2: 총잔가지 운반량 (㎥) 층적부피rm= 총잔가지량*1.81 | O2: 총파쇄량 =총지조+총조재 (㎥) | P2: 총파쇄량 =조재량+지조량 (㎥) | Q2: 총소각량 (㎥) | R2: 소각 단위품 (㎥/인) | S2: 총소각 소요품 (㎥/인) | T2: 비고 | AA2: =121.08*69000 -> 8354520 | AB2: =AA2-AA3 -> 8112360
AA3: =121.08*2000 -> 242160
A4: 6 | C4: =SUMIF('바-1.1-0-1 GPS좌표 및 흉고(소구역-소나무위험목'!$C$4:$C$22,A4,'바-1.1-0-1 GPS좌표 및 흉고(소구역-소나무위험목'!$K$4:$K$22) -> 0 | H4: =E4*G4/100 -> 0 | I4: =SUM(H4:H14) -> 0.7120205 | J4: =E4-H4 -> 0 | K4: =E4*F4/100 -> 0 | L4: =SUM(K4,E4) -> 0 | M4: =H4 -> 0 | N4: =(J4+K4)*$V$1 -> 0 | O4: =J4+K4 -> 0 | P4: =J4+K4 -> 0 | Q4: =J4+K4 -> 0 | R4: =산출기초조사서!I6 -> 7.22 | S4: =ROUND(Q4/R4,2) -> 0 | V4: =D4*800 -> 0 | X4: =L4-H4 -> 0 | Y4: =D4*800 -> 0 | AB4: =(C4*100)/25 -> 0 | AE4: =SUMIF('바-1.1-0-1 GPS좌표 및 흉고(소구역-소나무위험목'!$C$4:$C$22,"6",'바-1.1-0-1 GPS좌표 및 흉고(소구역-소나무위험목'!$K$4:$K$22) -> 0
A5: 8 | C5: =SUMIF('바-1.1-0-1 GPS좌표 및 흉고(소구역-소나무위험목'!$C$4:$C$22,A5,'바-1.1-0-1 GPS좌표 및 흉고(소구역-소나무위험목'!$K$4:$K$22) -> 0 | H5: =E5*G5/100 -> 0 | J5: =E5-H5 -> 0 | K5: =E5*F5/100 -> 0 | L5: =SUM(K5,E5) -> 0 | M5: =H5 -> 0 | N5: =(J5+K5)*$V$1 -> 0 | O5: =J5+K5 -> 0 | P5: =J5+K5 -> 0 | Q5: =J5+K5 -> 0 | R5: =산출기초조사서!I7 -> 7.39 | S5: =ROUND(Q5/R5,2) -> 0 | V5: =D5*800 -> 0 | X5: =L5-H5 -> 0 | Z5: =D4*800 -> 0 | AB5: =(C5*100)/25 -> 0 | AE5: =SUMIF('바-1.1-0-1 GPS좌표 및 흉고(소구역-소나무위험목'!$C$4:$C$22,"8",'바-1.1-0-1 GPS좌표 및 흉고(소구역-소나무위험목'!$K$4:$K$22) -> 0
A6: 10 | C6: =SUMIF('바-1.1-0-1 GPS좌표 및 흉고(소구역-소나무위험목'!$C$4:$C$22,A6,'바-1.1-0-1 GPS좌표 및 흉고(소구역-소나무위험목'!$K$4:$K$22) -> 0 | H6: =E6*G6/100 -> 0 | J6: =E6-H6 -> 0 | K6: =E6*F6/100 -> 0 | L6: =SUM(K6,E6) -> 0 | M6: =H6 -> 0 | N6: =(J6+K6)*$V$1 -> 0 | O6: =J6+K6 -> 0 | P6: =J6+K6 -> 0 | Q6: =J6+K6 -> 0 | R6: =산출기초조사서!I8 -> 7.56 | S6: =ROUND(Q6/R6,2) -> 0 | V6: =D6*800 -> 0 | X6: =L6-H6 -> 0 | AB6: =(C6*100)/25 -> 0 | AE6: =SUMIF('바-1.1-0-1 GPS좌표 및 흉고(소구역-소나무위험목'!$C$4:$C$22,"10",'바-1.1-0-1 GPS좌표 및 흉고(소구역-소나무위험목'!$K$4:$K$22) -> 0
A7: 12 | H7: =E7*G7/100 -> 0 | J7: =E7-H7 -> 0 | K7: =E7*F7/100 -> 0 | L7: =SUM(K7,E7) -> 0 | M7: =H7 -> 0 | N7: =(J7+K7)*$V$1 -> 0 | O7: =J7+K7 -> 0 | P7: =J7+K7 -> 0 | Q7: =J7+K7 -> 0 | R7: =산출기초조사서!I9 -> 7.72 | S7: =ROUND(Q7/R7,2) -> 0 | V7: =D7*800 -> 0 | X7: =L7-H7 -> 0 | AB7: =(C7*100)/25 -> 0 | AE7: =SUMIF('바-1.1-0-1 GPS좌표 및 흉고(소구역-소나무위험목'!$C$4:$C$22,"12",'바-1.1-0-1 GPS좌표 및 흉고(소구역-소나무위험목'!$K$4:$K$22) -> 0
A8: 14 | C8: =SUMIF('바-1.1-0-1 GPS좌표 및 흉고(소구역-소나무위험목'!$C$4:$C$22,A8,'바-1.1-0-1 GPS좌표 및 흉고(소구역-소나무위험목'!$K$4:$K$22) -> 0 | D8: =IF(B8="","",INDEX(수간재적표!$C$2:$AX$427,$U$1+B8-2,A8/2-2)) | H8: =E8*G8/100 -> 0 | J8: =E8-H8 -> 0 | K8: =E8*F8/100 -> 0 | L8: =SUM(K8,E8) -> 0 | M8: =H8 -> 0 | N8: =(J8+K8)*$V$1 -> 0 | O8: =J8+K8 -> 0 | P8: =J8+K8 -> 0 | Q8: =J8+K8 -> 0 | R8: =산출기초조사서!I10 -> 7.89 | S8: =ROUND(Q8/R8,2) -> 0 | V8: =D8*800 -> #VALUE! | X8: =L8-H8 -> 0 | AB8: =(C8*100)/25 -> 0 | AE8: =SUMIF('바-1.1-0-1 GPS좌표 및 흉고(소구역-소나무위험목'!$C$4:$C$22,"14",'바-1.1-0-1 GPS좌표 및 흉고(소구역-소나무위험목'!$K$4:$K$22) -> 0
