Workbook
Name _: [1]자산별!#REF!
Name _: [1]자산별!#REF!
Name ______a1: [0]!BlankMacro1
Name ______a1: [0]!BlankMacro1
Name ______eee1: [0]!BlankMacro1
Name ______eee1: [0]!BlankMacro1
Name ______lll1: [0]!BlankMacro1
Name ______lll1: [0]!BlankMacro1
Name _____A183154: #REF!
Name _____A183154: #REF!
Name _____FF1: #REF!
Name _____FF1: #REF!
Name ____a1: [0]!BlankMacro1
Name ____a1: [0]!BlankMacro1
Name ____A183154: #REF!
Name ____A183154: #REF!
Name ____eee1: [0]!BlankMacro1
Name ____eee1: [0]!BlankMacro1
Name ____FF1: #REF!
Name ____FF1: #REF!
Name ____lll1: [0]!BlankMacro1
Name ____lll1: [0]!BlankMacro1
Name ____LM9228: #REF!
Name ____LM9228: #REF!
Name ____NMB96: #REF!
Name ____NMB96: #REF!
Name ___A1: [2]주방환기!#REF!
Name ___A1: [2]주방환기!#REF!
Name ___A183154: #REF!
Name ___A183154: #REF!
Name ___arm1: [3]설계명세서!#REF!
Name ___arm1: [3]설계명세서!#REF!
Name ___arm2: [4]설계명세서!#REF!
Name ___arm2: [4]설계명세서!#REF!
Name ___arm3: [3]설계명세서!#REF!
Name ___arm3: [3]설계명세서!#REF!
Name ___B100000: #REF!
Name ___B100000: #REF!
Name ___B66000: #REF!
Name ___B66000: #REF!
Name ___B70000: #REF!
Name ___B70000: #REF!
Name ___C67000: #REF!
Name ___C67000: #REF!
Name ___C68000: #REF!
Name ___C68000: #REF!
Name ___CAD15: #REF!
Name ___CAD15: #REF!
Name ___CAD25: #REF!
Name ___CAD25: #REF!
Name ___eee1: [0]!BlankMacro1
Name ___eee1: [0]!BlankMacro1
Name ___FF1: #REF!
Name ___FF1: #REF!
Name ___fff12: #REF!
Name ___fff12: #REF!
Name ___fff122: #REF!
Name ___fff122: #REF!
Name ___fff58: #REF!
Name ___fff58: #REF!

Sheet 원가계산서
B1: 공 사 원 가 계 산 서
B2: 공사명 : 낭주중학교 체육관 흡음패널설치공사
B3: 비 목 | E3: 금 액 | F3: 구 성 비 | G3: 비 고
A4: A1 | B4: 순 공 사 원 가 | C4: 재 료 비 | D4: 직 접 재 료 비 | E4: 31904295
A5: A2 | D5: 간 접 재 료 비 | E5: 0
A6: A3 | D6: 작업설, 부산물(△) | E6: 63112
A7: AS | D7: [ 소 계 ] | E7: 31841183
A8: B1 | C8: 노 무 비 | D8: 직 접 노 무 비 | E8: 52351392
A9: B2 | D9: 간 접 노 무 비 | E9: 9161493 | F9: 직접노무비 * 17.5%
A10: BS | D10: [ 소 계 ] | E10: 61512885
A11: C2 | C11: 경 비 | D11: 경 비 | E11: 623447
A12: C4 | D12: 산 재 보 험 료 | E12: 2189858 | F12: 노무비 * 3.56%
A13: C5 | D13: 고 용 보 험 료 | E13: 621280 | F13: 노무비 * 1.01%
A14: C6 | D14: 국민 건강 보험료 | E14: 1882032 | F14: 직접노무비 * 3.595%
A15: C7 | D15: 국민 연금 보험료 | E15: 2486691 | F15: 직접노무비 * 4.75%
A16: C8 | D16: 퇴직 공제 부금비 | F16: 직접노무비 * 2.3%
A17: CA | D17: 산업안전보건관리비 | E17: 3142066 | F17: (재료비+직노+관급자재비) * 3.11%
A18: CB | D18: 노인장기요양보험료 | E18: 247299 | F18: 건강보험료 * 13.14%
A19: CC | D19: 건설폐기물처리비 | E19: 1108381
A20: CE | D20: 석면피해구제분담금 | E20: 3690 | F20: 노무비*0.006%
A21: CF | D21: 임금채권부담금 | E21: 55361 | F21: 노무비*0.09%
A22: CG | D22: 기 타 경 비 | E22: 4667703 | F22: (재료비+노무비) * 5%
A23: CH | D23: 환 경 보 전 비 | E23: 254448 | F23: (재료비+직노+경비) * 0.3%
A24: CK | D24: 하도급지급보증수수료 | F24: (재료비+직노+경비) * 0.081% | G24: 최저가대상공사
A25: CL | D25: 건설기계대여금지급보증서발급수수료 | E25: 59371 | F25: (재료비+직노+경비) * 0.07%
A26: CS | D26: [ 소 계 ] | E26: 17341627
A27: S1 | B27: 계 | E27: 110695695
A28: D1 | B28: 일 반 관 리 비 | E28: 8855655 | F28: 계 * 8%
A29: D2 | B29: 이 윤 | E29: 13156525 | F29: (노무비+경비+일반관리비) * 15%
A30: D9 | B30: 공 급 가 액 | E30: 132707875
A31: DB | B31: 부 가 가 치 세 | E31: 13270787 | F31: 공급가액 * 10%
A32: DH | B32: 도 급 액 | E32: 145978000
A33: DK | B33: 도급자관급자재비 | E33: 70241000
A34: S2 | B34: 총 공 사 비 | E34: 216219000

Sheet 건설업종별 집계표-제출용
A1: [붙임2-1] 공사원가계산서(공종별집계표)
A2: 건설업종별 집계표
A3: =공종별집계표!A2 -> [ 낭주중학교 체육관 흡음패널설치공사 ]
A4: 구분 | B4: *건설업종 | C4: 업종비율(%) | D4: 금액(원) | E4: 비고
A6: 전문공사 | B6: 1. 지반조성ㆍ포장공사업
A7: 전문공사 | B7: 2. 실내건축공사업 | C7: =공종별집계표!C8 -> #DIV/0! | D7: =공종별집계표!L8 -> 0
A8: 전문공사 | B8: 3. 금속창호ㆍ지붕건축물조립공사업 | C8: =공종별집계표!C9 -> #DIV/0! | D8: =공종별집계표!L9 -> 0
A9: 전문공사 | B9: 4. 도장ㆍ습식ㆍ방수ㆍ석공사업
A10: 전문공사 | B10: 5. 조경식재ㆍ시설물공사업
A11: 전문공사 | B11: 6. 철근ㆍ콘크리트공사업
A12: 전문공사 | B12: 7. 구조물해체ㆍ비계공사업 | C12: =공종별집계표!C7+공종별집계표!C10+공종별집계표!C11 -> #DIV/0! | D12: =공종별집계표!L7+공종별집계표!L10+공종별집계표!L11 -> 0
A13: 전문공사 | B13: 8. 상ㆍ하수도설비공사업
A14: 전문공사 | B14: 9. 철도ㆍ궤도공사업
A15: 전문공사 | B15: 10. 철강구조물공사업
A16: 전문공사 | B16: 11. 수중ㆍ준설공사업
A17: 전문공사 | B17: 12. 승강기ㆍ삭도공사업
A18: 전문공사 | B18: 13. 기계가스설비공사업
A19: 전문공사 | B19: 14. 가스난방공사업
A20: 전문공사 | B20: 15. 시설물유지관리업
A21: 전문공사 | B21: (제외)
A22: [ 합 계 ] | C22: =SUM(C6:C21) -> #DIV/0! | D22: =SUM(D6:D21) -> 0
A23: * 건설업종 : 건설산업기본법 시행령 [별표1]

Sheet 공종별집계표
A1: 공 종 별 집 계 표
A2: [ 낭주중학교 체육관 흡음패널설치공사 ]
A3: 품 명 | B3: 규 격 | C3: 단위 | D3: 수량 | E3: 재 료 비 | G3: 노 무 비 | I3: 경 비 | K3: 합 계 | M3: 비 고 | N3: 공종코드 | O3: 변수 | P3: 상위공종 | Q3: 공종구분 | R3: 공종레벨 | S3: 공종소계 | T3: 원가계산서 연결금액
E4: 단 가 | F4: 금 액 | G4: 단 가 | H4: 금 액 | I4: 단 가 | J4: 금 액 | K4: 단 가 | L4: 금 액
A5: 01 낭주중학교 체육관 흡음패널설치공사 | D5: 1 | N5: 01 | R5: 1
A6: 0101 ■ 체육관 | D6: 1 | N6: 0101 | P6: 01 | R6: 2
A7: 010101 가 설 공 사 | B7: 7. 구조물해체ㆍ비계공사업 | C7: =L7/$L$5 -> #DIV/0! | D7: 1 | N7: 010101 | P7: 0101 | R7: 3
A8: 010102 목공사 및 수장공사 | B8: 2. 실내건축공사업 | C8: =L8/$L$5 -> #DIV/0! | D8: 1 | N8: 010102 | P8: 0101 | R8: 3
A9: 010103 금 속 공 사 | B9: 3. 금속창호ㆍ지붕건축물조립공사업 | C9: =L9/$L$5 -> #DIV/0! | D9: 1 | N9: 010103 | P9: 0101 | R9: 3
A10: 010104 철 거 공 사 | B10: 7. 구조물해체ㆍ비계공사업 | C10: =L10/$L$5 -> #DIV/0! | D10: 1 | N10: 010104 | P10: 0101 | R10: 3
A11: 010105 작 업 부 산 물 | B11: 7. 구조물해체ㆍ비계공사업 | C11: =L11/$L$5 -> #DIV/0! | D11: 1 | N11: 010105 | P11: 0101 | R11: 3
A12: 010106 □ 건설폐기물처리비 | D12: 1 | N12: 010107 | Q12: 7 | R12: 3 | T12: =L12*1 -> 0
A13: 010107 □ 도급자관급자재비 | D13: 1 | N13: 010108 | Q13: 9 | R13: 3 | T13: =L13*1 -> 0
A27: [ 합 계 ] | F27: =F5 -> 0 | H27: =H5 -> 0 | J27: =J5 -> 0 | L27: =L5 -> 0

Sheet 공종별내역서
A1: [ 낭주중학교 체육관 흡음패널설치공사 ]
A2: 품 명 | B2: 규 격 | C2: 단위 | D2: 수량 | E2: 재 료 비 | G2: 노 무 비 | I2: 경 비 | K2: 합 계 | M2: 비 고 | N2: 품목코드 | O2: 변수 | P2: 설정 | Q2: 공종코드 | R2: 일위 | S2: 단산 | T2: 자재 | U2: 손료적용 | V2: 손료저장 | W2: 적용율 | X2: JUK1 | Y2: JUK2 | Z2: JUK3 | AA2: JUK4 | AB2: JUK5 | AC2: JUK6 | AD2: JUK7 | AE2: JUK8 | AF2: JUK9 | AG2: JUK10 | AH2: JUK11 | AI2: JUK12 | AJ2: JUK13 | AK2: JUK14 | AL2: JUK15 | AM2: JUK16 | AN2: JUK17 | AO2: JUK18 | AP2: JUK19 | AQ2: JUK20 | AR2: 자재구분 | AS2: 공종구분 | AT2: 공종레벨 | AU2: 공종+자재 | AV2: 고유번호
E3: 단 가 | F3: 금 액 | G3: 단 가 | H3: 금 액 | I3: 단 가 | J3: 금 액 | K3: 단 가 | L3: 금 액
A4: 010101 가 설 공 사 | Q4: 010101
A5: 시스템 비계매기(발판2줄) | B5: 3개월,H=10m 이하 | C5: M2 | D5: 604 | M5: 호표 51 | N5: 5D03132E7B3C2936877329824F0C94 | Q5: 010101 | R5: T | S5: F | T5: F | AU5: 0101015D03132E7B3C2936877329824F0C94 | AV5: 50
A6: 강관 조립말비계(이동식)설치 및 해체 | B6: 높이 4m, 3개월 | C6: 대 | D6: 1 | M6: 호표 4 | N6: 5D27C3CF79157B36E65A394DBF1744 | Q6: 010101 | R6: T | S6: F | T6: F | AU6: 0101015D27C3CF79157B36E65A394DBF1744 | AV6: 5
A7: 강관 조립말비계(이동식)설치 및 해체 | B7: 높이 6m, 3개월 | C7: 대 | D7: 1 | M7: 호표 5 | N7: 5D27C3CF79157B36E65A395E2E3CC4 | Q7: 010101 | R7: T | S7: F | T7: F | AU7: 0101015D27C3CF79157B36E65A395E2E3CC4 | AV7: 6
A8: 건축물 현장정리(청소포함) | B8: 수선 | C8: M2 | D8: 1488 | M8: 호표 7 | N8: 5D27C3CA7110CA36442A99CE3D4234 | Q8: 010101 | R8: T | S8: F | T8: F | AU8: 0101015D27C3CA7110CA36442A99CE3D4234 | AV8: 51
A9: 건축물 바닥보양 | B9: 부직포+합판9T | C9: M2 | D9: 337.4 | M9: 호표 8 | N9: 5D27C3CA71211E56F13A69CFE39DC4 | Q9: 010101 | R9: T | S9: F | T9: F | AU9: 0101015D27C3CA71211E56F13A69CFE39DC4 | AV9: 53
A10: 커튼 및 기타 보양 | B10: 비닐보양 | C10: M2 | D10: 580 | M10: 호표 9 | N10: 5D27C3CA71216686D17F3944092BD4 | Q10: 010101 | R10: T | S10: F | T10: F | AU10: 0101015D27C3CA71216686D17F3944092BD4 | AV10: 10
A11: 비품이전 및 재설치 | C11: 인 | D11: 4 | N11: 5D27C3CA71216686D17F3944092BD4 | Q11: 010101 | R11: T | S11: F | T11: F | AU11: 0101015D27C3CA71216686D17F3944092BD4 | AV11: 10
Q12: 010101
Q13: 010101
Q14: 010101
Q15: 010101
Q16: 010101
Q17: 010101
Q18: 010101
Q19: 010101
Q20: 010101
Q21: 010101
Q22: 010101
Q23: 010101
... Q26: 010101
A27: [ 합 계 ] | F27: =SUMIF(Q5:Q26,"010101",F5:F26) -> 0 | H27: =SUMIF(Q5:Q26,"010101",H5:H26) -> 0 | J27: =SUMIF(Q5:Q26,"010101",J5:J26) -> 0 | L27: =SUMIF(Q5:Q26,"010101",L5:L26) -> 0 | N27: TOTAL
A28: 010102 목공사 및 수장공사 | Q28: 010102
A29: 불연천장재 | B29: 12*300*600mm | C29: M2 | D29: 102.3 | E29: =TRUNC(단가대비표!O18,0) -> 9880 | F29: =TRUNC(E29*D29, 0) -> 1010724 | G29: =TRUNC(단가대비표!P18,0) -> 0 | H29: =TRUNC(G29*D29, 0) -> 0 | I29: =TRUNC(단가대비표!V18,0) -> 0 | J29: =TRUNC(I29*D29, 0) -> 0 | K29: =TRUNC(E29+G29+I29, 0) -> 9880 | L29: =TRUNC(F29+H29+J29, 0) -> 1010724 | N29: 5A01C3387F58CFC60AAE9993D9F0A5488EBD58 | Q29: 010102 | R29: F | S29: F | T29: T | AU29: 0101025A01C3387F58CFC60AAE9993D9F0A5488EBD58 | AV29: 56
A30: 이동식계단 설치 | B30: T20,집성목,바니시3회 | C30: M2 | D30: 30.2 | E30: =TRUNC(일위대가목록!E15,0) -> 55151 | F30: =TRUNC(E30*D30, 0) -> 1665560 | G30: =TRUNC(일위대가목록!F15,0) -> 35192 | H30: =TRUNC(G30*D30, 0) -> 1062798 | I30: =TRUNC(일위대가목록!G15,0) -> 274 | J30: =TRUNC(I30*D30, 0) -> 8274 | K30: =TRUNC(E30+G30+I30, 0) -> 90617 | L30: =TRUNC(F30+H30+J30, 0) -> 2736632 | M30: 호표 12 | N30: 5D2743197B663746992CA95C439714 | Q30: 010102 | R30: T | S30: F | T30: F | AU30: 0101025D2743197B663746992CA95C439714 | AV30: 16
A31: 벽체띠장설치(미송)-측면부 | B31: 30*30@450*600,방부제칠 | C31: M2 | D31: 83.9 | E31: =TRUNC(일위대가목록!E17,0) -> 2617 | F31: =TRUNC(E31*D31, 0) -> 219566 | G31: =TRUNC(일위대가목록!F17,0) -> 13204 | H31: =TRUNC(G31*D31, 0) -> 1107815 | I31: =TRUNC(일위대가목록!G17,0) -> 194 | J31: =TRUNC(I31*D31, 0) -> 16276 | K31: =TRUNC(E31+G31+I31, 0) -> 16015 | L31: =TRUNC(F31+H31+J31, 0) -> 1343657 | M31: 호표 14 | N31: 5D27431A75A1E006D9A989C14093E4 | Q31: 010102 | R31: T | S31: F | T31: F | AU31: 0101025D27431A75A1E006D9A989C14093E4 | AV31: 57
A32: 벽체띠장설치(미송)-현관부 | B32: 60*120@450*600,방부제칠 | C32: M2 | D32: 454 | E32: =TRUNC(일위대가목록!E19,0) -> 5406 | F32: =TRUNC(E32*D32, 0) -> 2454324 | G32: =TRUNC(일위대가목록!F19,0) -> 13204 | H32: =TRUNC(G32*D32, 0) -> 5994616 | I32: =TRUNC(일위대가목록!G19,0) -> 194 | J32: =TRUNC(I32*D32, 0) -> 88076 | K32: =TRUNC(E32+G32+I32, 0) -> 18804 | L32: =TRUNC(F32+H32+J32, 0) -> 8537016 | M32: 호표 14b | N32: 5D27431A75A1E006D9A989C14093E4 | Q32: 010102 | R32: T | S32: F | T32: F | AU32: 0101025D27431A75A1E006D9A989C14093E4 | AV32: 57
A33: 환기형 걸레받이 설치 | B33: 10mm*H:90,방염 | C33: M | D33: 166.2 | E33: =TRUNC(일위대가목록!E33,0) -> 10404 | F33: =TRUNC(E33*D33, 0) -> 1729144 | G33: =TRUNC(일위대가목록!F33,0) -> 4157 | H33: =TRUNC(G33*D33, 0) -> 690893 | I33: =TRUNC(일위대가목록!G33,0) -> 83 | J33: =TRUNC(I33*D33, 0) -> 13794 | K33: =TRUNC(E33+G33+I33, 0) -> 14644 | L33: =TRUNC(F33+H33+J33, 0) -> 2433831 | M33: 호표 28 | N33: 5D2723CB75BB6696B2BB29F2C88D14 | Q33: 010102 | R33: T | S33: F | T33: F | AU33: 0101025D2723CB75BB6696B2BB29F2C88D14 | AV33: 59
A34: 라왕몰딩설치 | B34: T50*50,바니시3회칠 | C34: M2 | D34: 3.1 | E34: =TRUNC(일위대가목록!E36,0) -> 90399 | F34: =TRUNC(E34*D34, 0) -> 280236 | G34: =TRUNC(일위대가목록!F36,0) -> 39659 | H34: =TRUNC(G34*D34, 0) -> 122942 | I34: =TRUNC(일위대가목록!G36,0) -> 363 | J34: =TRUNC(I34*D34, 0) -> 1125 | K34: =TRUNC(E34+G34+I34, 0) -> 130421 | L34: =TRUNC(F34+H34+J34, 0) -> 404303 | M34: 호표 31 | N34: 5D2723C9795795664586699AB844A4 | Q34: 010102 | R34: T | S34: F | T34: F | AU34: 0101025D2723C9795795664586699AB844A4 | AV34: 68
A35: 멀바우집성목 설치 | B35: T20,집성목,바니시3회 | C35: M2 | D35: 87.4 | E35: =TRUNC(일위대가목록!E13,0) -> 55151 | F35: =TRUNC(E35*D35, 0) -> 4820197 | G35: =TRUNC(일위대가목록!F13,0) -> 64476 | H35: =TRUNC(G35*D35, 0) -> 5635202 | I35: =TRUNC(일위대가목록!G13,0) -> 599 | J35: =TRUNC(I35*D35, 0) -> 52352 | K35: =TRUNC(E35+G35+I35, 0) -> 120226 | L35: =TRUNC(F35+H35+J35, 0) -> 10507751 | M35: 호표 10 | N35: 5D2743197B6637469804F9016F4064 | Q35: 010102 | R35: T | S35: F | T35: F | AU35: 0101025D2743197B6637469804F9016F4064 | AV35: 70
A36: 흡음타공패널 설치-주자재관급 | B36: 8t,준불연 | C36: M2 | D36: 502.7 | E36: =TRUNC(일위대가목록!E39,0) -> 577 | F36: =TRUNC(E36*D36, 0) -> 290057 | G36: =TRUNC(일위대가목록!F39,0) -> 20227 | H36: =TRUNC(G36*D36, 0) -> 10168112 | I36: =TRUNC(일위대가목록!G39,0) -> 403 | J36: =TRUNC(I36*D36, 0) -> 202588 | K36: =TRUNC(E36+G36+I36, 0) -> 21207 | L36: =TRUNC(F36+H36+J36, 0) -> 10660757 | M36: 호표 34 | N36: 5D2723C979579536F14679F6B55054 | Q36: 010102 | R36: T | S36: F | T36: F | AU36: 0101025D2723C979579536F14679F6B55054 | AV36: 71
A37: 미네랄울 충진재 설치 | C37: M2 | D37: 537.9 | E37: =TRUNC(일위대가목록!E41,0) -> 0 | F37: =TRUNC(E37*D37, 0) -> 0 | G37: =TRUNC(일위대가목록!F41,0) -> 6858 | H37: =TRUNC(G37*D37, 0) -> 3688918 | I37: =TRUNC(일위대가목록!G41,0) -> 0 | J37: =TRUNC(I37*D37, 0) -> 0 | K37: =TRUNC(E37+G37+I37, 0) -> 6858 | L37: =TRUNC(F37+H37+J37, 0) -> 3688918 | M37: 호표 36 | N37: 5D2723CE713D48E6F4D3092017A724 | Q37: 010102 | R37: T | S37: F | T37: F | AU37: 0101025D2723CE713D48E6F4D3092017A724 | AV37: 22
A38: PVC바퀴 설치 | B38: 바퀴,회전형 | C38: 개 | D38: 54 | E38: =TRUNC(단가대비표!O43,0) -> 9500 | F38: =TRUNC(E38*D38, 0) -> 513000 | G38: =TRUNC(단가대비표!P43,0) -> 2500 | H38: =TRUNC(G38*D38, 0) -> 135000 | I38: =TRUNC(단가대비표!V43,0) -> 0 | J38: =TRUNC(I38*D38, 0) -> 0 | K38: =TRUNC(E38+G38+I38, 0) -> 12000 | L38: =TRUNC(F38+H38+J38, 0) -> 648000 | N38: 5A01C3387FA0E336573CB957F6B61040A75EB1 | Q38: 010102 | R38: F | S38: F | T38: T | AU38: 0101025A01C3387FA0E336573CB957F6B61040A75EB1 | AV38: 14
A39: 미네랄울 충진재 | B39: 25mm , 48k | C39: M2 | D39: 83.9 | E39: =TRUNC(단가대비표!O61,0) -> 3240 | F39: =TRUNC(E39*D39, 0) -> 271836 | G39: =TRUNC(단가대비표!P61,0) -> 0 | H39: =TRUNC(G39*D39, 0) -> 0 | I39: =TRUNC(단가대비표!V61,0) -> 0 | J39: =TRUNC(I39*D39, 0) -> 0 | K39: =TRUNC(E39+G39+I39, 0) -> 3240 | L39: =TRUNC(F39+H39+J39, 0) -> 271836 | N39: 5D27431A75A1E006D9A989C14093E4 | Q39: 010102 | R39: T | S39: F | T39: F | AU39: 0101025D27431A75A1E006D9A989C14093E4 | AV39: 57 | AY39: 누락
A40: 미네랄울 충진재 | B40: 100mm , 48k | C40: M2 | D40: 454 | E40: =TRUNC(단가대비표!O70,0) -> 12960 | F40: =TRUNC(E40*D40, 0) -> 5883840 | G40: =TRUNC(단가대비표!P70,0) -> 0 | H40: =TRUNC(G40*D40, 0) -> 0 | I40: =TRUNC(단가대비표!V70,0) -> 0 | J40: =TRUNC(I40*D40, 0) -> 0 | K40: =TRUNC(E40+G40+I40, 0) -> 12960 | L40: =TRUNC(F40+H40+J40, 0) -> 5883840 | N40: 5D27431A75A1E006D9A989C14093E4 | Q40: 010102 | R40: T | S40: F | T40: F | AU40: 0101025D27431A75A1E006D9A989C14093E4 | AV40: 57 | AX40: 454 | AY40: =AX40-D40 -> 0
A41: 플로어링 바닥 샌딩 | B41: 3~5회 | C41: M2 | D41: 50 | E41: =TRUNC(단가대비표!O71,0) -> 6312 | F41: =TRUNC(E41*D41, 0) -> 315600 | G41: =TRUNC(단가대비표!P71,0) -> 0 | H41: =TRUNC(G41*D41, 0) -> 0 | I41: =TRUNC(단가대비표!V71,0) -> 0 | J41: =TRUNC(I41*D41, 0) -> 0 | K41: =TRUNC(E41+G41+I41, 0) -> 6312 | L41: =TRUNC(F41+H41+J41, 0) -> 315600 | N41: 5D27431A75A1E006D9A989C14093E4 | Q41: 010102 | R41: T | S41: F | T41: F | AU41: 0101025D27431A75A1E006D9A989C14093E4 | AV41: 57
A42: UV 도장 | B42: 3회 | C42: M2 | D42: 50 | E42: =TRUNC(단가대비표!O72,0) -> 10948 | F42: =TRUNC(E42*D42, 0) -> 547400 | G42: =TRUNC(단가대비표!P72,0) -> 0 | H42: =TRUNC(G42*D42, 0) -> 0 | I42: =TRUNC(단가대비표!V72,0) -> 0 | J42: =TRUNC(I42*D42, 0) -> 0 | K42: =TRUNC(E42+G42+I42, 0) -> 10948 | L42: =TRUNC(F42+H42+J42, 0) -> 547400 | N42: 5D27431A75A1E006D9A989C14093E4 | Q42: 010102 | R42: T | S42: F | T42: F | AU42: 0101025D27431A75A1E006D9A989C14093E4 | AV42: 57
...

Sheet 일위대가목록
B1: 일 위 대 가 목 록
B2: [ 낭주중학교 체육관 흡음패널설치공사 ]
A3: 코 드 | B3: 품 명 | C3: 규 격 | D3: 단위 | E3: 재 료 비 | F3: 노 무 비 | G3: 경 비 | H3: 합 계 | I3: 번 호 | J3: 비 고 | K3: 노임계수 | L3: 할증 | M3: 품셈개요 | N3: 장비일위
A4: 5A3D03BF77197E761A4FC9505425FD47D44E2559 | B4: 용접기(교류) | C4: 500Amp | D4: HR | E4: =일위대가!F6 -> 0 | F4: =일위대가!H6 -> 0 | G4: =일위대가!J6 -> 157 | H4: =E4+F4+G4 -> 157 | I4: 호표 1 | K4: A | N4: T
A5: 5D27C3CF79157B36E65A39688447E4 | B5: 강관 조립말비계(이동식)설치 및 해체 | C5: 높이 2m, 노무비 | D5: 대 | E5: =일위대가!F11 -> 0 | F5: =일위대가!H11 -> 94574 | G5: =일위대가!J11 -> 0 | H5: =E5+F5+G5 -> 94574 | I5: 호표 2
A6: 5D27C3CF79157B36E65A3968847324 | B6: 강관 조립말비계(이동식)설치 및 해체 | C6: 높이 4m, 노무비 | D6: 대 | E6: =일위대가!F16 -> 0 | F6: =일위대가!H16 -> 156891 | G6: =일위대가!J16 -> 0 | H6: =E6+F6+G6 -> 156891 | I6: 호표 3
A7: 5D27C3CF79157B36E65A394DBF1744 | B7: 강관 조립말비계(이동식)설치 및 해체 | C7: 높이 4m, 3개월 | D7: 대 | E7: =일위대가!F30 -> 44027 | F7: =일위대가!H30 -> 156891 | G7: =일위대가!J30 -> 0 | H7: =E7+F7+G7 -> 200918 | I7: 호표 4
A8: 5D27C3CF79157B36E65A395E2E3CC4 | B8: 강관 조립말비계(이동식)설치 및 해체 | C8: 높이 6m, 3개월 | D8: 대 | E8: =일위대가!F45 -> 55002 | F8: =일위대가!H45 -> 251465 | G8: =일위대가!J45 -> 0 | H8: =E8+F8+G8 -> 306467 | I8: 호표 5
A9: 5D27C3CF79157B36E49019C7894AE4 | B9: 시스템비계 설치 및 해체(인력) | C9: 10m 이하 | D9: M2 | E9: =일위대가!F51 -> 0 | F9: =일위대가!H51 -> 14718 | G9: =일위대가!J51 -> 294 | H9: =E9+F9+G9 -> 15012 | I9: 호표 6
A10: 5D27C3CA7110CA36442A99CE3D4234 | B10: 건축물 현장정리(청소포함) | C10: 수선 | D10: M2 | E10: =일위대가!F55 -> 0 | F10: =일위대가!H55 -> 3613 | G10: =일위대가!J55 -> 0 | H10: =E10+F10+G10 -> 3613 | I10: 호표 7
A11: 5D27C3CA71211E56F13A69CFE39DC4 | B11: 건축물 바닥보양 | C11: 부직포+합판9T | D11: M2 | E11: =일위대가!F62 -> 9658 | F11: =일위대가!H62 -> 1032 | G11: =일위대가!J62 -> 0 | H11: =E11+F11+G11 -> 10690 | I11: 호표 8
A12: 5D27C3CA71216686D17F3944092BD4 | B12: 커튼 및 기타 보양 | C12: 비닐보양 | D12: M2 | E12: =일위대가!F66 -> 418 | F12: =일위대가!H66 -> 1970 | G12: =일위대가!J66 -> 0 | H12: =E12+F12+G12 -> 2388 | I12: 호표 9 | J12: 노무비 84.9%
A13: 5D2743197B6637469804F9016F4064 | B13: 멀바우집성목 설치 | C13: T20,집성목,바니시3회 | D13: M2 | E13: =일위대가!F71 -> 55151 | F13: =일위대가!H71 -> 64476 | G13: =일위대가!J71 -> 599 | H13: =E13+F13+G13 -> 120226 | I13: 호표 10
A14: 5D2743197B663746992CA9169C9E84 | B14: 플로어링 마루 설치 | D14: M2 | E14: =일위대가!F77 -> 0 | F14: =일위대가!H77 -> 13716 | G14: =일위대가!J77 -> 274 | H14: =E14+F14+G14 -> 13990 | I14: 호표 11
A15: 5D2743197B663746992CA95C439714 | B15: 이동식계단 설치 | C15: T20,집성목,바니시3회 | D15: M2 | E15: =일위대가!F83 -> 55151 | F15: =일위대가!H83 -> 35192 | G15: =일위대가!J83 -> 274 | H15: =E15+F15+G15 -> 90617 | I15: 호표 12
A16: 5D27431A75A1C5360641B9580F10F4 | B16: 벽체틀 설치 | C16: 자재 별도 | D16: M2 | E16: =일위대가!F89 -> 0 | F16: =일위대가!H89 -> 9733 | G16: =일위대가!J89 -> 194 | H16: =E16+F16+G16 -> 9927 | I16: 호표 13
A17: 5D27431A75A1E006D9A989C14093E4 | B17: 벽체띠장설치(미송)-측면부 | C17: 30*30@450*600,방부제칠 | D17: M2 | E17: =일위대가!F96 -> 2617 | F17: =일위대가!H96 -> 13204 | G17: =일위대가!J96 -> 194 | H17: =E17+F17+G17 -> 16015 | I17: 호표 14
A18: 5D27431A75A1E006D9A989C14093E4 | B18: 벽체띠장설치(미송)-무대부 | C18: 60*90@450*600,방부제칠 | D18: M2 | E18: =일위대가!F103 -> 3829 | F18: =일위대가!H103 -> 13204 | G18: =일위대가!J103 -> 194 | H18: =E18+F18+G18 -> 17227 | I18: 호표 14a
A19: 5D27431A75A1E006D9A989C14093E4 | B19: 벽체띠장설치(미송)-현관부 | C19: 60*120@450*600,방부제칠 | D19: M2 | E19: =일위대가!F110 -> 5406 | F19: =일위대가!H110 -> 13204 | G19: =일위대가!J110 -> 194 | H19: =E19+F19+G19 -> 18804 | I19: 호표 14b
A20: 5D27734F744989361914B97B506284 | B20: 스텐봉 설치 | C20: Ø30.8*1.5t,L:1500,SST,식순걸이대 | D20: EA | E20: =일위대가!F118 -> 14580 | F20: =일위대가!H118 -> 13251 | G20: =일위대가!J118 -> 524 | H20: =E20+F20+G20 -> 28355 | I20: 호표 15
A21: 5D27734F744989361914B97B506294 | B21: 스텐봉 설치 | C21: Ø30.8*1.5t,L:900,SST,플랜카드봉 | D21: EA | E21: =일위대가!F126 -> 10632 | F21: =일위대가!H126 -> 13251 | G21: =일위대가!J126 -> 524 | H21: =E21+F21+G21 -> 24407 | I21: 호표 16
A22: 5D27734574273A766D24A92D24F4E4 | B22: 스텐커버 설치 | C22: W50*H40,L=5500,타공형 | D22: M2 | E22: =일위대가!F132 -> 129687 | F22: =일위대가!H132 -> 75188 | G22: =일위대가!J132 -> 2422 | H22: =E22+F22+G22 -> 207297 | I22: 호표 17
A23: 5D2773417E98F95628993909032434 | B23: 잡철물 제작 및 설치 | C23: 제품 설치, 경량철재 | D23: kg | E23: =일위대가!F141 -> 32 | F23: =일위대가!H141 -> 1616 | G23: =일위대가!J141 -> 64 | H23: =E23+F23+G23 -> 1712 | I23: 호표 18
A24: 5D2773417E98F976D9892988B12B14 | B24: 각종 잡철물 제작 | C24: 스테인리스, 간단(강판의 가공설치) | D24: kg | E24: =일위대가!F154 -> 284 | F24: =일위대가!H154 -> 5691 | G24: =일위대가!J154 -> 185 | H24: =E24+F24+G24 -> 6160 | I24: 호표 19
A25: 5D2773417E98F976D9892999204084 | B25: 각종 잡철물 설치 | C25: 스테인리스, 간단(강판의 가공설치) | D25: kg | E25: =일위대가!F167 -> 49 | F25: =일위대가!H167 -> 1447 | G25: =일위대가!J167 -> 45 | H25: =E25+F25+G25 -> 1541 | I25: 호표 20
A26: 5D2773417E98F976DA91290AEB1604 | B26: 각종 잡철물 제작 설치 | C26: 스테인리스, 간단(강판의 가공설치) | D26: kg | E26: =일위대가!F172 -> 333 | F26: =일위대가!H172 -> 7138 | G26: =일위대가!J172 -> 230 | H26: =E26+F26+G26 -> 7701 | I26: 호표 21
A27: 5D2773417EA96876E347090A6751A4 | B27: 잡철물 제작 및 설치 | C27: 규격철물 설치, 경량철재 | D27: TON | E27: =일위대가!F181 -> 79872 | F27: =일위대가!H181 -> 3993647 | G27: =일위대가!J181 -> 159745 | H27: =E27+F27+G27 -> 4233264 | I27: 호표 22
A28: 5D27333C77C90A2656AD89195C5984 | B28: 방부제칠(크레오소트) | C28: 목재 거친면 2회 | D28: M2 | E28: =일위대가!F186 -> 38 | F28: =일위대가!H186 -> 7890 | G28: =일위대가!J186 -> 0 | H28: =E28+F28+G28 -> 7928 | I28: 호표 23
A29: 5D27333E72967A663635A9FD259A34 | B29: 바니시칠 | C29: 목재면 3회 | D29: M2 | E29: =일위대가!F194 -> 2151 | F29: =일위대가!H194 -> 21476 | G29: =일위대가!J194 -> 0 | H29: =E29+F29+G29 -> 23627 | I29: 호표 24
A30: 5D2733227ECE5E96E25F69D9045EF4 | B30: 목재면 바탕만들기 | C30: 불순물 제거 노무비 | D30: M2 | E30: =일위대가!F200 -> 52 | F30: =일위대가!H200 -> 1750 | G30: =일위대가!J200 -> 0 | H30: =E30+F30+G30 -> 1802 | I30: 호표 25
A31: 5D2733227ECE5E96E25F69D9045EB4 | B31: 목재면 바탕만들기 | C31: 벽 | D31: M2 | E31: =일위대가!F205 -> 145 | F31: =일위대가!H205 -> 1750 | G31: =일위대가!J205 -> 0 | H31: =E31+F31+G31 -> 1895 | I31: 호표 26
A32: 5D2723CB75BB4BC6FD1B899355A014 | B32: 걸레받이 설치 | C32: 중밀도섬유판, H=75~120mm 기준 | D32: M | E32: =일위대가!F211 -> 0 | F32: =일위대가!H211 -> 4157 | G32: =일위대가!J211 -> 83 | H32: =E32+F32+G32 -> 4240 | I32: 호표 27
A33: 5D2723CB75BB6696B2BB29F2C88D14 | B33: 환기형 걸레받이 설치 | C33: 10mm*H:90,방염 | D33: M | E33: =일위대가!F217 -> 10404 | F33: =일위대가!H217 -> 4157 | G33: =일위대가!J217 -> 83 | H33: =E33+F33+G33 -> 14644 | I33: 호표 28
A34: 5D2723C979579566458669C60524C4 | B34: 벽체합판 설치 | C34: 합판 별도 | D34: M2 | E34: =일위대가!F223 -> 0 | F34: =일위대가!H223 -> 18183 | G34: =일위대가!J223 -> 363 | H34: =E34+F34+G34 -> 18546 | I34: 호표 29
A35: 5D2723C979579566458669D0636D34 | B35: 벽,합판붙임 | C35: T=9.0mm,보통합판 | D35: M2 | E35: =일위대가!F229 -> 8944 | F35: =일위대가!H229 -> 18183 | G35: =일위대가!J229 -> 363 | H35: =E35+F35+G35 -> 27490 | I35: 호표 30
A36: 5D2723C9795795664586699AB844A4 | B36: 라왕몰딩설치 | C36: T50*50,바니시3회칠 | D36: M2 | E36: =일위대가!F236 -> 90399 | F36: =일위대가!H236 -> 39659 | G36: =일위대가!J236 -> 363 | H36: =E36+F36+G36 -> 130421 | I36: 호표 31
A37: 5D2723C979579556BFDB997D8912E4 | B37: 수장합판 설치 | C37: 접착붙임(합판 별도) | D37: M2 | E37: =일위대가!F243 -> 561 | F37: =일위대가!H243 -> 19638 | G37: =일위대가!J243 -> 392 | H37: =E37+F37+G37 -> 20591 | I37: 호표 32
A38: 5D2723C979579556BFDAF906E81EE4 | B38: 수장합판 설치 | C38: 바탕붙임 포함 | D38: M2 | E38: =일위대가!F248 -> 561 | F38: =일위대가!H248 -> 19638 | G38: =일위대가!J248 -> 392 | H38: =E38+F38+G38 -> 20591 | I38: 호표 33
A39: 5D2723C979579536F14679F6B55054 | B39: 흡음타공패널 설치-주자재관급 | C39: 8t,준불연 | D39: M2 | E39: =일위대가!F252 -> 577 | F39: =일위대가!H252 -> 20227 | G39: =일위대가!J252 -> 403 | H39: =E39+F39+G39 -> 21207 | I39: 호표 34
A40: 5D2723CE713D6BB6E878697787FA44 | B40: 단열재 공간넣기 | C40: 50mm 이하 | D40: M2 | E40: =일위대가!F257 -> 0 | F40: =일위대가!H257 -> 6858 | G40: =일위대가!J257 -> 0 | H40: =E40+F40+G40 -> 6858 | I40: 호표 35
...

Sheet 일위대가
A1: [ 낭주중학교 체육관 흡음패널설치공사 ]
A2: 품 명 | B2: 규 격 | C2: 단위 | D2: 수량 | E2: 재 료 비 | G2: 노 무 비 | I2: 경 비 | K2: 합 계 | M2: 비 고 | N2: 일위대가 | O2: 품목코드 | P2: 일위 | Q2: 단산 | R2: 자재 | S2: 손료적용 | T2: 손료저장 | U2: 적용율 | V2: JUK1 | W2: JUK2 | X2: JUK3 | Y2: JUK4 | Z2: JUK5 | AA2: JUK6 | AB2: JUK7 | AC2: JUK8 | AD2: JUK9 | AE2: JUK10 | AF2: JUK11 | AG2: JUK12 | AH2: JUK13 | AI2: JUK14 | AJ2: JUK15 | AK2: JUK16 | AL2: JUK17 | AM2: JUK18 | AN2: JUK19 | AO2: JUK20 | AP2: 할증적용 | AQ2: 할증저장 | AR2: 할증율 | AS2: HAL1 | AT2: HAL2 | AU2: HAL3 | AV2: 자재구분 | AW2: 일위대가+자재 | AX2: 장비일위 | AY2: 설정 | AZ2: 할증체크
E3: 단 가 | F3: 금 액 | G3: 단 가 | H3: 금 액 | I3: 단 가 | J3: 금 액 | K3: 단 가 | L3: 금 액
A4: 용접기(교류) 500Amp HR ( 호표 1 ) | N4: 5A3D03BF77197E761A4FC9505425FD47D44E2559
A5: 용접기(교류) | B5: 500Amp | C5: 대 | D5: 0.2362 | E5: =단가대비표!O5 -> 0 | F5: =TRUNC(E5*D5,1) -> 0 | G5: =단가대비표!P5 -> 0 | H5: =TRUNC(G5*D5,1) -> 0 | I5: =단가대비표!V5 -> 666 | J5: =TRUNC(I5*D5,1) -> 157.3 | K5: =TRUNC(E5+G5+I5,1) -> 666 | L5: =TRUNC(F5+H5+J5,1) -> 157.3 | M5: 천원 | N5: 5A3D03BF77197E761A4FC9505425FD47D44E2559 | O5: 5A3D03BF77197E761A4FC9505425FD47D44E25 | P5: F | Q5: F | R5: T | AW5: 5A3D03BF77197E761A4FC9505425FD47D44E25595A3D03BF77197E761A4FC9505425FD47D44E25
A6: [ 합 계 ] | F6: =TRUNC(SUMIF(N5:N5, N4, F5:F5),0) -> 0 | H6: =TRUNC(SUMIF(N5:N5, N4, H5:H5),0) -> 0 | J6: =TRUNC(SUMIF(N5:N5, N4, J5:J5),0) -> 157 | L6: =F6+H6+J6 -> 157 | N6: TOTAL | O6: TOTAL
A8: 강관 조립말비계(이동식)설치 및 해체 높이 2m, 노무비 대 ( 호표 2 ) | N8: 5D27C3CF79157B36E65A39688447E4
A9: 비계공 | B9: 일반공사 직종 | C9: 인 | D9: 0.25 | E9: =단가대비표!O75 -> 0 | F9: =TRUNC(E9*D9,1) -> 0 | G9: =단가대비표!P75 -> 281939 | H9: =TRUNC(G9*D9,1) -> 70484.7 | I9: =단가대비표!V75 -> 0 | J9: =TRUNC(I9*D9,1) -> 0 | K9: =TRUNC(E9+G9+I9,1) -> 281939 | L9: =TRUNC(F9+H9+J9,1) -> 70484.7 | N9: 5D27C3CF79157B36E65A39688447E4 | O9: 5DFC530B7972BFC6069479DF2F59F645481867 | P9: F | Q9: F | R9: T | AW9: 5D27C3CF79157B36E65A39688447E45DFC530B7972BFC6069479DF2F59F645481867
A10: 보통인부 | B10: 일반공사 직종 | C10: 인 | D10: 0.14 | E10: =단가대비표!O73 -> 0 | F10: =TRUNC(E10*D10,1) -> 0 | G10: =단가대비표!P73 -> 172068 | H10: =TRUNC(G10*D10,1) -> 24089.5 | I10: =단가대비표!V73 -> 0 | J10: =TRUNC(I10*D10,1) -> 0 | K10: =TRUNC(E10+G10+I10,1) -> 172068 | L10: =TRUNC(F10+H10+J10,1) -> 24089.5 | N10: 5D27C3CF79157B36E65A39688447E4 | O10: 5DFC530B7972BFC6069479DF2F59F645481863 | P10: F | Q10: F | R10: T | AW10: 5D27C3CF79157B36E65A39688447E45DFC530B7972BFC6069479DF2F59F645481863
A11: [ 합 계 ] | F11: =TRUNC(SUMIF(N9:N10, N8, F9:F10),0) -> 0 | H11: =TRUNC(SUMIF(N9:N10, N8, H9:H10),0) -> 94574 | J11: =TRUNC(SUMIF(N9:N10, N8, J9:J10),0) -> 0 | L11: =F11+H11+J11 -> 94574 | N11: TOTAL | O11: TOTAL
A13: 강관 조립말비계(이동식)설치 및 해체 높이 4m, 노무비 대 ( 호표 3 ) | N13: 5D27C3CF79157B36E65A3968847324
A14: 비계공 | B14: 일반공사 직종 | C14: 인 | D14: 0.41 | E14: =단가대비표!O75 -> 0 | F14: =TRUNC(E14*D14,1) -> 0 | G14: =단가대비표!P75 -> 281939 | H14: =TRUNC(G14*D14,1) -> 115594.9 | I14: =단가대비표!V75 -> 0 | J14: =TRUNC(I14*D14,1) -> 0 | K14: =TRUNC(E14+G14+I14,1) -> 281939 | L14: =TRUNC(F14+H14+J14,1) -> 115594.9 | N14: 5D27C3CF79157B36E65A3968847324 | O14: 5DFC530B7972BFC6069479DF2F59F645481867 | P14: F | Q14: F | R14: T | AW14: 5D27C3CF79157B36E65A39688473245DFC530B7972BFC6069479DF2F59F645481867
A15: 보통인부 | B15: 일반공사 직종 | C15: 인 | D15: 0.24 | E15: =단가대비표!O73 -> 0 | F15: =TRUNC(E15*D15,1) -> 0 | G15: =단가대비표!P73 -> 172068 | H15: =TRUNC(G15*D15,1) -> 41296.3 | I15: =단가대비표!V73 -> 0 | J15: =TRUNC(I15*D15,1) -> 0 | K15: =TRUNC(E15+G15+I15,1) -> 172068 | L15: =TRUNC(F15+H15+J15,1) -> 41296.3 | N15: 5D27C3CF79157B36E65A3968847324 | O15: 5DFC530B7972BFC6069479DF2F59F645481863 | P15: F | Q15: F | R15: T | AW15: 5D27C3CF79157B36E65A39688473245DFC530B7972BFC6069479DF2F59F645481863
A16: [ 합 계 ] | F16: =TRUNC(SUMIF(N14:N15, N13, F14:F15),0) -> 0 | H16: =TRUNC(SUMIF(N14:N15, N13, H14:H15),0) -> 156891 | J16: =TRUNC(SUMIF(N14:N15, N13, J14:J15),0) -> 0 | L16: =F16+H16+J16 -> 156891 | N16: TOTAL | O16: TOTAL
A18: 강관 조립말비계(이동식)설치 및 해체 높이 4m, 3개월 대 ( 호표 4 ) | N18: 5D27C3CF79157B36E65A394DBF1744
A19: 비계안정장치 | B19: 기둥, 1.2*1.7m | C19: 개 | D19: 0.24 | E19: =단가대비표!O35 -> 28500 | F19: =TRUNC(E19*D19,1) -> 6840 | G19: =단가대비표!P35 -> 0 | H19: =TRUNC(G19*D19,1) -> 0 | I19: =단가대비표!V35 -> 0 | J19: =TRUNC(I19*D19,1) -> 0 | K19: =TRUNC(E19+G19+I19,1) -> 28500 | L19: =TRUNC(F19+H19+J19,1) -> 6840 | N19: 5D27C3CF79157B36E65A394DBF1744 | O19: 5A01C3387FA0E336573CB957F6B61040A5A9A9 | P19: F | Q19: F | R19: T | AW19: 5D27C3CF79157B36E65A394DBF17445A01C3387FA0E336573CB957F6B61040A5A9A9
A20: 비계안정장치 | B20: 가새, 1.2*1.9m | C20: 개 | D20: 0.24 | E20: =단가대비표!O36 -> 9500 | F20: =TRUNC(E20*D20,1) -> 2280 | G20: =단가대비표!P36 -> 0 | H20: =TRUNC(G20*D20,1) -> 0 | I20: =단가대비표!V36 -> 0 | J20: =TRUNC(I20*D20,1) -> 0 | K20: =TRUNC(E20+G20+I20,1) -> 9500 | L20: =TRUNC(F20+H20+J20,1) -> 2280 | N20: 5D27C3CF79157B36E65A394DBF1744 | O20: 5A01C3387FA0E336573CB957F6B61040A5A9A7 | P20: F | Q20: F | R20: T | AW20: 5D27C3CF79157B36E65A394DBF17445A01C3387FA0E336573CB957F6B61040A5A9A7
A21: 비계안정장치 | B21: 수평띠장, 1829mm | C21: 개 | D21: 0.48 | E21: =단가대비표!O37 -> 24130 | F21: =TRUNC(E21*D21,1) -> 11582.4 | G21: =단가대비표!P37 -> 0 | H21: =TRUNC(G21*D21,1) -> 0 | I21: =단가대비표!V37 -> 0 | J21: =TRUNC(I21*D21,1) -> 0 | K21: =TRUNC(E21+G21+I21,1) -> 24130 | L21: =TRUNC(F21+H21+J21,1) -> 11582.4 | N21: 5D27C3CF79157B36E65A394DBF1744 | O21: 5A01C3387FA0E336573CB957F6B61040A5A6DB | P21: F | Q21: F | R21: T | AW21: 5D27C3CF79157B36E65A394DBF17445A01C3387FA0E336573CB957F6B61040A5A6DB
A22: 비계안정장치 | B22: 손잡이기둥 | C22: 개 | D22: 0.24 | E22: =단가대비표!O40 -> 22400 | F22: =TRUNC(E22*D22,1) -> 5376 | G22: =단가대비표!P40 -> 0 | H22: =TRUNC(G22*D22,1) -> 0 | I22: =단가대비표!V40 -> 0 | J22: =TRUNC(I22*D22,1) -> 0 | K22: =TRUNC(E22+G22+I22,1) -> 22400 | L22: =TRUNC(F22+H22+J22,1) -> 5376 | N22: 5D27C3CF79157B36E65A394DBF1744 | O22: 5A01C3387FA0E336573CB957F6B61040A5A6DC | P22: F | Q22: F | R22: T | AW22: 5D27C3CF79157B36E65A394DBF17445A01C3387FA0E336573CB957F6B61040A5A6DC
A23: 비계안정장치 | B23: 손잡이, 1229mm | C23: 개 | D23: 0.12 | E23: =단가대비표!O38 -> 10800 | F23: =TRUNC(E23*D23,1) -> 1296 | G23: =단가대비표!P38 -> 0 | H23: =TRUNC(G23*D23,1) -> 0 | I23: =단가대비표!V38 -> 0 | J23: =TRUNC(I23*D23,1) -> 0 | K23: =TRUNC(E23+G23+I23,1) -> 10800 | L23: =TRUNC(F23+H23+J23,1) -> 1296 | N23: 5D27C3CF79157B36E65A394DBF1744 | O23: 5A01C3387FA0E336573CB957F6B61040A5A6DA | P23: F | Q23: F | R23: T | AW23: 5D27C3CF79157B36E65A394DBF17445A01C3387FA0E336573CB957F6B61040A5A6DA
A24: 비계안정장치 | B24: 손잡이, 1829mm | C24: 개 | D24: 0.24 | E24: =단가대비표!O39 -> 13500 | F24: =TRUNC(E24*D24,1) -> 3240 | G24: =단가대비표!P39 -> 0 | H24: =TRUNC(G24*D24,1) -> 0 | I24: =단가대비표!V39 -> 0 | J24: =TRUNC(I24*D24,1) -> 0 | K24: =TRUNC(E24+G24+I24,1) -> 13500 | L24: =TRUNC(F24+H24+J24,1) -> 3240 | N24: 5D27C3CF79157B36E65A394DBF1744 | O24: 5A01C3387FA0E336573CB957F6B61040A5A6DD | P24: F | Q24: F | R24: T | AW24: 5D27C3CF79157B36E65A394DBF17445A01C3387FA0E336573CB957F6B61040A5A6DD
A25: 비계안정장치 | B25: 이음철물, 연결핀 | C25: 개 | D25: 0.48 | E25: =단가대비표!O34 -> 1300 | F25: =TRUNC(E25*D25,1) -> 624 | G25: =단가대비표!P34 -> 0 | H25: =TRUNC(G25*D25,1) -> 0 | I25: =단가대비표!V34 -> 0 | J25: =TRUNC(I25*D25,1) -> 0 | K25: =TRUNC(E25+G25+I25,1) -> 1300 | L25: =TRUNC(F25+H25+J25,1) -> 624 | N25: 5D27C3CF79157B36E65A394DBF1744 | O25: 5A01C3387FA0E336573CB957F6B61040A5AB5C | P25: F | Q25: F | R25: T | AW25: 5D27C3CF79157B36E65A394DBF17445A01C3387FA0E336573CB957F6B61040A5AB5C
A26: 비계안정장치 | B26: 바퀴 | C26: 개 | D26: 0.36 | E26: =단가대비표!O41 -> 9500 | F26: =TRUNC(E26*D26,1) -> 3420 | G26: =단가대비표!P41 -> 0 | H26: =TRUNC(G26*D26,1) -> 0 | I26: =단가대비표!V41 -> 0 | J26: =TRUNC(I26*D26,1) -> 0 | K26: =TRUNC(E26+G26+I26,1) -> 9500 | L26: =TRUNC(F26+H26+J26,1) -> 3420 | N26: 5D27C3CF79157B36E65A394DBF1744 | O26: 5A01C3387FA0E336573CB957F6B61040A5A6DF | P26: F | Q26: F | R26: T | AW26: 5D27C3CF79157B36E65A394DBF17445A01C3387FA0E336573CB957F6B61040A5A6DF
A27: 비계안정장치 | B27: 쟈키 | C27: 개 | D27: 0.36 | E27: =단가대비표!O42 -> 8700 | F27: =TRUNC(E27*D27,1) -> 3132 | G27: =단가대비표!P42 -> 0 | H27: =TRUNC(G27*D27,1) -> 0 | I27: =단가대비표!V42 -> 0 | J27: =TRUNC(I27*D27,1) -> 0 | K27: =TRUNC(E27+G27+I27,1) -> 8700 | L27: =TRUNC(F27+H27+J27,1) -> 3132 | N27: 5D27C3CF79157B36E65A394DBF1744 | O27: 5A01C3387FA0E336573CB957F6B61040A5A6DE | P27: F | Q27: F | R27: T | AW27: 5D27C3CF79157B36E65A394DBF17445A01C3387FA0E336573CB957F6B61040A5A6DE
A28: 비계안정장치 | B28: 발판, 40*200*2000 | C28: 장 | D28: 0.63 | E28: =단가대비표!O45 -> 9900 | F28: =TRUNC(E28*D28,1) -> 6237 | G28: =단가대비표!P45 -> 0 | H28: =TRUNC(G28*D28,1) -> 0 | I28: =단가대비표!V45 -> 0 | J28: =TRUNC(I28*D28,1) -> 0 | K28: =TRUNC(E28+G28+I28,1) -> 9900 | L28: =TRUNC(F28+H28+J28,1) -> 6237 | N28: 5D27C3CF79157B36E65A394DBF1744 | O28: 5A01C3387FA0E336573CB957DBFB4F4AE4AFDA | P28: F | Q28: F | R28: T | AW28: 5D27C3CF79157B36E65A394DBF17445A01C3387FA0E336573CB957DBFB4F4AE4AFDA
A29: 강관 조립말비계(이동식)설치 및 해체 | B29: 높이 4m, 노무비 | C29: 대 | D29: 1 | E29: =일위대가목록!E6 -> 0 | F29: =TRUNC(E29*D29,1) -> 0 | G29: =일위대가목록!F6 -> 156891 | H29: =TRUNC(G29*D29,1) -> 156891 | I29: =일위대가목록!G6 -> 0 | J29: =TRUNC(I29*D29,1) -> 0 | K29: =TRUNC(E29+G29+I29,1) -> 156891 | L29: =TRUNC(F29+H29+J29,1) -> 156891 | M29: 호표 3 | N29: 5D27C3CF79157B36E65A394DBF1744 | O29: 5D27C3CF79157B36E65A3968847324 | P29: T | Q29: F | R29: F | AW29: 5D27C3CF79157B36E65A394DBF17445D27C3CF79157B36E65A3968847324
A30: [ 합 계 ] | F30: =TRUNC(SUMIF(N19:N29, N18, F19:F29),0) -> 44027 | H30: =TRUNC(SUMIF(N19:N29, N18, H19:H29),0) -> 156891 | J30: =TRUNC(SUMIF(N19:N29, N18, J19:J29),0) -> 0 | L30: =F30+H30+J30 -> 200918 | N30: TOTAL | O30: TOTAL
A32: 강관 조립말비계(이동식)설치 및 해체 높이 6m, 3개월 대 ( 호표 5 ) | N32: 5D27C3CF79157B36E65A395E2E3CC4
A33: 비계안정장치 | B33: 기둥, 1.2*1.7m | C33: 개 | D33: 0.36 | E33: =단가대비표!O35 -> 28500 | F33: =TRUNC(E33*D33,1) -> 10260 | G33: =단가대비표!P35 -> 0 | H33: =TRUNC(G33*D33,1) -> 0 | I33: =단가대비표!V35 -> 0 | J33: =TRUNC(I33*D33,1) -> 0 | K33: =TRUNC(E33+G33+I33,1) -> 28500 | L33: =TRUNC(F33+H33+J33,1) -> 10260 | N33: 5D27C3CF79157B36E65A395E2E3CC4 | O33: 5A01C3387FA0E336573CB957F6B61040A5A9A9 | P33: F | Q33: F | R33: T | AW33: 5D27C3CF79157B36E65A395E2E3CC45A01C3387FA0E336573CB957F6B61040A5A9A9
A34: 비계안정장치 | B34: 가새, 1.2*1.9m | C34: 개 | D34: 0.36 | E34: =단가대비표!O36 -> 9500 | F34: =TRUNC(E34*D34,1) -> 3420 | G34: =단가대비표!P36 -> 0 | H34: =TRUNC(G34*D34,1) -> 0 | I34: =단가대비표!V36 -> 0 | J34: =TRUNC(I34*D34,1) -> 0 | K34: =TRUNC(E34+G34+I34,1) -> 9500 | L34: =TRUNC(F34+H34+J34,1) -> 3420 | N34: 5D27C3CF79157B36E65A395E2E3CC4 | O34: 5A01C3387FA0E336573CB957F6B61040A5A9A7 | P34: F | Q34: F | R34: T | AW34: 5D27C3CF79157B36E65A395E2E3CC45A01C3387FA0E336573CB957F6B61040A5A9A7
A35: 비계안정장치 | B35: 수평띠장, 1829mm | C35: 개 | D35: 0.72 | E35: =단가대비표!O37 -> 24130 | F35: =TRUNC(E35*D35,1) -> 17373.6 | G35: =단가대비표!P37 -> 0 | H35: =TRUNC(G35*D35,1) -> 0 | I35: =단가대비표!V37 -> 0 | J35: =TRUNC(I35*D35,1) -> 0 | K35: =TRUNC(E35+G35+I35,1) -> 24130 | L35: =TRUNC(F35+H35+J35,1) -> 17373.6 | N35: 5D27C3CF79157B36E65A395E2E3CC4 | O35: 5A01C3387FA0E336573CB957F6B61040A5A6DB | P35: F | Q35: F | R35: T | AW35: 5D27C3CF79157B36E65A395E2E3CC45A01C3387FA0E336573CB957F6B61040A5A6DB
A36: 비계안정장치 | B36: 손잡이기둥 | C36: 개 | D36: 0.24 | E36: =단가대비표!O40 -> 22400 | F36: =TRUNC(E36*D36,1) -> 5376 | G36: =단가대비표!P40 -> 0 | H36: =TRUNC(G36*D36,1) -> 0 | I36: =단가대비표!V40 -> 0 | J36: =TRUNC(I36*D36,1) -> 0 | K36: =TRUNC(E36+G36+I36,1) -> 22400 | L36: =TRUNC(F36+H36+J36,1) -> 5376 | N36: 5D27C3CF79157B36E65A395E2E3CC4 | O36: 5A01C3387FA0E336573CB957F6B61040A5A6DC | P36: F | Q36: F | R36: T | AW36: 5D27C3CF79157B36E65A395E2E3CC45A01C3387FA0E336573CB957F6B61040A5A6DC
A37: 비계안정장치 | B37: 손잡이, 1229mm | C37: 개 | D37: 0.12 | E37: =단가대비표!O38 -> 10800 | F37: =TRUNC(E37*D37,1) -> 1296 | G37: =단가대비표!P38 -> 0 | H37: =TRUNC(G37*D37,1) -> 0 | I37: =단가대비표!V38 -> 0 | J37: =TRUNC(I37*D37,1) -> 0 | K37: =TRUNC(E37+G37+I37,1) -> 10800 | L37: =TRUNC(F37+H37+J37,1) -> 1296 | N37: 5D27C3CF79157B36E65A395E2E3CC4 | O37: 5A01C3387FA0E336573CB957F6B61040A5A6DA | P37: F | Q37: F | R37: T | AW37: 5D27C3CF79157B36E65A395E2E3CC45A01C3387FA0E336573CB957F6B61040A5A6DA
A38: 비계안정장치 | B38: 손잡이, 1829mm | C38: 개 | D38: 0.24 | E38: =단가대비표!O39 -> 13500 | F38: =TRUNC(E38*D38,1) -> 3240 | G38: =단가대비표!P39 -> 0 | H38: =TRUNC(G38*D38,1) -> 0 | I38: =단가대비표!V39 -> 0 | J38: =TRUNC(I38*D38,1) -> 0 | K38: =TRUNC(E38+G38+I38,1) -> 13500 | L38: =TRUNC(F38+H38+J38,1) -> 3240 | N38: 5D27C3CF79157B36E65A395E2E3CC4 | O38: 5A01C3387FA0E336573CB957F6B61040A5A6DD | P38: F | Q38: F | R38: T | AW38: 5D27C3CF79157B36E65A395E2E3CC45A01C3387FA0E336573CB957F6B61040A5A6DD
A39: 비계안정장치 | B39: 이음철물, 연결핀 | C39: 개 | D39: 0.96 | E39: =단가대비표!O34 -> 1300 | F39: =TRUNC(E39*D39,1) -> 1248 | G39: =단가대비표!P34 -> 0 | H39: =TRUNC(G39*D39,1) -> 0 | I39: =단가대비표!V34 -> 0 | J39: =TRUNC(I39*D39,1) -> 0 | K39: =TRUNC(E39+G39+I39,1) -> 1300 | L39: =TRUNC(F39+H39+J39,1) -> 1248 | N39: 5D27C3CF79157B36E65A395E2E3CC4 | O39: 5A01C3387FA0E336573CB957F6B61040A5AB5C | P39: F | Q39: F | R39: T | AW39: 5D27C3CF79157B36E65A395E2E3CC45A01C3387FA0E336573CB957F6B61040A5AB5C
A40: 비계안정장치 | B40: 바퀴 | C40: 개 | D40: 0.36 | E40: =단가대비표!O41 -> 9500 | F40: =TRUNC(E40*D40,1) -> 3420 | G40: =단가대비표!P41 -> 0 | H40: =TRUNC(G40*D40,1) -> 0 | I40: =단가대비표!V41 -> 0 | J40: =TRUNC(I40*D40,1) -> 0 | K40: =TRUNC(E40+G40+I40,1) -> 9500 | L40: =TRUNC(F40+H40+J40,1) -> 3420 | N40: 5D27C3CF79157B36E65A395E2E3CC4 | O40: 5A01C3387FA0E336573CB957F6B61040A5A6DF | P40: F | Q40: F | R40: T | AW40: 5D27C3CF79157B36E65A395E2E3CC45A01C3387FA0E336573CB957F6B61040A5A6DF
A41: 비계안정장치 | B41: 쟈키 | C41: 개 | D41: 0.36 | E41: =단가대비표!O42 -> 8700 | F41: =TRUNC(E41*D41,1) -> 3132 | G41: =단가대비표!P42 -> 0 | H41: =TRUNC(G41*D41,1) -> 0 | I41: =단가대비표!V42 -> 0 | J41: =TRUNC(I41*D41,1) -> 0 | K41: =TRUNC(E41+G41+I41,1) -> 8700 | L41: =TRUNC(F41+H41+J41,1) -> 3132 | N41: 5D27C3CF79157B36E65A395E2E3CC4 | O41: 5A01C3387FA0E336573CB957F6B61040A5A6DE | P41: F | Q41: F | R41: T | AW41: 5D27C3CF79157B36E65A395E2E3CC45A01C3387FA0E336573CB957F6B61040A5A6DE
A42: 비계안정장치 | B42: 발판, 40*200*2000 | C42: 장 | D42: 0.63 | E42: =단가대비표!O45 -> 9900 | F42: =TRUNC(E42*D42,1) -> 6237 | G42: =단가대비표!P45 -> 0 | H42: =TRUNC(G42*D42,1) -> 0 | I42: =단가대비표!V45 -> 0 | J42: =TRUNC(I42*D42,1) -> 0 | K42: =TRUNC(E42+G42+I42,1) -> 9900 | L42: =TRUNC(F42+H42+J42,1) -> 6237 | N42: 5D27C3CF79157B36E65A395E2E3CC4 | O42: 5A01C3387FA0E336573CB957DBFB4F4AE4AFDA | P42: F | Q42: F | R42: T | AW42: 5D27C3CF79157B36E65A395E2E3CC45A01C3387FA0E336573CB957DBFB4F4AE4AFDA
A43: 강관 조립말비계(이동식)설치 및 해체 | B43: 높이 4m, 노무비 | C43: 대 | D43: 1 | E43: =일위대가목록!E6 -> 0 | F43: =TRUNC(E43*D43,1) -> 0 | G43: =일위대가목록!F6 -> 156891 | H43: =TRUNC(G43*D43,1) -> 156891 | I43: =일위대가목록!G6 -> 0 | J43: =TRUNC(I43*D43,1) -> 0 | K43: =TRUNC(E43+G43+I43,1) -> 156891 | L43: =TRUNC(F43+H43+J43,1) -> 156891 | M43: 호표 3 | N43: 5D27C3CF79157B36E65A395E2E3CC4 | O43: 5D27C3CF79157B36E65A3968847324 | P43: T | Q43: F | R43: F | AW43: 5D27C3CF79157B36E65A395E2E3CC45D27C3CF79157B36E65A3968847324
A44: 강관 조립말비계(이동식)설치 및 해체 | B44: 높이 2m, 노무비 | C44: 대 | D44: 1 | E44: =일위대가목록!E5 -> 0 | F44: =TRUNC(E44*D44,1) -> 0 | G44: =일위대가목록!F5 -> 94574 | H44: =TRUNC(G44*D44,1) -> 94574 | I44: =일위대가목록!G5 -> 0 | J44: =TRUNC(I44*D44,1) -> 0 | K44: =TRUNC(E44+G44+I44,1) -> 94574 | L44: =TRUNC(F44+H44+J44,1) -> 94574 | M44: 호표 2 | N44: 5D27C3CF79157B36E65A395E2E3CC4 | O44: 5D27C3CF79157B36E65A39688447E4 | P44: T | Q44: F | R44: F | AW44: 5D27C3CF79157B36E65A395E2E3CC45D27C3CF79157B36E65A39688447E4
...

Sheet 단가대비표
A1: 단 가 대 비 표
A2: [ 낭주중학교 체육관 흡음패널설치공사 ]
A3: 코 드 | B3: 품 명 | C3: 규격 | D3: 단위 | E3: 재 료 비 | P3: 노 무 비 | Q3: 경 비 | W3: 번 호 | X3: 비 고 | Y3: 품목구분 | Z3: 노임구분 | AA3: 소수점처리 | AB3: 자재구분
E4: 조달청가격 | F4: PAGE | G4: 물가자료 | H4: PAGE | I4: 물가정보 | J4: PAGE | K4: 거래가격 | L4: PAGE | M4: 조사가격 | N4: PAGE | O4: 적용단가 | Q4: 조달청가격 | R4: 물가자료 | S4: 물가정보 | T4: 거래가격 | U4: 조사가격 | V4: 적용단가
A5: 5A3D03BF77197E761A4FC9505425FD47D44E25 | B5: 용접기(교류) | C5: 500Amp | D5: 대 | E5: 0 | G5: 0 | I5: 0 | K5: 0 | M5: 0 | O5: 0 | P5: 0 | Q5: 0 | R5: 0 | S5: 0 | T5: 0 | U5: 666 | V5: =SMALL(Q5:U5,COUNTIF(Q5:U5,0)+1) -> 666 | W5: 자재 1 | X5: 천원
A6: 5A2C83A77B5F5F669FF2790C3E227E4775F4FC | B6: 보통합판 | C6: 1급, 9.0*1220*2440mm | D6: M2 | E6: 8779 | G6: 8465.46 | H6: 667 | I6: 8465.46 | J6: 407 | K6: 0 | M6: 0 | O6: =SMALL(E6:M6,COUNTIF(E6:M6,0)+1) -> 8465.46 | P6: 0 | Q6: 0 | R6: 0 | S6: 0 | T6: 0 | U6: 0 | V6: 0 | W6: 자재 2
A7: 5A2C83A77BED5F26DA7EF948DDC53A46863587 | B7: 철강설 | C7: 고철, 작업설부산물 | D7: kg | E7: 261 | G7: 290 | H7: 47 II | I7: 255 | J7: 84 II | K7: 335 | L7: 1472 | M7: 0 | O7: =SMALL(E7:M7,COUNTIF(E7:M7,0)+1) -> 255 | P7: 0 | Q7: 0 | R7: 0 | S7: 0 | T7: 0 | U7: 0 | V7: 0 | W7: 자재 3 | X7: 수집상차도
A8: 5A2C83A77BED5F26DA7EF948DDC53A468634FF | B8: 철강설 | C8: 스텐레스, 작업설부산물 | D8: kg | E8: 1377.5 | G8: 1400 | H8: 47 II | I8: 1500 | J8: 84 II | K8: 1850 | L8: 1472 | M8: 0 | O8: =SMALL(E8:M8,COUNTIF(E8:M8,0)+1) -> 1377.5 | P8: 0 | Q8: 0 | R8: 0 | S8: 0 | T8: 0 | U8: 0 | V8: 0 | W8: 자재 4 | X8: 수집상차도
A9: 5A2CB37A70B5890698DBC9456DBD464F094EA9 | B9: 산소가스 | C9: 기체 | D9: L | E9: 2 | G9: 3.25 | H9: 33 II | I9: 3.3 | J9: 1438 | K9: 3.3 | L9: 1451 | M9: 0 | O9: =SMALL(E9:M9,COUNTIF(E9:M9,0)+1) -> 2 | P9: 0 | Q9: 0 | R9: 0 | S9: 0 | T9: 0 | U9: 0 | V9: 0 | W9: 자재 5 | X9: 대기압상태기준
A10: 5A2CA355712A6D46C9FBF952367A61488EB2C7 | B10: 폴리에틸렌필름 | C10: 두께, 0.03mm | D10: M2 | E10: 182 | G10: 228 | H10: 18 II | I10: 250 | J10: 72 II | K10: 184 | L10: 1460 | M10: 0 | O10: =SMALL(E10:M10,COUNTIF(E10:M10,0)+1) -> 182 | P10: 0 | Q10: 0 | R10: 0 | S10: 0 | T10: 0 | U10: 0 | V10: 0 | W10: 자재 6
A11: 5A2CC30073BCE0965C96C9DA04DDF64DE42EAF | B11: 아세틸렌가스 | D11: kg | E11: 15213 | G11: 30000 | H11: 33 II | I11: 41800 | J11: 1438 | K11: 52000 | L11: 1451 | M11: 0 | O11: =SMALL(E11:M11,COUNTIF(E11:M11,0)+1) -> 15213 | P11: 0 | Q11: 0 | R11: 0 | S11: 0 | T11: 0 | U11: 0 | V11: 0 | W11: 자재 7
A12: 5A12137F7A4B7D26F47249002FED31429787C8 | B12: 스테인리스강용피복아크용접봉 | C12: 스테인리스강용피복아크용접봉, ∮3.2mm, AWSE309 | D12: kg | E12: 0 | G12: 15085 | H12: 1326 | I12: 0 | K12: 0 | M12: 0 | O12: =SMALL(E12:M12,COUNTIF(E12:M12,0)+1) -> 15085 | P12: 0 | Q12: 0 | R12: 0 | S12: 0 | T12: 0 | U12: 0 | V12: 0 | W12: 자재 8
A13: 5A01C3387F3DD7563DE5690F963AEF46A48861 | B13: 스테인리스강판 | C13: STS304, 3.0mm | D13: kg | E13: 3650 | G13: 3800 | H13: 31 | I13: 3913 | J13: 27 | K13: 3880 | L13: 74 | M13: 0 | O13: =SMALL(E13:M13,COUNTIF(E13:M13,0)+1) -> 3650 | P13: 0 | Q13: 0 | R13: 0 | S13: 0 | T13: 0 | U13: 0 | V13: 0 | W13: 자재 9
A14: 5A01C3387F3DD7563DE5690F85351F488E8A8D | B14: 스테인리스강판 | C14: 스테인리스강판, STS304, 50mm | D14: kg | E14: 0 | G14: 4200 | H14: 74 | I14: 4242 | J14: 36 | K14: 0 | M14: 0 | O14: =SMALL(E14:M14,COUNTIF(E14:M14,0)+1) -> 4200 | P14: 0 | Q14: 0 | R14: 0 | S14: 0 | T14: 0 | U14: 0 | V14: 0 | W14: 자재 10
A15: 5A01C3387F3DC57670CC797572E4C1486FA485 | B15: 판재 | C15: 라왕, 일반 | D15: M3 | E15: 1763854 | G15: 2215568 | H15: 97 | I15: 0 | K15: 2024451 | L15: 148 | M15: 0 | O15: =SMALL(E15:M15,COUNTIF(E15:M15,0)+1) -> 1763854 | P15: 0 | Q15: 0 | R15: 0 | S15: 0 | T15: 0 | U15: 0 | V15: 0 | W15: 자재 11
A16: 5A01C3387F3DC576792E8936247DC74C088B7A | B16: 각재 | C16: 미송 | D16: M3 | E16: 731289 | G16: 838323 | H16: 97 | I16: 0 | K16: 778635 | L16: 148 | M16: 0 | O16: =SMALL(E16:M16,COUNTIF(E16:M16,0)+1) -> 731289 | P16: 0 | Q16: 0 | R16: 0 | S16: 0 | T16: 0 | U16: 0 | V16: 0 | W16: 자재 12
A17: 5A01C3387F113876F4BE799548B2EA4109E828 | B17: 토목용부직포 | C17: 토목용부직포, 부직포, PE망 | D17: M2 | E17: 0 | G17: 700 | H17: 383 | I17: 0 | K17: 0 | M17: 0 | O17: =SMALL(E17:M17,COUNTIF(E17:M17,0)+1) -> 700 | P17: 0 | Q17: 0 | R17: 0 | S17: 0 | T17: 0 | U17: 0 | V17: 0 | W17: 자재 13
A18: 5A01C3387F58CFC60AAE9993D9F0A5488EBD58 | B18: 불연천장재 | C18: 12*300*600mm | D18: M2 | E18: 9880 | G18: 10400 | H18: 675 | I18: 0 | K18: 0 | M18: 0 | O18: =SMALL(E18:M18,COUNTIF(E18:M18,0)+1) -> 9880 | P18: 0 | Q18: 0 | R18: 0 | S18: 0 | T18: 0 | U18: 0 | V18: 0 | W18: 자재 14
A19: 5A01C3387F58CFC60AAE9993D9F0A5488D9487 | B19: 내진 천정틀 | C19: M-BAR,마감재부착포함 | D19: M2 | E19: 0 | G19: 27000 | H19: 695 | I19: 28000 | J19: 569 | K19: 28000 | L19: 676 | M19: 0 | O19: =SMALL(E19:M19,COUNTIF(E19:M19,0)+1) -> 27000 | P19: 0 | Q19: 0 | R19: 0 | S19: 0 | T19: 0 | U19: 0 | V19: 0 | W19: 자재 15 | X19: 시공비포함
A20: 5A01C3387F58CFC60AA8790B903BB94A0E65AA | B20: 경량철골천장틀 | C20: 몰딩(알루미늄), W형, 15*15*15*15*1.0mm | D20: M | E20: 0 | G20: 2480 | H20: 503 | I20: 2480 | J20: 641 | K20: 2480 | L20: 673 | M20: 0 | O20: =SMALL(E20:M20,COUNTIF(E20:M20,0)+1) -> 2480 | P20: 0 | Q20: 0 | R20: 0 | S20: 0 | T20: 0 | U20: 0 | V20: 0 | W20: 자재 16
A21: 5A01C3387F58CFC60AA919B9E7A9FE4EDC1B87 | B21: 실내공기질시험 | C21: 3지점 | D21: 회 | E21: 0 | G21: 0 | I21: 0 | K21: 0 | M21: 0 | O21: 0 | P21: 0 | Q21: 0 | R21: 0 | S21: 0 | T21: 0 | U21: 800000 | V21: =SMALL(Q21:U21,COUNTIF(Q21:U21,0)+1) -> 800000 | W21: 자재 17
A22: 5A01C3387F58CFD610F509F4A0F39949A397DE | B22: 플로어링보드 | C22: 플로어링보드, 22mm, 경질단풍나무(MAPLE), 비도장제품 | D22: M2 | E22: 0 | G22: 76000 | H22: 720 | I22: 0 | K22: 0 | M22: 0 | O22: =SMALL(E22:M22,COUNTIF(E22:M22,0)+1) -> 76000 | P22: 0 | Q22: 0 | R22: 0 | S22: 0 | T22: 0 | U22: 0 | V22: 0 | W22: 자재 18
A23: 5A01C3387F58CFD610F509F4A0F399489E6D71 | B23: 환기형걸레받이 | C23: 오크 칼라 90*10, 유공 | D23: M | E23: 0 | G23: 12500 | H23: 633 | I23: 0 | K23: 10000 | L23: 716 | M23: 0 | O23: =SMALL(E23:M23,COUNTIF(E23:M23,0)+1) -> 10000 | P23: 0 | Q23: 0 | R23: 0 | S23: 0 | T23: 0 | U23: 0 | V23: 0 | W23: 자재 19
A24: 5A01C3387FA0E306834269351D6F8E40827904 | B24: 수직재 | C24: 48.6mm * 3.800mm | D24: 본 | E24: 0 | G24: 39000 | H24: 108 | I24: 0 | K24: 25000 | L24: 167 | M24: 0 | O24: =SMALL(E24:M24,COUNTIF(E24:M24,0)+1) -> 25000 | P24: 0 | Q24: 0 | R24: 0 | S24: 0 | T24: 0 | U24: 0 | V24: 0 | W24: 자재 20
A25: 5A01C3387FA0E306834269351D6F8E4082787D | B25: 수직재 | C25: 48.6mm * 950mm | D25: 본 | E25: 0 | G25: 13300 | H25: 108 | I25: 0 | K25: 8500 | L25: 167 | M25: 0 | O25: =SMALL(E25:M25,COUNTIF(E25:M25,0)+1) -> 8500 | P25: 0 | Q25: 0 | R25: 0 | S25: 0 | T25: 0 | U25: 0 | V25: 0 | W25: 자재 21
A26: 5A01C3387FA0E306834269351D6F8E4085C5CC | B26: 수평재 | C26: 42.7mm * 1829mm | D26: 개 | E26: 0 | G26: 13500 | H26: 108 | I26: 0 | K26: 10000 | L26: 167 | M26: 0 | O26: =SMALL(E26:M26,COUNTIF(E26:M26,0)+1) -> 10000 | P26: 0 | Q26: 0 | R26: 0 | S26: 0 | T26: 0 | U26: 0 | V26: 0 | W26: 자재 22
A27: 5A01C3387FA0E306834269351D6F8E4085C425 | B27: 수평재 | C27: 42.7mm * 610mm | D27: 개 | E27: 0 | G27: 8300 | H27: 108 | I27: 0 | K27: 5500 | L27: 167 | M27: 0 | O27: =SMALL(E27:M27,COUNTIF(E27:M27,0)+1) -> 5500 | P27: 0 | Q27: 0 | R27: 0 | S27: 0 | T27: 0 | U27: 0 | V27: 0 | W27: 자재 23
A28: 5A01C3387FA0E306834269351D6F8E4085C7F9 | B28: 난간재 | C28: 42.7mm * 1829mm | D28: 개 | E28: 0 | G28: 13500 | H28: 108 | I28: 0 | K28: 10000 | L28: 167 | M28: 0 | O28: =SMALL(E28:M28,COUNTIF(E28:M28,0)+1) -> 10000 | P28: 0 | Q28: 0 | R28: 0 | S28: 0 | T28: 0 | U28: 0 | V28: 0 | W28: 자재 24
A29: 5A01C3387FA0E306834269351D6F8E4085C6D3 | B29: 난간재 | C29: 42.7mm * 610mm | D29: 개 | E29: 0 | G29: 8300 | H29: 108 | I29: 0 | K29: 5500 | L29: 167 | M29: 0 | O29: =SMALL(E29:M29,COUNTIF(E29:M29,0)+1) -> 5500 | P29: 0 | Q29: 0 | R29: 0 | S29: 0 | T29: 0 | U29: 0 | V29: 0 | W29: 자재 25
A30: 5A01C3387FA0E306834269351D6F8E4085C155 | B30: 안전발판 | C30: 400mm * 1829mm | D30: 개 | E30: 0 | G30: 19800 | H30: 107 | I30: 0 | K30: 26200 | L30: 167 | M30: 0 | O30: =SMALL(E30:M30,COUNTIF(E30:M30,0)+1) -> 19800 | P30: 0 | Q30: 0 | R30: 0 | S30: 0 | T30: 0 | U30: 0 | V30: 0 | W30: 자재 26
A31: 5A01C3387FA0E306834269351D6F8E4085C04A | B31: 받침철물 | C31: D34*600mm | D31: 개 | E31: 0 | G31: 8700 | H31: 108 | I31: 0 | K31: 11000 | L31: 166 | M31: 0 | O31: =SMALL(E31:M31,COUNTIF(E31:M31,0)+1) -> 8700 | P31: 0 | Q31: 0 | R31: 0 | S31: 0 | T31: 0 | U31: 0 | V31: 0 | W31: 자재 27
A32: 5A01C3387FA0E306834269351D6F8E4085C31E | B32: 비계버팀대 | C32: 소(330mm*400mm) | D32: 개 | E32: 0 | G32: 10500 | H32: 108 | I32: 0 | K32: 10500 | L32: 167 | M32: 0 | O32: =SMALL(E32:M32,COUNTIF(E32:M32,0)+1) -> 10500 | P32: 0 | Q32: 0 | R32: 0 | S32: 0 | T32: 0 | U32: 0 | V32: 0 | W32: 자재 28
A33: 5A01C3387FA0E306834269351D6F8E4085CD02 | B33: 내부계단 | C33: 400mm * 2638mm | D33: 개 | E33: 0 | G33: 77000 | H33: 108 | I33: 0 | K33: 0 | M33: 0 | O33: =SMALL(E33:M33,COUNTIF(E33:M33,0)+1) -> 77000 | P33: 0 | Q33: 0 | R33: 0 | S33: 0 | T33: 0 | U33: 0 | V33: 0 | W33: 자재 29
A34: 5A01C3387FA0E336573CB957F6B61040A5AB5C | B34: 비계안정장치 | C34: 이음철물, 연결핀 | D34: 개 | E34: 1330 | G34: 1300 | H34: 106 | I34: 0 | K34: 1400 | L34: 166 | M34: 0 | O34: =SMALL(E34:M34,COUNTIF(E34:M34,0)+1) -> 1300 | P34: 0 | Q34: 0 | R34: 0 | S34: 0 | T34: 0 | U34: 0 | V34: 0 | W34: 자재 30
A35: 5A01C3387FA0E336573CB957F6B61040A5A9A9 | B35: 비계안정장치 | C35: 기둥, 1.2*1.7m | D35: 개 | E35: 28500 | G35: 34400 | H35: 106 | I35: 43200 | J35: 88 | K35: 30000 | L35: 166 | M35: 0 | O35: =SMALL(E35:M35,COUNTIF(E35:M35,0)+1) -> 28500 | P35: 0 | Q35: 0 | R35: 0 | S35: 0 | T35: 0 | U35: 0 | V35: 0 | W35: 자재 31
A36: 5A01C3387FA0E336573CB957F6B61040A5A9A7 | B36: 비계안정장치 | C36: 가새, 1.2*1.9m | D36: 개 | E36: 9500 | G36: 10400 | H36: 106 | I36: 11800 | J36: 88 | K36: 10000 | L36: 166 | M36: 0 | O36: =SMALL(E36:M36,COUNTIF(E36:M36,0)+1) -> 9500 | P36: 0 | Q36: 0 | R36: 0 | S36: 0 | T36: 0 | U36: 0 | V36: 0 | W36: 자재 32
A37: 5A01C3387FA0E336573CB957F6B61040A5A6DB | B37: 비계안정장치 | C37: 수평띠장, 1829mm | D37: 개 | E37: 24130 | G37: 30000 | H37: 106 | I37: 0 | K37: 25400 | L37: 166 | M37: 0 | O37: =SMALL(E37:M37,COUNTIF(E37:M37,0)+1) -> 24130 | P37: 0 | Q37: 0 | R37: 0 | S37: 0 | T37: 0 | U37: 0 | V37: 0 | W37: 자재 33
A38: 5A01C3387FA0E336573CB957F6B61040A5A6DA | B38: 비계안정장치 | C38: 손잡이, 1229mm | D38: 개 | E38: 0 | G38: 10800 | H38: 108 | I38: 0 | K38: 0 | M38: 0 | O38: =SMALL(E38:M38,COUNTIF(E38:M38,0)+1) -> 10800 | P38: 0 | Q38: 0 | R38: 0 | S38: 0 | T38: 0 | U38: 0 | V38: 0 | W38: 자재 34
A39: 5A01C3387FA0E336573CB957F6B61040A5A6DD | B39: 비계안정장치 | C39: 손잡이, 1829mm | D39: 개 | E39: 0 | G39: 13500 | H39: 108 | I39: 0 | K39: 0 | M39: 0 | O39: =SMALL(E39:M39,COUNTIF(E39:M39,0)+1) -> 13500 | P39: 0 | Q39: 0 | R39: 0 | S39: 0 | T39: 0 | U39: 0 | V39: 0 | W39: 자재 35
A40: 5A01C3387FA0E336573CB957F6B61040A5A6DC | B40: 비계안정장치 | C40: 손잡이기둥 | D40: 개 | E40: 0 | G40: 22400 | H40: 108 | I40: 0 | K40: 0 | M40: 0 | O40: =SMALL(E40:M40,COUNTIF(E40:M40,0)+1) -> 22400 | P40: 0 | Q40: 0 | R40: 0 | S40: 0 | T40: 0 | U40: 0 | V40: 0 | W40: 자재 36
...

Sheet  공사설정 
A1: 이 Sheet는 수정하지 마십시요
A2: 공사구분 | B2: A | C2: 타이틀
A3: 확정내역 | B3: 원내역
A4: 자재단가적용 | B4: 5
A5: 경비단가적용 | B5: 5
A6: 품목코드형식 | B6: XXXX-XXXX-XXXXXXXXX
A7: 내역금액소수점처리 | B7: C | C7: T
A8: 일위대가내역소수점처리 | B8: C | C8: 2
A9: 단가명 | B9: 조달청가격 | C9: 물가자료 | D9: 물가정보 | E9: 거래가격 | F9: 조사가격 | G9: TTTTT
A10: 환율 | B10: 1442 | C10: 0 | D10: 0
A11: 시간당작업량 | B11: R | C11: 4
A12: 1회 사이클시간 | B12: R | C12: 4
A13: 시간당 작업사이클 | B13: R | C13: 3
A14: 일반변수 | B14: R | C14: 5
A15: 시간당 노임산출 계수 | B15: A | C15: 1/8*16/12*25/20 | D15: 1/8*16/12*25/20 | E15: 1/8*16/12*25/20 | F15: 1
A16: 재료비 할증 계수 | B16: 1.11 | C16: 1.12
A17: 노무비 할증 계수 | B17: 1 | C17: 1.5 | D17: 1.16 | E17: 1.6 | F17: 1.6 | G17: 1.6 | H17: 1.94 | I17: 1.94 | J17: 1.94 | K17: 1 | L17: 1 | M17: 1
A18: 경비 할증 계수 | B18: 1.25 | C18: 1.071
A19: 내역,일위대가 품명,규격,단위 따로적용
A20: 내역단가 소수점처리 | B20: C | C20: 1
A21: 코드 | B21: 공종구분명 | C21: 원가비목코드
A22: 1 | B22: 작 업 부 산 물 | C22: A3
A23: 2 | B23: 운 반 비 | C23: C1
A24: 3 | B24: 관 급 자 재 비 | C24: DJ
A25: 4 | B25: 사 급 자 재 비 | C25: D3
A26: 5 | B26: 외 자 재
A27: 6 | B27: 폐기물처리비
A28: 7 | B28: 건설폐기물처리비 | C28: CC
A29: 8 | B29: 품 질 관 리 비 | C29: CD
A30: 9 | B30: 도급자관급자재비 | C30: DK
A31: A | B31: ....
A32: B | B32: .....
A33: C | B33: ....
A34: D | B34: ....
A35: E | B35: ....
A36: F | B36: ....
A37: G | B37: ....
A38: H | B38: ....
A39: I | B39: ....
A40: J | B40: ....
...

Sheet Sheet1
