Workbook
Name _: "="
Name ___B2: #REF!
Name ___pa1: #REF!
Name ___pa2: #REF!
Name ___tbm1: #REF!
Name ___Ted1: #REF!
Name ___Ts1: #REF!
Name __B2: #REF!
Name __DemandLoad: TRUE
Name __hun1: #REF!
Name __hun2: #REF!
Name __p1: #REF!
Name __pa1: #REF!
Name __pa2: #REF!
Name __phi3: #REF!
Name __qs1: #REF!
Name __qs12: #REF!
Name __qs2: #REF!
Name __qs22: #REF!
Name __SBB1: #REF!
Name __SBB2: #REF!
Name __SBB3: #REF!
Name __SBB4: #REF!
Name __SBB5: #REF!
Name __SHH1: #REF!
Name __SHH2: #REF!
Name __SHH3: #REF!
Name __tbm1: #REF!
Name __TBM2: #REF!
Name __Ted1: #REF!
Name __Ts1: #REF!
Name __wd1: #REF!
Name __wd2: #REF!
Name _0.20_0.515_x1_2x1.05____0.225_0.15_x1_2x0.75: #REF!
Name _1: #REF!
Name _2: #REF!
Name _270_섬유: #REF!
Name _270_일반: #REF!
Name _4: #REF!
Name _A999999: #REF!
Name _aab42: #REF!
Name _b1: #REF!
Name _b2: #REF!
Name _bar10: #REF!
Name _bar13: #REF!
Name _bar16: #REF!
Name _bar19: #REF!
Name _bar22: #REF!
Name _bar25: #REF!
Name _bar29: #REF!
Name _bar32: #REF!
Name _bb1: #REF!
Name _bb2: #REF!
Name _dia10: #REF!
Name _dia13: #REF!
Name _dia16: #REF!
Name _dia19: #REF!
Name _dia22: #REF!
Name _dia25: #REF!
Name _dia29: #REF!

Sheet 공사품의내용
A1: ▣ 공사품의내용
A3: ㅁ 사업명: 장성여고 기숙사 냉난방개선 전기공사
H5: (금액단위:원)
A6: 구분 | C6: 내 용 | H6: 비고
A7: 공사명 | C7: =전기원가!B4 -> 장성여고 기숙사 냉난방개선 전기공사
A8: 사업량 | C8: 기숙사 냉난방개선 1식
A9: 공사기간 | C9: 착공일로부터 25일
A10: 예산액 | C10: 305060000
A11: 설계금액 | C11: 예산구분ⓐ | D11: 설계금액ⓑ | E11: 낙찰율 | F11: 계약예정액© | G11: 과부족(ⓐ-ⓒ) | H11: 비 고
A12: 전기공사 | C12: 305060000 | D12: 14185000 | E12: 0.9 | F12: =TRUNC(D12*E12,-1) -> 12766500
A14: 합 계 | C14: =SUM(C12:C12) -> 305060000 | D14: =SUM(D12:D13) -> 14185000 | F14: =SUM(F12:F13) -> 12766500 | G14: =C14-F14 -> 292293500

Sheet 전기원가
A2: 공 사 설 계 내 역 서
A4: 1. 공 사 명 : | B4: 장성여고 기숙사 냉난방개선 전기공사
A5: 2. 설계금액 : | B5: ="일금 "&NUMBERSTRING(F5,1) & " 원정" -> 일금 일천사백일십팔만오천 원정 | E5: \ | F5: =K38 -> 14185000 | I5: 작성일자 : | J5: 2026년 06월
C6: 순공사비 | E6: \ | F6: =K34 -> 14185000 | I6: 작 성 자 : | J6: 건축전기설비기술사 신동채
C7: 관급자재 | E7: \ | F7: =SUM(K35+K36) -> 0
C8: 한전불입금 | E8: \ | F8: =K37 -> 0
N9: 관급자재
A10: 명 칭 | B10: 규 격 | C10: 단 위 | D10: 수 량 | E10: 재 료 비 | G10: 노 무 비 | I10: 경 비 | K10: 계 | L10: 비고
E11: 단 가 | F11: 금 액 | G11: 단 가 | H11: 금 액 | I11: 단 가 | J11: 금 액
A12: 전기공사 | C12: 식 | D12: 1 | F12: =공종별집계표!F5 -> 4482355 | H12: =공종별집계표!H5 -> 4804237 | K12: =F12+H12+J12 -> 9286592 | M12: 공사기간 183일이하 | O12: =K12=[1]공종별집계표!L27 -> FALSE
A13: 간접노무비 | B13: 직접노무비 | C13: % | D13: 17.5 | K13: =INT(H12*D13%) -> 840741
A14: 산재보험료 | B14: 직노+간노 | C14: % | D14: 3.56 | K14: =INT((K13+H12)*D14%) -> 200961 | M14: 모든공사
A15: 고용보험료 | B15: 직노+간노 | C15: % | D15: 1.01 | K15: =INT((K13+H12)*D15%) -> 57014 | M15: 모든공사
A16: 건강보험료 | B16: 직접노무비 | C16: % | K16: =INT(H12*D16%) -> 0 | M16: 1개월(30일)이상
A17: 연금보험료 | B17: 직접노무비 | C17: % | K17: =INT(H12*D17%) -> 0 | M17: 1개월(30일)이상
A18: 노인장기요양보험료 | B18: 건강보험료 | C18: % | K18: =INT(K16*D18%) -> 0 | M18: 1개월(30일)이상
A19: 산업안전보건관리비 | B19: 재+직노+관급 | C19: % | K19: =IF(L19<L20,L19,0) -> 0 | L19: =INT((F12+H12+K35/1.1+K36/1.1)*D19%) -> 0 | M19: 부가세제외
B20: (재+직노)*1.2 | C20: % | K20: =IF(L19>L20,L20,0) -> 0 | L20: =INT(((F12+H12)*D20%)*1.2) -> 0 | M20: (도급+도급자관급) 2천만원이상-5억미만
A21: 석면분담금 | B21: 직노+간노 | C21: % | D21: 0.006 | K21: =INT((K13+H12)*D21%) -> 338
A22: 임금채권부담금 | B22: 직노+간노 | C22: % | D22: 0.09 | K22: =INT((K13+H12)*D22%) -> 5080
A23: 기 타 경 비 | B23: 재+직노+간노 | C23: % | D23: 5 | K23: =INT((F12+H12+K13)*D23%) -> 506366
A24: 퇴직공제부금비 | B24: 직접노무비 | C24: % | K24: =INT((H12)*D24%) -> 0 | M24: 추정금액 1억원이상 (추정가격+부가세+도급자관급)
A25: 소 계 | K25: =SUM(K12:K24) -> 10897092 | M25: 순공사원가(재료비+노무비+경비)
A26: 일반 관리비 | B26: 재+노+경비 | C26: % | D26: 8 | K26: =INT(K25*D26%) -> 871767 | M26: 추정가격 5억미만(부가세와 관급자재등이 포함되지 않은 금액)
A27: 소 계 | K27: =SUM(K25:K26) -> 11768859
A28: 이 윤 | B28: 노+경비+일반관리 | C28: % | D28: 15 | K28: =INT((K27-F12)*D28%) -> 1092975
A29: 소 계 | K29: =SUM(K27:K28) -> 12861834 | M29: 공사원가(순공사원가+일반관리비+이윤)
A30: 손해배상공제료 | C30: % | D30: 0.26477 | K30: =INT(IF((K29+O9)*D30%<20000, 20000, (K29+O9)*D30%)) -> 34054
A31: 소 계 | K31: =SUM(K29:K30) -> 12895888
A32: 부가가치세 | C32: % | D32: 10 | K32: =INT(K31*D32%) -> 1289588
A33: 소 계 | K33: =SUM(K31:K32) -> 14185476
A34: 도급공사비 | J34: ≒ | K34: =ROUNDDOWN(K33,-3) -> 14185000
A38: 총공사비 | K38: =SUM(K34:K37) -> 14185000

Sheet 공종별집계표
A1: 공 종 별 집 계 표
A2: [ 장성여고 기숙사 냉난방개선 전기공사 ]
A3: 품 명 | B3: 규 격 | C3: 단위 | D3: 수량 | E3: 재 료 비 | G3: 노 무 비 | I3: 경 비 | K3: 합 계 | M3: 비 고 | N3: 공종코드 | O3: 변수 | P3: 상위공종 | Q3: 공종구분 | R3: 공종레벨 | S3: 공종소계 | T3: 원가계산서 연결금액
E4: 단 가 | F4: 금 액 | G4: 단 가 | H4: 금 액 | I4: 단 가 | J4: 금 액 | K4: 단 가 | L4: 금 액
A5: 01 장성여고 기숙사 냉난방개선 전기공사 | D5: 1 | E5: =F6 -> 4482355 | F5: =E5*D5 -> 4482355 | G5: =H6 -> 4804237 | H5: =G5*D5 -> 4804237 | I5: =J6 -> 0 | J5: =I5*D5 -> 0 | K5: =E5+G5+I5 -> 9286592 | L5: =F5+H5+J5 -> 9286592 | N5: 01 | R5: 1
A6: 0101 1.도급공사 | D6: 1 | E6: =F7+F8+F9 -> 4482355 | F6: =E6*D6 -> 4482355 | G6: =H7+H8+H9 -> 4804237 | H6: =G6*D6 -> 4804237 | I6: =J7+J8+J9 -> 0 | J6: =I6*D6 -> 0 | K6: =E6+G6+I6 -> 9286592 | L6: =F6+H6+J6 -> 9286592 | N6: 0101 | P6: 01 | R6: 2
A7: 010101 1-1.전력간선 설비공사 | D7: 1 | E7: =공종별내역서!F27 -> 2190417 | F7: =E7*D7 -> 2190417 | G7: =공종별내역서!H27 -> 871695 | H7: =G7*D7 -> 871695 | I7: =공종별내역서!J27 -> 0 | J7: =I7*D7 -> 0 | K7: =E7+G7+I7 -> 3062112 | L7: =F7+H7+J7 -> 3062112 | N7: 010101 | P7: 0101 | R7: 3
A8: 010102 1-2.냉난방 설비공사 | D8: 1 | E8: =공종별내역서!F51 -> 2288576 | F8: =E8*D8 -> 2288576 | G8: =공종별내역서!H51 -> 3820366 | H8: =G8*D8 -> 3820366 | I8: =공종별내역서!J51 -> 0 | J8: =I8*D8 -> 0 | K8: =E8+G8+I8 -> 6108942 | L8: =F8+H8+J8 -> 6108942 | N8: 010102 | P8: 0101 | R8: 3
A9: 010103 1-3.철거공사 | D9: 1 | E9: =공종별내역서!F75 -> 3362 | F9: =E9*D9 -> 3362 | G9: =공종별내역서!H75 -> 112176 | H9: =G9*D9 -> 112176 | I9: =공종별내역서!J75 -> 0 | J9: =I9*D9 -> 0 | K9: =E9+G9+I9 -> 115538 | L9: =F9+H9+J9 -> 115538 | N9: 010103 | P9: 0101 | R9: 3
A27: [ 합 계 ] | F27: =F5 -> 4482355 | H27: =H5 -> 4804237 | J27: =J5 -> 0 | L27: =L5 -> 9286592

Sheet 공종별내역서
A1: [ 장성여고 기숙사 냉난방개선 전기공사 ]
A2: 품 명 | B2: 규 격 | C2: 단위 | D2: 수량 | E2: 재 료 비 | G2: 노 무 비 | I2: 경 비 | K2: 합 계 | M2: 비 고 | N2: 품목코드 | O2: 변수 | P2: 설정 | Q2: 공종코드 | R2: 일위 | S2: 단산 | T2: 자재 | U2: 손료적용 | V2: 손료저장 | W2: 적용율 | X2: JUK1 | Y2: JUK2 | Z2: JUK3 | AA2: JUK4 | AB2: JUK5 | AC2: JUK6 | AD2: JUK7 | AE2: JUK8 | AF2: JUK9 | AG2: JUK10 | AH2: JUK11 | AI2: JUK12 | AJ2: JUK13 | AK2: JUK14 | AL2: JUK15 | AM2: JUK16 | AN2: JUK17 | AO2: JUK18 | AP2: JUK19 | AQ2: JUK20 | AR2: 자재구분 | AS2: 공종구분 | AT2: 공종레벨 | AU2: 공종+자재 | AV2: 고유번호
E3: 단 가 | F3: 금 액 | G3: 단 가 | H3: 금 액 | I3: 단 가 | J3: 금 액 | K3: 단 가 | L3: 금 액
A4: 010101 1-1.전력간선 설비공사 | Q4: 010101
A5: 난연 비닐절연접지용전선(F-GV)-관내 | B5: 0.6/1kv, 16㎟ | C5: M | D5: 3 | E5: =TRUNC(일위대가목록!E6,0) -> 3965 | F5: =TRUNC(E5*D5, 0) -> 11895 | G5: =TRUNC(일위대가목록!F6,0) -> 1915 | H5: =TRUNC(G5*D5, 0) -> 5745 | I5: =TRUNC(일위대가목록!G6,0) -> 0 | J5: =TRUNC(I5*D5, 0) -> 0 | K5: =TRUNC(E5+G5+I5, 0) -> 5880 | L5: =TRUNC(F5+H5+J5, 0) -> 17640 | M5: 호표 3 | N5: 5A83766833F074AF77B417A5D9A638 | Q5: 010101 | R5: T | S5: F | T5: F | AU5: 0101015A83766833F074AF77B417A5D9A638 | AV5: 951
A6: 0.6/1kv 저독성난연폴리올레핀전력케이블 | B6: HFCO, 4C 35㎟ | C6: M | D6: 3 | E6: =TRUNC(일위대가목록!E9,0) -> 34137 | F6: =TRUNC(E6*D6, 0) -> 102411 | G6: =TRUNC(일위대가목록!F9,0) -> 27374 | H6: =TRUNC(G6*D6, 0) -> 82122 | I6: =TRUNC(일위대가목록!G9,0) -> 0 | J6: =TRUNC(I6*D6, 0) -> 0 | K6: =TRUNC(E6+G6+I6, 0) -> 61511 | L6: =TRUNC(F6+H6+J6, 0) -> 184533 | M6: 호표 6 | N6: 5A83766832E07DBE46E4C095591C12 | Q6: 010101 | R6: T | S6: F | T6: F | AU6: 0101015A83766832E07DBE46E4C095591C12 | AV6: 952
A7: 분전반설치 | B7: PP-EHP | C7: 면 | D7: 1 | E7: =TRUNC(일위대가목록!E14,0) -> 1867019 | F7: =TRUNC(E7*D7, 0) -> 1867019 | G7: =TRUNC(일위대가목록!F14,0) -> 233992 | H7: =TRUNC(G7*D7, 0) -> 233992 | I7: =TRUNC(일위대가목록!G14,0) -> 0 | J7: =TRUNC(I7*D7, 0) -> 0 | K7: =TRUNC(E7+G7+I7, 0) -> 2101011 | L7: =TRUNC(F7+H7+J7, 0) -> 2101011 | M7: 호표 11 | N7: 5A83766DB0007CBC9514CE25B340B8 | Q7: 010101 | R7: T | S7: F | T7: F | AU7: 0101015A83766DB0007CBC9514CE25B340B8 | AV7: 954
A8: 전선덕트 | B8: 알루미늄, 150*100mm | C8: M | D8: 4 | E8: =TRUNC(일위대가목록!E10,0) -> 48603 | F8: =TRUNC(E8*D8, 0) -> 194412 | G8: =TRUNC(일위대가목록!F10,0) -> 76629 | H8: =TRUNC(G8*D8, 0) -> 306516 | I8: =TRUNC(일위대가목록!G10,0) -> 0 | J8: =TRUNC(I8*D8, 0) -> 0 | K8: =TRUNC(E8+G8+I8, 0) -> 125232 | L8: =TRUNC(F8+H8+J8, 0) -> 500928 | M8: 호표 7 | N8: 5A83766DB2307993DAB40535569F22 | Q8: 010101 | R8: T | S8: F | T8: F | AU8: 0101015A83766DB2307993DAB40535569F22 | AV8: 982
A9: 러그단자 | B9: 동관단자, 1홀, 35 ㎟ | C9: 개 | D9: 8 | E9: =TRUNC(일위대가목록!E12,0) -> 1835 | F9: =TRUNC(E9*D9, 0) -> 14680 | G9: =TRUNC(일위대가목록!F12,0) -> 30415 | H9: =TRUNC(G9*D9, 0) -> 243320 | I9: =TRUNC(일위대가목록!G12,0) -> 0 | J9: =TRUNC(I9*D9, 0) -> 0 | K9: =TRUNC(E9+G9+I9, 0) -> 32250 | L9: =TRUNC(F9+H9+J9, 0) -> 258000 | M9: 호표 9 | N9: 5A83766DB2307993DAB405652C2AF6 | Q9: 010101 | R9: T | S9: F | T9: F | AU9: 0101015A83766DB2307993DAB405652C2AF6 | AV9: 955
Q10: 010101
Q11: 010101
Q12: 010101
Q13: 010101
Q14: 010101
Q15: 010101
Q16: 010101
Q17: 010101
Q18: 010101
Q19: 010101
Q20: 010101
Q21: 010101
... Q26: 010101
A27: [ 합 계 ] | F27: =SUMIF(Q5:Q26,"010101",F5:F26) -> 2190417 | H27: =SUMIF(Q5:Q26,"010101",H5:H26) -> 871695 | J27: =SUMIF(Q5:Q26,"010101",J5:J26) -> 0 | L27: =SUMIF(Q5:Q26,"010101",L5:L26) -> 3062112 | N27: TOTAL
A28: 010102 1-2.냉난방 설비공사 | Q28: 010102
A29: 1종금속제가요전선관 | B29: 고장력, 42mm, 방수 | C29: M | D29: 3 | E29: =TRUNC(일위대가목록!E4,0) -> 14122 | F29: =TRUNC(E29*D29, 0) -> 42366 | G29: =TRUNC(일위대가목록!F4,0) -> 25451 | H29: =TRUNC(G29*D29, 0) -> 76353 | I29: =TRUNC(일위대가목록!G4,0) -> 0 | J29: =TRUNC(I29*D29, 0) -> 0 | K29: =TRUNC(E29+G29+I29, 0) -> 39573 | L29: =TRUNC(F29+H29+J29, 0) -> 118719 | M29: 호표 1 | N29: 5A8376683020700B65E4A4C5057B91 | Q29: 010102 | R29: T | S29: F | T29: F | AU29: 0101025A8376683020700B65E4A4C5057B91 | AV29: 972
A30: 행가설치(스트롱앙카) | B30: 복스 | C30: 개소 | D30: 27 | E30: =TRUNC(일위대가목록!E15,0) -> 2998 | F30: =TRUNC(E30*D30, 0) -> 80946 | G30: =TRUNC(일위대가목록!F15,0) -> 19157 | H30: =TRUNC(G30*D30, 0) -> 517239 | I30: =TRUNC(일위대가목록!G15,0) -> 0 | J30: =TRUNC(I30*D30, 0) -> 0 | K30: =TRUNC(E30+G30+I30, 0) -> 22155 | L30: =TRUNC(F30+H30+J30, 0) -> 598185 | M30: 호표 12 | N30: 5A83766DBA007FEB44A4EFC593C2CF | Q30: 010102 | R30: T | S30: F | T30: F | AU30: 0101025A83766DBA007FEB44A4EFC593C2CF | AV30: 983
A31: 난연 비닐절연접지용전선(F-GV)-관내 | B31: 0.6/1kv, 10㎟ | C31: M | D31: 61 | E31: =TRUNC(일위대가목록!E5,0) -> 2683 | F31: =TRUNC(E31*D31, 0) -> 163663 | G31: =TRUNC(일위대가목록!F5,0) -> 1642 | H31: =TRUNC(G31*D31, 0) -> 100162 | I31: =TRUNC(일위대가목록!G5,0) -> 0 | J31: =TRUNC(I31*D31, 0) -> 0 | K31: =TRUNC(E31+G31+I31, 0) -> 4325 | L31: =TRUNC(F31+H31+J31, 0) -> 263825 | M31: 호표 2 | N31: 5A83766833F074AF77B417A5D9A7DF | Q31: 010102 | R31: T | S31: F | T31: F | AU31: 0101025A83766833F074AF77B417A5D9A7DF | AV31: 970
A32: 0.6/1kv 저독성난연폴리올레핀전력케이블 | B32: HFCO, 4C 10㎟ | C32: M | D32: 61 | E32: =TRUNC(일위대가목록!E8,0) -> 12759 | F32: =TRUNC(E32*D32, 0) -> 778299 | G32: =TRUNC(일위대가목록!F8,0) -> 12166 | H32: =TRUNC(G32*D32, 0) -> 742126 | I32: =TRUNC(일위대가목록!G8,0) -> 0 | J32: =TRUNC(I32*D32, 0) -> 0 | K32: =TRUNC(E32+G32+I32, 0) -> 24925 | L32: =TRUNC(F32+H32+J32, 0) -> 1520425 | M32: 호표 5 | N32: 5A83766832E07DBE46E4C095591108 | Q32: 010102 | R32: T | S32: F | T32: F | AU32: 0101025A83766832E07DBE46E4C095591108 | AV32: 971
A33: 0.6/1kv 저독성난연폴리올레핀전력케이블 | B33: HFCO, 3C 2.5㎟ | C33: M | D33: 407 | E33: =TRUNC(일위대가목록!E7,0) -> 2994 | F33: =TRUNC(E33*D33, 0) -> 1218558 | G33: =TRUNC(일위대가목록!F7,0) -> 5778 | H33: =TRUNC(G33*D33, 0) -> 2351646 | I33: =TRUNC(일위대가목록!G7,0) -> 0 | J33: =TRUNC(I33*D33, 0) -> 0 | K33: =TRUNC(E33+G33+I33, 0) -> 8772 | L33: =TRUNC(F33+H33+J33, 0) -> 3570204 | M33: 호표 4 | N33: 5A83766832E07DBE46E4B625EFC091 | Q33: 010102 | R33: T | S33: F | T33: F | AU33: 0101025A83766832E07DBE46E4B625EFC091 | AV33: 984
A34: 연결박스·커버 | B34: 4각 | C34: 개 | D34: 4 | E34: =TRUNC(일위대가목록!E11,0) -> 1186 | F34: =TRUNC(E34*D34, 0) -> 4744 | G34: =TRUNC(일위대가목록!F11,0) -> 8210 | H34: =TRUNC(G34*D34, 0) -> 32840 | I34: =TRUNC(일위대가목록!G11,0) -> 0 | J34: =TRUNC(I34*D34, 0) -> 0 | K34: =TRUNC(E34+G34+I34, 0) -> 9396 | L34: =TRUNC(F34+H34+J34, 0) -> 37584 | M34: 호표 8 | N34: 5A83766DB2307993DAB40535569C59 | Q34: 010102 | R34: T | S34: F | T34: F | AU34: 0101025A83766DB2307993DAB40535569C59 | AV34: 985
Q35: 010102
Q36: 010102
Q37: 010102
Q38: 010102
Q39: 010102
Q40: 010102
Q41: 010102
Q42: 010102
Q43: 010102
Q44: 010102
Q45: 010102
Q46: 010102
... Q50: 010102
A51: [ 합 계 ] | F51: =SUMIF(Q29:Q50,"010102",F29:F50) -> 2288576 | H51: =SUMIF(Q29:Q50,"010102",H29:H50) -> 3820366 | J51: =SUMIF(Q29:Q50,"010102",J29:J50) -> 0 | L51: =SUMIF(Q29:Q50,"010102",L29:L50) -> 6108942 | N51: TOTAL
A52: 010103 1-3.철거공사 | Q52: 010103
A53: 전선관 철거 | B53: FLEX 22C | C53: m | D53: 41 | E53: =TRUNC(일위대가목록!E13,0) -> 82 | F53: =TRUNC(E53*D53, 0) -> 3362 | G53: =TRUNC(일위대가목록!F13,0) -> 2736 | H53: =TRUNC(G53*D53, 0) -> 112176 | I53: =TRUNC(일위대가목록!G13,0) -> 0 | J53: =TRUNC(I53*D53, 0) -> 0 | K53: =TRUNC(E53+G53+I53, 0) -> 2818 | L53: =TRUNC(F53+H53+J53, 0) -> 115538 | M53: 호표 10 | N53: 5A83766DB110728970C412F5CE8F91 | Q53: 010103 | R53: T | S53: F | T53: F | AU53: 0101035A83766DB110728970C412F5CE8F91 | AV53: 986
Q54: 010103
Q55: 010103
Q56: 010103
Q57: 010103
Q58: 010103
Q59: 010103
Q60: 010103
Q61: 010103
Q62: 010103
Q63: 010103
Q64: 010103
Q65: 010103
... Q74: 010103
A75: [ 합 계 ] | F75: =SUMIF(Q53:Q74,"010103",F53:F74) -> 3362 | H75: =SUMIF(Q53:Q74,"010103",H53:H74) -> 112176 | J75: =SUMIF(Q53:Q74,"010103",J53:J74) -> 0 | L75: =SUMIF(Q53:Q74,"010103",L53:L74) -> 115538 | N75: TOTAL

Sheet 일위대가목록
B1: 일 위 대 가 목 록
B2: [ 장성여고 기숙사 냉난방개선 전기공사 ]
A3: 코 드 | B3: 품 명 | C3: 규 격 | D3: 단위 | E3: 재 료 비 | F3: 노 무 비 | G3: 경 비 | H3: 합 계 | I3: 번 호 | J3: 비 고 | K3: 노임계수 | L3: 할증 | M3: 품셈개요 | N3: 장비일위
A4: 5A8376683020700B65E4A4C5057B91 | B4: 1종금속제가요전선관 | C4: 고장력, 42mm, 방수 | D4: M | E4: =일위대가!F11 -> 14122 | F4: =일위대가!H11 -> 25451 | G4: =일위대가!J11 -> 0 | H4: =E4+F4+G4 -> 39573 | I4: 호표 1 | M4: 전기 5-1
A5: 5A83766833F074AF77B417A5D9A7DF | B5: 난연 비닐절연접지용전선(F-GV)-관내 | C5: 0.6/1kv, 10㎟ | D5: M | E5: =일위대가!F19 -> 2683 | F5: =일위대가!H19 -> 1642 | G5: =일위대가!J19 -> 0 | H5: =E5+F5+G5 -> 4325 | I5: 호표 2 | M5: 전기 3-38
A6: 5A83766833F074AF77B417A5D9A638 | B6: 난연 비닐절연접지용전선(F-GV)-관내 | C6: 0.6/1kv, 16㎟ | D6: M | E6: =일위대가!F27 -> 3965 | F6: =일위대가!H27 -> 1915 | G6: =일위대가!J27 -> 0 | H6: =E6+F6+G6 -> 5880 | I6: 호표 3 | M6: 전기 3-38
A7: 5A83766832E07DBE46E4B625EFC091 | B7: 0.6/1kv 저독성난연폴리올레핀전력케이블 | C7: HFCO, 3C 2.5㎟ | D7: M | E7: =일위대가!F35 -> 2994 | F7: =일위대가!H35 -> 5778 | G7: =일위대가!J35 -> 0 | H7: =E7+F7+G7 -> 8772 | I7: 호표 4 | M7: 전기 5-13
A8: 5A83766832E07DBE46E4C095591108 | B8: 0.6/1kv 저독성난연폴리올레핀전력케이블 | C8: HFCO, 4C 10㎟ | D8: M | E8: =일위대가!F43 -> 12759 | F8: =일위대가!H43 -> 12166 | G8: =일위대가!J43 -> 0 | H8: =E8+F8+G8 -> 24925 | I8: 호표 5 | M8: 전기 5-13
A9: 5A83766832E07DBE46E4C095591C12 | B9: 0.6/1kv 저독성난연폴리올레핀전력케이블 | C9: HFCO, 4C 35㎟ | D9: M | E9: =일위대가!F51 -> 34137 | F9: =일위대가!H51 -> 27374 | G9: =일위대가!J51 -> 0 | H9: =E9+F9+G9 -> 61511 | I9: 호표 6 | M9: 전기 5-11
A10: 5A83766DB2307993DAB40535569F22 | B10: 전선덕트 | C10: 알루미늄, 150*100mm | D10: M | E10: =일위대가!F57 -> 48603 | F10: =일위대가!H57 -> 76629 | G10: =일위대가!J57 -> 0 | H10: =E10+F10+G10 -> 125232 | I10: 호표 7 | M10: 전기 5-7
A11: 5A83766DB2307993DAB40535569C59 | B11: 연결박스·커버 | C11: 4각 | D11: 개 | E11: =일위대가!F64 -> 1186 | F11: =일위대가!H64 -> 8210 | G11: =일위대가!J64 -> 0 | H11: =E11+F11+G11 -> 9396 | I11: 호표 8 | M11: 전기 5-3
A12: 5A83766DB2307993DAB405652C2AF6 | B12: 러그단자 | C12: 동관단자, 1홀, 35 ㎟ | D12: 개 | E12: =일위대가!F70 -> 1835 | F12: =일위대가!H70 -> 30415 | G12: =일위대가!J70 -> 0 | H12: =E12+F12+G12 -> 32250 | I12: 호표 9 | M12: 전기 4-37
A13: 5A83766DB110728970C412F5CE8F91 | B13: 전선관 철거 | C13: FLEX 22C | D13: m | E13: =일위대가!F76 -> 82 | F13: =일위대가!H76 -> 2736 | G13: =일위대가!J76 -> 0 | H13: =E13+F13+G13 -> 2818 | I13: 호표 10 | M13: 전기 5-1
A14: 5A83766DB0007CBC9514CE25B340B8 | B14: 분전반설치 | C14: PP-EHP | D14: 면 | E14: =일위대가!F82 -> 1867019 | F14: =일위대가!H82 -> 233992 | G14: =일위대가!J82 -> 0 | H14: =E14+F14+G14 -> 2101011 | I14: 호표 11 | M14: 전기 5-4
A15: 5A83766DBA007FEB44A4EFC593C2CF | B15: 행가설치(스트롱앙카) | C15: 복스 | D15: 개소 | E15: =일위대가!F93 -> 2998 | F15: =일위대가!H93 -> 19157 | G15: =일위대가!J93 -> 0 | H15: =E15+F15+G15 -> 22155 | I15: 호표 12 | M15: 전기 5-29

Sheet 일위대가
A1: [ 장성여고 기숙사 냉난방개선 전기공사 ]
A2: 품 명 | B2: 규 격 | C2: 단위 | D2: 수량 | E2: 재 료 비 | G2: 노 무 비 | I2: 경 비 | K2: 합 계 | M2: 비 고 | N2: 일위대가 | O2: 품목코드 | P2: 일위 | Q2: 단산 | R2: 자재 | S2: 손료적용 | T2: 손료저장 | U2: 적용율 | V2: JUK1 | W2: JUK2 | X2: JUK3 | Y2: JUK4 | Z2: JUK5 | AA2: JUK6 | AB2: JUK7 | AC2: JUK8 | AD2: JUK9 | AE2: JUK10 | AF2: JUK11 | AG2: JUK12 | AH2: JUK13 | AI2: JUK14 | AJ2: JUK15 | AK2: JUK16 | AL2: JUK17 | AM2: JUK18 | AN2: JUK19 | AO2: JUK20 | AP2: 할증적용 | AQ2: 할증저장 | AR2: 할증율 | AS2: HAL1 | AT2: HAL2 | AU2: HAL3 | AV2: 자재구분 | AW2: 일위대가+자재 | AX2: 장비일위 | AY2: 설정 | AZ2: 할증체크
E3: 단 가 | F3: 금 액 | G3: 단 가 | H3: 금 액 | I3: 단 가 | J3: 금 액 | K3: 단 가 | L3: 금 액
A4: 1종금속제가요전선관 고장력, 42mm, 방수 M 전기 5-1 ( 호표 1 ) | N4: 5A8376683020700B65E4A4C5057B91
A5: 1종금속제가요전선관 | B5: 1종금속제가요전선관, 고장력후렉시블전선관, 42mm, 방수 | C5: M | D5: 1 | E5: =단가대비표!O23 -> 10380 | F5: =TRUNC(E5*D5,1) -> 10380 | G5: =단가대비표!P23 -> 0 | H5: =TRUNC(G5*D5,1) -> 0 | I5: =단가대비표!V23 -> 0 | J5: =TRUNC(I5*D5,1) -> 0 | K5: =TRUNC(E5+G5+I5,1) -> 10380 | L5: =TRUNC(F5+H5+J5,1) -> 10380 | N5: 5A8376683020700B65E4A4C5057B91 | O5: 5DE276F5E6B076682F240115EDD9A7507EA6AE | P5: F | Q5: F | R5: T | V5: 1 | W5: 2 | AW5: 5A8376683020700B65E4A4C5057B915DE276F5E6B076682F240115EDD9A7507EA6AE
A6: 1종금속제가요전선관 | B6: 1종금속제가요전선관, 고장력후렉시블전선관, 42mm, 방수 | C6: M | D6: 0.1 | E6: =단가대비표!O23 -> 10380 | F6: =TRUNC(E6*D6,1) -> 1038 | G6: =단가대비표!P23 -> 0 | H6: =TRUNC(G6*D6,1) -> 0 | I6: =단가대비표!V23 -> 0 | J6: =TRUNC(I6*D6,1) -> 0 | K6: =TRUNC(E6+G6+I6,1) -> 10380 | L6: =TRUNC(F6+H6+J6,1) -> 1038 | N6: 5A8376683020700B65E4A4C5057B91 | O6: 5DE276F5E6B076682F240115EDD9A7507EA6AE | P6: F | Q6: F | R6: T | V6: 1 | W6: 2 | AW6: 5A8376683020700B65E4A4C5057B915DE276F5E6B076682F240115EDD9A7507EA6AE
A7: 전선관부속품비 | B7: 전선관의 15% | C7: 식 | D7: 1 | E7: =TRUNC(SUMIF(V5:V10, RIGHTB(O7, 1), F5:F10)*U7, 2) -> 1712.7 | F7: =TRUNC(E7*D7,1) -> 1712.7 | G7: 0 | H7: =TRUNC(G7*D7,1) -> 0 | I7: 0 | J7: =TRUNC(I7*D7,1) -> 0 | K7: =TRUNC(E7+G7+I7,1) -> 1712.7 | L7: =TRUNC(F7+H7+J7,1) -> 1712.7 | N7: 5A8376683020700B65E4A4C5057B91 | O7: 5BD3069DFE307DD8FAD41DC5B939001 | P7: F | Q7: F | R7: F | S7: 0 | T7: 0 | U7: 0.15 | AW7: 5A8376683020700B65E4A4C5057B915BD3069DFE307DD8FAD41DC5B939001
A8: 잡재료비 | B8: 배관배선의 2% | C8: 식 | D8: 1 | E8: =TRUNC(SUMIF(W5:W10, RIGHTB(O8, 1), F5:F10)*U8, 2) -> 228.36 | F8: =TRUNC(E8*D8,1) -> 228.3 | G8: 0 | H8: =TRUNC(G8*D8,1) -> 0 | I8: 0 | J8: =TRUNC(I8*D8,1) -> 0 | K8: =TRUNC(E8+G8+I8,1) -> 228.3 | L8: =TRUNC(F8+H8+J8,1) -> 228.3 | N8: 5A8376683020700B65E4A4C5057B91 | O8: 5BD3069DFE307DD8FAD41DC5B93A002 | P8: F | Q8: F | R8: F | S8: 0 | T8: 0 | U8: 0.02 | AW8: 5A8376683020700B65E4A4C5057B915BD3069DFE307DD8FAD41DC5B93A002
A9: 내선전공 | B9: 일반공사 직종 | C9: 인 | D9: =공량산출근거서_일위대가!K15 -> 0.093 | E9: =단가대비표!O27 -> 0 | F9: =TRUNC(E9*D9,1) -> 0 | G9: =단가대비표!P27 -> 273676 | H9: =TRUNC(G9*D9,1) -> 25451.8 | I9: =단가대비표!V27 -> 0 | J9: =TRUNC(I9*D9,1) -> 0 | K9: =TRUNC(E9+G9+I9,1) -> 273676 | L9: =TRUNC(F9+H9+J9,1) -> 25451.8 | N9: 5A8376683020700B65E4A4C5057B91 | O9: 5A113654B3C0757B4AC4A0950782CBB87432CF | P9: F | Q9: F | R9: T | X9: 3 | AW9: 5A8376683020700B65E4A4C5057B915A113654B3C0757B4AC4A0950782CBB87432CF
A10: 공구손료 | B10: 인력품의 3% | C10: 식 | D10: 1 | E10: =TRUNC(SUMIF(X5:X10, RIGHTB(O10, 1), H5:H10)*U10, 2) -> 763.55 | F10: =TRUNC(E10*D10,1) -> 763.5 | G10: 0 | H10: =TRUNC(G10*D10,1) -> 0 | I10: 0 | J10: =TRUNC(I10*D10,1) -> 0 | K10: =TRUNC(E10+G10+I10,1) -> 763.5 | L10: =TRUNC(F10+H10+J10,1) -> 763.5 | N10: 5A8376683020700B65E4A4C5057B91 | O10: 5BD3069DFE307DD8FAD41DC5B93B003 | P10: F | Q10: F | R10: F | S10: 1 | T10: 0 | U10: 0.03 | AW10: 5A8376683020700B65E4A4C5057B915BD3069DFE307DD8FAD41DC5B93B003
A11: [ 합 계 ] | F11: =TRUNC(SUMIF(N5:N10, N4, F5:F10),0) -> 14122 | H11: =TRUNC(SUMIF(N5:N10, N4, H5:H10),0) -> 25451 | J11: =TRUNC(SUMIF(N5:N10, N4, J5:J10),0) -> 0 | L11: =F11+H11+J11 -> 39573 | N11: TOTAL | O11: TOTAL
A13: 난연 비닐절연접지용전선(F-GV)-관내 0.6/1kv, 10㎟ M 전기 3-38 ( 호표 2 ) | N13: 5A83766833F074AF77B417A5D9A7DF
A14: 접지용비닐절연전선 | B14: 접지용비닐절연전선, F-GV, 10㎟ | C14: M | D14: 1 | E14: =단가대비표!O5 -> 2398 | F14: =TRUNC(E14*D14,1) -> 2398 | G14: =단가대비표!P5 -> 0 | H14: =TRUNC(G14*D14,1) -> 0 | I14: =단가대비표!V5 -> 0 | J14: =TRUNC(I14*D14,1) -> 0 | K14: =TRUNC(E14+G14+I14,1) -> 2398 | L14: =TRUNC(F14+H14+J14,1) -> 2398 | N14: 5A83766833F074AF77B417A5D9A7DF | O14: 5DF33666217079403734F175ED81EAF443B04A | P14: F | Q14: F | R14: T | V14: 1 | AW14: 5A83766833F074AF77B417A5D9A7DF5DF33666217079403734F175ED81EAF443B04A
A15: 접지용비닐절연전선 | B15: 접지용비닐절연전선, F-GV, 10㎟ | C15: M | D15: 0.1 | E15: =단가대비표!O7 -> 1885 | F15: =TRUNC(E15*D15,1) -> 188.5 | G15: =단가대비표!P7 -> 0 | H15: =TRUNC(G15*D15,1) -> 0 | I15: =단가대비표!V7 -> 0 | J15: =TRUNC(I15*D15,1) -> 0 | K15: =TRUNC(E15+G15+I15,1) -> 1885 | L15: =TRUNC(F15+H15+J15,1) -> 188.5 | N15: 5A83766833F074AF77B417A5D9A7DF | O15: 5DF33666217079403734F175E4AC8570B1D980 | P15: F | Q15: F | R15: T | AW15: 5A83766833F074AF77B417A5D9A7DF5DF33666217079403734F175E4AC8570B1D980
A16: 잡재료비 | B16: 배관배선의 2% | C16: 식 | D16: 1 | E16: =TRUNC(SUMIF(V14:V18, RIGHTB(O16, 1), F14:F18)*U16, 2) -> 47.96 | F16: =TRUNC(E16*D16,1) -> 47.9 | G16: 0 | H16: =TRUNC(G16*D16,1) -> 0 | I16: 0 | J16: =TRUNC(I16*D16,1) -> 0 | K16: =TRUNC(E16+G16+I16,1) -> 47.9 | L16: =TRUNC(F16+H16+J16,1) -> 47.9 | N16: 5A83766833F074AF77B417A5D9A7DF | O16: 5BD3069DFE307DD8FAD41DC5B939001 | P16: F | Q16: F | R16: F | S16: 0 | T16: 0 | U16: 0.02 | AW16: 5A83766833F074AF77B417A5D9A7DF5BD3069DFE307DD8FAD41DC5B939001
A17: 내선전공 | B17: 일반공사 직종 | C17: 인 | D17: =공량산출근거서_일위대가!K7 -> 0.006 | E17: =단가대비표!O27 -> 0 | F17: =TRUNC(E17*D17,1) -> 0 | G17: =단가대비표!P27 -> 273676 | H17: =TRUNC(G17*D17,1) -> 1642 | I17: =단가대비표!V27 -> 0 | J17: =TRUNC(I17*D17,1) -> 0 | K17: =TRUNC(E17+G17+I17,1) -> 273676 | L17: =TRUNC(F17+H17+J17,1) -> 1642 | N17: 5A83766833F074AF77B417A5D9A7DF | O17: 5A113654B3C0757B4AC4A0950782CBB87432CF | P17: F | Q17: F | R17: T | W17: 2 | AW17: 5A83766833F074AF77B417A5D9A7DF5A113654B3C0757B4AC4A0950782CBB87432CF
A18: 공구손료 | B18: 인력품의 3% | C18: 식 | D18: 1 | E18: =TRUNC(SUMIF(W14:W18, RIGHTB(O18, 1), H14:H18)*U18, 2) -> 49.26 | F18: =TRUNC(E18*D18,1) -> 49.2 | G18: 0 | H18: =TRUNC(G18*D18,1) -> 0 | I18: 0 | J18: =TRUNC(I18*D18,1) -> 0 | K18: =TRUNC(E18+G18+I18,1) -> 49.2 | L18: =TRUNC(F18+H18+J18,1) -> 49.2 | N18: 5A83766833F074AF77B417A5D9A7DF | O18: 5BD3069DFE307DD8FAD41DC5B93A002 | P18: F | Q18: F | R18: F | S18: 1 | T18: 0 | U18: 0.03 | AW18: 5A83766833F074AF77B417A5D9A7DF5BD3069DFE307DD8FAD41DC5B93A002
A19: [ 합 계 ] | F19: =TRUNC(SUMIF(N14:N18, N13, F14:F18),0) -> 2683 | H19: =TRUNC(SUMIF(N14:N18, N13, H14:H18),0) -> 1642 | J19: =TRUNC(SUMIF(N14:N18, N13, J14:J18),0) -> 0 | L19: =F19+H19+J19 -> 4325 | N19: TOTAL | O19: TOTAL
A21: 난연 비닐절연접지용전선(F-GV)-관내 0.6/1kv, 16㎟ M 전기 3-38 ( 호표 3 ) | N21: 5A83766833F074AF77B417A5D9A638
A22: 접지용비닐절연전선 | B22: 접지용비닐절연전선, F-GV, 16㎟ | C22: M | D22: 1 | E22: =단가대비표!O6 -> 3579 | F22: =TRUNC(E22*D22,1) -> 3579 | G22: =단가대비표!P6 -> 0 | H22: =TRUNC(G22*D22,1) -> 0 | I22: =단가대비표!V6 -> 0 | J22: =TRUNC(I22*D22,1) -> 0 | K22: =TRUNC(E22+G22+I22,1) -> 3579 | L22: =TRUNC(F22+H22+J22,1) -> 3579 | N22: 5A83766833F074AF77B417A5D9A638 | O22: 5DF33666217079403734F175ED81EAF443B04B | P22: F | Q22: F | R22: T | V22: 1 | AW22: 5A83766833F074AF77B417A5D9A6385DF33666217079403734F175ED81EAF443B04B
A23: 접지용비닐절연전선 | B23: 접지용비닐절연전선, F-GV, 16㎟ | C23: M | D23: 0.1 | E23: =단가대비표!O8 -> 2573 | F23: =TRUNC(E23*D23,1) -> 257.3 | G23: =단가대비표!P8 -> 0 | H23: =TRUNC(G23*D23,1) -> 0 | I23: =단가대비표!V8 -> 0 | J23: =TRUNC(I23*D23,1) -> 0 | K23: =TRUNC(E23+G23+I23,1) -> 2573 | L23: =TRUNC(F23+H23+J23,1) -> 257.3 | N23: 5A83766833F074AF77B417A5D9A638 | O23: 5DF33666217079403734F175E4AC8570B1D981 | P23: F | Q23: F | R23: T | AW23: 5A83766833F074AF77B417A5D9A6385DF33666217079403734F175E4AC8570B1D981
A24: 잡재료비 | B24: 배관배선의 2% | C24: 식 | D24: 1 | E24: =TRUNC(SUMIF(V22:V26, RIGHTB(O24, 1), F22:F26)*U24, 2) -> 71.58 | F24: =TRUNC(E24*D24,1) -> 71.5 | G24: 0 | H24: =TRUNC(G24*D24,1) -> 0 | I24: 0 | J24: =TRUNC(I24*D24,1) -> 0 | K24: =TRUNC(E24+G24+I24,1) -> 71.5 | L24: =TRUNC(F24+H24+J24,1) -> 71.5 | N24: 5A83766833F074AF77B417A5D9A638 | O24: 5BD3069DFE307DD8FAD41DC5B939001 | P24: F | Q24: F | R24: F | S24: 0 | T24: 0 | U24: 0.02 | AW24: 5A83766833F074AF77B417A5D9A6385BD3069DFE307DD8FAD41DC5B939001
A25: 내선전공 | B25: 일반공사 직종 | C25: 인 | D25: =공량산출근거서_일위대가!K11 -> 0.007 | E25: =단가대비표!O27 -> 0 | F25: =TRUNC(E25*D25,1) -> 0 | G25: =단가대비표!P27 -> 273676 | H25: =TRUNC(G25*D25,1) -> 1915.7 | I25: =단가대비표!V27 -> 0 | J25: =TRUNC(I25*D25,1) -> 0 | K25: =TRUNC(E25+G25+I25,1) -> 273676 | L25: =TRUNC(F25+H25+J25,1) -> 1915.7 | N25: 5A83766833F074AF77B417A5D9A638 | O25: 5A113654B3C0757B4AC4A0950782CBB87432CF | P25: F | Q25: F | R25: T | W25: 2 | AW25: 5A83766833F074AF77B417A5D9A6385A113654B3C0757B4AC4A0950782CBB87432CF
A26: 공구손료 | B26: 인력품의 3% | C26: 식 | D26: 1 | E26: =TRUNC(SUMIF(W22:W26, RIGHTB(O26, 1), H22:H26)*U26, 2) -> 57.47 | F26: =TRUNC(E26*D26,1) -> 57.4 | G26: 0 | H26: =TRUNC(G26*D26,1) -> 0 | I26: 0 | J26: =TRUNC(I26*D26,1) -> 0 | K26: =TRUNC(E26+G26+I26,1) -> 57.4 | L26: =TRUNC(F26+H26+J26,1) -> 57.4 | N26: 5A83766833F074AF77B417A5D9A638 | O26: 5BD3069DFE307DD8FAD41DC5B93A002 | P26: F | Q26: F | R26: F | S26: 1 | T26: 0 | U26: 0.03 | AW26: 5A83766833F074AF77B417A5D9A6385BD3069DFE307DD8FAD41DC5B93A002
A27: [ 합 계 ] | F27: =TRUNC(SUMIF(N22:N26, N21, F22:F26),0) -> 3965 | H27: =TRUNC(SUMIF(N22:N26, N21, H22:H26),0) -> 1915 | J27: =TRUNC(SUMIF(N22:N26, N21, J22:J26),0) -> 0 | L27: =F27+H27+J27 -> 5880 | N27: TOTAL | O27: TOTAL
A29: 0.6/1kv 저독성난연폴리올레핀전력케이블 HFCO, 3C 2.5㎟ M 전기 5-13 ( 호표 4 ) | N29: 5A83766832E07DBE46E4B625EFC091
A30: 0.6/1kv 저독성난연케이블 | B30: HFCO, 3C 2.5㎟ | C30: M | D30: 1 | E30: =단가대비표!O9 -> 2637 | F30: =TRUNC(E30*D30,1) -> 2637 | G30: =단가대비표!P9 -> 0 | H30: =TRUNC(G30*D30,1) -> 0 | I30: =단가대비표!V9 -> 0 | J30: =TRUNC(I30*D30,1) -> 0 | K30: =TRUNC(E30+G30+I30,1) -> 2637 | L30: =TRUNC(F30+H30+J30,1) -> 2637 | N30: 5A83766832E07DBE46E4B625EFC091 | O30: 5DF33666217079438B3404D5E5A6A2123D9D20 | P30: F | Q30: F | R30: T | V30: 1 | AW30: 5A83766832E07DBE46E4B625EFC0915DF33666217079438B3404D5E5A6A2123D9D20
A31: 0.6/1kv 저독성난연케이블 | B31: HFCO, 3C 2.5㎟ | C31: M | D31: 0.05 | E31: =단가대비표!O12 -> 2632 | F31: =TRUNC(E31*D31,1) -> 131.6 | G31: =단가대비표!P12 -> 0 | H31: =TRUNC(G31*D31,1) -> 0 | I31: =단가대비표!V12 -> 0 | J31: =TRUNC(I31*D31,1) -> 0 | K31: =TRUNC(E31+G31+I31,1) -> 2632 | L31: =TRUNC(F31+H31+J31,1) -> 131.6 | N31: 5A83766832E07DBE46E4B625EFC091 | O31: 5DF33666217079438B3404D5EE9BBE1DCFB160 | P31: F | Q31: F | R31: T | AW31: 5A83766832E07DBE46E4B625EFC0915DF33666217079438B3404D5EE9BBE1DCFB160
A32: 잡재료비 | B32: 배관배선의 2% | C32: 식 | D32: 1 | E32: =TRUNC(SUMIF(V30:V34, RIGHTB(O32, 1), F30:F34)*U32, 2) -> 52.74 | F32: =TRUNC(E32*D32,1) -> 52.7 | G32: 0 | H32: =TRUNC(G32*D32,1) -> 0 | I32: 0 | J32: =TRUNC(I32*D32,1) -> 0 | K32: =TRUNC(E32+G32+I32,1) -> 52.7 | L32: =TRUNC(F32+H32+J32,1) -> 52.7 | N32: 5A83766832E07DBE46E4B625EFC091 | O32: 5BD3069DFE307DD8FAD41DC5B939001 | P32: F | Q32: F | R32: F | S32: 0 | T32: 0 | U32: 0.02 | AW32: 5A83766832E07DBE46E4B625EFC0915BD3069DFE307DD8FAD41DC5B939001
A33: 저압케이블전공 | B33: 일반공사 직종 | C33: 인 | D33: =공량산출근거서_일위대가!K23 -> 0.019 | E33: =단가대비표!O28 -> 0 | F33: =TRUNC(E33*D33,1) -> 0 | G33: =단가대비표!P28 -> 304156 | H33: =TRUNC(G33*D33,1) -> 5778.9 | I33: =단가대비표!V28 -> 0 | J33: =TRUNC(I33*D33,1) -> 0 | K33: =TRUNC(E33+G33+I33,1) -> 304156 | L33: =TRUNC(F33+H33+J33,1) -> 5778.9 | N33: 5A83766832E07DBE46E4B625EFC091 | O33: 5A113654B3C0757B4AC4A0950782CBB87432C2 | P33: F | Q33: F | R33: T | W33: 2 | AW33: 5A83766832E07DBE46E4B625EFC0915A113654B3C0757B4AC4A0950782CBB87432C2
A34: 공구손료 | B34: 인력품의 3% | C34: 식 | D34: 1 | E34: =TRUNC(SUMIF(W30:W34, RIGHTB(O34, 1), H30:H34)*U34, 2) -> 173.36 | F34: =TRUNC(E34*D34,1) -> 173.3 | G34: 0 | H34: =TRUNC(G34*D34,1) -> 0 | I34: 0 | J34: =TRUNC(I34*D34,1) -> 0 | K34: =TRUNC(E34+G34+I34,1) -> 173.3 | L34: =TRUNC(F34+H34+J34,1) -> 173.3 | N34: 5A83766832E07DBE46E4B625EFC091 | O34: 5BD3069DFE307DD8FAD41DC5B93A002 | P34: F | Q34: F | R34: F | S34: 1 | T34: 0 | U34: 0.03 | AW34: 5A83766832E07DBE46E4B625EFC0915BD3069DFE307DD8FAD41DC5B93A002
A35: [ 합 계 ] | F35: =TRUNC(SUMIF(N30:N34, N29, F30:F34),0) -> 2994 | H35: =TRUNC(SUMIF(N30:N34, N29, H30:H34),0) -> 5778 | J35: =TRUNC(SUMIF(N30:N34, N29, J30:J34),0) -> 0 | L35: =F35+H35+J35 -> 8772 | N35: TOTAL | O35: TOTAL
A37: 0.6/1kv 저독성난연폴리올레핀전력케이블 HFCO, 4C 10㎟ M 전기 5-13 ( 호표 5 ) | N37: 5A83766832E07DBE46E4C095591108
A38: 0.6/1kv 저독성난연케이블 | B38: HFCO, 4C 10㎟ | C38: M | D38: 1 | E38: =단가대비표!O10 -> 11585 | F38: =TRUNC(E38*D38,1) -> 11585 | G38: =단가대비표!P10 -> 0 | H38: =TRUNC(G38*D38,1) -> 0 | I38: =단가대비표!V10 -> 0 | J38: =TRUNC(I38*D38,1) -> 0 | K38: =TRUNC(E38+G38+I38,1) -> 11585 | L38: =TRUNC(F38+H38+J38,1) -> 11585 | N38: 5A83766832E07DBE46E4C095591108 | O38: 5DF33666217079438B3404D5E5A6A2123ADE50 | P38: F | Q38: F | R38: T | V38: 1 | AW38: 5A83766832E07DBE46E4C0955911085DF33666217079438B3404D5E5A6A2123ADE50
A39: 0.6/1kv 저독성난연케이블 | B39: HFCO, 4C 10㎟ | C39: M | D39: 0.05 | E39: =단가대비표!O13 -> 11561 | F39: =TRUNC(E39*D39,1) -> 578 | G39: =단가대비표!P13 -> 0 | H39: =TRUNC(G39*D39,1) -> 0 | I39: =단가대비표!V13 -> 0 | J39: =TRUNC(I39*D39,1) -> 0 | K39: =TRUNC(E39+G39+I39,1) -> 11561 | L39: =TRUNC(F39+H39+J39,1) -> 578 | N39: 5A83766832E07DBE46E4C095591108 | O39: 5DF33666217079438B3404D5EE9BBE1DC809A2 | P39: F | Q39: F | R39: T | AW39: 5A83766832E07DBE46E4C0955911085DF33666217079438B3404D5EE9BBE1DC809A2
A40: 잡재료비 | B40: 배관배선의 2% | C40: 식 | D40: 1 | E40: =TRUNC(SUMIF(V38:V42, RIGHTB(O40, 1), F38:F42)*U40, 2) -> 231.7 | F40: =TRUNC(E40*D40,1) -> 231.7 | G40: 0 | H40: =TRUNC(G40*D40,1) -> 0 | I40: 0 | J40: =TRUNC(I40*D40,1) -> 0 | K40: =TRUNC(E40+G40+I40,1) -> 231.7 | L40: =TRUNC(F40+H40+J40,1) -> 231.7 | N40: 5A83766832E07DBE46E4C095591108 | O40: 5BD3069DFE307DD8FAD41DC5B939001 | P40: F | Q40: F | R40: F | S40: 0 | T40: 0 | U40: 0.02 | AW40: 5A83766832E07DBE46E4C0955911085BD3069DFE307DD8FAD41DC5B939001
A41: 저압케이블전공 | B41: 일반공사 직종 | C41: 인 | D41: =공량산출근거서_일위대가!K27 -> 0.04 | E41: =단가대비표!O28 -> 0 | F41: =TRUNC(E41*D41,1) -> 0 | G41: =단가대비표!P28 -> 304156 | H41: =TRUNC(G41*D41,1) -> 12166.2 | I41: =단가대비표!V28 -> 0 | J41: =TRUNC(I41*D41,1) -> 0 | K41: =TRUNC(E41+G41+I41,1) -> 304156 | L41: =TRUNC(F41+H41+J41,1) -> 12166.2 | N41: 5A83766832E07DBE46E4C095591108 | O41: 5A113654B3C0757B4AC4A0950782CBB87432C2 | P41: F | Q41: F | R41: T | W41: 2 | AW41: 5A83766832E07DBE46E4C0955911085A113654B3C0757B4AC4A0950782CBB87432C2
A42: 공구손료 | B42: 인력품의 3% | C42: 식 | D42: 1 | E42: =TRUNC(SUMIF(W38:W42, RIGHTB(O42, 1), H38:H42)*U42, 2) -> 364.98 | F42: =TRUNC(E42*D42,1) -> 364.9 | G42: 0 | H42: =TRUNC(G42*D42,1) -> 0 | I42: 0 | J42: =TRUNC(I42*D42,1) -> 0 | K42: =TRUNC(E42+G42+I42,1) -> 364.9 | L42: =TRUNC(F42+H42+J42,1) -> 364.9 | N42: 5A83766832E07DBE46E4C095591108 | O42: 5BD3069DFE307DD8FAD41DC5B93A002 | P42: F | Q42: F | R42: F | S42: 1 | T42: 0 | U42: 0.03 | AW42: 5A83766832E07DBE46E4C0955911085BD3069DFE307DD8FAD41DC5B93A002
A43: [ 합 계 ] | F43: =TRUNC(SUMIF(N38:N42, N37, F38:F42),0) -> 12759 | H43: =TRUNC(SUMIF(N38:N42, N37, H38:H42),0) -> 12166 | J43: =TRUNC(SUMIF(N38:N42, N37, J38:J42),0) -> 0 | L43: =F43+H43+J43 -> 24925 | N43: TOTAL | O43: TOTAL
A45: 0.6/1kv 저독성난연폴리올레핀전력케이블 HFCO, 4C 35㎟ M 전기 5-11 ( 호표 6 ) | N45: 5A83766832E07DBE46E4C095591C12
A46: 0.6/1kv 저독성난연케이블 | B46: HFCO, 4C 35㎟ | C46: M | D46: 1 | E46: =단가대비표!O11 -> 31360 | F46: =TRUNC(E46*D46,1) -> 31360 | G46: =단가대비표!P11 -> 0 | H46: =TRUNC(G46*D46,1) -> 0 | I46: =단가대비표!V11 -> 0 | J46: =TRUNC(I46*D46,1) -> 0 | K46: =TRUNC(E46+G46+I46,1) -> 31360 | L46: =TRUNC(F46+H46+J46,1) -> 31360 | N46: 5A83766832E07DBE46E4C095591C12 | O46: 5DF33666217079438B3404D5E5A6A2123ADE53 | P46: F | Q46: F | R46: T | V46: 1 | AW46: 5A83766832E07DBE46E4C095591C125DF33666217079438B3404D5E5A6A2123ADE53
A47: 0.6/1kv 저독성난연케이블 | B47: HFCO, 4C 35㎟ | C47: M | D47: 0.05 | E47: =단가대비표!O14 -> 26575 | F47: =TRUNC(E47*D47,1) -> 1328.7 | G47: =단가대비표!P14 -> 0 | H47: =TRUNC(G47*D47,1) -> 0 | I47: =단가대비표!V14 -> 0 | J47: =TRUNC(I47*D47,1) -> 0 | K47: =TRUNC(E47+G47+I47,1) -> 26575 | L47: =TRUNC(F47+H47+J47,1) -> 1328.7 | N47: 5A83766832E07DBE46E4C095591C12 | O47: 5DF33666217079438B3404D5EE9BBE1DC809A1 | P47: F | Q47: F | R47: T | AW47: 5A83766832E07DBE46E4C095591C125DF33666217079438B3404D5EE9BBE1DC809A1
A48: 잡재료비 | B48: 배관배선의 2% | C48: 식 | D48: 1 | E48: =TRUNC(SUMIF(V46:V50, RIGHTB(O48, 1), F46:F50)*U48, 2) -> 627.2 | F48: =TRUNC(E48*D48,1) -> 627.2 | G48: 0 | H48: =TRUNC(G48*D48,1) -> 0 | I48: 0 | J48: =TRUNC(I48*D48,1) -> 0 | K48: =TRUNC(E48+G48+I48,1) -> 627.2 | L48: =TRUNC(F48+H48+J48,1) -> 627.2 | N48: 5A83766832E07DBE46E4C095591C12 | O48: 5BD3069DFE307DD8FAD41DC5B939001 | P48: F | Q48: F | R48: F | S48: 0 | T48: 0 | U48: 0.02 | AW48: 5A83766832E07DBE46E4C095591C125BD3069DFE307DD8FAD41DC5B939001
A49: 저압케이블전공 | B49: 일반공사 직종 | C49: 인 | D49: =공량산출근거서_일위대가!K19 -> 0.09 | E49: =단가대비표!O28 -> 0 | F49: =TRUNC(E49*D49,1) -> 0 | G49: =단가대비표!P28 -> 304156 | H49: =TRUNC(G49*D49,1) -> 27374 | I49: =단가대비표!V28 -> 0 | J49: =TRUNC(I49*D49,1) -> 0 | K49: =TRUNC(E49+G49+I49,1) -> 304156 | L49: =TRUNC(F49+H49+J49,1) -> 27374 | N49: 5A83766832E07DBE46E4C095591C12 | O49: 5A113654B3C0757B4AC4A0950782CBB87432C2 | P49: F | Q49: F | R49: T | W49: 2 | AW49: 5A83766832E07DBE46E4C095591C125A113654B3C0757B4AC4A0950782CBB87432C2
A50: 공구손료 | B50: 인력품의 3% | C50: 식 | D50: 1 | E50: =TRUNC(SUMIF(W46:W50, RIGHTB(O50, 1), H46:H50)*U50, 2) -> 821.22 | F50: =TRUNC(E50*D50,1) -> 821.2 | G50: 0 | H50: =TRUNC(G50*D50,1) -> 0 | I50: 0 | J50: =TRUNC(I50*D50,1) -> 0 | K50: =TRUNC(E50+G50+I50,1) -> 821.2 | L50: =TRUNC(F50+H50+J50,1) -> 821.2 | N50: 5A83766832E07DBE46E4C095591C12 | O50: 5BD3069DFE307DD8FAD41DC5B93A002 | P50: F | Q50: F | R50: F | S50: 1 | T50: 0 | U50: 0.03 | AW50: 5A83766832E07DBE46E4C095591C125BD3069DFE307DD8FAD41DC5B93A002
A51: [ 합 계 ] | F51: =TRUNC(SUMIF(N46:N50, N45, F46:F50),0) -> 34137 | H51: =TRUNC(SUMIF(N46:N50, N45, H46:H50),0) -> 27374 | J51: =TRUNC(SUMIF(N46:N50, N45, J46:J50),0) -> 0 | L51: =F51+H51+J51 -> 61511 | N51: TOTAL | O51: TOTAL
A53: 전선덕트 알루미늄, 150*100mm M 전기 5-7 ( 호표 7 ) | N53: 5A83766DB2307993DAB40535569F22
A54: 전선덕트 | B54: 전선덕트, 알루미늄, 150*100mm | C54: M | D54: 1.05 | E54: =단가대비표!O24 -> 44100 | F54: =TRUNC(E54*D54,1) -> 46305 | G54: =단가대비표!P24 -> 0 | H54: =TRUNC(G54*D54,1) -> 0 | I54: =단가대비표!V24 -> 0 | J54: =TRUNC(I54*D54,1) -> 0 | K54: =TRUNC(E54+G54+I54,1) -> 44100 | L54: =TRUNC(F54+H54+J54,1) -> 46305 | N54: 5A83766DB2307993DAB40535569F22 | O54: 5DE276F5E6B076682E14D9E598ACA7AFB4C870 | P54: F | Q54: F | R54: T | AW54: 5A83766DB2307993DAB40535569F225DE276F5E6B076682E14D9E598ACA7AFB4C870
A55: 내선전공 | B55: 일반공사 직종 | C55: 인 | D55: =공량산출근거서_일위대가!K39 -> 0.28 | E55: =단가대비표!O27 -> 0 | F55: =TRUNC(E55*D55,1) -> 0 | G55: =단가대비표!P27 -> 273676 | H55: =TRUNC(G55*D55,1) -> 76629.2 | I55: =단가대비표!V27 -> 0 | J55: =TRUNC(I55*D55,1) -> 0 | K55: =TRUNC(E55+G55+I55,1) -> 273676 | L55: =TRUNC(F55+H55+J55,1) -> 76629.2 | N55: 5A83766DB2307993DAB40535569F22 | O55: 5A113654B3C0757B4AC4A0950782CBB87432CF | P55: F | Q55: F | R55: T | V55: 1 | AW55: 5A83766DB2307993DAB40535569F225A113654B3C0757B4AC4A0950782CBB87432CF
A56: 공구손료 | B56: 인력품의 3% | C56: 식 | D56: 1 | E56: =TRUNC(SUMIF(V54:V56, RIGHTB(O56, 1), H54:H56)*U56, 2) -> 2298.87 | F56: =TRUNC(E56*D56,1) -> 2298.8 | G56: 0 | H56: =TRUNC(G56*D56,1) -> 0 | I56: 0 | J56: =TRUNC(I56*D56,1) -> 0 | K56: =TRUNC(E56+G56+I56,1) -> 2298.8 | L56: =TRUNC(F56+H56+J56,1) -> 2298.8 | N56: 5A83766DB2307993DAB40535569F22 | O56: 5BD3069DFE307DD8FAD41DC5B939001 | P56: F | Q56: F | R56: F | S56: 1 | T56: 0 | U56: 0.03 | AW56: 5A83766DB2307993DAB40535569F225BD3069DFE307DD8FAD41DC5B939001
A57: [ 합 계 ] | F57: =TRUNC(SUMIF(N54:N56, N53, F54:F56),0) -> 48603 | H57: =TRUNC(SUMIF(N54:N56, N53, H54:H56),0) -> 76629 | J57: =TRUNC(SUMIF(N54:N56, N53, J54:J56),0) -> 0 | L57: =F57+H57+J57 -> 125232 | N57: TOTAL | O57: TOTAL
A59: 연결박스·커버 4각 개 전기 5-3 ( 호표 8 ) | N59: 5A83766DB2307993DAB40535569C59
A60: 연결박스 | B60: 4각 | C60: 개 | D60: 1 | E60: =단가대비표!O19 -> 700 | F60: =TRUNC(E60*D60,1) -> 700 | G60: =단가대비표!P19 -> 0 | H60: =TRUNC(G60*D60,1) -> 0 | I60: =단가대비표!V19 -> 0 | J60: =TRUNC(I60*D60,1) -> 0 | K60: =TRUNC(E60+G60+I60,1) -> 700 | L60: =TRUNC(F60+H60+J60,1) -> 700 | N60: 5A83766DB2307993DAB40535569C59 | O60: 5DE276F5E7507F851D04D8D5B6D799E839392A | P60: F | Q60: F | R60: T | AW60: 5A83766DB2307993DAB40535569C595DE276F5E7507F851D04D8D5B6D799E839392A
A61: 박스카바 | B61: 4각,평,KS | C61: 개 | D61: 1 | E61: =단가대비표!O21 -> 240 | F61: =TRUNC(E61*D61,1) -> 240 | G61: =단가대비표!P21 -> 0 | H61: =TRUNC(G61*D61,1) -> 0 | I61: =단가대비표!V21 -> 0 | J61: =TRUNC(I61*D61,1) -> 0 | K61: =TRUNC(E61+G61+I61,1) -> 240 | L61: =TRUNC(F61+H61+J61,1) -> 240 | N61: 5A83766DB2307993DAB40535569C59 | O61: 5DE276F5E7507F851D041DD5B49FF0999B67B6 | P61: F | Q61: F | R61: T | AW61: 5A83766DB2307993DAB40535569C595DE276F5E7507F851D041DD5B49FF0999B67B6
A62: 내선전공 | B62: 일반공사 직종 | C62: 인 | D62: =공량산출근거서_일위대가!K30 -> 0.03 | E62: =단가대비표!O27 -> 0 | F62: =TRUNC(E62*D62,1) -> 0 | G62: =단가대비표!P27 -> 273676 | H62: =TRUNC(G62*D62,1) -> 8210.2 | I62: =단가대비표!V27 -> 0 | J62: =TRUNC(I62*D62,1) -> 0 | K62: =TRUNC(E62+G62+I62,1) -> 273676 | L62: =TRUNC(F62+H62+J62,1) -> 8210.2 | N62: 5A83766DB2307993DAB40535569C59 | O62: 5A113654B3C0757B4AC4A0950782CBB87432CF | P62: F | Q62: F | R62: T | V62: 1 | AW62: 5A83766DB2307993DAB40535569C595A113654B3C0757B4AC4A0950782CBB87432CF
A63: 공구손료 | B63: 인력품의 3% | C63: 식 | D63: 1 | E63: =TRUNC(SUMIF(V60:V63, RIGHTB(O63, 1), H60:H63)*U63, 2) -> 246.3 | F63: =TRUNC(E63*D63,1) -> 246.3 | G63: 0 | H63: =TRUNC(G63*D63,1) -> 0 | I63: 0 | J63: =TRUNC(I63*D63,1) -> 0 | K63: =TRUNC(E63+G63+I63,1) -> 246.3 | L63: =TRUNC(F63+H63+J63,1) -> 246.3 | N63: 5A83766DB2307993DAB40535569C59 | O63: 5BD3069DFE307DD8FAD41DC5B939001 | P63: F | Q63: F | R63: F | S63: 1 | T63: 0 | U63: 0.03 | AW63: 5A83766DB2307993DAB40535569C595BD3069DFE307DD8FAD41DC5B939001
A64: [ 합 계 ] | F64: =TRUNC(SUMIF(N60:N63, N59, F60:F63),0) -> 1186 | H64: =TRUNC(SUMIF(N60:N63, N59, H60:H63),0) -> 8210 | J64: =TRUNC(SUMIF(N60:N63, N59, J60:J63),0) -> 0 | L64: =F64+H64+J64 -> 9396 | N64: TOTAL | O64: TOTAL
A66: 러그단자 동관단자, 1홀, 35 ㎟ 개 전기 4-37 ( 호표 9 ) | N66: 5A83766DB2307993DAB405652C2AF6
A67: 러그단자 | B67: 러그단자, 동관단자, 1홀, 35㎟ | C67: 개 | D67: 1 | E67: =단가대비표!O22 -> 923 | F67: =TRUNC(E67*D67,1) -> 923 | G67: =단가대비표!P22 -> 0 | H67: =TRUNC(G67*D67,1) -> 0 | I67: =단가대비표!V22 -> 0 | J67: =TRUNC(I67*D67,1) -> 0 | K67: =TRUNC(E67+G67+I67,1) -> 923 | L67: =TRUNC(F67+H67+J67,1) -> 923 | N67: 5A83766DB2307993DAB405652C2AF6 | O67: 5DE276F5E7507F824AB43B05939FB98844E051 | P67: F | Q67: F | R67: T | AW67: 5A83766DB2307993DAB405652C2AF65DE276F5E7507F824AB43B05939FB98844E051
A68: 저압케이블전공 | B68: 일반공사 직종 | C68: 인 | D68: =공량산출근거서_일위대가!K42 -> 0.1 | E68: =단가대비표!O28 -> 0 | F68: =TRUNC(E68*D68,1) -> 0 | G68: =단가대비표!P28 -> 304156 | H68: =TRUNC(G68*D68,1) -> 30415.6 | I68: =단가대비표!V28 -> 0 | J68: =TRUNC(I68*D68,1) -> 0 | K68: =TRUNC(E68+G68+I68,1) -> 304156 | L68: =TRUNC(F68+H68+J68,1) -> 30415.6 | N68: 5A83766DB2307993DAB405652C2AF6 | O68: 5A113654B3C0757B4AC4A0950782CBB87432C2 | P68: F | Q68: F | R68: T | V68: 1 | AW68: 5A83766DB2307993DAB405652C2AF65A113654B3C0757B4AC4A0950782CBB87432C2
A69: 공구손료 | B69: 인력품의 3% | C69: 식 | D69: 1 | E69: =TRUNC(SUMIF(V67:V69, RIGHTB(O69, 1), H67:H69)*U69, 2) -> 912.46 | F69: =TRUNC(E69*D69,1) -> 912.4 | G69: 0 | H69: =TRUNC(G69*D69,1) -> 0 | I69: 0 | J69: =TRUNC(I69*D69,1) -> 0 | K69: =TRUNC(E69+G69+I69,1) -> 912.4 | L69: =TRUNC(F69+H69+J69,1) -> 912.4 | N69: 5A83766DB2307993DAB405652C2AF6 | O69: 5BD3069DFE307DD8FAD41DC5B939001 | P69: F | Q69: F | R69: F | S69: 1 | T69: 0 | U69: 0.03 | AW69: 5A83766DB2307993DAB405652C2AF65BD3069DFE307DD8FAD41DC5B939001
A70: [ 합 계 ] | F70: =TRUNC(SUMIF(N67:N69, N66, F67:F69),0) -> 1835 | H70: =TRUNC(SUMIF(N67:N69, N66, H67:H69),0) -> 30415 | J70: =TRUNC(SUMIF(N67:N69, N66, J67:J69),0) -> 0 | L70: =F70+H70+J70 -> 32250 | N70: TOTAL | O70: TOTAL
A72: 전선관 철거 FLEX 22C m 전기 5-1 ( 호표 10 ) | N72: 5A83766DB110728970C412F5CE8F91
A73: 전선관 철거 | B73: FLEX 22C | C73: m | D73: 1 | E73: =단가대비표!O25 -> 0 | F73: =TRUNC(E73*D73,1) -> 0 | G73: =단가대비표!P25 -> 0 | H73: =TRUNC(G73*D73,1) -> 0 | I73: =단가대비표!V25 -> 0 | J73: =TRUNC(I73*D73,1) -> 0 | K73: =TRUNC(E73+G73+I73,1) -> 0 | L73: =TRUNC(F73+H73+J73,1) -> 0 | M73: 노무비 | N73: 5A83766DB110728970C412F5CE8F91 | O73: 5DAB162D69207C6D6FF4D02566C61A3B15360E | P73: F | Q73: F | R73: T | AW73: 5A83766DB110728970C412F5CE8F915DAB162D69207C6D6FF4D02566C61A3B15360E
A74: 내선전공 | B74: 일반공사 직종 | C74: 인 | D74: =공량산출근거서_일위대가!K33 -> 0.01 | E74: =단가대비표!O27 -> 0 | F74: =TRUNC(E74*D74,1) -> 0 | G74: =단가대비표!P27 -> 273676 | H74: =TRUNC(G74*D74,1) -> 2736.7 | I74: =단가대비표!V27 -> 0 | J74: =TRUNC(I74*D74,1) -> 0 | K74: =TRUNC(E74+G74+I74,1) -> 273676 | L74: =TRUNC(F74+H74+J74,1) -> 2736.7 | N74: 5A83766DB110728970C412F5CE8F91 | O74: 5A113654B3C0757B4AC4A0950782CBB87432CF | P74: F | Q74: F | R74: T | V74: 1 | AW74: 5A83766DB110728970C412F5CE8F915A113654B3C0757B4AC4A0950782CBB87432CF
A75: 공구손료 | B75: 인력품의 3% | C75: 식 | D75: 1 | E75: =TRUNC(SUMIF(V73:V75, RIGHTB(O75, 1), H73:H75)*U75, 2) -> 82.1 | F75: =TRUNC(E75*D75,1) -> 82.1 | G75: 0 | H75: =TRUNC(G75*D75,1) -> 0 | I75: 0 | J75: =TRUNC(I75*D75,1) -> 0 | K75: =TRUNC(E75+G75+I75,1) -> 82.1 | L75: =TRUNC(F75+H75+J75,1) -> 82.1 | N75: 5A83766DB110728970C412F5CE8F91 | O75: 5BD3069DFE307DD8FAD41DC5B939001 | P75: F | Q75: F | R75: F | S75: 1 | T75: 0 | U75: 0.03 | AW75: 5A83766DB110728970C412F5CE8F915BD3069DFE307DD8FAD41DC5B939001
A76: [ 합 계 ] | F76: =TRUNC(SUMIF(N73:N75, N72, F73:F75),0) -> 82 | H76: =TRUNC(SUMIF(N73:N75, N72, H73:H75),0) -> 2736 | J76: =TRUNC(SUMIF(N73:N75, N72, J73:J75),0) -> 0 | L76: =F76+H76+J76 -> 2818 | N76: TOTAL | O76: TOTAL
A78: 분전반설치 PP-EHP 면 전기 5-4 ( 호표 11 ) | N78: 5A83766DB0007CBC9514CE25B340B8
A79: 분전반 설치 | C79: 면 | D79: 1 | E79: =단가대비표!O26 -> 1860000 | F79: =TRUNC(E79*D79,1) -> 1860000 | G79: =단가대비표!P26 -> 0 | H79: =TRUNC(G79*D79,1) -> 0 | I79: =단가대비표!V26 -> 0 | J79: =TRUNC(I79*D79,1) -> 0 | K79: =TRUNC(E79+G79+I79,1) -> 1860000 | L79: =TRUNC(F79+H79+J79,1) -> 1860000 | N79: 5A83766DB0007CBC9514CE25B340B8 | O79: 5DAB162D69207C6D6FF4D02563721CC9C45FD3 | P79: F | Q79: F | R79: T | AW79: 5A83766DB0007CBC9514CE25B340B85DAB162D69207C6D6FF4D02563721CC9C45FD3
A80: 내선전공 | B80: 일반공사 직종 | C80: 인 | D80: =공량산출근거서_일위대가!K36 -> 0.855 | E80: =단가대비표!O27 -> 0 | F80: =TRUNC(E80*D80,1) -> 0 | G80: =단가대비표!P27 -> 273676 | H80: =TRUNC(G80*D80,1) -> 233992.9 | I80: =단가대비표!V27 -> 0 | J80: =TRUNC(I80*D80,1) -> 0 | K80: =TRUNC(E80+G80+I80,1) -> 273676 | L80: =TRUNC(F80+H80+J80,1) -> 233992.9 | N80: 5A83766DB0007CBC9514CE25B340B8 | O80: 5A113654B3C0757B4AC4A0950782CBB87432CF | P80: F | Q80: F | R80: T | V80: 1 | AW80: 5A83766DB0007CBC9514CE25B340B85A113654B3C0757B4AC4A0950782CBB87432CF
A81: 공구손료 | B81: 인력품의 3% | C81: 식 | D81: 1 | E81: =TRUNC(SUMIF(V79:V81, RIGHTB(O81, 1), H79:H81)*U81, 2) -> 7019.78 | F81: =TRUNC(E81*D81,1) -> 7019.7 | G81: 0 | H81: =TRUNC(G81*D81,1) -> 0 | I81: 0 | J81: =TRUNC(I81*D81,1) -> 0 | K81: =TRUNC(E81+G81+I81,1) -> 7019.7 | L81: =TRUNC(F81+H81+J81,1) -> 7019.7 | N81: 5A83766DB0007CBC9514CE25B340B8 | O81: 5BD3069DFE307DD8FAD41DC5B939001 | P81: F | Q81: F | R81: F | S81: 1 | T81: 0 | U81: 0.03 | AW81: 5A83766DB0007CBC9514CE25B340B85BD3069DFE307DD8FAD41DC5B939001
A82: [ 합 계 ] | F82: =TRUNC(SUMIF(N79:N81, N78, F79:F81),0) -> 1867019 | H82: =TRUNC(SUMIF(N79:N81, N78, H79:H81),0) -> 233992 | J82: =TRUNC(SUMIF(N79:N81, N78, J79:J81),0) -> 0 | L82: =F82+H82+J82 -> 2101011 | N82: TOTAL | O82: TOTAL
A84: 행가설치(스트롱앙카) 복스 개소 전기 5-29 ( 호표 12 ) | N84: 5A83766DBA007FEB44A4EFC593C2CF
A85: 스트롱앵커 | B85: 스트롱앵커, M10, 9.5mm | C85: 개 | D85: 1 | E85: =단가대비표!O18 -> 143 | F85: =TRUNC(E85*D85,1) -> 143 | G85: =단가대비표!P18 -> 0 | H85: =TRUNC(G85*D85,1) -> 0 | I85: =단가대비표!V18 -> 0 | J85: =TRUNC(I85*D85,1) -> 0 | K85: =TRUNC(E85+G85+I85,1) -> 143 | L85: =TRUNC(F85+H85+J85,1) -> 143 | N85: 5A83766DBA007FEB44A4EFC593C2CF | O85: 5DE2F6CB38D07877630453A537A21D4E85ED86 | P85: F | Q85: F | R85: T | AW85: 5A83766DBA007FEB44A4EFC593C2CF5DE2F6CB38D07877630453A537A21D4E85ED86
A86: 전산볼트 | B86: 전산볼트, 탄소강, M10*1000mm | C86: 개 | D86: 1 | E86: =단가대비표!O15 -> 1170 | F86: =TRUNC(E86*D86,1) -> 1170 | G86: =단가대비표!P15 -> 0 | H86: =TRUNC(G86*D86,1) -> 0 | I86: =단가대비표!V15 -> 0 | J86: =TRUNC(I86*D86,1) -> 0 | K86: =TRUNC(E86+G86+I86,1) -> 1170 | L86: =TRUNC(F86+H86+J86,1) -> 1170 | N86: 5A83766DBA007FEB44A4EFC593C2CF | O86: 5DE2F6CB38D07BCC09841115EAAAF2BF58FE28 | P86: F | Q86: F | R86: T | AW86: 5A83766DBA007FEB44A4EFC593C2CF5DE2F6CB38D07BCC09841115EAAAF2BF58FE28
A87: 육각너트 | B87: 육각너트, M10 | C87: 개 | D87: 1 | E87: =단가대비표!O16 -> 21.3 | F87: =TRUNC(E87*D87,1) -> 21.3 | G87: =단가대비표!P16 -> 0 | H87: =TRUNC(G87*D87,1) -> 0 | I87: =단가대비표!V16 -> 0 | J87: =TRUNC(I87*D87,1) -> 0 | K87: =TRUNC(E87+G87+I87,1) -> 21.3 | L87: =TRUNC(F87+H87+J87,1) -> 21.3 | N87: 5A83766DBA007FEB44A4EFC593C2CF | O87: 5DE2F6CB38D07BCD2C34F735539EC37998DC6B | P87: F | Q87: F | R87: T | AW87: 5A83766DBA007FEB44A4EFC593C2CF5DE2F6CB38D07BCD2C34F735539EC37998DC6B
A88: 스프링와셔 | B88: 스프링와셔, 용융아연도, 호칭경 10mm | C88: 개 | D88: 1 | E88: =단가대비표!O17 -> 9.3 | F88: =TRUNC(E88*D88,1) -> 9.3 | G88: =단가대비표!P17 -> 0 | H88: =TRUNC(G88*D88,1) -> 0 | I88: =단가대비표!V17 -> 0 | J88: =TRUNC(I88*D88,1) -> 0 | K88: =TRUNC(E88+G88+I88,1) -> 9.3 | L88: =TRUNC(F88+H88+J88,1) -> 9.3 | N88: 5A83766DBA007FEB44A4EFC593C2CF | O88: 5DE2F6CB38D07BC205B44D55B129E919D6E74C | P88: F | Q88: F | R88: T | AW88: 5A83766DBA007FEB44A4EFC593C2CF5DE2F6CB38D07BC205B44D55B129E919D6E74C
A89: 아웃렛박스 | B89: 아웃렛박스, 중형4각, 54mm | C89: 개 | D89: 1 | E89: =단가대비표!O20 -> 840 | F89: =TRUNC(E89*D89,1) -> 840 | G89: =단가대비표!P20 -> 0 | H89: =TRUNC(G89*D89,1) -> 0 | I89: =단가대비표!V20 -> 0 | J89: =TRUNC(I89*D89,1) -> 0 | K89: =TRUNC(E89+G89+I89,1) -> 840 | L89: =TRUNC(F89+H89+J89,1) -> 840 | N89: 5A83766DBA007FEB44A4EFC593C2CF | O89: 5DE276F5E7507F851D041DE55B08219F85CF26 | P89: F | Q89: F | R89: T | AW89: 5A83766DBA007FEB44A4EFC593C2CF5DE276F5E7507F851D041DE55B08219F85CF26
A90: 박스카바 | B90: 4각,평,KS | C90: 개 | D90: 1 | E90: =단가대비표!O21 -> 240 | F90: =TRUNC(E90*D90,1) -> 240 | G90: =단가대비표!P21 -> 0 | H90: =TRUNC(G90*D90,1) -> 0 | I90: =단가대비표!V21 -> 0 | J90: =TRUNC(I90*D90,1) -> 0 | K90: =TRUNC(E90+G90+I90,1) -> 240 | L90: =TRUNC(F90+H90+J90,1) -> 240 | N90: 5A83766DBA007FEB44A4EFC593C2CF | O90: 5DE276F5E7507F851D041DD5B49FF0999B67B6 | P90: F | Q90: F | R90: T | AW90: 5A83766DBA007FEB44A4EFC593C2CF5DE276F5E7507F851D041DD5B49FF0999B67B6
A91: 내선전공 | B91: 일반공사 직종 | C91: 인 | D91: =공량산출근거서_일위대가!K46 -> 0.07 | E91: =단가대비표!O27 -> 0 | F91: =TRUNC(E91*D91,1) -> 0 | G91: =단가대비표!P27 -> 273676 | H91: =TRUNC(G91*D91,1) -> 19157.3 | I91: =단가대비표!V27 -> 0 | J91: =TRUNC(I91*D91,1) -> 0 | K91: =TRUNC(E91+G91+I91,1) -> 273676 | L91: =TRUNC(F91+H91+J91,1) -> 19157.3 | N91: 5A83766DBA007FEB44A4EFC593C2CF | O91: 5A113654B3C0757B4AC4A0950782CBB87432CF | P91: F | Q91: F | R91: T | V91: 1 | AW91: 5A83766DBA007FEB44A4EFC593C2CF5A113654B3C0757B4AC4A0950782CBB87432CF
A92: 공구손료 | B92: 인력품의 3% | C92: 식 | D92: 1 | E92: =TRUNC(SUMIF(V85:V92, RIGHTB(O92, 1), H85:H92)*U92, 2) -> 574.71 | F92: =TRUNC(E92*D92,1) -> 574.7 | G92: 0 | H92: =TRUNC(G92*D92,1) -> 0 | I92: 0 | J92: =TRUNC(I92*D92,1) -> 0 | K92: =TRUNC(E92+G92+I92,1) -> 574.7 | L92: =TRUNC(F92+H92+J92,1) -> 574.7 | N92: 5A83766DBA007FEB44A4EFC593C2CF | O92: 5BD3069DFE307DD8FAD41DC5B939001 | P92: F | Q92: F | R92: F | S92: 1 | T92: 0 | U92: 0.03 | AW92: 5A83766DBA007FEB44A4EFC593C2CF5BD3069DFE307DD8FAD41DC5B939001
A93: [ 합 계 ] | F93: =TRUNC(SUMIF(N85:N92, N84, F85:F92),0) -> 2998 | H93: =TRUNC(SUMIF(N85:N92, N84, H85:H92),0) -> 19157 | J93: =TRUNC(SUMIF(N85:N92, N84, J85:J92),0) -> 0 | L93: =F93+H93+J93 -> 22155 | N93: TOTAL | O93: TOTAL

Sheet 단가대비표
A1: 단 가 대 비 표
A2: [ 장성여고 기숙사 냉난방개선 전기공사 ]
A3: 코 드 | B3: 품 명 | C3: 규격 | D3: 단위 | E3: 재 료 비 | P3: 노 무 비 | Q3: 경 비 | W3: 번 호 | X3: 비 고 | Y3: 품목구분 | Z3: 노임구분 | AA3: 소수점처리 | AB3: 자재구분
E4: 조달청가격 | F4: PAGE | G4: 거래가격 | H4: PAGE | I4: 유통물가 | J4: PAGE | K4: 물가자료 | L4: PAGE | M4: 조사가격 | N4: PAGE | O4: 적용단가 | Q4: 조달청가격 | R4: 거래가격 | S4: 유통물가 | T4: 물가자료 | U4: 조사가격 | V4: 적용단가
A5: 5DF33666217079403734F175ED81EAF443B04A | B5: 접지용비닐절연전선 | C5: 접지용비닐절연전선, F-GV, 10㎟ | D5: M | E5: 1909 | G5: 2398 | H5: 994 | I5: 2829 | J5: 833 | K5: 3082 | L5: 1075 | M5: 0 | O5: 2398 | P5: 0 | Q5: 0 | R5: 0 | S5: 0 | T5: 0 | U5: 0 | V5: 0 | W5: 자재 1
A6: 5DF33666217079403734F175ED81EAF443B04B | B6: 접지용비닐절연전선 | C6: 접지용비닐절연전선, F-GV, 16㎟ | D6: M | E6: 2545 | G6: 3579 | H6: 994 | I6: 3864 | J6: 833 | K6: 4330 | L6: 1075 | M6: 0 | O6: 3579 | P6: 0 | Q6: 0 | R6: 0 | S6: 0 | T6: 0 | U6: 0 | V6: 0 | W6: 자재 2
A7: 5DF33666217079403734F175E4AC8570B1D980 | B7: 접지용비닐절연전선 | C7: 접지용비닐절연전선, F-GV, 10㎟ | D7: M | E7: 0 | G7: 1893 | H7: 994 | I7: 1885 | J7: 833 | K7: 1970 | L7: 1099 | M7: 0 | O7: 1885 | P7: 0 | Q7: 0 | R7: 0 | S7: 0 | T7: 0 | U7: 0 | V7: 0 | W7: 자재 3
A8: 5DF33666217079403734F175E4AC8570B1D981 | B8: 접지용비닐절연전선 | C8: 접지용비닐절연전선, F-GV, 16㎟ | D8: M | E8: 0 | G8: 2893 | H8: 994 | I8: 2573 | J8: 833 | K8: 2750 | L8: 1099 | M8: 0 | O8: 2573 | P8: 0 | Q8: 0 | R8: 0 | S8: 0 | T8: 0 | U8: 0 | V8: 0 | W8: 자재 4
A9: 5DF33666217079438B3404D5E5A6A2123D9D20 | B9: 0.6/1kv 저독성난연케이블 | C9: HFCO, 3C 2.5㎟ | D9: M | E9: 2212 | G9: 3791 | H9: 996 | I9: 4289 | J9: 838 | K9: 2637 | L9: 1102 | M9: 0 | O9: 2637 | P9: 0 | Q9: 0 | R9: 0 | S9: 0 | T9: 0 | U9: 0 | V9: 0 | W9: 자재 5
A10: 5DF33666217079438B3404D5E5A6A2123ADE50 | B10: 0.6/1kv 저독성난연케이블 | C10: HFCO, 4C 10㎟ | D10: M | E10: 9457 | G10: 16655 | H10: 996 | I10: 18894 | J10: 838 | K10: 11585 | L10: 1102 | M10: 0 | O10: 11585 | P10: 0 | Q10: 0 | R10: 0 | S10: 0 | T10: 0 | U10: 0 | V10: 0 | W10: 자재 6
A11: 5DF33666217079438B3404D5E5A6A2123ADE53 | B11: 0.6/1kv 저독성난연케이블 | C11: HFCO, 4C 35㎟ | D11: M | E11: 26369 | G11: 38284 | H11: 996 | I11: 43480 | J11: 838 | K11: 31360 | L11: 1102 | M11: 0 | O11: 31360 | P11: 0 | Q11: 0 | R11: 0 | S11: 0 | T11: 0 | U11: 0 | V11: 0 | W11: 자재 7
A12: 5DF33666217079438B3404D5EE9BBE1DCFB160 | B12: 0.6/1kv 저독성난연케이블 | C12: HFCO, 3C 2.5㎟ | D12: M | E12: 0 | G12: 2632 | H12: 996 | I12: 2883 | J12: 838 | K12: 2637 | L12: 1102 | M12: 0 | O12: 2632 | P12: 0 | Q12: 0 | R12: 0 | S12: 0 | T12: 0 | U12: 0 | V12: 0 | W12: 자재 8
A13: 5DF33666217079438B3404D5EE9BBE1DC809A2 | B13: 0.6/1kv 저독성난연케이블 | C13: HFCO, 4C 10㎟ | D13: M | E13: 0 | G13: 11561 | H13: 996 | I13: 12701 | J13: 838 | K13: 11585 | L13: 1102 | M13: 0 | O13: 11561 | P13: 0 | Q13: 0 | R13: 0 | S13: 0 | T13: 0 | U13: 0 | V13: 0 | W13: 자재 9
A14: 5DF33666217079438B3404D5EE9BBE1DC809A1 | B14: 0.6/1kv 저독성난연케이블 | C14: HFCO, 4C 35㎟ | D14: M | E14: 0 | G14: 26575 | H14: 996 | I14: 29228 | J14: 838 | K14: 31360 | L14: 1102 | M14: 0 | O14: 26575 | P14: 0 | Q14: 0 | R14: 0 | S14: 0 | T14: 0 | U14: 0 | V14: 0 | W14: 자재 10
A15: 5DE2F6CB38D07BCC09841115EAAAF2BF58FE28 | B15: 전산볼트 | C15: 전산볼트, 탄소강, M10*1000mm | D15: 개 | E15: 913 | G15: 1170 | H15: 91 | I15: 1179 | J15: 51 | K15: 0 | M15: 0 | O15: 1170 | P15: 0 | Q15: 0 | R15: 0 | S15: 0 | T15: 0 | U15: 0 | V15: 0 | W15: 자재 11
A16: 5DE2F6CB38D07BCD2C34F735539EC37998DC6B | B16: 육각너트 | C16: 육각너트, M10 | D16: 개 | E16: 0 | G16: 25.4 | H16: 97 | I16: 21.3 | J16: 56 | K16: 0 | M16: 0 | O16: 21.3 | P16: 0 | Q16: 0 | R16: 0 | S16: 0 | T16: 0 | U16: 0 | V16: 0 | W16: 자재 12
A17: 5DE2F6CB38D07BC205B44D55B129E919D6E74C | B17: 스프링와셔 | C17: 스프링와셔, 용융아연도, 호칭경 10mm | D17: 개 | E17: 0 | G17: 11 | H17: 94 | I17: 9.3 | J17: 56 | K17: 0 | M17: 0 | O17: 9.3 | P17: 0 | Q17: 0 | R17: 0 | S17: 0 | T17: 0 | U17: 0 | V17: 0 | W17: 자재 13
A18: 5DE2F6CB38D07877630453A537A21D4E85ED86 | B18: 스트롱앵커 | C18: 스트롱앵커, M10, 9.5mm | D18: 개 | E18: 0 | G18: 143 | H18: 94 | I18: 0 | K18: 0 | M18: 0 | O18: 143 | P18: 0 | Q18: 0 | R18: 0 | S18: 0 | T18: 0 | U18: 0 | V18: 0 | W18: 자재 14
A19: 5DE276F5E7507F851D04D8D5B6D799E839392A | B19: 연결박스 | C19: 4각 | D19: 개 | E19: 0 | G19: 0 | I19: 0 | K19: 700 | L19: 1126 | M19: 0 | O19: 700 | P19: 0 | Q19: 0 | R19: 0 | S19: 0 | T19: 0 | U19: 0 | V19: 0 | W19: 자재 15
A20: 5DE276F5E7507F851D041DE55B08219F85CF26 | B20: 아웃렛박스 | C20: 아웃렛박스, 중형4각, 54mm | D20: 개 | E20: 0 | G20: 840 | H20: 1020 | I20: 0 | K20: 0 | M20: 0 | O20: 840 | P20: 0 | Q20: 0 | R20: 0 | S20: 0 | T20: 0 | U20: 0 | V20: 0 | W20: 자재 16
A21: 5DE276F5E7507F851D041DD5B49FF0999B67B6 | B21: 박스카바 | C21: 4각,평,KS | D21: 개 | E21: 0 | G21: 240 | H21: 1020 | I21: 0 | K21: 0 | M21: 0 | O21: 240 | P21: 0 | Q21: 0 | R21: 0 | S21: 0 | T21: 0 | U21: 0 | V21: 0 | W21: 자재 17
A22: 5DE276F5E7507F824AB43B05939FB98844E051 | B22: 러그단자 | C22: 러그단자, 동관단자, 1홀, 35㎟ | D22: 개 | E22: 0 | G22: 936 | H22: 1019 | I22: 923 | J22: 858 | K22: 0 | M22: 0 | O22: 923 | P22: 0 | Q22: 0 | R22: 0 | S22: 0 | T22: 0 | U22: 0 | V22: 0 | W22: 자재 18
A23: 5DE276F5E6B076682F240115EDD9A7507EA6AE | B23: 1종금속제가요전선관 | C23: 1종금속제가요전선관, 고장력후렉시블전선관, 42mm, 방수 | D23: M | E23: 5869 | G23: 10380 | H23: 1027 | I23: 0 | K23: 10380 | L23: 1125 | M23: 0 | O23: 10380 | P23: 0 | Q23: 0 | R23: 0 | S23: 0 | T23: 0 | U23: 0 | V23: 0 | W23: 자재 19
A24: 5DE276F5E6B076682E14D9E598ACA7AFB4C870 | B24: 전선덕트 | C24: 전선덕트, 알루미늄, 150*100mm | D24: M | E24: 30898 | G24: 50000 | H24: 1031 | I24: 50000 | J24: 870 | K24: 44100 | L24: 1099 | M24: 0 | O24: 44100 | P24: 0 | Q24: 0 | R24: 0 | S24: 0 | T24: 0 | U24: 0 | V24: 0 | W24: 자재 20
A25: 5DAB162D69207C6D6FF4D02566C61A3B15360E | B25: 전선관 철거 | C25: FLEX 22C | D25: m | E25: 0 | G25: 0 | I25: 0 | K25: 0 | M25: 0 | O25: 0 | P25: 0 | Q25: 0 | R25: 0 | S25: 0 | T25: 0 | U25: 0 | V25: 0 | W25: 자재 21 | X25: 노무비
A26: 5DAB162D69207C6D6FF4D02563721CC9C45FD3 | B26: 분전반 설치 | D26: 면 | E26: 0 | G26: 0 | I26: 0 | K26: 0 | M26: 1860000 | N26: 외주견적 | O26: 1860000 | P26: 0 | Q26: 0 | R26: 0 | S26: 0 | T26: 0 | U26: 0 | V26: 0 | W26: 자재 22
A27: 5A113654B3C0757B4AC4A0950782CBB87432CF | B27: 내선전공 | C27: 일반공사 직종 | D27: 인 | E27: 0 | G27: 0 | I27: 0 | K27: 0 | M27: 0 | O27: 0 | P27: 273676 | Q27: 0 | R27: 0 | S27: 0 | T27: 0 | U27: 0 | V27: 0 | W27: 노임 1 | Y27: B
A28: 5A113654B3C0757B4AC4A0950782CBB87432C2 | B28: 저압케이블전공 | C28: 일반공사 직종 | D28: 인 | E28: 0 | G28: 0 | I28: 0 | K28: 0 | M28: 0 | O28: 0 | P28: 304156 | Q28: 0 | R28: 0 | S28: 0 | T28: 0 | U28: 0 | V28: 0 | W28: 노임 2 | Y28: B

Sheet 공량산출근거서_일위대가
A1: 공 량 산 출 근 거 서
A2: [ 장성여고 기숙사 냉난방개선 전기공사 ]
A3: 코 드 | B3: 품 명 | C3: 규 격 | D3: 단위 | E3: 품 셈 목 록 | F3: 수 량 | G3: 할증 | H3: 노임할증-1 | I3: 노임할증-2 | J3: 노임할증-3 | K3: 내역수량 | L3: 직 종 명 | M3: 공 량 | N3: 계 | O3: 번 호 | P3: 비 고 | T3: 일위대가목록+자재 | V3: 내선전공 | W3: 일반공사 직종 | X3: 저압케이블전공
B4: 난연 비닐절연접지용전선(F-GV)-관내 0.6/1kv, 10㎟ M (호표 2)
A5: 5DF33666217079403734F175ED81EAF443B04A | B5: 접지용비닐절연전선 | C5: 접지용비닐절연전선, F-GV, 10㎟ | D5: M | E5: 전기품셈 3-38 | F5: 1 | K5: 1 | L5: 내선전공 | M5: =0.006*(H5+100)/100*(I5+100)/100*(J5+100)/100 -> 0.006 | N5: =F5*M5 -> 0.006 | O5: 노임 1 | P5: 0.006*1 | Q5: 5A83766833F074AF77B417A5D9A7DF | R5: 5A113654B3C0757B4AC4A0950782CBB87432CF | S5: 0.006 | T5: 5A83766833F074AF77B417A5D9A7DF5DF33666217079403734F175ED81EAF443B04A | V5: =N5 -> 0.006
A6: 5DF33666217079403734F175E4AC8570B1D980 | B6: 접지용비닐절연전선 | C6: 접지용비닐절연전선, F-GV, 10㎟ | D6: M | E6: 전기품셈 3-38 | F6: 0.1 | H6: -100 | K6: 0.1 | L6: 내선전공 | M6: =0.006*(H6+100)/100*(I6+100)/100*(J6+100)/100 -> 0 | N6: =F6*M6 -> 0 | O6: 노임 1 | P6: 0.006*1 * 0% | Q6: 5A83766833F074AF77B417A5D9A7DF | R6: 5A113654B3C0757B4AC4A0950782CBB87432CF | S6: 0.006 | T6: 5A83766833F074AF77B417A5D9A7DF5DF33666217079403734F175E4AC8570B1D980 | V6: =N6 -> 0
A7: 5A113654B3C0757B4AC4A0950782CBB87432CF | B7: 내선전공 | C7: 일반공사 직종 | D7: 인 | F7: =SUM(V5:V6) -> 0.006 | K7: =TRUNC(ROUNDDOWN(F7,공량설정_일위대가!C3+1)*공량설정_일위대가!B2/100, 공량설정_일위대가!C3) -> 0.006 | O7: 노임 1 | Q7: 5A83766833F074AF77B417A5D9A7DF | T7: 5A83766833F074AF77B417A5D9A7DF5A113654B3C0757B4AC4A0950782CBB87432CF
B8: 난연 비닐절연접지용전선(F-GV)-관내 0.6/1kv, 16㎟ M (호표 3)
A9: 5DF33666217079403734F175ED81EAF443B04B | B9: 접지용비닐절연전선 | C9: 접지용비닐절연전선, F-GV, 16㎟ | D9: M | E9: 전기품셈 3-38 | F9: 1 | K9: 1 | L9: 내선전공 | M9: =0.007*(H9+100)/100*(I9+100)/100*(J9+100)/100 -> 0.007 | N9: =F9*M9 -> 0.007 | O9: 노임 1 | P9: 0.007*1 | Q9: 5A83766833F074AF77B417A5D9A638 | R9: 5A113654B3C0757B4AC4A0950782CBB87432CF | S9: 0.007 | T9: 5A83766833F074AF77B417A5D9A6385DF33666217079403734F175ED81EAF443B04B | V9: =N9 -> 0.007
A10: 5DF33666217079403734F175E4AC8570B1D981 | B10: 접지용비닐절연전선 | C10: 접지용비닐절연전선, F-GV, 16㎟ | D10: M | E10: 전기품셈 3-38 | F10: 0.1 | H10: -100 | K10: 0.1 | L10: 내선전공 | M10: =0.007*(H10+100)/100*(I10+100)/100*(J10+100)/100 -> 0 | N10: =F10*M10 -> 0 | O10: 노임 1 | P10: 0.007*1 * 0% | Q10: 5A83766833F074AF77B417A5D9A638 | R10: 5A113654B3C0757B4AC4A0950782CBB87432CF | S10: 0.007 | T10: 5A83766833F074AF77B417A5D9A6385DF33666217079403734F175E4AC8570B1D981 | V10: =N10 -> 0
A11: 5A113654B3C0757B4AC4A0950782CBB87432CF | B11: 내선전공 | C11: 일반공사 직종 | D11: 인 | F11: =SUM(V9:V10) -> 0.007 | K11: =TRUNC(ROUNDDOWN(F11,공량설정_일위대가!C5+1)*공량설정_일위대가!B4/100, 공량설정_일위대가!C5) -> 0.007 | O11: 노임 1 | Q11: 5A83766833F074AF77B417A5D9A638 | T11: 5A83766833F074AF77B417A5D9A6385A113654B3C0757B4AC4A0950782CBB87432CF
B12: 1종금속제가요전선관 고장력, 42mm, 방수 M (호표 1)
A13: 5DE276F5E6B076682F240115EDD9A7507EA6AE | B13: 1종금속제가요전선관 | C13: 1종금속제가요전선관, 고장력후렉시블전선관, 42mm, 방수 | D13: M | E13: 전기품셈 5-1 | F13: 1 | H13: -10 | K13: 1 | L13: 내선전공 | M13: =0.104*(H13+100)/100*(I13+100)/100*(J13+100)/100 -> 0.0936 | N13: =F13*M13 -> 0.0936 | O13: 노임 1 | P13: 0.104*1 * 90% | Q13: 5A8376683020700B65E4A4C5057B91 | R13: 5A113654B3C0757B4AC4A0950782CBB87432CF | S13: 0.104 | T13: 5A8376683020700B65E4A4C5057B915DE276F5E6B076682F240115EDD9A7507EA6AE | V13: =N13 -> 0.0936
A14: 5DE276F5E6B076682F240115EDD9A7507EA6AE | B14: 1종금속제가요전선관 | C14: 1종금속제가요전선관, 고장력후렉시블전선관, 42mm, 방수 | D14: M | E14: 전기품셈 5-1 | F14: 0.1 | H14: -100 | K14: 0.1 | L14: 내선전공 | M14: =0.104*(H14+100)/100*(I14+100)/100*(J14+100)/100 -> 0 | N14: =F14*M14 -> 0 | O14: 노임 1 | P14: 0.104*1 * 0% | Q14: 5A8376683020700B65E4A4C5057B91 | R14: 5A113654B3C0757B4AC4A0950782CBB87432CF | S14: 0.104 | T14: 5A8376683020700B65E4A4C5057B915DE276F5E6B076682F240115EDD9A7507EA6AE | V14: =N14 -> 0
A15: 5A113654B3C0757B4AC4A0950782CBB87432CF | B15: 내선전공 | C15: 일반공사 직종 | D15: 인 | F15: =SUM(V13:V14) -> 0.0936 | K15: =TRUNC(ROUNDDOWN(F15,공량설정_일위대가!C7+1)*공량설정_일위대가!B6/100, 공량설정_일위대가!C7) -> 0.093 | O15: 노임 1 | Q15: 5A8376683020700B65E4A4C5057B91 | T15: 5A8376683020700B65E4A4C5057B915A113654B3C0757B4AC4A0950782CBB87432CF
B16: 0.6/1kv 저독성난연폴리올레핀전력케이블 HFCO, 4C 35㎟ M (호표 6)
A17: 5DF33666217079438B3404D5E5A6A2123ADE53 | B17: 0.6/1kv 저독성난연케이블 | C17: HFCO, 4C 35㎟ | D17: M | E17: 전기품셈 5-11 | F17: 1 | K17: 1 | L17: 저압케이블전공 | M17: =0.0936*(H17+100)/100*(I17+100)/100*(J17+100)/100 -> 0.0936 | N17: =F17*M17 -> 0.0936 | O17: 노임 2 | P17: 0.0936*1 | Q17: 5A83766832E07DBE46E4C095591C12 | R17: 5A113654B3C0757B4AC4A0950782CBB87432C2 | S17: 0.0936 | T17: 5A83766832E07DBE46E4C095591C125DF33666217079438B3404D5E5A6A2123ADE53 | X17: =N17 -> 0.0936
A18: 5DF33666217079438B3404D5EE9BBE1DC809A1 | B18: 0.6/1kv 저독성난연케이블 | C18: HFCO, 4C 35㎟ | D18: M | E18: 전기품셈 5-11 | F18: 0.05 | H18: -100 | K18: 0.05 | L18: 저압케이블전공 | M18: =0.0936*(H18+100)/100*(I18+100)/100*(J18+100)/100 -> 0 | N18: =F18*M18 -> 0 | O18: 노임 2 | P18: 0.0936*1 * 0% | Q18: 5A83766832E07DBE46E4C095591C12 | R18: 5A113654B3C0757B4AC4A0950782CBB87432C2 | S18: 0.0936 | T18: 5A83766832E07DBE46E4C095591C125DF33666217079438B3404D5EE9BBE1DC809A1 | X18: =N18 -> 0
A19: 5A113654B3C0757B4AC4A0950782CBB87432C2 | B19: 저압케이블전공 | C19: 일반공사 직종 | D19: 인 | F19: =SUM(X17:X18) -> 0.0936 | K19: =TRUNC(ROUNDDOWN(F19,공량설정_일위대가!C9+1)*공량설정_일위대가!B8/100, 공량설정_일위대가!C9) -> 0.09 | O19: 노임 2 | Q19: 5A83766832E07DBE46E4C095591C12 | T19: 5A83766832E07DBE46E4C095591C125A113654B3C0757B4AC4A0950782CBB87432C2
B20: 0.6/1kv 저독성난연폴리올레핀전력케이블 HFCO, 3C 2.5㎟ M (호표 4)
A21: 5DF33666217079438B3404D5E5A6A2123D9D20 | B21: 0.6/1kv 저독성난연케이블 | C21: HFCO, 3C 2.5㎟ | D21: M | E21: 전기품셈 5-13 | F21: 1 | K21: 1 | L21: 저압케이블전공 | M21: =0.019*(H21+100)/100*(I21+100)/100*(J21+100)/100 -> 0.019 | N21: =F21*M21 -> 0.019 | O21: 노임 2 | P21: 0.019*1 | Q21: 5A83766832E07DBE46E4B625EFC091 | R21: 5A113654B3C0757B4AC4A0950782CBB87432C2 | S21: 0.019 | T21: 5A83766832E07DBE46E4B625EFC0915DF33666217079438B3404D5E5A6A2123D9D20 | X21: =N21 -> 0.019
A22: 5DF33666217079438B3404D5EE9BBE1DCFB160 | B22: 0.6/1kv 저독성난연케이블 | C22: HFCO, 3C 2.5㎟ | D22: M | E22: 전기품셈 5-13 | F22: 0.05 | H22: -100 | K22: 0.05 | L22: 저압케이블전공 | M22: =0.019*(H22+100)/100*(I22+100)/100*(J22+100)/100 -> 0 | N22: =F22*M22 -> 0 | O22: 노임 2 | P22: 0.019*1 * 0% | Q22: 5A83766832E07DBE46E4B625EFC091 | R22: 5A113654B3C0757B4AC4A0950782CBB87432C2 | S22: 0.019 | T22: 5A83766832E07DBE46E4B625EFC0915DF33666217079438B3404D5EE9BBE1DCFB160 | X22: =N22 -> 0
A23: 5A113654B3C0757B4AC4A0950782CBB87432C2 | B23: 저압케이블전공 | C23: 일반공사 직종 | D23: 인 | F23: =SUM(X21:X22) -> 0.019 | K23: =TRUNC(ROUNDDOWN(F23,공량설정_일위대가!C11+1)*공량설정_일위대가!B10/100, 공량설정_일위대가!C11) -> 0.019 | O23: 노임 2 | Q23: 5A83766832E07DBE46E4B625EFC091 | T23: 5A83766832E07DBE46E4B625EFC0915A113654B3C0757B4AC4A0950782CBB87432C2
B24: 0.6/1kv 저독성난연폴리올레핀전력케이블 HFCO, 4C 10㎟ M (호표 5)
A25: 5DF33666217079438B3404D5E5A6A2123ADE50 | B25: 0.6/1kv 저독성난연케이블 | C25: HFCO, 4C 10㎟ | D25: M | E25: 전기품셈 5-13 | F25: 1 | K25: 1 | L25: 저압케이블전공 | M25: =0.049*(H25+100)/100*(I25+100)/100*(J25+100)/100 -> 0.049 | N25: =F25*M25 -> 0.049 | O25: 노임 2 | P25: 0.049*1 | Q25: 5A83766832E07DBE46E4C095591108 | R25: 5A113654B3C0757B4AC4A0950782CBB87432C2 | S25: 0.049 | T25: 5A83766832E07DBE46E4C0955911085DF33666217079438B3404D5E5A6A2123ADE50 | X25: =N25 -> 0.049
A26: 5DF33666217079438B3404D5EE9BBE1DC809A2 | B26: 0.6/1kv 저독성난연케이블 | C26: HFCO, 4C 10㎟ | D26: M | E26: 전기품셈 5-13 | F26: 0.05 | H26: -100 | K26: 0.05 | L26: 저압케이블전공 | M26: =0.049*(H26+100)/100*(I26+100)/100*(J26+100)/100 -> 0 | N26: =F26*M26 -> 0 | O26: 노임 2 | P26: 0.049*1 * 0% | Q26: 5A83766832E07DBE46E4C095591108 | R26: 5A113654B3C0757B4AC4A0950782CBB87432C2 | S26: 0.049 | T26: 5A83766832E07DBE46E4C0955911085DF33666217079438B3404D5EE9BBE1DC809A2 | X26: =N26 -> 0
A27: 5A113654B3C0757B4AC4A0950782CBB87432C2 | B27: 저압케이블전공 | C27: 일반공사 직종 | D27: 인 | F27: =SUM(X25:X26) -> 0.049 | K27: =TRUNC(ROUNDDOWN(F27,공량설정_일위대가!C13+1)*공량설정_일위대가!B12/100, 공량설정_일위대가!C13) -> 0.04 | O27: 노임 2 | Q27: 5A83766832E07DBE46E4C095591108 | T27: 5A83766832E07DBE46E4C0955911085A113654B3C0757B4AC4A0950782CBB87432C2
B28: 연결박스·커버 4각 개 (호표 8)
A29: 5DE276F5E7507F851D04D8D5B6D799E839392A | B29: 연결박스 | C29: 4각 | D29: 개 | E29: 전기품셈 5-3 | F29: 1 | G29: 0 | H29: -10 | K29: 1 | L29: 내선전공 | M29: =0.04*(H29+100)/100*(I29+100)/100*(J29+100)/100 -> 0.036 | N29: =F29*M29 -> 0.036 | O29: 노임 1 | P29: 0.04*1 * 90% | Q29: 5A83766DB2307993DAB40535569C59 | R29: 5A113654B3C0757B4AC4A0950782CBB87432CF | S29: 0.04 | T29: 5A83766DB2307993DAB40535569C595DE276F5E7507F851D04D8D5B6D799E839392A | V29: =N29 -> 0.036
A30: 5A113654B3C0757B4AC4A0950782CBB87432CF | B30: 내선전공 | C30: 일반공사 직종 | D30: 인 | F30: =SUM(V29:V29) -> 0.036 | K30: =TRUNC(ROUNDDOWN(F30,공량설정_일위대가!C15+1)*공량설정_일위대가!B14/100, 공량설정_일위대가!C15) -> 0.03 | O30: 노임 1 | Q30: 5A83766DB2307993DAB40535569C59 | T30: 5A83766DB2307993DAB40535569C595A113654B3C0757B4AC4A0950782CBB87432CF
B31: 전선관 철거 FLEX 22C m (호표 10)
A32: 5DAB162D69207C6D6FF4D02566C61A3B15360E | B32: 전선관 철거 | C32: FLEX 22C | D32: m | E32: 전기품셈 5-1 | F32: 1 | G32: 0 | H32: -10 | I32: -70 | K32: 1 | L32: 내선전공 | M32: =0.059*(H32+100)/100*(I32+100)/100*(J32+100)/100 -> 0.01593 | N32: =F32*M32 -> 0.01593 | O32: 노임 1 | P32: 0.059*1 * 90% * 30% | Q32: 5A83766DB110728970C412F5CE8F91 | R32: 5A113654B3C0757B4AC4A0950782CBB87432CF | S32: 0.059 | T32: 5A83766DB110728970C412F5CE8F915DAB162D69207C6D6FF4D02566C61A3B15360E | V32: =N32 -> 0.01593
A33: 5A113654B3C0757B4AC4A0950782CBB87432CF | B33: 내선전공 | C33: 일반공사 직종 | D33: 인 | F33: =SUM(V32:V32) -> 0.01593 | K33: =TRUNC(ROUNDDOWN(F33,공량설정_일위대가!C17+1)*공량설정_일위대가!B16/100, 공량설정_일위대가!C17) -> 0.01 | O33: 노임 1 | Q33: 5A83766DB110728970C412F5CE8F91 | T33: 5A83766DB110728970C412F5CE8F915A113654B3C0757B4AC4A0950782CBB87432CF
B34: 분전반설치 PP-EHP 면 (호표 11)
A35: 5DAB162D69207C6D6FF4D02563721CC9C45FD3 | B35: 분전반 설치 | D35: 면 | E35: 전기품셈 5-4 | F35: 1 | G35: 0 | H35: -10 | K35: 1 | L35: 내선전공 | M35: =0.95*(H35+100)/100*(I35+100)/100*(J35+100)/100 -> 0.855 | N35: =F35*M35 -> 0.855 | O35: 노임 1 | P35: 0.95*1 * 90% | Q35: 5A83766DB0007CBC9514CE25B340B8 | R35: 5A113654B3C0757B4AC4A0950782CBB87432CF | S35: 0.95 | T35: 5A83766DB0007CBC9514CE25B340B85DAB162D69207C6D6FF4D02563721CC9C45FD3 | V35: =N35 -> 0.855
A36: 5A113654B3C0757B4AC4A0950782CBB87432CF | B36: 내선전공 | C36: 일반공사 직종 | D36: 인 | F36: =SUM(V35:V35) -> 0.855 | K36: =TRUNC(ROUNDDOWN(F36,공량설정_일위대가!C19+1)*공량설정_일위대가!B18/100, 공량설정_일위대가!C19) -> 0.855 | O36: 노임 1 | Q36: 5A83766DB0007CBC9514CE25B340B8 | T36: 5A83766DB0007CBC9514CE25B340B85A113654B3C0757B4AC4A0950782CBB87432CF
B37: 전선덕트 알루미늄, 150*100mm M (호표 7)
A38: 5DE276F5E6B076682E14D9E598ACA7AFB4C870 | B38: 전선덕트 | C38: 전선덕트, 알루미늄, 150*100mm | D38: M | E38: 전기품셈 5-7 | F38: 1 | G38: 5 | H38: -30 | K38: 1.05 | L38: 내선전공 | M38: =0.4*(H38+100)/100*(I38+100)/100*(J38+100)/100 -> 0.28 | N38: =F38*M38 -> 0.28 | O38: 노임 1 | P38: 0.4*1 * 70% | Q38: 5A83766DB2307993DAB40535569F22 | R38: 5A113654B3C0757B4AC4A0950782CBB87432CF | S38: 0.4 | T38: 5A83766DB2307993DAB40535569F225DE276F5E6B076682E14D9E598ACA7AFB4C870 | V38: =N38 -> 0.28
A39: 5A113654B3C0757B4AC4A0950782CBB87432CF | B39: 내선전공 | C39: 일반공사 직종 | D39: 인 | F39: =SUM(V38:V38) -> 0.28 | K39: =TRUNC(ROUNDDOWN(F39,공량설정_일위대가!C21+1)*공량설정_일위대가!B20/100, 공량설정_일위대가!C21) -> 0.28 | O39: 노임 1 | Q39: 5A83766DB2307993DAB40535569F22 | T39: 5A83766DB2307993DAB40535569F225A113654B3C0757B4AC4A0950782CBB87432CF
B40: 러그단자 동관단자, 1홀, 35 ㎟ 개 (호표 9)
A41: 5DE276F5E7507F824AB43B05939FB98844E051 | B41: 러그단자 | C41: 러그단자, 동관단자, 1홀, 35㎟ | D41: 개 | E41: 전기품셈 4-37 | F41: 1 | G41: 0 | K41: 1 | L41: 저압케이블전공 | M41: =0.108*(H41+100)/100*(I41+100)/100*(J41+100)/100 -> 0.108 | N41: =F41*M41 -> 0.108 | O41: 노임 2 | P41: 0.108*1 | Q41: 5A83766DB2307993DAB405652C2AF6 | R41: 5A113654B3C0757B4AC4A0950782CBB87432C2 | S41: 0.108 | T41: 5A83766DB2307993DAB405652C2AF65DE276F5E7507F824AB43B05939FB98844E051 | X41: =N41 -> 0.108
A42: 5A113654B3C0757B4AC4A0950782CBB87432C2 | B42: 저압케이블전공 | C42: 일반공사 직종 | D42: 인 | F42: =SUM(X41:X41) -> 0.108 | K42: =TRUNC(ROUNDDOWN(F42,공량설정_일위대가!C23+1)*공량설정_일위대가!B22/100, 공량설정_일위대가!C23) -> 0.1 | O42: 노임 2 | Q42: 5A83766DB2307993DAB405652C2AF6 | T42: 5A83766DB2307993DAB405652C2AF65A113654B3C0757B4AC4A0950782CBB87432C2
B43: 행가설치(스트롱앙카) 복스 개소 (호표 12)
A44: 5DE2F6CB38D07877630453A537A21D4E85ED86 | B44: 스트롱앵커 | C44: 스트롱앵커, M10, 9.5mm | D44: 개 | E44: 전기품셈 5-29 | F44: 1 | G44: 0 | K44: 1 | L44: 내선전공 | M44: =0.036*(H44+100)/100*(I44+100)/100*(J44+100)/100 -> 0.036 | N44: =F44*M44 -> 0.036 | O44: 노임 1 | P44: 0.036*1 | Q44: 5A83766DBA007FEB44A4EFC593C2CF | R44: 5A113654B3C0757B4AC4A0950782CBB87432CF | S44: 0.036 | T44: 5A83766DBA007FEB44A4EFC593C2CF5DE2F6CB38D07877630453A537A21D4E85ED86 | V44: =N44 -> 0.036
A45: 5DE276F5E7507F851D041DE55B08219F85CF26 | B45: 아웃렛박스 | C45: 아웃렛박스, 중형4각, 54mm | D45: 개 | E45: 전기품셈 5-3 | F45: 1 | G45: 0 | H45: -10 | K45: 1 | L45: 내선전공 | M45: =0.04*(H45+100)/100*(I45+100)/100*(J45+100)/100 -> 0.036 | N45: =F45*M45 -> 0.036 | O45: 노임 1 | P45: 0.04*1 * 90% | Q45: 5A83766DBA007FEB44A4EFC593C2CF | R45: 5A113654B3C0757B4AC4A0950782CBB87432CF | S45: 0.04 | T45: 5A83766DBA007FEB44A4EFC593C2CF5DE276F5E7507F851D041DE55B08219F85CF26 | V45: =N45 -> 0.036
A46: 5A113654B3C0757B4AC4A0950782CBB87432CF | B46: 내선전공 | C46: 일반공사 직종 | D46: 인 | F46: =SUM(V44:V45) -> 0.072 | K46: =TRUNC(ROUNDDOWN(F46,공량설정_일위대가!C25+1)*공량설정_일위대가!B24/100, 공량설정_일위대가!C25) -> 0.07 | O46: 노임 1 | Q46: 5A83766DBA007FEB44A4EFC593C2CF | T46: 5A83766DBA007FEB44A4EFC593C2CF5A113654B3C0757B4AC4A0950782CBB87432CF

Sheet 공량설정_일위대가
A1: 일위대가 | B1: 적용율(%) | C1: 소수점이하자릿수 | D1: 일위대가 코드
A2: 난연 비닐절연접지용전선(F-GV)-관내 0.6/1kv, 10㎟ (호표 2) | B2: 100 | D2: 5A83766833F074AF77B417A5D9A7DF
A3: 내선전공 | C3: 3 | D3: 5A83766833F074AF77B417A5D9A7DF5A113654B3C0757B4AC4A0950782CBB87432CF
A4: 난연 비닐절연접지용전선(F-GV)-관내 0.6/1kv, 16㎟ (호표 3) | B4: 100 | D4: 5A83766833F074AF77B417A5D9A638
A5: 내선전공 | C5: 3 | D5: 5A83766833F074AF77B417A5D9A6385A113654B3C0757B4AC4A0950782CBB87432CF
A6: 1종금속제가요전선관 고장력, 42mm, 방수 (호표 1) | B6: 100 | D6: 5A8376683020700B65E4A4C5057B91
A7: 내선전공 | C7: 3 | D7: 5A8376683020700B65E4A4C5057B915A113654B3C0757B4AC4A0950782CBB87432CF
A8: 0.6/1kv 저독성난연폴리올레핀전력케이블 HFCO, 4C 35㎟ (호표 6) | B8: 100 | D8: 5A83766832E07DBE46E4C095591C12
A9: 저압케이블전공 | C9: 2 | D9: 5A83766832E07DBE46E4C095591C125A113654B3C0757B4AC4A0950782CBB87432C2
A10: 0.6/1kv 저독성난연폴리올레핀전력케이블 HFCO, 3C 2.5㎟ (호표 4) | B10: 100 | D10: 5A83766832E07DBE46E4B625EFC091
A11: 저압케이블전공 | C11: 3 | D11: 5A83766832E07DBE46E4B625EFC0915A113654B3C0757B4AC4A0950782CBB87432C2
A12: 0.6/1kv 저독성난연폴리올레핀전력케이블 HFCO, 4C 10㎟ (호표 5) | B12: 100 | D12: 5A83766832E07DBE46E4C095591108
A13: 저압케이블전공 | C13: 2 | D13: 5A83766832E07DBE46E4C0955911085A113654B3C0757B4AC4A0950782CBB87432C2
A14: 연결박스·커버 4각 (호표 8) | B14: 100 | D14: 5A83766DB2307993DAB40535569C59
A15: 내선전공 | C15: 2 | D15: 5A83766DB2307993DAB40535569C595A113654B3C0757B4AC4A0950782CBB87432CF
A16: 전선관 철거 FLEX 22C (호표 10) | B16: 100 | D16: 5A83766DB110728970C412F5CE8F91
A17: 내선전공 | C17: 2 | D17: 5A83766DB110728970C412F5CE8F915A113654B3C0757B4AC4A0950782CBB87432CF
A18: 분전반설치 PP-EHP (호표 11) | B18: 100 | D18: 5A83766DB0007CBC9514CE25B340B8
A19: 내선전공 | C19: 3 | D19: 5A83766DB0007CBC9514CE25B340B85A113654B3C0757B4AC4A0950782CBB87432CF
A20: 전선덕트 알루미늄, 150*100mm (호표 7) | B20: 100 | D20: 5A83766DB2307993DAB40535569F22
A21: 내선전공 | C21: 2 | D21: 5A83766DB2307993DAB40535569F225A113654B3C0757B4AC4A0950782CBB87432CF
A22: 러그단자 동관단자, 1홀, 35 ㎟ (호표 9) | B22: 100 | D22: 5A83766DB2307993DAB405652C2AF6
A23: 저압케이블전공 | C23: 1 | D23: 5A83766DB2307993DAB405652C2AF65A113654B3C0757B4AC4A0950782CBB87432C2
A24: 행가설치(스트롱앙카) 복스 (호표 12) | B24: 100 | D24: 5A83766DBA007FEB44A4EFC593C2CF
A25: 내선전공 | C25: 2 | D25: 5A83766DBA007FEB44A4EFC593C2CF5A113654B3C0757B4AC4A0950782CBB87432CF

Sheet  공사설정 
A1: 이 Sheet는 수정하지 마십시요
A2: 공사구분 | B2: D | C2: 타이틀
A3: 확정내역 | B3: 원내역
A4: 자재단가적용 | B4: 5
A5: 경비단가적용 | B5: 5
A6: 품목코드형식 | B6: XXXX-XXXX-XXXXXXXXX
A7: 내역금액소수점처리 | B7: C | C7: 1
A8: 일위대가내역소수점처리 | B8: C | C8: 2
A9: 단가명 | B9: 조달청가격 | C9: 거래가격 | D9: 유통물가 | E9: 물가자료 | F9: 조사가격 | G9: FTTTT
A10: 환율 | B10: 1267 | C10: 0 | D10: 0
A11: 시간당작업량 | B11: R | C11: 4
A12: 1회 사이클시간 | B12: R | C12: 4
A13: 시간당 작업사이클 | B13: R | C13: 3
A14: 일반변수 | B14: R | C14: 5
A15: 시간당 노임산출 계수 | B15: A | C15: 1/8*16/12*25/20 | D15: 1/8*16/12*25/20 | E15: 1/8*16/12*25/20 | F15: 1
A16: 재료비 할증 계수 | B16: 1.11 | C16: 1.12
A17: 노무비 할증 계수 | B17: 1 | C17: 1.5 | D17: 1.16 | E17: 1.6 | F17: 1.6 | G17: 1.6 | H17: 1.94 | I17: 1.94 | J17: 1.94 | K17: 1 | L17: 1 | M17: 1
A18: 경비 할증 계수 | B18: 1.25 | C18: 1.071
A19: 내역,일위대가 품명,규격,단위 따로적용
A20: 내역단가 소수점처리 | B20: C | C20: 1
A21: 코드 | B21: 공종구분명 | C21: 원가비목코드
A22: 1 | B22: 작 업 부 산 물 | C22: A3
A23: 2 | B23: 운 반 비 | C23: C1
A24: 3 | B24: 관 급 자 재 비 | C24: DJ
A25: 4 | B25: 사 급 자 재 비 | C25: D3
A26: 5 | B26: 외 자 재
A27: 6 | B27: ...
A28: 7 | B28: ...
A29: 8 | B29: ...
A30: 9 | B30: ...
A43: 단가 순서 | B43: 1234

Sheet Sheet1
