Workbook
Name a: 원가!집
Name AAAA: 간지!AAAAA
Name AAAA: 원가!AAAAA
Name AAAA: '집계표(건축)'!AAAAA
Name AAAA: [0]!AAAAA
Name AAAAA: #N/A
Name AAAAA: 원가!AAAAA
Name AAAAA: '집계표(건축)'!AAAAA
Name AAAAA: 원가!AAAAA
Name aer: #REF!,#REF!
Name aer: #REF!,#REF!
Name aer: #REF!,#REF!
Name gu: #REF!,#REF!
Name gu: #REF!,#REF!
Name gu: #REF!,#REF!
Name Print_Area_MI: #REF!
Name Print_Area_MI: #REF!
Name Print_Area_MI: #REF!
Name RT: #REF!,#REF!,#REF!
Name RT: #REF!,#REF!,#REF!
Name RT: #REF!,#REF!,#REF!
Name rty: #REF!,#REF!
Name rty: #REF!,#REF!
Name rty: #REF!,#REF!
Name sr: #REF!,#REF!
Name sr: #REF!,#REF!
Name sr: #REF!,#REF!
Name ㄱㄱㄱ: 간지!집
Name ㄱㄱㄱ: [0]!집
Name ㄱㄱㄱ: 집
Name 가설: 간지!템플리트모듈6
Name 가설: 원가!템플리트모듈6
Name 가설: '집계표(건축)'!템플리트모듈6
Name 가설: [0]!템플리트모듈6
Name 감감: 간지!감감
Name 감감: 원가!감감
Name 감감: [0]!감감
Name 감삼: 간지!감삼
Name 감삼: 원가!감삼
Name 감삼: [0]!감삼
Name 감삼준: 간지!템플리트모듈6
Name 감삼준: [0]!템플리트모듈6
Name 감삼준: 템플리트모듈6
Name 공정: 간지!공정
Name 공정: 원가!공정
Name 공정: [0]!공정
Name 관급: 간지!관급
Name 관급: 원가!관급
Name 관급: '집계표(건축)'!관급
Name 관급: [0]!관급
Name 관급1: 간지!관급
Name 관급1: 원가!관급
Name 관급1: '집계표(건축)'!관급
Name 관급1: 관급
Name 관급2: 간지!관급2
Name 관급2: 원가!관급2
Name 관급2: '집계표(건축)'!관급2
Name 관급2: [0]!관급2
Name 관급자재2: 간지!관급자재2
Name 관급자재2: 원가!관급자재2

Sheet 표지
A2: 성가요양원 승강기 설치공사
A3: 설 계 내 역 서
A4: ( 건축 )
A10: 2026.

Sheet 갑지(건축)
A1: 설 계 서 용 지 (갑지)
A2: 설계자 | B2: 세움터건축사 사무소 | C2: 담당자 | E2: 팀 장 | G2: 과 장 | I2: 2026년 월 설계
B4: 2026년도
B6: 공 사 명 : | D6: =표지!A2 -> 성가요양원 승강기 설치공사
D7: =표지!A4 -> ( 건축 )
B9: 공 사 개 요 : | C9: 1. | D9: 대 지 위 치 : | E9: 경상북도 칠곡군 동명면 구덕리 120-1번지외1필지
C10: 2. | D10: 동 별 개 요 : | E10: 주10동
C11: 3. | D11: 공 사 규 모 : | E11: 승강기 설치 ( 2STOP)
C12: 4 | D12: 구 조 : | E12: 일반철골조 / 샌드위치판넬지붕
D16: 1) 건축공사 1식
D17: 도 급 금 액 | E17: : | F17: =원가!D36 -> 0 | G17: 원 | H17: ="(￦"&NUMBERSTRING((F17),1)&"원)" -> (￦영원)
D21: 총 공 사 비 | E21: : | F21: =SUM(F17:F20) -> 0 | G21: 원 | H21: ="(￦"&NUMBERSTRING((F21),1)&"원)" -> (￦영원)
B24: 평당 공사비
B25: 84.12 | C25: M2 | D25: 관급 자재대 (도급자) | E25: : | F25: =#REF! -> #REF! | G25: 원 | H25: ="(￦"&NUMBERSTRING((F25),1)&"원)" -> #REF!
B26: =B25*0.3025 -> 25.4463 | C26: 평 | D26: 관급 자재대 (관급자) | E26: : | F26: =원가!D46 -> 0 | G26: 원 | H26: ="(￦"&NUMBERSTRING((F26),1)&"원)" -> (￦영원)
B27: =F21/B26 -> 0 | C27: 원

Sheet 원가
A1: 공 사 원 가 계 산 서
A2: 공사명 : | C2: =표지!A2 -> 성가요양원 승강기 설치공사 | F2: 공기 : | G2: 90
A3: 비 목 | D3: 금 액 | F3: 구성비 | G3: 비 고
A4: 순 공 사 원 가 | B4: 재료비 | C4: 직 접 재 료 비 | D4: ='집계표(건축)'!F20 -> 0
C5: 간 접 재 료 비
C6: 소 계 | D6: =SUM(D4:D5) -> 0 | K6: =원가!D4+원가!D7+원가!D10 -> 0
B7: 노무비 | C7: 직 접 노 무 비 | D7: ='집계표(건축)'!H20 -> 0 | J7: 직접공사비(재+노+경) | K7: 10억미만 | L7: 10-50억미만
C8: 간 접 노 무 비 | D8: =(D7)*K8 -> 0 | F8: ="직.노*"&K8*100&"%" -> 직.노*17.5% | J8: 6개월 미만 | K8: 0.175 | L8: 0.174
C9: 소 계 | D9: =D7+D8 -> 0 | J9: 6~12개월 미만 | K9: 0.179 | L9: 0.178
B10: 경 비 | C10: 산 출 경 비 | D10: ='집계표(건축)'!J20 -> 0
C11: 공 통 가 설 비 | D11: ='집계표(건축)'!L5 -> 0
C12: 산 재 보 험 료 | D12: =INT(D9*K12) -> 0 | F12: ="(노)*"&K12*100&"%" -> (노)*3.56% | G12: 모든건설공사 | K12: 0.0356
C13: 고 용 보 험 료 | D13: =INT(D9*K13) -> 0 | F13: ="(노)*"&K13*100&"%" -> (노)*1.01% | G13: 모든건설공사 | K13: 0.0101 | L13: 추정2천미만-제외
C14: 국민 건강 보험료 | D14: =INT(D7*K14) -> 0 | F14: ="(직.노)*"&K14*100&"%" -> (직.노)*3.595% | G14: 공기 1개월이상공사 | H14: 도급관급(수수제외) | I14: ='집계표(건축)'!O23 -> 0 | J14: 0 | K14: 0.03595
C15: 국민 연금 보험료 | D15: =INT(D7*K15) -> 0 | F15: ="(직.노)*"&K15*100&"%" -> (직.노)*4.75% | G15: 공기 1개월이상공사 | H15: 재+직노+도급관급 | I15: =D6+D7+I14 -> 0 | J15: 5악이상 1.86%+5.349 | K15: 0.0475
C16: 노인 장기요양보험 | D16: =INT(D14*K16) -> 0 | F16: ="(건강)*"&K16*100&"%" -> (건강)*13.14% | G16: 공기 1개월이상공사 | H16: 안전관리비기초액 | I16: 4325000 | K16: 0.1314
C17: 퇴 직 공 제 부 금 비 | D17: =INT(D7*K17) -> 0 | F17: ="(직.노)*"&K17*100&"%" -> (직.노)*2.3% | G17: 추정금액 1억이상 | H17: 관급 무(5억미만) | I17: 관급 유(5억미만) | J17: 관급 유(5억이상) | K17: 0.023 | L17: 공공1억+미간50억
C18: 산업 안전보건관리비 | D18: =G18 -> 0 | F18: ="(재+직.노)*"&K19*100&"%" -> (재+직.노)*3.11% | G18: =H18 -> 0 | H18: =(D6+D7)*K19 -> 0 | I18: =(D6+D7)*K19*1.2 -> 0 | J18: =((D6+D7)*L19+I16)*1.2 -> 5190000 | K18: (도급+관급)=2천이상적용
F19: ="(재+직.노+관급/1.1)*"&K19*100&"%" -> (재+직.노+관급/1.1)*3.11% | G19: =H19 -> 0 | H19: 0 | I19: =(D6+D7+(I14/1.1))*K19 -> 0 | J19: =(D6+D7+(I14/1.1))*L19+I16 -> 4325000 | K19: 0.0311 | L19: 0.0228
C20: 안전 관리비 (PS항목) | G20: 건기법 제63조(모든공사) | H20: 최저값 | I20: =SMALL(G18:G19,1) -> 0
C21: 품질시험비 (PS 항목) | G21: 건기법 제55조
C22: 환 경 보 전 비 | D22: =INT(D6+D7+D10)*K22 -> 0 | F22: ="(재+직.노+기.경)*"&K22*100&"%" -> (재+직.노+기.경)*0.3% | G22: 전문적용 | K22: 0.003
C23: 건설하도급대금지급보증수수료 | D23: =INT(D6+D7+D10)*K23*0 -> 0 | F23: ="(재+직.노+기.경)*"&K23*100&"%" -> (재+직.노+기.경)*0.081% | G23: 전문공사 제외 | K23: 0.00081
C24: 건설기계대여대금지급보증서 | D24: =INT(D6+D7+D10)*K24 -> 0 | F24: ="(재+직.노+기.경)*"&K24*100&"%" -> (재+직.노+기.경)*0.07% | G24: 건축공사 적용 | K24: 0.0007
C25: 기 타 경 비 | D25: =INT((D6+D9)*K25) -> 0 | F25: ="(재+노)*"&K25*100&"%" -> (재+노)*5% | J25: 6개월 미만 | K25: 0.05 | L25: 0.052
C26: 석 면 분 담 금 | D26: =INT((D9)*0.006%) -> 0 | F26: ="(노)*0.006%" -> (노)*0.006% | G26: 모든건설공사 | J26: 6~12개월 미만 | K26: 0.052 | L26: 0.054
C27: 임 금 채 권 부 담 금 | D27: =INT((D9)*0.09%) -> 0 | F27: ="(노)*0.09%" -> (노)*0.09% | G27: 모든건설공사
C28: 소 계 | D28: =SUM(D10:D27) -> 0
B29: '순 공 사 비 | D29: =D6+D9+D28 -> 0 | F29: (재+노+경)
C30: ' 일 반 관 리 비 | D30: =(D6+D9+D28)*K30 -> 0 | F30: ="(재+노+경)*"&K30*100&"%" -> (재+노+경)*8% | K30: 0.08
C31: '이 윤 | D31: =INT((D9+D28+D30)*K31) -> 0 | F31: ="(노+경+일)*"&K31*100&"%" -> (노+경+일)*15% | K31: 0.15
C32: '승 강 기 구 입 설 치 | D32: ='집계표(건축)'!L22 -> 0
C33: '폐 기 물 처 리 비 | D33: ='집계표(건축)'!L23 -> 0
C34: '총 원 가 | D34: =ROUNDDOWN(SUM(D29:D33),-4) -> 0
C35: '부 가 가 치 세 | D35: =D34*K35 -> 0 | F35: ="(총원가)*"&K35*100&"%" -> (총원가)*10% | K35: 0.1
C36: '도 급 공 사 금 액 | D36: =D34+D35 -> 0
C37: '관 급 자 재 대 ( 도급자 )
C38: '관 급 자 재 대 ( 관급자 )
C39: '총 공 사 금 액 ( 도급+관급) | D39: =D36+D37+D38 -> 0
C41: 'PS항목 (품질시험비)
...

Sheet 집계표(건축)
A1: 집 계 표
B2: =CONCATENATE(N2,N3) -> 공사명 : 성가요양원 승강기 설치공사 | N2: 공사명 :
A3: 품 명 | C3: 단위 | D3: 수량 | E3: 재 료 비 | G3: 노 무 비 | I3: 경 비 | K3: 합 계 | M3: 비고 | N3: =표지!A2 -> 성가요양원 승강기 설치공사
E4: 단 가 | F4: 금 액 | G4: 단 가 | H4: 금 액 | I4: 단 가 | J4: 금 액 | K4: 단 가 | L4: 금 액
A5: 1 | B5: 공통가설비 | C5: 식 | D5: 1 | F5: =내역서!F27 -> 0 | H5: =내역서!H27 -> 0 | J5: =내역서!J27 -> 0 | K5: =E5+G5+I5 -> 0 | L5: =F5+H5+J5 -> 0 | M5: 합계제외 | O5: 합계제외
A6: 2 | B6: 가설 | C6: 식 | D6: 1 | F6: =내역서!F50 -> 0 | H6: =내역서!H50 -> 0 | J6: =내역서!J50 -> 0 | K6: =E6+G6+I6 -> 0 | L6: =F6+H6+J6 -> 0
A7: 3 | B7: 토 | C7: 식 | D7: 1 | F7: =내역서!F73 -> 0 | H7: =내역서!H73 -> 0 | J7: =내역서!J73 -> 0 | K7: =E7+G7+I7 -> 0 | L7: =F7+H7+J7 -> 0
A8: 4 | B8: 철근콘크리트 | C8: 식 | D8: 1 | F8: =내역서!F96 -> 0 | H8: =내역서!H96 -> 0 | J8: =내역서!J96 -> 0 | K8: =E8+G8+I8 -> 0 | L8: =F8+H8+J8 -> 0
A9: 5 | B9: 철골 | C9: 식 | D9: 1 | F9: =내역서!F142 -> 0 | H9: =내역서!H142 -> 0 | J9: =내역서!J142 -> 0 | K9: =E9+G9+I9 -> 0 | L9: =F9+H9+J9 -> 0
A10: 6 | B10: 조적 | C10: 식 | D10: 1 | F10: =내역서!F165 -> 0 | H10: =내역서!H165 -> 0 | J10: =내역서!J165 -> 0 | K10: =E10+G10+I10 -> 0 | L10: =F10+H10+J10 -> 0
A11: 7 | B11: 방수 | C11: 식 | D11: 1 | F11: =내역서!F188 -> 0 | H11: =내역서!H188 -> 0 | J11: =내역서!J188 -> 0 | K11: =E11+G11+I11 -> 0 | L11: =F11+H11+J11 -> 0
A12: 8 | B12: 미장 | C12: 식 | D12: 1 | F12: =내역서!F211 -> 0 | H12: =내역서!H211 -> 0 | J12: =내역서!J211 -> 0 | K12: =E12+G12+I12 -> 0 | L12: =F12+H12+J12 -> 0
A13: 9 | B13: 석 | C13: 식 | D13: 1 | F13: =내역서!F234 -> 0 | H13: =내역서!H234 -> 0 | J13: =내역서!J234 -> 0 | K13: =E13+G13+I13 -> 0 | L13: =F13+H13+J13 -> 0
A14: 10 | B14: 수장 | C14: 식 | D14: 1 | F14: =내역서!F257 -> 0 | H14: =내역서!H257 -> 0 | J14: =내역서!J257 -> 0 | K14: =E14+G14+I14 -> 0 | L14: =F14+H14+J14 -> 0
A15: 11 | B15: 금속 | C15: 식 | D15: 1 | F15: =내역서!F280 -> 0 | H15: =내역서!H280 -> 0 | J15: =내역서!J280 -> 0 | K15: =E15+G15+I15 -> 0 | L15: =F15+H15+J15 -> 0
A16: 12 | B16: 도장 | C16: 식 | D16: 1 | F16: =내역서!F303 -> 0 | H16: =내역서!H303 -> 0 | J16: =내역서!J303 -> 0 | K16: =E16+G16+I16 -> 0 | L16: =F16+H16+J16 -> 0
A17: 13 | B17: 철거 | C17: 식 | D17: 1 | F17: =내역서!F326 -> 0 | H17: =내역서!H326 -> 0 | J17: =내역서!J326 -> 0 | K17: =E17+G17+I17 -> 0 | L17: =F17+H17+J17 -> 0
A18: 14 | B18: 골재대 | C18: 식 | D18: 1 | F18: =내역서!F349 -> 0 | H18: =내역서!H349 -> 0 | J18: =내역서!J349 -> 0 | K18: =E18+G18+I18 -> 0 | L18: =F18+H18+J18 -> 0
A20: 합 계 ( 2 ~ 14 ) | F20: =SUM(F6:F19) -> 0 | H20: =SUM(H6:H19) -> 0 | J20: =SUM(J6:J19) -> 0 | L20: =F20+H20+J20 -> 0
P21: 2373 4421
A22: 15 | B22: 승강기구입설치 | C22: 식 | D22: 1 | F22: =내역서!F372 -> 0 | H22: =내역서!H372 -> 0 | J22: =내역서!J372 -> 0 | K22: =E22+G22+I22 -> 0 | L22: =F22+H22+J22 -> 0 | M22: 원가산입 | P22: 2373 4440
A23: 16 | B23: 페기물 처리비 | C23: 식 | D23: 1 | F23: =내역서!F395 -> 0 | H23: =내역서!H395 -> 0 | J23: =내역서!J395 -> 0 | K23: =E23+G23+I23 -> 0 | L23: =F23+H23+J23 -> 0 | M23: 원가산입 | N23: 수수료제외 | O23: =내역서!E192 -> 0
B29: 공통가설비
B30: 골재대
B31: 작업부산물
B32: 폐기물처리비
B33: 안전관리비(PS항목)
B34: 품질관리비(PS항목)
B35: 관급자재대(도급자)
B36: 관급자재대(관급자)

Sheet 내역서
A1: 내 역 서
A2: 공사명 : 성가요양원 승강기 설치공사
A3: 품 명 | B3: 규 격 | C3: 단위 | D3: 수 량 | E3: 재 료 비 | G3: 노 무 비 | I3: 경 비 | K3: 합 계 | M3: 비고
E4: 단 가 | F4: 금 액 | G4: 단 가 | H4: 금 액 | I4: 단 가 | J4: 금 액 | K4: 단 가 | L4: 금 액 | N4: 손료요율 | O4: 손료구분 | P4: 적용구분 | Q4: 합계구분 | R4: 기계경비 | S4: 운반비 | T4: 작업부산물 | U4: 관급 | V4: 외주비 | W4: 장비비 | X4: 폐기물처리비 | Y4: 가설비 | Z4: 잡비제외분 | AA4: 사급자재대 | AB4: 관급자재대 | AC4: 관급자 관급 자재대 | AD4: 사용자항목2 | AE4: 설계안전성 검토비 | AF4: 품질관리비(PS항목) | AG4: 작업부산물(철거해체) | AH4: 기술지도 용역비 | AI4: 도급자 관급 자재대 | AJ4: 해체계획서 작성비 | AK4: 안전관리비(PS항목) | AL4: 사용자항목10 | AM4: 사용자항목11 | AN4: 사용자항목12 | AO4: 사용자항목13 | AP4: 사용자항목14 | AQ4: 사용자항목15 | AR4: 사용자항목16 | AS4: 사용자항목17 | AT4: 사용자항목18 | AU4: 사용자항목19 | AV4: 간접재료비 | AW4: 품목구분 | AX4: 조달코드 | AY4: 구분
A5: 01. 공통가설비
A6: EGI휀스 | B6: H=2.4m, 3개월 | C6: M | D6: 17 | O6: ="" | P6: 가설비 | Q6: 1 | R6: =IF(P6="기계경비", J6, 0) -> 0 | S6: =IF(P6="운반비", L6, 0) -> 0 | T6: =IF(P6="작업부산물", F6, 0) -> 0 | U6: =IF(P6="관급", F6, 0) -> 0 | V6: =IF(P6="외주비", J6, 0) -> 0 | W6: =IF(P6="장비비", J6, 0) -> 0 | X6: =IF(P6="폐기물처리비", L6, 0) -> 0 | Y6: =IF(P6="가설비", L6, 0) -> 0 | Z6: =IF(P6="잡비제외분", F6, 0) -> 0 | AA6: =IF(P6="사급자재대", L6, 0) -> 0 | AB6: =IF(P6="관급자재대", L6, 0) -> 0 | AC6: =IF(P6="관급자 관급 자재대", L6, 0) -> 0 | AD6: =IF(P6="사용자항목2", L6, 0) -> 0 | AE6: =IF(P6="설계안전성 검토비", L6, 0) -> 0 | AF6: =IF(P6="품질관리비(PS항목)", L6, 0) -> 0 | AG6: =IF(P6="작업부산물(철거해체)", L6, 0) -> 0 | AH6: =IF(P6="기술지도 용역비", L6, 0) -> 0 | AI6: =IF(P6="도급자 관급 자재대", L6, 0) -> 0 | AJ6: =IF(P6="해체계획서 작성비", L6, 0) -> 0 | AK6: =IF(P6="안전관리비(PS항목)", L6, 0) -> 0 | AL6: =IF(P6="사용자항목10", L6, 0) -> 0 | AM6: =IF(P6="사용자항목11", L6, 0) -> 0 | AN6: =IF(P6="사용자항목12", L6, 0) -> 0 | AO6: =IF(P6="사용자항목13", L6, 0) -> 0 | AP6: =IF(P6="사용자항목14", L6, 0) -> 0 | AQ6: =IF(P6="사용자항목15", L6, 0) -> 0 | AR6: =IF(P6="사용자항목16", L6, 0) -> 0 | AS6: =IF(P6="사용자항목17", L6, 0) -> 0 | AT6: =IF(P6="사용자항목18", L6, 0) -> 0 | AU6: =IF(P6="사용자항목19", L6, 0) -> 0
A7: 공사용안전가림막설치 | B7: 판넬50T, 정첩 및 시건장치 포함 | C7: M2 | D7: 30 | O7: ="" | P7: 가설비 | Q7: 1 | R7: =IF(P7="기계경비", J7, 0) -> 0 | S7: =IF(P7="운반비", L7, 0) -> 0 | T7: =IF(P7="작업부산물", F7, 0) -> 0 | U7: =IF(P7="관급", F7, 0) -> 0 | V7: =IF(P7="외주비", J7, 0) -> 0 | W7: =IF(P7="장비비", J7, 0) -> 0 | X7: =IF(P7="폐기물처리비", L7, 0) -> 0 | Y7: =IF(P7="가설비", L7, 0) -> 0 | Z7: =IF(P7="잡비제외분", F7, 0) -> 0 | AA7: =IF(P7="사급자재대", L7, 0) -> 0 | AB7: =IF(P7="관급자재대", L7, 0) -> 0 | AC7: =IF(P7="관급자 관급 자재대", L7, 0) -> 0 | AD7: =IF(P7="사용자항목2", L7, 0) -> 0 | AE7: =IF(P7="설계안전성 검토비", L7, 0) -> 0 | AF7: =IF(P7="품질관리비(PS항목)", L7, 0) -> 0 | AG7: =IF(P7="작업부산물(철거해체)", L7, 0) -> 0 | AH7: =IF(P7="기술지도 용역비", L7, 0) -> 0 | AI7: =IF(P7="도급자 관급 자재대", L7, 0) -> 0 | AJ7: =IF(P7="해체계획서 작성비", L7, 0) -> 0 | AK7: =IF(P7="안전관리비(PS항목)", L7, 0) -> 0 | AL7: =IF(P7="사용자항목10", L7, 0) -> 0 | AM7: =IF(P7="사용자항목11", L7, 0) -> 0 | AN7: =IF(P7="사용자항목12", L7, 0) -> 0 | AO7: =IF(P7="사용자항목13", L7, 0) -> 0 | AP7: =IF(P7="사용자항목14", L7, 0) -> 0 | AQ7: =IF(P7="사용자항목15", L7, 0) -> 0 | AR7: =IF(P7="사용자항목16", L7, 0) -> 0 | AS7: =IF(P7="사용자항목17", L7, 0) -> 0 | AT7: =IF(P7="사용자항목18", L7, 0) -> 0 | AU7: =IF(P7="사용자항목19", L7, 0) -> 0
A27: 합 계 | F27: =ROUNDDOWN(SUMIF(Q6:Q26, "1", F6:F26), 0) -> 0 | H27: =ROUNDDOWN(SUMIF(Q6:Q26, "1", H6:H26), 0) -> 0 | J27: =ROUNDDOWN(SUMIF(Q6:Q26, "1", J6:J26), 0) -> 0 | L27: =F27+H27+J27 -> 0 | R27: =ROUNDDOWN(SUM(R6:R7), 0) -> 0 | S27: =ROUNDDOWN(SUM(S6:S7), 0) -> 0 | T27: =ROUNDDOWN(SUM(T6:T7), 0) -> 0 | U27: =ROUNDDOWN(SUM(U6:U7), 0) -> 0 | V27: =ROUNDDOWN(SUM(V6:V7), 0) -> 0 | W27: =ROUNDDOWN(SUM(W6:W7), 0) -> 0 | X27: =ROUNDDOWN(SUM(X6:X7), 0) -> 0 | Y27: =ROUNDDOWN(SUM(Y6:Y7), 0) -> 0 | ... AY27: =ROUNDDOWN(SUM(AY6:AY7), 0) -> 0
A28: 02. 가설공사
A29: 시스템비계(계단/난간) | B29: 2637mm, 3개월(설치는비계에포함) | C29: 조 | D29: 2
A30: 비계주위 보호막 | B30: 설치및해체는 비계에포함 | C30: M2 | D30: 113.3
A31: 시스템비계(발판2열) 10m 이하 | B31: 3개월 | C31: M2 | D31: 161.6
A32: 고소작업대 스카이(폐기물하역) | B32: 1~3.5TON (28M급) | C32: 일 | D32: 1
A33: 바닥보양 | B33: 하드롱지 | C33: M2 | D33: 104.4
A34: 입주청소 | C34: M2 | D34: 104.4
A35: 건축물현장정리 | B35: 철골조 | C35: M2 | D35: 21.7
A50: 합 계 | F50: =ROUNDDOWN(SUMIF(Q29:Q49, "1", F29:F49), 0) -> 0 | H50: =ROUNDDOWN(SUMIF(Q29:Q49, "1", H29:H49), 0) -> 0 | J50: =ROUNDDOWN(SUMIF(Q29:Q49, "1", J29:J49), 0) -> 0 | L50: =F50+H50+J50 -> 0 | R50: =ROUNDDOWN(SUM(R29:R36), 0) -> 0 | S50: =ROUNDDOWN(SUM(S29:S36), 0) -> 0 | T50: =ROUNDDOWN(SUM(T29:T36), 0) -> 0 | U50: =ROUNDDOWN(SUM(U29:U36), 0) -> 0 | V50: =ROUNDDOWN(SUM(V29:V36), 0) -> 0 | W50: =ROUNDDOWN(SUM(W29:W36), 0) -> 0 | X50: =ROUNDDOWN(SUM(X29:X36), 0) -> 0 | Y50: =ROUNDDOWN(SUM(Y29:Y36), 0) -> 0 | ... AY50: =ROUNDDOWN(SUM(AY29:AY36), 0) -> 0
A51: 03. 토공사
A52: 터파기(기계) | B52: 보통, 유압식백호 0.4m3, 점질토(주택가) | C52: M3 | D52: 70.4
A53: 되메우기/토사 | B53: 굴착기 0.4m3 | C53: M3 | D53: 44.4
A54: 잔토처리(백호우0.4M3) | B54: 토사,5KM,담프15톤 | C54: M3 | D54: 26
A55: 발포폴리스티렌 바닥깔기 | B55: 110mm(가등급) | C55: M2 | D55: 14.4
A56: 방습필름설치 | B56: 바닥 0.03mm*2겹 | C56: M2 | D56: 14.4
A57: 자갈(쇄석)깔기지정 | B57: 굴삭기 0.2m3+진동롤러 | C57: M3 | D57: 2.2
A73: 합 계 | F73: =ROUNDDOWN(SUMIF(Q52:Q72, "1", F52:F72), 0) -> 0 | H73: =ROUNDDOWN(SUMIF(Q52:Q72, "1", H52:H72), 0) -> 0 | J73: =ROUNDDOWN(SUMIF(Q52:Q72, "1", J52:J72), 0) -> 0 | L73: =F73+H73+J73 -> 0 | R73: =ROUNDDOWN(SUM(R52:R57), 0) -> 0 | S73: =ROUNDDOWN(SUM(S52:S57), 0) -> 0 | T73: =ROUNDDOWN(SUM(T52:T57), 0) -> 0 | U73: =ROUNDDOWN(SUM(U52:U57), 0) -> 0 | V73: =ROUNDDOWN(SUM(V52:V57), 0) -> 0 | W73: =ROUNDDOWN(SUM(W52:W57), 0) -> 0 | X73: =ROUNDDOWN(SUM(X52:X57), 0) -> 0 | Y73: =ROUNDDOWN(SUM(Y52:Y57), 0) -> 0 | ... AY73: =ROUNDDOWN(SUM(AY52:AY57), 0) -> 0
A74: 04. 철근콘크리트공사
A75: 레미콘 | B75: 25-27-150(대구권) | C75: M3 | D75: 15 | O75: ="01" -> 01 | P75: 기계경비 | Q75: 1 | R75: =IF(P75="기계경비", J75, 0) -> 0 | S75: =IF(P75="운반비", L75, 0) -> 0 | T75: =IF(P75="작업부산물", F75, 0) -> 0 | U75: =IF(P75="관급", F75, 0) -> 0 | V75: =IF(P75="외주비", J75, 0) -> 0 | W75: =IF(P75="장비비", J75, 0) -> 0 | X75: =IF(P75="폐기물처리비", L75, 0) -> 0 | Y75: =IF(P75="가설비", J75, 0) -> 0 | Z75: =IF(P75="잡비제외분", F75, 0) -> 0 | AA75: =IF(P75="사급자재대", L75, 0) -> 0 | AB75: =IF(P75="관급자재대", L75, 0) -> 0 | AC75: =IF(P75="관급자 관급 자재대", L75, 0) -> 0 | AD75: =IF(P75="사용자항목2", L75, 0) -> 0 | AE75: =IF(P75="설계안전성 검토비", L75, 0) -> 0 | AF75: =IF(P75="품질관리비(PS항목)", L75, 0) -> 0 | AG75: =IF(P75="작업부산물(철거해체)", L75, 0) -> 0 | AH75: =IF(P75="기술지도 용역비", L75, 0) -> 0 | AI75: =IF(P75="도급자 관급 자재대", L75, 0) -> 0 | AJ75: =IF(P75="해체계획서 작성비", L75, 0) -> 0 | AK75: =IF(P75="안전관리비(PS항목)", L75, 0) -> 0 | AL75: =IF(P75="사용자항목10", L75, 0) -> 0 | AM75: =IF(P75="사용자항목11", L75, 0) -> 0 | AN75: =IF(P75="사용자항목12", L75, 0) -> 0 | AO75: =IF(P75="사용자항목13", L75, 0) -> 0 | AP75: =IF(P75="사용자항목14", L75, 0) -> 0 | AQ75: =IF(P75="사용자항목15", L75, 0) -> 0 | AR75: =IF(P75="사용자항목16", L75, 0) -> 0 | AS75: =IF(P75="사용자항목17", L75, 0) -> 0 | AT75: =IF(P75="사용자항목18", L75, 0) -> 0 | AU75: =IF(P75="사용자항목19", L75, 0) -> 0 | AY75: 삼일설계적산사무소
A76: 콘크리트 펌프카 | B76: 26m3이하 기준물량80~150(0.5일기준) | C76: 대 | D76: 1 | O76: ="03" -> 03 | P76: 기계경비 | Q76: 1 | R76: =IF(P76="기계경비", J76, 0) -> 0 | S76: =IF(P76="운반비", L76, 0) -> 0 | T76: =IF(P76="작업부산물", F76, 0) -> 0 | U76: =IF(P76="관급", F76, 0) -> 0 | V76: =IF(P76="외주비", J76, 0) -> 0 | W76: =IF(P76="장비비", J76, 0) -> 0 | X76: =IF(P76="폐기물처리비", L76, 0) -> 0 | Y76: =IF(P76="가설비", J76, 0) -> 0 | Z76: =IF(P76="잡비제외분", F76, 0) -> 0 | AA76: =IF(P76="사급자재대", L76, 0) -> 0 | AB76: =IF(P76="관급자재대", L76, 0) -> 0 | AC76: =IF(P76="관급자 관급 자재대", L76, 0) -> 0 | AD76: =IF(P76="사용자항목2", L76, 0) -> 0 | AE76: =IF(P76="설계안전성 검토비", L76, 0) -> 0 | AF76: =IF(P76="품질관리비(PS항목)", L76, 0) -> 0 | AG76: =IF(P76="작업부산물(철거해체)", L76, 0) -> 0 | AH76: =IF(P76="기술지도 용역비", L76, 0) -> 0 | AI76: =IF(P76="도급자 관급 자재대", L76, 0) -> 0 | AJ76: =IF(P76="해체계획서 작성비", L76, 0) -> 0 | AK76: =IF(P76="안전관리비(PS항목)", L76, 0) -> 0 | AL76: =IF(P76="사용자항목10", L76, 0) -> 0 | AM76: =IF(P76="사용자항목11", L76, 0) -> 0 | AN76: =IF(P76="사용자항목12", L76, 0) -> 0 | AO76: =IF(P76="사용자항목13", L76, 0) -> 0 | AP76: =IF(P76="사용자항목14", L76, 0) -> 0 | AQ76: =IF(P76="사용자항목15", L76, 0) -> 0 | AR76: =IF(P76="사용자항목16", L76, 0) -> 0 | AS76: =IF(P76="사용자항목17", L76, 0) -> 0 | AT76: =IF(P76="사용자항목18", L76, 0) -> 0 | AU76: =IF(P76="사용자항목19", L76, 0) -> 0
A77: 레미콘 | B77: 25-18-120(대구권) | C77: M3 | D77: 1.5 | O77: ="01" -> 01 | P77: 기계경비 | Q77: 1 | R77: =IF(P77="기계경비", J77, 0) -> 0 | S77: =IF(P77="운반비", L77, 0) -> 0 | T77: =IF(P77="작업부산물", F77, 0) -> 0 | U77: =IF(P77="관급", F77, 0) -> 0 | V77: =IF(P77="외주비", J77, 0) -> 0 | W77: =IF(P77="장비비", J77, 0) -> 0 | X77: =IF(P77="폐기물처리비", L77, 0) -> 0 | Y77: =IF(P77="가설비", J77, 0) -> 0 | Z77: =IF(P77="잡비제외분", F77, 0) -> 0 | AA77: =IF(P77="사급자재대", L77, 0) -> 0 | AB77: =IF(P77="관급자재대", L77, 0) -> 0 | AC77: =IF(P77="관급자 관급 자재대", L77, 0) -> 0 | AD77: =IF(P77="사용자항목2", L77, 0) -> 0 | AE77: =IF(P77="설계안전성 검토비", L77, 0) -> 0 | AF77: =IF(P77="품질관리비(PS항목)", L77, 0) -> 0 | AG77: =IF(P77="작업부산물(철거해체)", L77, 0) -> 0 | AH77: =IF(P77="기술지도 용역비", L77, 0) -> 0 | AI77: =IF(P77="도급자 관급 자재대", L77, 0) -> 0 | AJ77: =IF(P77="해체계획서 작성비", L77, 0) -> 0 | AK77: =IF(P77="안전관리비(PS항목)", L77, 0) -> 0 | AL77: =IF(P77="사용자항목10", L77, 0) -> 0 | AM77: =IF(P77="사용자항목11", L77, 0) -> 0 | AN77: =IF(P77="사용자항목12", L77, 0) -> 0 | AO77: =IF(P77="사용자항목13", L77, 0) -> 0 | AP77: =IF(P77="사용자항목14", L77, 0) -> 0 | AQ77: =IF(P77="사용자항목15", L77, 0) -> 0 | AR77: =IF(P77="사용자항목16", L77, 0) -> 0 | AS77: =IF(P77="사용자항목17", L77, 0) -> 0 | AT77: =IF(P77="사용자항목18", L77, 0) -> 0 | AU77: =IF(P77="사용자항목19", L77, 0) -> 0 | AY77: 삼일설계적산사무소
A78: 레디믹스트콘크리트 타설 / 장비사용 | B78: 무근구조물 | C78: M3 | D78: 1.5 | O78: ="" | P78: 기계경비 | Q78: 1 | R78: =IF(P78="기계경비", J78, 0) -> 0 | S78: =IF(P78="운반비", L78, 0) -> 0 | T78: =IF(P78="작업부산물", F78, 0) -> 0 | U78: =IF(P78="관급", F78, 0) -> 0 | V78: =IF(P78="외주비", J78, 0) -> 0 | W78: =IF(P78="장비비", J78, 0) -> 0 | X78: =IF(P78="폐기물처리비", L78, 0) -> 0 | Y78: =IF(P78="가설비", J78, 0) -> 0 | Z78: =IF(P78="잡비제외분", F78, 0) -> 0 | AA78: =IF(P78="사급자재대", L78, 0) -> 0 | AB78: =IF(P78="관급자재대", L78, 0) -> 0 | AC78: =IF(P78="관급자 관급 자재대", L78, 0) -> 0 | AD78: =IF(P78="사용자항목2", L78, 0) -> 0 | AE78: =IF(P78="설계안전성 검토비", L78, 0) -> 0 | AF78: =IF(P78="품질관리비(PS항목)", L78, 0) -> 0 | AG78: =IF(P78="작업부산물(철거해체)", L78, 0) -> 0 | AH78: =IF(P78="기술지도 용역비", L78, 0) -> 0 | AI78: =IF(P78="도급자 관급 자재대", L78, 0) -> 0 | AJ78: =IF(P78="해체계획서 작성비", L78, 0) -> 0 | AK78: =IF(P78="안전관리비(PS항목)", L78, 0) -> 0 | AL78: =IF(P78="사용자항목10", L78, 0) -> 0 | AM78: =IF(P78="사용자항목11", L78, 0) -> 0 | AN78: =IF(P78="사용자항목12", L78, 0) -> 0 | AO78: =IF(P78="사용자항목13", L78, 0) -> 0 | AP78: =IF(P78="사용자항목14", L78, 0) -> 0 | AQ78: =IF(P78="사용자항목15", L78, 0) -> 0 | AR78: =IF(P78="사용자항목16", L78, 0) -> 0 | AS78: =IF(P78="사용자항목17", L78, 0) -> 0 | AT78: =IF(P78="사용자항목18", L78, 0) -> 0 | AU78: =IF(P78="사용자항목19", L78, 0) -> 0 | AY78: CEC10120000S
A79: 이형철근 | B79: HD-10 SD400 | C79: TON | D79: 0.1 | O79: ="01" -> 01 | P79: 기계경비 | Q79: 1 | R79: =IF(P79="기계경비", J79, 0) -> 0 | S79: =IF(P79="운반비", L79, 0) -> 0 | T79: =IF(P79="작업부산물", F79, 0) -> 0 | U79: =IF(P79="관급", F79, 0) -> 0 | V79: =IF(P79="외주비", J79, 0) -> 0 | W79: =IF(P79="장비비", J79, 0) -> 0 | X79: =IF(P79="폐기물처리비", L79, 0) -> 0 | Y79: =IF(P79="가설비", J79, 0) -> 0 | Z79: =IF(P79="잡비제외분", F79, 0) -> 0 | AA79: =IF(P79="사급자재대", L79, 0) -> 0 | AB79: =IF(P79="관급자재대", L79, 0) -> 0 | AC79: =IF(P79="관급자 관급 자재대", L79, 0) -> 0 | AD79: =IF(P79="사용자항목2", L79, 0) -> 0 | AE79: =IF(P79="설계안전성 검토비", L79, 0) -> 0 | AF79: =IF(P79="품질관리비(PS항목)", L79, 0) -> 0 | AG79: =IF(P79="작업부산물(철거해체)", L79, 0) -> 0 | AH79: =IF(P79="기술지도 용역비", L79, 0) -> 0 | AI79: =IF(P79="도급자 관급 자재대", L79, 0) -> 0 | AJ79: =IF(P79="해체계획서 작성비", L79, 0) -> 0 | AK79: =IF(P79="안전관리비(PS항목)", L79, 0) -> 0 | AL79: =IF(P79="사용자항목10", L79, 0) -> 0 | AM79: =IF(P79="사용자항목11", L79, 0) -> 0 | AN79: =IF(P79="사용자항목12", L79, 0) -> 0 | AO79: =IF(P79="사용자항목13", L79, 0) -> 0 | AP79: =IF(P79="사용자항목14", L79, 0) -> 0 | AQ79: =IF(P79="사용자항목15", L79, 0) -> 0 | AR79: =IF(P79="사용자항목16", L79, 0) -> 0 | AS79: =IF(P79="사용자항목17", L79, 0) -> 0 | AT79: =IF(P79="사용자항목18", L79, 0) -> 0 | AU79: =IF(P79="사용자항목19", L79, 0) -> 0
A80: 이형철근 | B80: HD-13 SD400 | C80: TON | D80: 0.9 | O80: ="01" -> 01 | P80: 기계경비 | Q80: 1 | R80: =IF(P80="기계경비", J80, 0) -> 0 | S80: =IF(P80="운반비", L80, 0) -> 0 | T80: =IF(P80="작업부산물", F80, 0) -> 0 | U80: =IF(P80="관급", F80, 0) -> 0 | V80: =IF(P80="외주비", J80, 0) -> 0 | W80: =IF(P80="장비비", J80, 0) -> 0 | X80: =IF(P80="폐기물처리비", L80, 0) -> 0 | Y80: =IF(P80="가설비", J80, 0) -> 0 | Z80: =IF(P80="잡비제외분", F80, 0) -> 0 | AA80: =IF(P80="사급자재대", L80, 0) -> 0 | AB80: =IF(P80="관급자재대", L80, 0) -> 0 | AC80: =IF(P80="관급자 관급 자재대", L80, 0) -> 0 | AD80: =IF(P80="사용자항목2", L80, 0) -> 0 | AE80: =IF(P80="설계안전성 검토비", L80, 0) -> 0 | AF80: =IF(P80="품질관리비(PS항목)", L80, 0) -> 0 | AG80: =IF(P80="작업부산물(철거해체)", L80, 0) -> 0 | AH80: =IF(P80="기술지도 용역비", L80, 0) -> 0 | AI80: =IF(P80="도급자 관급 자재대", L80, 0) -> 0 | AJ80: =IF(P80="해체계획서 작성비", L80, 0) -> 0 | AK80: =IF(P80="안전관리비(PS항목)", L80, 0) -> 0 | AL80: =IF(P80="사용자항목10", L80, 0) -> 0 | AM80: =IF(P80="사용자항목11", L80, 0) -> 0 | AN80: =IF(P80="사용자항목12", L80, 0) -> 0 | AO80: =IF(P80="사용자항목13", L80, 0) -> 0 | AP80: =IF(P80="사용자항목14", L80, 0) -> 0 | AQ80: =IF(P80="사용자항목15", L80, 0) -> 0 | AR80: =IF(P80="사용자항목16", L80, 0) -> 0 | AS80: =IF(P80="사용자항목17", L80, 0) -> 0 | AT80: =IF(P80="사용자항목18", L80, 0) -> 0 | AU80: =IF(P80="사용자항목19", L80, 0) -> 0
A81: 이형철근 | B81: HD-16 SD400 | C81: TON | D81: 1 | O81: ="01" -> 01 | P81: 기계경비 | Q81: 1 | R81: =IF(P81="기계경비", J81, 0) -> 0 | S81: =IF(P81="운반비", L81, 0) -> 0 | T81: =IF(P81="작업부산물", F81, 0) -> 0 | U81: =IF(P81="관급", F81, 0) -> 0 | V81: =IF(P81="외주비", J81, 0) -> 0 | W81: =IF(P81="장비비", J81, 0) -> 0 | X81: =IF(P81="폐기물처리비", L81, 0) -> 0 | Y81: =IF(P81="가설비", J81, 0) -> 0 | Z81: =IF(P81="잡비제외분", F81, 0) -> 0 | AA81: =IF(P81="사급자재대", L81, 0) -> 0 | AB81: =IF(P81="관급자재대", L81, 0) -> 0 | AC81: =IF(P81="관급자 관급 자재대", L81, 0) -> 0 | AD81: =IF(P81="사용자항목2", L81, 0) -> 0 | AE81: =IF(P81="설계안전성 검토비", L81, 0) -> 0 | AF81: =IF(P81="품질관리비(PS항목)", L81, 0) -> 0 | AG81: =IF(P81="작업부산물(철거해체)", L81, 0) -> 0 | AH81: =IF(P81="기술지도 용역비", L81, 0) -> 0 | AI81: =IF(P81="도급자 관급 자재대", L81, 0) -> 0 | AJ81: =IF(P81="해체계획서 작성비", L81, 0) -> 0 | AK81: =IF(P81="안전관리비(PS항목)", L81, 0) -> 0 | AL81: =IF(P81="사용자항목10", L81, 0) -> 0 | AM81: =IF(P81="사용자항목11", L81, 0) -> 0 | AN81: =IF(P81="사용자항목12", L81, 0) -> 0 | AO81: =IF(P81="사용자항목13", L81, 0) -> 0 | AP81: =IF(P81="사용자항목14", L81, 0) -> 0 | AQ81: =IF(P81="사용자항목15", L81, 0) -> 0 | AR81: =IF(P81="사용자항목16", L81, 0) -> 0 | AS81: =IF(P81="사용자항목17", L81, 0) -> 0 | AT81: =IF(P81="사용자항목18", L81, 0) -> 0 | AU81: =IF(P81="사용자항목19", L81, 0) -> 0
A82: [ 계 ] | D82: 2 | O82: ="" | P82: 기계경비 | Q82: 1 | R82: =IF(P82="기계경비", J82, 0) -> 0 | S82: =IF(P82="운반비", L82, 0) -> 0 | T82: =IF(P82="작업부산물", F82, 0) -> 0 | U82: =IF(P82="관급", F82, 0) -> 0 | V82: =IF(P82="외주비", J82, 0) -> 0 | W82: =IF(P82="장비비", J82, 0) -> 0 | X82: =IF(P82="폐기물처리비", L82, 0) -> 0 | Y82: =IF(P82="가설비", J82, 0) -> 0 | Z82: =IF(P82="잡비제외분", F82, 0) -> 0 | AA82: =IF(P82="사급자재대", L82, 0) -> 0 | AB82: =IF(P82="관급자재대", L82, 0) -> 0 | AC82: =IF(P82="관급자 관급 자재대", L82, 0) -> 0 | AD82: =IF(P82="사용자항목2", L82, 0) -> 0 | AE82: =IF(P82="설계안전성 검토비", L82, 0) -> 0 | AF82: =IF(P82="품질관리비(PS항목)", L82, 0) -> 0 | AG82: =IF(P82="작업부산물(철거해체)", L82, 0) -> 0 | AH82: =IF(P82="기술지도 용역비", L82, 0) -> 0 | AI82: =IF(P82="도급자 관급 자재대", L82, 0) -> 0 | AJ82: =IF(P82="해체계획서 작성비", L82, 0) -> 0 | AK82: =IF(P82="안전관리비(PS항목)", L82, 0) -> 0 | AL82: =IF(P82="사용자항목10", L82, 0) -> 0 | AM82: =IF(P82="사용자항목11", L82, 0) -> 0 | AN82: =IF(P82="사용자항목12", L82, 0) -> 0 | AO82: =IF(P82="사용자항목13", L82, 0) -> 0 | AP82: =IF(P82="사용자항목14", L82, 0) -> 0 | AQ82: =IF(P82="사용자항목15", L82, 0) -> 0 | AR82: =IF(P82="사용자항목16", L82, 0) -> 0 | AS82: =IF(P82="사용자항목17", L82, 0) -> 0 | AT82: =IF(P82="사용자항목18", L82, 0) -> 0 | AU82: =IF(P82="사용자항목19", L82, 0) -> 0
A83: 철근 현장가공 및 조립 | B83: 건축, Type-Ⅰ | C83: TON | D83: 1.8 | O83: ="" | P83: 기계경비 | Q83: 1 | R83: =IF(P83="기계경비", J83, 0) -> 0 | S83: =IF(P83="운반비", L83, 0) -> 0 | T83: =IF(P83="작업부산물", F83, 0) -> 0 | U83: =IF(P83="관급", F83, 0) -> 0 | V83: =IF(P83="외주비", J83, 0) -> 0 | W83: =IF(P83="장비비", J83, 0) -> 0 | X83: =IF(P83="폐기물처리비", L83, 0) -> 0 | Y83: =IF(P83="가설비", J83, 0) -> 0 | Z83: =IF(P83="잡비제외분", F83, 0) -> 0 | AA83: =IF(P83="사급자재대", L83, 0) -> 0 | AB83: =IF(P83="관급자재대", L83, 0) -> 0 | AC83: =IF(P83="관급자 관급 자재대", L83, 0) -> 0 | AD83: =IF(P83="사용자항목2", L83, 0) -> 0 | AE83: =IF(P83="설계안전성 검토비", L83, 0) -> 0 | AF83: =IF(P83="품질관리비(PS항목)", L83, 0) -> 0 | AG83: =IF(P83="작업부산물(철거해체)", L83, 0) -> 0 | AH83: =IF(P83="기술지도 용역비", L83, 0) -> 0 | AI83: =IF(P83="도급자 관급 자재대", L83, 0) -> 0 | AJ83: =IF(P83="해체계획서 작성비", L83, 0) -> 0 | AK83: =IF(P83="안전관리비(PS항목)", L83, 0) -> 0 | AL83: =IF(P83="사용자항목10", L83, 0) -> 0 | AM83: =IF(P83="사용자항목11", L83, 0) -> 0 | AN83: =IF(P83="사용자항목12", L83, 0) -> 0 | AO83: =IF(P83="사용자항목13", L83, 0) -> 0 | AP83: =IF(P83="사용자항목14", L83, 0) -> 0 | AQ83: =IF(P83="사용자항목15", L83, 0) -> 0 | AR83: =IF(P83="사용자항목16", L83, 0) -> 0 | AS83: =IF(P83="사용자항목17", L83, 0) -> 0 | AT83: =IF(P83="사용자항목18", L83, 0) -> 0 | AU83: =IF(P83="사용자항목19", L83, 0) -> 0
A84: 고철 | B84: 중량철A (봉.형강류) | C84: TON | D84: -0.2 | O84: ="01" -> 01 | P84: 기계경비 | Q84: 1 | R84: =IF(P84="기계경비", J84, 0) -> 0 | S84: =IF(P84="운반비", L84, 0) -> 0 | T84: =IF(P84="작업부산물", F84, 0) -> 0 | U84: =IF(P84="관급", F84, 0) -> 0 | V84: =IF(P84="외주비", J84, 0) -> 0 | W84: =IF(P84="장비비", J84, 0) -> 0 | X84: =IF(P84="폐기물처리비", L84, 0) -> 0 | Y84: =IF(P84="가설비", J84, 0) -> 0 | Z84: =IF(P84="잡비제외분", F84, 0) -> 0 | AA84: =IF(P84="사급자재대", L84, 0) -> 0 | AB84: =IF(P84="관급자재대", L84, 0) -> 0 | AC84: =IF(P84="관급자 관급 자재대", L84, 0) -> 0 | AD84: =IF(P84="사용자항목2", L84, 0) -> 0 | AE84: =IF(P84="설계안전성 검토비", L84, 0) -> 0 | AF84: =IF(P84="품질관리비(PS항목)", L84, 0) -> 0 | AG84: =IF(P84="작업부산물(철거해체)", L84, 0) -> 0 | AH84: =IF(P84="기술지도 용역비", L84, 0) -> 0 | AI84: =IF(P84="도급자 관급 자재대", L84, 0) -> 0 | AJ84: =IF(P84="해체계획서 작성비", L84, 0) -> 0 | AK84: =IF(P84="안전관리비(PS항목)", L84, 0) -> 0 | AL84: =IF(P84="사용자항목10", L84, 0) -> 0 | AM84: =IF(P84="사용자항목11", L84, 0) -> 0 | AN84: =IF(P84="사용자항목12", L84, 0) -> 0 | AO84: =IF(P84="사용자항목13", L84, 0) -> 0 | AP84: =IF(P84="사용자항목14", L84, 0) -> 0 | AQ84: =IF(P84="사용자항목15", L84, 0) -> 0 | AR84: =IF(P84="사용자항목16", L84, 0) -> 0 | AS84: =IF(P84="사용자항목17", L84, 0) -> 0 | AT84: =IF(P84="사용자항목18", L84, 0) -> 0 | AU84: =IF(P84="사용자항목19", L84, 0) -> 0 | AY84: 31COST
A85: 유로폼 설치 및 해체 | B85: 6회, 간단, 수직고 7m까지 | C85: M2 | D85: 60 | O85: ="" | P85: 기계경비 | Q85: 1 | R85: =IF(P85="기계경비", J85, 0) -> 0 | S85: =IF(P85="운반비", L85, 0) -> 0 | T85: =IF(P85="작업부산물", F85, 0) -> 0 | U85: =IF(P85="관급", F85, 0) -> 0 | V85: =IF(P85="외주비", J85, 0) -> 0 | W85: =IF(P85="장비비", J85, 0) -> 0 | X85: =IF(P85="폐기물처리비", L85, 0) -> 0 | Y85: =IF(P85="가설비", J85, 0) -> 0 | Z85: =IF(P85="잡비제외분", F85, 0) -> 0 | AA85: =IF(P85="사급자재대", L85, 0) -> 0 | AB85: =IF(P85="관급자재대", L85, 0) -> 0 | AC85: =IF(P85="관급자 관급 자재대", L85, 0) -> 0 | AD85: =IF(P85="사용자항목2", L85, 0) -> 0 | AE85: =IF(P85="설계안전성 검토비", L85, 0) -> 0 | AF85: =IF(P85="품질관리비(PS항목)", L85, 0) -> 0 | AG85: =IF(P85="작업부산물(철거해체)", L85, 0) -> 0 | AH85: =IF(P85="기술지도 용역비", L85, 0) -> 0 | AI85: =IF(P85="도급자 관급 자재대", L85, 0) -> 0 | AJ85: =IF(P85="해체계획서 작성비", L85, 0) -> 0 | AK85: =IF(P85="안전관리비(PS항목)", L85, 0) -> 0 | AL85: =IF(P85="사용자항목10", L85, 0) -> 0 | AM85: =IF(P85="사용자항목11", L85, 0) -> 0 | AN85: =IF(P85="사용자항목12", L85, 0) -> 0 | AO85: =IF(P85="사용자항목13", L85, 0) -> 0 | AP85: =IF(P85="사용자항목14", L85, 0) -> 0 | AQ85: =IF(P85="사용자항목15", L85, 0) -> 0 | AR85: =IF(P85="사용자항목16", L85, 0) -> 0 | AS85: =IF(P85="사용자항목17", L85, 0) -> 0 | AT85: =IF(P85="사용자항목18", L85, 0) -> 0 | AU85: =IF(P85="사용자항목19", L85, 0) -> 0
A96: 합 계 | F96: =ROUNDDOWN(SUMIF(Q75:Q95, "1", F75:F95), 0) -> 0 | H96: =ROUNDDOWN(SUMIF(Q75:Q95, "1", H75:H95), 0) -> 0 | J96: =ROUNDDOWN(SUMIF(Q75:Q95, "1", J75:J95), 0) -> 0 | L96: =F96+H96+J96 -> 0 | R96: =ROUNDDOWN(SUM(R75:R85), 0) -> 0 | S96: =ROUNDDOWN(SUM(S75:S85), 0) -> 0 | T96: =ROUNDDOWN(SUM(T75:T85), 0) -> 0 | U96: =ROUNDDOWN(SUM(U75:U85), 0) -> 0 | V96: =ROUNDDOWN(SUM(V75:V85), 0) -> 0 | W96: =ROUNDDOWN(SUM(W75:W85), 0) -> 0 | X96: =ROUNDDOWN(SUM(X75:X85), 0) -> 0 | Y96: =ROUNDDOWN(SUM(Y75:Y85), 0) -> 0 | ... AY96: =ROUNDDOWN(SUM(AY75:AY85), 0) -> 0
A97: 05. 철골공사
A98: H형강(SHN275) | B98: 200*200*8*12mm | C98: TON | D98: 14.9 | O98: ="01" -> 01 | P98: 기계경비 | Q98: 1 | R98: =IF(P98="기계경비", J98, 0) -> 0 | S98: =IF(P98="운반비", L98, 0) -> 0 | T98: =IF(P98="작업부산물", F98, 0) -> 0 | U98: =IF(P98="관급", F98, 0) -> 0 | V98: =IF(P98="외주비", J98, 0) -> 0 | W98: =IF(P98="장비비", J98, 0) -> 0 | X98: =IF(P98="폐기물처리비", L98, 0) -> 0 | Y98: =IF(P98="가설비", J98, 0) -> 0 | Z98: =IF(P98="잡비제외분", F98, 0) -> 0 | AA98: =IF(P98="사급자재대", L98, 0) -> 0 | AB98: =IF(P98="관급자재대", L98, 0) -> 0 | AC98: =IF(P98="관급자 관급 자재대", L98, 0) -> 0 | AD98: =IF(P98="사용자항목2", L98, 0) -> 0 | AE98: =IF(P98="설계안전성 검토비", L98, 0) -> 0 | AF98: =IF(P98="품질관리비(PS항목)", L98, 0) -> 0 | AG98: =IF(P98="작업부산물(철거해체)", L98, 0) -> 0 | AH98: =IF(P98="기술지도 용역비", L98, 0) -> 0 | AI98: =IF(P98="도급자 관급 자재대", L98, 0) -> 0 | AJ98: =IF(P98="해체계획서 작성비", L98, 0) -> 0 | AK98: =IF(P98="안전관리비(PS항목)", L98, 0) -> 0 | AL98: =IF(P98="사용자항목10", L98, 0) -> 0 | AM98: =IF(P98="사용자항목11", L98, 0) -> 0 | AN98: =IF(P98="사용자항목12", L98, 0) -> 0 | AO98: =IF(P98="사용자항목13", L98, 0) -> 0 | AP98: =IF(P98="사용자항목14", L98, 0) -> 0 | AQ98: =IF(P98="사용자항목15", L98, 0) -> 0 | AR98: =IF(P98="사용자항목16", L98, 0) -> 0 | AS98: =IF(P98="사용자항목17", L98, 0) -> 0 | AT98: =IF(P98="사용자항목18", L98, 0) -> 0 | AU98: =IF(P98="사용자항목19", L98, 0) -> 0 | AY98: 삼일설계적산사무소
...

Sheet 간지
A1: =표지!A2 -> 성가요양원 승강기 설치공사
A9: 일위대가표
A17: =A1 -> 성가요양원 승강기 설치공사
A25: 마감 산출서
A33: =A17 -> 성가요양원 승강기 설치공사
A41: 견 적 서
A49: =A33 -> 성가요양원 승강기 설치공사
A57: 골조 산출서
