Workbook
Name a: 원가!집
Name AAAA: 간지!AAAAA
Name AAAA: 원가!AAAAA
Name AAAA: '집계표(건축)'!AAAAA
Name AAAA: [0]!AAAAA
Name AAAAA: #N/A
Name AAAAA: 원가!AAAAA
Name AAAAA: '집계표(건축)'!AAAAA
Name AAAAA: 원가!AAAAA
Name aer: #REF!,#REF!
Name aer: #REF!,#REF!
Name aer: #REF!,#REF!
Name gu: #REF!,#REF!
Name gu: #REF!,#REF!
Name gu: #REF!,#REF!
Name Print_Area_MI: #REF!
Name Print_Area_MI: #REF!
Name Print_Area_MI: #REF!
Name RT: #REF!,#REF!,#REF!
Name RT: #REF!,#REF!,#REF!
Name RT: #REF!,#REF!,#REF!
Name rty: #REF!,#REF!
Name rty: #REF!,#REF!
Name rty: #REF!,#REF!
Name sr: #REF!,#REF!
Name sr: #REF!,#REF!
Name sr: #REF!,#REF!
Name ㄱㄱㄱ: 간지!집
Name ㄱㄱㄱ: [0]!집
Name ㄱㄱㄱ: 집
Name 가설: 간지!템플리트모듈6
Name 가설: 원가!템플리트모듈6
Name 가설: '집계표(건축)'!템플리트모듈6
Name 가설: [0]!템플리트모듈6
Name 감감: 간지!감감
Name 감감: 원가!감감
Name 감감: [0]!감감
Name 감삼: 간지!감삼
Name 감삼: 원가!감삼
Name 감삼: [0]!감삼
Name 감삼준: 간지!템플리트모듈6
Name 감삼준: [0]!템플리트모듈6
Name 감삼준: 템플리트모듈6
Name 공정: 간지!공정
Name 공정: 원가!공정
Name 공정: [0]!공정
Name 관급: 간지!관급
Name 관급: 원가!관급
Name 관급: '집계표(건축)'!관급
Name 관급: [0]!관급
Name 관급1: 간지!관급
Name 관급1: 원가!관급
Name 관급1: '집계표(건축)'!관급
Name 관급1: 관급
Name 관급2: 간지!관급2
Name 관급2: 원가!관급2
Name 관급2: '집계표(건축)'!관급2
Name 관급2: [0]!관급2
Name 관급자재2: 간지!관급자재2
Name 관급자재2: 원가!관급자재2

Sheet 표지
A2: 성가요양원 승강기 설치공사
A3: 설 계 내 역 서
A4: ( 건축 )
A10: 2026.

Sheet 갑지(건축)
A1: 설 계 서 용 지 (갑지)
A2: 설계자 | B2: 세움터건축사 사무소 | C2: 담당자 | E2: 팀 장 | G2: 과 장 | I2: 2026년 월 설계
B4: 2026년도
B6: 공 사 명 : | D6: =표지!A2 -> 성가요양원 승강기 설치공사
D7: =표지!A4 -> ( 건축 )
B9: 공 사 개 요 : | C9: 1. | D9: 대 지 위 치 : | E9: 경상북도 칠곡군 동명면 구덕리 120-1번지외1필지
C10: 2. | D10: 동 별 개 요 : | E10: 주10동
C11: 3. | D11: 공 사 규 모 : | E11: 승강기 설치 ( 2STOP)
C12: 4 | D12: 구 조 : | E12: 일반철골조 / 샌드위치판넬지붕
D16: 1) 건축공사 1식
D17: 도 급 금 액 | E17: : | F17: =원가!D36 -> 0 | G17: 원 | H17: ="(￦"&NUMBERSTRING((F17),1)&"원)" -> (￦영원)
D21: 총 공 사 비 | E21: : | F21: =SUM(F17:F20) -> 0 | G21: 원 | H21: ="(￦"&NUMBERSTRING((F21),1)&"원)" -> (￦영원)
B24: 평당 공사비
B25: 84.12 | C25: M2 | D25: 관급 자재대 (도급자) | E25: : | F25: =#REF! -> #REF! | G25: 원 | H25: ="(￦"&NUMBERSTRING((F25),1)&"원)" -> #REF!
B26: =B25*0.3025 -> 25.4463 | C26: 평 | D26: 관급 자재대 (관급자) | E26: : | F26: =원가!D46 -> 0 | G26: 원 | H26: ="(￦"&NUMBERSTRING((F26),1)&"원)" -> (￦영원)
B27: =F21/B26 -> 0 | C27: 원

Sheet 원가
A1: 공 사 원 가 계 산 서
A2: 공사명 : | C2: =표지!A2 -> 성가요양원 승강기 설치공사 | F2: 공기 : | G2: 90
A3: 비 목 | D3: 금 액 | F3: 구성비 | G3: 비 고
A4: 순 공 사 원 가 | B4: 재료비 | C4: 직 접 재 료 비 | D4: ='집계표(건축)'!F20 -> 0
C5: 간 접 재 료 비
C6: 소 계 | D6: =SUM(D4:D5) -> 0 | K6: =원가!D4+원가!D7+원가!D10 -> 0
B7: 노무비 | C7: 직 접 노 무 비 | D7: ='집계표(건축)'!H20 -> 0 | J7: 직접공사비(재+노+경) | K7: 10억미만 | L7: 10-50억미만
C8: 간 접 노 무 비 | D8: =(D7)*K8 -> 0 | F8: ="직.노*"&K8*100&"%" -> 직.노*17.5% | J8: 6개월 미만 | K8: 0.175 | L8: 0.174
C9: 소 계 | D9: =D7+D8 -> 0 | J9: 6~12개월 미만 | K9: 0.179 | L9: 0.178
B10: 경 비 | C10: 산 출 경 비 | D10: ='집계표(건축)'!J20 -> 0
C11: 공 통 가 설 비 | D11: ='집계표(건축)'!L5 -> 0
C12: 산 재 보 험 료 | D12: =INT(D9*K12) -> 0 | F12: ="(노)*"&K12*100&"%" -> (노)*3.56% | G12: 모든건설공사 | K12: 0.0356
C13: 고 용 보 험 료 | D13: =INT(D9*K13) -> 0 | F13: ="(노)*"&K13*100&"%" -> (노)*1.01% | G13: 모든건설공사 | K13: 0.0101 | L13: 추정2천미만-제외
C14: 국민 건강 보험료 | D14: =INT(D7*K14) -> 0 | F14: ="(직.노)*"&K14*100&"%" -> (직.노)*3.595% | G14: 공기 1개월이상공사 | H14: 도급관급(수수제외) | I14: ='집계표(건축)'!O23 -> 0 | J14: 0 | K14: 0.03595
C15: 국민 연금 보험료 | D15: =INT(D7*K15) -> 0 | F15: ="(직.노)*"&K15*100&"%" -> (직.노)*4.75% | G15: 공기 1개월이상공사 | H15: 재+직노+도급관급 | I15: =D6+D7+I14 -> 0 | J15: 5악이상 1.86%+5.349 | K15: 0.0475
C16: 노인 장기요양보험 | D16: =INT(D14*K16) -> 0 | F16: ="(건강)*"&K16*100&"%" -> (건강)*13.14% | G16: 공기 1개월이상공사 | H16: 안전관리비기초액 | I16: 4325000 | K16: 0.1314
C17: 퇴 직 공 제 부 금 비 | D17: =INT(D7*K17) -> 0 | F17: ="(직.노)*"&K17*100&"%" -> (직.노)*2.3% | G17: 추정금액 1억이상 | H17: 관급 무(5억미만) | I17: 관급 유(5억미만) | J17: 관급 유(5억이상) | K17: 0.023 | L17: 공공1억+미간50억
C18: 산업 안전보건관리비 | D18: =G18 -> 0 | F18: ="(재+직.노)*"&K19*100&"%" -> (재+직.노)*3.11% | G18: =H18 -> 0 | H18: =(D6+D7)*K19 -> 0 | I18: =(D6+D7)*K19*1.2 -> 0 | J18: =((D6+D7)*L19+I16)*1.2 -> 5190000 | K18: (도급+관급)=2천이상적용
F19: ="(재+직.노+관급/1.1)*"&K19*100&"%" -> (재+직.노+관급/1.1)*3.11% | G19: =H19 -> 0 | H19: 0 | I19: =(D6+D7+(I14/1.1))*K19 -> 0 | J19: =(D6+D7+(I14/1.1))*L19+I16 -> 4325000 | K19: 0.0311 | L19: 0.0228
C20: 안전 관리비 (PS항목) | G20: 건기법 제63조(모든공사) | H20: 최저값 | I20: =SMALL(G18:G19,1) -> 0
C21: 품질시험비 (PS 항목) | G21: 건기법 제55조
C22: 환 경 보 전 비 | D22: =INT(D6+D7+D10)*K22 -> 0 | F22: ="(재+직.노+기.경)*"&K22*100&"%" -> (재+직.노+기.경)*0.3% | G22: 전문적용 | K22: 0.003
C23: 건설하도급대금지급보증수수료 | D23: =INT(D6+D7+D10)*K23*0 -> 0 | F23: ="(재+직.노+기.경)*"&K23*100&"%" -> (재+직.노+기.경)*0.081% | G23: 전문공사 제외 | K23: 0.00081
C24: 건설기계대여대금지급보증서 | D24: =INT(D6+D7+D10)*K24 -> 0 | F24: ="(재+직.노+기.경)*"&K24*100&"%" -> (재+직.노+기.경)*0.07% | G24: 건축공사 적용 | K24: 0.0007
C25: 기 타 경 비 | D25: =INT((D6+D9)*K25) -> 0 | F25: ="(재+노)*"&K25*100&"%" -> (재+노)*5% | J25: 6개월 미만 | K25: 0.05 | L25: 0.052
C26: 석 면 분 담 금 | D26: =INT((D9)*0.006%) -> 0 | F26: ="(노)*0.006%" -> (노)*0.006% | G26: 모든건설공사 | J26: 6~12개월 미만 | K26: 0.052 | L26: 0.054
C27: 임 금 채 권 부 담 금 | D27: =INT((D9)*0.09%) -> 0 | F27: ="(노)*0.09%" -> (노)*0.09% | G27: 모든건설공사
C28: 소 계 | D28: =SUM(D10:D27) -> 0
B29: '순 공 사 비 | D29: =D6+D9+D28 -> 0 | F29: (재+노+경)
C30: ' 일 반 관 리 비 | D30: =(D6+D9+D28)*K30 -> 0 | F30: ="(재+노+경)*"&K30*100&"%" -> (재+노+경)*8% | K30: 0.08
C31: '이 윤 | D31: =INT((D9+D28+D30)*K31) -> 0 | F31: ="(노+경+일)*"&K31*100&"%" -> (노+경+일)*15% | K31: 0.15
C32: '승 강 기 구 입 설 치 | D32: ='집계표(건축)'!L22 -> 0
C33: '폐 기 물 처 리 비 | D33: ='집계표(건축)'!L23 -> 0
C34: '총 원 가 | D34: =ROUNDDOWN(SUM(D29:D33),-4) -> 0
C35: '부 가 가 치 세 | D35: =D34*K35 -> 0 | F35: ="(총원가)*"&K35*100&"%" -> (총원가)*10% | K35: 0.1
C36: '도 급 공 사 금 액 | D36: =D34+D35 -> 0
C37: '관 급 자 재 대 ( 도급자 )
C38: '관 급 자 재 대 ( 관급자 )
C39: '총 공 사 금 액 ( 도급+관급) | D39: =D36+D37+D38 -> 0
C41: 'PS항목 (품질시험비)
C42: '작 업 부 산 물
C43: '폐 기 물 처 리 비
C44: '관 급 자 재 대 ( 도급자 )
C45: '관 급 자 재 대 ( 관급자 )
C46: '총 공 사 금 액 ( 도급+관급)

Sheet 집계표(건축)
A1: 집 계 표
B2: =CONCATENATE(N2,N3) -> 공사명 : 성가요양원 승강기 설치공사 | N2: 공사명 :
A3: 품 명 | C3: 단위 | D3: 수량 | E3: 재 료 비 | G3: 노 무 비 | I3: 경 비 | K3: 합 계 | M3: 비고 | N3: =표지!A2 -> 성가요양원 승강기 설치공사
E4: 단 가 | F4: 금 액 | G4: 단 가 | H4: 금 액 | I4: 단 가 | J4: 금 액 | K4: 단 가 | L4: 금 액
A5: 1 | B5: 공통가설비 | C5: 식 | D5: 1 | F5: =내역서!F27 -> 0 | H5: =내역서!H27 -> 0 | J5: =내역서!J27 -> 0 | K5: =E5+G5+I5 -> 0 | L5: =F5+H5+J5 -> 0 | M5: 합계제외 | O5: 합계제외
A6: 2 | B6: 가설 | C6: 식 | D6: 1 | F6: =내역서!F50 -> 0 | H6: =내역서!H50 -> 0 | J6: =내역서!J50 -> 0 | K6: =E6+G6+I6 -> 0 | L6: =F6+H6+J6 -> 0
A7: 3 | B7: 토 | C7: 식 | D7: 1 | F7: =내역서!F73 -> 0 | H7: =내역서!H73 -> 0 | J7: =내역서!J73 -> 0 | K7: =E7+G7+I7 -> 0 | L7: =F7+H7+J7 -> 0
A8: 4 | B8: 철근콘크리트 | C8: 식 | D8: 1 | F8: =내역서!F96 -> 0 | H8: =내역서!H96 -> 0 | J8: =내역서!J96 -> 0 | K8: =E8+G8+I8 -> 0 | L8: =F8+H8+J8 -> 0
A9: 5 | B9: 철골 | C9: 식 | D9: 1 | F9: =내역서!F142 -> 0 | H9: =내역서!H142 -> 0 | J9: =내역서!J142 -> 0 | K9: =E9+G9+I9 -> 0 | L9: =F9+H9+J9 -> 0
A10: 6 | B10: 조적 | C10: 식 | D10: 1 | F10: =내역서!F165 -> 0 | H10: =내역서!H165 -> 0 | J10: =내역서!J165 -> 0 | K10: =E10+G10+I10 -> 0 | L10: =F10+H10+J10 -> 0
A11: 7 | B11: 방수 | C11: 식 | D11: 1 | F11: =내역서!F188 -> 0 | H11: =내역서!H188 -> 0 | J11: =내역서!J188 -> 0 | K11: =E11+G11+I11 -> 0 | L11: =F11+H11+J11 -> 0
A12: 8 | B12: 미장 | C12: 식 | D12: 1 | F12: =내역서!F211 -> 0 | H12: =내역서!H211 -> 0 | J12: =내역서!J211 -> 0 | K12: =E12+G12+I12 -> 0 | L12: =F12+H12+J12 -> 0
A13: 9 | B13: 석 | C13: 식 | D13: 1 | F13: =내역서!F234 -> 0 | H13: =내역서!H234 -> 0 | J13: =내역서!J234 -> 0 | K13: =E13+G13+I13 -> 0 | L13: =F13+H13+J13 -> 0
A14: 10 | B14: 수장 | C14: 식 | D14: 1 | F14: =내역서!F257 -> 0 | H14: =내역서!H257 -> 0 | J14: =내역서!J257 -> 0 | K14: =E14+G14+I14 -> 0 | L14: =F14+H14+J14 -> 0
A15: 11 | B15: 금속 | C15: 식 | D15: 1 | F15: =내역서!F280 -> 0 | H15: =내역서!H280 -> 0 | J15: =내역서!J280 -> 0 | K15: =E15+G15+I15 -> 0 | L15: =F15+H15+J15 -> 0
A16: 12 | B16: 도장 | C16: 식 | D16: 1 | F16: =내역서!F303 -> 0 | H16: =내역서!H303 -> 0 | J16: =내역서!J303 -> 0 | K16: =E16+G16+I16 -> 0 | L16: =F16+H16+J16 -> 0
A17: 13 | B17: 철거 | C17: 식 | D17: 1 | F17: =내역서!F326 -> 0 | H17: =내역서!H326 -> 0 | J17: =내역서!J326 -> 0 | K17: =E17+G17+I17 -> 0 | L17: =F17+H17+J17 -> 0
A18: 14 | B18: 골재대 | C18: 식 | D18: 1 | F18: =내역서!F349 -> 0 | H18: =내역서!H349 -> 0 | J18: =내역서!J349 -> 0 | K18: =E18+G18+I18 -> 0 | L18: =F18+H18+J18 -> 0
A20: 합 계 ( 2 ~ 14 ) | F20: =SUM(F6:F19) -> 0 | H20: =SUM(H6:H19) -> 0 | J20: =SUM(J6:J19) -> 0 | L20: =F20+H20+J20 -> 0
P21: 2373 4421
A22: 15 | B22: 승강기구입설치 | C22: 식 | D22: 1 | F22: =내역서!F372 -> 0 | H22: =내역서!H372 -> 0 | J22: =내역서!J372 -> 0 | K22: =E22+G22+I22 -> 0 | L22: =F22+H22+J22 -> 0 | M22: 원가산입 | P22: 2373 4440
A23: 16 | B23: 페기물 처리비 | C23: 식 | D23: 1 | F23: =내역서!F395 -> 0 | H23: =내역서!H395 -> 0 | J23: =내역서!J395 -> 0 | K23: =E23+G23+I23 -> 0 | L23: =F23+H23+J23 -> 0 | M23: 원가산입 | N23: 수수료제외 | O23: =내역서!E192 -> 0
B29: 공통가설비
B30: 골재대
B31: 작업부산물
B32: 폐기물처리비
B33: 안전관리비(PS항목)
B34: 품질관리비(PS항목)
B35: 관급자재대(도급자)
B36: 관급자재대(관급자)

Sheet 내역서
A1: 내 역 서
A2: 공사명 : 성가요양원 승강기 설치공사
A3: 품 명 | B3: 규 격 | C3: 단위 | D3: 수 량 | E3: 재 료 비 | G3: 노 무 비 | I3: 경 비 | K3: 합 계 | M3: 비고
E4: 단 가 | F4: 금 액 | G4: 단 가 | H4: 금 액 | I4: 단 가 | J4: 금 액 | K4: 단 가 | L4: 금 액 | N4: 손료요율 | O4: 손료구분 | P4: 적용구분 | Q4: 합계구분 | R4: 기계경비 | S4: 운반비 | T4: 작업부산물 | U4: 관급 | V4: 외주비 | W4: 장비비 | X4: 폐기물처리비 | Y4: 가설비 | Z4: 잡비제외분 | AA4: 사급자재대 | AB4: 관급자재대 | AC4: 관급자 관급 자재대 | AD4: 사용자항목2 | AE4: 설계안전성 검토비 | AF4: 품질관리비(PS항목) | AG4: 작업부산물(철거해체) | AH4: 기술지도 용역비 | AI4: 도급자 관급 자재대 | AJ4: 해체계획서 작성비 | AK4: 안전관리비(PS항목) | AL4: 사용자항목10 | AM4: 사용자항목11 | AN4: 사용자항목12 | AO4: 사용자항목13 | AP4: 사용자항목14 | AQ4: 사용자항목15 | AR4: 사용자항목16 | AS4: 사용자항목17 | AT4: 사용자항목18 | AU4: 사용자항목19 | AV4: 간접재료비 | AW4: 품목구분 | AX4: 조달코드 | AY4: 구분
A5: 01. 공통가설비
A6: EGI휀스 | B6: H=2.4m, 3개월 | C6: M | D6: 17 | O6: ="" | P6: 가설비 | Q6: 1 | R6: =IF(P6="기계경비", J6, 0) -> 0 | S6: =IF(P6="운반비", L6, 0) -> 0 | T6: =IF(P6="작업부산물", F6, 0) -> 0 | U6: =IF(P6="관급", F6, 0) -> 0 | V6: =IF(P6="외주비", J6, 0) -> 0 | W6: =IF(P6="장비비", J6, 0) -> 0 | X6: =IF(P6="폐기물처리비", L6, 0) -> 0 | Y6: =IF(P6="가설비", L6, 0) -> 0 | Z6: =IF(P6="잡비제외분", F6, 0) -> 0 | AA6: =IF(P6="사급자재대", L6, 0) -> 0 | AB6: =IF(P6="관급자재대", L6, 0) -> 0 | AC6: =IF(P6="관급자 관급 자재대", L6, 0) -> 0 | AD6: =IF(P6="사용자항목2", L6, 0) -> 0 | AE6: =IF(P6="설계안전성 검토비", L6, 0) -> 0 | AF6: =IF(P6="품질관리비(PS항목)", L6, 0) -> 0 | AG6: =IF(P6="작업부산물(철거해체)", L6, 0) -> 0 | AH6: =IF(P6="기술지도 용역비", L6, 0) -> 0 | AI6: =IF(P6="도급자 관급 자재대", L6, 0) -> 0 | AJ6: =IF(P6="해체계획서 작성비", L6, 0) -> 0 | AK6: =IF(P6="안전관리비(PS항목)", L6, 0) -> 0 | AL6: =IF(P6="사용자항목10", L6, 0) -> 0 | AM6: =IF(P6="사용자항목11", L6, 0) -> 0 | AN6: =IF(P6="사용자항목12", L6, 0) -> 0 | AO6: =IF(P6="사용자항목13", L6, 0) -> 0 | AP6: =IF(P6="사용자항목14", L6, 0) -> 0 | AQ6: =IF(P6="사용자항목15", L6, 0) -> 0 | AR6: =IF(P6="사용자항목16", L6, 0) -> 0 | AS6: =IF(P6="사용자항목17", L6, 0) -> 0 | AT6: =IF(P6="사용자항목18", L6, 0) -> 0 | AU6: =IF(P6="사용자항목19", L6, 0) -> 0
A7: 공사용안전가림막설치 | B7: 판넬50T, 정첩 및 시건장치 포함 | C7: M2 | D7: 30 | O7: ="" | P7: 가설비 | Q7: 1 | R7: =IF(P7="기계경비", J7, 0) -> 0 | S7: =IF(P7="운반비", L7, 0) -> 0 | T7: =IF(P7="작업부산물", F7, 0) -> 0 | U7: =IF(P7="관급", F7, 0) -> 0 | V7: =IF(P7="외주비", J7, 0) -> 0 | W7: =IF(P7="장비비", J7, 0) -> 0 | X7: =IF(P7="폐기물처리비", L7, 0) -> 0 | Y7: =IF(P7="가설비", L7, 0) -> 0 | Z7: =IF(P7="잡비제외분", F7, 0) -> 0 | AA7: =IF(P7="사급자재대", L7, 0) -> 0 | AB7: =IF(P7="관급자재대", L7, 0) -> 0 | AC7: =IF(P7="관급자 관급 자재대", L7, 0) -> 0 | AD7: =IF(P7="사용자항목2", L7, 0) -> 0 | AE7: =IF(P7="설계안전성 검토비", L7, 0) -> 0 | AF7: =IF(P7="품질관리비(PS항목)", L7, 0) -> 0 | AG7: =IF(P7="작업부산물(철거해체)", L7, 0) -> 0 | AH7: =IF(P7="기술지도 용역비", L7, 0) -> 0 | AI7: =IF(P7="도급자 관급 자재대", L7, 0) -> 0 | AJ7: =IF(P7="해체계획서 작성비", L7, 0) -> 0 | AK7: =IF(P7="안전관리비(PS항목)", L7, 0) -> 0 | AL7: =IF(P7="사용자항목10", L7, 0) -> 0 | AM7: =IF(P7="사용자항목11", L7, 0) -> 0 | AN7: =IF(P7="사용자항목12", L7, 0) -> 0 | AO7: =IF(P7="사용자항목13", L7, 0) -> 0 | AP7: =IF(P7="사용자항목14", L7, 0) -> 0 | AQ7: =IF(P7="사용자항목15", L7, 0) -> 0 | AR7: =IF(P7="사용자항목16", L7, 0) -> 0 | AS7: =IF(P7="사용자항목17", L7, 0) -> 0 | AT7: =IF(P7="사용자항목18", L7, 0) -> 0 | AU7: =IF(P7="사용자항목19", L7, 0) -> 0
A27: 합 계 | F27: =ROUNDDOWN(SUMIF(Q6:Q26, "1", F6:F26), 0) -> 0 | H27: =ROUNDDOWN(SUMIF(Q6:Q26, "1", H6:H26), 0) -> 0 | J27: =ROUNDDOWN(SUMIF(Q6:Q26, "1", J6:J26), 0) -> 0 | L27: =F27+H27+J27 -> 0 | R27: =ROUNDDOWN(SUM(R6:R7), 0) -> 0 | S27: =ROUNDDOWN(SUM(S6:S7), 0) -> 0 | T27: =ROUNDDOWN(SUM(T6:T7), 0) -> 0 | U27: =ROUNDDOWN(SUM(U6:U7), 0) -> 0 | V27: =ROUNDDOWN(SUM(V6:V7), 0) -> 0 | W27: =ROUNDDOWN(SUM(W6:W7), 0) -> 0 | X27: =ROUNDDOWN(SUM(X6:X7), 0) -> 0 | Y27: =ROUNDDOWN(SUM(Y6:Y7), 0) -> 0 | ... AY27: =ROUNDDOWN(SUM(AY6:AY7), 0) -> 0
A28: 02. 가설공사
A29: 시스템비계(계단/난간) | B29: 2637mm, 3개월(설치는비계에포함) | C29: 조 | D29: 2
A30: 비계주위 보호막 | B30: 설치및해체는 비계에포함 | C30: M2 | D30: 113.3
A31: 시스템비계(발판2열) 10m 이하 | B31: 3개월 | C31: M2 | D31: 161.6
A32: 고소작업대 스카이(폐기물하역) | B32: 1~3.5TON (28M급) | C32: 일 | D32: 1
A33: 바닥보양 | B33: 하드롱지 | C33: M2 | D33: 104.4
A34: 입주청소 | C34: M2 | D34: 104.4
A35: 건축물현장정리 | B35: 철골조 | C35: M2 | D35: 21.7
A50: 합 계 | F50: =ROUNDDOWN(SUMIF(Q29:Q49, "1", F29:F49), 0) -> 0 | H50: =ROUNDDOWN(SUMIF(Q29:Q49, "1", H29:H49), 0) -> 0 | J50: =ROUNDDOWN(SUMIF(Q29:Q49, "1", J29:J49), 0) -> 0 | L50: =F50+H50+J50 -> 0 | R50: =ROUNDDOWN(SUM(R29:R36), 0) -> 0 | S50: =ROUNDDOWN(SUM(S29:S36), 0) -> 0 | T50: =ROUNDDOWN(SUM(T29:T36), 0) -> 0 | U50: =ROUNDDOWN(SUM(U29:U36), 0) -> 0 | V50: =ROUNDDOWN(SUM(V29:V36), 0) -> 0 | W50: =ROUNDDOWN(SUM(W29:W36), 0) -> 0 | X50: =ROUNDDOWN(SUM(X29:X36), 0) -> 0 | Y50: =ROUNDDOWN(SUM(Y29:Y36), 0) -> 0 | ... AY50: =ROUNDDOWN(SUM(AY29:AY36), 0) -> 0
A51: 03. 토공사
A52: 터파기(기계) | B52: 보통, 유압식백호 0.4m3, 점질토(주택가) | C52: M3 | D52: 70.4
A53: 되메우기/토사 | B53: 굴착기 0.4m3 | C53: M3 | D53: 44.4
A54: 잔토처리(백호우0.4M3) | B54: 토사,5KM,담프15톤 | C54: M3 | D54: 26
A55: 발포폴리스티렌 바닥깔기 | B55: 110mm(가등급) | C55: M2 | D55: 14.4
A56: 방습필름설치 | B56: 바닥 0.03mm*2겹 | C56: M2 | D56: 14.4
A57: 자갈(쇄석)깔기지정 | B57: 굴삭기 0.2m3+진동롤러 | C57: M3 | D57: 2.2
A73: 합 계 | F73: =ROUNDDOWN(SUMIF(Q52:Q72, "1", F52:F72), 0) -> 0 | H73: =ROUNDDOWN(SUMIF(Q52:Q72, "1", H52:H72), 0) -> 0 | J73: =ROUNDDOWN(SUMIF(Q52:Q72, "1", J52:J72), 0) -> 0 | L73: =F73+H73+J73 -> 0 | R73: =ROUNDDOWN(SUM(R52:R57), 0) -> 0 | S73: =ROUNDDOWN(SUM(S52:S57), 0) -> 0 | T73: =ROUNDDOWN(SUM(T52:T57), 0) -> 0 | U73: =ROUNDDOWN(SUM(U52:U57), 0) -> 0 | V73: =ROUNDDOWN(SUM(V52:V57), 0) -> 0 | W73: =ROUNDDOWN(SUM(W52:W57), 0) -> 0 | X73: =ROUNDDOWN(SUM(X52:X57), 0) -> 0 | Y73: =ROUNDDOWN(SUM(Y52:Y57), 0) -> 0 | ... AY73: =ROUNDDOWN(SUM(AY52:AY57), 0) -> 0
A74: 04. 철근콘크리트공사
A75: 레미콘 | B75: 25-27-150(대구권) | C75: M3 | D75: 15 | O75: ="01" -> 01 | P75: 기계경비 | Q75: 1 | R75: =IF(P75="기계경비", J75, 0) -> 0 | S75: =IF(P75="운반비", L75, 0) -> 0 | T75: =IF(P75="작업부산물", F75, 0) -> 0 | U75: =IF(P75="관급", F75, 0) -> 0 | V75: =IF(P75="외주비", J75, 0) -> 0 | W75: =IF(P75="장비비", J75, 0) -> 0 | X75: =IF(P75="폐기물처리비", L75, 0) -> 0 | Y75: =IF(P75="가설비", J75, 0) -> 0 | Z75: =IF(P75="잡비제외분", F75, 0) -> 0 | AA75: =IF(P75="사급자재대", L75, 0) -> 0 | AB75: =IF(P75="관급자재대", L75, 0) -> 0 | AC75: =IF(P75="관급자 관급 자재대", L75, 0) -> 0 | AD75: =IF(P75="사용자항목2", L75, 0) -> 0 | AE75: =IF(P75="설계안전성 검토비", L75, 0) -> 0 | AF75: =IF(P75="품질관리비(PS항목)", L75, 0) -> 0 | AG75: =IF(P75="작업부산물(철거해체)", L75, 0) -> 0 | AH75: =IF(P75="기술지도 용역비", L75, 0) -> 0 | AI75: =IF(P75="도급자 관급 자재대", L75, 0) -> 0 | AJ75: =IF(P75="해체계획서 작성비", L75, 0) -> 0 | AK75: =IF(P75="안전관리비(PS항목)", L75, 0) -> 0 | AL75: =IF(P75="사용자항목10", L75, 0) -> 0 | AM75: =IF(P75="사용자항목11", L75, 0) -> 0 | AN75: =IF(P75="사용자항목12", L75, 0) -> 0 | AO75: =IF(P75="사용자항목13", L75, 0) -> 0 | AP75: =IF(P75="사용자항목14", L75, 0) -> 0 | AQ75: =IF(P75="사용자항목15", L75, 0) -> 0 | AR75: =IF(P75="사용자항목16", L75, 0) -> 0 | AS75: =IF(P75="사용자항목17", L75, 0) -> 0 | AT75: =IF(P75="사용자항목18", L75, 0) -> 0 | AU75: =IF(P75="사용자항목19", L75, 0) -> 0 | AY75: 삼일설계적산사무소
A76: 콘크리트 펌프카 | B76: 26m3이하 기준물량80~150(0.5일기준) | C76: 대 | D76: 1 | O76: ="03" -> 03 | P76: 기계경비 | Q76: 1 | R76: =IF(P76="기계경비", J76, 0) -> 0 | S76: =IF(P76="운반비", L76, 0) -> 0 | T76: =IF(P76="작업부산물", F76, 0) -> 0 | U76: =IF(P76="관급", F76, 0) -> 0 | V76: =IF(P76="외주비", J76, 0) -> 0 | W76: =IF(P76="장비비", J76, 0) -> 0 | X76: =IF(P76="폐기물처리비", L76, 0) -> 0 | Y76: =IF(P76="가설비", J76, 0) -> 0 | Z76: =IF(P76="잡비제외분", F76, 0) -> 0 | AA76: =IF(P76="사급자재대", L76, 0) -> 0 | AB76: =IF(P76="관급자재대", L76, 0) -> 0 | AC76: =IF(P76="관급자 관급 자재대", L76, 0) -> 0 | AD76: =IF(P76="사용자항목2", L76, 0) -> 0 | AE76: =IF(P76="설계안전성 검토비", L76, 0) -> 0 | AF76: =IF(P76="품질관리비(PS항목)", L76, 0) -> 0 | AG76: =IF(P76="작업부산물(철거해체)", L76, 0) -> 0 | AH76: =IF(P76="기술지도 용역비", L76, 0) -> 0 | AI76: =IF(P76="도급자 관급 자재대", L76, 0) -> 0 | AJ76: =IF(P76="해체계획서 작성비", L76, 0) -> 0 | AK76: =IF(P76="안전관리비(PS항목)", L76, 0) -> 0 | AL76: =IF(P76="사용자항목10", L76, 0) -> 0 | AM76: =IF(P76="사용자항목11", L76, 0) -> 0 | AN76: =IF(P76="사용자항목12", L76, 0) -> 0 | AO76: =IF(P76="사용자항목13", L76, 0) -> 0 | AP76: =IF(P76="사용자항목14", L76, 0) -> 0 | AQ76: =IF(P76="사용자항목15", L76, 0) -> 0 | AR76: =IF(P76="사용자항목16", L76, 0) -> 0 | AS76: =IF(P76="사용자항목17", L76, 0) -> 0 | AT76: =IF(P76="사용자항목18", L76, 0) -> 0 | AU76: =IF(P76="사용자항목19", L76, 0) -> 0
A77: 레미콘 | B77: 25-18-120(대구권) | C77: M3 | D77: 1.5 | O77: ="01" -> 01 | P77: 기계경비 | Q77: 1 | R77: =IF(P77="기계경비", J77, 0) -> 0 | S77: =IF(P77="운반비", L77, 0) -> 0 | T77: =IF(P77="작업부산물", F77, 0) -> 0 | U77: =IF(P77="관급", F77, 0) -> 0 | V77: =IF(P77="외주비", J77, 0) -> 0 | W77: =IF(P77="장비비", J77, 0) -> 0 | X77: =IF(P77="폐기물처리비", L77, 0) -> 0 | Y77: =IF(P77="가설비", J77, 0) -> 0 | Z77: =IF(P77="잡비제외분", F77, 0) -> 0 | AA77: =IF(P77="사급자재대", L77, 0) -> 0 | AB77: =IF(P77="관급자재대", L77, 0) -> 0 | AC77: =IF(P77="관급자 관급 자재대", L77, 0) -> 0 | AD77: =IF(P77="사용자항목2", L77, 0) -> 0 | AE77: =IF(P77="설계안전성 검토비", L77, 0) -> 0 | AF77: =IF(P77="품질관리비(PS항목)", L77, 0) -> 0 | AG77: =IF(P77="작업부산물(철거해체)", L77, 0) -> 0 | AH77: =IF(P77="기술지도 용역비", L77, 0) -> 0 | AI77: =IF(P77="도급자 관급 자재대", L77, 0) -> 0 | AJ77: =IF(P77="해체계획서 작성비", L77, 0) -> 0 | AK77: =IF(P77="안전관리비(PS항목)", L77, 0) -> 0 | AL77: =IF(P77="사용자항목10", L77, 0) -> 0 | AM77: =IF(P77="사용자항목11", L77, 0) -> 0 | AN77: =IF(P77="사용자항목12", L77, 0) -> 0 | AO77: =IF(P77="사용자항목13", L77, 0) -> 0 | AP77: =IF(P77="사용자항목14", L77, 0) -> 0 | AQ77: =IF(P77="사용자항목15", L77, 0) -> 0 | AR77: =IF(P77="사용자항목16", L77, 0) -> 0 | AS77: =IF(P77="사용자항목17", L77, 0) -> 0 | AT77: =IF(P77="사용자항목18", L77, 0) -> 0 | AU77: =IF(P77="사용자항목19", L77, 0) -> 0 | AY77: 삼일설계적산사무소
A78: 레디믹스트콘크리트 타설 / 장비사용 | B78: 무근구조물 | C78: M3 | D78: 1.5 | O78: ="" | P78: 기계경비 | Q78: 1 | R78: =IF(P78="기계경비", J78, 0) -> 0 | S78: =IF(P78="운반비", L78, 0) -> 0 | T78: =IF(P78="작업부산물", F78, 0) -> 0 | U78: =IF(P78="관급", F78, 0) -> 0 | V78: =IF(P78="외주비", J78, 0) -> 0 | W78: =IF(P78="장비비", J78, 0) -> 0 | X78: =IF(P78="폐기물처리비", L78, 0) -> 0 | Y78: =IF(P78="가설비", J78, 0) -> 0 | Z78: =IF(P78="잡비제외분", F78, 0) -> 0 | AA78: =IF(P78="사급자재대", L78, 0) -> 0 | AB78: =IF(P78="관급자재대", L78, 0) -> 0 | AC78: =IF(P78="관급자 관급 자재대", L78, 0) -> 0 | AD78: =IF(P78="사용자항목2", L78, 0) -> 0 | AE78: =IF(P78="설계안전성 검토비", L78, 0) -> 0 | AF78: =IF(P78="품질관리비(PS항목)", L78, 0) -> 0 | AG78: =IF(P78="작업부산물(철거해체)", L78, 0) -> 0 | AH78: =IF(P78="기술지도 용역비", L78, 0) -> 0 | AI78: =IF(P78="도급자 관급 자재대", L78, 0) -> 0 | AJ78: =IF(P78="해체계획서 작성비", L78, 0) -> 0 | AK78: =IF(P78="안전관리비(PS항목)", L78, 0) -> 0 | AL78: =IF(P78="사용자항목10", L78, 0) -> 0 | AM78: =IF(P78="사용자항목11", L78, 0) -> 0 | AN78: =IF(P78="사용자항목12", L78, 0) -> 0 | AO78: =IF(P78="사용자항목13", L78, 0) -> 0 | AP78: =IF(P78="사용자항목14", L78, 0) -> 0 | AQ78: =IF(P78="사용자항목15", L78, 0) -> 0 | AR78: =IF(P78="사용자항목16", L78, 0) -> 0 | AS78: =IF(P78="사용자항목17", L78, 0) -> 0 | AT78: =IF(P78="사용자항목18", L78, 0) -> 0 | AU78: =IF(P78="사용자항목19", L78, 0) -> 0 | AY78: CEC10120000S
A79: 이형철근 | B79: HD-10 SD400 | C79: TON | D79: 0.1 | O79: ="01" -> 01 | P79: 기계경비 | Q79: 1 | R79: =IF(P79="기계경비", J79, 0) -> 0 | S79: =IF(P79="운반비", L79, 0) -> 0 | T79: =IF(P79="작업부산물", F79, 0) -> 0 | U79: =IF(P79="관급", F79, 0) -> 0 | V79: =IF(P79="외주비", J79, 0) -> 0 | W79: =IF(P79="장비비", J79, 0) -> 0 | X79: =IF(P79="폐기물처리비", L79, 0) -> 0 | Y79: =IF(P79="가설비", J79, 0) -> 0 | Z79: =IF(P79="잡비제외분", F79, 0) -> 0 | AA79: =IF(P79="사급자재대", L79, 0) -> 0 | AB79: =IF(P79="관급자재대", L79, 0) -> 0 | AC79: =IF(P79="관급자 관급 자재대", L79, 0) -> 0 | AD79: =IF(P79="사용자항목2", L79, 0) -> 0 | AE79: =IF(P79="설계안전성 검토비", L79, 0) -> 0 | AF79: =IF(P79="품질관리비(PS항목)", L79, 0) -> 0 | AG79: =IF(P79="작업부산물(철거해체)", L79, 0) -> 0 | AH79: =IF(P79="기술지도 용역비", L79, 0) -> 0 | AI79: =IF(P79="도급자 관급 자재대", L79, 0) -> 0 | AJ79: =IF(P79="해체계획서 작성비", L79, 0) -> 0 | AK79: =IF(P79="안전관리비(PS항목)", L79, 0) -> 0 | AL79: =IF(P79="사용자항목10", L79, 0) -> 0 | AM79: =IF(P79="사용자항목11", L79, 0) -> 0 | AN79: =IF(P79="사용자항목12", L79, 0) -> 0 | AO79: =IF(P79="사용자항목13", L79, 0) -> 0 | AP79: =IF(P79="사용자항목14", L79, 0) -> 0 | AQ79: =IF(P79="사용자항목15", L79, 0) -> 0 | AR79: =IF(P79="사용자항목16", L79, 0) -> 0 | AS79: =IF(P79="사용자항목17", L79, 0) -> 0 | AT79: =IF(P79="사용자항목18", L79, 0) -> 0 | AU79: =IF(P79="사용자항목19", L79, 0) -> 0
A80: 이형철근 | B80: HD-13 SD400 | C80: TON | D80: 0.9 | O80: ="01" -> 01 | P80: 기계경비 | Q80: 1 | R80: =IF(P80="기계경비", J80, 0) -> 0 | S80: =IF(P80="운반비", L80, 0) -> 0 | T80: =IF(P80="작업부산물", F80, 0) -> 0 | U80: =IF(P80="관급", F80, 0) -> 0 | V80: =IF(P80="외주비", J80, 0) -> 0 | W80: =IF(P80="장비비", J80, 0) -> 0 | X80: =IF(P80="폐기물처리비", L80, 0) -> 0 | Y80: =IF(P80="가설비", J80, 0) -> 0 | Z80: =IF(P80="잡비제외분", F80, 0) -> 0 | AA80: =IF(P80="사급자재대", L80, 0) -> 0 | AB80: =IF(P80="관급자재대", L80, 0) -> 0 | AC80: =IF(P80="관급자 관급 자재대", L80, 0) -> 0 | AD80: =IF(P80="사용자항목2", L80, 0) -> 0 | AE80: =IF(P80="설계안전성 검토비", L80, 0) -> 0 | AF80: =IF(P80="품질관리비(PS항목)", L80, 0) -> 0 | AG80: =IF(P80="작업부산물(철거해체)", L80, 0) -> 0 | AH80: =IF(P80="기술지도 용역비", L80, 0) -> 0 | AI80: =IF(P80="도급자 관급 자재대", L80, 0) -> 0 | AJ80: =IF(P80="해체계획서 작성비", L80, 0) -> 0 | AK80: =IF(P80="안전관리비(PS항목)", L80, 0) -> 0 | AL80: =IF(P80="사용자항목10", L80, 0) -> 0 | AM80: =IF(P80="사용자항목11", L80, 0) -> 0 | AN80: =IF(P80="사용자항목12", L80, 0) -> 0 | AO80: =IF(P80="사용자항목13", L80, 0) -> 0 | AP80: =IF(P80="사용자항목14", L80, 0) -> 0 | AQ80: =IF(P80="사용자항목15", L80, 0) -> 0 | AR80: =IF(P80="사용자항목16", L80, 0) -> 0 | AS80: =IF(P80="사용자항목17", L80, 0) -> 0 | AT80: =IF(P80="사용자항목18", L80, 0) -> 0 | AU80: =IF(P80="사용자항목19", L80, 0) -> 0
A81: 이형철근 | B81: HD-16 SD400 | C81: TON | D81: 1 | O81: ="01" -> 01 | P81: 기계경비 | Q81: 1 | R81: =IF(P81="기계경비", J81, 0) -> 0 | S81: =IF(P81="운반비", L81, 0) -> 0 | T81: =IF(P81="작업부산물", F81, 0) -> 0 | U81: =IF(P81="관급", F81, 0) -> 0 | V81: =IF(P81="외주비", J81, 0) -> 0 | W81: =IF(P81="장비비", J81, 0) -> 0 | X81: =IF(P81="폐기물처리비", L81, 0) -> 0 | Y81: =IF(P81="가설비", J81, 0) -> 0 | Z81: =IF(P81="잡비제외분", F81, 0) -> 0 | AA81: =IF(P81="사급자재대", L81, 0) -> 0 | AB81: =IF(P81="관급자재대", L81, 0) -> 0 | AC81: =IF(P81="관급자 관급 자재대", L81, 0) -> 0 | AD81: =IF(P81="사용자항목2", L81, 0) -> 0 | AE81: =IF(P81="설계안전성 검토비", L81, 0) -> 0 | AF81: =IF(P81="품질관리비(PS항목)", L81, 0) -> 0 | AG81: =IF(P81="작업부산물(철거해체)", L81, 0) -> 0 | AH81: =IF(P81="기술지도 용역비", L81, 0) -> 0 | AI81: =IF(P81="도급자 관급 자재대", L81, 0) -> 0 | AJ81: =IF(P81="해체계획서 작성비", L81, 0) -> 0 | AK81: =IF(P81="안전관리비(PS항목)", L81, 0) -> 0 | AL81: =IF(P81="사용자항목10", L81, 0) -> 0 | AM81: =IF(P81="사용자항목11", L81, 0) -> 0 | AN81: =IF(P81="사용자항목12", L81, 0) -> 0 | AO81: =IF(P81="사용자항목13", L81, 0) -> 0 | AP81: =IF(P81="사용자항목14", L81, 0) -> 0 | AQ81: =IF(P81="사용자항목15", L81, 0) -> 0 | AR81: =IF(P81="사용자항목16", L81, 0) -> 0 | AS81: =IF(P81="사용자항목17", L81, 0) -> 0 | AT81: =IF(P81="사용자항목18", L81, 0) -> 0 | AU81: =IF(P81="사용자항목19", L81, 0) -> 0
A82: [ 계 ] | D82: 2 | O82: ="" | P82: 기계경비 | Q82: 1 | R82: =IF(P82="기계경비", J82, 0) -> 0 | S82: =IF(P82="운반비", L82, 0) -> 0 | T82: =IF(P82="작업부산물", F82, 0) -> 0 | U82: =IF(P82="관급", F82, 0) -> 0 | V82: =IF(P82="외주비", J82, 0) -> 0 | W82: =IF(P82="장비비", J82, 0) -> 0 | X82: =IF(P82="폐기물처리비", L82, 0) -> 0 | Y82: =IF(P82="가설비", J82, 0) -> 0 | Z82: =IF(P82="잡비제외분", F82, 0) -> 0 | AA82: =IF(P82="사급자재대", L82, 0) -> 0 | AB82: =IF(P82="관급자재대", L82, 0) -> 0 | AC82: =IF(P82="관급자 관급 자재대", L82, 0) -> 0 | AD82: =IF(P82="사용자항목2", L82, 0) -> 0 | AE82: =IF(P82="설계안전성 검토비", L82, 0) -> 0 | AF82: =IF(P82="품질관리비(PS항목)", L82, 0) -> 0 | AG82: =IF(P82="작업부산물(철거해체)", L82, 0) -> 0 | AH82: =IF(P82="기술지도 용역비", L82, 0) -> 0 | AI82: =IF(P82="도급자 관급 자재대", L82, 0) -> 0 | AJ82: =IF(P82="해체계획서 작성비", L82, 0) -> 0 | AK82: =IF(P82="안전관리비(PS항목)", L82, 0) -> 0 | AL82: =IF(P82="사용자항목10", L82, 0) -> 0 | AM82: =IF(P82="사용자항목11", L82, 0) -> 0 | AN82: =IF(P82="사용자항목12", L82, 0) -> 0 | AO82: =IF(P82="사용자항목13", L82, 0) -> 0 | AP82: =IF(P82="사용자항목14", L82, 0) -> 0 | AQ82: =IF(P82="사용자항목15", L82, 0) -> 0 | AR82: =IF(P82="사용자항목16", L82, 0) -> 0 | AS82: =IF(P82="사용자항목17", L82, 0) -> 0 | AT82: =IF(P82="사용자항목18", L82, 0) -> 0 | AU82: =IF(P82="사용자항목19", L82, 0) -> 0
A83: 철근 현장가공 및 조립 | B83: 건축, Type-Ⅰ | C83: TON | D83: 1.8 | O83: ="" | P83: 기계경비 | Q83: 1 | R83: =IF(P83="기계경비", J83, 0) -> 0 | S83: =IF(P83="운반비", L83, 0) -> 0 | T83: =IF(P83="작업부산물", F83, 0) -> 0 | U83: =IF(P83="관급", F83, 0) -> 0 | V83: =IF(P83="외주비", J83, 0) -> 0 | W83: =IF(P83="장비비", J83, 0) -> 0 | X83: =IF(P83="폐기물처리비", L83, 0) -> 0 | Y83: =IF(P83="가설비", J83, 0) -> 0 | Z83: =IF(P83="잡비제외분", F83, 0) -> 0 | AA83: =IF(P83="사급자재대", L83, 0) -> 0 | AB83: =IF(P83="관급자재대", L83, 0) -> 0 | AC83: =IF(P83="관급자 관급 자재대", L83, 0) -> 0 | AD83: =IF(P83="사용자항목2", L83, 0) -> 0 | AE83: =IF(P83="설계안전성 검토비", L83, 0) -> 0 | AF83: =IF(P83="품질관리비(PS항목)", L83, 0) -> 0 | AG83: =IF(P83="작업부산물(철거해체)", L83, 0) -> 0 | AH83: =IF(P83="기술지도 용역비", L83, 0) -> 0 | AI83: =IF(P83="도급자 관급 자재대", L83, 0) -> 0 | AJ83: =IF(P83="해체계획서 작성비", L83, 0) -> 0 | AK83: =IF(P83="안전관리비(PS항목)", L83, 0) -> 0 | AL83: =IF(P83="사용자항목10", L83, 0) -> 0 | AM83: =IF(P83="사용자항목11", L83, 0) -> 0 | AN83: =IF(P83="사용자항목12", L83, 0) -> 0 | AO83: =IF(P83="사용자항목13", L83, 0) -> 0 | AP83: =IF(P83="사용자항목14", L83, 0) -> 0 | AQ83: =IF(P83="사용자항목15", L83, 0) -> 0 | AR83: =IF(P83="사용자항목16", L83, 0) -> 0 | AS83: =IF(P83="사용자항목17", L83, 0) -> 0 | AT83: =IF(P83="사용자항목18", L83, 0) -> 0 | AU83: =IF(P83="사용자항목19", L83, 0) -> 0
A84: 고철 | B84: 중량철A (봉.형강류) | C84: TON | D84: -0.2 | O84: ="01" -> 01 | P84: 기계경비 | Q84: 1 | R84: =IF(P84="기계경비", J84, 0) -> 0 | S84: =IF(P84="운반비", L84, 0) -> 0 | T84: =IF(P84="작업부산물", F84, 0) -> 0 | U84: =IF(P84="관급", F84, 0) -> 0 | V84: =IF(P84="외주비", J84, 0) -> 0 | W84: =IF(P84="장비비", J84, 0) -> 0 | X84: =IF(P84="폐기물처리비", L84, 0) -> 0 | Y84: =IF(P84="가설비", J84, 0) -> 0 | Z84: =IF(P84="잡비제외분", F84, 0) -> 0 | AA84: =IF(P84="사급자재대", L84, 0) -> 0 | AB84: =IF(P84="관급자재대", L84, 0) -> 0 | AC84: =IF(P84="관급자 관급 자재대", L84, 0) -> 0 | AD84: =IF(P84="사용자항목2", L84, 0) -> 0 | AE84: =IF(P84="설계안전성 검토비", L84, 0) -> 0 | AF84: =IF(P84="품질관리비(PS항목)", L84, 0) -> 0 | AG84: =IF(P84="작업부산물(철거해체)", L84, 0) -> 0 | AH84: =IF(P84="기술지도 용역비", L84, 0) -> 0 | AI84: =IF(P84="도급자 관급 자재대", L84, 0) -> 0 | AJ84: =IF(P84="해체계획서 작성비", L84, 0) -> 0 | AK84: =IF(P84="안전관리비(PS항목)", L84, 0) -> 0 | AL84: =IF(P84="사용자항목10", L84, 0) -> 0 | AM84: =IF(P84="사용자항목11", L84, 0) -> 0 | AN84: =IF(P84="사용자항목12", L84, 0) -> 0 | AO84: =IF(P84="사용자항목13", L84, 0) -> 0 | AP84: =IF(P84="사용자항목14", L84, 0) -> 0 | AQ84: =IF(P84="사용자항목15", L84, 0) -> 0 | AR84: =IF(P84="사용자항목16", L84, 0) -> 0 | AS84: =IF(P84="사용자항목17", L84, 0) -> 0 | AT84: =IF(P84="사용자항목18", L84, 0) -> 0 | AU84: =IF(P84="사용자항목19", L84, 0) -> 0 | AY84: 31COST
A85: 유로폼 설치 및 해체 | B85: 6회, 간단, 수직고 7m까지 | C85: M2 | D85: 60 | O85: ="" | P85: 기계경비 | Q85: 1 | R85: =IF(P85="기계경비", J85, 0) -> 0 | S85: =IF(P85="운반비", L85, 0) -> 0 | T85: =IF(P85="작업부산물", F85, 0) -> 0 | U85: =IF(P85="관급", F85, 0) -> 0 | V85: =IF(P85="외주비", J85, 0) -> 0 | W85: =IF(P85="장비비", J85, 0) -> 0 | X85: =IF(P85="폐기물처리비", L85, 0) -> 0 | Y85: =IF(P85="가설비", J85, 0) -> 0 | Z85: =IF(P85="잡비제외분", F85, 0) -> 0 | AA85: =IF(P85="사급자재대", L85, 0) -> 0 | AB85: =IF(P85="관급자재대", L85, 0) -> 0 | AC85: =IF(P85="관급자 관급 자재대", L85, 0) -> 0 | AD85: =IF(P85="사용자항목2", L85, 0) -> 0 | AE85: =IF(P85="설계안전성 검토비", L85, 0) -> 0 | AF85: =IF(P85="품질관리비(PS항목)", L85, 0) -> 0 | AG85: =IF(P85="작업부산물(철거해체)", L85, 0) -> 0 | AH85: =IF(P85="기술지도 용역비", L85, 0) -> 0 | AI85: =IF(P85="도급자 관급 자재대", L85, 0) -> 0 | AJ85: =IF(P85="해체계획서 작성비", L85, 0) -> 0 | AK85: =IF(P85="안전관리비(PS항목)", L85, 0) -> 0 | AL85: =IF(P85="사용자항목10", L85, 0) -> 0 | AM85: =IF(P85="사용자항목11", L85, 0) -> 0 | AN85: =IF(P85="사용자항목12", L85, 0) -> 0 | AO85: =IF(P85="사용자항목13", L85, 0) -> 0 | AP85: =IF(P85="사용자항목14", L85, 0) -> 0 | AQ85: =IF(P85="사용자항목15", L85, 0) -> 0 | AR85: =IF(P85="사용자항목16", L85, 0) -> 0 | AS85: =IF(P85="사용자항목17", L85, 0) -> 0 | AT85: =IF(P85="사용자항목18", L85, 0) -> 0 | AU85: =IF(P85="사용자항목19", L85, 0) -> 0
A96: 합 계 | F96: =ROUNDDOWN(SUMIF(Q75:Q95, "1", F75:F95), 0) -> 0 | H96: =ROUNDDOWN(SUMIF(Q75:Q95, "1", H75:H95), 0) -> 0 | J96: =ROUNDDOWN(SUMIF(Q75:Q95, "1", J75:J95), 0) -> 0 | L96: =F96+H96+J96 -> 0 | R96: =ROUNDDOWN(SUM(R75:R85), 0) -> 0 | S96: =ROUNDDOWN(SUM(S75:S85), 0) -> 0 | T96: =ROUNDDOWN(SUM(T75:T85), 0) -> 0 | U96: =ROUNDDOWN(SUM(U75:U85), 0) -> 0 | V96: =ROUNDDOWN(SUM(V75:V85), 0) -> 0 | W96: =ROUNDDOWN(SUM(W75:W85), 0) -> 0 | X96: =ROUNDDOWN(SUM(X75:X85), 0) -> 0 | Y96: =ROUNDDOWN(SUM(Y75:Y85), 0) -> 0 | ... AY96: =ROUNDDOWN(SUM(AY75:AY85), 0) -> 0
A97: 05. 철골공사
A98: H형강(SHN275) | B98: 200*200*8*12mm | C98: TON | D98: 14.9 | O98: ="01" -> 01 | P98: 기계경비 | Q98: 1 | R98: =IF(P98="기계경비", J98, 0) -> 0 | S98: =IF(P98="운반비", L98, 0) -> 0 | T98: =IF(P98="작업부산물", F98, 0) -> 0 | U98: =IF(P98="관급", F98, 0) -> 0 | V98: =IF(P98="외주비", J98, 0) -> 0 | W98: =IF(P98="장비비", J98, 0) -> 0 | X98: =IF(P98="폐기물처리비", L98, 0) -> 0 | Y98: =IF(P98="가설비", J98, 0) -> 0 | Z98: =IF(P98="잡비제외분", F98, 0) -> 0 | AA98: =IF(P98="사급자재대", L98, 0) -> 0 | AB98: =IF(P98="관급자재대", L98, 0) -> 0 | AC98: =IF(P98="관급자 관급 자재대", L98, 0) -> 0 | AD98: =IF(P98="사용자항목2", L98, 0) -> 0 | AE98: =IF(P98="설계안전성 검토비", L98, 0) -> 0 | AF98: =IF(P98="품질관리비(PS항목)", L98, 0) -> 0 | AG98: =IF(P98="작업부산물(철거해체)", L98, 0) -> 0 | AH98: =IF(P98="기술지도 용역비", L98, 0) -> 0 | AI98: =IF(P98="도급자 관급 자재대", L98, 0) -> 0 | AJ98: =IF(P98="해체계획서 작성비", L98, 0) -> 0 | AK98: =IF(P98="안전관리비(PS항목)", L98, 0) -> 0 | AL98: =IF(P98="사용자항목10", L98, 0) -> 0 | AM98: =IF(P98="사용자항목11", L98, 0) -> 0 | AN98: =IF(P98="사용자항목12", L98, 0) -> 0 | AO98: =IF(P98="사용자항목13", L98, 0) -> 0 | AP98: =IF(P98="사용자항목14", L98, 0) -> 0 | AQ98: =IF(P98="사용자항목15", L98, 0) -> 0 | AR98: =IF(P98="사용자항목16", L98, 0) -> 0 | AS98: =IF(P98="사용자항목17", L98, 0) -> 0 | AT98: =IF(P98="사용자항목18", L98, 0) -> 0 | AU98: =IF(P98="사용자항목19", L98, 0) -> 0 | AY98: 삼일설계적산사무소
A99: H형강(SHN275) | B99: 200*100*5.5*8mm | C99: TON | D99: 0.1 | O99: ="01" -> 01 | P99: 기계경비 | Q99: 1 | R99: =IF(P99="기계경비", J99, 0) -> 0 | S99: =IF(P99="운반비", L99, 0) -> 0 | T99: =IF(P99="작업부산물", F99, 0) -> 0 | U99: =IF(P99="관급", F99, 0) -> 0 | V99: =IF(P99="외주비", J99, 0) -> 0 | W99: =IF(P99="장비비", J99, 0) -> 0 | X99: =IF(P99="폐기물처리비", L99, 0) -> 0 | Y99: =IF(P99="가설비", J99, 0) -> 0 | Z99: =IF(P99="잡비제외분", F99, 0) -> 0 | AA99: =IF(P99="사급자재대", L99, 0) -> 0 | AB99: =IF(P99="관급자재대", L99, 0) -> 0 | AC99: =IF(P99="관급자 관급 자재대", L99, 0) -> 0 | AD99: =IF(P99="사용자항목2", L99, 0) -> 0 | AE99: =IF(P99="설계안전성 검토비", L99, 0) -> 0 | AF99: =IF(P99="품질관리비(PS항목)", L99, 0) -> 0 | AG99: =IF(P99="작업부산물(철거해체)", L99, 0) -> 0 | AH99: =IF(P99="기술지도 용역비", L99, 0) -> 0 | AI99: =IF(P99="도급자 관급 자재대", L99, 0) -> 0 | AJ99: =IF(P99="해체계획서 작성비", L99, 0) -> 0 | AK99: =IF(P99="안전관리비(PS항목)", L99, 0) -> 0 | AL99: =IF(P99="사용자항목10", L99, 0) -> 0 | AM99: =IF(P99="사용자항목11", L99, 0) -> 0 | AN99: =IF(P99="사용자항목12", L99, 0) -> 0 | AO99: =IF(P99="사용자항목13", L99, 0) -> 0 | AP99: =IF(P99="사용자항목14", L99, 0) -> 0 | AQ99: =IF(P99="사용자항목15", L99, 0) -> 0 | AR99: =IF(P99="사용자항목16", L99, 0) -> 0 | AS99: =IF(P99="사용자항목17", L99, 0) -> 0 | AT99: =IF(P99="사용자항목18", L99, 0) -> 0 | AU99: =IF(P99="사용자항목19", L99, 0) -> 0
A100: ㄱ형강 | B100: 50*50*4mm | C100: TON | D100: 0.01 | O100: ="01" -> 01 | P100: 기계경비 | Q100: 1 | R100: =IF(P100="기계경비", J100, 0) -> 0 | S100: =IF(P100="운반비", L100, 0) -> 0 | T100: =IF(P100="작업부산물", F100, 0) -> 0 | U100: =IF(P100="관급", F100, 0) -> 0 | V100: =IF(P100="외주비", J100, 0) -> 0 | W100: =IF(P100="장비비", J100, 0) -> 0 | X100: =IF(P100="폐기물처리비", L100, 0) -> 0 | Y100: =IF(P100="가설비", J100, 0) -> 0 | Z100: =IF(P100="잡비제외분", F100, 0) -> 0 | AA100: =IF(P100="사급자재대", L100, 0) -> 0 | AB100: =IF(P100="관급자재대", L100, 0) -> 0 | AC100: =IF(P100="관급자 관급 자재대", L100, 0) -> 0 | AD100: =IF(P100="사용자항목2", L100, 0) -> 0 | AE100: =IF(P100="설계안전성 검토비", L100, 0) -> 0 | AF100: =IF(P100="품질관리비(PS항목)", L100, 0) -> 0 | AG100: =IF(P100="작업부산물(철거해체)", L100, 0) -> 0 | AH100: =IF(P100="기술지도 용역비", L100, 0) -> 0 | AI100: =IF(P100="도급자 관급 자재대", L100, 0) -> 0 | AJ100: =IF(P100="해체계획서 작성비", L100, 0) -> 0 | AK100: =IF(P100="안전관리비(PS항목)", L100, 0) -> 0 | AL100: =IF(P100="사용자항목10", L100, 0) -> 0 | AM100: =IF(P100="사용자항목11", L100, 0) -> 0 | AN100: =IF(P100="사용자항목12", L100, 0) -> 0 | AO100: =IF(P100="사용자항목13", L100, 0) -> 0 | AP100: =IF(P100="사용자항목14", L100, 0) -> 0 | AQ100: =IF(P100="사용자항목15", L100, 0) -> 0 | AR100: =IF(P100="사용자항목16", L100, 0) -> 0 | AS100: =IF(P100="사용자항목17", L100, 0) -> 0 | AT100: =IF(P100="사용자항목18", L100, 0) -> 0 | AU100: =IF(P100="사용자항목19", L100, 0) -> 0
A101: ㄱ형강 | B101: 75*75*6mm | C101: TON | D101: 0.11 | O101: ="01" -> 01 | P101: 기계경비 | Q101: 1 | R101: =IF(P101="기계경비", J101, 0) -> 0 | S101: =IF(P101="운반비", L101, 0) -> 0 | T101: =IF(P101="작업부산물", F101, 0) -> 0 | U101: =IF(P101="관급", F101, 0) -> 0 | V101: =IF(P101="외주비", J101, 0) -> 0 | W101: =IF(P101="장비비", J101, 0) -> 0 | X101: =IF(P101="폐기물처리비", L101, 0) -> 0 | Y101: =IF(P101="가설비", J101, 0) -> 0 | Z101: =IF(P101="잡비제외분", F101, 0) -> 0 | AA101: =IF(P101="사급자재대", L101, 0) -> 0 | AB101: =IF(P101="관급자재대", L101, 0) -> 0 | AC101: =IF(P101="관급자 관급 자재대", L101, 0) -> 0 | AD101: =IF(P101="사용자항목2", L101, 0) -> 0 | AE101: =IF(P101="설계안전성 검토비", L101, 0) -> 0 | AF101: =IF(P101="품질관리비(PS항목)", L101, 0) -> 0 | AG101: =IF(P101="작업부산물(철거해체)", L101, 0) -> 0 | AH101: =IF(P101="기술지도 용역비", L101, 0) -> 0 | AI101: =IF(P101="도급자 관급 자재대", L101, 0) -> 0 | AJ101: =IF(P101="해체계획서 작성비", L101, 0) -> 0 | AK101: =IF(P101="안전관리비(PS항목)", L101, 0) -> 0 | AL101: =IF(P101="사용자항목10", L101, 0) -> 0 | AM101: =IF(P101="사용자항목11", L101, 0) -> 0 | AN101: =IF(P101="사용자항목12", L101, 0) -> 0 | AO101: =IF(P101="사용자항목13", L101, 0) -> 0 | AP101: =IF(P101="사용자항목14", L101, 0) -> 0 | AQ101: =IF(P101="사용자항목15", L101, 0) -> 0 | AR101: =IF(P101="사용자항목16", L101, 0) -> 0 | AS101: =IF(P101="사용자항목17", L101, 0) -> 0 | AT101: =IF(P101="사용자항목18", L101, 0) -> 0 | AU101: =IF(P101="사용자항목19", L101, 0) -> 0 | AY101: 삼일설계적산사무소
A102: 경량C형강(3.2t) | B102: 100*50*20 | C102: TON | D102: 0.92 | O102: ="01" -> 01 | P102: 기계경비 | Q102: 1 | R102: =IF(P102="기계경비", J102, 0) -> 0 | S102: =IF(P102="운반비", L102, 0) -> 0 | T102: =IF(P102="작업부산물", F102, 0) -> 0 | U102: =IF(P102="관급", F102, 0) -> 0 | V102: =IF(P102="외주비", J102, 0) -> 0 | W102: =IF(P102="장비비", J102, 0) -> 0 | X102: =IF(P102="폐기물처리비", L102, 0) -> 0 | Y102: =IF(P102="가설비", J102, 0) -> 0 | Z102: =IF(P102="잡비제외분", F102, 0) -> 0 | AA102: =IF(P102="사급자재대", L102, 0) -> 0 | AB102: =IF(P102="관급자재대", L102, 0) -> 0 | AC102: =IF(P102="관급자 관급 자재대", L102, 0) -> 0 | AD102: =IF(P102="사용자항목2", L102, 0) -> 0 | AE102: =IF(P102="설계안전성 검토비", L102, 0) -> 0 | AF102: =IF(P102="품질관리비(PS항목)", L102, 0) -> 0 | AG102: =IF(P102="작업부산물(철거해체)", L102, 0) -> 0 | AH102: =IF(P102="기술지도 용역비", L102, 0) -> 0 | AI102: =IF(P102="도급자 관급 자재대", L102, 0) -> 0 | AJ102: =IF(P102="해체계획서 작성비", L102, 0) -> 0 | AK102: =IF(P102="안전관리비(PS항목)", L102, 0) -> 0 | AL102: =IF(P102="사용자항목10", L102, 0) -> 0 | AM102: =IF(P102="사용자항목11", L102, 0) -> 0 | AN102: =IF(P102="사용자항목12", L102, 0) -> 0 | AO102: =IF(P102="사용자항목13", L102, 0) -> 0 | AP102: =IF(P102="사용자항목14", L102, 0) -> 0 | AQ102: =IF(P102="사용자항목15", L102, 0) -> 0 | AR102: =IF(P102="사용자항목16", L102, 0) -> 0 | AS102: =IF(P102="사용자항목17", L102, 0) -> 0 | AT102: =IF(P102="사용자항목18", L102, 0) -> 0 | AU102: =IF(P102="사용자항목19", L102, 0) -> 0
A103: 철판 | B103: 8.0T | C103: TON | D103: 0.03 | O103: ="01" -> 01 | P103: 기계경비 | Q103: 1 | R103: =IF(P103="기계경비", J103, 0) -> 0 | S103: =IF(P103="운반비", L103, 0) -> 0 | T103: =IF(P103="작업부산물", F103, 0) -> 0 | U103: =IF(P103="관급", F103, 0) -> 0 | V103: =IF(P103="외주비", J103, 0) -> 0 | W103: =IF(P103="장비비", J103, 0) -> 0 | X103: =IF(P103="폐기물처리비", L103, 0) -> 0 | Y103: =IF(P103="가설비", J103, 0) -> 0 | Z103: =IF(P103="잡비제외분", F103, 0) -> 0 | AA103: =IF(P103="사급자재대", L103, 0) -> 0 | AB103: =IF(P103="관급자재대", L103, 0) -> 0 | AC103: =IF(P103="관급자 관급 자재대", L103, 0) -> 0 | AD103: =IF(P103="사용자항목2", L103, 0) -> 0 | AE103: =IF(P103="설계안전성 검토비", L103, 0) -> 0 | AF103: =IF(P103="품질관리비(PS항목)", L103, 0) -> 0 | AG103: =IF(P103="작업부산물(철거해체)", L103, 0) -> 0 | AH103: =IF(P103="기술지도 용역비", L103, 0) -> 0 | AI103: =IF(P103="도급자 관급 자재대", L103, 0) -> 0 | AJ103: =IF(P103="해체계획서 작성비", L103, 0) -> 0 | AK103: =IF(P103="안전관리비(PS항목)", L103, 0) -> 0 | AL103: =IF(P103="사용자항목10", L103, 0) -> 0 | AM103: =IF(P103="사용자항목11", L103, 0) -> 0 | AN103: =IF(P103="사용자항목12", L103, 0) -> 0 | AO103: =IF(P103="사용자항목13", L103, 0) -> 0 | AP103: =IF(P103="사용자항목14", L103, 0) -> 0 | AQ103: =IF(P103="사용자항목15", L103, 0) -> 0 | AR103: =IF(P103="사용자항목16", L103, 0) -> 0 | AS103: =IF(P103="사용자항목17", L103, 0) -> 0 | AT103: =IF(P103="사용자항목18", L103, 0) -> 0 | AU103: =IF(P103="사용자항목19", L103, 0) -> 0 | AY103: 삼일설계적산사무소
A104: 철판 | B104: 9.0T | C104: TON | D104: 0.86 | O104: ="01" -> 01 | P104: 기계경비 | Q104: 1 | R104: =IF(P104="기계경비", J104, 0) -> 0 | S104: =IF(P104="운반비", L104, 0) -> 0 | T104: =IF(P104="작업부산물", F104, 0) -> 0 | U104: =IF(P104="관급", F104, 0) -> 0 | V104: =IF(P104="외주비", J104, 0) -> 0 | W104: =IF(P104="장비비", J104, 0) -> 0 | X104: =IF(P104="폐기물처리비", L104, 0) -> 0 | Y104: =IF(P104="가설비", J104, 0) -> 0 | Z104: =IF(P104="잡비제외분", F104, 0) -> 0 | AA104: =IF(P104="사급자재대", L104, 0) -> 0 | AB104: =IF(P104="관급자재대", L104, 0) -> 0 | AC104: =IF(P104="관급자 관급 자재대", L104, 0) -> 0 | AD104: =IF(P104="사용자항목2", L104, 0) -> 0 | AE104: =IF(P104="설계안전성 검토비", L104, 0) -> 0 | AF104: =IF(P104="품질관리비(PS항목)", L104, 0) -> 0 | AG104: =IF(P104="작업부산물(철거해체)", L104, 0) -> 0 | AH104: =IF(P104="기술지도 용역비", L104, 0) -> 0 | AI104: =IF(P104="도급자 관급 자재대", L104, 0) -> 0 | AJ104: =IF(P104="해체계획서 작성비", L104, 0) -> 0 | AK104: =IF(P104="안전관리비(PS항목)", L104, 0) -> 0 | AL104: =IF(P104="사용자항목10", L104, 0) -> 0 | AM104: =IF(P104="사용자항목11", L104, 0) -> 0 | AN104: =IF(P104="사용자항목12", L104, 0) -> 0 | AO104: =IF(P104="사용자항목13", L104, 0) -> 0 | AP104: =IF(P104="사용자항목14", L104, 0) -> 0 | AQ104: =IF(P104="사용자항목15", L104, 0) -> 0 | AR104: =IF(P104="사용자항목16", L104, 0) -> 0 | AS104: =IF(P104="사용자항목17", L104, 0) -> 0 | AT104: =IF(P104="사용자항목18", L104, 0) -> 0 | AU104: =IF(P104="사용자항목19", L104, 0) -> 0
A105: 철판 | B105: 12.0T | C105: TON | D105: 0.26 | O105: ="01" -> 01 | P105: 기계경비 | Q105: 1 | R105: =IF(P105="기계경비", J105, 0) -> 0 | S105: =IF(P105="운반비", L105, 0) -> 0 | T105: =IF(P105="작업부산물", F105, 0) -> 0 | U105: =IF(P105="관급", F105, 0) -> 0 | V105: =IF(P105="외주비", J105, 0) -> 0 | W105: =IF(P105="장비비", J105, 0) -> 0 | X105: =IF(P105="폐기물처리비", L105, 0) -> 0 | Y105: =IF(P105="가설비", J105, 0) -> 0 | Z105: =IF(P105="잡비제외분", F105, 0) -> 0 | AA105: =IF(P105="사급자재대", L105, 0) -> 0 | AB105: =IF(P105="관급자재대", L105, 0) -> 0 | AC105: =IF(P105="관급자 관급 자재대", L105, 0) -> 0 | AD105: =IF(P105="사용자항목2", L105, 0) -> 0 | AE105: =IF(P105="설계안전성 검토비", L105, 0) -> 0 | AF105: =IF(P105="품질관리비(PS항목)", L105, 0) -> 0 | AG105: =IF(P105="작업부산물(철거해체)", L105, 0) -> 0 | AH105: =IF(P105="기술지도 용역비", L105, 0) -> 0 | AI105: =IF(P105="도급자 관급 자재대", L105, 0) -> 0 | AJ105: =IF(P105="해체계획서 작성비", L105, 0) -> 0 | AK105: =IF(P105="안전관리비(PS항목)", L105, 0) -> 0 | AL105: =IF(P105="사용자항목10", L105, 0) -> 0 | AM105: =IF(P105="사용자항목11", L105, 0) -> 0 | AN105: =IF(P105="사용자항목12", L105, 0) -> 0 | AO105: =IF(P105="사용자항목13", L105, 0) -> 0 | AP105: =IF(P105="사용자항목14", L105, 0) -> 0 | AQ105: =IF(P105="사용자항목15", L105, 0) -> 0 | AR105: =IF(P105="사용자항목16", L105, 0) -> 0 | AS105: =IF(P105="사용자항목17", L105, 0) -> 0 | AT105: =IF(P105="사용자항목18", L105, 0) -> 0 | AU105: =IF(P105="사용자항목19", L105, 0) -> 0
A106: 철판 | B106: 15.0T | C106: TON | D106: 0.03 | O106: ="01" -> 01 | P106: 기계경비 | Q106: 1 | R106: =IF(P106="기계경비", J106, 0) -> 0 | S106: =IF(P106="운반비", L106, 0) -> 0 | T106: =IF(P106="작업부산물", F106, 0) -> 0 | U106: =IF(P106="관급", F106, 0) -> 0 | V106: =IF(P106="외주비", J106, 0) -> 0 | W106: =IF(P106="장비비", J106, 0) -> 0 | X106: =IF(P106="폐기물처리비", L106, 0) -> 0 | Y106: =IF(P106="가설비", J106, 0) -> 0 | Z106: =IF(P106="잡비제외분", F106, 0) -> 0 | AA106: =IF(P106="사급자재대", L106, 0) -> 0 | AB106: =IF(P106="관급자재대", L106, 0) -> 0 | AC106: =IF(P106="관급자 관급 자재대", L106, 0) -> 0 | AD106: =IF(P106="사용자항목2", L106, 0) -> 0 | AE106: =IF(P106="설계안전성 검토비", L106, 0) -> 0 | AF106: =IF(P106="품질관리비(PS항목)", L106, 0) -> 0 | AG106: =IF(P106="작업부산물(철거해체)", L106, 0) -> 0 | AH106: =IF(P106="기술지도 용역비", L106, 0) -> 0 | AI106: =IF(P106="도급자 관급 자재대", L106, 0) -> 0 | AJ106: =IF(P106="해체계획서 작성비", L106, 0) -> 0 | AK106: =IF(P106="안전관리비(PS항목)", L106, 0) -> 0 | AL106: =IF(P106="사용자항목10", L106, 0) -> 0 | AM106: =IF(P106="사용자항목11", L106, 0) -> 0 | AN106: =IF(P106="사용자항목12", L106, 0) -> 0 | AO106: =IF(P106="사용자항목13", L106, 0) -> 0 | AP106: =IF(P106="사용자항목14", L106, 0) -> 0 | AQ106: =IF(P106="사용자항목15", L106, 0) -> 0 | AR106: =IF(P106="사용자항목16", L106, 0) -> 0 | AS106: =IF(P106="사용자항목17", L106, 0) -> 0 | AT106: =IF(P106="사용자항목18", L106, 0) -> 0 | AU106: =IF(P106="사용자항목19", L106, 0) -> 0 | AY106: 삼일설계적산사무소
A107: 철판 | B107: 25.0T | C107: TON | D107: 0.07 | O107: ="01" -> 01 | P107: 기계경비 | Q107: 1 | R107: =IF(P107="기계경비", J107, 0) -> 0 | S107: =IF(P107="운반비", L107, 0) -> 0 | T107: =IF(P107="작업부산물", F107, 0) -> 0 | U107: =IF(P107="관급", F107, 0) -> 0 | V107: =IF(P107="외주비", J107, 0) -> 0 | W107: =IF(P107="장비비", J107, 0) -> 0 | X107: =IF(P107="폐기물처리비", L107, 0) -> 0 | Y107: =IF(P107="가설비", J107, 0) -> 0 | Z107: =IF(P107="잡비제외분", F107, 0) -> 0 | AA107: =IF(P107="사급자재대", L107, 0) -> 0 | AB107: =IF(P107="관급자재대", L107, 0) -> 0 | AC107: =IF(P107="관급자 관급 자재대", L107, 0) -> 0 | AD107: =IF(P107="사용자항목2", L107, 0) -> 0 | AE107: =IF(P107="설계안전성 검토비", L107, 0) -> 0 | AF107: =IF(P107="품질관리비(PS항목)", L107, 0) -> 0 | AG107: =IF(P107="작업부산물(철거해체)", L107, 0) -> 0 | AH107: =IF(P107="기술지도 용역비", L107, 0) -> 0 | AI107: =IF(P107="도급자 관급 자재대", L107, 0) -> 0 | AJ107: =IF(P107="해체계획서 작성비", L107, 0) -> 0 | AK107: =IF(P107="안전관리비(PS항목)", L107, 0) -> 0 | AL107: =IF(P107="사용자항목10", L107, 0) -> 0 | AM107: =IF(P107="사용자항목11", L107, 0) -> 0 | AN107: =IF(P107="사용자항목12", L107, 0) -> 0 | AO107: =IF(P107="사용자항목13", L107, 0) -> 0 | AP107: =IF(P107="사용자항목14", L107, 0) -> 0 | AQ107: =IF(P107="사용자항목15", L107, 0) -> 0 | AR107: =IF(P107="사용자항목16", L107, 0) -> 0 | AS107: =IF(P107="사용자항목17", L107, 0) -> 0 | AT107: =IF(P107="사용자항목18", L107, 0) -> 0 | AU107: =IF(P107="사용자항목19", L107, 0) -> 0 | AY107: 삼일설계적산사무소
A108: 고장력볼트(TS) | B108: M16 L50 (너트.와셔포함) | C108: 조 | D108: 8 | O108: ="01" -> 01 | P108: 기계경비 | Q108: 1 | R108: =IF(P108="기계경비", J108, 0) -> 0 | S108: =IF(P108="운반비", L108, 0) -> 0 | T108: =IF(P108="작업부산물", F108, 0) -> 0 | U108: =IF(P108="관급", F108, 0) -> 0 | V108: =IF(P108="외주비", J108, 0) -> 0 | W108: =IF(P108="장비비", J108, 0) -> 0 | X108: =IF(P108="폐기물처리비", L108, 0) -> 0 | Y108: =IF(P108="가설비", J108, 0) -> 0 | Z108: =IF(P108="잡비제외분", F108, 0) -> 0 | AA108: =IF(P108="사급자재대", L108, 0) -> 0 | AB108: =IF(P108="관급자재대", L108, 0) -> 0 | AC108: =IF(P108="관급자 관급 자재대", L108, 0) -> 0 | AD108: =IF(P108="사용자항목2", L108, 0) -> 0 | AE108: =IF(P108="설계안전성 검토비", L108, 0) -> 0 | AF108: =IF(P108="품질관리비(PS항목)", L108, 0) -> 0 | AG108: =IF(P108="작업부산물(철거해체)", L108, 0) -> 0 | AH108: =IF(P108="기술지도 용역비", L108, 0) -> 0 | AI108: =IF(P108="도급자 관급 자재대", L108, 0) -> 0 | AJ108: =IF(P108="해체계획서 작성비", L108, 0) -> 0 | AK108: =IF(P108="안전관리비(PS항목)", L108, 0) -> 0 | AL108: =IF(P108="사용자항목10", L108, 0) -> 0 | AM108: =IF(P108="사용자항목11", L108, 0) -> 0 | AN108: =IF(P108="사용자항목12", L108, 0) -> 0 | AO108: =IF(P108="사용자항목13", L108, 0) -> 0 | AP108: =IF(P108="사용자항목14", L108, 0) -> 0 | AQ108: =IF(P108="사용자항목15", L108, 0) -> 0 | AR108: =IF(P108="사용자항목16", L108, 0) -> 0 | AS108: =IF(P108="사용자항목17", L108, 0) -> 0 | AT108: =IF(P108="사용자항목18", L108, 0) -> 0 | AU108: =IF(P108="사용자항목19", L108, 0) -> 0
A109: 고장력볼트(TS) | B109: M20 L50 (너트.와셔포함) | C109: 조 | D109: 860 | O109: ="01" -> 01 | P109: 기계경비 | Q109: 1 | R109: =IF(P109="기계경비", J109, 0) -> 0 | S109: =IF(P109="운반비", L109, 0) -> 0 | T109: =IF(P109="작업부산물", F109, 0) -> 0 | U109: =IF(P109="관급", F109, 0) -> 0 | V109: =IF(P109="외주비", J109, 0) -> 0 | W109: =IF(P109="장비비", J109, 0) -> 0 | X109: =IF(P109="폐기물처리비", L109, 0) -> 0 | Y109: =IF(P109="가설비", J109, 0) -> 0 | Z109: =IF(P109="잡비제외분", F109, 0) -> 0 | AA109: =IF(P109="사급자재대", L109, 0) -> 0 | AB109: =IF(P109="관급자재대", L109, 0) -> 0 | AC109: =IF(P109="관급자 관급 자재대", L109, 0) -> 0 | AD109: =IF(P109="사용자항목2", L109, 0) -> 0 | AE109: =IF(P109="설계안전성 검토비", L109, 0) -> 0 | AF109: =IF(P109="품질관리비(PS항목)", L109, 0) -> 0 | AG109: =IF(P109="작업부산물(철거해체)", L109, 0) -> 0 | AH109: =IF(P109="기술지도 용역비", L109, 0) -> 0 | AI109: =IF(P109="도급자 관급 자재대", L109, 0) -> 0 | AJ109: =IF(P109="해체계획서 작성비", L109, 0) -> 0 | AK109: =IF(P109="안전관리비(PS항목)", L109, 0) -> 0 | AL109: =IF(P109="사용자항목10", L109, 0) -> 0 | AM109: =IF(P109="사용자항목11", L109, 0) -> 0 | AN109: =IF(P109="사용자항목12", L109, 0) -> 0 | AO109: =IF(P109="사용자항목13", L109, 0) -> 0 | AP109: =IF(P109="사용자항목14", L109, 0) -> 0 | AQ109: =IF(P109="사용자항목15", L109, 0) -> 0 | AR109: =IF(P109="사용자항목16", L109, 0) -> 0 | AS109: =IF(P109="사용자항목17", L109, 0) -> 0 | AT109: =IF(P109="사용자항목18", L109, 0) -> 0 | AU109: =IF(P109="사용자항목19", L109, 0) -> 0
A110: 고장력볼트본조임 | B110: 300톤미만,30본/t미만 | C110: TON | D110: 14 | O110: ="" | P110: 기계경비 | Q110: 1 | R110: =IF(P110="기계경비", J110, 0) -> 0 | S110: =IF(P110="운반비", L110, 0) -> 0 | T110: =IF(P110="작업부산물", F110, 0) -> 0 | U110: =IF(P110="관급", F110, 0) -> 0 | V110: =IF(P110="외주비", J110, 0) -> 0 | W110: =IF(P110="장비비", J110, 0) -> 0 | X110: =IF(P110="폐기물처리비", L110, 0) -> 0 | Y110: =IF(P110="가설비", J110, 0) -> 0 | Z110: =IF(P110="잡비제외분", F110, 0) -> 0 | AA110: =IF(P110="사급자재대", L110, 0) -> 0 | AB110: =IF(P110="관급자재대", L110, 0) -> 0 | AC110: =IF(P110="관급자 관급 자재대", L110, 0) -> 0 | AD110: =IF(P110="사용자항목2", L110, 0) -> 0 | AE110: =IF(P110="설계안전성 검토비", L110, 0) -> 0 | AF110: =IF(P110="품질관리비(PS항목)", L110, 0) -> 0 | AG110: =IF(P110="작업부산물(철거해체)", L110, 0) -> 0 | AH110: =IF(P110="기술지도 용역비", L110, 0) -> 0 | AI110: =IF(P110="도급자 관급 자재대", L110, 0) -> 0 | AJ110: =IF(P110="해체계획서 작성비", L110, 0) -> 0 | AK110: =IF(P110="안전관리비(PS항목)", L110, 0) -> 0 | AL110: =IF(P110="사용자항목10", L110, 0) -> 0 | AM110: =IF(P110="사용자항목11", L110, 0) -> 0 | AN110: =IF(P110="사용자항목12", L110, 0) -> 0 | AO110: =IF(P110="사용자항목13", L110, 0) -> 0 | AP110: =IF(P110="사용자항목14", L110, 0) -> 0 | AQ110: =IF(P110="사용자항목15", L110, 0) -> 0 | AR110: =IF(P110="사용자항목16", L110, 0) -> 0 | AS110: =IF(P110="사용자항목17", L110, 0) -> 0 | AT110: =IF(P110="사용자항목18", L110, 0) -> 0 | AU110: =IF(P110="사용자항목19", L110, 0) -> 0
A111: 기초L형 앵커볼트 설치 | B111: M20 L600 | C111: EA | D111: 16
A112: 부대철골 설치 | B112: 중도리, 띠장, 캐노피 등 | C112: TON | D112: 1
A113: 주각부 무수축 모르타르 충전 | B113: 400*400 | C113: 개소 | D113: 4
A114: 철골가공조립(표준라멘구조) | B114: Rolled shape, 60ton 이상 | C114: TON | D114: 15.1
A115: 철골 세우기 - 크레인(타이어) 30ton | B115: 창고 소규모, 공장 대규모 건물 트러스 거더류 | C115: TON | D115: 14
A116: 철골세우기 | B116: 6층미만 | C116: TON | D116: 14
A117: 데크플레이트 설치 | B117: 1.6T 75x690 (10층 이하) | C117: M2 | D117: 5
A118: 콘크리트 스톱퍼 | B118: 아연도H225X2.3T | C118: M | D118: 14
A119: 디플렉터 설치 | B119: W150X3.2T무늬철판 | C119: M | D119: 8.5
A120: 턴버클 환봉설치 | B120: Φ19 | C120: M | D120: 13.6
A121: 턴버클 | B121: Φ19 | C121: 개 | D121: 4 | O121: ="01" -> 01 | P121: 기계경비 | Q121: 1 | R121: =IF(P121="기계경비", J121, 0) -> 0 | S121: =IF(P121="운반비", L121, 0) -> 0 | T121: =IF(P121="작업부산물", F121, 0) -> 0 | U121: =IF(P121="관급", F121, 0) -> 0 | V121: =IF(P121="외주비", J121, 0) -> 0 | W121: =IF(P121="장비비", J121, 0) -> 0 | X121: =IF(P121="폐기물처리비", L121, 0) -> 0 | Y121: =IF(P121="가설비", J121, 0) -> 0 | Z121: =IF(P121="잡비제외분", F121, 0) -> 0 | AA121: =IF(P121="사급자재대", L121, 0) -> 0 | AB121: =IF(P121="관급자재대", L121, 0) -> 0 | AC121: =IF(P121="관급자 관급 자재대", L121, 0) -> 0 | AD121: =IF(P121="사용자항목2", L121, 0) -> 0 | AE121: =IF(P121="설계안전성 검토비", L121, 0) -> 0 | AF121: =IF(P121="품질관리비(PS항목)", L121, 0) -> 0 | AG121: =IF(P121="작업부산물(철거해체)", L121, 0) -> 0 | AH121: =IF(P121="기술지도 용역비", L121, 0) -> 0 | AI121: =IF(P121="도급자 관급 자재대", L121, 0) -> 0 | AJ121: =IF(P121="해체계획서 작성비", L121, 0) -> 0 | AK121: =IF(P121="안전관리비(PS항목)", L121, 0) -> 0 | AL121: =IF(P121="사용자항목10", L121, 0) -> 0 | AM121: =IF(P121="사용자항목11", L121, 0) -> 0 | AN121: =IF(P121="사용자항목12", L121, 0) -> 0 | AO121: =IF(P121="사용자항목13", L121, 0) -> 0 | AP121: =IF(P121="사용자항목14", L121, 0) -> 0 | AQ121: =IF(P121="사용자항목15", L121, 0) -> 0 | AR121: =IF(P121="사용자항목16", L121, 0) -> 0 | AS121: =IF(P121="사용자항목17", L121, 0) -> 0 | AT121: =IF(P121="사용자항목18", L121, 0) -> 0 | AU121: =IF(P121="사용자항목19", L121, 0) -> 0
A142: 합 계 | F142: =ROUNDDOWN(SUMIF(Q98:Q141, "1", F98:F141), 0) -> 0 | H142: =ROUNDDOWN(SUMIF(Q98:Q141, "1", H98:H141), 0) -> 0 | J142: =ROUNDDOWN(SUMIF(Q98:Q141, "1", J98:J141), 0) -> 0 | L142: =F142+H142+J142 -> 0 | R142: =ROUNDDOWN(SUM(R98:R121), 0) -> 0 | S142: =ROUNDDOWN(SUM(S98:S121), 0) -> 0 | T142: =ROUNDDOWN(SUM(T98:T121), 0) -> 0 | U142: =ROUNDDOWN(SUM(U98:U121), 0) -> 0 | V142: =ROUNDDOWN(SUM(V98:V121), 0) -> 0 | W142: =ROUNDDOWN(SUM(W98:W121), 0) -> 0 | X142: =ROUNDDOWN(SUM(X98:X121), 0) -> 0 | Y142: =ROUNDDOWN(SUM(Y98:Y121), 0) -> 0 | ... AY142: =ROUNDDOWN(SUM(AY98:AY121), 0) -> 0
A143: 06. 조적공사
A144: 시멘트벽돌 | B144: 190*90*57 | C144: 매 | D144: 2444
A145: 벽돌 쌓기(0.5B) | B145: 3.6m 이하 (레미탈) | C145: M2 | D145: 1.3
A146: 벽돌 쌓기(1.0B) | B146: 3.6m 이하(레미탈) | C146: M2 | D146: 15
A147: 적벽돌 | B147: 190*90*57 | C147: 매 | D147: 700
A148: 치장쌓기(0.5B) 및 줄눈설치 | B148: 3.6m 이하(레미탈) | C148: M2 | D148: 8.6
A149: 치장쌓기(1.0B) 및 줄눈설치 | B149: 3.6m 이하 (레미탈) | C149: M2 | D149: 0.2
A150: 벽돌소운반 | B150: 인력, 2층 | C150: 천매 | D150: 1.1
A151: 연결 보강 철물설치 | B151: 90~170L | C151: M2 | D151: 8.6
A152: 인방보(기성제) 설치 | B152: H300X200W | C152: M | D152: 3.2
A165: 합 계 | F165: =ROUNDDOWN(SUMIF(Q144:Q164, "1", F144:F164), 0) -> 0 | H165: =ROUNDDOWN(SUMIF(Q144:Q164, "1", H144:H164), 0) -> 0 | J165: =ROUNDDOWN(SUMIF(Q144:Q164, "1", J144:J164), 0) -> 0 | L165: =F165+H165+J165 -> 0 | R165: =ROUNDDOWN(SUM(R144:R152), 0) -> 0 | S165: =ROUNDDOWN(SUM(S144:S152), 0) -> 0 | T165: =ROUNDDOWN(SUM(T144:T152), 0) -> 0 | U165: =ROUNDDOWN(SUM(U144:U152), 0) -> 0 | V165: =ROUNDDOWN(SUM(V144:V152), 0) -> 0 | W165: =ROUNDDOWN(SUM(W144:W152), 0) -> 0 | X165: =ROUNDDOWN(SUM(X144:X152), 0) -> 0 | Y165: =ROUNDDOWN(SUM(Y144:Y152), 0) -> 0 | ... AY165: =ROUNDDOWN(SUM(AY144:AY152), 0) -> 0
A166: 07. 방수공사
A167: 우레탄도막방수 | B167: 바닥3mm.노출 | C167: M2 | D167: 9.1
A168: 시멘트 액체방수 바름 | B168: 바닥 | C168: M2 | D168: 7.5
A169: 시멘트 액체방수 바름 | B169: 벽 | C169: M2 | D169: 19.8
A188: 합 계 | F188: =ROUNDDOWN(SUMIF(Q167:Q187, "1", F167:F187), 0) -> 0 | H188: =ROUNDDOWN(SUMIF(Q167:Q187, "1", H167:H187), 0) -> 0 | J188: =ROUNDDOWN(SUMIF(Q167:Q187, "1", J167:J187), 0) -> 0 | L188: =F188+H188+J188 -> 0 | R188: =ROUNDDOWN(SUM(R167:R169), 0) -> 0 | S188: =ROUNDDOWN(SUM(S167:S169), 0) -> 0 | T188: =ROUNDDOWN(SUM(T167:T169), 0) -> 0 | U188: =ROUNDDOWN(SUM(U167:U169), 0) -> 0 | V188: =ROUNDDOWN(SUM(V167:V169), 0) -> 0 | W188: =ROUNDDOWN(SUM(W167:W169), 0) -> 0 | X188: =ROUNDDOWN(SUM(X167:X169), 0) -> 0 | Y188: =ROUNDDOWN(SUM(Y167:Y169), 0) -> 0 | ... AY188: =ROUNDDOWN(SUM(AY167:AY169), 0) -> 0
A189: 08. 미장공사
A190: 모르타르바름(3.6m이하) | B190: 벽체, 18mm(레미탈) | C190: M2 | D190: 69.3 | O190: ="" | P190: 기계경비 | Q190: 1 | R190: =IF(P190="기계경비", J190, 0) -> 0 | S190: =IF(P190="운반비", L190, 0) -> 0 | T190: =IF(P190="작업부산물", F190, 0) -> 0 | U190: =IF(P190="관급", F190, 0) -> 0 | V190: =IF(P190="외주비", J190, 0) -> 0 | W190: =IF(P190="장비비", J190, 0) -> 0 | X190: =IF(P190="폐기물처리비", L190, 0) -> 0 | Y190: =IF(P190="가설비", J190, 0) -> 0 | Z190: =IF(P190="잡비제외분", F190, 0) -> 0 | AA190: =IF(P190="사급자재대", L190, 0) -> 0 | AB190: =IF(P190="관급자재대", L190, 0) -> 0 | AC190: =IF(P190="관급자 관급 자재대", L190, 0) -> 0 | AD190: =IF(P190="사용자항목2", L190, 0) -> 0 | AE190: =IF(P190="설계안전성 검토비", L190, 0) -> 0 | AF190: =IF(P190="품질관리비(PS항목)", L190, 0) -> 0 | AG190: =IF(P190="작업부산물(철거해체)", L190, 0) -> 0 | AH190: =IF(P190="기술지도 용역비", L190, 0) -> 0 | AI190: =IF(P190="도급자 관급 자재대", L190, 0) -> 0 | AJ190: =IF(P190="해체계획서 작성비", L190, 0) -> 0 | AK190: =IF(P190="안전관리비(PS항목)", L190, 0) -> 0 | AL190: =IF(P190="사용자항목10", L190, 0) -> 0 | AM190: =IF(P190="사용자항목11", L190, 0) -> 0 | AN190: =IF(P190="사용자항목12", L190, 0) -> 0 | AO190: =IF(P190="사용자항목13", L190, 0) -> 0 | AP190: =IF(P190="사용자항목14", L190, 0) -> 0 | AQ190: =IF(P190="사용자항목15", L190, 0) -> 0 | AR190: =IF(P190="사용자항목16", L190, 0) -> 0 | AS190: =IF(P190="사용자항목17", L190, 0) -> 0 | AT190: =IF(P190="사용자항목18", L190, 0) -> 0 | AU190: =IF(P190="사용자항목19", L190, 0) -> 0 | AY190: 삼일설계적산사무소
A211: 합 계 | F211: =ROUNDDOWN(SUMIF(Q190:Q210, "1", F190:F210), 0) -> 0 | H211: =ROUNDDOWN(SUMIF(Q190:Q210, "1", H190:H210), 0) -> 0 | J211: =ROUNDDOWN(SUMIF(Q190:Q210, "1", J190:J210), 0) -> 0 | L211: =F211+H211+J211 -> 0 | R211: =ROUNDDOWN(SUM(R190:R190), 0) -> 0 | S211: =ROUNDDOWN(SUM(S190:S190), 0) -> 0 | T211: =ROUNDDOWN(SUM(T190:T190), 0) -> 0 | U211: =ROUNDDOWN(SUM(U190:U190), 0) -> 0 | V211: =ROUNDDOWN(SUM(V190:V190), 0) -> 0 | W211: =ROUNDDOWN(SUM(W190:W190), 0) -> 0 | X211: =ROUNDDOWN(SUM(X190:X190), 0) -> 0 | Y211: =ROUNDDOWN(SUM(Y190:Y190), 0) -> 0 | ... AY211: =ROUNDDOWN(SUM(AY190:AY190), 0) -> 0
A212: 09. 석공사
A213: 점자블럭설치 | B213: 300*300*20T(세라믹) | C213: EA | D213: 4 | O213: ="" | P213: 기계경비 | Q213: 1 | R213: =IF(P213="기계경비", J213, 0) -> 0 | S213: =IF(P213="운반비", L213, 0) -> 0 | T213: =IF(P213="작업부산물", F213, 0) -> 0 | U213: =IF(P213="관급", F213, 0) -> 0 | V213: =IF(P213="외주비", J213, 0) -> 0 | W213: =IF(P213="장비비", J213, 0) -> 0 | X213: =IF(P213="폐기물처리비", L213, 0) -> 0 | Y213: =IF(P213="가설비", J213, 0) -> 0 | Z213: =IF(P213="잡비제외분", F213, 0) -> 0 | AA213: =IF(P213="사급자재대", L213, 0) -> 0 | AB213: =IF(P213="관급자재대", L213, 0) -> 0 | AC213: =IF(P213="관급자 관급 자재대", L213, 0) -> 0 | AD213: =IF(P213="사용자항목2", L213, 0) -> 0 | AE213: =IF(P213="설계안전성 검토비", L213, 0) -> 0 | AF213: =IF(P213="품질관리비(PS항목)", L213, 0) -> 0 | AG213: =IF(P213="작업부산물(철거해체)", L213, 0) -> 0 | AH213: =IF(P213="기술지도 용역비", L213, 0) -> 0 | AI213: =IF(P213="도급자 관급 자재대", L213, 0) -> 0 | AJ213: =IF(P213="해체계획서 작성비", L213, 0) -> 0 | AK213: =IF(P213="안전관리비(PS항목)", L213, 0) -> 0 | AL213: =IF(P213="사용자항목10", L213, 0) -> 0 | AM213: =IF(P213="사용자항목11", L213, 0) -> 0 | AN213: =IF(P213="사용자항목12", L213, 0) -> 0 | AO213: =IF(P213="사용자항목13", L213, 0) -> 0 | AP213: =IF(P213="사용자항목14", L213, 0) -> 0 | AQ213: =IF(P213="사용자항목15", L213, 0) -> 0 | AR213: =IF(P213="사용자항목16", L213, 0) -> 0 | AS213: =IF(P213="사용자항목17", L213, 0) -> 0 | AT213: =IF(P213="사용자항목18", L213, 0) -> 0 | AU213: =IF(P213="사용자항목19", L213, 0) -> 0
A214: 화강석붙임(바닥) | B214: 버너 30mm포천석 몰탈150 | C214: M2 | D214: 2.4 | O214: ="" | P214: 기계경비 | Q214: 1 | R214: =IF(P214="기계경비", J214, 0) -> 0 | S214: =IF(P214="운반비", L214, 0) -> 0 | T214: =IF(P214="작업부산물", F214, 0) -> 0 | U214: =IF(P214="관급", F214, 0) -> 0 | V214: =IF(P214="외주비", J214, 0) -> 0 | W214: =IF(P214="장비비", J214, 0) -> 0 | X214: =IF(P214="폐기물처리비", L214, 0) -> 0 | Y214: =IF(P214="가설비", J214, 0) -> 0 | Z214: =IF(P214="잡비제외분", F214, 0) -> 0 | AA214: =IF(P214="사급자재대", L214, 0) -> 0 | AB214: =IF(P214="관급자재대", L214, 0) -> 0 | AC214: =IF(P214="관급자 관급 자재대", L214, 0) -> 0 | AD214: =IF(P214="사용자항목2", L214, 0) -> 0 | AE214: =IF(P214="설계안전성 검토비", L214, 0) -> 0 | AF214: =IF(P214="품질관리비(PS항목)", L214, 0) -> 0 | AG214: =IF(P214="작업부산물(철거해체)", L214, 0) -> 0 | AH214: =IF(P214="기술지도 용역비", L214, 0) -> 0 | AI214: =IF(P214="도급자 관급 자재대", L214, 0) -> 0 | AJ214: =IF(P214="해체계획서 작성비", L214, 0) -> 0 | AK214: =IF(P214="안전관리비(PS항목)", L214, 0) -> 0 | AL214: =IF(P214="사용자항목10", L214, 0) -> 0 | AM214: =IF(P214="사용자항목11", L214, 0) -> 0 | AN214: =IF(P214="사용자항목12", L214, 0) -> 0 | AO214: =IF(P214="사용자항목13", L214, 0) -> 0 | AP214: =IF(P214="사용자항목14", L214, 0) -> 0 | AQ214: =IF(P214="사용자항목15", L214, 0) -> 0 | AR214: =IF(P214="사용자항목16", L214, 0) -> 0 | AS214: =IF(P214="사용자항목17", L214, 0) -> 0 | AT214: =IF(P214="사용자항목18", L214, 0) -> 0 | AU214: =IF(P214="사용자항목19", L214, 0) -> 0 | AY214: 삼일설계적산사무소
A234: 합 계 | F234: =ROUNDDOWN(SUMIF(Q213:Q233, "1", F213:F233), 0) -> 0 | H234: =ROUNDDOWN(SUMIF(Q213:Q233, "1", H213:H233), 0) -> 0 | J234: =ROUNDDOWN(SUMIF(Q213:Q233, "1", J213:J233), 0) -> 0 | L234: =F234+H234+J234 -> 0 | R234: =ROUNDDOWN(SUM(R213:R214), 0) -> 0 | S234: =ROUNDDOWN(SUM(S213:S214), 0) -> 0 | T234: =ROUNDDOWN(SUM(T213:T214), 0) -> 0 | U234: =ROUNDDOWN(SUM(U213:U214), 0) -> 0 | V234: =ROUNDDOWN(SUM(V213:V214), 0) -> 0 | W234: =ROUNDDOWN(SUM(W213:W214), 0) -> 0 | X234: =ROUNDDOWN(SUM(X213:X214), 0) -> 0 | Y234: =ROUNDDOWN(SUM(Y213:Y214), 0) -> 0 | ... AY234: =ROUNDDOWN(SUM(AY213:AY214), 0) -> 0
A235: 10. 수장공사
A236: 도배바름 | B236: 콘크리트.모르타르면 | C236: M2 | D236: 34.8 | O236: ="" | P236: 기계경비 | Q236: 1 | R236: =IF(P236="기계경비", J236, 0) -> 0 | S236: =IF(P236="운반비", L236, 0) -> 0 | T236: =IF(P236="작업부산물", F236, 0) -> 0 | U236: =IF(P236="관급", F236, 0) -> 0 | V236: =IF(P236="외주비", J236, 0) -> 0 | W236: =IF(P236="장비비", J236, 0) -> 0 | X236: =IF(P236="폐기물처리비", L236, 0) -> 0 | Y236: =IF(P236="가설비", J236, 0) -> 0 | Z236: =IF(P236="잡비제외분", F236, 0) -> 0 | AA236: =IF(P236="사급자재대", L236, 0) -> 0 | AB236: =IF(P236="관급자재대", L236, 0) -> 0 | AC236: =IF(P236="관급자 관급 자재대", L236, 0) -> 0 | AD236: =IF(P236="사용자항목2", L236, 0) -> 0 | AE236: =IF(P236="설계안전성 검토비", L236, 0) -> 0 | AF236: =IF(P236="품질관리비(PS항목)", L236, 0) -> 0 | AG236: =IF(P236="작업부산물(철거해체)", L236, 0) -> 0 | AH236: =IF(P236="기술지도 용역비", L236, 0) -> 0 | AI236: =IF(P236="도급자 관급 자재대", L236, 0) -> 0 | AJ236: =IF(P236="해체계획서 작성비", L236, 0) -> 0 | AK236: =IF(P236="안전관리비(PS항목)", L236, 0) -> 0 | AL236: =IF(P236="사용자항목10", L236, 0) -> 0 | AM236: =IF(P236="사용자항목11", L236, 0) -> 0 | AN236: =IF(P236="사용자항목12", L236, 0) -> 0 | AO236: =IF(P236="사용자항목13", L236, 0) -> 0 | AP236: =IF(P236="사용자항목14", L236, 0) -> 0 | AQ236: =IF(P236="사용자항목15", L236, 0) -> 0 | AR236: =IF(P236="사용자항목16", L236, 0) -> 0 | AS236: =IF(P236="사용자항목17", L236, 0) -> 0 | AT236: =IF(P236="사용자항목18", L236, 0) -> 0 | AU236: =IF(P236="사용자항목19", L236, 0) -> 0
A237: 걸레받이 설치 | B237: MDF,100×9.0T,랩핑(방염) | C237: M | D237: 10 | O237: ="" | P237: 기계경비 | Q237: 1 | R237: =IF(P237="기계경비", J237, 0) -> 0 | S237: =IF(P237="운반비", L237, 0) -> 0 | T237: =IF(P237="작업부산물", F237, 0) -> 0 | U237: =IF(P237="관급", F237, 0) -> 0 | V237: =IF(P237="외주비", J237, 0) -> 0 | W237: =IF(P237="장비비", J237, 0) -> 0 | X237: =IF(P237="폐기물처리비", L237, 0) -> 0 | Y237: =IF(P237="가설비", J237, 0) -> 0 | Z237: =IF(P237="잡비제외분", F237, 0) -> 0 | AA237: =IF(P237="사급자재대", L237, 0) -> 0 | AB237: =IF(P237="관급자재대", L237, 0) -> 0 | AC237: =IF(P237="관급자 관급 자재대", L237, 0) -> 0 | AD237: =IF(P237="사용자항목2", L237, 0) -> 0 | AE237: =IF(P237="설계안전성 검토비", L237, 0) -> 0 | AF237: =IF(P237="품질관리비(PS항목)", L237, 0) -> 0 | AG237: =IF(P237="작업부산물(철거해체)", L237, 0) -> 0 | AH237: =IF(P237="기술지도 용역비", L237, 0) -> 0 | AI237: =IF(P237="도급자 관급 자재대", L237, 0) -> 0 | AJ237: =IF(P237="해체계획서 작성비", L237, 0) -> 0 | AK237: =IF(P237="안전관리비(PS항목)", L237, 0) -> 0 | AL237: =IF(P237="사용자항목10", L237, 0) -> 0 | AM237: =IF(P237="사용자항목11", L237, 0) -> 0 | AN237: =IF(P237="사용자항목12", L237, 0) -> 0 | AO237: =IF(P237="사용자항목13", L237, 0) -> 0 | AP237: =IF(P237="사용자항목14", L237, 0) -> 0 | AQ237: =IF(P237="사용자항목15", L237, 0) -> 0 | AR237: =IF(P237="사용자항목16", L237, 0) -> 0 | AS237: =IF(P237="사용자항목17", L237, 0) -> 0 | AT237: =IF(P237="사용자항목18", L237, 0) -> 0 | AU237: =IF(P237="사용자항목19", L237, 0) -> 0
A238: 페놀폼단열재(격자넣기, 벽) | B238: PF보드 100mm | C238: M2 | D238: 21.5 | O238: ="" | P238: 기계경비 | Q238: 1 | R238: =IF(P238="기계경비", J238, 0) -> 0 | S238: =IF(P238="운반비", L238, 0) -> 0 | T238: =IF(P238="작업부산물", F238, 0) -> 0 | U238: =IF(P238="관급", F238, 0) -> 0 | V238: =IF(P238="외주비", J238, 0) -> 0 | W238: =IF(P238="장비비", J238, 0) -> 0 | X238: =IF(P238="폐기물처리비", L238, 0) -> 0 | Y238: =IF(P238="가설비", J238, 0) -> 0 | Z238: =IF(P238="잡비제외분", F238, 0) -> 0 | AA238: =IF(P238="사급자재대", L238, 0) -> 0 | AB238: =IF(P238="관급자재대", L238, 0) -> 0 | AC238: =IF(P238="관급자 관급 자재대", L238, 0) -> 0 | AD238: =IF(P238="사용자항목2", L238, 0) -> 0 | AE238: =IF(P238="설계안전성 검토비", L238, 0) -> 0 | AF238: =IF(P238="품질관리비(PS항목)", L238, 0) -> 0 | AG238: =IF(P238="작업부산물(철거해체)", L238, 0) -> 0 | AH238: =IF(P238="기술지도 용역비", L238, 0) -> 0 | AI238: =IF(P238="도급자 관급 자재대", L238, 0) -> 0 | AJ238: =IF(P238="해체계획서 작성비", L238, 0) -> 0 | AK238: =IF(P238="안전관리비(PS항목)", L238, 0) -> 0 | AL238: =IF(P238="사용자항목10", L238, 0) -> 0 | AM238: =IF(P238="사용자항목11", L238, 0) -> 0 | AN238: =IF(P238="사용자항목12", L238, 0) -> 0 | AO238: =IF(P238="사용자항목13", L238, 0) -> 0 | AP238: =IF(P238="사용자항목14", L238, 0) -> 0 | AQ238: =IF(P238="사용자항목15", L238, 0) -> 0 | AR238: =IF(P238="사용자항목16", L238, 0) -> 0 | AS238: =IF(P238="사용자항목17", L238, 0) -> 0 | AT238: =IF(P238="사용자항목18", L238, 0) -> 0 | AU238: =IF(P238="사용자항목19", L238, 0) -> 0
A257: 합 계 | F257: =ROUNDDOWN(SUMIF(Q236:Q256, "1", F236:F256), 0) -> 0 | H257: =ROUNDDOWN(SUMIF(Q236:Q256, "1", H236:H256), 0) -> 0 | J257: =ROUNDDOWN(SUMIF(Q236:Q256, "1", J236:J256), 0) -> 0 | L257: =F257+H257+J257 -> 0 | R257: =ROUNDDOWN(SUM(R236:R238), 0) -> 0 | S257: =ROUNDDOWN(SUM(S236:S238), 0) -> 0 | T257: =ROUNDDOWN(SUM(T236:T238), 0) -> 0 | U257: =ROUNDDOWN(SUM(U236:U238), 0) -> 0 | V257: =ROUNDDOWN(SUM(V236:V238), 0) -> 0 | W257: =ROUNDDOWN(SUM(W236:W238), 0) -> 0 | X257: =ROUNDDOWN(SUM(X236:X238), 0) -> 0 | Y257: =ROUNDDOWN(SUM(Y236:Y238), 0) -> 0 | ... AY257: =ROUNDDOWN(SUM(AY236:AY238), 0) -> 0
A258: 11. 금속공사
A259: 샌드위치판넬설치(외벽) | B259: 155T(징크-그라스울64k-불연) | C259: M2 | D259: 120.6 | O259: ="" | P259: 기계경비 | Q259: 1 | R259: =IF(P259="기계경비", J259, 0) -> 0 | S259: =IF(P259="운반비", L259, 0) -> 0 | T259: =IF(P259="작업부산물", F259, 0) -> 0 | U259: =IF(P259="관급", F259, 0) -> 0 | V259: =IF(P259="외주비", J259, 0) -> 0 | W259: =IF(P259="장비비", J259, 0) -> 0 | X259: =IF(P259="폐기물처리비", L259, 0) -> 0 | Y259: =IF(P259="가설비", J259, 0) -> 0 | Z259: =IF(P259="잡비제외분", F259, 0) -> 0 | AA259: =IF(P259="사급자재대", L259, 0) -> 0 | AB259: =IF(P259="관급자재대", L259, 0) -> 0 | AC259: =IF(P259="관급자 관급 자재대", L259, 0) -> 0 | AD259: =IF(P259="사용자항목2", L259, 0) -> 0 | AE259: =IF(P259="설계안전성 검토비", L259, 0) -> 0 | AF259: =IF(P259="품질관리비(PS항목)", L259, 0) -> 0 | AG259: =IF(P259="작업부산물(철거해체)", L259, 0) -> 0 | AH259: =IF(P259="기술지도 용역비", L259, 0) -> 0 | AI259: =IF(P259="도급자 관급 자재대", L259, 0) -> 0 | AJ259: =IF(P259="해체계획서 작성비", L259, 0) -> 0 | AK259: =IF(P259="안전관리비(PS항목)", L259, 0) -> 0 | AL259: =IF(P259="사용자항목10", L259, 0) -> 0 | AM259: =IF(P259="사용자항목11", L259, 0) -> 0 | AN259: =IF(P259="사용자항목12", L259, 0) -> 0 | AO259: =IF(P259="사용자항목13", L259, 0) -> 0 | AP259: =IF(P259="사용자항목14", L259, 0) -> 0 | AQ259: =IF(P259="사용자항목15", L259, 0) -> 0 | AR259: =IF(P259="사용자항목16", L259, 0) -> 0 | AS259: =IF(P259="사용자항목17", L259, 0) -> 0 | AT259: =IF(P259="사용자항목18", L259, 0) -> 0 | AU259: =IF(P259="사용자항목19", L259, 0) -> 0 | AY259: 삼일설계적산사무소
A260: 샌드위치판넬설치(지붕) | B260: 260T(그라스울-내화30분) | C260: M2 | D260: 15.8 | O260: ="" | P260: 기계경비 | Q260: 1 | R260: =IF(P260="기계경비", J260, 0) -> 0 | S260: =IF(P260="운반비", L260, 0) -> 0 | T260: =IF(P260="작업부산물", F260, 0) -> 0 | U260: =IF(P260="관급", F260, 0) -> 0 | V260: =IF(P260="외주비", J260, 0) -> 0 | W260: =IF(P260="장비비", J260, 0) -> 0 | X260: =IF(P260="폐기물처리비", L260, 0) -> 0 | Y260: =IF(P260="가설비", J260, 0) -> 0 | Z260: =IF(P260="잡비제외분", F260, 0) -> 0 | AA260: =IF(P260="사급자재대", L260, 0) -> 0 | AB260: =IF(P260="관급자재대", L260, 0) -> 0 | AC260: =IF(P260="관급자 관급 자재대", L260, 0) -> 0 | AD260: =IF(P260="사용자항목2", L260, 0) -> 0 | AE260: =IF(P260="설계안전성 검토비", L260, 0) -> 0 | AF260: =IF(P260="품질관리비(PS항목)", L260, 0) -> 0 | AG260: =IF(P260="작업부산물(철거해체)", L260, 0) -> 0 | AH260: =IF(P260="기술지도 용역비", L260, 0) -> 0 | AI260: =IF(P260="도급자 관급 자재대", L260, 0) -> 0 | AJ260: =IF(P260="해체계획서 작성비", L260, 0) -> 0 | AK260: =IF(P260="안전관리비(PS항목)", L260, 0) -> 0 | AL260: =IF(P260="사용자항목10", L260, 0) -> 0 | AM260: =IF(P260="사용자항목11", L260, 0) -> 0 | AN260: =IF(P260="사용자항목12", L260, 0) -> 0 | AO260: =IF(P260="사용자항목13", L260, 0) -> 0 | AP260: =IF(P260="사용자항목14", L260, 0) -> 0 | AQ260: =IF(P260="사용자항목15", L260, 0) -> 0 | AR260: =IF(P260="사용자항목16", L260, 0) -> 0 | AS260: =IF(P260="사용자항목17", L260, 0) -> 0 | AT260: =IF(P260="사용자항목18", L260, 0) -> 0 | AU260: =IF(P260="사용자항목19", L260, 0) -> 0 | AY260: 삼일설계적산사무소
A261: 베이스찬넬설치 | B261: C/S 0.45T X 540 | C261: M | D261: 16 | O261: ="" | P261: 기계경비 | Q261: 1 | R261: =IF(P261="기계경비", J261, 0) -> 0 | S261: =IF(P261="운반비", L261, 0) -> 0 | T261: =IF(P261="작업부산물", F261, 0) -> 0 | U261: =IF(P261="관급", F261, 0) -> 0 | V261: =IF(P261="외주비", J261, 0) -> 0 | W261: =IF(P261="장비비", J261, 0) -> 0 | X261: =IF(P261="폐기물처리비", L261, 0) -> 0 | Y261: =IF(P261="가설비", J261, 0) -> 0 | Z261: =IF(P261="잡비제외분", F261, 0) -> 0 | AA261: =IF(P261="사급자재대", L261, 0) -> 0 | AB261: =IF(P261="관급자재대", L261, 0) -> 0 | AC261: =IF(P261="관급자 관급 자재대", L261, 0) -> 0 | AD261: =IF(P261="사용자항목2", L261, 0) -> 0 | AE261: =IF(P261="설계안전성 검토비", L261, 0) -> 0 | AF261: =IF(P261="품질관리비(PS항목)", L261, 0) -> 0 | AG261: =IF(P261="작업부산물(철거해체)", L261, 0) -> 0 | AH261: =IF(P261="기술지도 용역비", L261, 0) -> 0 | AI261: =IF(P261="도급자 관급 자재대", L261, 0) -> 0 | AJ261: =IF(P261="해체계획서 작성비", L261, 0) -> 0 | AK261: =IF(P261="안전관리비(PS항목)", L261, 0) -> 0 | AL261: =IF(P261="사용자항목10", L261, 0) -> 0 | AM261: =IF(P261="사용자항목11", L261, 0) -> 0 | AN261: =IF(P261="사용자항목12", L261, 0) -> 0 | AO261: =IF(P261="사용자항목13", L261, 0) -> 0 | AP261: =IF(P261="사용자항목14", L261, 0) -> 0 | AQ261: =IF(P261="사용자항목15", L261, 0) -> 0 | AR261: =IF(P261="사용자항목16", L261, 0) -> 0 | AS261: =IF(P261="사용자항목17", L261, 0) -> 0 | AT261: =IF(P261="사용자항목18", L261, 0) -> 0 | AU261: =IF(P261="사용자항목19", L261, 0) -> 0 | AY261: 삼일설계적산사무소
A262: 탑찬넬 설치 | B262: C/S 0.45T X 160 | C262: M | D262: 16 | O262: ="" | P262: 기계경비 | Q262: 1 | R262: =IF(P262="기계경비", J262, 0) -> 0 | S262: =IF(P262="운반비", L262, 0) -> 0 | T262: =IF(P262="작업부산물", F262, 0) -> 0 | U262: =IF(P262="관급", F262, 0) -> 0 | V262: =IF(P262="외주비", J262, 0) -> 0 | W262: =IF(P262="장비비", J262, 0) -> 0 | X262: =IF(P262="폐기물처리비", L262, 0) -> 0 | Y262: =IF(P262="가설비", J262, 0) -> 0 | Z262: =IF(P262="잡비제외분", F262, 0) -> 0 | AA262: =IF(P262="사급자재대", L262, 0) -> 0 | AB262: =IF(P262="관급자재대", L262, 0) -> 0 | AC262: =IF(P262="관급자 관급 자재대", L262, 0) -> 0 | AD262: =IF(P262="사용자항목2", L262, 0) -> 0 | AE262: =IF(P262="설계안전성 검토비", L262, 0) -> 0 | AF262: =IF(P262="품질관리비(PS항목)", L262, 0) -> 0 | AG262: =IF(P262="작업부산물(철거해체)", L262, 0) -> 0 | AH262: =IF(P262="기술지도 용역비", L262, 0) -> 0 | AI262: =IF(P262="도급자 관급 자재대", L262, 0) -> 0 | AJ262: =IF(P262="해체계획서 작성비", L262, 0) -> 0 | AK262: =IF(P262="안전관리비(PS항목)", L262, 0) -> 0 | AL262: =IF(P262="사용자항목10", L262, 0) -> 0 | AM262: =IF(P262="사용자항목11", L262, 0) -> 0 | AN262: =IF(P262="사용자항목12", L262, 0) -> 0 | AO262: =IF(P262="사용자항목13", L262, 0) -> 0 | AP262: =IF(P262="사용자항목14", L262, 0) -> 0 | AQ262: =IF(P262="사용자항목15", L262, 0) -> 0 | AR262: =IF(P262="사용자항목16", L262, 0) -> 0 | AS262: =IF(P262="사용자항목17", L262, 0) -> 0 | AT262: =IF(P262="사용자항목18", L262, 0) -> 0 | AU262: =IF(P262="사용자항목19", L262, 0) -> 0 | AY262: 삼일설계적산사무소
A263: 코너후레싱 설치 | B263: C/S 0.45T X 420 | C263: M | D263: 40.6 | O263: ="" | P263: 기계경비 | Q263: 1 | R263: =IF(P263="기계경비", J263, 0) -> 0 | S263: =IF(P263="운반비", L263, 0) -> 0 | T263: =IF(P263="작업부산물", F263, 0) -> 0 | U263: =IF(P263="관급", F263, 0) -> 0 | V263: =IF(P263="외주비", J263, 0) -> 0 | W263: =IF(P263="장비비", J263, 0) -> 0 | X263: =IF(P263="폐기물처리비", L263, 0) -> 0 | Y263: =IF(P263="가설비", J263, 0) -> 0 | Z263: =IF(P263="잡비제외분", F263, 0) -> 0 | AA263: =IF(P263="사급자재대", L263, 0) -> 0 | AB263: =IF(P263="관급자재대", L263, 0) -> 0 | AC263: =IF(P263="관급자 관급 자재대", L263, 0) -> 0 | AD263: =IF(P263="사용자항목2", L263, 0) -> 0 | AE263: =IF(P263="설계안전성 검토비", L263, 0) -> 0 | AF263: =IF(P263="품질관리비(PS항목)", L263, 0) -> 0 | AG263: =IF(P263="작업부산물(철거해체)", L263, 0) -> 0 | AH263: =IF(P263="기술지도 용역비", L263, 0) -> 0 | AI263: =IF(P263="도급자 관급 자재대", L263, 0) -> 0 | AJ263: =IF(P263="해체계획서 작성비", L263, 0) -> 0 | AK263: =IF(P263="안전관리비(PS항목)", L263, 0) -> 0 | AL263: =IF(P263="사용자항목10", L263, 0) -> 0 | AM263: =IF(P263="사용자항목11", L263, 0) -> 0 | AN263: =IF(P263="사용자항목12", L263, 0) -> 0 | AO263: =IF(P263="사용자항목13", L263, 0) -> 0 | AP263: =IF(P263="사용자항목14", L263, 0) -> 0 | AQ263: =IF(P263="사용자항목15", L263, 0) -> 0 | AR263: =IF(P263="사용자항목16", L263, 0) -> 0 | AS263: =IF(P263="사용자항목17", L263, 0) -> 0 | AT263: =IF(P263="사용자항목18", L263, 0) -> 0 | AU263: =IF(P263="사용자항목19", L263, 0) -> 0 | AY263: 삼일설계적산사무소
A264: 난간대 설치(스텐) | B264: Ø38.1+25.4*1.5T ,H:900 | C264: M | D264: 4 | O264: ="" | P264: 기계경비 | Q264: 1 | R264: =IF(P264="기계경비", J264, 0) -> 0 | S264: =IF(P264="운반비", L264, 0) -> 0 | T264: =IF(P264="작업부산물", F264, 0) -> 0 | U264: =IF(P264="관급", F264, 0) -> 0 | V264: =IF(P264="외주비", J264, 0) -> 0 | W264: =IF(P264="장비비", J264, 0) -> 0 | X264: =IF(P264="폐기물처리비", L264, 0) -> 0 | Y264: =IF(P264="가설비", J264, 0) -> 0 | Z264: =IF(P264="잡비제외분", F264, 0) -> 0 | AA264: =IF(P264="사급자재대", L264, 0) -> 0 | AB264: =IF(P264="관급자재대", L264, 0) -> 0 | AC264: =IF(P264="관급자 관급 자재대", L264, 0) -> 0 | AD264: =IF(P264="사용자항목2", L264, 0) -> 0 | AE264: =IF(P264="설계안전성 검토비", L264, 0) -> 0 | AF264: =IF(P264="품질관리비(PS항목)", L264, 0) -> 0 | AG264: =IF(P264="작업부산물(철거해체)", L264, 0) -> 0 | AH264: =IF(P264="기술지도 용역비", L264, 0) -> 0 | AI264: =IF(P264="도급자 관급 자재대", L264, 0) -> 0 | AJ264: =IF(P264="해체계획서 작성비", L264, 0) -> 0 | AK264: =IF(P264="안전관리비(PS항목)", L264, 0) -> 0 | AL264: =IF(P264="사용자항목10", L264, 0) -> 0 | AM264: =IF(P264="사용자항목11", L264, 0) -> 0 | AN264: =IF(P264="사용자항목12", L264, 0) -> 0 | AO264: =IF(P264="사용자항목13", L264, 0) -> 0 | AP264: =IF(P264="사용자항목14", L264, 0) -> 0 | AQ264: =IF(P264="사용자항목15", L264, 0) -> 0 | AR264: =IF(P264="사용자항목16", L264, 0) -> 0 | AS264: =IF(P264="사용자항목17", L264, 0) -> 0 | AT264: =IF(P264="사용자항목18", L264, 0) -> 0 | AU264: =IF(P264="사용자항목19", L264, 0) -> 0 | AY264: 삼일설계적산사무소
A280: 합 계 | F280: =ROUNDDOWN(SUMIF(Q259:Q279, "1", F259:F279), 0) -> 0 | H280: =ROUNDDOWN(SUMIF(Q259:Q279, "1", H259:H279), 0) -> 0 | J280: =ROUNDDOWN(SUMIF(Q259:Q279, "1", J259:J279), 0) -> 0 | L280: =F280+H280+J280 -> 0 | R280: =ROUNDDOWN(SUM(R259:R264), 0) -> 0 | S280: =ROUNDDOWN(SUM(S259:S264), 0) -> 0 | T280: =ROUNDDOWN(SUM(T259:T264), 0) -> 0 | U280: =ROUNDDOWN(SUM(U259:U264), 0) -> 0 | V280: =ROUNDDOWN(SUM(V259:V264), 0) -> 0 | W280: =ROUNDDOWN(SUM(W259:W264), 0) -> 0 | X280: =ROUNDDOWN(SUM(X259:X264), 0) -> 0 | Y280: =ROUNDDOWN(SUM(Y259:Y264), 0) -> 0 | ... AY280: =ROUNDDOWN(SUM(AY259:AY264), 0) -> 0
...

Sheet 간지
A1: =표지!A2 -> 성가요양원 승강기 설치공사
A9: 일위대가표
A17: =A1 -> 성가요양원 승강기 설치공사
A25: 마감 산출서
A33: =A17 -> 성가요양원 승강기 설치공사
A41: 견 적 서
A49: =A33 -> 성가요양원 승강기 설치공사
A57: 골조 산출서
