Workbook
Name _10G_0Extr: #REF!
Name _12G_0Extract: #REF!
Name _14G__Extr: #REF!
Name _16G__Extract: #REF!
Name _1R: #REF!
Name _1X: #REF!
Name _2_3_0Crite: #REF!
Name _3R: #REF!
Name _3X: #REF!
Name _4_3_0Criteria: #REF!
Name _6_3__Crite: #REF!
Name _8_3__Criteria: #REF!
Name _a100000: #REF!
Name _a80000: #REF!
Name _B22: [1]일위대가!$1400:$1413=[1]일위대가!$A$1400
Name _K02: [1]일위대가!$732:$745=[1]일위대가!$A$732
Name _NMB96: #REF!
Name _O03: [1]일위대가!$1516:$1529=[1]일위대가!$A$1516
Name _zz1: #REF!
Name \a: #N/A
Name A: #REF!
Name AA: [2]노무비!$B$2
Name aer: #REF!,#REF!
Name AFC설비: #REF!
Name AT: [3]간선계산!#REF!
Name B: [4]!Macro5
Name CC: #REF!
Name CCTV설비: #REF!
Name CODE: #REF!
Name CON_1: #REF!
Name CON_3: #REF!
Name COND_1: #REF!
Name COND_3: #REF!
Name CURRENT_1: #REF!
Name CURRENT_2: #REF!
Name CURRENT_3: #REF!
Name CV: [5]DATA!$F$4:$J$14
Name CV14_2C: [6]단가!#REF!
Name CV14_4C: [6]단가!#REF!
Name CV5.5_2: [6]단가!#REF!
Name CV5.5_4C: [6]단가!#REF!
Name CV8_2C: [6]단가!#REF!
Name CV8_4C: [6]단가!#REF!
Name DANGA: #REF!,#REF!
Name database2: #REF!
Name DISTANCE: #REF!
Name E_IV: #REF!
Name E10M: #REF!
Name E10P: #REF!
Name E11M: #REF!
Name E11P: #REF!
Name E12M: #REF!
Name E12P: #REF!
Name E13M: #REF!
Name E13P: #REF!
Name E14M: #REF!
Name E14P: #REF!
Name E14S1: [7]Sheet1!$E$14
Name E15M: #REF!
Name E15P: #REF!

Sheet 원가
B1: 원 가 계 산 서
B2: 공사명: | D2: 안평초 외 2교(신묵초, 중화초) 급식실 증축 및 화장실개선 통신공사
B3: 비 목 | D3: 구 분 | E3: 금 액 | I3: 구 성 비
E4: 안평초 | F4: 신묵초 | G4: 중화초 | H4: 합계
C5: 재 료 비 | D5: 직 접 재 료 비 | E5: =총괄표!I4 -> 1178112 | F5: =총괄표!I8 -> 727171 | G5: =총괄표!I11 -> 1194402 | H5: =G5+F5+E5 -> 3099685
D6: 간 접 재 료 비 | H6: =G6+F6+E6 -> 0
B7: 순 | D7: ( 소 계 ) | E7: =SUM(E5:E6) -> 1178112 | F7: =SUM(F5:F6) -> 727171 | G7: =SUM(G5:G6) -> 1194402 | H7: =G7+F7+E7 -> 3099685
C8: 노 무 비 | D8: 직 접 노 무 비 | E8: =총괄표!L4 -> 6187517 | F8: =총괄표!L8 -> 1948584 | G8: =총괄표!L11 -> 3002040 | H8: =G8+F8+E8 -> 11138141
D9: 간 접 노 무 비 | E9: =INT(E$8*$K$9) -> 1082815 | F9: =INT(F$8*$K$9) -> 341002 | G9: =INT(G$8*$K$9) -> 525357 | H9: =G9+F9+E9 -> 1949174 | I9: 직접노무비 | J9: x | K9: 0.175
D10: ( 소 계 ) | E10: =SUM(E8:E9) -> 7270332 | F10: =SUM(F8:F9) -> 2289586 | G10: =SUM(G8:G9) -> 3527397 | H10: =G10+F10+E10 -> 13087315
D11: 기 계 경 비 | H11: =G11+F11+E11 -> 0
B12: 공 | D12: 산 재 보 험 료 | E12: =INT(E$10*$K$12) -> 258823 | F12: =INT(F$10*$K$12) -> 81509 | G12: =INT(G$10*$K$12) -> 125575 | H12: =G12+F12+E12 -> 465907 | I12: 노무비 | J12: x | K12: 0.0356
D13: 고 용 보 험 료 | E13: =INT(E$10*$K$13) -> 73430 | F13: =INT(F$10*$K$13) -> 23124 | G13: =INT(G$10*$K$13) -> 35626 | H13: =G13+F13+E13 -> 132180 | I13: 노무비 | J13: x | K13: 0.0101
C14: 경 | D14: 건 강 보 험 료 | E14: =INT(E$8*$K$14) -> 222441 | F14: =INT(F$8*$K$14) -> 70051 | G14: =INT(G$8*$K$14) -> 107923 | H14: =G14+F14+E14 -> 400415 | I14: 직접노무비 | J14: x | K14: 0.03595
D15: 연 금 보 험 료 | E15: =INT(E$8*$K$15) -> 293907 | F15: =INT(F$8*$K$15) -> 92557 | G15: =INT(G$8*$K$15) -> 142596 | H15: =G15+F15+E15 -> 529060 | I15: 직접노무비 | J15: x | K15: 0.0475
D16: 노인장기요양보험료 | E16: =INT(E$14*$K$16) -> 29228 | F16: =INT(F$14*$K$16) -> 9204 | G16: =INT(G$14*$K$16) -> 14181 | H16: =G16+F16+E16 -> 52613 | I16: 건강보험료 | J16: x | K16: 0.1314
B17: 사 | D17: 퇴직공제부금비 | E17: =INT(E$8*$K$17) -> 0 | F17: =INT(F$8*$K$17) -> 0 | G17: =INT(G$8*$K$17) -> 0 | H17: =G17+F17+E17 -> 0 | I17: 직접노무비 | J17: x | K17: 0
D18: 산업안전보건관리비 | E18: =INT(SUM(E$7,E$8)*$K$18) -> 152468 | F18: =INT(SUM(F$7,F$8)*$K$18) -> 55388 | G18: =INT(SUM(G$7,G$8)*$K$18) -> 86866 | H18: =G18+F18+E18 -> 294722 | I18: (재료+직노) | J18: x | K18: 0.0207
D19: 기 타 경 비 | E19: =INT(SUM(E$7,E$10)*$K$19) -> 422422 | F19: =INT(SUM(F$7,F$10)*$K$19) -> 150837 | G19: =INT(SUM(G$7,G$10)*$K$19) -> 236089 | H19: =G19+F19+E19 -> 809348 | I19: (재료+노무) | J19: x | K19: 0.05
D20: 석 면 분 담 금 | E20: =INT(E$10*$K$20) -> 436 | F20: =INT(F$10*$K$20) -> 137 | G20: =INT(G$10*$K$20) -> 211 | H20: =G20+F20+E20 -> 784 | I20: 노무비 | J20: x | K20: 6e-05
C21: 비 | D21: 임금채권부담금 | E21: =INT(E$10*$K$21) -> 6543 | F21: =INT(F$10*$K$21) -> 2060 | G21: =INT(G$10*$K$21) -> 3174 | H21: =G21+F21+E21 -> 11777 | I21: 노무비 | J21: x | K21: 0.0009
B22: 비 | D22: 환 경 보 전 비 | H22: =G22+F22+E22 -> 0
H23: =G23+F23+E23 -> 0
D24: ( 소 계 ) | E24: =SUM(E11:E23) -> 1459698 | F24: =SUM(F11:F23) -> 484867 | G24: =SUM(G11:G23) -> 752241 | H24: =G24+F24+E24 -> 2696806
B25: 일 반 관 리 비 | E25: =INT(SUM(E$7,E$10,E$24)*$K$25) -> 594488 | F25: =INT(SUM(F$7,F$10,F$24)*$K$25) -> 210097 | G25: =INT(SUM(G$7,G$10,G$24)*$K$25) -> 328442 | H25: =G25+F25+E25 -> 1133027 | I25: (재료+노무+경비) | J25: x | K25: 0.06
B26: 이 윤 | E26: =INT(SUM(E$10,E$24,E$25)*$K$26) -> 1398677 | F26: =INT(SUM(F$10,F$24,F$25)*$K$26) -> 447682 | G26: =INT(SUM(G$10,G$24,G$25)*$K$26) -> 691212 | H26: =G26+F26+E26 -> 2537571 | I26: (노무비+경비+일관) | J26: x | K26: 0.15
B27: ( 총 원 가 ) | E27: =TRUNC(SUM(E$7,E$10,E$24,E$25,E$26,),-3) -> 11901000 | F27: =TRUNC(SUM(F$7,F$10,F$24,F$25,F$26,),-3) -> 4159000 | G27: =TRUNC(SUM(G$7,G$10,G$24,G$25,G$26,),-3) -> 6493000 | H27: =E27+F27+G27 -> 22553000
B28: 손해배상 책임보험 | E28: =E27*$K$28 -> 31510.278 | F28: =F27*$K$28 -> 11011.784 | G28: =G27*$K$28 -> 17191.516 | H28: =G28+F28+E28 -> 59713.578 | I28: 총원가 | J28: x | K28: 0.0026477
B29: 부 가 가 치 세 | E29: =INT((E27+E28)*$K$29) -> 1193251 | F29: =INT((F27+F28)*$K$29) -> 417001 | G29: =INT((G27+G28)*$K$29) -> 651019 | H29: =G29+F29+E29 -> 2261271 | I29: (총원가+손해배상보험) | J29: x | K29: 0.1
B30: ( 총 계 ) | E30: =TRUNC(SUM(E27:E29),-3) -> 13125000 | F30: =TRUNC(SUM(F27:F29),-3) -> 4587000 | G30: =TRUNC(SUM(G27:G29),-3) -> 7161000 | H30: =TRUNC(SUM(H27:H29),-3) -> 24873000 | I30: 천원미만절사

Sheet 총괄표
A1: 총줄수-> | B1: 29 | D1: [ 안평초 외 2교(신묵초, 중화초) 급식실 증축 및 화장실개선 통신공사 ] | AA1: 연속견적가로형식
A2: 번호 | B2: 공종코드 | C2: … | D2: 공 종 명 | E2: 규격 | F2: 단위 | G2: 수량 | H2: 재료비 | J2: 노무비 | M2: 경비 | P2: 계 | Q2: 비고
H3: 단가 | I3: 금액 | J3: 수량 | K3: 단가 | L3: 금액 | M3: 단가 | N3: 금액 | O3: 단가
B4: 공종줄 | D4: 안평초 급식실 및 학생식당 증축 통신공사 | F4: 식 | G4: 1 | H4: =I5+I6 -> 1178112 | I4: =G4*H4 -> 1178112 | K4: =L5+L6 -> 6187517 | L4: =G4*K4 -> 6187517 | M4: ='내역서(안평초)'!N54 -> 0 | N4: =G4*M4 -> 0 | O4: =IF((H4+K4+M4)=0, "", (H4+K4+M4)) -> 7365629 | P4: =SUM(I4,L4,N4) -> 7365629
B5: 01 | D5: 1.정보통신설비공사 | F5: 식 | G5: 1 | H5: ='내역서(안평초)'!I55 -> 653250 | I5: =G5*H5 -> 653250 | K5: ='내역서(안평초)'!L55 -> 3506075 | L5: =G5*K5 -> 3506075 | M5: ='내역서(안평초)'!N55 -> 0 | N5: =G5*M5 -> 0 | O5: =IF((H5+K5+M5)=0, "", (H5+K5+M5)) -> 4159325 | P5: =SUM(I5,L5,N5) -> 4159325
B6: 02 | D6: 2.방송설비공사 | F6: 식 | G6: 1 | H6: ='내역서(안평초)'!I81 -> 524862 | I6: =G6*H6 -> 524862 | K6: ='내역서(안평초)'!L81 -> 2681442 | L6: =G6*K6 -> 2681442 | M6: ='내역서(안평초)'!N81 -> 0 | N6: =G6*M6 -> 0 | O6: =IF((H6+K6+M6)=0, "", (H6+K6+M6)) -> 3206304 | P6: =SUM(I6,L6,N6) -> 3206304
D8: 신묵초 화장실개선 통신공사 | F8: 식 | G8: 1 | H8: =I9 -> 727171 | I8: =G8*H8 -> 727171 | K8: =L9 -> 1948584 | L8: =G8*K8 -> 1948584 | M8: ='내역서(안평초)'!N58 -> 0 | N8: =G8*M8 -> 0 | O8: =IF((H8+K8+M8)=0, "", (H8+K8+M8)) -> 2675755 | P8: =SUM(I8,L8,N8) -> 2675755
D9: 1.정보통신설비공사 | F9: 식 | G9: 1 | H9: ='내역서(신묵초)'!I29 -> 727171 | I9: =G9*H9 -> 727171 | K9: ='내역서(신묵초)'!L29 -> 1948584 | L9: =G9*K9 -> 1948584 | P9: =SUM(I9,L9,N9) -> 2675755
D11: 중화초 화장실개선 통신공사 | F11: 식 | G11: 1 | H11: =I12 -> 1194402 | I11: =G11*H11 -> 1194402 | K11: =L12 -> 3002040 | L11: =G11*K11 -> 3002040 | M11: ='내역서(안평초)'!N61 -> 0 | N11: =G11*M11 -> 0 | O11: =IF((H11+K11+M11)=0, "", (H11+K11+M11)) -> 4196442 | P11: =SUM(I11,L11,N11) -> 4196442
D12: 1.정보통신설비공사 | F12: 식 | G12: 1 | H12: ='내역서(중화초)'!I29 -> 1194402 | I12: =G12*H12 -> 1194402 | K12: ='내역서(중화초)'!L29 -> 3002040 | L12: =G12*K12 -> 3002040 | P12: =SUM(I12,L12,N12) -> 4196442
D28: 합계 | I28: =I4+I8+I11 -> 3099685 | L28: =L4+L8+L11 -> 11138141 | P28: =P4+P8+P11 -> 14237826

Sheet 내역서(안평초)
A1: 총줄수-> | B1: 81 | D1: [ 안평초 외 2교(신묵초, 중화초) 급식실 증축 및 화장실개선 통신공사 ] - 안평초 | W1: 노임 계산 정보 | AA1: 부속재 및 손료
A2: 번호 | B2: 공종코드 | C2: 코드 | D2: 명 칭 | E2: 규 격 | F2: 단위 | G2: 수량 | H2: 재료비 | J2: 노무비 | M2: 경비 | P2: 계 | Q2: 비고 | W2: 노임계 | X2: 전체(%) | Y2: 공종별(%) | Z2: 노임 소수 | AA2: CD배관재 | AB2: 일반배관재 | AC2: 소모재 | AD2: 자재계 | AE2: 노임계
H3: 단가 | I3: 금액 | J3: 수량 | K3: 단가 | L3: 금액 | M3: 단가 | N3: 금액 | O3: 단가 | AD3: =IF(옵션!$C$11 =0, "1", 옵션!$C$11) -> 1 | AE3: =IF(옵션!$C$12 =0, "1", 옵션!$C$12) -> 1
B4: 공종줄 | D4: 1.정보통신설비공사
A5: 59753097002 | B5: 01 | C5: 3913170610035664 | D5: 합성수지제 가요전선관 | E5: CD(난연성) 16㎜ | F5: M | G5: 14 | H5: =합산자재!H4 -> 170 | I5: =TRUNC(G5*H5) -> 2380 | J5: 12.5 | K5: =합산자재!I4 -> 0 | L5: =TRUNC(G5*K5) -> 0 | M5: =합산자재!J4 -> 0 | N5: =TRUNC(G5*M5) -> 0 | O5: =IF((H5+K5+M5)=0, "", (H5+K5+M5)) -> 170 | P5: =SUM(I5,L5,N5) -> 2380 | AA5: =I5 -> 2380 | AC5: =G5*H5 -> 2380
A6: 59753097003 | B6: 01 | C6: 3913170610035665 | D6: 합성수지제 가요전선관 | E6: CD(난연성) 22㎜ | F6: M | G6: 4 | H6: =합산자재!H5 -> 255 | I6: =TRUNC(G6*H6) -> 1020 | J6: 4 | K6: =합산자재!I5 -> 0 | L6: =TRUNC(G6*K6) -> 0 | M6: =합산자재!J5 -> 0 | N6: =TRUNC(G6*M6) -> 0 | O6: =IF((H6+K6+M6)=0, "", (H6+K6+M6)) -> 255 | P6: =SUM(I6,L6,N6) -> 1020 | AA6: =I6 -> 1020 | AC6: =G6*H6 -> 1020
A7: 59753017003 | B7: 01 | C7: 3913170620174410 | D7: 1종금속제가요전선관 | E7: 16 mm 일반-비방수 | F7: M | G7: 84 | H7: =합산자재!H6 -> 445 | I7: =TRUNC(G7*H7) -> 37380 | J7: 76 | K7: =합산자재!I6 -> 0 | L7: =TRUNC(G7*K7) -> 0 | M7: =합산자재!J6 -> 0 | N7: =TRUNC(G7*M7) -> 0 | O7: =IF((H7+K7+M7)=0, "", (H7+K7+M7)) -> 445 | P7: =SUM(I7,L7,N7) -> 37380 | AB7: =I7 -> 37380 | AC7: =G7*H7 -> 37380
A8: A0600000000 | B8: 01 | C8: RENT000000000001 | D8: [ 배관 부속재 ] | E8: CD 전선관의 40% | F8: 식 | G8: 1 | H8: =TRUNC(AA8*옵션!$B$32/100) -> 1360 | I8: =TRUNC(G8*H8) -> 1360 | J8: 1 | L8: =TRUNC(G8*K8) -> 0 | N8: =TRUNC(G8*M8) -> 0 | O8: =IF((H8+K8+M8)=0, "", (H8+K8+M8)) -> 1360 | P8: =SUM(I8,L8,N8) -> 1360 | AA8: =TRUNC(SUM(AA4:AA7)) -> 3400
A9: A0500000000 | B9: 01 | C9: RENT000000000002 | D9: [ 배관 부속재 ] | E9: 전선관의 20% | F9: 식 | G9: 1 | H9: =TRUNC(AB9*옵션!$B$31/100) -> 7476 | I9: =TRUNC(G9*H9) -> 7476 | J9: 1 | L9: =TRUNC(G9*K9) -> 0 | N9: =TRUNC(G9*M9) -> 0 | O9: =IF((H9+K9+M9)=0, "", (H9+K9+M9)) -> 7476 | P9: =SUM(I9,L9,N9) -> 7476 | AB9: =TRUNC(SUM(AB4:AB8)) -> 37380
A10: 59753017043 | B10: 01 | C10: 3913170620174434 | D10: 1종금속제가요전선관 | E10: 커넥터, 16 mm 일반-비방수 | F10: 개 | G10: 14 | H10: =합산자재!H7 -> 340 | I10: =TRUNC(G10*H10) -> 4760 | J10: 14 | K10: =합산자재!I7 -> 0 | L10: =TRUNC(G10*K10) -> 0 | M10: =합산자재!J7 -> 0 | N10: =TRUNC(G10*M10) -> 0 | O10: =IF((H10+K10+M10)=0, "", (H10+K10+M10)) -> 340 | P10: =SUM(I10,L10,N10) -> 4760
A11: 59753777102 | B11: 01 | C11: 3912130610035778 | D11: 스위치박스 | E11: 1 개용 54 mm | F11: 개 | G11: 2 | H11: =합산자재!H9 -> 603 | I11: =TRUNC(G11*H11) -> 1206 | J11: 2 | K11: =합산자재!I9 -> 0 | L11: =TRUNC(G11*K11) -> 0 | M11: =합산자재!J9 -> 0 | N11: =TRUNC(G11*M11) -> 0 | O11: =IF((H11+K11+M11)=0, "", (H11+K11+M11)) -> 603 | P11: =SUM(I11,L11,N11) -> 1206
A12: 59753777111 | B12: 01 | C12: 3912130610035781 | D12: 스위치박스 | E12: 2 개용 54 mm | F12: 개 | G12: 1 | H12: =합산자재!H10 -> 726 | I12: =TRUNC(G12*H12) -> 726 | J12: 1 | K12: =합산자재!I10 -> 0 | L12: =TRUNC(G12*K12) -> 0 | M12: =합산자재!J10 -> 0 | N12: =TRUNC(G12*M12) -> 0 | O12: =IF((H12+K12+M12)=0, "", (H12+K12+M12)) -> 726 | P12: =SUM(I12,L12,N12) -> 726
A13: 59753767281 | B13: 01 | C13: 3912130820174718 | D13: 아우트렛박스 커버 | E13: 4각, 2개용S/W (오목) | F13: 개 | G13: 1 | H13: =합산자재!H12 -> 283 | I13: =TRUNC(G13*H13) -> 283 | J13: 1 | K13: =합산자재!I12 -> 0 | L13: =TRUNC(G13*K13) -> 0 | M13: =합산자재!J12 -> 0 | N13: =TRUNC(G13*M13) -> 0 | O13: =IF((H13+K13+M13)=0, "", (H13+K13+M13)) -> 283 | P13: =SUM(I13,L13,N13) -> 283
A14: 61455137894 | B14: 01 | C14: 3912130320175917 | D14: 정션 박스 | E14: 100*100*50 | F14: 개 | G14: 3 | H14: =합산자재!H13 -> 2690 | I14: =TRUNC(G14*H14) -> 8070 | J14: 3 | K14: =합산자재!I13 -> 0 | L14: =TRUNC(G14*K14) -> 0 | M14: =합산자재!J13 -> 0 | N14: =TRUNC(G14*M14) -> 0 | O14: =IF((H14+K14+M14)=0, "", (H14+K14+M14)) -> 2690 | P14: =SUM(I14,L14,N14) -> 8070
A15: E1450667003 | B15: 01 | C15: 2612162922076728 | D15: 450/750V 저독성난연절연전선 | E15: HFIX 2.25mm(4㎟) | F15: M | G15: 50 | H15: =합산자재!H15 -> 826 | I15: =TRUNC(G15*H15) -> 41300 | J15: 45 | K15: =합산자재!I15 -> 0 | L15: =TRUNC(G15*K15) -> 0 | M15: =합산자재!J15 -> 0 | N15: =TRUNC(G15*M15) -> 0 | O15: =IF((H15+K15+M15)=0, "", (H15+K15+M15)) -> 826 | P15: =SUM(I15,L15,N15) -> 41300 | AC15: =G15*H15 -> 41300
A16: 61454127541 | B16: 01 | C16: 2612160621650577 | D16: 고발포동축케이블 | E16: 5C-HFBT | F16: M | G16: 16 | H16: =합산자재!H16 -> 519 | I16: =TRUNC(G16*H16) -> 8304 | J16: 15 | K16: =합산자재!I16 -> 0 | L16: =TRUNC(G16*K16) -> 0 | M16: =합산자재!J16 -> 0 | N16: =TRUNC(G16*M16) -> 0 | O16: =IF((H16+K16+M16)=0, "", (H16+K16+M16)) -> 519 | P16: =SUM(I16,L16,N16) -> 8304 | AC16: =G16*H16 -> 8304
A17: EC452167502 | B17: 01 | C17: InMastDBNonCode | D17: UTP케이블-2열동시 1열당 | E17: Cat.6 0.5mm 4P | F17: M | G17: 130 | H17: =합산자재!H17 -> 570 | I17: =TRUNC(G17*H17) -> 74100 | J17: 121 | K17: =합산자재!I17 -> 0 | L17: =TRUNC(G17*K17) -> 0 | M17: =합산자재!J17 -> 0 | N17: =TRUNC(G17*M17) -> 0 | O17: =IF((H17+K17+M17)=0, "", (H17+K17+M17)) -> 570 | P17: =SUM(I17,L17,N17) -> 74100 | AC17: =G17*H17 -> 74100
A18: EC452167504 | B18: 01 | C18: InMastDBNonCode | D18: UTP케이블-4열동시 1열당 | E18: Cat.6 0.5mm 4P | F18: M | G18: 17 | H18: =합산자재!H18 -> 570 | I18: =TRUNC(G18*H18) -> 9690 | J18: 16 | K18: =합산자재!I18 -> 0 | L18: =TRUNC(G18*K18) -> 0 | M18: =합산자재!J18 -> 0 | N18: =TRUNC(G18*M18) -> 0 | O18: =IF((H18+K18+M18)=0, "", (H18+K18+M18)) -> 570 | P18: =SUM(I18,L18,N18) -> 9690 | AC18: =G18*H18 -> 9690
A19: 58051750202 | B19: 01 | C19: 3912140620937657 | D19: 모듈라짹 | E19: 매입용, Cat.6 2구 | F19: 개 | G19: 3 | H19: =합산자재!H19 -> 5500 | I19: =TRUNC(G19*H19) -> 16500 | J19: 3 | K19: =합산자재!I19 -> 0 | L19: =TRUNC(G19*K19) -> 0 | M19: =합산자재!J19 -> 0 | N19: =TRUNC(G19*M19) -> 0 | O19: =IF((H19+K19+M19)=0, "", (H19+K19+M19)) -> 5500 | P19: =SUM(I19,L19,N19) -> 16500
A20: 58952007501 | B20: 01 | C20: InMastDBNonCode | D20: POE허브 | E20: 1000Mbps, 5PORT | F20: 개 | G20: 1 | H20: =합산자재!H20 -> 110000 | I20: =TRUNC(G20*H20) -> 110000 | J20: 1 | K20: =합산자재!I20 -> 0 | L20: =TRUNC(G20*K20) -> 0 | M20: =합산자재!J20 -> 0 | N20: =TRUNC(G20*M20) -> 0 | O20: =IF((H20+K20+M20)=0, "", (H20+K20+M20)) -> 110000 | P20: =SUM(I20,L20,N20) -> 110000
A21: 58952007502 | B21: 01 | C21: InMastDBNonCode | D21: POE허브 | E21: 1000Mbps, 8PORT | F21: 개 | G21: 1 | H21: =합산자재!H21 -> 120000 | I21: =TRUNC(G21*H21) -> 120000 | J21: 1 | K21: =합산자재!I21 -> 0 | L21: =TRUNC(G21*K21) -> 0 | M21: =합산자재!J21 -> 0 | N21: =TRUNC(G21*M21) -> 0 | O21: =IF((H21+K21+M21)=0, "", (H21+K21+M21)) -> 120000 | P21: =SUM(I21,L21,N21) -> 120000
A22: MM550686636 | B22: 01 | C22: InMastDBNonCode | D22: 단자함,매입(커버SUS) | E22: 400*500*130 | F22: 면 | G22: 1 | H22: =합산자재!H22 -> 98200 | I22: =TRUNC(G22*H22) -> 98200 | J22: 1 | K22: =합산자재!I22 -> 0 | L22: =TRUNC(G22*K22) -> 0 | M22: =합산자재!J22 -> 0 | N22: =TRUNC(G22*M22) -> 0 | O22: =IF((H22+K22+M22)=0, "", (H22+K22+M22)) -> 98200 | P22: =SUM(I22,L22,N22) -> 98200
A23: 58050627203 | B23: 01 | C23: 3912149820163812 | D23: 동축콘넥터 | E23: 5C용, 방수형 압착타입 | F23: 개 | G23: 6 | H23: =합산자재!H25 -> 180 | I23: =TRUNC(G23*H23) -> 1080 | J23: 6 | K23: =합산자재!I25 -> 0 | L23: =TRUNC(G23*K23) -> 0 | M23: =합산자재!J25 -> 0 | N23: =TRUNC(G23*M23) -> 0 | O23: =IF((H23+K23+M23)=0, "", (H23+K23+M23)) -> 180 | P23: =SUM(I23,L23,N23) -> 1080
A24: 58050627205 | B24: 01 | C24: InMastDBNonCode | D24: 동축콘넥터 | E24: 연결 및 중계기 | F24: 개 | G24: 3 | H24: =합산자재!H26 -> 250 | I24: =TRUNC(G24*H24) -> 750 | J24: 3 | K24: =합산자재!I26 -> 0 | L24: =TRUNC(G24*K24) -> 0 | M24: =합산자재!J26 -> 0 | N24: =TRUNC(G24*M24) -> 0 | O24: =IF((H24+K24+M24)=0, "", (H24+K24+M24)) -> 250 | P24: =SUM(I24,L24,N24) -> 750
A25: 56931750324 | B25: 01 | C25: V56931750324 | D25: 일반형카메라 철거재사용 | E25: 회전형 | F25: 개 | G25: 3 | H25: =일대목차!I6 -> 0 | I25: =TRUNC(G25*H25) -> 0 | J25: 3 | K25: =일대목차!L6 -> 194993 | L25: =TRUNC(G25*K25) -> 584979 | M25: =일대목차!N6 -> 0 | N25: =TRUNC(G25*M25) -> 0 | O25: =IF((H25+K25+M25)=0, "", (H25+K25+M25)) -> 194993 | P25: =SUM(I25,L25,N25) -> 584979 | Q25: V56931750324 | AE25: =L25 -> 584979
A26: MM602528324 | B26: 01 | C26: InMastDBNonCode | D26: 무선비상벨 | E26: 비상벨,보드판,점자스티커포함 | F26: 개 | G26: 1 | I26: =TRUNC(G26*H26) -> 0 | J26: 1 | K26: =합산자재!I27 -> 0 | L26: =TRUNC(G26*K26) -> 0 | M26: =합산자재!J27 -> 0 | N26: =TRUNC(G26*M26) -> 0 | O26: =IF((H26+K26+M26)=0, "", (H26+K26+M26)) | P26: =SUM(I26,L26,N26) -> 0 | Q26: 철거재사용
A27: A0100000000 | B27: 01 | C27: RENT000000000003 | D27: [ 소모 잡자재 ] | E27: 전선, 전선관의 2 % | F27: 식 | G27: 1 | H27: =IF(TRUNC((AD27+AC27)/$AD$3)*$AD$3-AD27 <0, AC27, TRUNC((AD27+AC27)/$AD$3)*$AD$3-AD27) -> 3483 | I27: =H27 -> 3483 | J27: 1 | L27: =TRUNC(G27*K27) -> 0 | N27: =TRUNC(G27*M27) -> 0 | O27: =IF((H27+K27+M27)=0, "", (H27+K27+M27)) -> 3483 | P27: =SUM(I27,L27,N27) -> 3483 | AC27: =TRUNC(TRUNC(SUM(AC4:AC26))*옵션!$B$33/100) -> 3483 | AD27: =TRUNC(SUM(I4:I26))+TRUNC(SUM(N4:N26)) -> 544585
A28: 56900017113 | B28: 01 | C28: L001010101000086 | D28: 노 무 비 | E28: 통신내선공 | F28: 인 | G28: =노임근거!G24 -> 5 | H28: =합산자재!H28 -> 0 | I28: =TRUNC(G28*H28) -> 0 | J28: =노임근거!G24 -> 5 | K28: =합산자재!I28 -> 284880 | L28: =TRUNC(G28*K28) -> 1424400 | M28: =합산자재!J28 -> 0 | N28: =TRUNC(G28*M28) -> 0 | O28: =IF((H28+K28+M28)=0, "", (H28+K28+M28)) -> 284880 | P28: =SUM(I28,L28,N28) -> 1424400 | AE28: =L28 -> 1424400
A29: 56900017116 | B29: 01 | C29: L001010101000089 | D29: 노 무 비 | E29: 통신케이블공 | F29: 인 | G29: =노임근거!G25 -> 2 | H29: =합산자재!H29 -> 0 | I29: =TRUNC(G29*H29) -> 0 | J29: =노임근거!G25 -> 2 | K29: =합산자재!I29 -> 436224 | L29: =TRUNC(G29*K29) -> 872448 | M29: =합산자재!J29 -> 0 | N29: =TRUNC(G29*M29) -> 0 | O29: =IF((H29+K29+M29)=0, "", (H29+K29+M29)) -> 436224 | P29: =SUM(I29,L29,N29) -> 872448 | AE29: =L29 -> 872448
A30: 56900017114 | B30: 01 | C30: L001010101000087 | D30: 노 무 비 | E30: 통신설비공 | F30: 인 | G30: =노임근거!G26 -> 0.03 | H30: =합산자재!H30 -> 0 | I30: =TRUNC(G30*H30) -> 0 | J30: =노임근거!G26 -> 0.03 | K30: =합산자재!I30 -> 315528 | L30: =TRUNC(G30*K30) -> 9465 | M30: =합산자재!J30 -> 0 | N30: =TRUNC(G30*M30) -> 0 | O30: =IF((H30+K30+M30)=0, "", (H30+K30+M30)) -> 315528 | P30: =SUM(I30,L30,N30) -> 9465 | AE30: =L30 -> 9465
A31: 56900017041 | B31: 01 | C31: L001010101000002 | D31: 노 무 비 | E31: 보통인부 | F31: 인 | G31: =노임근거!G27 -> 0.7 | H31: =합산자재!H31 -> 0 | I31: =TRUNC(G31*H31) -> 0 | J31: =노임근거!G27 -> 0.7 | K31: =합산자재!I31 -> 172068 | L31: =TRUNC(G31*K31) -> 120447 | M31: =합산자재!J31 -> 0 | N31: =TRUNC(G31*M31) -> 0 | O31: =IF((H31+K31+M31)=0, "", (H31+K31+M31)) -> 172068 | P31: =SUM(I31,L31,N31) -> 120447 | AE31: =L31 -> 120447
A32: 56900017142 | B32: 01 | C32: L001010201000093 | D32: 노 무 비 | E32: H/W시험사 | F32: 인 | G32: =노임근거!G28 -> 0.44 | H32: =합산자재!H33 -> 0 | I32: =TRUNC(G32*H32) -> 0 | J32: =노임근거!G28 -> 0.44 | K32: =합산자재!I33 -> 393090 | L32: =TRUNC(G32*K32) -> 172959 | M32: =합산자재!J33 -> 0 | N32: =TRUNC(G32*M32) -> 0 | O32: =IF((H32+K32+M32)=0, "", (H32+K32+M32)) -> 393090 | P32: =SUM(I32,L32,N32) -> 172959 | AE32: =L32 -> 172959
A33: 56900017143 | B33: 01 | C33: L001010201000094 | D33: 노 무 비 | E33: S/W시험사 | F33: 인 | G33: =노임근거!G29 -> 0.72 | H33: =합산자재!H34 -> 0 | I33: =TRUNC(G33*H33) -> 0 | J33: =노임근거!G29 -> 0.72 | K33: =합산자재!I34 -> 446358 | L33: =TRUNC(G33*K33) -> 321377 | M33: =합산자재!J34 -> 0 | N33: =TRUNC(G33*M33) -> 0 | O33: =IF((H33+K33+M33)=0, "", (H33+K33+M33)) -> 446358 | P33: =SUM(I33,L33,N33) -> 321377 | AE33: =L33 -> 321377
A34: A0300000000 | B34: 01 | C34: RENT000000000006 | D34: [ 공 구 손 료 ] | E34: 노무비의 3 % | F34: 식 | G34: 1 | H34: =IF(TRUNC((AD35+AC35)/$AE$3)*$AE$3-AD35 <0, AC35, TRUNC((AD35+AC35)/$AE$3)*$AE$3-AD35) -> 105182 | I34: =H34 -> 105182 | J34: 1 | L34: =TRUNC(G34*K34) -> 0 | N34: =TRUNC(G34*M34) -> 0 | O34: =IF((H34+K34+M34)=0, "", (H34+K34+M34)) -> 105182 | P34: =SUM(I34,L34,N34) -> 105182
AC35: =TRUNC(AE35*옵션!$B$36/100) -> 105182 | AD35: =TRUNC(SUM(L4:L33)) -> 3506075 | AE35: =TRUNC(SUM(AE4:AE34)) -> 3506075
B55: 합계줄 | D55: ( 합 계 ) | I55: =TRUNC(SUM(I4:I54)) -> 653250 | L55: =TRUNC(SUM(L4:L54)) -> 3506075 | N55: =TRUNC(SUM(N4:N54)) -> 0 | O55: =IF((H55+K55+M55)=0, "", (H55+K55+M55)) | P55: =TRUNC(SUM(P4:P54)) -> 4159325
B56: 공종줄 | D56: 2.방송설비공사
A57: 59753097002 | B57: 02 | C57: 3913170610035664 | D57: 합성수지제 가요전선관 | E57: CD(난연성) 16㎜ | F57: M | G57: 30 | H57: =합산자재!H4 -> 170 | I57: =TRUNC(G57*H57) -> 5100 | J57: 27 | K57: =합산자재!I4 -> 0 | L57: =TRUNC(G57*K57) -> 0 | M57: =합산자재!J4 -> 0 | N57: =TRUNC(G57*M57) -> 0 | O57: =IF((H57+K57+M57)=0, "", (H57+K57+M57)) -> 170 | P57: =SUM(I57,L57,N57) -> 5100 | AA57: =I57 -> 5100 | AC57: =G57*H57 -> 5100
A58: 59753017003 | B58: 02 | C58: 3913170620174410 | D58: 1종금속제가요전선관 | E58: 16 mm 일반-비방수 | F58: M | G58: 86 | H58: =합산자재!H6 -> 445 | I58: =TRUNC(G58*H58) -> 38270 | J58: 78 | K58: =합산자재!I6 -> 0 | L58: =TRUNC(G58*K58) -> 0 | M58: =합산자재!J6 -> 0 | N58: =TRUNC(G58*M58) -> 0 | O58: =IF((H58+K58+M58)=0, "", (H58+K58+M58)) -> 445 | P58: =SUM(I58,L58,N58) -> 38270 | AB58: =I58 -> 38270 | AC58: =G58*H58 -> 38270
A59: A0600000000 | B59: 02 | C59: RENT000000000001 | D59: [ 배관 부속재 ] | E59: CD 전선관의 40% | F59: 식 | G59: 1 | H59: =TRUNC(AA59*옵션!$B$32/100) -> 2040 | I59: =TRUNC(G59*H59) -> 2040 | J59: 1 | L59: =TRUNC(G59*K59) -> 0 | N59: =TRUNC(G59*M59) -> 0 | O59: =IF((H59+K59+M59)=0, "", (H59+K59+M59)) -> 2040 | P59: =SUM(I59,L59,N59) -> 2040 | AA59: =TRUNC(SUM(AA56:AA58)) -> 5100
A60: A0500000000 | B60: 02 | C60: RENT000000000002 | D60: [ 배관 부속재 ] | E60: 전선관의 20% | F60: 식 | G60: 1 | H60: =TRUNC(AB60*옵션!$B$31/100) -> 7654 | I60: =TRUNC(G60*H60) -> 7654 | J60: 1 | L60: =TRUNC(G60*K60) -> 0 | N60: =TRUNC(G60*M60) -> 0 | O60: =IF((H60+K60+M60)=0, "", (H60+K60+M60)) -> 7654 | P60: =SUM(I60,L60,N60) -> 7654 | AB60: =TRUNC(SUM(AB56:AB59)) -> 38270
A61: 59753017043 | B61: 02 | C61: 3913170620174434 | D61: 1종금속제가요전선관 | E61: 커넥터, 16 mm 일반-비방수 | F61: 개 | G61: 32 | H61: =합산자재!H7 -> 340 | I61: =TRUNC(G61*H61) -> 10880 | J61: 32 | K61: =합산자재!I7 -> 0 | L61: =TRUNC(G61*K61) -> 0 | M61: =합산자재!J7 -> 0 | N61: =TRUNC(G61*M61) -> 0 | O61: =IF((H61+K61+M61)=0, "", (H61+K61+M61)) -> 340 | P61: =SUM(I61,L61,N61) -> 10880
A62: 59753767011 | B62: 02 | C62: 3912130810035750 | D62: 아우트렛박스 | E62: 8각 54㎜ | F62: 개 | G62: 8 | H62: =합산자재!H8 -> 638 | I62: =TRUNC(G62*H62) -> 5104 | J62: 8 | K62: =합산자재!I8 -> 0 | L62: =TRUNC(G62*K62) -> 0 | M62: =합산자재!J8 -> 0 | N62: =TRUNC(G62*M62) -> 0 | O62: =IF((H62+K62+M62)=0, "", (H62+K62+M62)) -> 638 | P62: =SUM(I62,L62,N62) -> 5104
A63: 59753777111 | B63: 02 | C63: 3912130610035781 | D63: 스위치박스 | E63: 2 개용 54 mm | F63: 개 | G63: 4 | H63: =합산자재!H10 -> 726 | I63: =TRUNC(G63*H63) -> 2904 | J63: 4 | K63: =합산자재!I10 -> 0 | L63: =TRUNC(G63*K63) -> 0 | M63: =합산자재!J10 -> 0 | N63: =TRUNC(G63*M63) -> 0 | O63: =IF((H63+K63+M63)=0, "", (H63+K63+M63)) -> 726 | P63: =SUM(I63,L63,N63) -> 2904
A64: 59753767201 | B64: 02 | C64: 3912130820174710 | D64: 아우트렛박스 커버 | E64: 8각, 평형 | F64: 개 | G64: 8 | H64: =합산자재!H11 -> 218 | I64: =TRUNC(G64*H64) -> 1744 | J64: 8 | K64: =합산자재!I11 -> 0 | L64: =TRUNC(G64*K64) -> 0 | M64: =합산자재!J11 -> 0 | N64: =TRUNC(G64*M64) -> 0 | O64: =IF((H64+K64+M64)=0, "", (H64+K64+M64)) -> 218 | P64: =SUM(I64,L64,N64) -> 1744
A65: 59753767281 | B65: 02 | C65: 3912130820174718 | D65: 아우트렛박스 커버 | E65: 4각, 2개용S/W (오목) | F65: 개 | G65: 4 | H65: =합산자재!H12 -> 283 | I65: =TRUNC(G65*H65) -> 1132 | J65: 4 | K65: =합산자재!I12 -> 0 | L65: =TRUNC(G65*K65) -> 0 | M65: =합산자재!J12 -> 0 | N65: =TRUNC(G65*M65) -> 0 | O65: =IF((H65+K65+M65)=0, "", (H65+K65+M65)) -> 283 | P65: =SUM(I65,L65,N65) -> 1132
A66: MM481669624 | B66: 02 | C66: 2612162922076727 | D66: 450/750V 저독성난연절연전선 | E66: HFIX 1.78mm(2.5㎟) | F66: M | G66: 231 | H66: =합산자재!H14 -> 544 | I66: =TRUNC(G66*H66) -> 125664 | J66: 210 | K66: =합산자재!I14 -> 0 | L66: =TRUNC(G66*K66) -> 0 | M66: =합산자재!J14 -> 0 | N66: =TRUNC(G66*M66) -> 0 | O66: =IF((H66+K66+M66)=0, "", (H66+K66+M66)) -> 544 | P66: =SUM(I66,L66,N66) -> 125664 | AC66: =G66*H66 -> 125664
A67: 59650397001 | B67: 02 | C67: 5216151220172709 | D67: 스피커 | E67: S.T/CEILING형, 3W, 원형 | F67: 개 | G67: 9 | H67: =합산자재!H23 -> 16483 | I67: =TRUNC(G67*H67) -> 148347 | J67: 9 | K67: =합산자재!I23 -> 0 | L67: =TRUNC(G67*K67) -> 0 | M67: =합산자재!J23 -> 0 | N67: =TRUNC(G67*M67) -> 0 | O67: =IF((H67+K67+M67)=0, "", (H67+K67+M67)) -> 16483 | P67: =SUM(I67,L67,N67) -> 148347
A68: 59650397031 | B68: 02 | C68: 5216151220172712 | D68: 스피커 | E68: 벽부형(10W) | F68: 개 | G68: 4 | H68: =합산자재!H24 -> 23050 | I68: =TRUNC(G68*H68) -> 92200 | J68: 4 | K68: =합산자재!I24 -> 0 | L68: =TRUNC(G68*K68) -> 0 | M68: =합산자재!J24 -> 0 | N68: =TRUNC(G68*M68) -> 0 | O68: =IF((H68+K68+M68)=0, "", (H68+K68+M68)) -> 23050 | P68: =SUM(I68,L68,N68) -> 92200
A69: 56931750307 | B69: 02 | C69: V56931750307 | D69: 스피커 철거 | E69: 매입, 고정형, 5W 이하 | F69: 개 | G69: 1 | H69: =일대목차!I4 -> 0 | I69: =TRUNC(G69*H69) -> 0 | J69: 1 | K69: =일대목차!L4 -> 19878 | L69: =TRUNC(G69*K69) -> 19878 | M69: =일대목차!N4 -> 0 | N69: =TRUNC(G69*M69) -> 0 | O69: =IF((H69+K69+M69)=0, "", (H69+K69+M69)) -> 19878 | P69: =SUM(I69,L69,N69) -> 19878 | Q69: V56931750307 | AE69: =L69 -> 19878
A70: 56931750313 | B70: 02 | C70: V56931750313 | D70: 스피커 철거 | E70: 노출, 고정형, 30W 이하 | F70: 개 | G70: 2 | H70: =일대목차!I5 -> 0 | I70: =TRUNC(G70*H70) -> 0 | J70: 2 | K70: =일대목차!L5 -> 18174 | L70: =TRUNC(G70*K70) -> 36348 | M70: =일대목차!N5 -> 0 | N70: =TRUNC(G70*M70) -> 0 | O70: =IF((H70+K70+M70)=0, "", (H70+K70+M70)) -> 18174 | P70: =SUM(I70,L70,N70) -> 36348 | Q70: V56931750313 | AE70: =L70 -> 36348
A71: A0100000000 | B71: 02 | C71: RENT000000000003 | D71: [ 소모 잡자재 ] | E71: 전선, 전선관의 2 % | F71: 식 | G71: 1 | H71: =IF(TRUNC((AD71+AC71)/$AD$3)*$AD$3-AD71 <0, AC71, TRUNC((AD71+AC71)/$AD$3)*$AD$3-AD71) -> 3380 | I71: =H71 -> 3380 | J71: 1 | L71: =TRUNC(G71*K71) -> 0 | N71: =TRUNC(G71*M71) -> 0 | O71: =IF((H71+K71+M71)=0, "", (H71+K71+M71)) -> 3380 | P71: =SUM(I71,L71,N71) -> 3380 | AC71: =TRUNC(TRUNC(SUM(AC56:AC70))*옵션!$B$33/100) -> 3380 | AD71: =TRUNC(SUM(I56:I70))+TRUNC(SUM(N56:N70)) -> 441039
A72: 56900017113 | B72: 02 | C72: L001010101000086 | D72: 노 무 비 | E72: 통신내선공 | F72: 인 | G72: =노임근거!G38 -> 7 | H72: =합산자재!H28 -> 0 | I72: =TRUNC(G72*H72) -> 0 | J72: =노임근거!G38 -> 7 | K72: =합산자재!I28 -> 284880 | L72: =TRUNC(G72*K72) -> 1994160 | M72: =합산자재!J28 -> 0 | N72: =TRUNC(G72*M72) -> 0 | O72: =IF((H72+K72+M72)=0, "", (H72+K72+M72)) -> 284880 | P72: =SUM(I72,L72,N72) -> 1994160 | AE72: =L72 -> 1994160
A73: 56900017114 | B73: 02 | C73: L001010101000087 | D73: 노 무 비 | E73: 통신설비공 | F73: 인 | G73: =노임근거!G39 -> 2 | H73: =합산자재!H30 -> 0 | I73: =TRUNC(G73*H73) -> 0 | J73: =노임근거!G39 -> 2 | K73: =합산자재!I30 -> 315528 | L73: =TRUNC(G73*K73) -> 631056 | M73: =합산자재!J30 -> 0 | N73: =TRUNC(G73*M73) -> 0 | O73: =IF((H73+K73+M73)=0, "", (H73+K73+M73)) -> 315528 | P73: =SUM(I73,L73,N73) -> 631056 | AE73: =L73 -> 631056
A74: A0300000000 | B74: 02 | C74: RENT000000000006 | D74: [ 공 구 손 료 ] | E74: 노무비의 3 % | F74: 식 | G74: 1 | H74: =IF(TRUNC((AD75+AC75)/$AE$3)*$AE$3-AD75 <0, AC75, TRUNC((AD75+AC75)/$AE$3)*$AE$3-AD75) -> 80443 | I74: =H74 -> 80443 | J74: 1 | L74: =TRUNC(G74*K74) -> 0 | N74: =TRUNC(G74*M74) -> 0 | O74: =IF((H74+K74+M74)=0, "", (H74+K74+M74)) -> 80443 | P74: =SUM(I74,L74,N74) -> 80443
AC75: =TRUNC(AE75*옵션!$B$36/100) -> 80443 | AD75: =TRUNC(SUM(L56:L73)) -> 2681442 | AE75: =TRUNC(SUM(AE56:AE74)) -> 2681442
B81: 합계줄 | D81: ( 합 계 ) | I81: =TRUNC(SUM(I56:I80)) -> 524862 | L81: =TRUNC(SUM(L56:L80)) -> 2681442 | N81: =TRUNC(SUM(N56:N80)) -> 0 | O81: =IF((H81+K81+M81)=0, "", (H81+K81+M81)) | P81: =TRUNC(SUM(P56:P80)) -> 3206304

Sheet 내역서(신묵초)
A1: 총줄수-> | B1: 29 | D1: [ 안평초 외 2교(신묵초, 중화초) 급식실 증축 및 화장실개선 통신공사 ] - 신묵초 | W1: 노임 계산 정보 | AA1: 부속재 및 손료
A2: 번호 | B2: 공종코드 | C2: 코드 | D2: 명 칭 | E2: 규 격 | F2: 단위 | G2: 수량 | H2: 재료비 | J2: 노무비 | M2: 경비 | P2: 계 | Q2: 비고 | W2: 노임계 | X2: 전체(%) | Y2: 공종별(%) | Z2: 노임 소수 | AA2: CD배관재 | AB2: 일반배관재 | AC2: 소모재 | AD2: 자재계 | AE2: 노임계
H3: 단가 | I3: 금액 | J3: 수량 | K3: 단가 | L3: 금액 | M3: 단가 | N3: 금액 | O3: 단가 | AD3: =IF([46]옵션!$C$11 =0, "1", [46]옵션!$C$11) -> 1 | AE3: =IF([46]옵션!$C$12 =0, "1", [46]옵션!$C$12) -> 1
B4: 공종줄 | D4: 1.신묵초 화장실개선 정보통신설비공사
A5: 59753017003 | B5: 01 | C5: 3913170620174410 | D5: 1종금속제가요전선관 | E5: 16 mm 일반-비방수 | F5: M | G5: 22 | H5: 445 | I5: =TRUNC(G5*H5) -> 9790 | J5: 20 | K5: 0 | L5: =TRUNC(G5*K5) -> 0 | M5: 0 | N5: =TRUNC(G5*M5) -> 0 | O5: =IF((H5+K5+M5)=0, "", (H5+K5+M5)) -> 445 | P5: =SUM(I5,L5,N5) -> 9790 | AB5: =I5 -> 9790 | AC5: =G5*H5 -> 9790
A6: A0500000000 | B6: 01 | C6: RENT000000000002 | D6: [ 배관 부속재 ] | E6: 전선관의 20% | F6: 식 | G6: 1 | H6: 1958 | I6: =TRUNC(G6*H6) -> 1958 | J6: 1 | L6: =TRUNC(G6*K6) -> 0 | N6: =TRUNC(G6*M6) -> 0 | O6: =IF((H6+K6+M6)=0, "", (H6+K6+M6)) -> 1958 | P6: =SUM(I6,L6,N6) -> 1958 | AB6: =TRUNC(SUM(AB4:AB5)) -> 9790
A7: 59753017043 | B7: 01 | C7: 3913170620174434 | D7: 1종금속제가요전선관 | E7: 커넥터, 16 mm 일반-비방수 | F7: 개 | G7: 4 | H7: 340 | I7: =TRUNC(G7*H7) -> 1360 | J7: 4 | K7: 0 | L7: =TRUNC(G7*K7) -> 0 | M7: 0 | N7: =TRUNC(G7*M7) -> 0 | O7: =IF((H7+K7+M7)=0, "", (H7+K7+M7)) -> 340 | P7: =SUM(I7,L7,N7) -> 1360
A8: MM300040259 | B8: 01 | C8: 3912130610035785 | D8: 콘센트박스 | E8: 1 개용 54 mm | F8: 개 | G8: 2 | H8: 603 | I8: =TRUNC(G8*H8) -> 1206 | J8: 2 | K8: 0 | L8: =TRUNC(G8*K8) -> 0 | M8: 0 | N8: =TRUNC(G8*M8) -> 0 | O8: =IF((H8+K8+M8)=0, "", (H8+K8+M8)) -> 603 | P8: =SUM(I8,L8,N8) -> 1206
A9: E1450667003 | B9: 01 | C9: 2612162922076728 | D9: 450/750V 저독성난연절연전선 | E9: HFIX 2.25mm(4㎟) | F9: M | G9: 66 | H9: 826 | I9: =TRUNC(G9*H9) -> 54516 | J9: 60 | K9: 0 | L9: =TRUNC(G9*K9) -> 0 | M9: 0 | N9: =TRUNC(G9*M9) -> 0 | O9: =IF((H9+K9+M9)=0, "", (H9+K9+M9)) -> 826 | P9: =SUM(I9,L9,N9) -> 54516 | AC9: =G9*H9 -> 54516
A10: 59350317205 | B10: 01 | C10: 3912140620170849 | D10: 콘센트 | E10: 매입-접지형, 15A 250V 1구 | F10: 개 | G10: 2 | H10: 952 | I10: =TRUNC(G10*H10) -> 1904 | J10: 2 | K10: 0 | L10: =TRUNC(G10*K10) -> 0 | M10: 0 | N10: =TRUNC(G10*M10) -> 0 | O10: =IF((H10+K10+M10)=0, "", (H10+K10+M10)) -> 952 | P10: =SUM(I10,L10,N10) -> 1904
A11: 59650397001 | B11: 01 | C11: 5216151220172709 | D11: 스피커 | E11: S.T/CEILING형, 3W, 원형 | F11: 개 | G11: 18 | H11: 16483 | I11: =TRUNC(G11*H11) -> 296694 | J11: 18 | K11: 0 | L11: =TRUNC(G11*K11) -> 0 | M11: 0 | N11: =TRUNC(G11*M11) -> 0 | O11: =IF((H11+K11+M11)=0, "", (H11+K11+M11)) -> 16483 | P11: =SUM(I11,L11,N11) -> 296694
A12: 56931750307 | B12: 01 | C12: V56931750307 | D12: 스피커 철거 | E12: 매입, 고정형, 5W 이하 | F12: 개 | G12: 18 | H12: 0 | I12: =TRUNC(G12*H12) -> 0 | J12: 18 | K12: 19878 | L12: =TRUNC(G12*K12) -> 357804 | M12: 0 | N12: =TRUNC(G12*M12) -> 0 | O12: =IF((H12+K12+M12)=0, "", (H12+K12+M12)) -> 19878 | P12: =SUM(I12,L12,N12) -> 357804 | Q12: V56931750307 | AE12: =L12 -> 357804
A13: MM602528324 | B13: 01 | C13: InMastDBNonCode | D13: 무선비상벨 | E13: 비상벨,보드판,점자스티커포함 | F13: 개 | G13: 4 | H13: 20000 | I13: =TRUNC(G13*H13) -> 80000 | J13: 4 | K13: 0 | L13: =TRUNC(G13*K13) -> 0 | M13: 0 | N13: =TRUNC(G13*M13) -> 0 | O13: =IF((H13+K13+M13)=0, "", (H13+K13+M13)) -> 20000 | P13: =SUM(I13,L13,N13) -> 80000
A14: MM602528324 | B14: 01 | C14: InMastDBNonCode | D14: 무선비상벨 | E14: 비상벨,보드판,점자스티커포함 | F14: 개 | G14: 8 | I14: =TRUNC(G14*H14) -> 0 | J14: 8 | K14: 0 | L14: =TRUNC(G14*K14) -> 0 | M14: 0 | N14: =TRUNC(G14*M14) -> 0 | O14: =IF((H14+K14+M14)=0, "", (H14+K14+M14)) | P14: =SUM(I14,L14,N14) -> 0 | Q14: 철거재사용
A15: MM602528324 | B15: 01 | C15: InMastDBNonCode | D15: 무선비상벨 | E15: 비상벨,보드판,점자스티커포함 | F15: 개 | G15: 2 | I15: =TRUNC(G15*H15) -> 0 | J15: 2 | K15: 0 | L15: =TRUNC(G15*K15) -> 0 | M15: 0 | N15: =TRUNC(G15*M15) -> 0 | O15: =IF((H15+K15+M15)=0, "", (H15+K15+M15)) | P15: =SUM(I15,L15,N15) -> 0 | Q15: 철거자재
A16: MM602528325 | B16: 01 | C16: InMastDBNonCode | D16: 무선중계기 | E16: 무선비상벨용 | F16: 개 | G16: 1 | H16: 120000 | I16: =TRUNC(G16*H16) -> 120000 | J16: 1 | K16: 0 | L16: =TRUNC(G16*K16) -> 0 | M16: 0 | N16: =TRUNC(G16*M16) -> 0 | O16: =IF((H16+K16+M16)=0, "", (H16+K16+M16)) -> 120000 | P16: =SUM(I16,L16,N16) -> 120000
A17: MM602528326 | B17: 01 | C17: InMastDBNonCode | D17: 무선수신기 | E17: 무선비상벨용 | F17: 개 | G17: 1 | H17: 100000 | I17: =TRUNC(G17*H17) -> 100000 | J17: 1 | K17: 0 | L17: =TRUNC(G17*K17) -> 0 | M17: 0 | N17: =TRUNC(G17*M17) -> 0 | O17: =IF((H17+K17+M17)=0, "", (H17+K17+M17)) -> 100000 | P17: =SUM(I17,L17,N17) -> 100000
A18: A0100000000 | B18: 01 | C18: RENT000000000003 | D18: [ 소모 잡자재 ] | E18: 전선, 전선관의 2 % | F18: 식 | G18: 1 | H18: 1286 | I18: =H18 -> 1286 | J18: 1 | L18: =TRUNC(G18*K18) -> 0 | N18: =TRUNC(G18*M18) -> 0 | O18: =IF((H18+K18+M18)=0, "", (H18+K18+M18)) -> 1286 | P18: =SUM(I18,L18,N18) -> 1286 | AC18: =TRUNC(TRUNC(SUM(AC4:AC17))*[46]옵션!$B$33/100) -> 1286 | AD18: =TRUNC(SUM(I4:I17))+TRUNC(SUM(N4:N17)) -> 667428
A19: 56900017016 | B19: 01 | C19: L001010101000075 | D19: 노 무 비 | E19: 내선전공 | F19: 인 | G19: 0.16 | H19: 0 | I19: =TRUNC(G19*H19) -> 0 | J19: =[46]노임근거!G15 -> 0.16 | K19: 273676 | L19: =TRUNC(G19*K19) -> 43788 | M19: 0 | N19: =TRUNC(G19*M19) -> 0 | O19: =IF((H19+K19+M19)=0, "", (H19+K19+M19)) -> 273676 | P19: =SUM(I19,L19,N19) -> 43788 | AE19: =L19 -> 43788
A20: 56900017113 | B20: 01 | C20: L001010101000086 | D20: 노 무 비 | E20: 통신내선공 | F20: 인 | G20: 1 | H20: 0 | I20: =TRUNC(G20*H20) -> 0 | J20: =[46]노임근거!G16 -> 1 | K20: 284880 | L20: =TRUNC(G20*K20) -> 284880 | M20: 0 | N20: =TRUNC(G20*M20) -> 0 | O20: =IF((H20+K20+M20)=0, "", (H20+K20+M20)) -> 284880 | P20: =SUM(I20,L20,N20) -> 284880 | AE20: =L20 -> 284880
A21: 56900017114 | B21: 01 | C21: L001010101000087 | D21: 노 무 비 | E21: 통신설비공 | F21: 인 | G21: 4 | H21: 0 | I21: =TRUNC(G21*H21) -> 0 | J21: =[46]노임근거!G17 -> 4 | K21: 315528 | L21: =TRUNC(G21*K21) -> 1262112 | M21: 0 | N21: =TRUNC(G21*M21) -> 0 | O21: =IF((H21+K21+M21)=0, "", (H21+K21+M21)) -> 315528 | P21: =SUM(I21,L21,N21) -> 1262112 | AE21: =L21 -> 1262112
A22: A0300000000 | B22: 01 | C22: RENT000000000006 | D22: [ 공 구 손 료 ] | E22: 노무비의 3 % | F22: 식 | G22: 1 | H22: 58457 | I22: =H22 -> 58457 | J22: 1 | L22: =TRUNC(G22*K22) -> 0 | N22: =TRUNC(G22*M22) -> 0 | O22: =IF((H22+K22+M22)=0, "", (H22+K22+M22)) -> 58457 | P22: =SUM(I22,L22,N22) -> 58457
AC23: =TRUNC(AE23*[46]옵션!$B$36/100) -> 58457 | AD23: =TRUNC(SUM(L4:L21)) -> 1948584 | AE23: =TRUNC(SUM(AE4:AE22)) -> 1948584
B29: 합계줄 | D29: ( 합 계 ) | I29: =TRUNC(SUM(I4:I28)) -> 727171 | L29: =TRUNC(SUM(L4:L28)) -> 1948584 | N29: =TRUNC(SUM(N4:N28)) -> 0 | P29: =TRUNC(SUM(P4:P28)) -> 2675755

Sheet 내역서(중화초)
A1: 총줄수-> | B1: 29 | D1: [ 안평초 외 2교(신묵초, 중화초) 급식실 증축 및 화장실개선 통신공사 ] - 중화초 | W1: 노임 계산 정보 | AA1: 부속재 및 손료
A2: 번호 | B2: 공종코드 | C2: 코드 | D2: 명 칭 | E2: 규 격 | F2: 단위 | G2: 수량 | H2: 재료비 | J2: 노무비 | M2: 경비 | P2: 계 | Q2: 비고 | W2: 노임계 | X2: 전체(%) | Y2: 공종별(%) | Z2: 노임 소수 | AA2: CD배관재 | AB2: 일반배관재 | AC2: 소모재 | AD2: 자재계 | AE2: 노임계
H3: 단가 | I3: 금액 | J3: 수량 | K3: 단가 | L3: 금액 | M3: 단가 | N3: 금액 | O3: 단가 | AD3: =IF([47]옵션!$C$11 =0, "1", [47]옵션!$C$11) -> 1 | AE3: =IF([47]옵션!$C$12 =0, "1", [47]옵션!$C$12) -> 1
B4: 공종줄 | D4: 1. 중화초 화장실개선 통신공사
A5: 59753017003 | B5: 0101 | C5: 3913170620174410 | D5: 1종금속제가요전선관 | E5: 16 mm 일반-비방수 | F5: m | G5: 55 | H5: 445 | I5: =TRUNC(G5*H5) -> 24475 | J5: 50 | K5: 0 | L5: =TRUNC(G5*K5) -> 0 | M5: 0 | N5: =TRUNC(G5*M5) -> 0 | O5: =IF((H5+K5+M5)=0, "", (H5+K5+M5)) -> 445 | P5: =SUM(I5,L5,N5) -> 24475 | AC5: =G5*H5 -> 24475
A6: 59753017043 | B6: 0101 | C6: 3913170620174434 | D6: 1종금속제가요전선관 | E6: 커넥터, 16 mm 일반-비방수 | F6: EA | G6: 46 | H6: 340 | I6: =TRUNC(G6*H6) -> 15640 | J6: 46 | K6: 0 | L6: =TRUNC(G6*K6) -> 0 | M6: 0 | N6: =TRUNC(G6*M6) -> 0 | O6: =IF((H6+K6+M6)=0, "", (H6+K6+M6)) -> 340 | P6: =SUM(I6,L6,N6) -> 15640
A7: 59753767011 | B7: 0101 | C7: 3912130810035750 | D7: 아우트렛박스 | E7: 8각 54㎜ | F7: EA | G7: 7 | H7: 638 | I7: =TRUNC(G7*H7) -> 4466 | J7: 7 | K7: 0 | L7: =TRUNC(G7*K7) -> 0 | M7: 0 | N7: =TRUNC(G7*M7) -> 0 | O7: =IF((H7+K7+M7)=0, "", (H7+K7+M7)) -> 638 | P7: =SUM(I7,L7,N7) -> 4466
A8: 59753767041 | B8: 0101 | C8: 3912130810035753 | D8: 아우트렛박스 | E8: 4각 54㎜ | F8: EA | G8: 7 | H8: 973 | I8: =TRUNC(G8*H8) -> 6811 | J8: 7 | K8: 0 | L8: =TRUNC(G8*K8) -> 0 | M8: 0 | N8: =TRUNC(G8*M8) -> 0 | O8: =IF((H8+K8+M8)=0, "", (H8+K8+M8)) -> 973 | P8: =SUM(I8,L8,N8) -> 6811
A9: 59753767221 | B9: 0101 | C9: 3912130820174712 | D9: 아우트렛박스 커버 | E9: 8각, 평형 | F9: EA | G9: 7 | H9: 218 | I9: =TRUNC(G9*H9) -> 1526 | J9: 7 | K9: 0 | L9: =TRUNC(G9*K9) -> 0 | M9: 0 | N9: =TRUNC(G9*M9) -> 0 | O9: =IF((H9+K9+M9)=0, "", (H9+K9+M9)) -> 218 | P9: =SUM(I9,L9,N9) -> 1526
A10: MM481669623 | B10: 0101 | C10: 2612162922076726 | D10: 450/750V 저독성난연절연전선 | E10: HFIX 1.5㎟ | F10: m | G10: 130 | H10: 356 | I10: =TRUNC(G10*H10) -> 46280 | J10: 118 | K10: 0 | L10: =TRUNC(G10*K10) -> 0 | M10: 0 | N10: =TRUNC(G10*M10) -> 0 | O10: =IF((H10+K10+M10)=0, "", (H10+K10+M10)) -> 356 | P10: =SUM(I10,L10,N10) -> 46280 | AC10: =G10*H10 -> 46280
A11: MM300040717 | B11: 0101 | C11: 5216151220173739 | D11: CEILING SPEAKER | E11: 5W | F11: EA | G11: 16 | H11: 16483 | I11: =TRUNC(G11*H11) -> 263728 | J11: 16 | K11: 0 | L11: =TRUNC(G11*K11) -> 0 | M11: 0 | N11: =TRUNC(G11*M11) -> 0 | O11: =IF((H11+K11+M11)=0, "", (H11+K11+M11)) -> 16483 | P11: =SUM(I11,L11,N11) -> 263728
A12: MM846109615 | B12: 0101 | C12: InMastDBNonCode | D12: CEILING SPEAKER(철거) | E12: 5W | F12: EA | G12: 17 | I12: =TRUNC(G12*H12) -> 0 | J12: 17 | K12: 0 | L12: =TRUNC(G12*K12) -> 0 | M12: 0 | N12: =TRUNC(G12*M12) -> 0 | O12: =IF((H12+K12+M12)=0, "", (H12+K12+M12)) | P12: =SUM(I12,L12,N12) -> 0 | Q12: 인건비계상
A13: MM830043729 | B13: 0101 | C13: InMastDBNonCode | D13: 무선비상벨 | E13: 비상벨,보드판,점자스티커포함 | F13: EA | G13: 8 | H13: 20000 | I13: =TRUNC(G13*H13) -> 160000 | J13: 8 | K13: 0 | L13: =TRUNC(G13*K13) -> 0 | M13: 0 | N13: =TRUNC(G13*M13) -> 0 | O13: =IF((H13+K13+M13)=0, "", (H13+K13+M13)) -> 20000 | P13: =SUM(I13,L13,N13) -> 160000
A14: MM830043730 | B14: 0101 | C14: InMastDBNonCode | D14: 무선수신기 | E14: 무선비상벨용 | F14: EA | G14: 1 | H14: 100000 | I14: =TRUNC(G14*H14) -> 100000 | J14: 1 | K14: 0 | L14: =TRUNC(G14*K14) -> 0 | M14: 0 | N14: =TRUNC(G14*M14) -> 0 | O14: =IF((H14+K14+M14)=0, "", (H14+K14+M14)) -> 100000 | P14: =SUM(I14,L14,N14) -> 100000
A15: MM830043731 | B15: 0101 | C15: InMastDBNonCode | D15: 무선중계기 | E15: 무선비상벨용 | F15: EA | G15: 4 | H15: 120000 | I15: =TRUNC(G15*H15) -> 480000 | J15: 4 | K15: 0 | L15: =TRUNC(G15*K15) -> 0 | M15: 0 | N15: =TRUNC(G15*M15) -> 0 | O15: =IF((H15+K15+M15)=0, "", (H15+K15+M15)) -> 120000 | P15: =SUM(I15,L15,N15) -> 480000
A16: A0100000000 | B16: 0101 | C16: RENT000000000003 | D16: [ 소모 잡자재 ] | E16: 전선, 전선관의 2 % | F16: 식 | G16: 1 | H16: 1415 | I16: =H16 -> 1415 | J16: 1 | L16: =TRUNC(G16*K16) -> 0 | N16: =TRUNC(G16*M16) -> 0 | O16: =IF((H16+K16+M16)=0, "", (H16+K16+M16)) -> 1415 | P16: =SUM(I16,L16,N16) -> 1415 | AC16: =TRUNC(TRUNC(SUM(AC4:AC15))*[47]옵션!$B$33/100) -> 1415 | AD16: =TRUNC(SUM(I4:I15))+TRUNC(SUM(N4:N15)) -> 1102926
A17: 56900017113 | B17: 0101 | C17: L001010101000086 | D17: 노 무 비 | E17: 통신내선공 | F17: 인 | G17: 5 | H17: 0 | I17: =TRUNC(G17*H17) -> 0 | J17: =[47]노임근거!G14 -> 5 | K17: 284880 | L17: =TRUNC(G17*K17) -> 1424400 | M17: 0 | N17: =TRUNC(G17*M17) -> 0 | O17: =IF((H17+K17+M17)=0, "", (H17+K17+M17)) -> 284880 | P17: =SUM(I17,L17,N17) -> 1424400 | AE17: =L17 -> 1424400
A18: 56900017114 | B18: 0101 | C18: L001010101000087 | D18: 노 무 비 | E18: 통신설비공 | F18: 인 | G18: 5 | H18: 0 | I18: =TRUNC(G18*H18) -> 0 | J18: =[47]노임근거!G15 -> 5 | K18: 315528 | L18: =TRUNC(G18*K18) -> 1577640 | M18: 0 | N18: =TRUNC(G18*M18) -> 0 | O18: =IF((H18+K18+M18)=0, "", (H18+K18+M18)) -> 315528 | P18: =SUM(I18,L18,N18) -> 1577640 | AE18: =L18 -> 1577640
A19: A0300000000 | B19: 0101 | C19: RENT000000000006 | D19: [ 공 구 손 료 ] | E19: 노무비의 3 % | F19: 식 | G19: 1 | H19: 90061 | I19: =H19 -> 90061 | J19: 1 | L19: =TRUNC(G19*K19) -> 0 | N19: =TRUNC(G19*M19) -> 0 | O19: =IF((H19+K19+M19)=0, "", (H19+K19+M19)) -> 90061 | P19: =SUM(I19,L19,N19) -> 90061
AC20: =TRUNC(AE20*[47]옵션!$B$36/100) -> 90061 | AD20: =TRUNC(SUM(L4:L18)) -> 3002040 | AE20: =TRUNC(SUM(AE4:AE19)) -> 3002040
B29: 합계줄 | D29: ( 합 계 ) | I29: =TRUNC(SUM(I4:I28)) -> 1194402 | L29: =TRUNC(SUM(L4:L28)) -> 3002040 | N29: =TRUNC(SUM(N4:N28)) -> 0 | P29: =TRUNC(SUM(P4:P28)) -> 4196442

Sheet 일대목차
B1: 29 | C1: [ 안평초 외 2교(신묵초, 중화초) 급식실 증축 및 화장실개선 통신공사 ] - 일위대가목차
A2: 번호 | B2: … | C2: 코드 | D2: 명 칭 | E2: 규 격 | F2: 단위 | G2: 수량 | H2: 재료비 | J2: 노무비 | M2: 경비 | O2: 계 | P2: 계 | Q2: 비고
H3: 단가 | I3: 금액 | J3: 수량 | K3: 단가 | L3: 금액 | M3: 단가 | N3: 금액 | O3: 단가
A4: 56931750307 | B4: E56931750307 | C4: E56931750307 | D4: 스피커 철거 | E4: 매입, 고정형, 5W 이하 | F4: 개 | H4: =일위대가!I6 -> 0 | I4: =H4 -> 0 | K4: =일위대가!L6 -> 19878 | L4: =K4 -> 19878 | M4: =일위대가!N6 -> 0 | N4: =M4 -> 0 | O4: =IF((H4+K4+M4)=0, "", (H4+K4+M4)) -> 19878 | P4: =SUM(I4,L4,N4) -> 19878
A5: 56931750313 | B5: E56931750313 | C5: E56931750313 | D5: 스피커 철거 | E5: 노출, 고정형, 30W 이하 | F5: 개 | H5: =일위대가!I10 -> 0 | I5: =H5 -> 0 | K5: =일위대가!L10 -> 18174 | L5: =K5 -> 18174 | M5: =일위대가!N10 -> 0 | N5: =M5 -> 0 | O5: =IF((H5+K5+M5)=0, "", (H5+K5+M5)) -> 18174 | P5: =SUM(I5,L5,N5) -> 18174
A6: 56931750324 | B6: E56931750324 | C6: E56931750324 | D6: 일반형카메라 철거재사용 | E6: 회전형 | F6: 개 | H6: =일위대가!I15 -> 0 | I6: =H6 -> 0 | K6: =일위대가!L15 -> 194993 | L6: =K6 -> 194993 | M6: =일위대가!N15 -> 0 | N6: =M6 -> 0 | O6: =IF((H6+K6+M6)=0, "", (H6+K6+M6)) -> 194993 | P6: =SUM(I6,L6,N6) -> 194993

Sheet 일위대가
B1: 29 | D1: [ 안평초 외 2교(신묵초, 중화초) 급식실 증축 및 화장실개선 통신공사 ] - 일위대가표 | W1: 노임 계산 정보 | AA1: 부속재 및 손료
A2: 번호 | B2: 목차코드 | C2: 코드 | D2: 명 칭 | E2: 규 격 | F2: 단위 | G2: 수량 | H2: 재료비 | J2: 노무비 | M2: 경비 | P2: 계 | Q2: 비고 | W2: 노임계 | X2: 전체(%) | Y2: 공종별(%) | Z2: 노임 소수 | AA2: CD배관재 | AB2: 일반배관재 | AC2: 소모재 | AD2: 자재계 | AE2: 노임계
H3: 단가 | I3: 금액 | J3: 수량 | K3: 단가 | L3: 금액 | M3: 단가 | N3: 금액 | O3: 단가 | AD3: 1 | AE3: 1
A4: 56931750307 | B4: 일목줄 | C4: E56931750307 | D4: [E56931750307] 스피커 철거 매입, 고정형, 5W 이하 [개] | P4: =IF(SUM(I4,L4,N4)<>0,TRUNC(SUM(I4,L4,N4),1),"")
A5: 56900017114 | B5: E56931750307 | C5: L001010101000087 | D5: 노 무 비 | E5: 통신설비공 | F5: 인 | G5: =일위노임!G6 -> 0.063 | H5: =합산자재!H30 -> 0 | I5: =IF(G5*H5<>0, TRUNC(G5*H5, 1), "") | J5: 0.063 | K5: =합산자재!I30 -> 315528 | L5: =IF(G5*K5<>0, TRUNC(G5*K5, 1), "") -> 19878.2 | M5: =합산자재!J30 -> 0 | N5: =IF(G5*M5<>0, TRUNC(G5*M5, 1), "") | O5: =IF((H5+K5+M5)=0, "", (H5+K5+M5)) -> 315528 | P5: =IF(SUM(I5,L5,N5)<>0,TRUNC(SUM(I5,L5,N5),1),"") -> 19878.2 | AE5: =L5 -> 19878.2
B6: 합계줄 | D6: ( 합 계 ) | I6: =TRUNC(SUM(I4:I5)) -> 0 | L6: =TRUNC(SUM(L4:L5)) -> 19878 | N6: =TRUNC(SUM(N4:N5)) -> 0 | O6: =IF((H6+K6+M6)=0, "", (H6+K6+M6)) | P6: =IF(SUM(I6,L6,N6)<>0,TRUNC(SUM(I6,L6,N6),1),"") -> 19878 | AE6: =TRUNC(SUM(AE4:AE5)) -> 19878
P7: =IF(SUM(I7,L7,N7)<>0,TRUNC(SUM(I7,L7,N7),1),"")
A8: 56931750313 | B8: 일목줄 | C8: E56931750313 | D8: [E56931750313] 스피커 철거 노출, 고정형, 30W 이하 [개] | P8: =IF(SUM(I8,L8,N8)<>0,TRUNC(SUM(I8,L8,N8),1),"")
A9: 56900017114 | B9: E56931750313 | C9: L001010101000087 | D9: 노 무 비 | E9: 통신설비공 | F9: 인 | G9: =일위노임!G9 -> 0.0576 | H9: =합산자재!H30 -> 0 | I9: =IF(G9*H9<>0, TRUNC(G9*H9, 1), "") | J9: 0.0576 | K9: =합산자재!I30 -> 315528 | L9: =IF(G9*K9<>0, TRUNC(G9*K9, 1), "") -> 18174.4 | M9: =합산자재!J30 -> 0 | N9: =IF(G9*M9<>0, TRUNC(G9*M9, 1), "") | O9: =IF((H9+K9+M9)=0, "", (H9+K9+M9)) -> 315528 | P9: =IF(SUM(I9,L9,N9)<>0,TRUNC(SUM(I9,L9,N9),1),"") -> 18174.4 | AE9: =L9 -> 18174.4
B10: 합계줄 | D10: ( 합 계 ) | I10: =TRUNC(SUM(I8:I9)) -> 0 | L10: =TRUNC(SUM(L8:L9)) -> 18174 | N10: =TRUNC(SUM(N8:N9)) -> 0 | O10: =IF((H10+K10+M10)=0, "", (H10+K10+M10)) | P10: =IF(SUM(I10,L10,N10)<>0,TRUNC(SUM(I10,L10,N10),1),"") -> 18174 | AE10: =TRUNC(SUM(AE8:AE9)) -> 18174
P11: =IF(SUM(I11,L11,N11)<>0,TRUNC(SUM(I11,L11,N11),1),"")
A12: 56931750324 | B12: 일목줄 | C12: E56931750324 | D12: [E56931750324] 일반형카메라 철거재사용 회전형 [개] | P12: =IF(SUM(I12,L12,N12)<>0,TRUNC(SUM(I12,L12,N12),1),"")
A13: 56900017114 | B13: E56931750324 | C13: L001010101000087 | D13: 노 무 비 | E13: 통신설비공 | F13: 인 | G13: =일위노임!G13 -> 0.36 | H13: =합산자재!H30 -> 0 | I13: =IF(G13*H13<>0, TRUNC(G13*H13, 1), "") | J13: 0.36 | K13: =합산자재!I30 -> 315528 | L13: =IF(G13*K13<>0, TRUNC(G13*K13, 1), "") -> 113590 | M13: =합산자재!J30 -> 0 | N13: =IF(G13*M13<>0, TRUNC(G13*M13, 1), "") | O13: =IF((H13+K13+M13)=0, "", (H13+K13+M13)) -> 315528 | P13: =IF(SUM(I13,L13,N13)<>0,TRUNC(SUM(I13,L13,N13),1),"") -> 113590 | AE13: =L13 -> 113590
A14: 56900017118 | B14: E56931750324 | C14: L001010101000003 | D14: 노 무 비 | E14: 특별인부 | F14: 인 | G14: =일위노임!G14 -> 0.36 | H14: =합산자재!H32 -> 0 | I14: =IF(G14*H14<>0, TRUNC(G14*H14, 1), "") | J14: 0.36 | K14: =합산자재!I32 -> 226122 | L14: =IF(G14*K14<>0, TRUNC(G14*K14, 1), "") -> 81403.9 | M14: =합산자재!J32 -> 0 | N14: =IF(G14*M14<>0, TRUNC(G14*M14, 1), "") | O14: =IF((H14+K14+M14)=0, "", (H14+K14+M14)) -> 226122 | P14: =IF(SUM(I14,L14,N14)<>0,TRUNC(SUM(I14,L14,N14),1),"") -> 81403.9 | AE14: =L14 -> 81403.9
B15: 합계줄 | D15: ( 합 계 ) | I15: =TRUNC(SUM(I12:I14)) -> 0 | L15: =TRUNC(SUM(L12:L14)) -> 194993 | N15: =TRUNC(SUM(N12:N14)) -> 0 | O15: =IF((H15+K15+M15)=0, "", (H15+K15+M15)) | P15: =IF(SUM(I15,L15,N15)<>0,TRUNC(SUM(I15,L15,N15),1),"") -> 194993 | AE15: =TRUNC(SUM(AE12:AE14)) -> 194993
P16: =IF(SUM(I16,L16,N16)<>0,TRUNC(SUM(I16,L16,N16),1),"")
P17: =IF(SUM(I17,L17,N17)<>0,TRUNC(SUM(I17,L17,N17),1),"")
P18: =IF(SUM(I18,L18,N18)<>0,TRUNC(SUM(I18,L18,N18),1),"")
P19: =IF(SUM(I19,L19,N19)<>0,TRUNC(SUM(I19,L19,N19),1),"")
P20: =IF(SUM(I20,L20,N20)<>0,TRUNC(SUM(I20,L20,N20),1),"")
P21: =IF(SUM(I21,L21,N21)<>0,TRUNC(SUM(I21,L21,N21),1),"")
P22: =IF(SUM(I22,L22,N22)<>0,TRUNC(SUM(I22,L22,N22),1),"")
P23: =IF(SUM(I23,L23,N23)<>0,TRUNC(SUM(I23,L23,N23),1),"")
P24: =IF(SUM(I24,L24,N24)<>0,TRUNC(SUM(I24,L24,N24),1),"")
P25: =IF(SUM(I25,L25,N25)<>0,TRUNC(SUM(I25,L25,N25),1),"")
P26: =IF(SUM(I26,L26,N26)<>0,TRUNC(SUM(I26,L26,N26),1),"")
P27: =IF(SUM(I27,L27,N27)<>0,TRUNC(SUM(I27,L27,N27),1),"")
... P29: =IF(SUM(I29,L29,N29)<>0,TRUNC(SUM(I29,L29,N29),1),"")

Sheet 노임근거
B1: 55 | D1: [ 안평초 외 2교(신묵초, 중화초) 급식실 증축 및 화장실개선 통신공사 ] - 노임 산출근거(202601-노임) | AA1: 통신내선공 | AB1: 통신케이블공 | AC1: 통신설비공 | AD1: 보통인부 | AE1: H/W시험사 | AF1: S/W시험사
A2: 번호 | B2: 공종코드 | C2: 코드 | D2: 명 칭 | E2: 규 격 | F2: 단위 | G2: 수량 | K2: 코드 | L2: 공량산출 | P2: 단 위 단 가 산 출 | S2: 품셈근거 | T2: 비고
G3: 결정수량 | H3: 할증 | I3: 산출수량 | J3: 재할% | L3: 명칭 | M3: 품셈 | N3: 할증% | O3: 공량 | P3: 단가 | Q3: 단위단가 | R3: 단위계
B4: 공종줄 | D4: 1.안평초 급식실 및 학생식당 증축 정보통신설비공사
B5: 01 | C5: 3913170610035664 | D5: 합성수지제 가요전선관 | E5: CD(난연성) 16㎜ | F5: M | G5: ='내역서(안평초)'!G5 -> 14 | H5: =IF(I5<>0, G5-I5, "") -> 1.5 | I5: ='내역서(안평초)'!J5 -> 12.5 | J5: 10 | K5: 56900017113 | L5: 통신내선공 | M5: 0.05 | N5: 72 | O5: =IF(I5*M5=0, "", I5*M5*(N5/100)) -> 0.45 | Q5: =TRUNC(P5*M5*N5/100) -> 0 | S5: 통신3-1-1 | AA5: =O5 -> 0.45
B6: 01 | C6: 3913170610035665 | D6: 합성수지제 가요전선관 | E6: CD(난연성) 22㎜ | F6: M | G6: ='내역서(안평초)'!G6 -> 4 | H6: =IF(I6<>0, G6-I6, "") -> 0 | I6: ='내역서(안평초)'!J6 -> 4 | J6: 10 | K6: 56900017113 | L6: 통신내선공 | M6: 0.06 | N6: 72 | O6: =IF(I6*M6=0, "", I6*M6*(N6/100)) -> 0.1728 | Q6: =TRUNC(P6*M6*N6/100) -> 0 | S6: 통신3-1-1 | AA6: =O6 -> 0.1728
B7: 01 | C7: 3913170620174410 | D7: 1종금속제가요전선관 | E7: 16 mm 일반-비방수 | F7: M | G7: ='내역서(안평초)'!G7 -> 84 | H7: =IF(I7<>0, G7-I7, "") -> 8 | I7: ='내역서(안평초)'!J7 -> 76 | J7: 10 | K7: 56900017113 | L7: 통신내선공 | M7: 0.044 | N7: 90 | O7: =IF(I7*M7=0, "", I7*M7*(N7/100)) -> 3.0096 | Q7: =TRUNC(P7*M7*N7/100) -> 0 | S7: 통신3-1-1 | AA7: =O7 -> 3.0096
B8: 01 | C8: 3912130610035778 | D8: 스위치박스 | E8: 1 개용 54 mm | F8: 개 | G8: ='내역서(안평초)'!G11 -> 2 | H8: =IF(I8<>0, G8-I8, "") -> 0 | I8: ='내역서(안평초)'!J11 -> 2 | K8: 56900017113 | L8: 통신내선공 | M8: 0.18 | N8: 90 | O8: =IF(I8*M8=0, "", I8*M8*(N8/100)) -> 0.324 | Q8: =TRUNC(P8*M8*N8/100) -> 0 | S8: 통신3-2-1 | AA8: =O8 -> 0.324
B9: 01 | C9: 3912130610035781 | D9: 스위치박스 | E9: 2 개용 54 mm | F9: 개 | G9: ='내역서(안평초)'!G12 -> 1 | H9: =IF(I9<>0, G9-I9, "") -> 0 | I9: ='내역서(안평초)'!J12 -> 1 | K9: 56900017113 | L9: 통신내선공 | M9: 0.18 | N9: 90 | O9: =IF(I9*M9=0, "", I9*M9*(N9/100)) -> 0.162 | Q9: =TRUNC(P9*M9*N9/100) -> 0 | S9: 통신3-2-1 | AA9: =O9 -> 0.162
B10: 01 | C10: 3912130320175917 | D10: 정션 박스 | E10: 100*100*50 | F10: 개 | G10: ='내역서(안평초)'!G14 -> 3 | H10: =IF(I10<>0, G10-I10, "") -> 0 | I10: ='내역서(안평초)'!J14 -> 3 | K10: 56900017113 | L10: 통신내선공 | M10: 0.04 | N10: 90 | O10: =IF(I10*M10=0, "", I10*M10*(N10/100)) -> 0.108 | Q10: =TRUNC(P10*M10*N10/100) -> 0 | S10: 통신3-2-1 | AA10: =O10 -> 0.108
B11: 01 | C11: 2612162922076728 | D11: 450/750V 저독성난연절연전선 | E11: HFIX 2.25mm(4㎟) | F11: M | G11: ='내역서(안평초)'!G15 -> 50 | H11: =IF(I11<>0, G11-I11, "") -> 5 | I11: ='내역서(안평초)'!J15 -> 45 | J11: 10 | K11: 56900017113 | L11: 통신내선공 | M11: 0.01 | N11: 100 | O11: =IF(I11*M11=0, "", I11*M11*(N11/100)) -> 0.45 | Q11: =TRUNC(P11*M11*N11/100) -> 0 | AA11: =O11 -> 0.45
B12: 01 | C12: 2612160621650577 | D12: 고발포동축케이블 | E12: 5C-HFBT | F12: M | G12: ='내역서(안평초)'!G16 -> 16 | H12: =IF(I12<>0, G12-I12, "") -> 1 | I12: ='내역서(안평초)'!J16 -> 15 | J12: 7.5 | K12: 56900017116 | L12: 통신케이블공 | M12: 0.017 | N12: 100 | O12: =IF(I12*M12=0, "", I12*M12*(N12/100)) -> 0.255 | Q12: =TRUNC(P12*M12*N12/100) -> 0 | S12: 통신4-2-1 | AB12: =O12 -> 0.255
B13: 01 | C13: InMastDBNonCode | D13: UTP케이블-2열동시 1열당 | E13: Cat.6 0.5mm 4P | F13: M | G13: ='내역서(안평초)'!G17 -> 130 | H13: =IF(I13<>0, G13-I13, "") -> 9 | I13: ='내역서(안평초)'!J17 -> 121 | J13: 7.5 | K13: 56900017116 | L13: 통신케이블공 | M13: 0.0135 | N13: 100 | O13: =IF(I13*M13=0, "", I13*M13*(N13/100)) -> 1.6335 | Q13: =TRUNC(P13*M13*N13/100) -> 0 | S13: 통신4-3-1 | AB13: =O13 -> 1.6335
B14: 01 | C14: InMastDBNonCode | D14: UTP케이블-4열동시 1열당 | E14: Cat.6 0.5mm 4P | F14: M | G14: ='내역서(안평초)'!G18 -> 17 | H14: =IF(I14<>0, G14-I14, "") -> 1 | I14: ='내역서(안평초)'!J18 -> 16 | J14: 7.5 | K14: 56900017116 | L14: 통신케이블공 | M14: 0.01275 | N14: 100 | O14: =IF(I14*M14=0, "", I14*M14*(N14/100)) -> 0.204 | Q14: =TRUNC(P14*M14*N14/100) -> 0 | S14: 통신4-3-1 | AB14: =O14 -> 0.204
B15: 01 | C15: 3912140620937657 | D15: 모듈라짹 | E15: 매입용, Cat.6 2구 | F15: 개 | G15: ='내역서(안평초)'!G19 -> 3 | H15: =IF(I15<>0, G15-I15, "") -> 0 | I15: ='내역서(안평초)'!J19 -> 3 | K15: 56900017113 | L15: 통신내선공 | M15: 0.0336 | N15: 100 | O15: =IF(I15*M15=0, "", I15*M15*(N15/100)) -> 0.1008 | Q15: =TRUNC(P15*M15*N15/100) -> 0 | S15: 통신4-3-2 | AA15: =O15 -> 0.1008
B16: 01 | C16: InMastDBNonCode | D16: POE허브 | E16: 1000Mbps, 5PORT | F16: 개 | G16: ='내역서(안평초)'!G20 -> 1 | H16: =IF(I16<>0, G16-I16, "") -> 0 | I16: ='내역서(안평초)'!J20 -> 1 | K16: 56900017143 | L16: S/W시험사 | M16: 0.36 | N16: 100 | O16: =IF(I16*M16=0, "", I16*M16*(N16/100)) -> 0.36 | Q16: =TRUNC(P16*M16*N16/100) -> 0 | S16: 통신8-1-1 | AF16: =O16 -> 0.36
B17: 01 | C17: InMastDBNonCode | G17: ='내역서(안평초)'!G20 -> 1 | H17: =IF(I17<>0, G17-I17, "") -> 0 | I17: ='내역서(안평초)'!J20 -> 1 | K17: 56900017142 | L17: H/W시험사 | M17: 0.22 | N17: 100 | O17: =IF(I17*M17=0, "", I17*M17*(N17/100)) -> 0.22 | Q17: =TRUNC(P17*M17*N17/100) -> 0 | S17: 통신8-1-1 | AE17: =O17 -> 0.22
B18: 01 | C18: InMastDBNonCode | D18: POE허브 | E18: 1000Mbps, 8PORT | F18: 개 | G18: ='내역서(안평초)'!G21 -> 1 | H18: =IF(I18<>0, G18-I18, "") -> 0 | I18: ='내역서(안평초)'!J21 -> 1 | K18: 56900017143 | L18: S/W시험사 | M18: 0.36 | N18: 100 | O18: =IF(I18*M18=0, "", I18*M18*(N18/100)) -> 0.36 | Q18: =TRUNC(P18*M18*N18/100) -> 0 | S18: 통신8-1-1 | AF18: =O18 -> 0.36
B19: 01 | C19: InMastDBNonCode | G19: ='내역서(안평초)'!G21 -> 1 | H19: =IF(I19<>0, G19-I19, "") -> 0 | I19: ='내역서(안평초)'!J21 -> 1 | K19: 56900017142 | L19: H/W시험사 | M19: 0.22 | N19: 100 | O19: =IF(I19*M19=0, "", I19*M19*(N19/100)) -> 0.22 | Q19: =TRUNC(P19*M19*N19/100) -> 0 | S19: 통신8-1-1 | AE19: =O19 -> 0.22
B20: 01 | C20: InMastDBNonCode | D20: 단자함,매입(커버SUS) | E20: 400*500*130 | F20: 면 | G20: ='내역서(안평초)'!G22 -> 1 | H20: =IF(I20<>0, G20-I20, "") -> 0 | I20: ='내역서(안평초)'!J22 -> 1 | K20: 56900017113 | L20: 통신내선공 | M20: 0.7 | N20: 100 | O20: =IF(I20*M20=0, "", I20*M20*(N20/100)) -> 0.7 | Q20: =TRUNC(P20*M20*N20/100) -> 0 | S20: 통신3-3-1 | AA20: =O20 -> 0.7
B21: 01 | C21: InMastDBNonCode | G21: ='내역서(안평초)'!G22 -> 1 | H21: =IF(I21<>0, G21-I21, "") -> 0 | I21: ='내역서(안평초)'!J22 -> 1 | K21: 56900017041 | L21: 보통인부 | M21: 0.7 | N21: 100 | O21: =IF(I21*M21=0, "", I21*M21*(N21/100)) -> 0.7 | Q21: =TRUNC(P21*M21*N21/100) -> 0 | S21: 통신3-3-1 | AD21: =O21 -> 0.7
B22: 01 | C22: 3912149820163812 | D22: 동축콘넥터 | E22: 5C용, 방수형 압착타입 | F22: 개 | G22: ='내역서(안평초)'!G23 -> 6 | H22: =IF(I22<>0, G22-I22, "") -> 0 | I22: ='내역서(안평초)'!J23 -> 6 | K22: 56900017113 | L22: 통신내선공 | M22: 0.03 | N22: 100 | O22: =IF(I22*M22=0, "", I22*M22*(N22/100)) -> 0.18 | Q22: =TRUNC(P22*M22*N22/100) -> 0 | S22: 통신4-2-2 | AA22: =O22 -> 0.18
B23: 01 | C23: InMastDBNonCode | D23: 무선비상벨 | E23: 비상벨,보드판,점자스티커포함 | F23: 개 | G23: ='내역서(안평초)'!G26 -> 1 | H23: =IF(I23<>0, G23-I23, "") -> 0 | I23: ='내역서(안평초)'!J26 -> 1 | K23: 56900017114 | L23: 통신설비공 | M23: 0.02 | N23: 150 | O23: =IF(I23*M23=0, "", I23*M23*(N23/100)) -> 0.03 | Q23: =TRUNC(P23*M23*N23/100) -> 0 | S23: 통신9-4-20-7 | T23: 철거재사용 | AC23: =O23 -> 0.03
B24: 01 | C24: L001010101000086 | D24: 노 무 비 | E24: 통신내선공 | F24: 인 | G24: =IF(H24*I24/100 <1, TRUNC(H24*I24/100, 3), TRUNC(H24*I24/100, J24)) -> 5 | H24: =(옵션!$B$12*옵션!$B$41)/100 -> 100 | I24: =SUM(AA5:AA23) -> 5.6572 | J24: =옵션!$C$41 -> 0 | O24: =IF(I24*M24=0, "", I24*M24*(N24/100)) | Q24: =TRUNC(P24*M24*N24/100) -> 0 | Z24: 노임계 | AA24: =SUM(AA5:AA23) -> 5.6572 | AB24: =SUM(AB5:AB23) -> 2.0925 | AC24: =SUM(AC5:AC23) -> 0.03 | AD24: =SUM(AD5:AD23) -> 0.7 | AE24: =SUM(AE5:AE23) -> 0.44 | AF24: =SUM(AF5:AF23) -> 0.72
B25: 01 | C25: L001010101000089 | D25: 노 무 비 | E25: 통신케이블공 | F25: 인 | G25: =IF(H25*I25/100 <1, TRUNC(H25*I25/100, 3), TRUNC(H25*I25/100, J25)) -> 2 | H25: =(옵션!$B$12*옵션!$B$41)/100 -> 100 | I25: =SUM(AB5:AB23) -> 2.0925 | J25: =옵션!$C$41 -> 0 | O25: =IF(I25*M25=0, "", I25*M25*(N25/100)) | Q25: =TRUNC(P25*M25*N25/100) -> 0
B26: 01 | C26: L001010101000087 | D26: 노 무 비 | E26: 통신설비공 | F26: 인 | G26: =IF(H26*I26/100 <1, TRUNC(H26*I26/100, 3), TRUNC(H26*I26/100, J26)) -> 0.03 | H26: =(옵션!$B$12*옵션!$B$41)/100 -> 100 | I26: =SUM(AC5:AC23) -> 0.03 | J26: =옵션!$C$41 -> 0 | O26: =IF(I26*M26=0, "", I26*M26*(N26/100)) | Q26: =TRUNC(P26*M26*N26/100) -> 0
B27: 01 | C27: L001010101000002 | D27: 노 무 비 | E27: 보통인부 | F27: 인 | G27: =IF(H27*I27/100 <1, TRUNC(H27*I27/100, 3), TRUNC(H27*I27/100, J27)) -> 0.7 | H27: =(옵션!$B$12*옵션!$B$41)/100 -> 100 | I27: =SUM(AD5:AD23) -> 0.7 | J27: =옵션!$C$41 -> 0 | O27: =IF(I27*M27=0, "", I27*M27*(N27/100)) | Q27: =TRUNC(P27*M27*N27/100) -> 0
B28: 01 | C28: L001010201000093 | D28: 노 무 비 | E28: H/W시험사 | F28: 인 | G28: =IF(H28*I28/100 <1, TRUNC(H28*I28/100, 3), TRUNC(H28*I28/100, J28)) -> 0.44 | H28: =(옵션!$B$12*옵션!$B$41)/100 -> 100 | I28: =SUM(AE5:AE23) -> 0.44 | J28: =옵션!$C$41 -> 0 | O28: =IF(I28*M28=0, "", I28*M28*(N28/100)) | Q28: =TRUNC(P28*M28*N28/100) -> 0
B29: 01 | C29: L001010201000094 | D29: 노 무 비 | E29: S/W시험사 | F29: 인 | G29: =IF(H29*I29/100 <1, TRUNC(H29*I29/100, 3), TRUNC(H29*I29/100, J29)) -> 0.72 | H29: =(옵션!$B$12*옵션!$B$41)/100 -> 100 | I29: =SUM(AF5:AF23) -> 0.72 | J29: =옵션!$C$41 -> 0 | O29: =IF(I29*M29=0, "", I29*M29*(N29/100)) | Q29: =TRUNC(P29*M29*N29/100) -> 0
B30: 공종줄 | D30: 2.안평초 급식실 및 학생식당 증축 방송설비공사
B31: 02 | C31: 3913170610035664 | D31: 합성수지제 가요전선관 | E31: CD(난연성) 16㎜ | F31: M | G31: ='내역서(안평초)'!G57 -> 30 | H31: =IF(I31<>0, G31-I31, "") -> 3 | I31: ='내역서(안평초)'!J57 -> 27 | J31: 10 | K31: 56900017113 | L31: 통신내선공 | M31: 0.05 | N31: 72 | O31: =IF(I31*M31=0, "", I31*M31*(N31/100)) -> 0.972 | Q31: =TRUNC(P31*M31*N31/100) -> 0 | S31: 통신3-1-1 | AA31: =O31 -> 0.972
B32: 02 | C32: 3913170620174410 | D32: 1종금속제가요전선관 | E32: 16 mm 일반-비방수 | F32: M | G32: ='내역서(안평초)'!G58 -> 86 | H32: =IF(I32<>0, G32-I32, "") -> 8 | I32: ='내역서(안평초)'!J58 -> 78 | J32: 10 | K32: 56900017113 | L32: 통신내선공 | M32: 0.044 | N32: 90 | O32: =IF(I32*M32=0, "", I32*M32*(N32/100)) -> 3.0888 | Q32: =TRUNC(P32*M32*N32/100) -> 0 | S32: 통신3-1-1 | AA32: =O32 -> 3.0888
B33: 02 | C33: 3912130810035750 | D33: 아우트렛박스 | E33: 8각 54㎜ | F33: 개 | G33: ='내역서(안평초)'!G62 -> 8 | H33: =IF(I33<>0, G33-I33, "") -> 0 | I33: ='내역서(안평초)'!J62 -> 8 | K33: 56900017113 | L33: 통신내선공 | M33: 0.11 | N33: 90 | O33: =IF(I33*M33=0, "", I33*M33*(N33/100)) -> 0.792 | Q33: =TRUNC(P33*M33*N33/100) -> 0 | S33: 통신3-2-1 | AA33: =O33 -> 0.792
B34: 02 | C34: 3912130610035781 | D34: 스위치박스 | E34: 2 개용 54 mm | F34: 개 | G34: ='내역서(안평초)'!G63 -> 4 | H34: =IF(I34<>0, G34-I34, "") -> 0 | I34: ='내역서(안평초)'!J63 -> 4 | K34: 56900017113 | L34: 통신내선공 | M34: 0.18 | N34: 90 | O34: =IF(I34*M34=0, "", I34*M34*(N34/100)) -> 0.648 | Q34: =TRUNC(P34*M34*N34/100) -> 0 | S34: 통신3-2-1 | AA34: =O34 -> 0.648
B35: 02 | C35: 2612162922076727 | D35: 450/750V 저독성난연절연전선 | E35: HFIX 1.78mm(2.5㎟) | F35: M | G35: ='내역서(안평초)'!G66 -> 231 | H35: =IF(I35<>0, G35-I35, "") -> 21 | I35: ='내역서(안평초)'!J66 -> 210 | J35: 10 | K35: 56900017113 | L35: 통신내선공 | M35: 0.01 | N35: 100 | O35: =IF(I35*M35=0, "", I35*M35*(N35/100)) -> 2.1 | Q35: =TRUNC(P35*M35*N35/100) -> 0 | AA35: =O35 -> 2.1
B36: 02 | C36: 5216151220172709 | D36: 스피커 | E36: S.T/CEILING형, 3W, 원형 | F36: 개 | G36: ='내역서(안평초)'!G67 -> 9 | H36: =IF(I36<>0, G36-I36, "") -> 0 | I36: ='내역서(안평초)'!J67 -> 9 | K36: 56900017114 | L36: 통신설비공 | M36: 0.21 | N36: 100 | O36: =IF(I36*M36=0, "", I36*M36*(N36/100)) -> 1.89 | Q36: =TRUNC(P36*M36*N36/100) -> 0 | S36: 통신7-11-5 | AC36: =O36 -> 1.89
B37: 02 | C37: 5216151220172712 | D37: 스피커 | E37: 벽부형(10W) | F37: 개 | G37: ='내역서(안평초)'!G68 -> 4 | H37: =IF(I37<>0, G37-I37, "") -> 0 | I37: ='내역서(안평초)'!J68 -> 4 | K37: 56900017114 | L37: 통신설비공 | M37: 0.198 | N37: 100 | O37: =IF(I37*M37=0, "", I37*M37*(N37/100)) -> 0.792 | Q37: =TRUNC(P37*M37*N37/100) -> 0 | S37: 통신7-11-5 | AC37: =O37 -> 0.792
B38: 02 | C38: L001010101000086 | D38: 노 무 비 | E38: 통신내선공 | F38: 인 | G38: =IF(H38*I38/100 <1, TRUNC(H38*I38/100, 3), TRUNC(H38*I38/100, J38)) -> 7 | H38: =(옵션!$B$12*옵션!$B$42)/100 -> 100 | I38: =SUM(AA31:AA37) -> 7.6008 | J38: =옵션!$C$42 -> 0 | O38: =IF(I38*M38=0, "", I38*M38*(N38/100)) | Q38: =TRUNC(P38*M38*N38/100) -> 0 | Z38: 노임계 | AA38: =SUM(AA31:AA37) -> 7.6008 | AC38: =SUM(AC31:AC37) -> 2.682
B39: 02 | C39: L001010101000087 | D39: 노 무 비 | E39: 통신설비공 | F39: 인 | G39: =IF(H39*I39/100 <1, TRUNC(H39*I39/100, 3), TRUNC(H39*I39/100, J39)) -> 2 | H39: =(옵션!$B$12*옵션!$B$42)/100 -> 100 | I39: =SUM(AC31:AC37) -> 2.682 | J39: =옵션!$C$42 -> 0 | O39: =IF(I39*M39=0, "", I39*M39*(N39/100)) | Q39: =TRUNC(P39*M39*N39/100) -> 0
B56: 공종줄 | D56: 3.신묵초 화장실개선 정보통신설비공사
B57: 01 | C57: 3913170620174410 | D57: 1종금속제가요전선관 | E57: 16 mm 일반-비방수 | F57: M | G57: 22 | H57: 2 | I57: 20 | J57: 10 | K57: 56900017113 | L57: 통신내선공 | M57: 0.044 | N57: 90 | O57: 0.792 | Q57: 0 | S57: 통신3-1-1 | AB57: =O57 -> 0.792
B58: 01 | C58: 3912130610035785 | D58: 콘센트박스 | E58: 1 개용 54 mm | F58: 개 | G58: 2 | H58: 0 | I58: 2 | K58: 56900017113 | L58: 통신내선공 | M58: 0.18 | N58: 90 | O58: 0.324 | Q58: 0 | S58: 통신3-2-1 | AB58: =O58 -> 0.324
B59: 01 | C59: 2612162922076728 | D59: 450/750V 저독성난연절연전선 | E59: HFIX 2.25mm(4㎟) | F59: M | G59: 66 | H59: 6 | I59: 60 | J59: 10 | K59: 56900017113 | L59: 통신내선공 | M59: 0.01 | N59: 100 | O59: 0.6 | Q59: 0 | AB59: =O59 -> 0.6
B60: 01 | C60: 3912140620170849 | D60: 콘센트 | E60: 매입-접지형, 15A 250V 1구 | F60: 개 | G60: 2 | H60: 0 | I60: 2 | K60: 56900017016 | L60: 내선전공 | M60: 0.08 | N60: 100 | O60: 0.16 | Q60: 0 | S60: 전기5-23-가 | AA60: =O60 -> 0.16
B61: 01 | C61: 5216151220172709 | D61: 스피커 | E61: S.T/CEILING형, 3W, 원형 | F61: 개 | G61: 18 | H61: 0 | I61: 18 | K61: 56900017114 | L61: 통신설비공 | M61: 0.21 | N61: 100 | O61: 3.78 | Q61: 0 | S61: 통신7-11-5 | AC61: =O61 -> 3.78
B62: 01 | C62: InMastDBNonCode | D62: 무선비상벨 | E62: 비상벨,보드판,점자스티커포함 | F62: 개 | G62: 4 | H62: 0 | I62: 4 | K62: 56900017114 | L62: 통신설비공 | M62: 0.02 | N62: 100 | O62: 0.08 | Q62: 0 | S62: 통신9-4-20-7 | AC62: =O62 -> 0.08
B63: 01 | C63: InMastDBNonCode | D63: 무선비상벨 | E63: 비상벨,보드판,점자스티커포함 | F63: 개 | G63: 8 | H63: 0 | I63: 8 | K63: 56900017114 | L63: 통신설비공 | M63: 0.02 | N63: 150 | O63: 0.24 | Q63: 0 | S63: 통신9-4-20-7 | T63: 철거재사용 | AC63: =O63 -> 0.24
B64: 01 | C64: InMastDBNonCode | D64: 무선비상벨 | E64: 비상벨,보드판,점자스티커포함 | F64: 개 | G64: 2 | H64: 0 | I64: 2 | K64: 56900017114 | L64: 통신설비공 | M64: 0.02 | N64: 30 | O64: 0.012 | Q64: 0 | S64: 통신9-4-20-7 | T64: 철거자재 | AC64: =O64 -> 0.012
B65: 01 | C65: InMastDBNonCode | D65: 무선중계기 | E65: 무선비상벨용 | F65: 개 | G65: 1 | H65: 0 | I65: 1 | K65: 56900017114 | L65: 통신설비공 | M65: 0.12 | N65: 100 | O65: 0.12 | Q65: 0 | S65: 통신9-4-20-7 | AC65: =O65 -> 0.12
B66: 01 | C66: InMastDBNonCode | D66: 무선수신기 | E66: 무선비상벨용 | F66: 개 | G66: 1 | H66: 0 | I66: 1 | K66: 56900017114 | L66: 통신설비공 | M66: 0.26 | N66: 100 | O66: 0.26 | Q66: 0 | S66: 통신9-4-20-7 | AC66: =O66 -> 0.26
B67: 01 | C67: L001010101000075 | D67: 노 무 비 | E67: 내선전공 | F67: 인 | G67: 0.16 | H67: 100 | I67: 0.16 | J67: 0 | Q67: 0 | Z67: 노임계 | AA67: =SUM(AA57:AA66) -> 0.16 | AB67: =SUM(AB57:AB66) -> 1.716 | AC67: =SUM(AC57:AC66) -> 4.492
B68: 01 | C68: L001010101000086 | D68: 노 무 비 | E68: 통신내선공 | F68: 인 | G68: 1 | H68: 100 | I68: 1.716 | J68: 0 | Q68: 0
B69: 01 | C69: L001010101000087 | D69: 노 무 비 | E69: 통신설비공 | F69: 인 | G69: 4 | H69: 100 | I69: 4.492 | J69: 0 | Q69: 0
B82: 공종줄 | D82: 4.중화초 화장실개선 정보통신설비공사
B83: 0101 | C83: 3913170620174410 | D83: 가요전선관 | E83: 16mm 비방수 | F83: m | G83: 55 | H83: 5 | I83: 50 | J83: 10 | K83: 56900017113 | L83: 통신내선공 | M83: 0.044 | N83: 90 | O83: 1.98 | Q83: 0 | S83: 통신3-1-1 | AA83: =O83 -> 1.98
B84: 0101 | C84: 3912130810035750 | D84: Outlet Box | E84: 8각 54㎜ | F84: EA | G84: 7 | H84: 0 | I84: 7 | K84: 56900017113 | L84: 통신내선공 | M84: 0.18 | N84: 90 | O84: 1.134 | Q84: 0 | S84: 통신3-2-1 | AA84: =O84 -> 1.134
B85: 0101 | C85: 3912130810035753 | D85: Outlet Box | E85: 4각 54㎜ | F85: EA | G85: 7 | H85: 0 | I85: 7 | K85: 56900017113 | L85: 통신내선공 | M85: 0.18 | N85: 90 | O85: 1.134 | Q85: 0 | S85: 통신3-2-1 | AA85: =O85 -> 1.134
B86: 0101 | C86: 2612162922076726 | D86: HFIX WIRE(단선) | E86: 1.5㎟ | F86: m | G86: 130 | H86: 12 | I86: 118 | J86: 10 | K86: 56900017113 | L86: 통신내선공 | M86: 0.01 | N86: 100 | O86: 1.18 | Q86: 0 | S86: 전기5-10 | AA86: =O86 -> 1.18
B87: 0101 | C87: 5216151220173739 | D87: CEILING SPEAKER | E87: 5W | F87: EA | G87: 16 | H87: 0 | I87: 16 | K87: 56900017114 | L87: 통신설비공 | M87: 0.21 | N87: 100 | O87: 3.36 | Q87: 0 | S87: 통신7-11-5 | AB87: =O87 -> 3.36
B88: 0101 | C88: InMastDBNonCode | D88: CEILING SPEAKER(철거) | E88: 5W | F88: EA | G88: 17 | H88: 0 | I88: 17 | K88: 56900017114 | L88: 통신설비공 | M88: 0.21 | N88: 30 | O88: 1.071 | Q88: 0 | S88: 통신7-11-5 | T88: 인건비계상 | AB88: =O88 -> 1.071
B89: 0101 | C89: InMastDBNonCode | D89: 무선 장애인 도움벨 | E89: 송신기 | F89: EA | G89: 8 | H89: 0 | I89: 8 | K89: 56900017114 | L89: 통신설비공 | M89: 0.02 | N89: 100 | O89: 0.16 | Q89: 0 | S89: 통신9-4-20-7 | AB89: =O89 -> 0.16
B90: 0101 | C90: InMastDBNonCode | D90: 무선 장애인 도움벨 | E90: 수신기 | F90: EA | G90: 1 | H90: 0 | I90: 1 | K90: 56900017114 | L90: 통신설비공 | M90: 0.26 | N90: 100 | O90: 0.26 | Q90: 0 | S90: 통신9-4-20-7 | AB90: =O90 -> 0.26
B91: 0101 | C91: InMastDBNonCode | D91: 무선 장애인 도움벨 | E91: 중계기 | F91: EA | G91: 4 | H91: 0 | I91: 4 | K91: 56900017114 | L91: 통신설비공 | M91: 0.12 | N91: 100 | O91: 0.48 | Q91: 0 | S91: 통신9-4-20-7 | AB91: =O91 -> 0.48
B92: 0101 | C92: L001010101000086 | D92: 노 무 비 | E92: 통신내선공 | F92: 인 | G92: 5 | H92: 100 | I92: 5.428 | J92: 0 | Q92: 0 | Z92: 노임계 | AA92: =SUM(AA83:AA91) -> 5.428 | AB92: =SUM(AB83:AB91) -> 5.331
B93: 0101 | C93: L001010101000087 | D93: 노 무 비 | E93: 통신설비공 | F93: 인 | G93: 5 | H93: 100 | I93: 5.331 | J93: 0 | Q93: 0

Sheet 일위노임
B1: 29 | D1: [ 안평초 외 2교(신묵초, 중화초) 급식실 증축 및 화장실개선 통신공사 ] - 일위노임 산출근거(202601-노임) | AA1: 통신설비공 | AB1: 특별인부
A2: 번호 | B2: 공종코드 | C2: 코드 | D2: 명 칭 | E2: 규 격 | F2: 단위 | G2: 수량 | K2: 코드 | L2: 공량산출 | P2: 단 위 단 가 산 출 | S2: 품셈근거 | T2: 비고
G3: 결정수량 | H3: 할증 | I3: 산출수량 | J3: 재할% | L3: 명칭 | M3: 품셈 | N3: 할증% | O3: 공량 | P3: 단가 | Q3: 단위단가 | R3: 단위계
B4: 공종줄 | D4: [ E56931750307 ] 스피커 철거 매입, 고정형, 5W 이하 [개]
B5: 800 | C5: 391115ZZ701Z0003 | D5: 품셈 산출근거 | E5: 매입, 고정형, 5W 이하 | F5: 식 | G5: 1 | H5: =IF(I5<>0, G5-I5, "") -> 0 | I5: 1 | K5: 56900017114 | L5: 통신설비공 | M5: 0.21 | N5: 30 | O5: =IF(I5*M5=0, "", I5*M5*(N5/100)) -> 0.063 | Q5: =TRUNC(P5*M5*N5/100) -> 0 | S5: 통신7-11-5 | AA5: =O5 -> 0.063
B6: 800 | C6: L001010101000087 | D6: 노 무 비 | E6: 통신설비공 | F6: 인 | G6: =IF(H6*I6/100 <1, TRUNC(H6*I6/100, 옵션!$E$13), TRUNC(H6*I6/100, 옵션!$E$13)) -> 0.063 | H6: =옵션!$B$13 -> 100 | I6: =SUM(AA5:AA5) -> 0.063 | O6: =IF(I6*M6=0, "", I6*M6*(N6/100)) | Q6: =TRUNC(P6*M6*N6/100) -> 0 | Z6: 노임계 | AA6: =SUM(AA5:AA5) -> 0.063
B7: 공종줄 | D7: [ E56931750313 ] 스피커 철거 노출, 고정형, 30W 이하 [개]
B8: 800 | C8: 391115ZZ701Z0002 | D8: 품셈 산출근거 | E8: 노출, 고정형, 30W 이하 | F8: 식 | G8: 1 | H8: =IF(I8<>0, G8-I8, "") -> 0 | I8: 1 | K8: 56900017114 | L8: 통신설비공 | M8: 0.192 | N8: 30 | O8: =IF(I8*M8=0, "", I8*M8*(N8/100)) -> 0.0576 | Q8: =TRUNC(P8*M8*N8/100) -> 0 | S8: 통신7-11-5 | AA8: =O8 -> 0.0576
B9: 800 | C9: L001010101000087 | D9: 노 무 비 | E9: 통신설비공 | F9: 인 | G9: =IF(H9*I9/100 <1, TRUNC(H9*I9/100, 옵션!$E$13), TRUNC(H9*I9/100, 옵션!$E$13)) -> 0.0576 | H9: =옵션!$B$13 -> 100 | I9: =SUM(AA8:AA8) -> 0.0576 | O9: =IF(I9*M9=0, "", I9*M9*(N9/100)) | Q9: =TRUNC(P9*M9*N9/100) -> 0 | Z9: 노임계 | AA9: =SUM(AA8:AA8) -> 0.0576
B10: 공종줄 | D10: [ E56931750324 ] 일반형카메라 철거재사용 회전형 [개]
B11: 800 | C11: 391115ZZ701Z0001 | D11: 품셈 산출근거 | F11: 식 | G11: 1 | H11: =IF(I11<>0, G11-I11, "") -> 0 | I11: 1 | K11: 56900017114 | L11: 통신설비공 | M11: 0.24 | N11: 150 | O11: =IF(I11*M11=0, "", I11*M11*(N11/100)) -> 0.36 | Q11: =TRUNC(P11*M11*N11/100) -> 0 | S11: 통신9-2-1-1 | AA11: =O11 -> 0.36
B12: 800 | C12: 391115ZZ701Z0001 | G12: 1 | H12: =IF(I12<>0, G12-I12, "") -> 0 | I12: 1 | K12: 56900017118 | L12: 특별인부 | M12: 0.24 | N12: 150 | O12: =IF(I12*M12=0, "", I12*M12*(N12/100)) -> 0.36 | Q12: =TRUNC(P12*M12*N12/100) -> 0 | S12: 통신9-2-1-1 | AB12: =O12 -> 0.36
B13: 800 | C13: L001010101000087 | D13: 노 무 비 | E13: 통신설비공 | F13: 인 | G13: =IF(H13*I13/100 <1, TRUNC(H13*I13/100, 옵션!$E$13), TRUNC(H13*I13/100, 옵션!$E$13)) -> 0.36 | H13: =옵션!$B$13 -> 100 | I13: =SUM(AA11:AA12) -> 0.36 | O13: =IF(I13*M13=0, "", I13*M13*(N13/100)) | Q13: =TRUNC(P13*M13*N13/100) -> 0 | Z13: 노임계 | AA13: =SUM(AA11:AA12) -> 0.36 | AB13: =SUM(AB11:AB12) -> 0.36
B14: 800 | C14: L001010101000003 | D14: 노 무 비 | E14: 특별인부 | F14: 인 | G14: =IF(H14*I14/100 <1, TRUNC(H14*I14/100, 옵션!$E$13), TRUNC(H14*I14/100, 옵션!$E$13)) -> 0.36 | H14: =옵션!$B$13 -> 100 | I14: =SUM(AB11:AB12) -> 0.36 | O14: =IF(I14*M14=0, "", I14*M14*(N14/100)) | Q14: =TRUNC(P14*M14*N14/100) -> 0

Sheet 합산자재
B1: 55 | C1: [ 안평초등학교급식실및학생식당증축공사(통신) ] - 합산자재목록
A2: 번호 | B2: … | C2: 코드 | D2: 명 칭 | E2: 규 격 | F2: 단위 | G2: 수량 | H2: 재료비 | I2: 노무비 | J2: 경비 | K2: 지급비 | L2: 계 | M2: 비고
B4: 59753097002 | C4: 3913170610035664 | D4: 합성수지제 가요전선관 | E4: CD(난연성) 16㎜ | F4: M | G4: 44 | H4: =ROUNDDOWN(단가조사!G4*옵션!$D$11, 0) -> 170 | L4: =SUM(H4,I4,J4) -> 170
B5: 59753097003 | C5: 3913170610035665 | D5: 합성수지제 가요전선관 | E5: CD(난연성) 22㎜ | F5: M | G5: 4 | H5: =ROUNDDOWN(단가조사!G5*옵션!$D$11, 0) -> 255 | L5: =SUM(H5,I5,J5) -> 255
B6: 59753017003 | C6: 3913170620174410 | D6: 1종금속제가요전선관 | E6: 16 mm 일반-비방수 | F6: M | G6: 170 | H6: =ROUNDDOWN(단가조사!G6*옵션!$D$11, 0) -> 445 | L6: =SUM(H6,I6,J6) -> 445
B7: 59753017043 | C7: 3913170620174434 | D7: 1종금속제가요전선관 | E7: 커넥터, 16 mm 일반-비방수 | F7: 개 | G7: 46 | H7: =ROUNDDOWN(단가조사!G7*옵션!$D$11, 0) -> 340 | L7: =SUM(H7,I7,J7) -> 340
B8: 59753767011 | C8: 3912130810035750 | D8: 아우트렛박스 | E8: 8각 54㎜ | F8: 개 | G8: 8 | H8: =ROUNDDOWN(단가조사!G8*옵션!$D$11, 0) -> 638 | L8: =SUM(H8,I8,J8) -> 638
B9: 59753777102 | C9: 3912130610035778 | D9: 스위치박스 | E9: 1 개용 54 mm | F9: 개 | G9: 2 | H9: =ROUNDDOWN(단가조사!G10*옵션!$D$11, 0) -> 603 | L9: =SUM(H9,I9,J9) -> 603
B10: 59753777111 | C10: 3912130610035781 | D10: 스위치박스 | E10: 2 개용 54 mm | F10: 개 | G10: 5 | H10: =ROUNDDOWN(단가조사!G11*옵션!$D$11, 0) -> 726 | L10: =SUM(H10,I10,J10) -> 726
B11: 59753767201 | C11: 3912130820174710 | D11: 아우트렛박스 커버 | E11: 8각, 평형 | F11: 개 | G11: 8 | H11: =ROUNDDOWN(단가조사!G12*옵션!$D$11, 0) -> 218 | L11: =SUM(H11,I11,J11) -> 218
B12: 59753767281 | C12: 3912130820174718 | D12: 아우트렛박스 커버 | E12: 4각, 2개용S/W (오목) | F12: 개 | G12: 5 | H12: =ROUNDDOWN(단가조사!G13*옵션!$D$11, 0) -> 283 | L12: =SUM(H12,I12,J12) -> 283
B13: 61455137894 | C13: 3912130320175917 | D13: 정션 박스 | E13: 100*100*50 | F13: 개 | G13: 3 | H13: =ROUNDDOWN(단가조사!G14*옵션!$D$11, 0) -> 2690 | L13: =SUM(H13,I13,J13) -> 2690
B14: MM481669624 | C14: 2612162922076727 | D14: 450/750V 저독성난연절연전선 | E14: HFIX 1.78mm(2.5㎟) | F14: M | G14: 231 | H14: =ROUNDDOWN(단가조사!G16*옵션!$D$11, 0) -> 544 | L14: =SUM(H14,I14,J14) -> 544
B15: E1450667003 | C15: 2612162922076728 | D15: 450/750V 저독성난연절연전선 | E15: HFIX 2.25mm(4㎟) | F15: M | G15: 50 | H15: =ROUNDDOWN(단가조사!G17*옵션!$D$11, 0) -> 826 | L15: =SUM(H15,I15,J15) -> 826
B16: 61454127541 | C16: 2612160621650577 | D16: 고발포동축케이블 | E16: 5C-HFBT | F16: M | G16: 16 | H16: =ROUNDDOWN(단가조사!G18*옵션!$D$11, 0) -> 519 | L16: =SUM(H16,I16,J16) -> 519
B17: EC452167502 | C17: InMastDBNonCode | D17: UTP케이블-2열동시 1열당 | E17: Cat.6 0.5mm 4P | F17: M | G17: 130 | H17: =ROUNDDOWN(단가조사!G19*옵션!$D$11, 0) -> 570 | L17: =SUM(H17,I17,J17) -> 570
B18: EC452167504 | C18: InMastDBNonCode | D18: UTP케이블-4열동시 1열당 | E18: Cat.6 0.5mm 4P | F18: M | G18: 17 | H18: =ROUNDDOWN(단가조사!G20*옵션!$D$11, 0) -> 570 | L18: =SUM(H18,I18,J18) -> 570
B19: 58051750202 | C19: 3912140620937657 | D19: 모듈라짹 | E19: 매입용, Cat.6 2구 | F19: 개 | G19: 3 | H19: =ROUNDDOWN(단가조사!G21*옵션!$D$11, 0) -> 5500 | L19: =SUM(H19,I19,J19) -> 5500
B20: 58952007501 | C20: InMastDBNonCode | D20: POE허브 | E20: 1000Mbps, 5PORT | F20: 개 | G20: 1 | H20: =ROUNDDOWN(단가조사!G22*옵션!$D$11, 0) -> 110000 | L20: =SUM(H20,I20,J20) -> 110000
B21: 58952007502 | C21: InMastDBNonCode | D21: POE허브 | E21: 1000Mbps, 8PORT | F21: 개 | G21: 1 | H21: =ROUNDDOWN(단가조사!G23*옵션!$D$11, 0) -> 120000 | L21: =SUM(H21,I21,J21) -> 120000
B22: MM550686636 | C22: InMastDBNonCode | D22: 단자함,매입(커버SUS) | E22: 400*500*130 | F22: 면 | G22: 1 | H22: =ROUNDDOWN(단가조사!G24*옵션!$D$11, 0) -> 98200 | L22: =SUM(H22,I22,J22) -> 98200
B23: 59650397001 | C23: 5216151220172709 | D23: 스피커 | E23: S.T/CEILING형, 3W, 원형 | F23: 개 | G23: 9 | H23: =ROUNDDOWN(단가조사!G26*옵션!$D$11, 0) -> 16483 | L23: =SUM(H23,I23,J23) -> 16483
B24: 59650397031 | C24: 5216151220172712 | D24: 스피커 | E24: 벽부형(10W) | F24: 개 | G24: 4 | H24: =ROUNDDOWN(단가조사!G27*옵션!$D$11, 0) -> 23050 | L24: =SUM(H24,I24,J24) -> 23050
B25: 58050627203 | C25: 3912149820163812 | D25: 동축콘넥터 | E25: 5C용, 방수형 압착타입 | F25: 개 | G25: 6 | H25: =ROUNDDOWN(단가조사!G28*옵션!$D$11, 0) -> 180 | L25: =SUM(H25,I25,J25) -> 180
B26: 58050627205 | C26: InMastDBNonCode | D26: 동축콘넥터 | E26: 연결 및 중계기 | F26: 개 | G26: 3 | H26: =ROUNDDOWN(단가조사!G29*옵션!$D$11, 0) -> 250 | L26: =SUM(H26,I26,J26) -> 250
B27: MM602528324 | C27: InMastDBNonCode | D27: 무선비상벨 | E27: 비상벨,보드판,점자스티커포함 | F27: 개 | G27: 1 | H27: =ROUNDDOWN(단가조사!G30*옵션!$D$11, 0) -> 20000 | L27: =SUM(H27,I27,J27) -> 20000
B28: 56900017113 | C28: L001010101000086 | D28: 노 무 비 | E28: 통신내선공 | F28: 인 | G28: 12 | I28: =ROUNDDOWN(단가조사!G33, 0) -> 284880 | L28: =SUM(H28,I28,J28) -> 284880
B29: 56900017116 | C29: L001010101000089 | D29: 노 무 비 | E29: 통신케이블공 | F29: 인 | G29: 2 | I29: =ROUNDDOWN(단가조사!G34, 0) -> 436224 | L29: =SUM(H29,I29,J29) -> 436224
B30: 56900017114 | C30: L001010101000087 | D30: 노 무 비 | E30: 통신설비공 | F30: 인 | G30: 3.2882 | I30: =ROUNDDOWN(단가조사!G35, 0) -> 315528 | L30: =SUM(H30,I30,J30) -> 315528
B31: 56900017041 | C31: L001010101000002 | D31: 노 무 비 | E31: 보통인부 | F31: 인 | G31: 0.7 | I31: =ROUNDDOWN(단가조사!G36, 0) -> 172068 | L31: =SUM(H31,I31,J31) -> 172068
B32: 56900017118 | C32: L001010101000003 | D32: 노 무 비 | E32: 특별인부 | F32: 인 | G32: 1.08 | I32: =ROUNDDOWN(단가조사!G37, 0) -> 226122 | L32: =SUM(H32,I32,J32) -> 226122
B33: 56900017142 | C33: L001010201000093 | D33: 노 무 비 | E33: H/W시험사 | F33: 인 | G33: 0.44 | I33: =ROUNDDOWN(단가조사!G38, 0) -> 393090 | L33: =SUM(H33,I33,J33) -> 393090
B34: 56900017143 | C34: L001010201000094 | D34: 노 무 비 | E34: S/W시험사 | F34: 인 | G34: 0.72 | I34: =ROUNDDOWN(단가조사!G39, 0) -> 446358 | L34: =SUM(H34,I34,J34) -> 446358
B35: 56900017016 | C35: L001010101000075 | D35: 노 무 비 | E35: 내선전공 | F35: 인 | G35: 1 | I35: =ROUNDDOWN(단가조사!G40, 0) -> 273676 | L35: =SUM(H35,I35,J35) -> 273676
B36: 56900017076 | C36: L001010101000078 | D36: 노 무 비 | E36: 저압케이블전공 | F36: 인 | G36: 1 | I36: =ROUNDDOWN(단가조사!G41, 0) -> 304156 | L36: =SUM(H36,I36,J36) -> 304156

Sheet 단가조사
B1: 63 | D1: [ 안평초 외 2교(신묵초, 중화초) 급식실 증축 및 화장실개선 통신공사 ] - 단가조사서(1/6단가:2026년06월)
A2: 번호 | B2: 공종코드 | C2: 코드 | D2: 명 칭 | E2: 규 격 | F2: 단위 | G2: 적용단가 | H2: 시설단가 | J2: 거래가격 | L2: 물가정보 | N2: 물가자료 | P2: 조사단가1 | R2: 조사단가2 | T2: 비고
H3: 단가 | I3: 코드 | J3: 단가 | K3: PAGE | L3: 단가 | M3: PAGE | N3: 단가 | O3: PAGE | P3: 단가 | Q3: PAGE | R3: 단가 | S3: PAGE
C4: 3913170610035664 | D4: 합성수지제 가요전선관 | E4: CD(난연성) 16㎜ | F4: M | G4: 170 | H4: 170 | J4: 360 | K4: 1025 | L4: 275 | M4: I-1204 | N4: 200 | O4: 1104
C5: 3913170610035665 | D5: 합성수지제 가요전선관 | E5: CD(난연성) 22㎜ | F5: M | G5: 255 | H5: 255 | J5: 500 | K5: 1025 | L5: 412 | M5: I-1204 | N5: 300 | O5: 1104
C6: 3913170620174410 | D6: 1종금속제가요전선관 | E6: 16 mm 일반-비방수 | F6: M | G6: 445 | H6: 445 | J6: 1200
C7: 3913170620174434 | D7: 1종금속제가요전선관 | E7: 커넥터, 16 mm 일반-비방수 | F7: 개 | G7: 340 | H7: 407 | J7: 990 | L7: 520 | M7: 인터넷 | N7: 340 | O7: 1101
C8: 3912130810035750 | D8: 아우트렛박스 | E8: 8각 54㎜ | F8: 개 | G8: 638 | H8: 638 | J8: 800 | K8: 1028 | L8: 845 | M8: I-1207 | N8: 790 | O8: 1105
D9: 아우트렛박스 | E9: 4각 54㎜ | F9: 개 | G9: 973 | J9: 3100 | K9: 1028 | L9: 973 | M9: I-1207
C10: 3912130610035778 | D10: 스위치박스 | E10: 1 개용 54 mm | F10: 개 | G10: 603 | H10: 603 | J10: 650 | K10: 1028 | L10: 700 | M10: I-1207 | N10: 650 | O10: 1105
C11: 3912130610035781 | D11: 스위치박스 | E11: 2 개용 54 mm | F11: 개 | G11: 726 | H11: 839 | J11: 1000 | K11: 1028 | L11: 726 | M11: I-1207 | N11: 920 | O11: 1105
C12: 3912130820174710 | D12: 아우트렛박스 커버 | E12: 8각, 평형 | F12: 개 | G12: 218 | H12: 218 | J12: 400 | K12: 1028 | L12: 343 | M12: I-1207 | N12: 290 | O12: 1105
C13: 3912130820174718 | D13: 아우트렛박스 커버 | E13: 4각, 2개용S/W (오목) | F13: 개 | G13: 283 | H13: 283 | J13: 400 | K13: 1028 | L13: 343 | M13: I-1207 | N13: 400 | O13: 1105
C14: 3912130320175917 | D14: 정션 박스 | E14: 100*100*50 | F14: 개 | G14: 2690 | J14: 4620 | K14: 1028 | L14: 2690 | M14: I-1207 | N14: 3060 | O14: 1105
C15: 2612162922076726 | D15: 450/750V 저독성난연절연전선 | E15: HFIX 1.5㎟ | F15: m | G15: 356 | H15: 356 | J15: 456 | K15: 993 | L15: 587 | M15: I-1165
C16: 2612162922076727 | D16: 450/750V 저독성난연절연전선 | E16: HFIX 1.78mm(2.5㎟) | F16: M | G16: 544 | H16: 544 | J16: 693 | K16: 993 | L16: 966 | M16: I-1165 | N16: 641 | O16: 1074
C17: 2612162922076728 | D17: 450/750V 저독성난연절연전선 | E17: HFIX 2.25mm(4㎟) | F17: M | G17: 826 | H17: 826 | J17: 1051 | K17: 993 | L17: 1505 | M17: I-1165 | N17: 980 | O17: 1074
C18: 2612160621650577 | D18: 고발포동축케이블 | E18: 5C-HFBT | F18: M | G18: 519 | H18: 676 | J18: 519 | K18: 1007 | L18: 1359 | M18: I-1175 | N18: 983 | O18: 1074
C19: InMastDBNonCode | D19: UTP케이블-2열동시 1열당 | E19: Cat.6 0.5mm 4P | F19: M | G19: 570 | H19: 570 | L19: 1574 | M19: 1-1172 | N19: 1120 | O19: 1083
C20: InMastDBNonCode | D20: UTP케이블-4열동시 1열당 | E20: Cat.6 0.5mm 4P | F20: M | G20: 570 | H20: 570 | L20: 1574 | M20: 1-1172 | N20: 1120 | O20: 1083
C21: 3912140620937657 | D21: 모듈라짹 | E21: 매입용, Cat.6 2구 | F21: 개 | G21: 5500 | N21: 9360 | O21: 1205 | P21: 5500 | Q21: 인터넷
C22: InMastDBNonCode | D22: POE허브 | E22: 1000Mbps, 5PORT | F22: 개 | G22: 110000 | P22: 110000 | Q22: 인터넷
C23: InMastDBNonCode | D23: POE허브 | E23: 1000Mbps, 8PORT | F23: 개 | G23: 120000 | P23: 120000 | Q23: 인터넷
C24: InMastDBNonCode | D24: 단자함,매입(커버SUS) | E24: 400*500*130 | F24: 면 | G24: 98200 | N24: 98200 | O24: 1282
C25: 3912140620170849 | D25: 콘센트 | E25: 매입-접지형, 15A 250V 1구 | F25: 개 | G25: 952 | H25: 952 | J25: 2417 | K25: 1099 | L25: 2580 | M25: I-1280 | N25: 1760 | O25: 1204
C26: 5216151220172709 | D26: 스피커 | E26: S.T/CEILING형, 3W, 원형 | F26: 개 | G26: 16483 | H26: 16483 | L26: 28000 | M26: 1-1347 | N26: 25000 | O26: 1252
C27: 5216151220172712 | D27: 스피커 | E27: 벽부형(10W) | F27: 개 | G27: 23050 | H27: 23050 | L27: 35000 | M27: 1-1347 | N27: 45000 | O27: 1252
C28: 3912149820163812 | D28: 동축콘넥터 | E28: 5C용, 방수형 압착타입 | F28: 개 | G28: 180 | P28: 180 | Q28: 인터넷
C29: InMastDBNonCode | D29: 동축콘넥터 | E29: 연결 및 중계기 | F29: 개 | G29: 250 | P29: 250 | Q29: 인터넷
C30: InMastDBNonCode | D30: 무선비상벨 | E30: 비상벨,보드판,점자스티커포함 | F30: 개 | G30: 20000 | P30: 20000 | Q30: 인터넷
C31: InMastDBNonCode | D31: 무선중계기 | E31: 무선비상벨용 | F31: 개 | G31: 120000 | P31: 120000 | Q31: 인터넷
C32: InMastDBNonCode | D32: 무선수신기 | E32: 무선비상벨용 | F32: 개 | G32: 100000 | P32: 100000 | Q32: 인터넷
C33: L001010101000086 | D33: 노 무 비 | E33: 통신내선공 | F33: 인 | G33: 284880
C34: L001010101000089 | D34: 노 무 비 | E34: 통신케이블공 | F34: 인 | G34: 436224
C35: L001010101000087 | D35: 노 무 비 | E35: 통신설비공 | F35: 인 | G35: 315528
C36: L001010101000002 | D36: 노 무 비 | E36: 보통인부 | F36: 인 | G36: 172068
C37: L001010101000003 | D37: 노 무 비 | E37: 특별인부 | F37: 인 | G37: 226122
C38: L001010201000093 | D38: 노 무 비 | E38: H/W시험사 | F38: 인 | G38: 393090
C39: L001010201000094 | D39: 노 무 비 | E39: S/W시험사 | F39: 인 | G39: 446358
C40: L001010101000075 | D40: 노 무 비 | E40: 내선전공 | F40: 인 | G40: 273676
C41: L001010101000078 | D41: 노 무 비 | E41: 저압케이블전공 | F41: 인 | G41: 304156

Sheet 옵션
B1: 재료비 | C1: 노무비 | D1: 경비 | F1: 계
A2: 총 급 액 | B2: =총괄표!#REF! -> #REF! | C2: =총괄표!#REF! -> #REF! | D2: =총괄표!#REF! -> #REF! | F2: =SUM(B2,C2,D2) -> #REF!
A3: 관급 자재비 | F3: =SUM(B3,C3,D3) -> 0 | H3: 금액조정이 안되나요?
H6: 이지테크에서 변환할 때 2번 옵션을 지정하여 다시 해보세요
H9: 시트를 삭제할 때 에러가 뜨면 1번 옵션으로 하면 됩니다.
B10: 적용율(%) | C10: 끝자리 | D10: 적용율(%)/100 | E10: 일위대가소수
A11: 전체자재 적용율(%)(공종/일위대가) | B11: 100 | C11: 1 | D11: =$B$11/100 -> 1
A12: 전체노임 적용율(%)(공종) | B12: 100 | C12: 1 | D12: =$B$12/100 -> 1 | E12: 2 | H12: 2번 옵션으로 변환했을 때에는 결과값이 다를 수 있습니다.
A13: 전체노임 적용율(%)(일위대가) | B13: 100 | C13: 1 | D13: =$B$13/100 -> 1 | E13: 5
A20: *(그룹별 자재 단가 추가 할증)* | B20: 적용율(%) | D20: 적용율(%)/100
A21: Cable(CAB) 할증(%) | B21: =B11 -> 100 | D21: =$B$21/100 -> 1
A22: Wire (WIR) 할증(%) | B22: =B11 -> 100 | D22: =$B$22/100 -> 1
A23: Pipe (PIP) 할증(%) | B23: =B11 -> 100 | D23: =$B$23/100 -> 1
A24: 제 4그룹 할증(%) | B24: =B11 -> 100 | D24: =$B$24/100 -> 1
A25: 제 5그룹 할증(%) | B25: =B11 -> 100 | D25: =$B$25/100 -> 1
A30: *(그룹별 노임 추가 할증)* | B30: 적용율(%) | C30: 자동부속재(전기) | D30: 자동부속재(통신)
A31: 배관부속재(%) | B31: 20 | C31: 15 | D31: 20
A32: CD관부속재(%) | B32: 40 | C32: 40 | D32: 40
A33: 소모잡자재(%) | B33: 2 | H33: 본 파일은 이지테크에서 2번 옵션으로 만들었습니다.
A34: 방폭할증(%)
A35: 고소할증(%) | B35: 2
A36: 공구손료(%) | B36: 3
A40: *(공종별 노임 적용율(%))* | B40: 적용율(%) | C40: 소수자릿수
A41: 1.정보통신설비공사 | B41: 100 | C41: 0
A42: 2.방송설비공사 | B42: 100 | C42: 0
