Workbook
Name _: #N/A
Name _________MAG100: #REF!
Name _________MAG200: #REF!
Name _________MAG300: #REF!
Name _________MAG40: #REF!
Name _________MAG400: #REF!
Name _________MAG450: #REF!
Name _________MAG65: #REF!
Name ________MAG100: #REF!
Name ________MAG200: #REF!
Name ________MAG300: #REF!
Name ________MAG40: #REF!
Name ________MAG400: #REF!
Name ________MAG450: #REF!
Name ________MAG65: #REF!
Name _______MAG100: #REF!
Name _______MAG200: #REF!
Name _______MAG300: #REF!
Name _______MAG40: #REF!
Name _______MAG400: #REF!
Name _______MAG450: #REF!
Name _______MAG65: #REF!
Name ______MAG100: #REF!
Name ______MAG200: #REF!
Name ______MAG300: #REF!
Name ______MAG40: #REF!
Name ______MAG400: #REF!
Name ______MAG450: #REF!
Name ______MAG65: #REF!
Name _____MAG100: #REF!
Name _____MAG200: #REF!
Name _____MAG300: #REF!
Name _____MAG40: #REF!
Name _____MAG400: #REF!
Name _____MAG450: #REF!
Name _____MAG65: #REF!
Name ____ISO011: [0]!____ISO011
Name ____ISO021: [0]!____ISO021
Name ____ISO031: [0]!____ISO031
Name ____ISO0312: [0]!____ISO0312
Name ____ISO041: [0]!____ISO041
Name ____ISO0411: [0]!____ISO0411
Name ____ISO051: [0]!____ISO051
Name ____ISO061: [0]!____ISO061
Name ____ISO062: [0]!____ISO062
Name ____ISO063: [0]!____ISO063
Name ____ISO081: [0]!____ISO081
Name ____ISO09101: [0]!____ISO09101
Name ____ISO09105: [0]!____ISO09105
Name ____ISO09108: [0]!____ISO09108
Name ____ISO09111: [0]!____ISO09111
Name ____ISO09115: [0]!____ISO09115
Name ____ISO09118: [0]!____ISO09118
Name ____ISO09120: [0]!____ISO09120
Name ____ISO09127: [0]!____ISO09127
Name ____ISO09128: [0]!____ISO09128
Name ____ISO09129: [0]!____ISO09129
Name ____ISO09131: [0]!____ISO09131
Name ____ISO09133: [0]!____ISO09133
Name ____ISO09134: [0]!____ISO09134

Sheet 갑지
B2: 설 계 내 역 서
C4: 사업명 : 상암오수펌프장 조세목제진기 전기공사
C5: 구 분 | F5: 금 액 | M5: 비 고
C6: 도 급 비 | D6: 공 급 가 액 | F6: 49981819 | J6: 49981819
D7: 부가가치세 | F7: 4998181 | J7: 4998181
D8: 합 계 | F8: 54980000 | J8: 54980000

Sheet 원가
A1: 공 사 원 가 계 산 서
A3: 공사명 : | B3: 상암오수펌프장 조세목제진기 전기공사
A4: 공 종 | C4: 비 목 | D4: 금 액 | E4: 원 가 제 비 율 적 용 기 준 | F4: 구 성 비 | G4: 비 고
A5: 공 사 원 가 | B5: 재료비 | C5: 직접재료비
C6: 간접재료비
C7: [ 소 계 ] | G7: =D7/1.1 -> 0
B8: 노무비 | C8: 직접노무비
C9: 간접노무비 | E9: 직접노무비 x | F9: 0.175
C10: [ 소 계 ] | G10: =D10/1.1 -> 0
B11: 경비 | C11: 경비
C12: 산재보험료 | E12: 노무비 x | F12: 0.0356
C13: 고용보험료 | E13: 노무비 x | F13: 0.0101
C14: 국민건강보험료 | D14: 925889.41 | E14: 직접노무비 x | F14: 0.03595
C15: 국민연금보험료 | D15: 1223358.7 | E15: 직접노무비 x | F15: 0.0475
C16: 노인장기요양보험료 | D16: 121661.87 | E16: 건강보험료 x | F16: 0.1314
C17: 퇴직공제부금비 | E17: 직접노무비 x | F17: 0.023 | G17: 1억미만 제외
C18: 산업안전보건관리비 | D18: 624157 | E18: (재료비+직접노무비) x | F18: 0.0207
C19: 기타경비 | E19: (재료비+노무비) x | F19: 0.05 | G19: 10억미만, 6개월 이하
C20: 석 면 분 담 금 | E20: (재료비+직접노무비) x | F20: 6e-05 | G20: 모든 건설공사 적용
C21: 임 금 채 권 부 담 금 | E21: (재료비+노무비) x | F21: 0.0009 | G21: 모든 건설공사 적용
C22: [ 소 계 ]
A23: 계
A25: 일반관리비 | E25: (재료비+노무비+경비) x | F25: 0.08
A26: 이윤 | E26: (노무비+경비+일반관리비) x | F26: 0.15
A27: 손 해 배 상 책 임 보 험 | E27: (합계+일반관리비+이윤+관급자재비)*0.26477% | F27: 0.0026477 | J27: 관급자재비는 부가세제외/수수료(부가세 반영기준) 포함
A28: 공급가액 | D28: 49981819
A29: 부가가치세 | D29: 4998181 | E29: 공급가액 x | F29: 0.1
A30: 총공사비 | D30: 54980000 | F30: =D30/$D$30 -> 1

Sheet 총괄표
A1: 총줄수-> | B1: 29 | C1: 2.0 | D1: □ 공 사 명: 상암오수펌프장 조세목제진기 전기공사 | AA1: 연속견적가로형식
A2: 번호 | B2: 공종코드 | C2: … | D2: 공 종 명 | E2: 규격 | F2: 단위 | G2: 수량 | H2: 재료비 | J2: 노무비 | M2: 경비 | P2: 계 | Q2: 비고
H3: 단가 | I3: 금액 | J3: 수량 | K3: 단가 | L3: 금액 | M3: 단가 | N3: 금액 | O3: 단가
B4: 공종줄 | D4: 상암오수펌프장 조세목제진기 전기공사
B5: 001 | D5: 1. 전기공사 | F5: 식 | G5: 1 | I5: =G5*H5 -> 0 | L5: =G5*K5 -> 0 | M5: =내역서!N51 -> 0 | N5: =G5*M5 -> 0 | P5: =SUM(I5,L5,N5) -> 0
I6: =G6*H6 -> 0 | L6: =G6*K6 -> 0 | N6: =G6*M6 -> 0 | P6: =SUM(I6,L6,N6) -> 0
I7: =G7*H7 -> 0 | L7: =G7*K7 -> 0 | N7: =G7*M7 -> 0 | P7: =SUM(I7,L7,N7) -> 0
I8: =G8*H8 -> 0 | L8: =G8*K8 -> 0 | N8: =G8*M8 -> 0 | P8: =SUM(I8,L8,N8) -> 0
I9: =G9*H9 -> 0 | L9: =G9*K9 -> 0 | N9: =G9*M9 -> 0 | P9: =SUM(I9,L9,N9) -> 0
I10: =G10*H10 -> 0 | L10: =G10*K10 -> 0 | N10: =G10*M10 -> 0 | P10: =SUM(I10,L10,N10) -> 0
I11: =G11*H11 -> 0 | L11: =G11*K11 -> 0 | N11: =G11*M11 -> 0 | P11: =SUM(I11,L11,N11) -> 0
I12: =G12*H12 -> 0 | L12: =G12*K12 -> 0 | N12: =G12*M12 -> 0 | P12: =SUM(I12,L12,N12) -> 0
I13: =G13*H13 -> 0 | L13: =G13*K13 -> 0 | N13: =G13*M13 -> 0 | P13: =SUM(I13,L13,N13) -> 0
I14: =G14*H14 -> 0 | L14: =G14*K14 -> 0 | N14: =G14*M14 -> 0 | P14: =SUM(I14,L14,N14) -> 0
I15: =G15*H15 -> 0 | L15: =G15*K15 -> 0 | N15: =G15*M15 -> 0 | P15: =SUM(I15,L15,N15) -> 0
I16: =G16*H16 -> 0 | L16: =G16*K16 -> 0 | N16: =G16*M16 -> 0 | P16: =SUM(I16,L16,N16) -> 0
I17: =G17*H17 -> 0 | L17: =G17*K17 -> 0 | N17: =G17*M17 -> 0 | P17: =SUM(I17,L17,N17) -> 0
... I28: =G28*H28 -> 0 | L28: =G28*K28 -> 0 | N28: =G28*M28 -> 0 | P28: =SUM(I28,L28,N28) -> 0
C29: Total | D29: ( 합 계 ) | I29: =TRUNC(SUM(I4:I28)) -> 0 | L29: =TRUNC(SUM(L4:L28)) -> 0 | N29: =TRUNC(SUM(N4:N28)) -> 0 | P29: =TRUNC(SUM(P4:P28)) -> 0

Sheet 내역서
A1: 총줄수-> | B1: 55 | C1: 2.0 | D1: □ 공 사 명: 상암오수펌프장 조세목제진기 전기공사 | U1: =원가!D30 -> 54980000 | W1: 노임 계산 정보 | AA1: 부속재 및 손료
A2: 번호 | B2: 공종코드 | C2: 코드 | D2: 명 칭 | E2: 규 격 | F2: 단위 | G2: 수량 | H2: 재료비 | J2: 노무비 | M2: 경비 | P2: 계 | Q2: 비고 | W2: 노임계 | X2: 전체(%) | Y2: 공종별(%) | Z2: 노임 소수 | AA2: CD배관재 | AB2: 일반배관재 | AC2: 소모재 | AD2: 자재계 | AE2: 노임계
H3: 단가 | I3: 금액 | J3: 수량 | K3: 단가 | L3: 금액 | M3: 단가 | N3: 금액 | O3: 단가 | AD3: =IF(옵션!$C$11 =0, "1", 옵션!$C$11) -> 1 | AE3: =IF(옵션!$C$12 =0, "1", 옵션!$C$12) -> 1
B4: 공종줄 | D4: 1.전기공사
A5: 5975B817201 | B5: 001 | C5: EDA41100010S | D5: 케이블트레이 | E5: STRAIGHT,St W150x100Hx2.3t | F5: m | G5: 21 | I5: =TRUNC(G5*H5) -> 0 | J5: 18 | L5: =TRUNC(G5*K5) -> 0 | N5: =TRUNC(G5*M5) -> 0 | P5: =SUM(I5,L5,N5) -> 0
A6: 5975B817332 | B6: 001 | C6: E59751817332 | D6: 케이블트레이 | E6: COVER,St W150 | F6: m | G6: 21 | I6: =TRUNC(G6*H6) -> 0 | J6: 18 | L6: =TRUNC(G6*K6) -> 0 | N6: =TRUNC(G6*M6) -> 0 | P6: =SUM(I6,L6,N6) -> 0
A7: 5975B817222 | B7: 001 | C7: EDA41100020S | D7: 케이블트레이 | E7: STRAIGHT,St W300x100Hx2.3t | F7: m | G7: 9 | I7: =TRUNC(G7*H7) -> 0 | J7: 6 | L7: =TRUNC(G7*K7) -> 0 | N7: =TRUNC(G7*M7) -> 0 | P7: =SUM(I7,L7,N7) -> 0
A8: 5975B817334 | B8: 001 | C8: E59751817334 | D8: 케이블트레이 | E8: COVER,St W300 | F8: m | G8: 9 | I8: =TRUNC(G8*H8) -> 0 | J8: 6 | L8: =TRUNC(G8*K8) -> 0 | N8: =TRUNC(G8*M8) -> 0 | P8: =SUM(I8,L8,N8) -> 0
A9: 5975E967111 | B9: 001 | C9: E59754967111 | D9: 케이블트레이부속품 | E9: V. ELBOW, St,W300x100Hx2.3t | F9: 개 | G9: 2 | I9: =TRUNC(G9*H9) -> 0 | J9: 1 | L9: =TRUNC(G9*K9) -> 0 | N9: =TRUNC(G9*M9) -> 0 | P9: =SUM(I9,L9,N9) -> 0
A10: 5975E967201 | B10: 001 | C10: E59754967201 | D10: 케이블트레이부속품 | E10: H. TEE, St, W150x100Hx2.3t | F10: 개 | G10: 2 | I10: =TRUNC(G10*H10) -> 0 | J10: 2 | L10: =TRUNC(G10*K10) -> 0 | N10: =TRUNC(G10*M10) -> 0 | P10: =SUM(I10,L10,N10) -> 0
A11: 5975E967207 | B11: 001 | C11: E59754967207 | D11: 케이블트레이부속품 | E11: H. TEE, St, W300x100Hx2.3t | F11: 개 | G11: 3 | I11: =TRUNC(G11*H11) -> 0 | J11: 2 | L11: =TRUNC(G11*K11) -> 0 | N11: =TRUNC(G11*M11) -> 0 | P11: =SUM(I11,L11,N11) -> 0
A12: 5975E967411 | B12: 001 | C12: E59754967411 | D12: 케이블트레이부속품 | E12: REDUCER, St, W300x100Hx2.3t | F12: 개 | G12: 2 | I12: =TRUNC(G12*H12) -> 0 | J12: 2 | L12: =TRUNC(G12*K12) -> 0 | N12: =TRUNC(G12*M12) -> 0 | P12: =SUM(I12,L12,N12) -> 0
A13: 59754967501 | B13: 001 | C13: 3913170520175118 | D13: 케이블트레이부속품 | E13: JOINT CONNEC.아연도100Hx2.3 | F13: 개 | G13: 20 | I13: =TRUNC(G13*H13) -> 0 | J13: 40 | L13: =TRUNC(G13*K13) -> 0 | N13: =TRUNC(G13*M13) -> 0 | P13: =SUM(I13,L13,N13) -> 0
A14: 59754967531 | B14: 001 | C14: 3913170520175121 | D14: 케이블트레이부속품 | E14: SHANK BOLT & NUT, SUS | F14: 개 | G14: 200 | I14: =TRUNC(G14*H14) -> 0 | J14: 400 | L14: =TRUNC(G14*K14) -> 0 | N14: =TRUNC(G14*M14) -> 0 | P14: =SUM(I14,L14,N14) -> 0
A15: 59754967571 | B15: 001 | C15: 3913170520175125 | D15: 케이블트레이부속품 | E15: HOLD DOWN CLAMP, 아연도 | F15: 개 | G15: 30 | I15: =TRUNC(G15*H15) -> 0 | J15: 50 | L15: =TRUNC(G15*K15) -> 0 | N15: =TRUNC(G15*M15) -> 0 | P15: =SUM(I15,L15,N15) -> 0
A16: 59754967551 | B16: 001 | C16: 3913170520175123 | D16: 케이블트레이부속품 | E16: BONDING JUMPER, 25㎟ | F16: 개 | G16: 15 | I16: =TRUNC(G16*H16) -> 0 | J16: 20 | L16: =TRUNC(G16*K16) -> 0 | N16: =TRUNC(G16*M16) -> 0 | P16: =SUM(I16,L16,N16) -> 0
A17: 5975A337003 | B17: 001 | C17: EDA12100030S | D17: 강제전선관 | E17: 아연도 28 mm | F17: m | G17: 52 | I17: =TRUNC(G17*H17) -> 0 | J17: 72 | L17: =TRUNC(G17*K17) -> 0 | N17: =TRUNC(G17*M17) -> 0 | P17: =SUM(I17,L17,N17) -> 0 | AB17: =G17*H17 -> 0 | AC17: =G17*H17 -> 0
A18: 5975A337002 | B18: 001 | C18: EDA12100020S | D18: 강제전선관 | E18: 아연도 22 mm | F18: m | G18: 8 | I18: =TRUNC(G18*H18) -> 0 | J18: 12 | L18: =TRUNC(G18*K18) -> 0 | N18: =TRUNC(G18*M18) -> 0 | P18: =SUM(I18,L18,N18) -> 0 | AB18: =G18*H18 -> 0 | AC18: =G18*H18 -> 0
A19: 59759017061 | B19: 001 | C19: 3913170820176475 | D19: 강제전선관용 부품 | E19: 노말밴드, 아연도 28 mm | F19: 개 | G19: 25 | I19: =TRUNC(G19*H19) -> 0 | J19: 72 | L19: =TRUNC(G19*K19) -> 0 | N19: =TRUNC(G19*M19) -> 0 | P19: =SUM(I19,L19,N19) -> 0
A20: 59759017061 | B20: 001 | C20: 3913170820176475 | D20: 강제전선관용 부품 | E20: 노말밴드, 아연도 22 mm | F20: 개 | G20: 12 | I20: =TRUNC(G20*H20) -> 0 | J20: 12 | L20: =TRUNC(G20*K20) -> 0 | N20: =TRUNC(G20*M20) -> 0 | P20: =SUM(I20,L20,N20) -> 0
A21: 59755087521 | B21: 001 | C21: 3913170520475513 | D21: 덕트형 케이블트레이부속 | E21: HANGER, W 300 | F21: 개 | G21: 6 | I21: =TRUNC(G21*H21) -> 0 | J21: 6 | L21: =TRUNC(G21*K21) -> 0 | N21: =TRUNC(G21*M21) -> 0 | P21: =SUM(I21,L21,N21) -> 0
A22: E145A287564 | B22: 001 | C22: EE1450287564 | D22: 폴리에틸렌 난연케이블 | E22: 0.6/1kv F-CV 4C×16㎟ | F22: m | G22: 20 | I22: =TRUNC(G22*H22) -> 0 | J22: 23 | L22: =TRUNC(G22*K22) -> 0 | N22: =TRUNC(G22*M22) -> 0 | P22: =SUM(I22,L22,N22) -> 0 | AC22: =G22*H22 -> 0
A23: E145A287562 | B23: 001 | C23: EE1450287562 | D23: 폴리에틸렌 난연케이블 | E23: 0.6/1kv F-CV 4C×4㎟ | F23: m | G23: 120 | I23: =TRUNC(G23*H23) -> 0 | J23: 102 | L23: =TRUNC(G23*K23) -> 0 | N23: =TRUNC(G23*M23) -> 0 | P23: =SUM(I23,L23,N23) -> 0 | AC23: =G23*H23 -> 0
A24: E145A358130 | B24: 001 | C24: EE1450358130 | D24: 난연제어케이블 | E24: F-CVV 10Cx1.5㎟ | F24: m | G24: 81 | I24: =TRUNC(G24*H24) -> 0 | J24: 59 | L24: =TRUNC(G24*K24) -> 0 | N24: =TRUNC(G24*M24) -> 0 | P24: =SUM(I24,L24,N24) -> 0 | AC24: =G24*H24 -> 0
A25: E145A358025 | B25: 001 | C25: EE1450358025 | D25: 난연제어케이블 | E25: F-CVV 2Cx1.5㎟ | F25: m | G25: 414 | I25: =TRUNC(G25*H25) -> 0 | J25: 180 | L25: =TRUNC(G25*K25) -> 0 | N25: =TRUNC(G25*M25) -> 0 | P25: =SUM(I25,L25,N25) -> 0 | AC25: =G25*H25 -> 0
A26: E145A927201 | B26: 001 | C26: EE1450927201 | D26: 접지용비닐절연전선(F-GV) | E26: F-GV16㎟ | F26: m | G26: 30 | I26: =TRUNC(G26*H26) -> 0 | J26: 11 | L26: =TRUNC(G26*K26) -> 0 | N26: =TRUNC(G26*M26) -> 0 | P26: =SUM(I26,L26,N26) -> 0 | AC26: =G26*H26 -> 0
A27: E145A927201 | B27: 001 | C27: EE1450927201 | D27: 접지용비닐절연전선(F-GV) | E27: F-GV2.5㎟ | F27: m | G27: 20 | I27: =TRUNC(G27*H27) -> 0 | J27: 11 | L27: =TRUNC(G27*K27) -> 0 | N27: =TRUNC(G27*M27) -> 0 | P27: =SUM(I27,L27,N27) -> 0 | AC27: =G27*H27 -> 0
A28: 59754967601 | B28: 001 | C28: 3913170520175128 | D28: 케이블트레이부속품 | E28: U CHANNEL, 41x41x2.6t | F28: m | G28: 24 | I28: =TRUNC(G28*H28) -> 0 | J28: 24 | L28: =TRUNC(G28*K28) -> 0 | N28: =TRUNC(G28*M28) -> 0 | P28: =SUM(I28,L28,N28) -> 0
A29: 59754967641 | B29: 001 | C29: 3913170520175132 | D29: 케이블트레이부속품 | E29: BRACKET, W 300 | F29: 개 | G29: 12 | I29: =TRUNC(G29*H29) -> 0 | J29: 12 | L29: =TRUNC(G29*K29) -> 0 | N29: =TRUNC(G29*M29) -> 0 | P29: =SUM(I29,L29,N29) -> 0
A30: 56959000002 | B30: 001 | C30: EMM496797031 | D30: 1종금속제가요전선관 | E30: 28 mm 고장력-방수 | F30: m | G30: 28 | I30: =TRUNC(G30*H30) -> 0 | J30: 28 | L30: =TRUNC(G30*K30) -> 0 | N30: =TRUNC(G30*M30) -> 0 | P30: =SUM(I30,L30,N30) -> 0 | AC30: =G30*H30 -> 0
A31: MM618792344 | B31: 001 | C31: 3912120220176448 | D31: 1종금속제가요전선관 | E31: KS방수 콘넥타 28mm | F31: 개 | G31: 26 | I31: =TRUNC(G31*H31) -> 0 | J31: 26 | L31: =TRUNC(G31*K31) -> 0 | N31: =TRUNC(G31*M31) -> 0 | P31: =SUM(I31,L31,N31) -> 0
A32: 56959000001 | B32: 001 | C32: EMM496797030 | D32: 1종금속제가요전선관 | E32: 22 mm 고장력-방수 | F32: m | G32: 19 | I32: =TRUNC(G32*H32) -> 0 | J32: 4 | L32: =TRUNC(G32*K32) -> 0 | N32: =TRUNC(G32*M32) -> 0 | P32: =SUM(I32,L32,N32) -> 0 | AC32: =G32*H32 -> 0
A33: MM618792343 | B33: 001 | C33: 3912120220176447 | D33: 1종금속제가요전선관 | E33: KS방수 콘넥타 22mm | F33: 개 | G33: 36 | I33: =TRUNC(G33*H33) -> 0 | J33: 6 | L33: =TRUNC(G33*K33) -> 0 | N33: =TRUNC(G33*M33) -> 0 | P33: =SUM(I33,L33,N33) -> 0
A34: EEB7D100002 | B34: 001 | C34: EEB7D1000002 | D34: 제어반 설치 | E34: 900×2000×600 | F34: 면 | G34: 1 | I34: =TRUNC(G34*H34) -> 0 | J34: 1 | L34: =TRUNC(G34*K34) -> 0 | N34: =TRUNC(G34*M34) -> 0 | P34: =SUM(I34,L34,N34) -> 0
A35: EEB43100002 | B35: 001 | C35: EEB431000002 | D35: LOP 설치 | E35: 600×600×200 | F35: 면 | G35: 1 | I35: =TRUNC(G35*H35) -> 0 | J35: 1 | L35: =TRUNC(G35*K35) -> 0 | N35: =TRUNC(G35*M35) -> 0 | P35: =SUM(I35,L35,N35) -> 0
A36: EEB7D100002 | B36: 001 | C36: EEB7D1000002 | D36: 기존 제어반 철거 | E36: 600×600×200 | F36: 면 | G36: 4 | I36: =TRUNC(G36*H36) -> 0 | J36: 1 | L36: =TRUNC(G36*K36) -> 0 | N36: =TRUNC(G36*M36) -> 0 | P36: =SUM(I36,L36,N36) -> 0
A37: EEB43100002 | B37: 001 | C37: EEB431000002 | D37: 기존 LOP 철거 | E37: 600×600×200 | F37: 면 | G37: 3 | I37: =TRUNC(G37*H37) -> 0 | J37: 1 | L37: =TRUNC(G37*K37) -> 0 | N37: =TRUNC(G37*M37) -> 0 | P37: =SUM(I37,L37,N37) -> 0
A38: EEB7D100002 | B38: 001 | C38: EEB7D1000002 | D38: 강제전선관 철거 | E38: 아연도 22 mm | F38: M | G38: 22 | I38: =TRUNC(G38*H38) -> 0 | J38: 1 | L38: =TRUNC(G38*K38) -> 0 | N38: =TRUNC(G38*M38) -> 0 | P38: =SUM(I38,L38,N38) -> 0
A39: EEB43100002 | B39: 001 | C39: EEB431000002 | D39: 강제전선관 철거 | E39: 아연도 28 mm | F39: M | G39: 32 | I39: =TRUNC(G39*H39) -> 0 | J39: 1 | L39: =TRUNC(G39*K39) -> 0 | N39: =TRUNC(G39*M39) -> 0 | P39: =SUM(I39,L39,N39) -> 0
A40: 59754967572 | B40: 001 | C40: 3913170520935624 | D40: 케이블트레이부속품 | E40: RAIL CLAMP | F40: 개 | G40: 20 | I40: =TRUNC(G40*H40) -> 0 | J40: 30 | L40: =TRUNC(G40*K40) -> 0 | N40: =TRUNC(G40*M40) -> 0 | P40: =SUM(I40,L40,N40) -> 0
D41: MCCB 100AF 75A 4P | E41: 분전반 교체용 | F41: 식 | G41: 1 | I41: =TRUNC(G41*H41) -> 0 | L41: =TRUNC(G41*K41) -> 0 | P41: =SUM(I41,L41,N41) -> 0
D42: 잡자재 | E42: 전선관, 트레이의 15% | F42: 식 | G42: 1 | I42: =TRUNC(G42*H42) -> 0 | L42: =TRUNC(G42*K42) -> 0 | N42: =TRUNC(G42*M42) -> 0 | P42: =SUM(I42,L42,N42) -> 0 | AE42: =TRUNC(SUM(AE4:AE40)) -> 0
I43: =TRUNC(G43*H43) -> 0 | L43: =TRUNC(G43*K43) -> 0 | N43: =TRUNC(G43*M43) -> 0 | P43: =SUM(I43,L43,N43) -> 0
I44: =TRUNC(G44*H44) -> 0 | L44: =TRUNC(G44*K44) -> 0 | N44: =TRUNC(G44*M44) -> 0 | P44: =SUM(I44,L44,N44) -> 0
I45: =TRUNC(G45*H45) -> 0 | L45: =TRUNC(G45*K45) -> 0 | N45: =TRUNC(G45*M45) -> 0 | P45: =SUM(I45,L45,N45) -> 0
I46: =TRUNC(G46*H46) -> 0 | L46: =TRUNC(G46*K46) -> 0 | N46: =TRUNC(G46*M46) -> 0 | P46: =SUM(I46,L46,N46) -> 0
I47: =TRUNC(G47*H47) -> 0 | L47: =TRUNC(G47*K47) -> 0 | N47: =TRUNC(G47*M47) -> 0 | P47: =SUM(I47,L47,N47) -> 0
I48: =TRUNC(G48*H48) -> 0 | L48: =TRUNC(G48*K48) -> 0 | N48: =TRUNC(G48*M48) -> 0 | P48: =SUM(I48,L48,N48) -> 0
I49: =TRUNC(G49*H49) -> 0 | L49: =TRUNC(G49*K49) -> 0 | N49: =TRUNC(G49*M49) -> 0 | P49: =SUM(I49,L49,N49) -> 0
I50: =TRUNC(G50*H50) -> 0 | L50: =TRUNC(G50*K50) -> 0 | N50: =TRUNC(G50*M50) -> 0 | P50: =SUM(I50,L50,N50) -> 0
B51: 합계줄 | D51: ( 합 계 ) | I51: =TRUNC(SUM(I4:I50)) -> 0 | L51: =TRUNC(SUM(L4:L50)) -> 0 | N51: =TRUNC(SUM(N4:N50)) -> 0 | P51: =TRUNC(SUM(P4:P50)) -> 0

Sheet 옵션
B1: 재료비 | C1: 노무비 | D1: 경비 | F1: 계
A2: 총 급 액 | B2: =총괄표!I29 -> 0 | C2: =총괄표!L29 -> 0 | D2: =총괄표!N29 -> 0 | F2: =SUM(B2,C2,D2) -> 0
A3: 관급 자재비 | F3: =SUM(B3,C3,D3) -> 0 | H3: 금액조정이 안되나요?
H6: 이지테크에서 변환할 때 2번 옵션을 지정하여 다시 해보세요
H9: 시트를 삭제할 때 에러가 뜨면 1번 옵션으로 하면 됩니다.
B10: 적용율(%) | C10: 끝자리 | D10: 적용율(%)/100 | E10: 일위대가소수
A11: 전체자재 적용율(%)(공종/일위대가) | B11: 100 | C11: 1 | D11: =$B$11/100 -> 1
A12: 전체노임 적용율(%)(공종) | B12: 100 | C12: 1 | D12: =$B$12/100 -> 1 | E12: 2 | H12: 2번 옵션으로 변환했을 때에는 결과값이 다를 수 있습니다.
A13: 전체노임 적용율(%)(일위대가) | B13: 100 | C13: 1 | D13: =$B$13/100 -> 1 | E13: 5
A20: *(그룹별 자재 단가 추가 할증)* | B20: 적용율(%) | D20: 적용율(%)/100
A21: Cable(CAB) 할증(%) | B21: =B11 -> 100 | D21: =$B$21/100 -> 1
A22: Wire (WIR) 할증(%) | B22: =B11 -> 100 | D22: =$B$22/100 -> 1
A23: Pipe (PIP) 할증(%) | B23: =B11 -> 100 | D23: =$B$23/100 -> 1
A24: 제 4그룹 할증(%) | B24: =B11 -> 100 | D24: =$B$24/100 -> 1
A25: 제 5그룹 할증(%) | B25: =B11 -> 100 | D25: =$B$25/100 -> 1
A30: *(그룹별 노임 추가 할증)* | B30: 적용율(%) | C30: 자동부속재(전기) | D30: 자동부속재(통신)
A31: 배관부속재(%) | B31: 15 | C31: 15 | D31: 20
A32: CD관부속재(%) | B32: 40 | C32: 40 | D32: 40
A33: 소모잡자재(%) | B33: 2 | H33: 본 파일은 이지테크에서 2번 옵션으로 만들었습니다.
A34: 방폭할증(%)
A35: 고소할증(%) | B35: 2
A36: 공구손료(%) | B36: 3
A40: *(공종별 노임 적용율(%))* | B40: 적용율(%) | C40: 소수자릿수
A41: 1. 전기공사 | B41: 100 | C41: 3

Sheet 사용설명
B1: ** 반드시 다음 사항을 숙지하신 다음 수정 작업을 하십시오 **
A2: 1. | B2: 속성이 숫자인 셀을 삭제할 때는 반드시 'Delete' 키를 사용하십시오.
B3: **주의:'Space Bar' 로 지웠을 때는 '#Value' Error가 발생됩니다.
A4: 2. | B4: 일위대가(을지)는 소수점 처리 때문에 셀 속성을 '일반'으로 하였습니다.(소수점 능동 처리)
B5: **참고: (수량*단가)의 결과는 소수 한자리, 금액을 취합한 소계는 1원 이하 절사입니다.
A6: 3. | B6: 내역서에서는 수량에만 셀 속성을 '일반'으로 하였습니다.(소수점 능동 처리)
A7: 4. | B7: 단가수정은 '단가조사서'시트 에서 하십시오.
B8: a)표지와 원가 -> 총괄표 -> 내역서 ->일위대가와 합산자재 ->단가조사서 를 참조하고
B9: 있으므로 단가조사서의 결정단가를 수정하면 전체 금액이 갱신됩니다.
B10: **주의: 금액란은 공식이 걸려있으므로 조심하여 수정하십시오.
B11: b)전체 자재를 일정 요율(%)로 변경할 때는 옵션시트의 자재 적용율을 조정하면 됩니다.
A12: 5. | B12: 노임 단가는 '단가조사서'시트에서 품셈은 '노임근거'시트에서 수정하십시오.
B13: a)전체 노임을 일정 요율(%)로 변경할 때는 '옵션시트'의 전체노임 적용율을 조정하면 됩니다.
B14: b)공종별로 노임을 수정하려면 '옵션시트'의 공종별 노임 적용율을 조정하면 됩니다.
B15: c)케이블 및 전선 자재 단가를 추가로 조정하려면 그룹별 자재 적용율을 조정하면 됩니다.
B16: 그룹은 견적 프로그램에서 엑셀파일이 만들어질때 지정됩니다.
A17: 6. | B17: 겉표지의 모든 정보는 표지를 참조하였습니다.(정보 수정은 표지에서만 하시면 됩니다.)
A18: 7. | B18: 필수 :본 프로그램의 총 금액을 확인한 후 사용하십시오.
A19: 8. | B19: 본 파일의 내용을 인쇄할 경우, 미리보기를 통하여 페이지 절선을 확인 후 인쇄하십시오.
A20: 9. | B20: 관급자재 Sheet가 해당이 없을 경우엔 삭제하십시오.
A21: 10. | B21: 페이지 절선이 맞지 않으면 다음을 참고하십시오.
B33: a. 해당시트의 셀 전체를 선택합니다.
B34: b. 행높이를 적절히 가감하면 페이지 절선을 맞출 수 있습니다.
