Workbook
Name ______ll15: #REF!
Name ______ll15: #REF!
Name ______ll15: #REF!
Name ______ll15: #REF!
Name ______LP1: #REF!
Name ______LP1: #REF!
Name ______LP1: #REF!
Name ______LP1: #REF!
Name ______LP1: #REF!
Name ______LP2: #REF!
Name ______LP2: #REF!
Name ______LP2: #REF!
Name ______LP2: #REF!
Name ______LP3: #REF!
Name ______LP3: #REF!
Name ______LP3: #REF!
Name ______LP3: #REF!
Name ______LPB1: #REF!
Name ______LPB1: #REF!
Name ______LPB1: #REF!
Name ______LPB1: #REF!
Name ______LPK1: #REF!
Name ______LPK1: #REF!
Name ______LPK1: #REF!
Name ______LPK1: #REF!
Name ______LU1: #REF!
Name ______LU1: #REF!
Name ______LU1: #REF!
Name ______LU1: #REF!
Name ______LU2: #REF!
Name ______LU2: #REF!
Name ______LU2: #REF!
Name ______LU2: #REF!
Name ______LV01: #REF!
Name ______LV01: #REF!
Name ______LV01: #REF!
Name ______LV01: #REF!
Name ______LV02: #REF!
Name ______LV02: #REF!
Name ______LV02: #REF!
Name ______LV02: #REF!
Name ______UP1: #REF!
Name ______UP1: #REF!
Name ______UP1: #REF!
Name ______UP1: #REF!
Name ______UP2: #REF!
Name ______UP2: #REF!
Name ______UP2: #REF!
Name ______UP2: #REF!
Name _____ll15: #REF!
Name _____ll15: #REF!
Name _____ll15: #REF!
Name _____ll15: #REF!
Name _____LP1: #REF!
Name _____LP1: #REF!
Name _____LP1: #REF!
Name _____LP1: #REF!
Name _____LP2: #REF!
Name _____LP2: #REF!
Name _____LP2: #REF!

Sheet 갑지
A1: 과 장 | E1: 팀장 | G1: 주무관 | I1: 설계자 | K1: 설계 | L1: 2026년 07월 일 | N1: 결재
K2: 심사 | L2: 2026년 월 일 | N2: 2026년 월 일
B4: 설 계 내 역 서
C5: 사 업 명 : 슬러지2처리장 생농축조 저류조 슬러지수집기(B호기) 전기공사
C6: 구 분 | F6: 금 액 | M6: 비 고
C7: 총 사 업 비 | F7: =F10 -> 0 | J7: =INT(F7) -> 0
C8: 관 급 비 | D8: 공 급 가 액 | F8: ='공사 원가'!C28 -> 0 | J8: =F8 -> 0
D9: 부가가치세 | F9: ='공사 원가'!C29 -> 0 | J9: =F9 -> 0
D10: 소 계 | F10: ='공사 원가'!C31 -> 0 | J10: =F10 -> 0
C13: ㅇ 사업개요
C14: - 신규 원형 저류조 슬러지수집기 전기공사

Sheet 원가계산서(총괄, 제조+설치)
A1: 원 가 계 산 서(총괄)
A3: =갑지!C5 -> 사 업 명 : 슬러지2처리장 생농축조 저류조 슬러지수집기(B호기) 전기공사
A4: 비 목 | B4: 금 액 | E4: 적 용 요 율 | G4: 산 출 근 거
B5: 합계 | C5: 제조 | D5: 설치 | E5: 제조 | F5: 설치
A6: 1. 순 공사원가 | B6: =SUM(B7,B8,B11) -> #REF! | C6: =SUM(C7,C8,C11) -> #REF! | D6: =SUM(D7,D8,D11) -> #REF!
A7: 가. 재료비 | B7: =C7+D7 -> #REF! | C7: =#REF! -> #REF! | D7: ='원가계산서(설치)'!B6 -> #REF!
A8: 나. 노무비 | B8: =C8+D8 -> #REF! | C8: =SUM(C9:C10) -> #REF! | D8: =SUM(D9:D10) -> #REF!
A9: 나-1 직접노무비 | B9: =C9+D9 -> #REF! | C9: =#REF! -> #REF! | D9: ='원가계산서(설치)'!B8 -> #REF!
A10: 나-2 간접노무비 | B10: =C10+D10 -> #REF! | C10: =#REF! -> #REF! | D10: ='원가계산서(설치)'!B9 -> #REF! | F10: 0.15 | G10: (직노)*요율
A11: 다. 경비 | B11: =C11+D11 -> #REF! | D11: ='원가계산서(설치)'!B10 -> #REF!
A12: 다-1 산재보험료 | B12: =C12+D12 -> #REF! | D12: ='원가계산서(설치)'!B11 -> #REF! | F12: ='원가계산서(설치)'!C11 -> 0.0356 | G12: (노무비)*요율
A13: 다-2 고용보험료 | B13: =C13+D13 -> #REF! | D13: ='원가계산서(설치)'!B12 -> #REF! | F13: ='원가계산서(설치)'!C12 -> 0.0101 | G13: (노무비)*요율
A14: 다-3 건강보험료 | B14: =C14+D14 -> #REF! | D14: ='원가계산서(설치)'!B13 -> #REF! | F14: 0.03545 | G14: (직노)*요율
A15: 다-4 연금보험료 | B15: =C15+D15 -> #REF! | D15: ='원가계산서(설치)'!B14 -> #REF! | F15: ='원가계산서(설치)'!C14 -> 0.045 | G15: (직노)*요율
A16: 다-5 노인장기보험료 | B16: =C16+D16 -> #REF! | D16: ='원가계산서(설치)'!B15 -> #REF! | F16: ='원가계산서(설치)'!C15 -> 0.1295 | G16: (건강보험료)*요율
A17: 다-6 퇴직공제부금비 | B17: =C17+D17 -> #REF! | D17: ='원가계산서(설치)'!B16 -> #REF! | F17: ='원가계산서(설치)'!C16 -> 0.023 | G17: (직노)*요율
A18: 다-7 산업안전보건관리비 | B18: =C18+D18 -> #REF! | D18: ='원가계산서(설치)'!B17 -> #REF! | F18: 0.0311 | G18: (재료비+직노)*요율
A19: 다-8 기타경비 | B19: =C19+D19 -> #REF! | D19: ='원가계산서(설치)'!B18 -> #REF! | F19: 0.046 | G19: (재료비+노무비)*요율
A20: 다-9 환경보전비 | B20: =C20+D20 -> 0 | D20: 0
A21: 2. 일반관리비 | B21: =C21+D21 -> #REF! | C21: =#REF! -> #REF! | D21: ='원가계산서(설치)'!B20 -> #REF! | E21: =#REF! -> #REF! | F21: 0.08 | G21: [1]*요율
A22: 3. 이 윤 | B22: =C22+D22 -> #REF! | C22: =#REF! -> #REF! | D22: ='원가계산서(설치)'!B21 -> #REF! | E22: =#REF! -> #REF! | F22: 0.15 | G22: =K22&L22
A23: 4. 총 공사원가 | B23: =C23+D23 -> #REF! | C23: =#REF! -> #REF! | D23: ='원가계산서(설치)'!B22 -> #REF! | G23: [1]+[2]+[3]
A24: 5. S/W FEE | B24: =C24+D24 -> #REF! | C24: =#REF! -> #REF! | D24: 0
A25: 6. 소 계 | B25: =C25+D25 -> #REF! | C25: =#REF! -> #REF! | D25: ='원가계산서(설치)'!B22 -> #REF!
A26: 7. 부가가치세 | B26: =C26+D26 -> #REF! | C26: =#REF! -> #REF! | D26: ='원가계산서(설치)'!B23 -> #REF! | G26: [4]의*10%
A27: 8. 총 계 | B27: =C27+D27 -> #REF! | C27: =#REF! -> #REF! | D27: ='원가계산서(설치)'!B24 -> #REF!

Sheet 공사 원가
A1: =갑지!C5 -> 사 업 명 : 슬러지2처리장 생농축조 저류조 슬러지수집기(B호기) 전기공사
A2: 비 목 | B2: 구 분 | C2: 설 계 금 액 | D2: 적 용 요 율
A3: 재 료 비 | B3: 직 접 재 료 비 | C3: =총괄내역서!F11 -> 0
B4: 간 접 재 료 비
B5: [ 소 계 ] | C5: =SUM(C3:C4) -> 0
A6: 노 무 비 | B6: 직 접 노 무 비 | C6: =총괄내역서!H10 -> 0
B7: 간 접 노 무 비 | C7: =TRUNC(C6*F7) -> 0 | D7: 직접노무비 | E7: x | F7: 0.15
B8: [ 소 계 ] | C8: =SUM(C6:C7) -> 0
A9: 경 비 | B9: 경 비 | C9: 0
A10: 제 경 비 | B10: 산 재 보 험 료 | C10: =TRUNC(C8*F10) -> 0 | D10: 노무비 | E10: x | F10: 0.0356
B11: 고 용 보 험 료 | C11: =TRUNC(C8*F11) -> 0 | D11: 노무비 | E11: x | F11: 0.0101
B12: 건 강 보 험 료 | C12: =TRUNC(C6*F12) -> 0 | D12: 직접노무비 | E12: x | F12: 0.03595
B13: 노 인 장 기 요 양 보 험 료 | C13: =TRUNC(C12*F13) -> 0 | D13: 건강보험료 | E13: x | F13: 0.1314
B14: 연 금 보 험 료 | C14: =TRUNC(C6*F14) -> 0 | D14: 직접노무비 | E14: x | F14: 0.0475
B15: 퇴 직 공 제 부 금 비 | C15: =TRUNC(C3*F15) -> 0 | D15: 직접노무비 | E15: x | F15: 0.023
B16: 산 업 안 전 보 건 관 리 비 | C16: =TRUNC((C5+C6)*F16) -> 0 | D16: (재료비+직접노무비) | E16: x | F16: 0.0311
B17: 기 타 경 비 | C17: =TRUNC((C5+C8)*F17) -> 0 | D17: (재료비+노무비) | E17: x | F17: 0.05
B18: 환 경 보 전 비 | C18: =TRUNC((C5+C6+C9)*F18) -> 0 | D18: (재료비+직접노무비+산출경비) | E18: x | F18: 0.005
B19: 하 도 급 대 금 지 급 보증 수 수 료 | C19: =TRUNC((C5+C6+C9)*F19) -> 0 | D19: (재료비+직접노무비+산출경비) | E19: x | F19: 0.00081
B20: 건설기계대여대금 지급보증액 발급금액 | C20: =TRUNC((C8+C11)*F20) -> 0 | D20: (재료비+직접노무비+산출경비) | E20: x | F20: 0.001
B21: 석 면 분 담 금 | C21: =TRUNC(C8*F21) -> 0 | D21: [노무비]×율 | E21: x | F21: 6e-05
B22: 임 금 채 권 부 담 금 | C22: =TRUNC(C8*F22) -> 0 | D22: [노무비]×율 | E22: x | F22: 0.0009
B23: [ 소 계 ] | C23: =SUM(C10:C22) -> 0
A24: (재료비 + 노무비+경비 + 제경비)의 계 | C24: =SUM(C5,C8,C23) -> 0 | D24: (재료비+노무비+경비+제경비)
A25: 일 반 관 리 비 | C25: =TRUNC(C24*F25) -> 0 | D25: (재료비+노무비+경비+제경비) | E25: x | F25: 0.08
A26: 이 윤 | D26: (노무비+경비+제경비+일반관리비) | E26: x | F26: 0.15
A27: 고 재 처 리 | C27: =총괄내역서!F14 -> 0
A28: 공 급 가 액 | D28: (계+일반관리비+이윤) / 천단위 절사
A29: 부 가 가 치 세 | C29: =TRUNC(C28*F29) -> 0 | D29: 공급가액 | E29: x | F29: 0.1
A30: 도급비 | C30: =SUM(C28:C29) -> 0 | I30: =I31-C31 -> 15490000
A31: 총공사비 | C31: =C30 -> 0 | I31: 15490000

Sheet 총괄내역서
B1: 총 괄 내 역 서(제 조)
B2: =갑지!C5 -> 사 업 명 : 슬러지2처리장 생농축조 저류조 슬러지수집기(B호기) 전기공사
B3: 공 종 | C3: 수량 | D3: 단위 | E3: 재 료 비 | G3: 노 무 비 | I3: 경 비
E4: 단 가 | F4: 금 액 | G4: 단 가 | H4: 금 액 | I4: 단 가 | J4: 금 액
B5: =내역서!B5 -> 1. M4501C 슬러지수집기 현장조작반 구매 | C5: 1 | D5: 식
B7: 계
B8: 2. 설치 및 철거 | C8: 1 | D8: 식
B10: 계
B11: 합 계
B12: 3. 고재처리 | C12: 1 | D12: 식
B14: 계

Sheet 내역서
B1: 내 역 서(제 조)
B2: =갑지!C5 -> 사 업 명 : 슬러지2처리장 생농축조 저류조 슬러지수집기(B호기) 전기공사
B3: 공 종 | C3: 규 격 | D3: 수량 | E3: 단위 | F3: 재 료 비 | H3: 노 무 비 | J3: 경 비 | L3: 합 계 | M3: 일위대가 적용
F4: 단 가 | G4: 금 액 | H4: 단 가 | I4: 금 액 | J4: 단 가 | K4: 금 액
B5: 1. M4501C 슬러지수집기 현장조작반 구매
A6: 43 | B6: =VLOOKUP($A6,#REF!,2,FALSE) -> #REF!
B8: 합 계
B9: 2. 설치 및 철거
A10: 1
A11: 36
A12: 37
A13: 38
A14: 39
A15: 40
A16: 41
B22: 합 계
B23: 3. 고재처리
A24: 42
B28: 합 계 | G28: =SUM(G24:G27) -> 0 | L28: =SUM(L24:L27) -> 0

Sheet 원가계산서(설치)
A1: 원 가 계 산 서(설치)
A3: =갑지!C5 -> 사 업 명 : 슬러지2처리장 생농축조 저류조 슬러지수집기(B호기) 전기공사
A4: 비 목 | B4: 금 액 | C4: 요 율 | D4: 산 출 근 거
A5: 1. 순 공사원가 | B5: =SUM(B6,B7,B10) -> #REF!
A6: 가. 재료비 | B6: ='총괄내역서(설치)'!F16 -> #REF!
A7: 나. 노무비 | B7: =SUM(B8:B9) -> #REF!
A8: 나-1 직접노무비 | B8: ='총괄내역서(설치)'!H16 -> #REF!
A9: 나-2 간접노무비 | B9: =INT(B8*C9) -> #REF! | C9: 0.15 | D9: (직노)*요율
A10: 다. 경비 | B10: =SUM(B11:B19) -> #REF!
A11: 다-1 산재보험료 | B11: =INT(B7*C11) -> #REF! | C11: 0.0356 | D11: (노무비)*요율
A12: 다-2 고용보험료 | B12: =INT(B7*C12) -> #REF! | C12: 0.0101 | D12: (노무비)*요율
A13: 다-3 건강보험료 | B13: =INT(B8*C13) -> #REF! | C13: 0.03545 | D13: (직노)*요율
A14: 다-4 연금보험료 | B14: =INT(B8*C14) -> #REF! | C14: 0.045 | D14: (직노)*요율
A15: 다-5 노인장기보험료 | B15: =INT(B13*C15) -> #REF! | C15: 0.1295 | D15: (건강보험료)*요율
A16: 다-6 퇴직공제부금비 | B16: =INT(B8*C16) -> #REF! | C16: 0.023 | D16: (직노)*요율
A17: 다-7 산업안전보건관리비 | B17: =INT(((B6+B8)*C17)) -> #REF! | C17: 0.0207 | D17: (재료비+직노)*요율
A18: 다-8 기타경비 | B18: =INT((B6+B7)*C18) -> #REF! | C18: 0.046 | D18: (재료비+노무비)*요율
A19: 다-9 환경보전비
A20: 2. 일반관리비 | B20: =INT(B5*C20) -> #REF! | C20: 0.08 | D20: [1]*요율
A21: 3. 이 윤 | B21: =INT(((B7+B10)+B20)*C21)-904 -> #REF! | C21: 0.15 | D21: =H21&I21
A22: 4. 총 공사원가 | B22: =SUM(B5,B20,B21) -> #REF! | D22: [1]+[2]+[3]
A23: 5. 부가가치세 | B23: =INT(B22*10%) -> #REF! | D23: [4]의*10%
A24: 6. 총 계 | B24: =SUM(B22:B23) -> #REF!

Sheet 총괄내역서(설치)
B1: 총 괄 내 역 서(제 조)
B2: =갑지!C5 -> 사 업 명 : 슬러지2처리장 생농축조 저류조 슬러지수집기(B호기) 전기공사
B3: 공 종 | C3: 수량 | D3: 단위 | E3: 재 료 비 | G3: 노 무 비 | I3: 경 비 | K3: 합 계
E4: 단 가 | F4: 금 액 | G4: 단 가 | H4: 금 액 | I4: 단 가 | J4: 금 액
B5: ='내역서(설치)'!B5 -> 1. 설치 및 철거 | C5: 1 | D5: 식 | E5: ='내역서(설치)'!G20 -> #REF! | F5: =$C5*E5 -> #REF! | G5: ='내역서(설치)'!I20 -> #REF! | H5: =$C5*G5 -> #REF! | I5: 0 | J5: =$C5*I5 -> 0 | K5: =F5+H5+J5 -> #REF!
B8: ='내역서(설치)'!B25 -> 2. 고재처리 | C8: 1 | D8: 식 | E8: ='내역서(설치)'!G40 -> #REF! | F8: =$C8*E8 -> #REF! | H8: =$C8*G8 -> 0 | K8: =F8+H8+J8 -> #REF!
F16: =SUM(F5:F15) -> #REF! | H16: =SUM(H5:H15) -> #REF! | J16: =J6 -> 0 | K16: =SUM(K5:K15) -> #REF!

Sheet 내역서(설치)
B1: 내 역 서(설 치)
B2: =갑지!C5 -> 사 업 명 : 슬러지2처리장 생농축조 저류조 슬러지수집기(B호기) 전기공사
B3: 공 종 | C3: 규 격 | D3: 수량 | E3: 단위 | F3: 재 료 비 | H3: 노 무 비 | J3: 경 비 | L3: 합 계 | M3: 일위대가 적용
F4: 단 가 | G4: 금 액 | H4: 단 가 | I4: 금 액 | J4: 단 가 | K4: 금 액
B5: 1. 설치 및 철거
A6: 1 | B6: =VLOOKUP($A6,#REF!,2,FALSE) -> #REF! | C6: =VLOOKUP($A6,#REF!,3,FALSE) -> #REF! | D6: 1 | E6: =VLOOKUP($A6,#REF!,4,FALSE) -> #REF! | G6: =D6*F6 -> 0 | H6: =VLOOKUP($A6,#REF!,7,FALSE) -> #REF! | I6: =$D6*H6 -> #REF! | L6: =SUM(K6,I6,G6) -> #REF! | M6: =VLOOKUP($A6,#REF!,1,FALSE) -> #REF!
A7: 36 | B7: =VLOOKUP($A7,#REF!,2,FALSE) -> #REF! | C7: =VLOOKUP($A7,#REF!,3,FALSE) -> #REF! | D7: 20 | E7: =VLOOKUP($A7,#REF!,4,FALSE) -> #REF! | F7: =VLOOKUP($A7,#REF!,6,FALSE) -> #REF! | G7: =D7*F7 -> #REF! | H7: =VLOOKUP($A7,#REF!,7,FALSE) -> #REF! | I7: =$D7*H7 -> #REF! | L7: =SUM(K7,I7,G7) -> #REF! | M7: =VLOOKUP($A7,#REF!,1,FALSE) -> #REF!
A8: 37 | B8: =VLOOKUP($A8,#REF!,2,FALSE) -> #REF! | C8: =VLOOKUP($A8,#REF!,3,FALSE) -> #REF! | D8: 20 | E8: =VLOOKUP($A8,#REF!,4,FALSE) -> #REF! | F8: =VLOOKUP($A8,#REF!,6,FALSE) -> #REF! | G8: =D8*F8 -> #REF! | H8: =VLOOKUP($A8,#REF!,7,FALSE) -> #REF! | I8: =$D8*H8 -> #REF! | L8: =SUM(K8,I8,G8) -> #REF! | M8: =VLOOKUP($A8,#REF!,1,FALSE) -> #REF!
A9: 38 | B9: =VLOOKUP($A9,#REF!,2,FALSE) -> #REF! | C9: =VLOOKUP($A9,#REF!,3,FALSE) -> #REF! | D9: 20 | E9: =VLOOKUP($A9,#REF!,4,FALSE) -> #REF! | F9: =VLOOKUP($A9,#REF!,6,FALSE) -> #REF! | G9: =D9*F9 -> #REF! | H9: =VLOOKUP($A9,#REF!,7,FALSE) -> #REF! | I9: =$D9*H9 -> #REF! | L9: =SUM(K9,I9,G9) -> #REF! | M9: =VLOOKUP($A9,#REF!,1,FALSE) -> #REF!
A10: 39 | B10: =VLOOKUP($A10,#REF!,2,FALSE) -> #REF! | C10: =VLOOKUP($A10,#REF!,3,FALSE) -> #REF! | D10: 1 | E10: =VLOOKUP($A10,#REF!,4,FALSE) -> #REF! | F10: =VLOOKUP($A10,#REF!,6,FALSE) -> #REF! | G10: =D10*F10 -> #REF! | H10: =VLOOKUP($A10,#REF!,7,FALSE) -> #REF! | I10: =$D10*H10 -> #REF! | L10: =SUM(K10,I10,G10) -> #REF! | M10: =VLOOKUP($A10,#REF!,1,FALSE) -> #REF!
B20: 합 계 | G20: =SUM(G6:G19) -> #REF! | I20: =SUM(I6:I19) -> #REF! | K20: =SUM(K10:K10) -> 0 | L20: =SUM(L6:L19) -> #REF!
B24: 합 계 | G24: =SUM(G23:G23) -> 0 | I24: =SUM(I23:I23) -> 0 | L24: =SUM(L23:L23) -> 0
B25: 2. 고재처리
A26: 40 | B26: =VLOOKUP($A26,#REF!,2,FALSE) -> #REF! | C26: =VLOOKUP($A26,#REF!,3,FALSE) -> #REF! | D26: =#REF! -> #REF! | E26: =VLOOKUP($A26,#REF!,4,FALSE) -> #REF! | F26: =VLOOKUP($A26,#REF!,6,FALSE) -> #REF! | G26: =D26*F26 -> #REF! | H26: =VLOOKUP($A26,#REF!,7,FALSE) -> #REF! | I26: =$D26*H26 -> #REF! | L26: =SUM(K26,I26,G26) -> #REF! | M26: =VLOOKUP($A26,#REF!,1,FALSE) -> #REF!
B40: 합 계 | G40: =SUM(G26:G39) -> #REF! | I40: =SUM(I26:I39) -> #REF! | K40: =SUM(K10:K39) -> 0 | L40: =SUM(L26:L39) -> #REF!

Sheet 유량GATE WAY_SW산출근거
L1: * 한국소프트웨어산업협회
A2: [ GATEWAY APPLICATION ] 휘경C증압반 유량감시시스템 | L2: 2015년 S/W사업 대가산정 가이드
A3: 구분 | B3: 개 발 공 정 | C3: 총기능점수 | D3: 점수당 단가 | E3: 보정전 개발원가 | F3: 보정계수 | L3: 개발 금액
F4: 규모별 | G4: 어플리케이션 | H4: 개발언어별 | I4: 품질및특성 | J4: SW 친숙도 수준 | K4: 적용계수
B5: [표3-22] | C5: ① | D5: ② | E5: ③=①*② | F5: ⓐ | G5: ⓑ | H5: ⓒ | I5: ⓓ | J5: ⓔ | K5: ④=ⓐ*ⓑ*ⓒ*ⓓ | L5: ③*④
A6: 기능점수방식 | B6: 상세요구분석 | D6: 98648 | E6: =INT(C6*D6) -> 0 | F6: =E15 -> 0.65 | G6: =E16 -> 1.7 | I6: =E18 -> 1 | J6: =E19 -> 0.6 | K6: =F6*G6*I6 -> 1.105 | L6: =E6*K6 -> 0
B7: 설 계 | D7: 124609 | E7: =INT(C7*D7) -> 0 | F7: =E15 -> 0.65 | G7: =E16 -> 1.7 | I7: =E18 -> 1 | J7: =E19 -> 0.6 | K7: =F7*G7*I7 -> 1.105 | L7: =E7*K7 -> 0
B8: 구 현 | C8: 1 | D8: 166145 | E8: =INT(C8*D8) -> 166145 | F8: =E15 -> 0.65 | G8: =E16 -> 1.7 | H8: =E17 -> 0.8 | I8: =E18 -> 1 | J8: =E19 -> 0.6 | K8: =F8*G8*H8*I8*J8 -> 0.5304 | L8: =INT(E8*K8) -> 88123
B9: 시 험 | C9: 1 | D9: 129801 | E9: =INT(C9*D9) -> 129801 | F9: =E15 -> 0.65 | G9: =E16 -> 1.7 | H9: =E17 -> 0.8 | I9: =E18 -> 1 | J9: =E19 -> 0.6 | K9: =F9*G9*H9*I9*J9 -> 0.5304 | L9: =INT(E9*K9) -> 68846
A10: 계 | D10: =SUM(D6:D9) -> 519203 | L10: =SUM(L6:L9) -> 156969
B11: 기능 점수 | C11: 총 기 능 점 수 | E11: ='유량GATE WAT_기능점수'!D31 -> #REF!
B15: 보정 계수 | C15: 1) 기능점수 규모별 | E15: 0.65 | F15: (300기능점수미만) | K15: [표3-23]
C16: 2) 어플리케이션별 | E16: 1.7 | F16: (시스템용) | K16: [표3-24]
C17: 3) 개발언어별 | E17: 0.8 | F17: (Visual Basic) | K17: [표3-26]
C18: 4) 품질 및 특성 | E18: 1 | F18: =0.025 * 총 영향도(0) + 1 | K18: [표3-29]
C19: 5) SW 친숙도 수준 | E19: 0.6 | F19: (약간 친숙함) | K19: [표4-32]

Sheet 유량GATE WAT_기능점수
A1: [ GATEWAY APPLICATION ] 휘경C증압반 유량감시시스템
A2: NO. | B2: 프로그램 모듈 | C2: 기 능 명 | D2: 테이터 기능수 | F2: 트랜잭션 기능수 | K2: 비 고
D3: 내 부 | E3: 외 부 | F3: 외 부 입 력 | I3: 외 부 | J3: 외 부
D4: 논리파일 | E4: 연계파일 | F4: 입 력 | G4: 수 정 | H4: 삭 제 | I4: 출 력 | J4: 조 회
D5: ( ILF ) | E5: ( ELF ) | F5: ( EI ) | I5: ( EO ) | J5: ( EQ )
A6: 1 | B6: 입력처리 | C6: 등 록
C7: 수 정
C8: 삭 제
C9: 출 력
C10: 조 회
C11: 디지털 입력 | F11: 1
C12: 아날로그 입력 | F12: =#REF! -> #REF!
A13: 2 | B13: 출력처리 | C13: 등 록
C14: 수 정
C15: 삭 제
C16: 출 력
C17: 조 회
C18: 디지털 출력 | F18: =#REF! -> #REF!
C19: 아날로그 출력 | F19: =#REF! -> #REF!
A20: 3 | B20: 통신처리 | C20: 등 록
C21: 수 정
C22: 삭 제
C23: 출 력
C24: 조 회
C25: 수동 회로
C26: 자동 회로
B27: 소 계 | D27: =SUM(D6:D26) -> 0 | E27: =SUM(E6:E26) -> 0 | F27: =SUM(F6:F26) -> #REF! | G27: =SUM(G6:G26) -> 0 | H27: =SUM(H6:H26) -> 0 | I27: =SUM(I6:I26) -> 0 | J27: =SUM(J6:J26) -> 0
B28: 계 | D28: =D27 -> 0 | E28: =E27 -> 0 | F28: =F27+G27+H27 -> #REF! | I28: =I27 -> 0 | J28: =J27 -> 0
B29: 가 중 치 | C29: [ 표3-19 ] | D29: 7.5 | E29: 5.4 | F29: 4 | I29: 5.2 | J29: 3.9
B30: 기 능 점 수 | C30: 계x가중치 | D30: =D28*D29 -> 0 | E30: =E28*E29 -> 0 | F30: =F28*F29 -> #REF! | I30: =I28*I29 -> 0 | J30: =J28*J29 -> 0
B31: 총 기 능 점 수 | D31: =SUM(D30:J30) -> #REF!

Sheet Module1

Sheet 유량기능목록
A2: ● 서울시 상수도 사업본부 유량감시시스템 기능목록표 ●
A3: 단위업무명 | B3: 주요기능 | C3: 세부기능 | D3: 내용 | E3: 외부입력(EI) | H3: EO | I3: EQ | J3: ILF | K3: EIF
E4: 입력 | F4: 수정 | G4: 삭제 | H4: 출력 | I4: 외조 | J4: 내부논리 | K4: 외부연계
A5: 수도사업소 | B5: 각 수도사업소 | C5: 계통도 | D5: 구역유량 계통도
D6: 가압장/배수지 개통도
C7: 배관망 개요도
C8: 유량감시 Report | D8: 순시
D9: 일보
D10: 월보
D11: 연보
B12: 주/월간 유량현황
B13: 심야시간 유량비교
A14: 시스템관리 | B14: 사용자 관리 | C14: 관리자조회
B15: 측정항목관리 | C15: 측정항목관리 | D15: 1차 보정값 입력
D16: 2차 보정값 입력
C17: 수동검침 값 관리 | D17: 수도사업소 검침값 입력
D18: 정수사업소 검침값 입력
C19: 블록관리 | F19: 1 | I19: 1
C20: 유수율 현황관리
C21: 측정상태관리
B22: 시설현황관리 | C22: 수도사업소 | D22: 대 배수지
D23: 가압장
D24: 소 배수지
D25: 유량계 | F25: 1
D26: 펌프
C27: 정수사업소 | D27: 정수지
D28: 취송수펌프실
D29: 유량계
D30: 펌프
A31: 실시간감시 | B31: 실시간유량감시 | I31: 1 | J31: 1
A32: 게시판 | B32: 업무공지
B33: 자료실
B34: 자유게시판
A35: 합계 | E35: =SUM(E5:E34) -> 0 | F35: =SUM(F5:F34) -> 2 | G35: =SUM(G5:G34) -> 0 | H35: =SUM(H5:H34) -> 0 | I35: =SUM(I5:I34) -> 2 | J35: =SUM(J5:J34) -> 1 | K35: =SUM(K5:K34) -> 0
A36: 평균복잡도 | E36: 4 | F36: 4 | G36: 4 | H36: 5.2 | I36: 3.9 | J36: 7.5 | K36: 5.4
A37: 기능점수 소계 | E37: =E36*E35 -> 0 | F37: =F36*F35 -> 8 | G37: =G36*G35 -> 0 | H37: =H36*H35 -> 0 | I37: =I36*I35 -> 7.8 | J37: =J36*J35 -> 7.5 | K37: =K36*K35 -> 0
A38: 기능점수 총계 | E38: =SUM(E37:J37) -> 23.3

Sheet WEB및DB 원가산출
A2: 내곡증압반 유량감시시스템 정비
A4: 1. 개발원가 산출
A8: [표3-22 ] 단계별 기능점수당 단가(SW사업 대가산정 가이드(2014 개정판))
L9: ( 단위 : 원 )
B10: 단 계 | E10: 분 석 | G10: 설 계 | I10: 구 현 | K10: 시 험 | M10: 계
B11: 기능점수당 단가 | E11: 98648 | G11: 124609 | I11: 166145 | K11: 129801 | M11: =SUM(E11:L11) -> 519203
A13: A. 보정계수
A14: 가. 언어
D15: 적 용 : 0.8
D16: [ 표 3-26 ] 언어 보정계수
B17: 언어 구분 | K17: 보정계수 | L17: 적용비율 | M17: 언어보정계수
B18: Assembly,기계어, 자연어 | K18: 1.9
B19: C, CHILL, C++, JAVA, C#, PROLOG, Unix Shell Scripts | K19: 1.2
B20: COBOL, FORTRAN, PL/1, PASCAL, Ada | K20: 1
B21: ABAP4, Delphi, HTML, Power Builder, Program Generator, Qeury default, Small Talk, SQL, Visual Basic, Statistical default, XML default, Script default(JSP,ASP, PHP 등) | K21: 0.8 | L21: 100 | M21: 0.8
B22: EXCEL, Spreadsheed default, Screen painter default | K22: 0.6
B23: 합계 | M23: 0.8
A26: 나. 보정계수
B28: * 기능점수의 경우 300기능점수 미만은 0.65적용
B29: 적 용 : 0.65
A33: 다. 어플리케이션 유형 보정계수 (APP)
D35: 적 용 : 1.0
D36: [ 표 3-24 ] 어플리케이션 유형 보정계수
D37: 어플리케이션 유형 | J37: 보 정 계 수
D38: 업무처리용 | J38: 1
D39: 과학기술용 | J39: 1.2
D40: 멀티미디어용 | J40: 1.3
D41: 지능정보용 | J41: 1.7
D42: 시스템용 | J42: 1.7
D43: 통신제어용 | J43: 1.9
D44: 공정제어용 | J44: 2
D45: 지휘통제용 | J45: 2.2
A51: 라. 품질 및 특성보정 계수
D53: 적 용 : 1.000
D54: [ 표3-28 ] 품질 및 특성 보정계수
A55: 보정요소 | E55: 판단기준 | M55: 영향도 | N55: 총영향도
A56: 분산처리 | B56: 어플리케이션이 구성요소간에 데이터를 전송하는 정도 | E56: 분산처리에대한 요구사항이 ㅣ명시되지 않음 | M56: 0 | N56: 0
E57: 클라이언드/서버 및 웹 기반 어플리케이션과 같이 분산 처리와 자료 전송이 온라인으로 수행됨 | M57: 1
E58: 어플리케이션상의 처리기능이 복수개의 서버 또는 프로세서상에서 동적으로 상호 수행됨 | M58: 2
A59: 성능 | B59: 응답시간 또는 처리율에 대한 사용자 요구수준 | E59: 성능데 대한 특별한 요구사항이나 활동이 명시되지 않으며, 기본적인 성능이 제공됨 | M59: 0 | N59: 0
E60: 응답시간 또는 처리율이 피크타임 또는 모든 업무시간에 중요함. 연동시스템의 처리 마감시간에 대한 제한이 있음. | M60: 1
E61: 성능 요구사항을 만족하기 우해 설계 단계에서부터 성능 분석이 요구되거나, 설계.개발.구현 단계에서 성능 분석도구가 사용됨 | M61: 2
A62: 신뢰성 | B62: 장애시 미치는 영향의 정도 | E62: 신뢰성에 대한 요구사항이 명시되지 않으며, 기본적인 신뢰성이 제공됨 | M62: 0 | N62: 0
E63: 고장시 쉽게 복구 가능한 수준의 약간 불편한 손실이 발생함. | M63: 1
E64: 고장시 복구가 어려우며, 재정적 손실이 많이 발생하거나, 인명피해 위험이 있음 | M64: 2
A65: 다중사이트 | B65: 상이한 하드웨어와 소프트웨어 환경을 지원하도록 개발되는 정도 | E65: 설계단계에서 하나의 설치 사이트에 대한 요구사항만 고려됨. 어플리케이션이 동일한 하드웨어 또는 소프트웨어 환경하에서만 운영되도록 설계됨 | M65: 0 | N65: 0
E66: 설계단계에서 하나 이상의 설치 사이트에 대한 요구사항이 고려됨. 어플리케이션이 유사한 하드웨어 또는 소프트웨어 환경하에서만 운영되도록 설계됨 | M66: 1
E67: 설계단계에서 하나 이상의 설치 사이트에 대한 요구사항이 고려됨. 어플리케이션이 상이한 하드웨어 및 소프트웨어 환경하에서 동작하도록 설계됨 | M67: 2
A69: 품질 및 보정 특성 계수 | M69: 1
B71: * 품질 및 특성 보정계수 = 0.025 * 총 영향도 + 1
B72: 총영향도 = 분산처리 영향도 + 성능 영향도 + 신뢰성 영향도 + 다중사이트 영향도
A77: 마. 개발 원가
A79: 공정 | C79: 기능점수 | F79: 단계별 단가 | H79: 보 정 계 수 | M79: 개발원가
H80: 언어 | I80: 규모 | K80: APP | L80: 품질
A81: 분석 | C81: 23.3 | F81: =E11 -> 98648 | H81: 0.8 | I81: 0.65 | K81: 1 | L81: =M69 -> 1 | M81: =C81*F81*H81*I81*K81*L81 -> 1195219.2
A82: 설계 | F82: =G11 -> 124609 | H82: 0.8 | M82: =C81*F82*H81*I81*K81*L81 -> 1509762.6
A83: 구현 | F83: =I11 -> 166145 | H83: 0.8 | M83: =C81*F83*H83*I81*K81*L81 -> 2013012.8
A84: 시험 | F84: =K11 -> 129801 | H84: 0.8 | M84: =C81*F84*H84*I81*K81*L81 -> 1572668.9
A85: 합계 | M85: =SUM(M81:N84) -> 6290663.5
A87: = 기능점수 * 기능점수당 단가 * 언어보정계수 * 규모보정계수 * 유형보정계수 * 품질및 특성보정계수
A89: 2. 재개발율 산정
A91: 가. 총변경율
A92: [표4-29] 설계변경율 및 총 변경율 계산
A93: 총 변경율 계산 구성요소 | H93: 가중치 | K93: 변경율
A94: 설계변경율 | C94: 사용자인터페이스(UI) | H94: 0.25 | K94: 0
C95: 업무처리로직(BL) | H95: 0.45 | K95: 0
C96: 데이터처리로직(DL) | H96: 0.3 | K96: 25
C97: 계 | H97: 1 | K97: =(K94*H94) + (K95*H95) + (K96*H96) -> 7.5
A98: 코드변경율 | H98: 0.3 | K98: =K97*H98 -> 2.25
A99: 통합및 시험 변경율 | H99: 0.3 | K99: =K98*H99 -> 0.675
A100: 총 변경율 = | M100: =(0.4*K97) + (0.3*K98) + (0.3 *K99) -> 3.8775
A102: 1. 설계변경율 = (0.25 * UI변경율) + (0.45 * BL변경율) + (0.3 * DL변경율)
A103: 2. 코드변경율 = 설계변경율 * 가중치(코드변경율이 설계변경율의 몇배인지판단)
A104: 3. 통합 및 시험 변경율 = 코드변경율 * 가중치 (통합 및 시험 변경율이 코드변경율의 몇 배인지 판단)
A105: 4. 총변경율 = (0.4 * 설계변경율) + (0.3 * 코드변경율) + (0.3 * 통합및 시험변경율)
A109: 나. 재사용 소프트웨어 평가
A111: [표4-30] 재사용 소프트웨어 평가 노력수준 판단
A112: 재사용 소프트웨어 평가 노력 수준 | G112: 재사용 소프트웨어 평가 노력 수준에 대한 설명
A113: 0 | G113: 평가 노력 없음
A114: 2 | G114: 기본 모듈의 조사, 결과 문서 작성
A115: 4 | G115: 다소의 모듈 시험과 평가, 결과 문서, 작성
A116: 6 | G116: 상당한 모듈 시험과 평가, 결과 문서 작성
A117: 8 | G117: 광범위한 모듈 시험과 평가, 결과 문서 작성
A134: 다. 재사용 난이도
A135: [별표17] 재사용 난이도 수준 판단
B136: 구분 | D136: 매우낮음 | F136: 낮음 | H136: 보통 | J136: 높음 | L136: 매우높음
B137: 재사용 프로그램의 구조화 정도 | D137: 비구조적 소스코드로 매우 낮은 응집도에 매우 높은 결합도를 가짐(일명 스파게티 코드) | F137: 일부 소스코드가 구조화 되어 있으나 대부분 낮은 응집도에높은 결합도를 가짐 | H137: 일부 미흡한 점이 있으나 대부분의 소스코드가 구조화되어, 보통 수준의 응집도와 결합도를 가짐 | J137: 대부분의 소스코드가 잘 구조화 되어, 높은 응집도에 낮은 결합도를 가짐 | L137: 소스코드가 매우 높은 응집도에 매우 낮은 결함도를 가짐( 정보은닉 및 모듈화에 중실한 자료 및 제어 구조)
B138: 재사용 프로그램과 어플리케이션 관계 | D138: 잼사용 프로그과 어플리케이션 간 상관관계가 없음 | F138: 재사용 프로그램과 어플리케이션 간 약간의 상관관계가 있음 | H138: 재사용 프로그램과 어플리케이션 간 보통의 상관관계가 있음 | J138: 재사용 프로그램과 어플리케이션 간 높은 상관관계가 있음 | L138: 재사용 프로그램과 어플리케이션 간 매우 높은 상관관계가 있음
B139: 재사용 프로그램 소스코드의 서술 정도 | D139: 소스코드가 불분명하거나 머리말 설명이 누락되었고, 문서도 거의 없음 | F139: 소스코드에 약간의 머리말 설명과 주석이 있고, 일부분 유용한 문서도 있음 | H139: 소스코드에 보통 수준의 수준의 머리말 설명과 주석이 있고, 보통 수준의 유용한 문서도 있음 | J139: 소스코드에 상당한 수준의 머리말 설명과 주석이 있고, 상당한 수준의 유용한 문서도 있음 | L139: 소스코드에 설계에 근거한 머리말 설명과 주석이 있음은 물론 문서도 매우 훌륭함
B140: 재사용 난이도 | D140: 50 | F140: 40 | H140: 30 | J140: 20 | L140: 10
A142: 라. 재사용 소프트웨어 친숙도
A143: [별표18] 재사용 소프트웨어 친숙도 수준판단
B144: 재사용 소프트웨어 친숙도 수준 | G144: 재사용 소프트웨어 친숙도 수준에 대한 설명
B145: 0 | G145: 완전히 친숙함
B146: 0.2 | G146: 거의 친숙함
B147: 0.4 | G147: 다소 친숙함
B148: 0.6 | G148: 약간 친숙함
B149: 0.8 | G149: 거의 친숙하지 않음
B150: 1 | G150: 완전히 친숙하지 않음
A152: 재개발 소프트웨어 규모 = 재사용 소프트웨어 규모 * [재사용 소프트웨어 평가 노력 + 총변경율 * (1 + 0.02(재사용난이도 * 재사용 소프트웨어 친숙도))] / 100
...

Sheet 물량산출
A1: 수 량 산 출 표
A3: =#REF! -> #REF!
A4: 번호 | B4: 부하명 | C4: 시 점 | D4: 종 점 | E4: 품 명 | F4: 산 출 근 거
F5: 수량산출근거 | G5: F-CV | J5: F-GV | M5: F-CVV | N5: F-CVV | O5: F-CVV SB | P5: 강제전선관 | R5: 후렉시블 전선관 | T5: 알루미늄 TRAY
G6: 2.5㎟ /3C | H6: 4㎟ /3C | I6: 16㎟ /3C | J6: 2.5㎟ | K6: 4㎟ | L6: 16㎟ | M6: 1.5㎟ /3C | N6: 1.5㎟ /5C | O6: 1.5㎟ /2C | P6: 22C | Q6: 28C | R6: 22C | S6: 28C | T6: 150*100
A7: 1) 내곡 증압장 전송제어반 배관배선
A8: 1 | B8: 주펌프#1 | C8: 전송제어반 | D8: 펌프실주펌프1 | E8: 폴리에틸렌 난연케이블 | F8: (3+2+5+3+2+1) | I8: =3+2+5+3+2+1 -> 16 | Q8: 3 | S8: 2
A9: 2 | B9: 주펌프#2 | C9: 전송제어반 | D9: 펌프실주펌프2 | E9: 폴리에틸렌 난연케이블 | F9: (3+2+5+3+2+1) | I9: =3+2+5+3+2+1 -> 16 | Q9: 3 | S9: 2
A10: 3 | B10: 배수펌프 | C10: 전송제어반 | D10: 펌프실배수펌프 | E10: 폴리에틸렌 난연케이블 | F10: (3+2+2+2) | G10: =(3+2+2+2) -> 9 | P10: 2 | R10: 2
A11: 4 | B11: 펌프실 전등 | C11: 전송제어반 | D11: 펌프실배수펌프 | E11: 폴리에틸렌 난연케이블 | F11: (3+2+2+2) | G11: =(3+2+2+2) -> 9 | R11: 2
A12: 4 | B12: 주펌프#1 | C12: 전송제어반 | D12: 펌프실급수펌프1 | E12: 접지용비닐절연전선 | F12: (3+2+5+3+2+1) | L12: =3+2+5+3+2+1 -> 16
A13: 5 | B13: 주펌프#2 | C13: 전송제어반 | D13: 펌프실급수펌프2 | E13: 접지용비닐절연전선 | F13: (3+2+5+3+2+1) | L13: =3+2+5+3+2+1 -> 16
A14: 5 | B14: 메인접지 | C14: 전송제어반 | D14: 접지봉(3봉) | E14: 접지용비닐절연전선 | F14: (2+3+5+2+2+2+2) | L14: =(2+3+5+2+2+2+2) -> 18
A15: 5 | B15: 신호접지 | C15: 전송제어반 | D15: 접지봉(5봉) | E15: 접지용비닐절연전선 | F15: (2+3+5+2+2+2+2+2+2) | L15: =(2+3+5+2+2+2+2+2+2) -> 22
A16: 7 | B16: 급수펌프1,2 | C16: 전송제어반 | D16: 단수감지기 | E16: 폴리에틸레난연제어케이블 | F16: (3+2+5+3+2+1)*2 | M16: =(3+2+5+3+2+1)*2 -> 32 | P16: =Q8*2 -> 6 | R16: =S9*2 -> 4
A17: 8 | B17: 배수펌프 전극봉 | C17: 전송제어반 | D17: 만수침수감지 (전극봉) | E17: 폴리에틸레난연제어케이블 | F17: (3+3+4) | N17: 10 | P17: =P10 -> 2 | R17: 2
A18: 10 | B18: PT(인입) | C18: 전송제어반 | D18: PT | E18: 폴리에틸레난연제어케이블 | F18: (3+2+6+4+2+1) | O18: 13 | P18: 4 | R18: 2
A19: 11 | B19: PT(토출) | C19: 전송제어반 | D19: PT | E19: 폴리에틸레난연제어케이블 | F19: (3+2+3+2+1) | O19: 13 | P19: 3 | R19: 2
A20: 12 | B20: TRAY | C20: 펌프장내 | E20: 150*100 | F20: (5+4+5) | T20: =5+4+5 -> 14
A22: 합 계 | G22: =SUM(G8:G21) -> 18 | H22: =SUM(H8:H21) -> 0 | I22: =SUM(I8:I21) -> 32 | J22: =SUM(J8:J21) -> 0 | K22: =SUM(K8:K21) -> 0 | L22: =SUM(L8:L21) -> 72 | M22: =SUM(M8:M21) -> 32 | N22: =SUM(N8:N21) -> 10 | ... T22: =SUM(T8:T21) -> 14
G23: 10 | I23: 28 | K23: 28 | M23: 28 | N23: 10 | O23: 24 | P23: 25 | Q23: 8 | R23: 14 | S23: 2 | T23: 14

Sheet SW개발원가산출
J1: * 소프트웨어 사업대가의 기준
A2: [ SOFTWARE APPLICATION ] | J2: S/W사업대가 기준 선정 가이드 2023년 _개정판
A3: No | B3: 설비구분 | C3: 기능점수 | D3: 적 용 | E3: 적용기능점수 (%) | F3: 기능점수당 | G3: 개발원가 | H3: 직접경비 | I3: 이윤 (25%이내) | J3: 합 계
F4: 개발원가
D6: 재개발(%)
A7: 1-1 | B7: [ PLC APPLICATION ] 독산배수지 원격감시제어반 제작구매설치 | C7: =PLC_SW산출근거!E11 -> 41.8 | D7: 0.7 | E7: =INT(C7*D7) -> 29 | F7: =HMI_SW산출근거!L10 -> 294660 | G7: =INT(E7*F7) -> 8545140 | I7: =INT(0.25*G7) -> 2136285 | J7: =INT(G7+I7) -> 10681425
A8: 1-2 | B8: [ PLC APPLICATION ] 독산배수지 유입밸브제어반 제작구매설치 | C8: =PLC_SW산출근거!E32 -> 7.5 | D8: 0.7 | E8: =INT(C8*D8) -> 5 | F8: =PLC_SW산출근거!L31 -> 516948 | G8: =INT(E8*F8) -> 2584740 | I8: =INT(0.25*G8) -> 646185 | J8: =INT(G8+I8) -> 3230925
D12: 재개발(%)
A13: 2-1 | B13: [ HMI APPLICATION ] 독산배수지 원격감시제어반 제작구매설치 | C13: =HMI_SW산출근거!E11 -> 34.3 | D13: 0.7 | E13: =INT(C13*D13) -> 24 | F13: =PLC_SW산출근거!L10 -> 516948 | G13: =INT(E13*F13) -> 12406752 | I13: =INT(0.25*G13) -> 3101688 | J13: =INT(G13+I13) -> 15508440
A14: 2-2 | B14: [ HMI APPLICATION ] 독산배수지 유입밸브제어반 제작구매설치 | C14: =HMI_SW산출근거!E32 -> 7.5 | D14: 0.7 | E14: =INT(C14*D14) -> 5 | F14: =HMI_SW산출근거!L31 -> 294660 | G14: =INT(E14*F14) -> 1473300 | I14: =INT(0.25*G14) -> 368325 | J14: =INT(G14+I14) -> 1841625
B24: 소 계 | J24: =SUM(J7:J23) -> 31262415

Sheet HMI_SW산출근거
L1: * 소프트웨어 사업대가의 기준
A2: =HMI_기능점수!A1 -> [ HMI APPLICATION ] 독산배수지 원격감시제어반 제작구매설치 | L2: S/W사업대가 기준 선정 가이드 2023년 _개정판
A3: 구분 | B3: 개 발 공 정 | C3: 총기능점수 | D3: 점수당 단가 | E3: 보정전 개발원가 | F3: 보정계수 | L3: 개발 금액
F4: 규모별 | G4: 연계복잡성 | H4: 성능요구 | I4: 다중사이트 | K4: 적용계수
B5: [표 3-22] | C5: ① | D5: ② | E5: ③=①*② | F5: ⓐ | G5: ⓑ | H5: ⓒ | I5: ⓓ | J5: ⓔ | K5: ④=ⓐ*ⓑ*ⓒ*ⓓ*ⓔ | L5: ③*④
A6: 기능점수방식 | B6: 상세요구분석 | D6: 105092 | E6: =INT(C6*D6) -> 0 | F6: 1.28 | G6: 0.88 | H6: 0.91 | I6: 0.94 | J6: 0.97 | K6: =F6*G6*I6*J6 -> 1.0270515 | L6: =E6*K6 -> 0
B7: 설 계 | D7: 132747 | E7: =INT(C7*D7) -> 0 | F7: 1.28 | G7: 0.88 | H7: 0.91 | I7: 0.94 | J7: 0.97 | K7: =F7*G7*I7*J7 -> 1.0270515 | L7: =E7*K7 -> 0
B8: 구 현 | C8: 1 | D8: 176996 | E8: =INT(C8*D8) -> 176996 | F8: 1.28 | G8: 0.88 | H8: 0.91 | I8: 0.94 | J8: 0.97 | K8: =F8*G8*H8*I8*J8 -> 0.93461688 | L8: =INT(E8*K8) -> 165423
B9: 시 험 | C9: 1 | D9: 138279 | E9: =INT(C9*D9) -> 138279 | F9: 1.28 | G9: 0.88 | H9: 0.91 | I9: 0.94 | J9: 0.97 | K9: =F9*G9*H9*I9*J9 -> 0.93461688 | L9: =INT(E9*K9) -> 129237
A10: 계 | D10: =SUM(D6:D9) -> 553114 | L10: =INT(L6+L7+L8+L9) -> 294660
B11: 기능 점수 | C11: 총 기 능 점 수 | E11: =HMI_기능점수!D31 -> 34.3
B15: 보정 계수 | C15: 1) 기능점수 규모별 | E15: 1.28 | F15: (500FP 미만) | L15: [표 3-23]
C16: 2) 연계복잡성 수준 | E16: 0.88 | F16: (타기관 연계없음) | L16: [표 3-24]
C17: 3) 성능요구 수준 | E17: 0.91 | F17: (응답성능에 대한 특별한 요구사항이 없다) | L17: [표 3-24]
C18: 4) 운영환경호환성 | E18: 0.94 | F18: (다중사이트 운영성에 대한 요구사항이 없다) | L18: [표 3-24]
C19: 5) 보완성요구수준 | E19: 0.97 | F19: (암호화, 웹 취약점 점검, 시큐어코딩, 개인정보 보호 중 1가지 요구사항이 포함되어 있다) | L19: [표 3-24]
L20: * 소프트웨어 사업대가의 기준
A23: =HMI_기능점수!A32 -> [ HMI APPLICATION ] 독산배수지 유입밸브제어반 제작구매설치 | L23: S/W사업대가 기준 선정 가이드 2023년 _개정판
A24: 구분 | B24: 개 발 공 정 | C24: 총기능점수 | D24: 점수당 단가 | E24: 보정전 개발원가 | F24: 보정계수 | L24: 개발 금액
F25: 규모별 | G25: 연계복잡성 | H25: 성능요구 | I25: 다중사이트 | K25: 적용계수
B26: [표 3-22] | C26: ① | D26: ② | E26: ③=①*② | F26: ⓐ | G26: ⓑ | H26: ⓒ | I26: ⓓ | J26: ⓔ | K26: ④=ⓐ*ⓑ*ⓒ*ⓓ*ⓔ | L26: ③*④
A27: 기능점수방식 | B27: 상세요구분석 | D27: 105092 | E27: =INT(C27*D27) -> 0 | F27: 1.28 | G27: 0.88 | H27: 0.91 | I27: 0.94 | J27: 0.97 | K27: =F27*G27*I27*J27 -> 1.0270515 | L27: =E27*K27 -> 0
B28: 설 계 | D28: 132747 | E28: =INT(C28*D28) -> 0 | F28: 1.28 | G28: 0.88 | H28: 0.91 | I28: 0.94 | J28: 0.97 | K28: =F28*G28*I28*J28 -> 1.0270515 | L28: =E28*K28 -> 0
B29: 구 현 | C29: 1 | D29: 176996 | E29: =INT(C29*D29) -> 176996 | F29: 1.28 | G29: 0.88 | H29: 0.91 | I29: 0.94 | J29: 0.97 | K29: =F29*G29*H29*I29*J29 -> 0.93461688 | L29: =INT(E29*K29) -> 165423
B30: 시 험 | C30: 1 | D30: 138279 | E30: =INT(C30*D30) -> 138279 | F30: 1.28 | G30: 0.88 | H30: 0.91 | I30: 0.94 | J30: 0.97 | K30: =F30*G30*H30*I30*J30 -> 0.93461688 | L30: =INT(E30*K30) -> 129237
A31: 계 | D31: =SUM(D27:D30) -> 553114 | L31: =INT(L27+L28+L29+L30) -> 294660
B32: 기능 점수 | C32: 총 기 능 점 수 | E32: =HMI_기능점수!D62 -> 7.5
B36: 보정 계수 | C36: 1) 기능점수 규모별 | E36: 1.28 | F36: (500FP 미만) | L36: [표 3-23]
C37: 2) 연계복잡성 수준 | E37: 0.88 | F37: (타기관 연계없음) | L37: [표 3-24]
C38: 3) 성능요구 수준 | E38: 0.91 | F38: (응답성능에 대한 특별한 요구사항이 없다) | L38: [표 3-24]
C39: 4) 운영환경호환성 | E39: 0.94 | F39: (다중사이트 운영성에 대한 요구사항이 없다) | L39: [표 3-24]
C40: 5) 보완성요구수준 | E40: 0.97 | F40: (암호화, 웹 취약점 점검, 시큐어코딩, 개인정보 보호 중 1가지 요구사항이 포함되어 있다) | L40: [표 3-24]

Sheet HMI_기능점수
A1: [ HMI APPLICATION ] 독산배수지 원격감시제어반 제작구매설치
A2: NO. | B2: 프로그램 모듈 | C2: 기 능 명 | D2: 테이터 기능수 | F2: 트랜잭션 기능수 | K2: 비 고
D3: 내 부 | E3: 외 부 | F3: 외 부 입 력 | I3: 외 부 | J3: 외 부
D4: 논리파일 | E4: 연계파일 | F4: 입 력 | G4: 수 정 | H4: 삭 제 | I4: 출 력 | J4: 조 회
D5: ( ILF ) | E5: ( ELF ) | F5: ( EI ) | I5: ( EO ) | J5: ( EQ )
A6: 1 | B6: 입력처리 | C6: 등 록
C7: 수 정 | D7: 1
C8: 삭 제
C9: 출 력
C10: 조 회
C11: 디지털 입력 | F11: =PLC_기능점수!F11 -> 3.3
C12: 아날로그 입력 | F12: =PLC_기능점수!F12 -> 1.6 | K12: 포인트당 0.1점
A13: 2 | B13: 출력처리 | C13: 등 록
C14: 수 정
C15: 삭 제
C16: 출 력
C17: 조 회
C18: 디지털 출력 | F18: =PLC_기능점수!F18 -> 1.8
C19: 아날로그 출력 | F19: =PLC_기능점수!F19 -> 0
A20: 3 | B20: 통신처리 | C20: 등 록
C21: 수 정
C22: 삭 제
C23: 출 력
C24: 조 회
C25: 시리얼 통신
C26: 이더넷 통신
B27: 소 계 | D27: =SUM(D6:D26) -> 1 | E27: =SUM(E6:E26) -> 0 | F27: =SUM(F6:F26) -> 6.7 | G27: =SUM(G6:G26) -> 0 | H27: =SUM(H6:H26) -> 0 | I27: =SUM(I6:I26) -> 0 | J27: =SUM(J6:J26) -> 0
B28: 계 | D28: =D27 -> 1 | E28: =E27 -> 0 | F28: =F27+G27+H27 -> 6.7 | I28: =I27 -> 0 | J28: =J27 -> 0
B29: 가 중 치 | C29: [ 표3-19 ] | D29: 7.5 | E29: 5.4 | F29: 4 | I29: 5.2 | J29: 3.9
B30: 기 능 점 수 | C30: 계x가중치 | D30: =D28*D29 -> 7.5 | E30: =E28*E29 -> 0 | F30: =F28*F29 -> 26.8 | I30: =I28*I29 -> 0 | J30: =J28*J29 -> 0
B31: 총 기 능 점 수 | D31: =SUM(D30:J30) -> 34.3
A32: [ HMI APPLICATION ] 독산배수지 유입밸브제어반 제작구매설치
A33: NO. | B33: 프로그램 모듈 | C33: 기 능 명 | D33: 테이터 기능수 | F33: 트랜잭션 기능수 | K33: 비 고
D34: 내 부 | E34: 외 부 | F34: 외 부 입 력 | I34: 외 부 | J34: 외 부
D35: 논리파일 | E35: 연계파일 | F35: 입 력 | G35: 수 정 | H35: 삭 제 | I35: 출 력 | J35: 조 회
D36: ( ILF ) | E36: ( ELF ) | F36: ( EI ) | I36: ( EO ) | J36: ( EQ )
A37: 1 | B37: 입력처리 | C37: 등 록
C38: 수 정 | D38: 1
C39: 삭 제
C40: 출 력
C41: 조 회
C42: 디지털 입력 | F42: =PLC_기능점수!F42 -> 0
C43: 아날로그 입력 | F43: =PLC_기능점수!F43 -> 0 | K43: 포인트당 0.1점
A44: 2 | B44: 출력처리 | C44: 등 록
C45: 수 정
C46: 삭 제
C47: 출 력
C48: 조 회
C49: 디지털 출력 | F49: =PLC_기능점수!F49 -> 0
C50: 아날로그 출력 | F50: =PLC_기능점수!F50 -> 0
A51: 3 | B51: 통신처리 | C51: 등 록
C52: 수 정
C53: 삭 제
C54: 출 력
C55: 조 회
C56: 시리얼 통신
C57: 이더넷 통신
B58: 소 계 | D58: =SUM(D37:D57) -> 1 | E58: =SUM(E37:E57) -> 0 | F58: =SUM(F37:F57) -> 0 | G58: =SUM(G37:G57) -> 0 | H58: =SUM(H37:H57) -> 0 | I58: =SUM(I37:I57) -> 0 | J58: =SUM(J37:J57) -> 0
B59: 계 | D59: =D58 -> 1 | E59: =E58 -> 0 | F59: =F58+G58+H58 -> 0 | I59: =I58 -> 0 | J59: =J58 -> 0
B60: 가 중 치 | C60: [ 표3-19 ] | D60: 7.5 | E60: 5.4 | F60: 4 | I60: 5.2 | J60: 3.9
B61: 기 능 점 수 | C61: 계x가중치 | D61: =D59*D60 -> 7.5 | E61: =E59*E60 -> 0 | F61: =F59*F60 -> 0 | I61: =I59*I60 -> 0 | J61: =J59*J60 -> 0
B62: 총 기 능 점 수 | D62: =SUM(D61:J61) -> 7.5

Sheet SW개발원가자료

Sheet PLC_SW산출근거
L1: * 소프트웨어 사업대가의 기준
A2: =PLC_기능점수!A1 -> [ PLC APPLICATION ] 독산배수지 원격감시제어반 제작구매설치 | L2: S/W사업대가 기준 선정 가이드 2023년 _개정판
A3: 구분 | B3: 개 발 공 정 | C3: 총기능점수 | D3: 점수당 단가 | E3: 보정전 개발원가 | F3: 보정계수 | L3: 개발 금액
F4: 규모별 | G4: 연계복잡성 | H4: 성능요구 | I4: 다중사이트 | J4: 보안성수준 | K4: 적용계수
B5: [표 3-22] | C5: ① | D5: ② | E5: ③=①*② | F5: ⓐ | G5: ⓑ | H5: ⓒ | I5: ⓓ | J5: ⓔ | K5: ④=ⓐ*ⓑ*ⓒ*ⓓ*ⓔ | L5: ③*④
A6: 기능점수방식 | B6: 상세요구분석 | C6: 1 | D6: 105092 | E6: =INT(C6*D6) -> 105092 | F6: 1.28 | G6: 0.88 | H6: 0.91 | I6: 0.94 | J6: 0.97 | K6: =F6*G6*H6*I6*J6 -> 0.93461688 | L6: =E6*K6 -> 98220.757
B7: 설 계 | C7: 1 | D7: 132747 | E7: =INT(C7*D7) -> 132747 | F7: 1.28 | G7: 0.88 | H7: 0.91 | I7: 0.94 | J7: 0.97 | K7: =F7*G7*H7*I7*J7 -> 0.93461688 | L7: =E7*K7 -> 124067.59
B8: 구 현 | C8: 1 | D8: 176996 | E8: =INT(C8*D8) -> 176996 | F8: 1.28 | G8: 0.88 | H8: 0.91 | I8: 0.94 | J8: 0.97 | K8: =F8*G8*H8*I8*J8 -> 0.93461688 | L8: =INT(E8*K8) -> 165423
B9: 시 험 | C9: 1 | D9: 138279 | E9: =INT(C9*D9) -> 138279 | F9: 1.28 | G9: 0.88 | H9: 0.91 | I9: 0.94 | J9: 0.97 | K9: =F9*G9*H9*I9*J9 -> 0.93461688 | L9: =INT(E9*K9) -> 129237
A10: 계 | D10: =SUM(D6:D9) -> 553114 | L10: =INT(L6+L7+L8+L9) -> 516948
B11: 기능 점수 | C11: 총 기 능 점 수 | E11: =PLC_기능점수!D31 -> 41.8
B15: 보정 계수 | C15: 1) 기능점수 규모별 | E15: 1.28 | F15: (500FP 미만) | L15: [표 3-23]
C16: 2) 연계복잡성 수준 | E16: 0.88 | F16: (타기관 연계없음) | L16: [표 3-24]
C17: 3) 성능요구 수준 | E17: 0.91 | F17: (응답성능에 대한 특별한 요구사항이 없다) | L17: [표 3-24]
C18: 4) 운영환경호환성 | E18: 0.94 | F18: (다중사이트 운영성에 대한 요구사항이 없다) | L18: [표 3-24]
C19: 5) 보완성요구수준 | E19: 0.97 | F19: (암호화, 웹 취약점 점검, 시큐어코딩, 개인정보 보호 중 1가지 요구사항이 포함되어 있다) | L19: [표 3-24]
L20: * 소프트웨어 사업대가의 기준
A23: =PLC_기능점수!A32 -> [ PLC APPLICATION ] 독산배수지 유입밸브제어반 제작구매설치 | L23: S/W사업대가 기준 선정 가이드 2023년 _개정판
A24: 구분 | B24: 개 발 공 정 | C24: 총기능점수 | D24: 점수당 단가 | E24: 보정전 개발원가 | F24: 보정계수 | L24: 개발 금액
F25: 규모별 | G25: 연계복잡성 | H25: 성능요구 | I25: 다중사이트 | J25: 보안성수준 | K25: 적용계수
B26: [표 3-22] | C26: ① | D26: ② | E26: ③=①*② | F26: ⓐ | G26: ⓑ | H26: ⓒ | I26: ⓓ | J26: ⓔ | K26: ④=ⓐ*ⓑ*ⓒ*ⓓ*ⓔ | L26: ③*④
A27: 기능점수방식 | B27: 상세요구분석 | C27: 1 | D27: 105092 | E27: =INT(C27*D27) -> 105092 | F27: 1.28 | G27: 0.88 | H27: 0.91 | I27: 0.94 | J27: 0.97 | K27: =F27*G27*H27*I27*J27 -> 0.93461688 | L27: =E27*K27 -> 98220.757
B28: 설 계 | C28: 1 | D28: 132747 | E28: =INT(C28*D28) -> 132747 | F28: 1.28 | G28: 0.88 | H28: 0.91 | I28: 0.94 | J28: 0.97 | K28: =F28*G28*H28*I28*J28 -> 0.93461688 | L28: =E28*K28 -> 124067.59
B29: 구 현 | C29: 1 | D29: 176996 | E29: =INT(C29*D29) -> 176996 | F29: 1.28 | G29: 0.88 | H29: 0.91 | I29: 0.94 | J29: 0.97 | K29: =F29*G29*H29*I29*J29 -> 0.93461688 | L29: =INT(E29*K29) -> 165423
B30: 시 험 | C30: 1 | D30: 138279 | E30: =INT(C30*D30) -> 138279 | F30: 1.28 | G30: 0.88 | H30: 0.91 | I30: 0.94 | J30: 0.97 | K30: =F30*G30*H30*I30*J30 -> 0.93461688 | L30: =INT(E30*K30) -> 129237
A31: 계 | D31: =SUM(D27:D30) -> 553114 | L31: =INT(L27+L28+L29+L30) -> 516948
B32: 기능 점수 | C32: 총 기 능 점 수 | E32: =PLC_기능점수!D62 -> 7.5
B36: 보정 계수 | C36: 1) 기능점수 규모별 | E36: 1.28 | F36: (500FP 미만) | L36: [표 3-23]
C37: 2) 연계복잡성 수준 | E37: 0.88 | F37: (타기관 연계없음) | L37: [표 3-24]
C38: 3) 성능요구 수준 | E38: 0.91 | F38: (응답성능에 대한 특별한 요구사항이 없다) | L38: [표 3-24]
C39: 4) 운영환경호환성 | E39: 0.94 | F39: (다중사이트 운영성에 대한 요구사항이 없다) | L39: [표 3-24]
C40: 5) 보완성요구수준 | E40: 0.97 | F40: (암호화, 웹 취약점 점검, 시큐어코딩, 개인정보 보호 중 1가지 요구사항이 포함되어 있다) | L40: [표 3-24]

Sheet PLC_기능점수
A1: [ PLC APPLICATION ] 독산배수지 원격감시제어반 제작구매설치
A2: NO. | B2: 프로그램 모듈 | C2: 기 능 명 | D2: 테이터 기능수 | F2: 트랜잭션 기능수 | K2: 비 고
D3: 내 부 | E3: 외 부 | F3: 외 부 입 력 | I3: 외 부 | J3: 외 부
D4: 논리파일 | E4: 연계파일 | F4: 입 력 | G4: 수 정 | H4: 삭 제 | I4: 출 력 | J4: 조 회
D5: ( ILF ) | E5: ( ELF ) | F5: ( EI ) | I5: ( EO ) | J5: ( EQ )
A6: 1 | B6: 입력처리 | C6: 등 록 | D6: 1
C7: 수 정
C8: 삭 제
C9: 출 력
C10: 조 회
C11: 디지털 입력 | F11: =IO리스트!AF16/10 -> 3.3
C12: 아날로그 입력 | F12: =IO리스트!C16/10 -> 1.6 | K12: 포인트당 0.1점
A13: 2 | B13: 출력처리 | C13: 등 록
C14: 수 정
C15: 삭 제
C16: 출 력
C17: 조 회
C18: 디지털 출력 | F18: =IO리스트!BA16/10 -> 1.8
C19: 아날로그 출력 | F19: =IO리스트!Z16/10 -> 0
A20: 3 | B20: 통신처리 | C20: 등 록
C21: 수 정
C22: 삭 제
C23: 출 력
C24: 조 회
C25: 시리얼 통신
C26: 이더넷 통신 | D26: =IO리스트!BN16 -> 1
B27: 소 계 | D27: =SUM(D6:D26) -> 2 | E27: =SUM(E6:E26) -> 0 | F27: =SUM(F6:F26) -> 6.7 | G27: =SUM(G6:G26) -> 0 | H27: =SUM(H6:H26) -> 0 | I27: =SUM(I6:I26) -> 0 | J27: =SUM(J6:J26) -> 0
B28: 계 | D28: =D27 -> 2 | E28: =E27 -> 0 | F28: =F27+G27+H27 -> 6.7 | I28: =I27 -> 0 | J28: =J27 -> 0
B29: 가 중 치 | C29: [ 표3-19 ] | D29: 7.5 | E29: 5.4 | F29: 4 | I29: 5.2 | J29: 3.9
B30: 기 능 점 수 | C30: 계x가중치 | D30: =D28*D29 -> 15 | E30: =E28*E29 -> 0 | F30: =F28*F29 -> 26.8 | I30: =I28*I29 -> 0 | J30: =J28*J29 -> 0
B31: 총 기 능 점 수 | D31: =SUM(D30:J30) -> 41.8
A32: [ PLC APPLICATION ] 독산배수지 유입밸브제어반 제작구매설치
A33: NO. | B33: 프로그램 모듈 | C33: 기 능 명 | D33: 테이터 기능수 | F33: 트랜잭션 기능수 | K33: 비 고
D34: 내 부 | E34: 외 부 | F34: 외 부 입 력 | I34: 외 부 | J34: 외 부
D35: 논리파일 | E35: 연계파일 | F35: 입 력 | G35: 수 정 | H35: 삭 제 | I35: 출 력 | J35: 조 회
D36: ( ILF ) | E36: ( ELF ) | F36: ( EI ) | I36: ( EO ) | J36: ( EQ )
A37: 1 | B37: 입력처리 | C37: 등 록 | D37: 1
C38: 수 정
C39: 삭 제
C40: 출 력
C41: 조 회
C42: 디지털 입력 | F42: =IO리스트!AF23/10 -> 0
C43: 아날로그 입력 | F43: =IO리스트!C23/10 -> 0 | K43: 포인트당 0.1점
A44: 2 | B44: 출력처리 | C44: 등 록
C45: 수 정
C46: 삭 제
C47: 출 력
C48: 조 회
C49: 디지털 출력 | F49: =IO리스트!BA23/10 -> 0
C50: 아날로그 출력 | F50: =IO리스트!Z23/10 -> 0
A51: 3 | B51: 통신처리 | C51: 등 록
C52: 수 정
C53: 삭 제
C54: 출 력
C55: 조 회
C56: 시리얼 통신 | D56: =IO리스트!BN54 -> 0
C57: 이더넷 통신 | D57: =IO리스트!BN23 -> 0
B58: 소 계 | D58: =SUM(D37:D57) -> 1 | E58: =SUM(E37:E57) -> 0 | F58: =SUM(F37:F57) -> 0 | G58: =SUM(G37:G57) -> 0 | H58: =SUM(H37:H57) -> 0 | I58: =SUM(I37:I57) -> 0 | J58: =SUM(J37:J57) -> 0
B59: 계 | D59: =D58 -> 1 | E59: =E58 -> 0 | F59: =F58+G58+H58 -> 0 | I59: =I58 -> 0 | J59: =J58 -> 0
B60: 가 중 치 | C60: [ 표3-19 ] | D60: 7.5 | E60: 5.4 | F60: 4 | I60: 5.2 | J60: 3.9
B61: 기 능 점 수 | C61: 계x가중치 | D61: =D59*D60 -> 7.5 | E61: =E59*E60 -> 0 | F61: =F59*F60 -> 0 | I61: =I59*I60 -> 0 | J61: =J59*J60 -> 0
B62: 총 기 능 점 수 | D62: =SUM(D61:J61) -> 7.5

Sheet IO리스트
A1: I/O LIST
A2: SIGNAL 종류 | C2: ANALOG | AF2: DIGITAL | BJ2: 합계 | BO2: 비 고
C3: Analog Input | Z3: Analog Output | AF3: Digital Input | BA3: Digital Output | BJ3: DI | BK3: DO | BL3: AI | BM3: AO | BN3: COMM
A4: 디바이스 명 | C4: 전압 RS,ST,TR | D4: 전류 R,S,T | E4: 역률 | F4: 주파수 | G4: 전력 | H4: 전력량 | I4: 전류 | AF4: 원격운전 | AG4: 기동 | AH4: 정지 | AI4: 운전이상 | AJ4: 자동 / 수동 | AK4: DOOR OPEN | AL4: 한전 | AM4: UPS | BA4: 기동 | BB4: 정지 | BC4: 복귀
A5: 기기명 | B5: 설비명 | C5: 펌프제어반
A6: 펌프제어반 | B6: 펌프제어반 | C6: 3 | D6: 3 | E6: 1 | F6: 1 | G6: 1 | H6: 1 | AK6: 1 | AL6: 1 | AM6: 1 | BJ6: =SUM(AF6:AZ6) -> 3 | BK6: =SUM(BA6:BI6) -> 0 | BL6: =SUM(C6:Y6) -> 10 | BM6: =SUM(Z6:AE6) -> 0 | BN6: 1
B7: 급수펌프 A | I7: 1 | AF7: 1 | AG7: 1 | AH7: 1 | AI7: 1 | AJ7: 1 | BA7: 1 | BB7: 1 | BC7: 1 | BJ7: =SUM(AF7:AZ7) -> 5 | BK7: =SUM(BA7:BI7) -> 3 | BL7: =SUM(C7:Y7) -> 1 | BM7: =SUM(Z7:AE7) -> 0
B8: 급수펌프 B | I8: 1 | AF8: 1 | AG8: 1 | AH8: 1 | AI8: 1 | AJ8: 1 | BA8: 1 | BB8: 1 | BC8: 1 | BJ8: =SUM(AF8:AZ8) -> 5 | BK8: =SUM(BA8:BI8) -> 3 | BL8: =SUM(C8:Y8) -> 1 | BM8: =SUM(Z8:AE8) -> 0
B9: 배수펌프 A | I9: 1 | AF9: 1 | AG9: 1 | AH9: 1 | AI9: 1 | AJ9: 1 | BA9: 1 | BB9: 1 | BC9: 1 | BJ9: =SUM(AF9:AZ9) -> 5 | BK9: =SUM(BA9:BI9) -> 3 | BL9: =SUM(C9:Y9) -> 1 | BM9: =SUM(Z9:AE9) -> 0
B10: 배수펌프 B | I10: 1 | AF10: 1 | AG10: 1 | AH10: 1 | AI10: 1 | AJ10: 1 | BA10: 1 | BB10: 1 | BC10: 1 | BJ10: =SUM(AF10:AZ10) -> 5 | BK10: =SUM(BA10:BI10) -> 3 | BL10: =SUM(C10:Y10) -> 1 | BM10: =SUM(Z10:AE10) -> 0
B11: 옥내소화전주펌프 | I11: 1 | AF11: 1 | AG11: 1 | AH11: 1 | AI11: 1 | AJ11: 1 | BA11: 1 | BB11: 1 | BC11: 1 | BJ11: =SUM(AF11:AZ11) -> 5 | BK11: =SUM(BA11:BI11) -> 3 | BL11: =SUM(C11:Y11) -> 1 | BM11: =SUM(Z11:AE11) -> 0
B12: 급수가압펌프 | I12: 1 | AF12: 1 | AG12: 1 | AH12: 1 | AI12: 1 | AJ12: 1 | BA12: 1 | BB12: 1 | BC12: 1 | BJ12: =SUM(AF12:AZ12) -> 5 | BK12: =SUM(BA12:BI12) -> 3 | BL12: =SUM(C12:Y12) -> 1 | BM12: =SUM(Z12:AE12) -> 0
BJ13: =SUM(AF13:AZ13) -> 0 | BK13: =SUM(BA13:BI13) -> 0 | BL13: =SUM(C13:Y13) -> 0 | BM13: =SUM(Z13:AE13) -> 0
BJ14: =SUM(AF14:AZ14) -> 0 | BK14: =SUM(BA14:BI14) -> 0 | BL14: =SUM(C14:Y14) -> 0 | BM14: =SUM(Z14:AE14) -> 0
BJ15: =SUM(AF15:AZ15) -> 0 | BK15: =SUM(BA15:BI15) -> 0 | BL15: =SUM(C15:Y15) -> 0 | BM15: =SUM(Z15:AE15) -> 0
B16: 합 계 | C16: =SUM(C6:Y15) -> 16 | Z16: =SUM(Z6:AE15) -> 0 | AF16: =SUM(AF6:AZ15) -> 33 | BA16: =SUM(BA6:BI15) -> 18 | BJ16: =SUM(BJ6:BJ15) -> 33 | BK16: =SUM(BK6:BK15) -> 18 | BL16: =SUM(BL6:BL15) -> 16 | BM16: =SUM(BM6:BM15) -> 0 | BN16: =SUM(BN6:BN15) -> 1
BJ22: =SUM(AF22:AZ22) -> 0 | BK22: =SUM(BA22:BI22) -> 0 | BL22: =SUM(C22:Y22) -> 0 | BM22: =SUM(Z22:AE22) -> 0
B23: 합 계 | C23: =SUM(C17:Y22) -> 0 | Z23: =SUM(Z17:AE22) -> 0 | AF23: =SUM(AF17:AZ22) -> 0 | BA23: =SUM(BA17:BI22) -> 0 | BJ23: =SUM(BJ17:BJ22) -> 0 | BK23: =SUM(BK17:BK22) -> 0 | BL23: =SUM(BL17:BL22) -> 0 | BM23: =SUM(BM17:BM22) -> 0 | BN23: =SUM(BN17:BN22) -> 0
