Workbook
Name __LP1: #REF!
Name __LP2: #REF!
Name __LPB1: [1]부하계산서!#REF!
Name __LPK1: [1]부하계산서!#REF!
Name __LU1: '[2]부하(성남)'!#REF!
Name __LU2: '[2]부하(성남)'!#REF!
Name __LV01: '[2]부하(성남)'!#REF!
Name __UP1: [1]부하계산서!#REF!
Name __UP2: [1]부하계산서!#REF!
Name _000GJ: 0
Name _000JJ: 866608
Name _000JN: 38754616
Name _000KB: 0
Name _1._PANEL_BD.__LP___1: #REF!
Name _1.8_2_1.0___4.5_0.5: [3]아울렛박스!#REF!
Name _1_3_0Crite: #REF!
Name _1_3_0Crite: #REF!
Name _15A: [4]금액내역서!$D$3:$D$10
Name _1공장: #REF!
Name _2_3_0Criteria: #REF!
Name _2_3_0Criteria: #REF!
Name _2공장: #REF!
Name _3.8_1.0_2___3.6_1.0_2___2__3.93_3.21__0.5: #REF!
Name _30신설일위대가: '[5]30신설일위대가'!$A$4:$M$1603
Name _3G_0Extr: #REF!
Name _3G_0Extr: #REF!
Name _3공장: #REF!
Name _40총괄: '[6]40총괄'!$A$4:$O$76
Name _4G_0Extract: #REF!
Name _4G_0Extract: #REF!
Name _99_상반기시중노임: [8]노임단가!$C$2:$C$65536
Name _99_하반기시중노임: [8]노임단가!$D$2:$D$65536
Name _A: #REF!
Name _A10: 3
Name _A11: 90
Name _A13: 487
Name _A15: 65000
Name _A17: 3
Name _A18: 2
Name _A20: 0
Name _A21: 0
Name _A22: 0
Name _A25: 0
Name _A26: 0
Name _A27: 0
Name _A31: 56
Name _A32: 203
Name _A33: 498
Name _A35: 52
Name _A36: 222
Name _A37: 551
Name _A41: 1120406
Name _A51: 18621910
Name _A53: 0
Name _A56: 0
Name _A91: 0
Name _A92: 0
Name _A93: 0
Name _A96: 0
Name _A97: 0

Sheet 갑지
M4: 용 역 설 계 내 역 서
A6: [ 건 명: 오물탈수기동 소방 및 환경 개선공사 실시설계용역]
A7: 구 분 | H7: 금 액 | V7: 비 고
A8: 총 합 계 | H8: =ROUNDDOWN(H9+H10,-1) -> #DIV/0! | N8: 원정 | O8: ="금 "&NUMBERSTRING(H8,1)&"원정" -> #DIV/0!
A9: 용 역 비 | H9: =(산출내역!H9+산출내역!H10) -> #DIV/0! | N9: 원정 | O9: ="금 "&NUMBERSTRING(H9,1)&"원정" -> #DIV/0!
A10: 부가가치세 | H10: =산출내역!H11 -> #DIV/0! | N10: 원정 | O10: ="금 "&NUMBERSTRING(H10,1)&"원정" -> #DIV/0!
C12: 공사 개요 : | U12: 1식
A14: □ 용역비 산출방식 : 엔지니어링산업 진흥법 제31조제2항에 따라 [엔지니어링사업의 대가 기준] "별표 2" 통신부분의 요율

Sheet 공사비산출근거
A1: 실 시 설 계 용 역
A2: (공사비요율 산출근거) | T2: ※빨간 글씨만 수정하시면 됩니다.
A4: 1. 설계비 산출(공사비 요율에 의한 방식)
B5: ○ 예정공사비 산정 : | G5: =예정공사비산출내역서!G17 -> 0 | H5: 원
B6: ○ 예정공사비 : 총예정금액 - 부가가치세
C8: → | D8: =G5 -> 0 | G8: ÷ 1.1 = | H8: =ROUNDDOWN((D8/1.1),-3) -> 0
B10: ○ 요율산출
E12: 구 분 | G12: 업무별 | H12: 공사비 | P12: 비 고
E14: 소방 | G14: 실시설계 | T14: 직산 보간법 입력란
D16: ※직선보간법 : | G16: Y = y1 - | H16: (x-x2)(y1-y2) | L16: = | M16: =(U17-(U19-U21)*(U17-U18)/(U20-U21)) -> #DIV/0! | T16: Y = | U16: ?
H17: x1-x2 | T17: y1 = | V17: 요율
F18: Y | G18: : 당해공사비요율 | L18: x | M18: : 당해금액 | T18: y2 =
F19: y1 | G19: : 작은금액요율 | L19: x1 | M19: : 큰금액 | T19: x = | U19: =H8 -> 0 | V19: 예정공사비
F20: y2 | G20: : 큰금액요율 | L20: x2 | M20: : 작은금액 | T20: x1 = | V20: 공사비
T21: x2 =
B22: ○적용요율 = | G22: =M16% -> #DIV/0!
B23: ○ 요율 적용 용역비
F24: =H8 -> 0 | H24: × | J24: =G22 -> #DIV/0! | N24: = | O24: =(F24*J24) -> #DIV/0! | R24: 원
N25: ≒ | O25: =O24 -> #DIV/0! | R25: 원
I27: .
A28: 3. 보험료 | G28: =O25 -> #DIV/0! | H28: 원 | I28: × | J28: 0.0046 | N28: = | O28: =(G28*J28) -> #DIV/0! | R28: 원 | U28: 소방산업공제조합
N29: ≒ | O29: =SUM(O28) -> #DIV/0! | R29: 원
A31: 4. 총용역비 | O31: =SUM(O25+O29) -> #DIV/0! | R31: 원
B32: 실시설계용역비 | O32: =O25 -> #DIV/0! | R32: 원
B33: 손해배상공제료 | O33: =O29 -> #DIV/0! | R33: 원

Sheet 산출내역
C4: 산 출 내 역 서
A6: =갑지!A6 -> [ 건 명: 오물탈수기동 소방 및 환경 개선공사 실시설계용역]
A7: 비 목 | B7: 수량 | C7: 단위 | D7: 실 시 설 계 | F7: 공 사 감 리 | H7: 합 계 | I7: 비 고
D8: 단 가 | E8: 금 액 | F8: 요율(%) | G8: 금 액
A9: 소방설계용역비 | B9: 1 | C9: 식 | D9: =ROUNDDOWN(공사비산출근거!O31,-4) -> #DIV/0! | E9: =B9*D9 -> #DIV/0! | H9: =SUM(E9+G9) -> #DIV/0!
A11: 부가가치세 | B11: 10 | C11: % | D11: =D9*B11% -> #DIV/0! | E11: =D11 -> #DIV/0! | H11: =SUM(E11+G11) -> #DIV/0!
A13: 합 계 | E13: =ROUNDDOWN(SUM(E9:E12),-1) -> #DIV/0! | H13: =ROUNDDOWN(SUM(H9:H12),-1) -> #DIV/0!

Sheet 요율표

Sheet 예정공사비산출내역서
B1: 159 | D1: [ 건 명: 유입펌프장 및 수전동 소방시설 보수공사 예상 내역 ]
A2: 번호 | B2: 공종코드 | C2: 코드 | D2: 공 종 | E2: 단위 | F2: 수량 | G2: 예정공사비 | H2: 노무비 | J2: 공사내용
H3: 수량 | I3: 단가
D4: 1. 공사개요.
D5: 1-1. 위치 : 난지물재생센터 수전동 및 유입펌프장
D6: 1-2. 규모 : 소방시설 보수공사
D7: 2. 예정공사비
B8: 020404 | C8: MM519244574 | D8: 오물탈수기동 및 건조기동 소방 및 기타 부대공사 | E8: 식 | F8: 1 | H8: 7 | I8: #REF! | J8: 전기실 덕트환기 설치공사
E9: 식 | F9: 1 | J9: 기계소방설비공사 : 방화문 교체 및 신설, 옥내소화전 신설, 소화배관 신설
E10: 식 | F10: 1 | J10: 시스템 비계 설치공사
E11: 식 | F11: 1 | J11: 덕트 설비 전기 공사(판넬포함)
E12: 식 | F12: 1 | J12: 전기소방공사 : 자동화재탐지설비 신설, 감지기 신설, 댐퍼와 수신기 연동
D15: 부가세 | G15: =SUM(G8:G14)*0.1 -> 0
D17: ( 합 계 ) | G17: =SUM(G8:G16) -> 0 | I17: #REF!
