Workbook

Sheet 견적경쟁
A1: 정읍시 공고 제2026- | C1: 1375 | L1: =$A$1&$C$1&"호" -> 정읍시 공고 제2026-1375호
A3: 공사 수의계약 안내 공고
A5: 입찰(견적제출)에 참가하고자 하는 자는 공고의 내용 및 다음의 규정을 숙지하여야 하며 숙지하지 못함에 대한 책임은 입찰자에게 있습니다.
A6: - 다 음 -
A7: 1. 입찰 및 수의계약안내 공고, 나라장터 공지사항
A8: 2. 국가종합전자조달시스템 전자입찰특별유의서
A9: 3. 국가종합전자조달시스템 입찰참가자격등록규정
A10: 4. 지방자치단체 입찰 및 계약 집행기준
A11: 5. 지방자치단체 입찰시 낙찰자 결정기준
A12: <자료 검색>
A13: (법령·계약예규 등) 국가법령정보센터(http://www.law.go.kr)에서 검색
A14: (조달청 고시 등) 조달청 홈페이지(http://pps.go.kr) 정보제공/업무별자료/시설공사에서 검색
A15: ※ 정확한 자료 검색이 되지 않을 경우 입찰공고 담당자에게 확인
... A18: 1. 수의계약 공고에 부치는 사항
A19: 구분 | B19: 공 사 명 | C19: 공사금액 | E19: 기초금액 | G19: 위치 | H19: 발주부서 | I19: 공사업종 (주력분야)
G20: 기간
A21: 전문공사 | B21: 산내면방성동마을석축공사 | C21: 추정금액 | D21: =SUM(D22:D24) -> 34690000 | E21: 26950000 | H21: 건설과 | I21: 철근·콘크리트공사업 (주력:철근·콘크리트공사) | M21: =$A$1&$C$1&"호" -> 정읍시 공고 제2026-1375호
C22: 추정가격 | D22: =D23*10 -> 24500000 | H22: 지역개발
C23: 부가가치세 | D23: =E21/11 -> 2450000 | G23: 60 | H23: 곽수종
C24: 관급자재 | D24: 7740000 | H24: 5873
A25: 전문공사 | B25: 영원면청량마을진입로석축공사 | C25: 추정금액 | D25: =SUM(D26:D28) -> 29734000 | E25: 27104000 | H25: 건설과 | I25: 도장·습식·방수·석공사업 (주력:석공사)
C26: 추정가격 | D26: =D27*10 -> 24640000 | H26: 지역개발
C27: 부가가치세 | D27: =E25/11 -> 2464000 | G27: 60 | H27: 이종욱
C28: 관급자재 | D28: 2630000 | H28: 5872
A29: 전문공사 | B29: 고부면백운리1067기계화경작로확포장공사 | C29: 추정금액 | D29: =SUM(D30:D32) -> 81763750 | E29: 36614000 | H29: 건설과 | I29: 철근·콘크리트공사업 (주력:철근·콘크리트공사)
C30: 추정가격 | D30: =D31*10 -> 33285455 | H30: 기반조성
C31: 부가가치세 | D31: =E29/11 -> 3328545.5 | G31: 60 | H31: 김민호
C32: 관급자재 | D32: 45149750 | H32: 5843
A33: 기타공사 | B33: 한국가요촌달하복합문화공연시설전기공사 | C33: 추정금액 | D33: =SUM(D34:D36) -> 1.63917e+08 | E33: 149344000 | H33: 관광과 | I33: 전기공사업
C34: 추정가격 | D34: =D35*10 -> 1.3576727e+08 | H34: 관광사업
C35: 부가가치세 | D35: =E33/11 -> 13576727 | G35: 90 | H35: 김상원
C36: 관급자재 | D36: 14573000 | H36: 5212
A37: 기타공사 | B37: 한국가요촌달하복합문화공연시설통신공사 | C37: 추정금액 | D37: =SUM(D38:D40) -> 32616000 | E37: 32616000 | H37: 관광과 | I37: 정보통신공사업
C38: 추정가격 | D38: =D39*10 -> 29650909 | H38: 관광사업
C39: 부가가치세 | D39: =E37/11 -> 2965090.9 | G39: 90 | H39: 김상원
C40: 관급자재 | D40: 0 | H40: 5212
A42: ▶ 전자견적집행 | I42: 2
A43: 구 분 | D43: 일자 | H43: 시간
A44: 견적서접수개시 | D44: 46225 | H44: 0.375
A45: 견적서접수마감 | D45: =D44+I42 -> 46227 | H45: 0.58333333
...

Sheet Sheet1
B1: 공사명 | C1: 합계 | D1: 국민연금 보험료 | E1: 국민건강 보험료 | F1: 노인장기 요양보험료 | G1: 퇴직공제 부금비 | H1: 산업안전 보건관리비 | I1: 안전관리비 | J1: 품질관리비
A2: 7012430 | B2: =견적경쟁!B21 -> 산내면방성동마을석축공사 | C2: =SUM(D2:J5) -> 1172195 | D2: =ROUND(A2*$M$2,0) -> 333090 | E2: =ROUND($A2*$M$3,0) -> 252097 | F2: =ROUND($E2*$M$4,0) -> 33126 | G2: 0 | H2: 553882 | I2: 0 | J2: 0 | L2: 국민연금보험료 | M2: 0.0475 | N2: =ROUND(K2*$M$2,0) -> 0 | O2: =ROUND($A2*$M$3,0) -> 252097 | P2: =ROUND($E2*$M$4,0) -> 33126 | Q2: 617127 | R2: 1829566 | S2: 0 | T2: 0
L3: 국민건강보험료 | M3: 0.03595
L4: 노인장기요양보험료 | M4: 0.1314
L5: 퇴직공제부금비 | M5: 0.023
A6: 6878430 | B6: =견적경쟁!B25 -> 영원면청량마을진입로석축공사 | C6: =SUM(D6:J9) -> 1139138 | D6: =ROUND(A6*$M$2,0) -> 326725 | E6: =ROUND($A6*$M$3,0) -> 247280 | F6: =ROUND($E6*$M$4,0) -> 32493 | G6: 0 | H6: 532640 | I6: 0 | J6: 0
N7: =ROUND(K7*$M$2,0) -> 0 | O7: =ROUND($A7*$M$3,0) -> 0 | P7: =ROUND($E7*$M$4,0) -> 0 | Q7: 617127 | R7: 1829566 | S7: 0 | T7: 0
A10: 14424299 | B10: =견적경쟁!B29 -> 고부면백운리1067기계화경작로확포장공사 | C10: =SUM(D10:J13) -> 1929345 | D10: =ROUND(A10*$M$2,0) -> 685154 | E10: =ROUND($A10*$M$3,0) -> 518554 | F10: =ROUND($E10*$M$4,0) -> 68138 | G10: 0 | H10: 657499 | I10: 0 | J10: 0
N11: 토목공사업
N12: 건축공사업
N13: 토목건축공사업
A14: 62158446 | B14: =견적경쟁!B33 -> 한국가요촌달하복합문화공연시설전기공사 | C14: =SUM(D14:J17) -> 9896746 | D14: =ROUND(A14*$M$2,0) -> 2952526 | E14: =ROUND($A14*$M$3,0) -> 2234596 | F14: =ROUND($E14*$M$4,0) -> 293626 | G14: 1429644 | H14: 2986354 | I14: 0 | J14: 0
A18: 13578065 | B18: =견적경쟁!B37 -> 한국가요촌달하복합문화공연시설통신공사 | C18: =SUM(D18:J21) -> 1771343 | D18: =ROUND(A18*$M$2,0) -> 644958 | E18: =ROUND($A18*$M$3,0) -> 488131 | F18: =ROUND($E18*$M$4,0) -> 64140 | G18: 0 | H18: 574114 | I18: 0 | J18: 0
