Workbook
Name _: [1]자산별!#REF!
Name ___A1: [2]주방환기!#REF!
Name ___arm1: [3]설계명세서!#REF!
Name ___arm2: [4]설계명세서!#REF!
Name ___arm3: [3]설계명세서!#REF!
Name ___B100000: #REF!
Name ___B66000: #REF!
Name ___B70000: #REF!
Name ___C67000: #REF!
Name ___C68000: #REF!
Name ___CAD15: #REF!
Name ___CAD25: #REF!
Name ___fff12: #REF!
Name ___fff122: #REF!
Name ___fff58: #REF!
Name ___fff59: #REF!
Name ___fff6: #REF!
Name ___fff60: #REF!
Name ___fff65: #REF!
Name ___fff67: #REF!
Name ___fff69: #REF!
Name ___fff7: #REF!
Name ___fff70: #REF!
Name ___fff71: #REF!
Name ___fff77: #REF!
Name ___fff79: #REF!
Name ___fff8: #REF!
Name ___fff80: #REF!
Name ___fff81: #REF!
Name ___fff82: #REF!
Name ___fff83: #REF!
Name ___fff84: #REF!
Name ___fff85: #REF!
Name ___fff86: #REF!
Name ___fff87: #REF!
Name ___fff88: #REF!
Name ___fff89: #REF!
Name ___fff9: #REF!
Name ___fff90: #REF!
Name ___fff91: #REF!
Name ___fff92: #REF!
Name ___fff93: #REF!
Name ___fff94: #REF!
Name ___fff95: #REF!
Name ___fff96: #REF!
Name ___fff97: #REF!
Name ___fff98: #REF!
Name ___fff99: #REF!
Name ___fkn1: #REF!
Name ___fkn2: #REF!
Name ___fks1: #REF!
Name ___fks2: #REF!
Name ___ggg1: #REF!
Name ___ggg2: #REF!
Name ___ggg55: #REF!
Name ___ji21: [3]설계명세서!#REF!
Name ___ji22: [3]설계명세서!#REF!
Name ___ji23: [3]설계명세서!#REF!
Name ___ji31: [3]설계명세서!#REF!
Name ___ji32: [3]설계명세서!#REF!

Sheet 원가계산서
B1: 공 사 원 가 계 산 서
B2: 공사명 : 남원국악예술고 장애인 승강기 증축공사
B3: 비 목 | E3: 금 액 | F3: 구 성 비 | G3: 비 고
A4: A1 | B4: 순 공 사 원 가 | C4: 재 료 비 | D4: 직 접 재 료 비 | E4: =TRUNC(공종별집계표!F5, 0) -> 56279724
A5: A2 | D5: 간 접 재 료 비 | E5: 0
A6: A3 | D6: 작업설, 부산물(△) | E6: 262602
A7: AS | D7: [ 소 계 ] | E7: =TRUNC(E4+E5-E6, 0) -> 56017122
A8: B1 | C8: 노 무 비 | D8: 직 접 노 무 비 | E8: =TRUNC(공종별집계표!H5, 0) -> 35690991
A9: B2 | D9: 간 접 노 무 비 | E9: =TRUNC(E8*0.175, 0) -> 6245923 | F9: 직접노무비 * 17.5%
A10: BS | D10: [ 소 계 ] | E10: =TRUNC(E8+E9, 0) -> 41936914
A11: C2 | C11: 경 비 | D11: 경 비 | E11: =TRUNC(공종별집계표!J5, 0) -> 3622541
A12: C4 | D12: 산 재 보 험 료 | E12: =TRUNC(E10*0.0356, 0) -> 1492954 | F12: 노무비 * 3.56%
A13: C5 | D13: 고 용 보 험 료 | E13: =TRUNC(E10*0.0101, 0) -> 423562 | F13: 노무비 * 1.01%
A14: C6 | D14: 국민 건강 보험료 | E14: =TRUNC(E8*0.03595, 0) -> 1283091 | F14: 직접노무비 * 3.595%
A15: C7 | D15: 국민 연금 보험료 | E15: =TRUNC(E8*0.0475, 0) -> 1695322 | F15: 직접노무비 * 4.75%
A16: C8 | D16: 퇴직 공제 부금비 | F16: 직접노무비 * 2.3%
A17: CA | D17: 산업안전보건관리비 | E17: =TRUNC((E7+E8+(0/1.1))*0.0311, 0) -> 2852122 | F17: (재료비+직노+관급자재비) * 3.11%
A18: CB | D18: 노인장기요양보험료 | E18: =TRUNC(E14*0.1314, 0) -> 168598 | F18: 건강보험료 * 13.14%
A19: CB | D19: 품 질 관 리 비 | E19: =공종별집계표!L23 -> 2606000
A20: CB | D20: 안전관리비 | E20: =공종별집계표!L24 -> 2000000
A21: CC | D21: 건설폐기물처리비 | E21: =TRUNC(공종별집계표!T25, 0) -> 2123844
A22: CE | D22: 석면피해구제분담금 | E22: =TRUNC(E10*0.00006, 0) -> 2516 | F22: 노무비*0.006%
A23: CF | D23: 임금채권부담금 | E23: =TRUNC(E10*0.0009, 0) -> 37743 | F23: 노무비*0.09%
A24: CG | D24: 기 타 경 비 | E24: =TRUNC((E7+E10)*0.05, 0) -> 4897701 | F24: (재료비+노무비) * 5%
A25: CH | D25: 환 경 보 전 비 | E25: =TRUNC((E7+E8+E11)*0.003, 0) -> 285991 | F25: (재료비+직노+경비) * 0.3%
A26: CK | D26: 하도급지급보증수수료 | E26: =TRUNC((E7+E8+E11)*0.00081, 0) -> 77217 | F26: (재료비+직노+경비) * 0.081% | G26: 최저가대상공사
A27: CL | D27: 건설기계대여금지급보증서발급수수료 | E27: =TRUNC((E7+E8+E11)*0.0007, 0) -> 66731 | F27: (재료비+직노+경비) * 0.07%
A28: CS | D28: [ 소 계 ] | E28: =TRUNC(E11+E12+E13+E14+E15+E16+E17+E18+E19+E20+E21+E22+E23+E24+E25+E26+E27, 0) -> 23635933
A29: S1 | B29: 계 | E29: =TRUNC(E7+E10+E28, 0) -> 121589969
A30: D1 | B30: 일 반 관 리 비 | E30: =TRUNC(E29*0.08, 0) -> 9727197 | F30: 계 * 8%
A31: D2 | B31: 이 윤 | E31: =TRUNC((E10+E28+E30)*0.15, 0) -> 11295006 | F31: (노무비+경비+일반관리비) * 15%
A32: D9 | B32: 공 급 가 액 | E32: =TRUNC(E29+E30+E31, 0) -> 142612172
A33: DB | B33: 부 가 가 치 세 | E33: =TRUNC(E32*0.1, 0) -> 14261217 | F33: 공급가액 * 10%
A34: DH | B34: 도 급 액 | E34: =TRUNC(E32+E33, -3) -> 156873000
A35: DL | B35: 관급자관급자재비 | E35: =TRUNC(공종별집계표!T26, 0) -> 70668209
A36: S2 | B36: 총 공 사 비 | E36: =TRUNC(E34+0+E35, 0) -> 227541209

Sheet 공종별집계표
A1: 공 종 별 집 계 표
A2: [ 남원국악예술고 장애인 승강기 증축공사 ]
A3: 품 명 | B3: 규 격 | C3: 단위 | D3: 수량 | E3: 재 료 비 | G3: 노 무 비 | I3: 경 비 | K3: 합 계 | M3: 비 고 | N3: 공종코드 | O3: 변수 | P3: 상위공종 | Q3: 공종구분 | R3: 공종레벨 | S3: 공종소계 | T3: 원가계산서 연결금액
E4: 단 가 | F4: 금 액 | G4: 단 가 | H4: 금 액 | I4: 단 가 | J4: 금 액 | K4: 단 가 | L4: 금 액
A5: 01 남원국악예술고 장애인 승강기 증축공사 | D5: 1 | E5: =F6 -> 56279724 | F5: =E5*D5 -> 56279724 | G5: =H6 -> 35690991 | H5: =G5*D5 -> 35690991 | I5: =J6 -> 3622541 | J5: =I5*D5 -> 3622541 | K5: =E5+G5+I5 -> 95593256 | L5: =F5+H5+J5 -> 95593256 | N5: 01 | R5: 1
A6: 0101 ■ 승강기 | D6: 1 | E6: =F7+F8+F9+F10+F11+F12+F13+F14+F15+F16+F17+F18+F19+F20+F21+F22 -> 56279724 | F6: =E6*D6 -> 56279724 | G6: =H7+H8+H9+H10+H11+H12+H13+H14+H15+H16+H17+H18+H19+H20+H21+H22 -> 35690991 | H6: =G6*D6 -> 35690991 | I6: =J7+J8+J9+J10+J11+J12+J13+J14+J15+J16+J17+J18+J19+J20+J21+J22 -> 3622541 | J6: =I6*D6 -> 3622541 | K6: =E6+G6+I6 -> 95593256 | L6: =F6+H6+J6 -> 95593256 | N6: 0101 | P6: 01 | R6: 2
A7: 010101 공통 가설 공사 | D7: 1 | E7: =공종별내역서!F27 -> 0 | F7: =E7*D7 -> 0 | G7: =공종별내역서!H27 -> 0 | H7: =G7*D7 -> 0 | I7: =공종별내역서!J27 -> 983344 | J7: =I7*D7 -> 983344 | K7: =E7+G7+I7 -> 983344 | L7: =F7+H7+J7 -> 983344 | N7: 010101 | P7: 0101 | R7: 3
A8: 010102 가 설 공 사 | D8: 1 | E8: =공종별내역서!F51 -> 2381663 | F8: =E8*D8 -> 2381663 | G8: =공종별내역서!H51 -> 4109519 | H8: =G8*D8 -> 4109519 | I8: =공종별내역서!J51 -> 1271709 | J8: =I8*D8 -> 1271709 | K8: =E8+G8+I8 -> 7762891 | L8: =F8+H8+J8 -> 7762891 | N8: 010102 | P8: 0101 | R8: 3
A9: 010103 토 및 지정공사 | D9: 1 | E9: =공종별내역서!F75 -> 110884 | F9: =E9*D9 -> 110884 | G9: =공종별내역서!H75 -> 357390 | H9: =G9*D9 -> 357390 | I9: =공종별내역서!J75 -> 97471 | J9: =I9*D9 -> 97471 | K9: =E9+G9+I9 -> 565745 | L9: =F9+H9+J9 -> 565745 | N9: 010103 | P9: 0101 | R9: 3
A10: 010104 철근콘크리트공사 | D10: 1 | E10: =공종별내역서!F99 -> 11215233 | F10: =E10*D10 -> 11215233 | G10: =공종별내역서!H99 -> 18353998 | H10: =G10*D10 -> 18353998 | I10: =공종별내역서!J99 -> 694728 | J10: =I10*D10 -> 694728 | K10: =E10+G10+I10 -> 30263959 | L10: =F10+H10+J10 -> 30263959 | N10: 010104 | P10: 0101 | R10: 3
A11: 010105 철 골 공 사 | D11: 1 | E11: =공종별내역서!F123 -> 109577 | F11: =E11*D11 -> 109577 | G11: =공종별내역서!H123 -> 495293 | H11: =G11*D11 -> 495293 | I11: =공종별내역서!J123 -> 31186 | J11: =I11*D11 -> 31186 | K11: =E11+G11+I11 -> 636056 | L11: =F11+H11+J11 -> 636056 | N11: 010105 | P11: 0101 | R11: 3
A12: 010106 돌 공 사 | D12: 1 | E12: =공종별내역서!F147 -> 418110 | F12: =E12*D12 -> 418110 | G12: =공종별내역서!H147 -> 1253162 | H12: =G12*D12 -> 1253162 | I12: =공종별내역서!J147 -> 25059 | J12: =I12*D12 -> 25059 | K12: =E12+G12+I12 -> 1696331 | L12: =F12+H12+J12 -> 1696331 | N12: 010106 | P12: 0101 | R12: 3
A13: 010107 목공사및수장공사 | D13: 1 | E13: =공종별내역서!F171 -> 8962452 | F13: =E13*D13 -> 8962452 | G13: =공종별내역서!H171 -> 4749802 | H13: =G13*D13 -> 4749802 | I13: =공종별내역서!J171 -> 85428 | J13: =I13*D13 -> 85428 | K13: =E13+G13+I13 -> 13797682 | L13: =F13+H13+J13 -> 13797682 | N13: 010107 | P13: 0101 | R13: 3
A14: 010108 방 수 공 사 | D14: 1 | E14: =공종별내역서!F195 -> 149311 | F14: =E14*D14 -> 149311 | G14: =공종별내역서!H195 -> 627790 | H14: =G14*D14 -> 627790 | I14: =공종별내역서!J195 -> 12353 | J14: =I14*D14 -> 12353 | K14: =E14+G14+I14 -> 789454 | L14: =F14+H14+J14 -> 789454 | N14: 010108 | P14: 0101 | R14: 3
A15: 010109 금 속 공 사 | D15: 1 | E15: =공종별내역서!F219 -> 30456302 | F15: =E15*D15 -> 30456302 | G15: =공종별내역서!H219 -> 1577606 | H15: =G15*D15 -> 1577606 | I15: =공종별내역서!J219 -> 63145 | J15: =I15*D15 -> 63145 | K15: =E15+G15+I15 -> 32097053 | L15: =F15+H15+J15 -> 32097053 | N15: 010109 | P15: 0101 | R15: 3
A16: 010110 미 장 공 사 | D16: 1 | E16: =공종별내역서!F243 -> 0 | F16: =E16*D16 -> 0 | G16: =공종별내역서!H243 -> 274845 | H16: =G16*D16 -> 274845 | I16: =공종별내역서!J243 -> 4426 | J16: =I16*D16 -> 4426 | K16: =E16+G16+I16 -> 279271 | L16: =F16+H16+J16 -> 279271 | N16: 010110 | P16: 0101 | R16: 3
A17: 010111 칠 공 사 | D17: 1 | E17: =공종별내역서!F267 -> 16479 | F17: =E17*D17 -> 16479 | G17: =공종별내역서!H267 -> 28260 | H17: =G17*D17 -> 28260 | I17: =공종별내역서!J267 -> 919 | J17: =I17*D17 -> 919 | K17: =E17+G17+I17 -> 45658 | L17: =F17+H17+J17 -> 45658 | N17: 010111 | P17: 0101 | R17: 3
A18: 010112 판 넬 공 사 | D18: 1 | E18: =공종별내역서!F291 -> 1270228 | F18: =E18*D18 -> 1270228 | G18: =공종별내역서!H291 -> 352044 | H18: =G18*D18 -> 352044 | I18: =공종별내역서!J291 -> 89632 | J18: =I18*D18 -> 89632 | K18: =E18+G18+I18 -> 1711904 | L18: =F18+H18+J18 -> 1711904 | N18: 010112 | P18: 0101 | R18: 3
A19: 010113 부 대 공 사 | D19: 1 | E19: =공종별내역서!F315 -> 618052 | F19: =E19*D19 -> 618052 | G19: =공종별내역서!H315 -> 227790 | H19: =G19*D19 -> 227790 | I19: =공종별내역서!J315 -> 70177 | J19: =I19*D19 -> 70177 | K19: =E19+G19+I19 -> 916019 | L19: =F19+H19+J19 -> 916019 | N19: 010113 | P19: 0101 | R19: 3
A20: 010114 골재비 및 운반비 | D20: 1 | E20: =공종별내역서!F339 -> 173493 | F20: =E20*D20 -> 173493 | G20: =공종별내역서!H339 -> 0 | H20: =G20*D20 -> 0 | I20: =공종별내역서!J339 -> 82803 | J20: =I20*D20 -> 82803 | K20: =E20+G20+I20 -> 256296 | L20: =F20+H20+J20 -> 256296 | N20: 010114 | P20: 0101 | R20: 3
A21: 010115 철 거 공 사 | D21: 1 | E21: =공종별내역서!F363 -> 135338 | F21: =E21*D21 -> 135338 | G21: =공종별내역서!H363 -> 3283492 | H21: =G21*D21 -> 3283492 | I21: =공종별내역서!J363 -> 110161 | J21: =I21*D21 -> 110161 | K21: =E21+G21+I21 -> 3528991 | L21: =F21+H21+J21 -> 3528991 | N21: 010115 | P21: 0101 | R21: 3
A22: 010116 작 업 부 산 물 | D22: 1 | E22: =공종별내역서!F387 -> 262602 | F22: =E22*D22 -> 262602 | G22: =공종별내역서!H387 -> 0 | H22: =G22*D22 -> 0 | I22: =공종별내역서!J387 -> 0 | J22: =I22*D22 -> 0 | K22: =E22+G22+I22 -> 262602 | L22: =F22+H22+J22 -> 262602 | N22: 010116 | P22: 0101 | R22: 3
A23: 010117 □ 품질관리비 | D23: 1 | E23: =공종별내역서!F411 -> 0 | F23: =E23*D23 -> 0 | G23: =공종별내역서!H411 -> 0 | H23: =G23*D23 -> 0 | I23: =공종별내역서!J411 -> 2606000 | J23: =I23*D23 -> 2606000 | K23: =E23+G23+I23 -> 2606000 | L23: =F23+H23+J23 -> 2606000 | N23: 010116 | P23: 0101 | R23: 3
A24: 010118 □ 안전관리비 | D24: 1 | E24: =공종별내역서!F435 -> 2000000 | F24: =E24*D24 -> 2000000 | G24: =공종별내역서!H435 -> 0 | H24: =G24*D24 -> 0 | I24: =공종별내역서!J435 -> 0 | J24: =I24*D24 -> 0 | K24: =E24+G24+I24 -> 2000000 | L24: =F24+H24+J24 -> 2000000 | N24: 010116 | P24: 0101 | R24: 3
A25: 010119 □ 건설폐기물처리비 | D25: 1 | E25: =공종별내역서!F459 -> 0 | F25: =E25*D25 -> 0 | G25: =공종별내역서!H459 -> 0 | H25: =G25*D25 -> 0 | I25: =공종별내역서!J459 -> 2123844 | J25: =I25*D25 -> 2123844 | K25: =E25+G25+I25 -> 2123844 | L25: =F25+H25+J25 -> 2123844 | N25: 010117 | Q25: 7 | R25: 3 | T25: =L25*1 -> 2123844
A26: 010120 □ 관급자관급자재비 | D26: 1 | E26: =공종별내역서!F483 -> 70668209 | F26: =E26*D26 -> 70668209 | G26: =공종별내역서!H483 -> 0 | H26: =G26*D26 -> 0 | I26: =공종별내역서!J483 -> 0 | J26: =I26*D26 -> 0 | K26: =E26+G26+I26 -> 70668209 | L26: =F26+H26+J26 -> 70668209 | N26: 010118 | Q26: 8 | R26: 3 | T26: =L26*1 -> 70668209
A27: [ 합 계 ] | F27: =F5 -> 56279724 | H27: =H5 -> 35690991 | J27: =J5 -> 3622541 | L27: =L5 -> 95593256

Sheet 공종별내역서
A1: [ 남원국악예술고 장애인 승강기 증축공사 ]
A2: 품 명 | B2: 규 격 | C2: 단위 | D2: 수량 | E2: 재 료 비 | G2: 노 무 비 | I2: 경 비 | K2: 합 계 | M2: 비 고 | N2: 품목코드 | O2: 변수 | P2: 설정 | Q2: 공종코드 | R2: 일위 | S2: 단산 | T2: 자재 | U2: 손료적용 | V2: 손료저장 | W2: 적용율 | X2: JUK1 | Y2: JUK2 | Z2: JUK3 | AA2: JUK4 | AB2: JUK5 | AC2: JUK6 | AD2: JUK7 | AE2: JUK8 | AF2: JUK9 | AG2: JUK10 | AH2: JUK11 | AI2: JUK12 | AJ2: JUK13 | AK2: JUK14 | AL2: JUK15 | AM2: JUK16 | AN2: JUK17 | AO2: JUK18 | AP2: JUK19 | AQ2: JUK20 | AR2: 자재구분 | AS2: 공종구분 | AT2: 공종레벨 | AU2: 공종+자재 | AV2: 고유번호
E3: 단 가 | F3: 금 액 | G3: 단 가 | H3: 금 액 | I3: 단 가 | J3: 금 액 | K3: 단 가 | L3: 금 액
A4: 010101 공통 가설 공사 | Q4: 010101
A5: 콘테이너형 가설사무소 설치 및 해체 | B5: 3.0*6.0m, 3개월 | C5: 개소 | D5: 1 | E5: =TRUNC(일위대가목록!E57,0) -> 0 | F5: =TRUNC(E5*D5, 0) -> 0 | G5: =TRUNC(일위대가목록!F57,0) -> 0 | H5: =TRUNC(G5*D5, 0) -> 0 | I5: =TRUNC(일위대가목록!G57,0) -> 983344 | J5: =TRUNC(I5*D5, 0) -> 983344 | K5: =TRUNC(E5+G5+I5, 0) -> 983344 | L5: =TRUNC(F5+H5+J5, 0) -> 983344 | M5: 호표 54 | N5: 535972090FF651E279723C4807BE06 | Q5: 010101 | R5: T | S5: F | T5: F | AU5: 010101535972090FF651E279723C4807BE06 | AV5: 4
Q6: 010101
Q7: 010101
Q8: 010101
Q9: 010101
Q10: 010101
Q11: 010101
Q12: 010101
Q13: 010101
Q14: 010101
Q15: 010101
Q16: 010101
Q17: 010101
... Q26: 010101
A27: [ 합 계 ] | F27: =SUMIF(Q5:Q26,"010101",F5:F26) -> 0 | H27: =SUMIF(Q5:Q26,"010101",H5:H26) -> 0 | J27: =SUMIF(Q5:Q26,"010101",J5:J26) -> 983344 | L27: =SUMIF(Q5:Q26,"010101",L5:L26) -> 983344 | N27: TOTAL
A28: 010102 가 설 공 사 | Q28: 010102
A29: 조립식가설울타리/E.G.I철판 | B29: 3개월,H=4.0m이하,강관지주 | C29: M | D29: 20 | E29: =TRUNC(일위대가목록!E47,0) -> 0 | F29: =TRUNC(E29*D29, 0) -> 0 | G29: =TRUNC(일위대가목록!F47,0) -> 0 | H29: =TRUNC(G29*D29, 0) -> 0 | I29: =TRUNC(일위대가목록!G47,0) -> 46792 | J29: =TRUNC(I29*D29, 0) -> 935840 | K29: =TRUNC(E29+G29+I29, 0) -> 46792 | L29: =TRUNC(F29+H29+J29, 0) -> 935840 | M29: 호표 44 | N29: 535972093B0511957A1558B8494B06 | Q29: 010102 | R29: T | S29: F | T29: F | AU29: 010102535972093B0511957A1558B8494B06 | AV29: 125
A30: 시스템 비계매기(발판2줄) | B30: 3개월,H=10m 이하 | C30: M2 | D30: 138 | E30: =TRUNC(일위대가목록!E180,0) -> 6089 | F30: =TRUNC(E30*D30, 0) -> 840282 | G30: =TRUNC(일위대가목록!F180,0) -> 14718 | H30: =TRUNC(G30*D30, 0) -> 2031084 | I30: =TRUNC(일위대가목록!G180,0) -> 294 | J30: =TRUNC(I30*D30, 0) -> 40572 | K30: =TRUNC(E30+G30+I30, 0) -> 21101 | L30: =TRUNC(F30+H30+J30, 0) -> 2911938 | M30: 호표 177 | N30: 537E222909A515A27752B6884E8816 | Q30: 010102 | R30: T | S30: F | T30: F | AU30: 010102537E222909A515A27752B6884E8816 | AV30: 126
A31: 시스템 비계매기(발판2줄) | B31: 3개월,H=10~20m 이하 | C31: M2 | D31: 44.2 | E31: =TRUNC(일위대가목록!E181,0) -> 6089 | F31: =TRUNC(E31*D31, 0) -> 269133 | G31: =TRUNC(일위대가목록!F181,0) -> 17000 | H31: =TRUNC(G31*D31, 0) -> 751400 | I31: =TRUNC(일위대가목록!G181,0) -> 340 | J31: =TRUNC(I31*D31, 0) -> 15028 | K31: =TRUNC(E31+G31+I31, 0) -> 23429 | L31: =TRUNC(F31+H31+J31, 0) -> 1035561 | M31: 호표 178 | N31: 537E222909A515A27752B6884E9A86 | Q31: 010102 | R31: T | S31: F | T31: F | AU31: 010102537E222909A515A27752B6884E9A86 | AV31: 127
A32: 강관동바리 | B32: 3.5m이하, 1개월 | C32: M2 | D32: 10.4 | E32: =TRUNC(일위대가목록!E56,0) -> 1309 | F32: =TRUNC(E32*D32, 0) -> 13613 | G32: =TRUNC(일위대가목록!F56,0) -> 15267 | H32: =TRUNC(G32*D32, 0) -> 158776 | I32: =TRUNC(일위대가목록!G56,0) -> 0 | J32: =TRUNC(I32*D32, 0) -> 0 | K32: =TRUNC(E32+G32+I32, 0) -> 16576 | L32: =TRUNC(F32+H32+J32, 0) -> 172389 | M32: 호표 53 | N32: 535972093B2062467B2D1AB8BE29D6 | Q32: 010102 | R32: T | S32: F | T32: F | AU32: 010102535972093B2062467B2D1AB8BE29D6 | AV32: 128
A33: 강관 조립말비계(이동식)설치 및 해체 | B33: 높이 2m, 3개월 | C33: 대 | D33: 1 | E33: =TRUNC(일위대가목록!E51,0) -> 33052 | F33: =TRUNC(E33*D33, 0) -> 33052 | G33: =TRUNC(일위대가목록!F51,0) -> 94574 | H33: =TRUNC(G33*D33, 0) -> 94574 | I33: =TRUNC(일위대가목록!G51,0) -> 0 | J33: =TRUNC(I33*D33, 0) -> 0 | K33: =TRUNC(E33+G33+I33, 0) -> 127626 | L33: =TRUNC(F33+H33+J33, 0) -> 127626 | M33: 호표 48 | N33: 535972093B2051F272B542C8B77826 | Q33: 010102 | R33: T | S33: F | T33: F | AU33: 010102535972093B2051F272B542C8B77826 | AV33: 9
A34: 수평 규준틀 | B34: 귀 | C34: 개소 | D34: 4 | E34: =TRUNC(일위대가목록!E54,0) -> 11262 | F34: =TRUNC(E34*D34, 0) -> 45048 | G34: =TRUNC(일위대가목록!F54,0) -> 160723 | H34: =TRUNC(G34*D34, 0) -> 642892 | I34: =TRUNC(일위대가목록!G54,0) -> 0 | J34: =TRUNC(I34*D34, 0) -> 0 | K34: =TRUNC(E34+G34+I34, 0) -> 171985 | L34: =TRUNC(F34+H34+J34, 0) -> 687940 | M34: 호표 51 | N34: 535972093B2051E17E1475F8AF1F36 | Q34: 010102 | R34: T | S34: F | T34: F | AU34: 010102535972093B2051E17E1475F8AF1F36 | AV34: 10
A35: 구조부 먹매김 | B35: 일반 | C35: M2 | D35: 12.8 | E35: =TRUNC(일위대가목록!E62,0) -> 0 | F35: =TRUNC(E35*D35, 0) -> 0 | G35: =TRUNC(일위대가목록!F62,0) -> 1388 | H35: =TRUNC(G35*D35, 0) -> 17766 | I35: =TRUNC(일위대가목록!G62,0) -> 0 | J35: =TRUNC(I35*D35, 0) -> 0 | K35: =TRUNC(E35+G35+I35, 0) -> 1388 | L35: =TRUNC(F35+H35+J35, 0) -> 17766 | M35: 호표 59 | N35: 535972096076A6827BFA8748895116 | Q35: 010102 | R35: T | S35: F | T35: F | AU35: 010102535972096076A6827BFA8748895116 | AV35: 14
A36: 거푸집 먹매김 | B36: 일반 | C36: M2 | D36: 12.8 | E36: =TRUNC(일위대가목록!E63,0) -> 0 | F36: =TRUNC(E36*D36, 0) -> 0 | G36: =TRUNC(일위대가목록!F63,0) -> 3331 | H36: =TRUNC(G36*D36, 0) -> 42636 | I36: =TRUNC(일위대가목록!G63,0) -> 0 | J36: =TRUNC(I36*D36, 0) -> 0 | K36: =TRUNC(E36+G36+I36, 0) -> 3331 | L36: =TRUNC(F36+H36+J36, 0) -> 42636 | M36: 호표 60 | N36: 535972096076A6827BF8D9E8C8C416 | Q36: 010102 | R36: T | S36: F | T36: F | AU36: 010102535972096076A6827BF8D9E8C8C416 | AV36: 15
A37: 건축물보양 - 콘크리트 | B37: 살수 | C37: M2 | D37: 12.8 | E37: =TRUNC(일위대가목록!E64,0) -> 0 | F37: =TRUNC(E37*D37, 0) -> 0 | G37: =TRUNC(일위대가목록!F64,0) -> 688 | H37: =TRUNC(G37*D37, 0) -> 8806 | I37: =TRUNC(일위대가목록!G64,0) -> 0 | J37: =TRUNC(I37*D37, 0) -> 0 | K37: =TRUNC(E37+G37+I37, 0) -> 688 | L37: =TRUNC(F37+H37+J37, 0) -> 8806 | M37: 호표 61 | N37: 535972096076A6BF7D6D0B68D82E36 | Q37: 010102 | R37: T | S37: F | T37: F | AU37: 010102535972096076A6BF7D6D0B68D82E36 | AV37: 16
A38: 건축물 현장정리 | B38: 철근콘크리트조 | C38: M2 | D38: 12.8 | E38: =TRUNC(일위대가목록!E60,0) -> 0 | F38: =TRUNC(E38*D38, 0) -> 0 | G38: =TRUNC(일위대가목록!F60,0) -> 22368 | H38: =TRUNC(G38*D38, 0) -> 286310 | I38: =TRUNC(일위대가목록!G60,0) -> 0 | J38: =TRUNC(I38*D38, 0) -> 0 | K38: =TRUNC(E38+G38+I38, 0) -> 22368 | L38: =TRUNC(F38+H38+J38, 0) -> 286310 | M38: 호표 57 | N38: 535972096049062B7318E648298C56 | Q38: 010102 | R38: T | S38: F | T38: F | AU38: 010102535972096049062B7318E648298C56 | AV38: 12
A39: 건축물 현장정리(청소포함) | B39: 수선(바닥,천장 수선일경우) | C39: M2 | D39: 12.5 | E39: =TRUNC(일위대가목록!E61,0) -> 0 | F39: =TRUNC(E39*D39, 0) -> 0 | G39: =TRUNC(일위대가목록!F61,0) -> 6022 | H39: =TRUNC(G39*D39, 0) -> 75275 | I39: =TRUNC(일위대가목록!G61,0) -> 0 | J39: =TRUNC(I39*D39, 0) -> 0 | K39: =TRUNC(E39+G39+I39, 0) -> 6022 | L39: =TRUNC(F39+H39+J39, 0) -> 75275 | M39: 호표 58 | N39: 535972096049062B743FF028D8E3C6 | Q39: 010102 | R39: T | S39: F | T39: F | AU39: 010102535972096049062B743FF028D8E3C6 | AV39: 129
A40: 임시칸막이설치 및 해체 | B40: H:2900,각관틀+내화패널100mm,3개월이하 | C40: M | D40: 10.4 | E40: =TRUNC(일위대가목록!E59,0) -> 113513 | F40: =TRUNC(E40*D40, 0) -> 1180535 | G40: =TRUNC(일위대가목록!F59,0) -> 0 | H40: =TRUNC(G40*D40, 0) -> 0 | I40: =TRUNC(일위대가목록!G59,0) -> 26949 | J40: =TRUNC(I40*D40, 0) -> 280269 | K40: =TRUNC(E40+G40+I40, 0) -> 140462 | L40: =TRUNC(F40+H40+J40, 0) -> 1460804 | M40: 호표 56 | N40: 535972091825FFD07B0C07E80669D6 | Q40: 010102 | R40: T | S40: F | T40: F | AU40: 010102535972091825FFD07B0C07E80669D6 | AV40: 202
Q41: 010102
Q42: 010102
Q43: 010102
Q44: 010102
Q45: 010102
Q46: 010102
Q47: 010102
Q48: 010102
Q49: 010102
Q50: 010102
A51: [ 합 계 ] | F51: =SUMIF(Q29:Q50,"010102",F29:F50) -> 2381663 | H51: =SUMIF(Q29:Q50,"010102",H29:H50) -> 4109519 | J51: =SUMIF(Q29:Q50,"010102",J29:J50) -> 1271709 | L51: =SUMIF(Q29:Q50,"010102",L29:L50) -> 7762891 | N51: TOTAL
A52: 010103 토 및 지정공사 | Q52: 010103
A53: 되메우고 다지기(토사) | B53: 백호0.6M3*콤펙트1.5톤 | C53: M3 | D53: 22.2 | E53: =TRUNC(단가산출목록!E28,0) -> 710 | F53: =TRUNC(E53*D53, 0) -> 15762 | G53: =TRUNC(단가산출목록!F28,0) -> 6330 | H53: =TRUNC(G53*D53, 0) -> 140526 | I53: =TRUNC(단가산출목록!G28,0) -> 705 | J53: =TRUNC(I53*D53, 0) -> 15651 | K53: =TRUNC(E53+G53+I53, 0) -> 7745 | L53: =TRUNC(F53+H53+J53, 0) -> 171939 | M53: 산근 25 | N53: 537E72A9B8E7201175A498884630A6 | Q53: 010103 | R53: F | S53: T | T53: F | AU53: 010103537E72A9B8E7201175A498884630A6 | AV53: 153
A54: 터파기 | B54: 보통토사 구조물,백호0.6M3 | C54: M3 | D54: 54.2 | E54: =TRUNC(단가산출목록!E26,0) -> 477 | F54: =TRUNC(E54*D54, 0) -> 25853 | G54: =TRUNC(단가산출목록!F26,0) -> 1380 | H54: =TRUNC(G54*D54, 0) -> 74796 | I54: =TRUNC(단가산출목록!G26,0) -> 634 | J54: =TRUNC(I54*D54, 0) -> 34362 | K54: =TRUNC(E54+G54+I54, 0) -> 2491 | L54: =TRUNC(F54+H54+J54, 0) -> 135011 | M54: 산근 23 | N54: 537E72A960C7ABD97CF85ED8D475F6 | Q54: 010103 | R54: F | S54: T | T54: F | AU54: 010103537E72A960C7ABD97CF85ED8D475F6 | AV54: 154
A55: 토사 운반/단지외 4km | B55: 보통, 덤프 15ton+굴착기 0.6m3 | C55: M3 | D55: 32 | E55: =TRUNC(단가산출목록!E27,0) -> 2105 | F55: =TRUNC(E55*D55, 0) -> 67360 | G55: =TRUNC(단가산출목록!F27,0) -> 3985 | H55: =TRUNC(G55*D55, 0) -> 127520 | I55: =TRUNC(단가산출목록!G27,0) -> 1424 | J55: =TRUNC(I55*D55, 0) -> 45568 | K55: =TRUNC(E55+G55+I55, 0) -> 7514 | L55: =TRUNC(F55+H55+J55, 0) -> 240448 | M55: 산근 24 | N55: 537E72A9564E942E76843C98C3F546 | Q55: 010103 | R55: F | S55: T | T55: F | AU55: 010103537E72A9564E942E76843C98C3F546 | AV55: 155
A56: 잡석지정 | B56: 백호0.7M3+콤펙트1.5톤 | C56: M3 | D56: 3.7 | E56: =TRUNC(일위대가목록!E65,0) -> 516 | F56: =TRUNC(E56*D56, 0) -> 1909 | G56: =TRUNC(일위대가목록!F65,0) -> 3932 | H56: =TRUNC(G56*D56, 0) -> 14548 | I56: =TRUNC(일위대가목록!G65,0) -> 511 | J56: =TRUNC(I56*D56, 0) -> 1890 | K56: =TRUNC(E56+G56+I56, 0) -> 4959 | L56: =TRUNC(F56+H56+J56, 0) -> 18347 | M56: 호표 62 | N56: 5359523953EAA201753DA548B5B216 | Q56: 010103 | R56: T | S56: F | T56: F | AU56: 0101035359523953EAA201753DA548B5B216 | AV56: 156
Q57: 010103
Q58: 010103
Q59: 010103
Q60: 010103
Q61: 010103
Q62: 010103
Q63: 010103
Q64: 010103
Q65: 010103
Q66: 010103
Q67: 010103
Q68: 010103
... Q74: 010103
A75: [ 합 계 ] | F75: =SUMIF(Q53:Q74,"010103",F53:F74) -> 110884 | H75: =SUMIF(Q53:Q74,"010103",H53:H74) -> 357390 | J75: =SUMIF(Q53:Q74,"010103",J53:J74) -> 97471 | L75: =SUMIF(Q53:Q74,"010103",L53:L74) -> 565745 | N75: TOTAL
A76: 010104 철근콘크리트공사 | Q76: 010104
A77: 레미콘 | B77: 25-18-80 | C77: M3 | D77: 5.3 | E77: =TRUNC(단가대비표!O65,0) -> 92570 | F77: =TRUNC(E77*D77, 0) -> 490621 | G77: =TRUNC(단가대비표!P65,0) -> 0 | H77: =TRUNC(G77*D77, 0) -> 0 | I77: =TRUNC(단가대비표!V65,0) -> 0 | J77: =TRUNC(I77*D77, 0) -> 0 | K77: =TRUNC(E77+G77+I77, 0) -> 92570 | L77: =TRUNC(F77+H77+J77, 0) -> 490621 | N77: 5473F2A9C742C0507C75D24805679D062ABC93 | Q77: 010104 | R77: F | S77: F | T77: T | AU77: 0101045473F2A9C742C0507C75D24805679D062ABC93 | AV77: 28
A78: 레미콘 | B78: 25-27-150 | C78: M3 | D78: 44.8 | E78: =TRUNC(단가대비표!O66,0) -> 106930 | F78: =TRUNC(E78*D78, 0) -> 4790464 | G78: =TRUNC(단가대비표!P66,0) -> 0 | H78: =TRUNC(G78*D78, 0) -> 0 | I78: =TRUNC(단가대비표!V66,0) -> 0 | J78: =TRUNC(I78*D78, 0) -> 0 | K78: =TRUNC(E78+G78+I78, 0) -> 106930 | L78: =TRUNC(F78+H78+J78, 0) -> 4790464 | N78: 5473F2A9C742C0507C75D24805679D062ABF60 | Q78: 010104 | R78: F | S78: F | T78: T | AU78: 0101045473F2A9C742C0507C75D24805679D062ABF60 | AV78: 29
A79: 철근콘크리트용봉강 | B79: 이형봉강(SD400), HD-10, 하치장상차도 | C79: TON | D79: 1.7 | E79: =TRUNC(단가대비표!O51,0) -> 828200 | F79: =TRUNC(E79*D79, 0) -> 1407940 | G79: =TRUNC(단가대비표!P51,0) -> 0 | H79: =TRUNC(G79*D79, 0) -> 0 | I79: =TRUNC(단가대비표!V51,0) -> 0 | J79: =TRUNC(I79*D79, 0) -> 0 | K79: =TRUNC(E79+G79+I79, 0) -> 828200 | L79: =TRUNC(F79+H79+J79, 0) -> 1407940 | N79: 5473F2A9C753539C7702CAD8F706FF1696DE82 | Q79: 010104 | R79: F | S79: F | T79: T | AU79: 0101045473F2A9C753539C7702CAD8F706FF1696DE82 | AV79: 24
A80: 철근콘크리트용봉강 | B80: 이형봉강(SD400), HD-13, 하치장상차도 | C80: TON | D80: 2.4 | E80: =TRUNC(단가대비표!O52,0) -> 822700 | F80: =TRUNC(E80*D80, 0) -> 1974480 | G80: =TRUNC(단가대비표!P52,0) -> 0 | H80: =TRUNC(G80*D80, 0) -> 0 | I80: =TRUNC(단가대비표!V52,0) -> 0 | J80: =TRUNC(I80*D80, 0) -> 0 | K80: =TRUNC(E80+G80+I80, 0) -> 822700 | L80: =TRUNC(F80+H80+J80, 0) -> 1974480 | N80: 5473F2A9C753539C7702CAD8F706FF1696DE85 | Q80: 010104 | R80: F | S80: F | T80: T | AU80: 0101045473F2A9C753539C7702CAD8F706FF1696DE85 | AV80: 25
A81: 철근콘크리트용봉강 | B81: 이형봉강(SD400), HD-16, 하치장상차도 | C81: TON | D81: 0.2 | E81: =TRUNC(단가대비표!O53,0) -> 822700 | F81: =TRUNC(E81*D81, 0) -> 164540 | G81: =TRUNC(단가대비표!P53,0) -> 0 | H81: =TRUNC(G81*D81, 0) -> 0 | I81: =TRUNC(단가대비표!V53,0) -> 0 | J81: =TRUNC(I81*D81, 0) -> 0 | K81: =TRUNC(E81+G81+I81, 0) -> 822700 | L81: =TRUNC(F81+H81+J81, 0) -> 164540 | N81: 5473F2A9C753539C7702CAD8F706FF1696DE84 | Q81: 010104 | R81: F | S81: F | T81: T | AU81: 0101045473F2A9C753539C7702CAD8F706FF1696DE84 | AV81: 26
A82: 철근콘크리트용봉강 | B82: 이형봉강(SD400), HD-19, 하치장상차도 | C82: TON | D82: 0.7 | E82: =TRUNC(단가대비표!O54,0) -> 822700 | F82: =TRUNC(E82*D82, 0) -> 575890 | G82: =TRUNC(단가대비표!P54,0) -> 0 | H82: =TRUNC(G82*D82, 0) -> 0 | I82: =TRUNC(단가대비표!V54,0) -> 0 | J82: =TRUNC(I82*D82, 0) -> 0 | K82: =TRUNC(E82+G82+I82, 0) -> 822700 | L82: =TRUNC(F82+H82+J82, 0) -> 575890 | N82: 5473F2A9C753539C7702CAD8F706FF1696DE87 | Q82: 010104 | R82: F | S82: F | T82: T | AU82: 0101045473F2A9C753539C7702CAD8F706FF1696DE87 | AV82: 27
A83: 무근콘크리트타설/펌프카(21m) | B83: 슬럼프 8~12,100m3미만,양호 | C83: M3 | D83: 5.3 | E83: =TRUNC(일위대가목록!E77,0) -> 1043 | F83: =TRUNC(E83*D83, 0) -> 5527 | G83: =TRUNC(일위대가목록!F77,0) -> 18827 | H83: =TRUNC(G83*D83, 0) -> 99783 | I83: =TRUNC(일위대가목록!G77,0) -> 2745 | J83: =TRUNC(I83*D83, 0) -> 14548 | K83: =TRUNC(E83+G83+I83, 0) -> 22615 | L83: =TRUNC(F83+H83+J83, 0) -> 119858 | M83: 호표 74 | N83: 535922896FC69EE7776FDFF88DD956 | Q83: 010104 | R83: T | S83: F | T83: F | AU83: 010104535922896FC69EE7776FDFF88DD956 | AV83: 170
A84: 철근콘크리트타설/펌프카(21m) | B84: 슬럼프 8~12,100m3미만,양호 | C84: M3 | D84: 44.8 | E84: =TRUNC(일위대가목록!E78,0) -> 1177 | F84: =TRUNC(E84*D84, 0) -> 52729 | G84: =TRUNC(일위대가목록!F78,0) -> 24105 | H84: =TRUNC(G84*D84, 0) -> 1079904 | I84: =TRUNC(일위대가목록!G78,0) -> 3240 | J84: =TRUNC(I84*D84, 0) -> 145152 | K84: =TRUNC(E84+G84+I84, 0) -> 28522 | L84: =TRUNC(F84+H84+J84, 0) -> 1277785 | M84: 호표 75 | N84: 535922896FC69EE7776FDDC84BABE6 | Q84: 010104 | R84: T | S84: F | T84: F | AU84: 010104535922896FC69EE7776FDDC84BABE6 | AV84: 171
A85: 합판거푸집 설치 및 해체 | B85: 보통 4회 | C85: M2 | D85: 8 | E85: =TRUNC(일위대가목록!E68,0) -> 12864 | F85: =TRUNC(E85*D85, 0) -> 102912 | G85: =TRUNC(일위대가목록!F68,0) -> 38183 | H85: =TRUNC(G85*D85, 0) -> 305464 | I85: =TRUNC(일위대가목록!G68,0) -> 381 | J85: =TRUNC(I85*D85, 0) -> 3048 | K85: =TRUNC(E85+G85+I85, 0) -> 51428 | L85: =TRUNC(F85+H85+J85, 0) -> 411424 | M85: 호표 65 | N85: 53592289174C8247775625C8E84ED6 | Q85: 010104 | R85: T | S85: F | T85: F | AU85: 01010453592289174C8247775625C8E84ED6 | AV85: 31
A86: 유로폼 설치 및 해체 | B86: 보통 | C86: M2 | D86: 345 | E86: =TRUNC(일위대가목록!E71,0) -> 3810 | F86: =TRUNC(E86*D86, 0) -> 1314450 | G86: =TRUNC(일위대가목록!F71,0) -> 36429 | H86: =TRUNC(G86*D86, 0) -> 12568005 | I86: =TRUNC(일위대가목록!G71,0) -> 1092 | J86: =TRUNC(I86*D86, 0) -> 376740 | K86: =TRUNC(E86+G86+I86, 0) -> 41331 | L86: =TRUNC(F86+H86+J86, 0) -> 14259195 | M86: 호표 68 | N86: 535922891721B90174E13D28781406 | Q86: 010104 | R86: T | S86: F | T86: F | AU86: 010104535922891721B90174E13D28781406 | AV86: 32
A87: 철근 현장가공 및 현장조립 | B87: Type-Ⅰ | C87: TON | D87: 5 | E87: =TRUNC(일위대가목록!E74,0) -> 10003 | F87: =TRUNC(E87*D87, 0) -> 50015 | G87: =TRUNC(일위대가목록!F74,0) -> 791069 | H87: =TRUNC(G87*D87, 0) -> 3955345 | I87: =TRUNC(일위대가목록!G74,0) -> 31048 | J87: =TRUNC(I87*D87, 0) -> 155240 | K87: =TRUNC(E87+G87+I87, 0) -> 832120 | L87: =TRUNC(F87+H87+J87, 0) -> 4160600 | M87: 호표 71 | N87: 5359228921D6072D7483D028F96606 | Q87: 010104 | R87: T | S87: F | T87: F | AU87: 0101045359228921D6072D7483D028F96606 | AV87: 33
A88: 와이어메시 바닥깔기 | B88: #8-150*150 | C88: M2 | D88: 26.8 | E88: =TRUNC(일위대가목록!E107,0) -> 2592 | F88: =TRUNC(E88*D88, 0) -> 69465 | G88: =TRUNC(일위대가목록!F107,0) -> 1356 | H88: =TRUNC(G88*D88, 0) -> 36340 | I88: =TRUNC(일위대가목록!G107,0) -> 0 | J88: =TRUNC(I88*D88, 0) -> 0 | K88: =TRUNC(E88+G88+I88, 0) -> 3948 | L88: =TRUNC(F88+H88+J88, 0) -> 105805 | M88: 호표 104 | N88: 5359C2890C9CDEA370F0CA88575F16 | Q88: 010104 | R88: T | S88: F | T88: F | AU88: 0101045359C2890C9CDEA370F0CA88575F16 | AV88: 130
A89: 수팽창 고무수지재 | B89: 50*50 | C89: M | D89: 43.4 | E89: =TRUNC(단가대비표!O43,0) -> 3000 | F89: =TRUNC(E89*D89, 0) -> 130200 | G89: =TRUNC(단가대비표!P43,0) -> 5300 | H89: =TRUNC(G89*D89, 0) -> 230020 | I89: =TRUNC(단가대비표!V43,0) -> 0 | J89: =TRUNC(I89*D89, 0) -> 0 | K89: =TRUNC(E89+G89+I89, 0) -> 8300 | L89: =TRUNC(F89+H89+J89, 0) -> 360220 | N89: 545702792061947C7BD2EC68F56783E6A228A9 | Q89: 010104 | R89: F | S89: F | T89: T | AU89: 010104545702792061947C7BD2EC68F56783E6A228A9 | AV89: 157
A90: 지수판설치 | B90: PVC, 50*100*5t | C90: M | D90: 8.6 | E90: =TRUNC(일위대가목록!E79,0) -> 10000 | F90: =TRUNC(E90*D90, 0) -> 86000 | G90: =TRUNC(일위대가목록!F79,0) -> 9202 | H90: =TRUNC(G90*D90, 0) -> 79137 | I90: =TRUNC(일위대가목록!G79,0) -> 0 | J90: =TRUNC(I90*D90, 0) -> 0 | K90: =TRUNC(E90+G90+I90, 0) -> 19202 | L90: =TRUNC(F90+H90+J90, 0) -> 165137 | M90: 호표 76 | N90: 535922898A2F232C75AD2538650696 | Q90: 010104 | R90: T | S90: F | T90: F | AU90: 010104535922898A2F232C75AD2538650696 | AV90: 198
Q91: 010104
Q92: 010104
Q93: 010104
Q94: 010104
Q95: 010104
Q96: 010104
Q97: 010104
Q98: 010104
A99: [ 합 계 ] | F99: =SUMIF(Q77:Q98,"010104",F77:F98) -> 11215233 | H99: =SUMIF(Q77:Q98,"010104",H77:H98) -> 18353998 | J99: =SUMIF(Q77:Q98,"010104",J77:J98) -> 694728 | L99: =SUMIF(Q77:Q98,"010104",L77:L98) -> 30263959 | N99: TOTAL
A100: 010105 철 골 공 사 | Q100: 010105
A101: 경량형강 | B101: 경량형강, 블랙C형강, 100*50*20, t3.2 | C101: TON | D101: 0.1 | E101: =TRUNC(단가대비표!O55,0) -> 1010000 | F101: =TRUNC(E101*D101, 0) -> 101000 | G101: =TRUNC(단가대비표!P55,0) -> 0 | H101: =TRUNC(G101*D101, 0) -> 0 | I101: =TRUNC(단가대비표!V55,0) -> 0 | J101: =TRUNC(I101*D101, 0) -> 0 | K101: =TRUNC(E101+G101+I101, 0) -> 1010000 | L101: =TRUNC(F101+H101+J101, 0) -> 101000 | N101: 5473F2A9C75353837FD7AEB81B0AC5D698EBEF | Q101: 010105 | R101: F | S101: F | T101: T | AU101: 0101055473F2A9C75353837FD7AEB81B0AC5D698EBEF | AV101: 37
A102: 세트앵커 | B102: 세트앵커, M6*L55mm | C102: 개 | D102: 25 | E102: =TRUNC(단가대비표!O120,0) -> 120 | F102: =TRUNC(E102*D102, 0) -> 3000 | G102: =TRUNC(단가대비표!P120,0) -> 0 | H102: =TRUNC(G102*D102, 0) -> 0 | I102: =TRUNC(단가대비표!V120,0) -> 0 | J102: =TRUNC(I102*D102, 0) -> 0 | K102: =TRUNC(E102+G102+I102, 0) -> 120 | L102: =TRUNC(F102+H102+J102, 0) -> 3000 | N102: 5473E2896740867277DB9138900A8486E129B7 | Q102: 010105 | R102: F | S102: F | T102: T | AU102: 0101055473E2896740867277DB9138900A8486E129B7 | AV102: 38
A103: 앵커 볼트 설치 | B103: ∮16 이하 | C103: 개 | D103: 25 | E103: =TRUNC(일위대가목록!E80,0) -> 0 | F103: =TRUNC(E103*D103, 0) -> 0 | G103: =TRUNC(일위대가목록!F80,0) -> 17154 | H103: =TRUNC(G103*D103, 0) -> 428850 | I103: =TRUNC(일위대가목록!G80,0) -> 343 | J103: =TRUNC(I103*D103, 0) -> 8575 | K103: =TRUNC(E103+G103+I103, 0) -> 17497 | L103: =TRUNC(F103+H103+J103, 0) -> 437425 | M103: 호표 77 | N103: 535932E951B8EAD37ED063B8AA2286 | Q103: 010105 | R103: T | S103: F | T103: F | AU103: 010105535932E951B8EAD37ED063B8AA2286 | AV103: 39
A104: 부대철골 설치 | C104: TON | D104: 0.1 | E104: =TRUNC(일위대가목록!E81,0) -> 55772 | F104: =TRUNC(E104*D104, 0) -> 5577 | G104: =TRUNC(일위대가목록!F81,0) -> 664431 | H104: =TRUNC(G104*D104, 0) -> 66443 | I104: =TRUNC(일위대가목록!G81,0) -> 226110 | J104: =TRUNC(I104*D104, 0) -> 22611 | K104: =TRUNC(E104+G104+I104, 0) -> 946313 | L104: =TRUNC(F104+H104+J104, 0) -> 94631 | M104: 호표 78 | N104: 535932E936E3937C72D6FA282AC446 | Q104: 010105 | R104: T | S104: F | T104: F | AU104: 010105535932E936E3937C72D6FA282AC446 | AV104: 40
Q105: 010105
Q106: 010105
Q107: 010105
Q108: 010105
Q109: 010105
Q110: 010105
Q111: 010105
Q112: 010105
Q113: 010105
...

Sheet 일위대가목록
B1: 일 위 대 가 목 록
B2: [ 남원국악예술고 장애인 승강기 증축공사 ]
A3: 코 드 | B3: 품 명 | C3: 규 격 | D3: 단위 | E3: 재 료 비 | F3: 노 무 비 | G3: 경 비 | H3: 합 계 | I3: 번 호 | J3: 비 고 | K3: 노임계수 | L3: 할증 | M3: 품셈개요 | N3: 장비일위
A4: 5446B2C9F0376E1B774699C858632916F67601C5 | B4: 굴착기(무한궤도) | C4: 0.2㎥ | D4: HR | E4: =일위대가!F9 -> 8597 | F4: =일위대가!H9 -> 59020 | G4: =일위대가!J9 -> 13873 | H4: =E4+F4+G4 -> 81490 | I4: 호표 1 | K4: A | N4: T
A5: 5446B2C9F0376E1B774699C8580A9646B797AC70 | B5: 굴착기(무한궤도) | C5: 0.4㎥ | D5: HR | E5: =일위대가!F16 -> 17162 | F5: =일위대가!H16 -> 59020 | G5: =일위대가!J16 -> 17514 | H5: =E5+F5+G5 -> 93696 | I5: 호표 2 | K5: A | N5: T
A6: 5446B2C9F0376E1B774699C858257C061F8AA7D4 | B6: 굴착기(무한궤도) | C6: 0.6㎥ | D6: HR | E6: =일위대가!F23 -> 17682 | F6: =일위대가!H23 -> 59020 | G6: =일위대가!J23 -> 23423 | H6: =E6+F6+G6 -> 100125 | I6: 호표 3 | K6: A | N6: T
A7: 5446B2C9F0376E1B774699C85837DC36F602B903 | B7: 굴착기(무한궤도) | C7: 0.7㎥ | D7: HR | E7: =일위대가!F30 -> 20109 | F7: =일위대가!H30 -> 59020 | G7: =일위대가!J30 -> 24554 | H7: =E7+F7+G7 -> 103683 | I7: 호표 4 | K7: A | N7: T
A8: 5446B2C9F0376E1B774699C84FDB25663DB33CD1 | B8: 굴착기(무한궤도) | C8: 1.0㎥ | D8: HR | E8: =일위대가!F37 -> 33805 | F8: =일위대가!H37 -> 59020 | G8: =일위대가!J37 -> 29621 | H8: =E8+F8+G8 -> 122446 | I8: 호표 5 | K8: A | N8: T
A9: 5446B2C9F0376E1B76A1DD58090571E64E7B3165 | B9: 굴착기(타이어) | C9: 0.6㎥ | D9: HR | E9: =일위대가!F44 -> 20439 | F9: =일위대가!H44 -> 59020 | G9: =일위대가!J44 -> 27120 | H9: =E9+F9+G9 -> 106579 | I9: 호표 6 | K9: A | N9: T
A10: 5446B2C9F0376E1B74F361D8091E21E69F7CD58F | B10: 대형 브레이커 | C10: 0.4㎥용 | D10: HR | E10: =일위대가!F48 -> 0 | F10: =일위대가!H48 -> 0 | G10: =일위대가!J48 -> 5513 | H10: =E10+F10+G10 -> 5513 | I10: 호표 7 | K10: A | N10: T
A11: 5446B2C9F0376E1B72C56658720C82B68A6C4EAC | B11: 압쇄기(펄버라이저) | C11: 1.0㎥용 | D11: HR | E11: =일위대가!F52 -> 0 | F11: =일위대가!H52 -> 0 | G11: =일위대가!J52 -> 18857 | H11: =E11+F11+G11 -> 18857 | I11: 호표 8 | K11: A | N11: T
A12: 5446B2C9F0376E5172FAAB78952E43868D5D0387 | B12: 덤프트럭 | C12: 8ton | D12: HR | E12: =일위대가!F59 -> 18237 | F12: =일위대가!H59 -> 49778 | G12: =일위대가!J59 -> 10544 | H12: =E12+F12+G12 -> 78559 | I12: 호표 9 | K12: A | N12: T
A13: 5446B2C9F0376E5172FAAB788B6042762D66EEAA | B13: 덤프트럭 | C13: 15ton | D13: HR | E13: =일위대가!F66 -> 31179 | F13: =일위대가!H66 -> 59020 | G13: =일위대가!J66 -> 20659 | H13: =E13+F13+G13 -> 110858 | I13: 호표 10 | K13: A | N13: T
A14: 5446B2C9F0376E51739F68F849707B563AE4F736 | B14: 덤프트럭 자동덮개시설 | C14: 15ton | D14: HR | E14: =일위대가!F70 -> 0 | F14: =일위대가!H70 -> 0 | G14: =일위대가!J70 -> 438 | H14: =E14+F14+G14 -> 438 | I14: 호표 11 | K14: A | N14: T
A15: 5446B2C9F03778BF75307808AAF3E7F6340F3AEA | B15: 머캐덤 롤러(자주식) | C15: 8∼10ton | D15: HR | E15: =일위대가!F77 -> 12743 | F15: =일위대가!H77 -> 59020 | G15: =일위대가!J77 -> 10298 | H15: =E15+F15+G15 -> 82061 | I15: 호표 12 | K15: A | N15: T
A16: 5446B2C9F0377882719F05285902BF1643C351B3 | B16: 탠덤롤러(자주식) | C16: 8∼10ton | D16: HR | E16: =일위대가!F84 -> 11402 | F16: =일위대가!H84 -> 59020 | G16: =일위대가!J84 -> 9391 | H16: =E16+F16+G16 -> 79813 | I16: 호표 13 | K16: A | N16: T
A17: 5446B2C9F03778E47A1AA498537ACB76E241AADD | B17: 타이어 롤러(자주식) | C17: 8∼15ton | D17: HR | E17: =일위대가!F91 -> 13982 | F17: =일위대가!H91 -> 59020 | G17: =일위대가!J91 -> 19136 | H17: =E17+F17+G17 -> 92138 | I17: 호표 14 | K17: A | N17: T
A18: 5446B2C9F03778DA70DEA1B840DD7416A9C832FB | B18: 플레이트 콤팩터 | C18: 1.5ton | D18: HR | E18: =일위대가!F98 -> 1767 | F18: =일위대가!H98 -> 36248 | G18: =일위대가!J98 -> 620 | H18: =E18+F18+G18 -> 38635 | I18: 호표 15 | K18: A | N18: T
A19: 5446B2C9F037437F77C1FB08810FA7961AD993E7 | B19: 크레인(타이어) | C19: 10ton | D19: HR | E19: =일위대가!F105 -> 7505 | F19: =일위대가!H105 -> 59020 | G19: =일위대가!J105 -> 31344 | H19: =E19+F19+G19 -> 97869 | I19: 호표 16 | K19: A | N19: T
A20: 5446B2C9F037437F77C1FB088134EB9607EE4942 | B20: 크레인(타이어) | C20: 20ton | D20: HR | E20: =일위대가!F112 -> 10666 | F20: =일위대가!H112 -> 59020 | G20: =일위대가!J112 -> 53629 | H20: =E20+F20+G20 -> 123315 | I20: 호표 17 | K20: A | N20: T
A21: 5446B2C9F037437F77C1FB0881455AA638B60F27 | B21: 크레인(타이어) | C21: 50ton | D21: HR | E21: =일위대가!F119 -> 22309 | F21: =일위대가!H119 -> 59020 | G21: =일위대가!J119 -> 90444 | H21: =E21+F21+G21 -> 171773 | I21: 호표 18 | K21: A | N21: T
A22: 5446B2C9F037437F77C0D5085B8B91B6CDF891CD | B22: 트럭탑재형 크레인 | C22: 10ton | D22: HR | E22: =일위대가!F126 -> 17563 | F22: =일위대가!H126 -> 49778 | G22: =일위대가!J126 -> 23795 | H22: =E22+F22+G22 -> 91136 | I22: 호표 19 | K22: A | N22: T
A23: 5446B2C9F03743167FE22CE8746F0E66DA9B8C45 | B23: 트럭 트랙터 및 평판트레일러 | C23: 20ton | D23: HR | E23: =일위대가!F133 -> 32590 | F23: =일위대가!H133 -> 59020 | G23: =일위대가!J133 -> 17314 | H23: =E23+F23+G23 -> 108924 | I23: 호표 20 | K23: A | N23: T
A24: 5446B2C9F03720D577F8A238C23C51E640783013 | B24: 콘크리트 펌프차 | C24: 21m(65∼75㎥/hr) | D24: HR | E24: =일위대가!F140 -> 28199 | F24: =일위대가!H140 -> 59020 | G24: =일위대가!J140 -> 51698 | H24: =E24+F24+G24 -> 138917 | I24: 호표 21 | K24: A | N24: T
A25: 541912C9155EE98D782E5FC8A6D6 | B25: 모터그레이더 | C25: 3.6m일반용 | D25: HR | E25: =일위대가!F147 -> 24094 | F25: =일위대가!H147 -> 47967 | G25: =일위대가!J147 -> 33933 | H25: =E25+F25+G25 -> 105994 | I25: 호표 22 | K25: A | N25: T
A26: 541912C9155EE98D782E50484006 | B26: 덤프트럭 | C26: 15톤 | D26: HR | E26: =일위대가!F154 -> 23477 | F26: =일위대가!H154 -> 47967 | G26: =일위대가!J154 -> 18299 | H26: =E26+F26+G26 -> 89743 | I26: 호표 23 | K26: A | N26: T
A27: 541912C9155EE98D7BE2DE780376 | B27: 머캐덤롤러(자주식) | C27: 10∼12톤 | D27: HR | E27: =일위대가!F161 -> 11742 | F27: =일위대가!H161 -> 47967 | G27: =일위대가!J161 -> 10822 | H27: =E27+F27+G27 -> 70531 | I27: 호표 24 | K27: A | N27: T
A28: 541912C9155EE98D7BE2DE787676 | B28: 탠덤롤러(자주식) | C28: 8∼10톤 | D28: HR | E28: =일위대가!F168 -> 8585 | F28: =일위대가!H168 -> 47967 | G28: =일위대가!J168 -> 8440 | H28: =E28+F28+G28 -> 64992 | I28: 호표 25 | K28: A | N28: T
A29: 541912C9155EE98D7BE2DF181196 | B29: 진동롤러(자주식) | C29: 10톤 | D29: HR | E29: =일위대가!F175 -> 20030 | F29: =일위대가!H175 -> 47967 | G29: =일위대가!J175 -> 23532 | H29: =E29+F29+G29 -> 91529 | I29: 호표 26 | K29: A | N29: T
A30: 541912C9155EE98D7BE2DD68BF36 | B30: 타이어롤러(자주식) | C30: 8∼15톤 | D30: HR | E30: =일위대가!F182 -> 10528 | F30: =일위대가!H182 -> 47967 | G30: =일위대가!J182 -> 16139 | H30: =E30+F30+G30 -> 74634 | I30: 호표 27 | K30: A | N30: T
A31: 541912C9155EE98D7DAF4B38D216 | B31: 아스팔트페이버(피니셔) | C31: 3m | D31: HR | E31: =일위대가!F189 -> 19766 | F31: =일위대가!H189 -> 59020 | G31: =일위대가!J189 -> 57439 | H31: =E31+F31+G31 -> 136225 | I31: 호표 28 | K31: A | N31: T
A32: 541912C9155EE98D71FEA278EE56 | B32: 물탱크(살수차) | C32: 5500L | D32: HR | E32: =일위대가!F196 -> 12936 | F32: =일위대가!H196 -> 40000 | G32: =일위대가!J196 -> 7823 | H32: =E32+F32+G32 -> 60759 | I32: 호표 29 | K32: A | N32: T
A33: 541912C9154CA423777D7628BBC6 | B33: 아스콘포장공사 | C33: 표층5+기층7.5+기층20+보조30 | D33: M2 | E33: =일위대가!F200 -> 27469 | F33: =일위대가!H200 -> 10124 | G33: =일위대가!J200 -> 3119 | H33: =E33+F33+G33 -> 40712 | I33: 호표 30
A34: 541912C9154CA423777D7628A976 | B34: 아스콘포장공사 | C34: 표층5+기층7.5+기층20+보조30 | D34: a | E34: =일위대가!F209 -> 2746979 | F34: =일위대가!H209 -> 1012464 | G34: =일위대가!J209 -> 311945 | H34: =E34+F34+G34 -> 4071388 | I34: 호표 31
A35: 541912C9154CA423777D762898E6 | B35: 표층 아스콘포장 | C35: #75,T=5.0cm | D35: a | E35: =일위대가!F215 -> 808282 | F35: =일위대가!H215 -> 166685 | G35: =일위대가!J215 -> 23213 | H35: =E35+F35+G35 -> 998180 | I35: 호표 32
A36: 541912C9154CA423777D76288E96 | B36: 기층 아스콘포장 | C36: #57,T=7.5cm | D36: a | E36: =일위대가!F221 -> 1085928 | F36: =일위대가!H221 -> 153174 | G36: =일위대가!J221 -> 21128 | H36: =E36+F36+G36 -> 1260230 | I36: 호표 33
A37: 541912C9154CA423777D7628F196 | B37: 기층 부설 | C37: 혼합골재,T=200mm | D37: M3 | E37: =일위대가!F229 -> 10794 | F37: =일위대가!H229 -> 1118 | G37: =일위대가!J229 -> 513 | H37: =E37+F37+G37 -> 12425 | I37: 호표 34
A38: 541912C9154CA423777D7628E706 | B38: 보조기층 부설 | C38: 혼합골재,T=300mm | D38: M3 | E38: =일위대가!F237 -> 10666 | F38: =일위대가!H237 -> 757 | G38: =일위대가!J237 -> 344 | H38: =E38+F38+G38 -> 11767 | I38: 호표 35
A39: 541912C9154CA423777D7628D696 | B39: 표층 아스콘포설 #78 | C39: 아스팔트페이버 | D39: a | E39: =일위대가!F242 -> 722605 | F39: =일위대가!H242 -> 13662 | G39: =일위대가!J242 -> 13296 | H39: =E39+F39+G39 -> 749563 | I39: 호표 36
A40: 541912C9154CA423777D7628D6F6 | B40: 표층 전압비 | C40: T=5.0cm | D40: a | E40: =일위대가!F248 -> 9060 | F40: =일위대가!H248 -> 41730 | G40: =일위대가!J248 -> 9784 | H40: =E40+F40+G40 -> 60574 | I40: 호표 37
A41: 541912C9154CA423777D7628C426 | B41: 기층 프라임코팅 | C41: 75L/a | D41: a | E41: =일위대가!F258 -> 68658 | F41: =일위대가!H258 -> 96382 | G41: =일위대가!J258 -> 250 | H41: =E41+F41+G41 -> 165290 | I41: 호표 38
A42: 541912C9154CA423777D7628C406 | B42: 기층 아스콘포설 #57 | C42: 아스팔트페이버 | D42: a | E42: =일위대가!F263 -> 1006800 | F42: =일위대가!H263 -> 9108 | G42: =일위대가!J263 -> 8864 | H42: =E42+F42+G42 -> 1024772 | I42: 호표 39
A43: 541912C9154CA423777D7628C466 | B43: 기층 전압비 | C43: T=7.5cm | D43: a | E43: =일위대가!F269 -> 10470 | F43: =일위대가!H269 -> 47684 | G43: =일위대가!J269 -> 12014 | H43: =E43+F43+G43 -> 70168 | I43: 호표 40
A44: 535972093B0511A7734979C8530DC6 | B44: 아스팔트디스트리뷰터 | C44: 3800L | D44: HR | E44: =일위대가!F276 -> 19361 | F44: =일위대가!H276 -> 59020 | G44: =일위대가!J276 -> 15861 | H44: =E44+F44+G44 -> 94242 | I44: 호표 41 | K44: A | N44: T
A45: 535972093B0511A773497838EA4D46 | B45: 강관 지주 설치 | C45: 지주높이 4.0m 이하 | D45: M | E45: =일위대가!F284 -> 0 | F45: =일위대가!H284 -> 0 | G45: =일위대가!J284 -> 13743 | H45: =E45+F45+G45 -> 13743 | I45: 호표 42
A46: 535972093B0511A773497838EA5FB6 | B46: 강관 지주 해체 | C46: 지주높이 4.0m 이하 | D46: M | E46: =일위대가!F292 -> 0 | F46: =일위대가!H292 -> 0 | G46: =일위대가!J292 -> 5497 | H46: =E46+F46+G46 -> 5497 | I46: 호표 43
A47: 535972093B0511957A1558B8494B06 | B47: 조립식가설울타리/E.G.I철판 | C47: 3개월,H=4.0m이하,강관지주 | D47: M | E47: =일위대가!F305 -> 0 | F47: =일위대가!H305 -> 0 | G47: =일위대가!J305 -> 46792 | H47: =E47+F47+G47 -> 46792 | I47: 호표 44
A48: 535972093B0511847D9B7AC8D68376 | B48: 가설울타리판 설치 | C48: 설치높이 3m 이하 | D48: M | E48: =일위대가!F312 -> 0 | F48: =일위대가!H312 -> 0 | G48: =일위대가!J312 -> 9540 | H48: =E48+F48+G48 -> 9540 | I48: 호표 45
A49: 535972093B0511847D9B7AC8D69DD6 | B49: 가설울타리판 해체 | C49: 설치높이 3m 이하 | D49: M | E49: =일위대가!F319 -> 0 | F49: =일위대가!H319 -> 0 | G49: =일위대가!J319 -> 3745 | H49: =E49+F49+G49 -> 3745 | I49: 호표 46
A50: 535972093B2051F272B543D8269596 | B50: 강관 조립말비계(이동식)설치 및 해체 | C50: 높이 2m, 노무비 | D50: 대 | E50: =일위대가!F324 -> 0 | F50: =일위대가!H324 -> 94574 | G50: =일위대가!J324 -> 0 | H50: =E50+F50+G50 -> 94574 | I50: 호표 47
A51: 535972093B2051F272B542C8B77826 | B51: 강관 조립말비계(이동식)설치 및 해체 | C51: 높이 2m, 3개월 | D51: 대 | E51: =일위대가!F337 -> 33052 | F51: =일위대가!H337 -> 94574 | G51: =일위대가!J337 -> 0 | H51: =E51+F51+G51 -> 127626 | I51: 호표 48
A52: 535972093B2051F270859AF8CC7FA6 | B52: 시스템비계 설치 및 해체(인력) | C52: 10m 이하 | D52: M2 | E52: =일위대가!F343 -> 0 | F52: =일위대가!H343 -> 14718 | G52: =일위대가!J343 -> 294 | H52: =E52+F52+G52 -> 15012 | I52: 호표 49
A53: 535972093B2051F27086A0C87F5EA6 | B53: 시스템비계 설치 및 해체(인력) | C53: 10m 초과~20m 이하 | D53: M2 | E53: =일위대가!F349 -> 0 | F53: =일위대가!H349 -> 17000 | G53: =일위대가!J349 -> 340 | H53: =E53+F53+G53 -> 17340 | I53: 호표 50
A54: 535972093B2051E17E1475F8AF1F36 | B54: 수평 규준틀 | C54: 귀 | D54: 개소 | E54: =일위대가!F355 -> 11262 | F54: =일위대가!H355 -> 160723 | G54: =일위대가!J355 -> 0 | H54: =E54+F54+G54 -> 171985 | I54: 호표 51
A55: 535972093B2062467B2FCE78D8B9E6 | B55: 강관동바리 설치 및 해체 | C55: 3.5m 이하 | D55: M2 | E55: =일위대가!F360 -> 0 | F55: =일위대가!H360 -> 15267 | G55: =일위대가!J360 -> 0 | H55: =E55+F55+G55 -> 15267 | I55: 호표 52
A56: 535972093B2062467B2D1AB8BE29D6 | B56: 강관동바리 | C56: 3.5m이하, 1개월 | D56: M2 | E56: =일위대가!F366 -> 1309 | F56: =일위대가!H366 -> 15267 | G56: =일위대가!J366 -> 0 | H56: =E56+F56+G56 -> 16576 | I56: 호표 53
A57: 535972090FF651E279723C4807BE06 | B57: 콘테이너형 가설사무소 설치 및 해체 | C57: 3.0*6.0m, 3개월 | D57: 개소 | E57: =일위대가!F372 -> 0 | F57: =일위대가!H372 -> 0 | G57: =일위대가!J372 -> 983344 | H57: =E57+F57+G57 -> 983344 | I57: 호표 54
A58: 535972090FF651E2713C7DE8C9AD86 | B58: 콘테이너형 가설건축물 설치 및 해체 | C58: 3.0*6.0m | D58: 개소 | E58: =일위대가!F379 -> 0 | F58: =일위대가!H379 -> 0 | G58: =일위대가!J379 -> 436144 | H58: =E58+F58+G58 -> 436144 | I58: 호표 55
A59: 535972091825FFD07B0C07E80669D6 | B59: 임시칸막이설치 및 해체 | C59: H:2900,각관틀+내화패널100mm,3개월이하 | D59: M | E59: =일위대가!F391 -> 113513 | F59: =일위대가!H391 -> 0 | G59: =일위대가!J391 -> 26949 | H59: =E59+F59+G59 -> 140462 | I59: 호표 56
A60: 535972096049062B7318E648298C56 | B60: 건축물 현장정리 | C60: 철근콘크리트조 | D60: M2 | E60: =일위대가!F395 -> 0 | F60: =일위대가!H395 -> 22368 | G60: =일위대가!J395 -> 0 | H60: =E60+F60+G60 -> 22368 | I60: 호표 57
A61: 535972096049062B743FF028D8E3C6 | B61: 건축물 현장정리(청소포함) | C61: 수선(바닥,천장 수선일경우) | D61: M2 | E61: =일위대가!F399 -> 0 | F61: =일위대가!H399 -> 6022 | G61: =일위대가!J399 -> 0 | H61: =E61+F61+G61 -> 6022 | I61: 호표 58
A62: 535972096076A6827BFA8748895116 | B62: 구조부 먹매김 | C62: 일반 | D62: M2 | E62: =일위대가!F403 -> 0 | F62: =일위대가!H403 -> 1388 | G62: =일위대가!J403 -> 0 | H62: =E62+F62+G62 -> 1388 | I62: 호표 59
A63: 535972096076A6827BF8D9E8C8C416 | B63: 거푸집 먹매김 | C63: 일반 | D63: M2 | E63: =일위대가!F407 -> 0 | F63: =일위대가!H407 -> 3331 | G63: =일위대가!J407 -> 0 | H63: =E63+F63+G63 -> 3331 | I63: 호표 60
A64: 535972096076A6BF7D6D0B68D82E36 | B64: 건축물보양 - 콘크리트 | C64: 살수 | D64: M2 | E64: =일위대가!F411 -> 0 | F64: =일위대가!H411 -> 688 | G64: =일위대가!J411 -> 0 | H64: =E64+F64+G64 -> 688 | I64: 호표 61
A65: 5359523953EAA201753DA548B5B216 | B65: 잡석지정 | C65: 백호0.7M3+콤펙트1.5톤 | D65: M3 | E65: =일위대가!F417 -> 516 | F65: =일위대가!H417 -> 3932 | G65: =일위대가!J417 -> 511 | H65: =E65+F65+G65 -> 4959 | I65: 호표 62
A66: 53592289174C824776B1695888BFB6 | B66: 합판거푸집 - 자재비 | C66: 4회 | D66: M2 | E66: =일위대가!F424 -> 12864 | F66: =일위대가!H424 -> 0 | G66: =일위대가!J424 -> 0 | H66: =E66+F66+G66 -> 12864 | I66: 호표 63
A67: 53592289174C824776B04248FCB096 | B67: 합판거푸집 - 인력투입 | C67: 보통, 수직고 7m까지 | D67: M2 | E67: =일위대가!F430 -> 0 | F67: =일위대가!H430 -> 38183 | G67: =일위대가!J430 -> 381 | H67: =E67+F67+G67 -> 38564 | I67: 호표 64
A68: 53592289174C8247775625C8E84ED6 | B68: 합판거푸집 설치 및 해체 | C68: 보통 4회 | D68: M2 | E68: =일위대가!F435 -> 12864 | F68: =일위대가!H435 -> 38183 | G68: =일위대가!J435 -> 381 | H68: =E68+F68+G68 -> 51428 | I68: 호표 65
A69: 535922891721B90175894D98B89056 | B69: 유로폼 - 주자재비 | D69: 10M2 | E69: =일위대가!F440 -> 24274 | F69: =일위대가!H440 -> 0 | G69: =일위대가!J440 -> 0 | H69: =E69+F69+G69 -> 24274 | I69: 호표 66
A70: 535922891721B901758A5488D42466 | B70: 유로폼 - 인력투입 | C70: 보통, 수직고 7m까지 | D70: M2 | E70: =일위대가!F446 -> 0 | F70: =일위대가!H446 -> 36429 | G70: =일위대가!J446 -> 1092 | H70: =E70+F70+G70 -> 37521 | I70: 호표 67
A71: 535922891721B90174E13D28781406 | B71: 유로폼 설치 및 해체 | C71: 보통 | D71: M2 | E71: =일위대가!F453 -> 3810 | F71: =일위대가!H453 -> 36429 | G71: =일위대가!J453 -> 1092 | H71: =E71+F71+G71 -> 41331 | I71: 호표 68
A72: 5359228921D6072D7483D028EF1A36 | B72: 철근 현장가공 | C72: Type-Ⅰ | D72: TON | E72: =일위대가!F459 -> 0 | F72: =일위대가!H459 -> 217540 | G72: =일위대가!J459 -> 19578 | H72: =E72+F72+G72 -> 237118 | I72: 호표 69
A73: 5359228921D6072D7483D028EF24A6 | B73: 철근 현장조립 | C73: Type-Ⅰ | D73: TON | E73: =일위대가!F466 -> 10003 | F73: =일위대가!H466 -> 573529 | G73: =일위대가!J466 -> 11470 | H73: =E73+F73+G73 -> 595002 | I73: 호표 70
A74: 5359228921D6072D7483D028F96606 | B74: 철근 현장가공 및 현장조립 | C74: Type-Ⅰ | D74: TON | E74: =일위대가!F471 -> 10003 | F74: =일위대가!H471 -> 791069 | G74: =일위대가!J471 -> 31048 | H74: =E74+F74+G74 -> 832120 | I74: 호표 71
A75: 535922896F88F24377F2F0B8676106 | B75: 콘크리트 펌프차 타설 인력편성 | C75: 100m3 미만, 진동기 사용 | D75: 회 | E75: =일위대가!F478 -> 0 | F75: =일위대가!H478 -> 2164080 | G75: =일위대가!J478 -> 108204 | H75: =E75+F75+G75 -> 2272284 | I75: 호표 72
A76: 535922896F88F24377F2F0B8677376 | B76: 콘크리트 펌프차 타설 인력편성 | C76: 100m3 미만, 진동기 사용 안함 | D76: 회 | E76: =일위대가!F485 -> 0 | F76: =일위대가!H485 -> 1664418 | G76: =일위대가!J485 -> 83220 | H76: =E76+F76+G76 -> 1747638 | I76: 호표 73
A77: 535922896FC69EE7776FDFF88DD956 | B77: 무근콘크리트타설/펌프카(21m) | C77: 슬럼프 8~12,100m3미만,양호 | D77: M3 | E77: =일위대가!F490 -> 1043 | F77: =일위대가!H490 -> 18827 | G77: =일위대가!J490 -> 2745 | H77: =E77+F77+G77 -> 22615 | I77: 호표 74
A78: 535922896FC69EE7776FDDC84BABE6 | B78: 철근콘크리트타설/펌프카(21m) | C78: 슬럼프 8~12,100m3미만,양호 | D78: M3 | E78: =일위대가!F495 -> 1177 | F78: =일위대가!H495 -> 24105 | G78: =일위대가!J495 -> 3240 | H78: =E78+F78+G78 -> 28522 | I78: 호표 75
A79: 535922898A2F232C75AD2538650696 | B79: 지수판설치 | C79: PVC, 50*100*5t | D79: M | E79: =일위대가!F501 -> 10000 | F79: =일위대가!H501 -> 9202 | G79: =일위대가!J501 -> 0 | H79: =E79+F79+G79 -> 19202 | I79: 호표 76
A80: 535932E951B8EAD37ED063B8AA2286 | B80: 앵커 볼트 설치 | C80: ∮16 이하 | D80: 개 | E80: =일위대가!F507 -> 0 | F80: =일위대가!H507 -> 17154 | G80: =일위대가!J507 -> 343 | H80: =E80+F80+G80 -> 17497 | I80: 호표 77
A81: 535932E936E3937C72D6FA282AC446 | B81: 부대철골 설치 | D81: TON | E81: =일위대가!F513 -> 55772 | F81: =일위대가!H513 -> 664431 | G81: =일위대가!J513 -> 226110 | H81: =E81+F81+G81 -> 946313 | I81: 호표 78
A82: 5359129980E4D65B79CFC3D85541B6 | B82: 모르타르 배합(배합품 제외) | C82: 배합용적비 1:3, 시멘트, 모래 별도 | D82: M3 | E82: =일위대가!F518 -> 0 | F82: =일위대가!H518 -> 0 | G82: =일위대가!J518 -> 0 | H82: =E82+F82+G82 -> 0 | I82: 호표 79
A83: 5359129980E4D65B79CFC008139856 | B83: 모르타르 배합(배합품 포함) | C83: 배합용적비 1:3, 시멘트, 모래 별도 | D83: M3 | E83: =일위대가!F524 -> 0 | F83: =일위대가!H524 -> 113564 | G83: =일위대가!J524 -> 0 | H83: =E83+F83+G83 -> 113564 | I83: 호표 80
A84: 5359129980E4C5E477D94698A4F0A6 | B84: 모르타르 바름 | C84: 3.6m 이하, 3회 | D84: M2 | E84: =일위대가!F530 -> 0 | F84: =일위대가!H530 -> 36331 | G84: =일위대가!J530 -> 726 | H84: =E84+F84+G84 -> 37057 | I84: 호표 81
A85: 5359129980E4C5E477D944E8DF79E6 | B85: 모르타르 바름 | C85: 바닥, 1회 | D85: M2 | E85: =일위대가!F536 -> 0 | F85: =일위대가!H536 -> 18165 | G85: =일위대가!J536 -> 363 | H85: =E85+F85+G85 -> 18528 | I85: 호표 82
A86: 5359129980E4C5C97EFED1C897A126 | B86: 모르타르 바름 | C86: 외벽, 18mm | D86: M2 | E86: =일위대가!F541 -> 0 | F86: =일위대가!H541 -> 38375 | G86: =일위대가!J541 -> 726 | H86: =E86+F86+G86 -> 39101 | I86: 호표 83
A87: 5359129980E4C5C97EFED1C897A136 | B87: 모르타르 바름 | C87: 외벽, 100mm | D87: M2 | E87: =일위대가!F546 -> 0 | F87: =일위대가!H546 -> 47687 | G87: =일위대가!J546 -> 726 | H87: =E87+F87+G87 -> 48413 | I87: 호표 84
A88: 5359129980E4E0847C2BB9F8B49586 | B88: 모르타르 바름 | C88: 바닥, 30mm | D88: M2 | E88: =일위대가!F551 -> 0 | F88: =일위대가!H551 -> 21571 | G88: =일위대가!J551 -> 363 | H88: =E88+F88+G88 -> 21934 | I88: 호표 85
A89: 5359129980E4E0847C2BB9F8B49596 | B89: 모르타르 바름 | C89: 바닥, 50mm | D89: M2 | E89: =일위대가!F556 -> 0 | F89: =일위대가!H556 -> 23843 | G89: =일위대가!J556 -> 363 | H89: =E89+F89+G89 -> 24206 | I89: 호표 86
A90: 5359E2D90A82084576E9C448020BC6 | B90: 방수프라이머 바름 | C90: 롤러 1층(회) 바름 기준 | D90: M2 | E90: =일위대가!F562 -> 0 | F90: =일위대가!H562 -> 3371 | G90: =일위대가!J562 -> 67 | H90: =E90+F90+G90 -> 3438 | I90: 호표 87
A91: 5359E2D90A82084576EAEA483997A6 | B91: 프라이머 바름 | C91: 수직, - 재료 별도 | D91: M2 | E91: =일위대가!F567 -> 0 | F91: =일위대가!H567 -> 5204 | G91: =일위대가!J567 -> 0 | H91: =E91+F91+G91 -> 5204 | I91: 호표 88
A92: 5359E2D90A82084576EAE8986C4216 | B92: 프라이머 바름 | C92: 수직, 아스팔트 | D92: M2 | E92: =일위대가!F572 -> 855 | F92: =일위대가!H572 -> 5204 | G92: =일위대가!J572 -> 0 | H92: =E92+F92+G92 -> 6059 | I92: 호표 89
A93: 5359E2D92569B7FB771C0298268E26 | B93: 도막바름 | C93: 바닥, 도막 1층(회) 형성 기준 | D93: M2 | E93: =일위대가!F578 -> 0 | F93: =일위대가!H578 -> 4972 | G93: =일위대가!J578 -> 99 | H93: =E93+F93+G93 -> 5071 | I93: 호표 90
A94: 5359E2D92569B7FB771ECFD8E926C6 | B94: 마감도료(Top-coat) 바름 | C94: 바닥, 1층(회) 바름 기준 | D94: M2 | E94: =일위대가!F584 -> 0 | F94: =일위대가!H584 -> 3599 | G94: =일위대가!J584 -> 71 | H94: =E94+F94+G94 -> 3670 | I94: 호표 91
A95: 5359E2D9255F59B171BC11E8B83F96 | B95: 도막바름 | C95: 수직부, 도막 1층(회) 형성 기준 | D95: M2 | E95: =일위대가!F590 -> 0 | F95: =일위대가!H590 -> 6630 | G95: =일위대가!J590 -> 132 | H95: =E95+F95+G95 -> 6762 | I95: 호표 92
A96: 5359E2D9255F59B171BEDF38CB33C6 | B96: 마감도료(Top-coat) 바름 | C96: 수직부, 1층(회) 바름 기준 | D96: M2 | E96: =일위대가!F596 -> 0 | F96: =일위대가!H596 -> 4628 | G96: =일위대가!J596 -> 92 | H96: =E96+F96+G96 -> 4720 | I96: 호표 93
A97: 5359E2D9254EEA95790215D86F7046 | B97: 우레탄방수 | C97: 바닥 3mm,노출 | D97: M2 | E97: =일위대가!F606 -> 19208 | F97: =일위대가!H606 -> 21886 | G97: =일위대가!J606 -> 435 | H97: =E97+F97+G97 -> 41529 | I97: 호표 94
A98: 5359E2D9254EEA95790215D84C9086 | B98: 우레탄방수 | C98: 벽 2mm,노출 | D98: M2 | E98: =일위대가!F616 -> 14008 | F98: =일위대가!H616 -> 21259 | G98: =일위대가!J616 -> 423 | H98: =E98+F98+G98 -> 35690 | I98: 호표 95
A99: 5359E2D97D9BC9AC741D4BA8DF04C6 | B99: 수밀코킹 | C99: 재료비 별도 | D99: M | E99: =일위대가!F620 -> 0 | F99: =일위대가!H620 -> 5228 | G99: =일위대가!J620 -> 0 | H99: =E99+F99+G99 -> 5228 | I99: 호표 96
A100: 5359E2D97DA46233774CE098F86326 | B100: 수밀코킹(50*20mm) | C100: 폴리우레탄, 콘크리트죠인트 | D100: M | E100: =일위대가!F625 -> 6350 | F100: =일위대가!H625 -> 5228 | G100: =일위대가!J625 -> 0 | H100: =E100+F100+G100 -> 11578 | I100: 호표 97
...

Sheet 일위대가
A1: [ 남원국악예술고 장애인 승강기 증축공사 ]
A2: 품 명 | B2: 규 격 | C2: 단위 | D2: 수량 | E2: 재 료 비 | G2: 노 무 비 | I2: 경 비 | K2: 합 계 | M2: 비 고 | N2: 일위대가 | O2: 품목코드 | P2: 일위 | Q2: 단산 | R2: 자재 | S2: 손료적용 | T2: 손료저장 | U2: 적용율 | V2: JUK1 | W2: JUK2 | X2: JUK3 | Y2: JUK4 | Z2: JUK5 | AA2: JUK6 | AB2: JUK7 | AC2: JUK8 | AD2: JUK9 | AE2: JUK10 | AF2: JUK11 | AG2: JUK12 | AH2: JUK13 | AI2: JUK14 | AJ2: JUK15 | AK2: JUK16 | AL2: JUK17 | AM2: JUK18 | AN2: JUK19 | AO2: JUK20 | AP2: 할증적용 | AQ2: 할증저장 | AR2: 할증율 | AS2: HAL1 | AT2: HAL2 | AU2: HAL3 | AV2: 자재구분 | AW2: 일위대가+자재 | AX2: 장비일위 | AY2: 설정 | AZ2: 할증체크
E3: 단 가 | F3: 금 액 | G3: 단 가 | H3: 금 액 | I3: 단 가 | J3: 금 액 | K3: 단 가 | L3: 금 액
A4: 굴착기(무한궤도) 0.2㎥ HR ( 호표 1 ) | N4: 5446B2C9F0376E1B774699C858632916F67601C5
A5: 굴착기(무한궤도) | B5: 0.2㎥ | C5: 대 | D5: 0.2085 | E5: =단가대비표!O5 -> 0 | F5: =TRUNC(E5*D5,1) -> 0 | G5: =단가대비표!P5 -> 0 | H5: =TRUNC(G5*D5,1) -> 0 | I5: =단가대비표!V5 -> 66538 | J5: =TRUNC(I5*D5,1) -> 13873.1 | K5: =TRUNC(E5+G5+I5,1) -> 66538 | L5: =TRUNC(F5+H5+J5,1) -> 13873.1 | M5: 천원 | N5: 5446B2C9F0376E1B774699C858632916F67601C5 | O5: 5446B2C9F0376E1B774699C858632916F67601 | P5: F | Q5: F | R5: T | AW5: 5446B2C9F0376E1B774699C858632916F67601C55446B2C9F0376E1B774699C858632916F67601
A6: 경유 | B6: 저유황 | C6: L | D6: 5 | E6: =단가대비표!O45 -> 1421 | F6: =TRUNC(E6*D6,1) -> 7105 | G6: =단가대비표!P45 -> 0 | H6: =TRUNC(G6*D6,1) -> 0 | I6: =단가대비표!V45 -> 0 | J6: =TRUNC(I6*D6,1) -> 0 | K6: =TRUNC(E6+G6+I6,1) -> 1421 | L6: =TRUNC(F6+H6+J6,1) -> 7105 | N6: 5446B2C9F0376E1B774699C858632916F67601C5 | O6: 545772A939C89A367E9F1718EA235506639BF2 | P6: F | Q6: F | R6: T | V6: 1 | AW6: 5446B2C9F0376E1B774699C858632916F67601C5545772A939C89A367E9F1718EA235506639BF2
A7: 잡재료 | B7: 주연료비의 21% | C7: 식 | D7: 1 | E7: =TRUNC(SUMIF(V5:V8, RIGHTB(O7, 1), F5:F8)*U7, 2) -> 1492.05 | F7: =TRUNC(E7*D7,1) -> 1492 | G7: 0 | H7: =TRUNC(G7*D7,1) -> 0 | I7: 0 | J7: =TRUNC(I7*D7,1) -> 0 | K7: =TRUNC(E7+G7+I7,1) -> 1492 | L7: =TRUNC(F7+H7+J7,1) -> 1492 | N7: 5446B2C9F0376E1B774699C858632916F67601C5 | O7: 524D3239FD469645789512286F86001 | P7: F | Q7: F | R7: F | S7: 0 | T7: 0 | U7: 0.21 | AW7: 5446B2C9F0376E1B774699C858632916F67601C5524D3239FD469645789512286F86001
A8: 건설기계운전사 | B8: 일반공사 직종 | C8: 인 | D8: 1 | E8: =TRUNC(단가대비표!O192*1/8*16/12*25/20, 1) -> 0 | F8: =TRUNC(E8*D8,1) -> 0 | G8: =TRUNC(단가대비표!P192*1/8*16/12*25/20, 1) -> 59020.2 | H8: =TRUNC(G8*D8,1) -> 59020.2 | I8: =TRUNC(단가대비표!V192*1/8*16/12*25/20, 1) -> 0 | J8: =TRUNC(I8*D8,1) -> 0 | K8: =TRUNC(E8+G8+I8,1) -> 59020.2 | L8: =TRUNC(F8+H8+J8,1) -> 59020.2 | N8: 5446B2C9F0376E1B774699C858632916F67601C5 | O8: 538BA229680AE9E374DF28D86359BE1686547F | P8: F | Q8: F | R8: T | AW8: 5446B2C9F0376E1B774699C858632916F67601C5538BA229680AE9E374DF28D86359BE1686547F | AX8: T
A9: [ 합 계 ] | F9: =TRUNC(SUMIF(N5:N8, N4, F5:F8),0) -> 8597 | H9: =TRUNC(SUMIF(N5:N8, N4, H5:H8),0) -> 59020 | J9: =TRUNC(SUMIF(N5:N8, N4, J5:J8),0) -> 13873 | L9: =F9+H9+J9 -> 81490 | N9: TOTAL | O9: TOTAL
A11: 굴착기(무한궤도) 0.4㎥ HR ( 호표 2 ) | N11: 5446B2C9F0376E1B774699C8580A9646B797AC70
A12: 굴착기(무한궤도) | B12: 0.4㎥ | C12: 대 | D12: 0.2085 | E12: =단가대비표!O6 -> 0 | F12: =TRUNC(E12*D12,1) -> 0 | G12: =단가대비표!P6 -> 0 | H12: =TRUNC(G12*D12,1) -> 0 | I12: =단가대비표!V6 -> 84000 | J12: =TRUNC(I12*D12,1) -> 17514 | K12: =TRUNC(E12+G12+I12,1) -> 84000 | L12: =TRUNC(F12+H12+J12,1) -> 17514 | M12: 천원 | N12: 5446B2C9F0376E1B774699C8580A9646B797AC70 | O12: 5446B2C9F0376E1B774699C8580A9646B797AC | P12: F | Q12: F | R12: T | AW12: 5446B2C9F0376E1B774699C8580A9646B797AC705446B2C9F0376E1B774699C8580A9646B797AC
A13: 경유 | B13: 저유황 | C13: L | D13: 9.9 | E13: =단가대비표!O45 -> 1421 | F13: =TRUNC(E13*D13,1) -> 14067.9 | G13: =단가대비표!P45 -> 0 | H13: =TRUNC(G13*D13,1) -> 0 | I13: =단가대비표!V45 -> 0 | J13: =TRUNC(I13*D13,1) -> 0 | K13: =TRUNC(E13+G13+I13,1) -> 1421 | L13: =TRUNC(F13+H13+J13,1) -> 14067.9 | N13: 5446B2C9F0376E1B774699C8580A9646B797AC70 | O13: 545772A939C89A367E9F1718EA235506639BF2 | P13: F | Q13: F | R13: T | V13: 1 | AW13: 5446B2C9F0376E1B774699C8580A9646B797AC70545772A939C89A367E9F1718EA235506639BF2
A14: 잡재료 | B14: 주연료비의 22% | C14: 식 | D14: 1 | E14: =TRUNC(SUMIF(V12:V15, RIGHTB(O14, 1), F12:F15)*U14, 2) -> 3094.93 | F14: =TRUNC(E14*D14,1) -> 3094.9 | G14: 0 | H14: =TRUNC(G14*D14,1) -> 0 | I14: 0 | J14: =TRUNC(I14*D14,1) -> 0 | K14: =TRUNC(E14+G14+I14,1) -> 3094.9 | L14: =TRUNC(F14+H14+J14,1) -> 3094.9 | N14: 5446B2C9F0376E1B774699C8580A9646B797AC70 | O14: 524D3239FD469645789512286F86001 | P14: F | Q14: F | R14: F | S14: 0 | T14: 0 | U14: 0.22 | AW14: 5446B2C9F0376E1B774699C8580A9646B797AC70524D3239FD469645789512286F86001
A15: 건설기계운전사 | B15: 일반공사 직종 | C15: 인 | D15: 1 | E15: =TRUNC(단가대비표!O192*1/8*16/12*25/20, 1) -> 0 | F15: =TRUNC(E15*D15,1) -> 0 | G15: =TRUNC(단가대비표!P192*1/8*16/12*25/20, 1) -> 59020.2 | H15: =TRUNC(G15*D15,1) -> 59020.2 | I15: =TRUNC(단가대비표!V192*1/8*16/12*25/20, 1) -> 0 | J15: =TRUNC(I15*D15,1) -> 0 | K15: =TRUNC(E15+G15+I15,1) -> 59020.2 | L15: =TRUNC(F15+H15+J15,1) -> 59020.2 | N15: 5446B2C9F0376E1B774699C8580A9646B797AC70 | O15: 538BA229680AE9E374DF28D86359BE1686547F | P15: F | Q15: F | R15: T | AW15: 5446B2C9F0376E1B774699C8580A9646B797AC70538BA229680AE9E374DF28D86359BE1686547F | AX15: T
A16: [ 합 계 ] | F16: =TRUNC(SUMIF(N12:N15, N11, F12:F15),0) -> 17162 | H16: =TRUNC(SUMIF(N12:N15, N11, H12:H15),0) -> 59020 | J16: =TRUNC(SUMIF(N12:N15, N11, J12:J15),0) -> 17514 | L16: =F16+H16+J16 -> 93696 | N16: TOTAL | O16: TOTAL
A18: 굴착기(무한궤도) 0.6㎥ HR ( 호표 3 ) | N18: 5446B2C9F0376E1B774699C858257C061F8AA7D4
A19: 굴착기(무한궤도) | B19: 0.6㎥ | C19: 대 | D19: 0.2085 | E19: =단가대비표!O7 -> 0 | F19: =TRUNC(E19*D19,1) -> 0 | G19: =단가대비표!P7 -> 0 | H19: =TRUNC(G19*D19,1) -> 0 | I19: =단가대비표!V7 -> 112342 | J19: =TRUNC(I19*D19,1) -> 23423.3 | K19: =TRUNC(E19+G19+I19,1) -> 112342 | L19: =TRUNC(F19+H19+J19,1) -> 23423.3 | M19: 천원 | N19: 5446B2C9F0376E1B774699C858257C061F8AA7D4 | O19: 5446B2C9F0376E1B774699C858257C061F8AA7 | P19: F | Q19: F | R19: T | AW19: 5446B2C9F0376E1B774699C858257C061F8AA7D45446B2C9F0376E1B774699C858257C061F8AA7
A20: 경유 | B20: 저유황 | C20: L | D20: 10.2 | E20: =단가대비표!O45 -> 1421 | F20: =TRUNC(E20*D20,1) -> 14494.2 | G20: =단가대비표!P45 -> 0 | H20: =TRUNC(G20*D20,1) -> 0 | I20: =단가대비표!V45 -> 0 | J20: =TRUNC(I20*D20,1) -> 0 | K20: =TRUNC(E20+G20+I20,1) -> 1421 | L20: =TRUNC(F20+H20+J20,1) -> 14494.2 | N20: 5446B2C9F0376E1B774699C858257C061F8AA7D4 | O20: 545772A939C89A367E9F1718EA235506639BF2 | P20: F | Q20: F | R20: T | V20: 1 | AW20: 5446B2C9F0376E1B774699C858257C061F8AA7D4545772A939C89A367E9F1718EA235506639BF2
A21: 잡재료 | B21: 주연료비의 22% | C21: 식 | D21: 1 | E21: =TRUNC(SUMIF(V19:V22, RIGHTB(O21, 1), F19:F22)*U21, 2) -> 3188.72 | F21: =TRUNC(E21*D21,1) -> 3188.7 | G21: 0 | H21: =TRUNC(G21*D21,1) -> 0 | I21: 0 | J21: =TRUNC(I21*D21,1) -> 0 | K21: =TRUNC(E21+G21+I21,1) -> 3188.7 | L21: =TRUNC(F21+H21+J21,1) -> 3188.7 | N21: 5446B2C9F0376E1B774699C858257C061F8AA7D4 | O21: 524D3239FD469645789512286F86001 | P21: F | Q21: F | R21: F | S21: 0 | T21: 0 | U21: 0.22 | AW21: 5446B2C9F0376E1B774699C858257C061F8AA7D4524D3239FD469645789512286F86001
A22: 건설기계운전사 | B22: 일반공사 직종 | C22: 인 | D22: 1 | E22: =TRUNC(단가대비표!O192*1/8*16/12*25/20, 1) -> 0 | F22: =TRUNC(E22*D22,1) -> 0 | G22: =TRUNC(단가대비표!P192*1/8*16/12*25/20, 1) -> 59020.2 | H22: =TRUNC(G22*D22,1) -> 59020.2 | I22: =TRUNC(단가대비표!V192*1/8*16/12*25/20, 1) -> 0 | J22: =TRUNC(I22*D22,1) -> 0 | K22: =TRUNC(E22+G22+I22,1) -> 59020.2 | L22: =TRUNC(F22+H22+J22,1) -> 59020.2 | N22: 5446B2C9F0376E1B774699C858257C061F8AA7D4 | O22: 538BA229680AE9E374DF28D86359BE1686547F | P22: F | Q22: F | R22: T | AW22: 5446B2C9F0376E1B774699C858257C061F8AA7D4538BA229680AE9E374DF28D86359BE1686547F | AX22: T
A23: [ 합 계 ] | F23: =TRUNC(SUMIF(N19:N22, N18, F19:F22),0) -> 17682 | H23: =TRUNC(SUMIF(N19:N22, N18, H19:H22),0) -> 59020 | J23: =TRUNC(SUMIF(N19:N22, N18, J19:J22),0) -> 23423 | L23: =F23+H23+J23 -> 100125 | N23: TOTAL | O23: TOTAL
A25: 굴착기(무한궤도) 0.7㎥ HR ( 호표 4 ) | N25: 5446B2C9F0376E1B774699C85837DC36F602B903
A26: 굴착기(무한궤도) | B26: 0.7㎥ | C26: 대 | D26: 0.2085 | E26: =단가대비표!O8 -> 0 | F26: =TRUNC(E26*D26,1) -> 0 | G26: =단가대비표!P8 -> 0 | H26: =TRUNC(G26*D26,1) -> 0 | I26: =단가대비표!V8 -> 117766 | J26: =TRUNC(I26*D26,1) -> 24554.2 | K26: =TRUNC(E26+G26+I26,1) -> 117766 | L26: =TRUNC(F26+H26+J26,1) -> 24554.2 | M26: 천원 | N26: 5446B2C9F0376E1B774699C85837DC36F602B903 | O26: 5446B2C9F0376E1B774699C85837DC36F602B9 | P26: F | Q26: F | R26: T | AW26: 5446B2C9F0376E1B774699C85837DC36F602B9035446B2C9F0376E1B774699C85837DC36F602B9
A27: 경유 | B27: 저유황 | C27: L | D27: 11.6 | E27: =단가대비표!O45 -> 1421 | F27: =TRUNC(E27*D27,1) -> 16483.6 | G27: =단가대비표!P45 -> 0 | H27: =TRUNC(G27*D27,1) -> 0 | I27: =단가대비표!V45 -> 0 | J27: =TRUNC(I27*D27,1) -> 0 | K27: =TRUNC(E27+G27+I27,1) -> 1421 | L27: =TRUNC(F27+H27+J27,1) -> 16483.6 | N27: 5446B2C9F0376E1B774699C85837DC36F602B903 | O27: 545772A939C89A367E9F1718EA235506639BF2 | P27: F | Q27: F | R27: T | V27: 1 | AW27: 5446B2C9F0376E1B774699C85837DC36F602B903545772A939C89A367E9F1718EA235506639BF2
A28: 잡재료 | B28: 주연료비의 22% | C28: 식 | D28: 1 | E28: =TRUNC(SUMIF(V26:V29, RIGHTB(O28, 1), F26:F29)*U28, 2) -> 3626.39 | F28: =TRUNC(E28*D28,1) -> 3626.3 | G28: 0 | H28: =TRUNC(G28*D28,1) -> 0 | I28: 0 | J28: =TRUNC(I28*D28,1) -> 0 | K28: =TRUNC(E28+G28+I28,1) -> 3626.3 | L28: =TRUNC(F28+H28+J28,1) -> 3626.3 | N28: 5446B2C9F0376E1B774699C85837DC36F602B903 | O28: 524D3239FD469645789512286F86001 | P28: F | Q28: F | R28: F | S28: 0 | T28: 0 | U28: 0.22 | AW28: 5446B2C9F0376E1B774699C85837DC36F602B903524D3239FD469645789512286F86001
A29: 건설기계운전사 | B29: 일반공사 직종 | C29: 인 | D29: 1 | E29: =TRUNC(단가대비표!O192*1/8*16/12*25/20, 1) -> 0 | F29: =TRUNC(E29*D29,1) -> 0 | G29: =TRUNC(단가대비표!P192*1/8*16/12*25/20, 1) -> 59020.2 | H29: =TRUNC(G29*D29,1) -> 59020.2 | I29: =TRUNC(단가대비표!V192*1/8*16/12*25/20, 1) -> 0 | J29: =TRUNC(I29*D29,1) -> 0 | K29: =TRUNC(E29+G29+I29,1) -> 59020.2 | L29: =TRUNC(F29+H29+J29,1) -> 59020.2 | N29: 5446B2C9F0376E1B774699C85837DC36F602B903 | O29: 538BA229680AE9E374DF28D86359BE1686547F | P29: F | Q29: F | R29: T | AW29: 5446B2C9F0376E1B774699C85837DC36F602B903538BA229680AE9E374DF28D86359BE1686547F | AX29: T
A30: [ 합 계 ] | F30: =TRUNC(SUMIF(N26:N29, N25, F26:F29),0) -> 20109 | H30: =TRUNC(SUMIF(N26:N29, N25, H26:H29),0) -> 59020 | J30: =TRUNC(SUMIF(N26:N29, N25, J26:J29),0) -> 24554 | L30: =F30+H30+J30 -> 103683 | N30: TOTAL | O30: TOTAL
A32: 굴착기(무한궤도) 1.0㎥ HR ( 호표 5 ) | N32: 5446B2C9F0376E1B774699C84FDB25663DB33CD1
A33: 굴착기(무한궤도) | B33: 1.0㎥ | C33: 대 | D33: 0.2085 | E33: =단가대비표!O9 -> 0 | F33: =TRUNC(E33*D33,1) -> 0 | G33: =단가대비표!P9 -> 0 | H33: =TRUNC(G33*D33,1) -> 0 | I33: =단가대비표!V9 -> 142069 | J33: =TRUNC(I33*D33,1) -> 29621.3 | K33: =TRUNC(E33+G33+I33,1) -> 142069 | L33: =TRUNC(F33+H33+J33,1) -> 29621.3 | M33: 천원 | N33: 5446B2C9F0376E1B774699C84FDB25663DB33CD1 | O33: 5446B2C9F0376E1B774699C84FDB25663DB33C | P33: F | Q33: F | R33: T | AW33: 5446B2C9F0376E1B774699C84FDB25663DB33CD15446B2C9F0376E1B774699C84FDB25663DB33C
A34: 경유 | B34: 저유황 | C34: L | D34: 19.5 | E34: =단가대비표!O45 -> 1421 | F34: =TRUNC(E34*D34,1) -> 27709.5 | G34: =단가대비표!P45 -> 0 | H34: =TRUNC(G34*D34,1) -> 0 | I34: =단가대비표!V45 -> 0 | J34: =TRUNC(I34*D34,1) -> 0 | K34: =TRUNC(E34+G34+I34,1) -> 1421 | L34: =TRUNC(F34+H34+J34,1) -> 27709.5 | N34: 5446B2C9F0376E1B774699C84FDB25663DB33CD1 | O34: 545772A939C89A367E9F1718EA235506639BF2 | P34: F | Q34: F | R34: T | V34: 1 | AW34: 5446B2C9F0376E1B774699C84FDB25663DB33CD1545772A939C89A367E9F1718EA235506639BF2
A35: 잡재료 | B35: 주연료비의 22% | C35: 식 | D35: 1 | E35: =TRUNC(SUMIF(V33:V36, RIGHTB(O35, 1), F33:F36)*U35, 2) -> 6096.09 | F35: =TRUNC(E35*D35,1) -> 6096 | G35: 0 | H35: =TRUNC(G35*D35,1) -> 0 | I35: 0 | J35: =TRUNC(I35*D35,1) -> 0 | K35: =TRUNC(E35+G35+I35,1) -> 6096 | L35: =TRUNC(F35+H35+J35,1) -> 6096 | N35: 5446B2C9F0376E1B774699C84FDB25663DB33CD1 | O35: 524D3239FD469645789512286F86001 | P35: F | Q35: F | R35: F | S35: 0 | T35: 0 | U35: 0.22 | AW35: 5446B2C9F0376E1B774699C84FDB25663DB33CD1524D3239FD469645789512286F86001
A36: 건설기계운전사 | B36: 일반공사 직종 | C36: 인 | D36: 1 | E36: =TRUNC(단가대비표!O192*1/8*16/12*25/20, 1) -> 0 | F36: =TRUNC(E36*D36,1) -> 0 | G36: =TRUNC(단가대비표!P192*1/8*16/12*25/20, 1) -> 59020.2 | H36: =TRUNC(G36*D36,1) -> 59020.2 | I36: =TRUNC(단가대비표!V192*1/8*16/12*25/20, 1) -> 0 | J36: =TRUNC(I36*D36,1) -> 0 | K36: =TRUNC(E36+G36+I36,1) -> 59020.2 | L36: =TRUNC(F36+H36+J36,1) -> 59020.2 | N36: 5446B2C9F0376E1B774699C84FDB25663DB33CD1 | O36: 538BA229680AE9E374DF28D86359BE1686547F | P36: F | Q36: F | R36: T | AW36: 5446B2C9F0376E1B774699C84FDB25663DB33CD1538BA229680AE9E374DF28D86359BE1686547F | AX36: T
A37: [ 합 계 ] | F37: =TRUNC(SUMIF(N33:N36, N32, F33:F36),0) -> 33805 | H37: =TRUNC(SUMIF(N33:N36, N32, H33:H36),0) -> 59020 | J37: =TRUNC(SUMIF(N33:N36, N32, J33:J36),0) -> 29621 | L37: =F37+H37+J37 -> 122446 | N37: TOTAL | O37: TOTAL
A39: 굴착기(타이어) 0.6㎥ HR ( 호표 6 ) | N39: 5446B2C9F0376E1B76A1DD58090571E64E7B3165
A40: 굴착기(타이어) | B40: 0.6㎥ | C40: 대 | D40: 0.2279 | E40: =단가대비표!O10 -> 0 | F40: =TRUNC(E40*D40,1) -> 0 | G40: =단가대비표!P10 -> 0 | H40: =TRUNC(G40*D40,1) -> 0 | I40: =단가대비표!V10 -> 119000 | J40: =TRUNC(I40*D40,1) -> 27120.1 | K40: =TRUNC(E40+G40+I40,1) -> 119000 | L40: =TRUNC(F40+H40+J40,1) -> 27120.1 | M40: 천원 | N40: 5446B2C9F0376E1B76A1DD58090571E64E7B3165 | O40: 5446B2C9F0376E1B76A1DD58090571E64E7B31 | P40: F | Q40: F | R40: T | AW40: 5446B2C9F0376E1B76A1DD58090571E64E7B31655446B2C9F0376E1B76A1DD58090571E64E7B31
A41: 경유 | B41: 저유황 | C41: L | D41: 11.6 | E41: =단가대비표!O45 -> 1421 | F41: =TRUNC(E41*D41,1) -> 16483.6 | G41: =단가대비표!P45 -> 0 | H41: =TRUNC(G41*D41,1) -> 0 | I41: =단가대비표!V45 -> 0 | J41: =TRUNC(I41*D41,1) -> 0 | K41: =TRUNC(E41+G41+I41,1) -> 1421 | L41: =TRUNC(F41+H41+J41,1) -> 16483.6 | N41: 5446B2C9F0376E1B76A1DD58090571E64E7B3165 | O41: 545772A939C89A367E9F1718EA235506639BF2 | P41: F | Q41: F | R41: T | V41: 1 | AW41: 5446B2C9F0376E1B76A1DD58090571E64E7B3165545772A939C89A367E9F1718EA235506639BF2
A42: 잡재료 | B42: 주연료비의 24% | C42: 식 | D42: 1 | E42: =TRUNC(SUMIF(V40:V43, RIGHTB(O42, 1), F40:F43)*U42, 2) -> 3956.06 | F42: =TRUNC(E42*D42,1) -> 3956 | G42: 0 | H42: =TRUNC(G42*D42,1) -> 0 | I42: 0 | J42: =TRUNC(I42*D42,1) -> 0 | K42: =TRUNC(E42+G42+I42,1) -> 3956 | L42: =TRUNC(F42+H42+J42,1) -> 3956 | N42: 5446B2C9F0376E1B76A1DD58090571E64E7B3165 | O42: 524D3239FD469645789512286F86001 | P42: F | Q42: F | R42: F | S42: 0 | T42: 0 | U42: 0.24 | AW42: 5446B2C9F0376E1B76A1DD58090571E64E7B3165524D3239FD469645789512286F86001
A43: 건설기계운전사 | B43: 일반공사 직종 | C43: 인 | D43: 1 | E43: =TRUNC(단가대비표!O192*1/8*16/12*25/20, 1) -> 0 | F43: =TRUNC(E43*D43,1) -> 0 | G43: =TRUNC(단가대비표!P192*1/8*16/12*25/20, 1) -> 59020.2 | H43: =TRUNC(G43*D43,1) -> 59020.2 | I43: =TRUNC(단가대비표!V192*1/8*16/12*25/20, 1) -> 0 | J43: =TRUNC(I43*D43,1) -> 0 | K43: =TRUNC(E43+G43+I43,1) -> 59020.2 | L43: =TRUNC(F43+H43+J43,1) -> 59020.2 | N43: 5446B2C9F0376E1B76A1DD58090571E64E7B3165 | O43: 538BA229680AE9E374DF28D86359BE1686547F | P43: F | Q43: F | R43: T | AW43: 5446B2C9F0376E1B76A1DD58090571E64E7B3165538BA229680AE9E374DF28D86359BE1686547F | AX43: T
A44: [ 합 계 ] | F44: =TRUNC(SUMIF(N40:N43, N39, F40:F43),0) -> 20439 | H44: =TRUNC(SUMIF(N40:N43, N39, H40:H43),0) -> 59020 | J44: =TRUNC(SUMIF(N40:N43, N39, J40:J43),0) -> 27120 | L44: =F44+H44+J44 -> 106579 | N44: TOTAL | O44: TOTAL
A46: 대형 브레이커 0.4㎥용 HR ( 호표 7 ) | N46: 5446B2C9F0376E1B74F361D8091E21E69F7CD58F
A47: 대형 브레이커 | B47: 0.4㎥용 | C47: 대 | D47: 0.6601 | E47: =단가대비표!O11 -> 0 | F47: =TRUNC(E47*D47,1) -> 0 | G47: =단가대비표!P11 -> 0 | H47: =TRUNC(G47*D47,1) -> 0 | I47: =단가대비표!V11 -> 8352 | J47: =TRUNC(I47*D47,1) -> 5513.1 | K47: =TRUNC(E47+G47+I47,1) -> 8352 | L47: =TRUNC(F47+H47+J47,1) -> 5513.1 | M47: 천원 | N47: 5446B2C9F0376E1B74F361D8091E21E69F7CD58F | O47: 5446B2C9F0376E1B74F361D8091E21E69F7CD5 | P47: F | Q47: F | R47: T | AW47: 5446B2C9F0376E1B74F361D8091E21E69F7CD58F5446B2C9F0376E1B74F361D8091E21E69F7CD5
A48: [ 합 계 ] | F48: =TRUNC(SUMIF(N47:N47, N46, F47:F47),0) -> 0 | H48: =TRUNC(SUMIF(N47:N47, N46, H47:H47),0) -> 0 | J48: =TRUNC(SUMIF(N47:N47, N46, J47:J47),0) -> 5513 | L48: =F48+H48+J48 -> 5513 | N48: TOTAL | O48: TOTAL
A50: 압쇄기(펄버라이저) 1.0㎥용 HR ( 호표 8 ) | N50: 5446B2C9F0376E1B72C56658720C82B68A6C4EAC
A51: 압쇄기(펄버라이저) | B51: 1.0㎥용 | C51: 대 | D51: 0.6601 | E51: =단가대비표!O12 -> 0 | F51: =TRUNC(E51*D51,1) -> 0 | G51: =단가대비표!P12 -> 0 | H51: =TRUNC(G51*D51,1) -> 0 | I51: =단가대비표!V12 -> 28567 | J51: =TRUNC(I51*D51,1) -> 18857 | K51: =TRUNC(E51+G51+I51,1) -> 28567 | L51: =TRUNC(F51+H51+J51,1) -> 18857 | M51: 천원 | N51: 5446B2C9F0376E1B72C56658720C82B68A6C4EAC | O51: 5446B2C9F0376E1B72C56658720C82B68A6C4E | P51: F | Q51: F | R51: T | AW51: 5446B2C9F0376E1B72C56658720C82B68A6C4EAC5446B2C9F0376E1B72C56658720C82B68A6C4E
A52: [ 합 계 ] | F52: =TRUNC(SUMIF(N51:N51, N50, F51:F51),0) -> 0 | H52: =TRUNC(SUMIF(N51:N51, N50, H51:H51),0) -> 0 | J52: =TRUNC(SUMIF(N51:N51, N50, J51:J51),0) -> 18857 | L52: =F52+H52+J52 -> 18857 | N52: TOTAL | O52: TOTAL
A54: 덤프트럭 8ton HR ( 호표 9 ) | N54: 5446B2C9F0376E5172FAAB78952E43868D5D0387
A55: 덤프트럭 | B55: 8ton | C55: 대 | D55: 0.282 | E55: =단가대비표!O13 -> 0 | F55: =TRUNC(E55*D55,1) -> 0 | G55: =단가대비표!P13 -> 0 | H55: =TRUNC(G55*D55,1) -> 0 | I55: =단가대비표!V13 -> 37391 | J55: =TRUNC(I55*D55,1) -> 10544.2 | K55: =TRUNC(E55+G55+I55,1) -> 37391 | L55: =TRUNC(F55+H55+J55,1) -> 10544.2 | M55: 천원 | N55: 5446B2C9F0376E5172FAAB78952E43868D5D0387 | O55: 5446B2C9F0376E5172FAAB78952E43868D5D03 | P55: F | Q55: F | R55: T | AW55: 5446B2C9F0376E5172FAAB78952E43868D5D03875446B2C9F0376E5172FAAB78952E43868D5D03
A56: 경유 | B56: 저유황 | C56: L | D56: 9.3 | E56: =단가대비표!O45 -> 1421 | F56: =TRUNC(E56*D56,1) -> 13215.3 | G56: =단가대비표!P45 -> 0 | H56: =TRUNC(G56*D56,1) -> 0 | I56: =단가대비표!V45 -> 0 | J56: =TRUNC(I56*D56,1) -> 0 | K56: =TRUNC(E56+G56+I56,1) -> 1421 | L56: =TRUNC(F56+H56+J56,1) -> 13215.3 | N56: 5446B2C9F0376E5172FAAB78952E43868D5D0387 | O56: 545772A939C89A367E9F1718EA235506639BF2 | P56: F | Q56: F | R56: T | V56: 1 | AW56: 5446B2C9F0376E5172FAAB78952E43868D5D0387545772A939C89A367E9F1718EA235506639BF2
A57: 잡재료 | B57: 주연료비의 38% | C57: 식 | D57: 1 | E57: =TRUNC(SUMIF(V55:V58, RIGHTB(O57, 1), F55:F58)*U57, 2) -> 5021.81 | F57: =TRUNC(E57*D57,1) -> 5021.8 | G57: 0 | H57: =TRUNC(G57*D57,1) -> 0 | I57: 0 | J57: =TRUNC(I57*D57,1) -> 0 | K57: =TRUNC(E57+G57+I57,1) -> 5021.8 | L57: =TRUNC(F57+H57+J57,1) -> 5021.8 | N57: 5446B2C9F0376E5172FAAB78952E43868D5D0387 | O57: 524D3239FD469645789512286F86001 | P57: F | Q57: F | R57: F | S57: 0 | T57: 0 | U57: 0.38 | AW57: 5446B2C9F0376E5172FAAB78952E43868D5D0387524D3239FD469645789512286F86001
A58: 화물차운전사 | B58: 일반공사 직종 | C58: 인 | D58: 1 | E58: =TRUNC(단가대비표!O193*1/8*16/12*25/20, 1) -> 0 | F58: =TRUNC(E58*D58,1) -> 0 | G58: =TRUNC(단가대비표!P193*1/8*16/12*25/20, 1) -> 49778.3 | H58: =TRUNC(G58*D58,1) -> 49778.3 | I58: =TRUNC(단가대비표!V193*1/8*16/12*25/20, 1) -> 0 | J58: =TRUNC(I58*D58,1) -> 0 | K58: =TRUNC(E58+G58+I58,1) -> 49778.3 | L58: =TRUNC(F58+H58+J58,1) -> 49778.3 | N58: 5446B2C9F0376E5172FAAB78952E43868D5D0387 | O58: 538BA229680AE9E374DF28D86359BE1686547E | P58: F | Q58: F | R58: T | AW58: 5446B2C9F0376E5172FAAB78952E43868D5D0387538BA229680AE9E374DF28D86359BE1686547E | AX58: T
A59: [ 합 계 ] | F59: =TRUNC(SUMIF(N55:N58, N54, F55:F58),0) -> 18237 | H59: =TRUNC(SUMIF(N55:N58, N54, H55:H58),0) -> 49778 | J59: =TRUNC(SUMIF(N55:N58, N54, J55:J58),0) -> 10544 | L59: =F59+H59+J59 -> 78559 | N59: TOTAL | O59: TOTAL
A61: 덤프트럭 15ton HR ( 호표 10 ) | N61: 5446B2C9F0376E5172FAAB788B6042762D66EEAA
A62: 덤프트럭 | B62: 15ton | C62: 대 | D62: 0.2279 | E62: =단가대비표!O14 -> 0 | F62: =TRUNC(E62*D62,1) -> 0 | G62: =단가대비표!P14 -> 0 | H62: =TRUNC(G62*D62,1) -> 0 | I62: =단가대비표!V14 -> 90653 | J62: =TRUNC(I62*D62,1) -> 20659.8 | K62: =TRUNC(E62+G62+I62,1) -> 90653 | L62: =TRUNC(F62+H62+J62,1) -> 20659.8 | M62: 천원 | N62: 5446B2C9F0376E5172FAAB788B6042762D66EEAA | O62: 5446B2C9F0376E5172FAAB788B6042762D66EE | P62: F | Q62: F | R62: T | AW62: 5446B2C9F0376E5172FAAB788B6042762D66EEAA5446B2C9F0376E5172FAAB788B6042762D66EE
A63: 경유 | B63: 저유황 | C63: L | D63: 15.9 | E63: =단가대비표!O45 -> 1421 | F63: =TRUNC(E63*D63,1) -> 22593.9 | G63: =단가대비표!P45 -> 0 | H63: =TRUNC(G63*D63,1) -> 0 | I63: =단가대비표!V45 -> 0 | J63: =TRUNC(I63*D63,1) -> 0 | K63: =TRUNC(E63+G63+I63,1) -> 1421 | L63: =TRUNC(F63+H63+J63,1) -> 22593.9 | N63: 5446B2C9F0376E5172FAAB788B6042762D66EEAA | O63: 545772A939C89A367E9F1718EA235506639BF2 | P63: F | Q63: F | R63: T | V63: 1 | AW63: 5446B2C9F0376E5172FAAB788B6042762D66EEAA545772A939C89A367E9F1718EA235506639BF2
A64: 잡재료 | B64: 주연료비의 38% | C64: 식 | D64: 1 | E64: =TRUNC(SUMIF(V62:V65, RIGHTB(O64, 1), F62:F65)*U64, 2) -> 8585.68 | F64: =TRUNC(E64*D64,1) -> 8585.6 | G64: 0 | H64: =TRUNC(G64*D64,1) -> 0 | I64: 0 | J64: =TRUNC(I64*D64,1) -> 0 | K64: =TRUNC(E64+G64+I64,1) -> 8585.6 | L64: =TRUNC(F64+H64+J64,1) -> 8585.6 | N64: 5446B2C9F0376E5172FAAB788B6042762D66EEAA | O64: 524D3239FD469645789512286F86001 | P64: F | Q64: F | R64: F | S64: 0 | T64: 0 | U64: 0.38 | AW64: 5446B2C9F0376E5172FAAB788B6042762D66EEAA524D3239FD469645789512286F86001
A65: 건설기계운전사 | B65: 일반공사 직종 | C65: 인 | D65: 1 | E65: =TRUNC(단가대비표!O192*1/8*16/12*25/20, 1) -> 0 | F65: =TRUNC(E65*D65,1) -> 0 | G65: =TRUNC(단가대비표!P192*1/8*16/12*25/20, 1) -> 59020.2 | H65: =TRUNC(G65*D65,1) -> 59020.2 | I65: =TRUNC(단가대비표!V192*1/8*16/12*25/20, 1) -> 0 | J65: =TRUNC(I65*D65,1) -> 0 | K65: =TRUNC(E65+G65+I65,1) -> 59020.2 | L65: =TRUNC(F65+H65+J65,1) -> 59020.2 | N65: 5446B2C9F0376E5172FAAB788B6042762D66EEAA | O65: 538BA229680AE9E374DF28D86359BE1686547F | P65: F | Q65: F | R65: T | AW65: 5446B2C9F0376E5172FAAB788B6042762D66EEAA538BA229680AE9E374DF28D86359BE1686547F | AX65: T
A66: [ 합 계 ] | F66: =TRUNC(SUMIF(N62:N65, N61, F62:F65),0) -> 31179 | H66: =TRUNC(SUMIF(N62:N65, N61, H62:H65),0) -> 59020 | J66: =TRUNC(SUMIF(N62:N65, N61, J62:J65),0) -> 20659 | L66: =F66+H66+J66 -> 110858 | N66: TOTAL | O66: TOTAL
A68: 덤프트럭 자동덮개시설 15ton HR ( 호표 11 ) | N68: 5446B2C9F0376E51739F68F849707B563AE4F736
A69: 덤프트럭 자동덮개시설 | B69: 15ton | C69: 대 | D69: 0.2684 | E69: =단가대비표!O15 -> 0 | F69: =TRUNC(E69*D69,1) -> 0 | G69: =단가대비표!P15 -> 0 | H69: =TRUNC(G69*D69,1) -> 0 | I69: =단가대비표!V15 -> 1634 | J69: =TRUNC(I69*D69,1) -> 438.5 | K69: =TRUNC(E69+G69+I69,1) -> 1634 | L69: =TRUNC(F69+H69+J69,1) -> 438.5 | M69: 천원 | N69: 5446B2C9F0376E51739F68F849707B563AE4F736 | O69: 5446B2C9F0376E51739F68F849707B563AE4F7 | P69: F | Q69: F | R69: T | AW69: 5446B2C9F0376E51739F68F849707B563AE4F7365446B2C9F0376E51739F68F849707B563AE4F7
A70: [ 합 계 ] | F70: =TRUNC(SUMIF(N69:N69, N68, F69:F69),0) -> 0 | H70: =TRUNC(SUMIF(N69:N69, N68, H69:H69),0) -> 0 | J70: =TRUNC(SUMIF(N69:N69, N68, J69:J69),0) -> 438 | L70: =F70+H70+J70 -> 438 | N70: TOTAL | O70: TOTAL
A72: 머캐덤 롤러(자주식) 8∼10ton HR ( 호표 12 ) | N72: 5446B2C9F03778BF75307808AAF3E7F6340F3AEA
A73: 머캐덤 롤러(자주식) | B73: 8∼10ton | C73: 대 | D73: 0.1802 | E73: =단가대비표!O16 -> 0 | F73: =TRUNC(E73*D73,1) -> 0 | G73: =단가대비표!P16 -> 0 | H73: =TRUNC(G73*D73,1) -> 0 | I73: =단가대비표!V16 -> 57150 | J73: =TRUNC(I73*D73,1) -> 10298.4 | K73: =TRUNC(E73+G73+I73,1) -> 57150 | L73: =TRUNC(F73+H73+J73,1) -> 10298.4 | M73: 천원 | N73: 5446B2C9F03778BF75307808AAF3E7F6340F3AEA | O73: 5446B2C9F03778BF75307808AAF3E7F6340F3A | P73: F | Q73: F | R73: T | AW73: 5446B2C9F03778BF75307808AAF3E7F6340F3AEA5446B2C9F03778BF75307808AAF3E7F6340F3A
A74: 경유 | B74: 저유황 | C74: L | D74: 7.6 | E74: =단가대비표!O45 -> 1421 | F74: =TRUNC(E74*D74,1) -> 10799.6 | G74: =단가대비표!P45 -> 0 | H74: =TRUNC(G74*D74,1) -> 0 | I74: =단가대비표!V45 -> 0 | J74: =TRUNC(I74*D74,1) -> 0 | K74: =TRUNC(E74+G74+I74,1) -> 1421 | L74: =TRUNC(F74+H74+J74,1) -> 10799.6 | N74: 5446B2C9F03778BF75307808AAF3E7F6340F3AEA | O74: 545772A939C89A367E9F1718EA235506639BF2 | P74: F | Q74: F | R74: T | V74: 1 | AW74: 5446B2C9F03778BF75307808AAF3E7F6340F3AEA545772A939C89A367E9F1718EA235506639BF2
A75: 잡재료 | B75: 주연료비의 18% | C75: 식 | D75: 1 | E75: =TRUNC(SUMIF(V73:V76, RIGHTB(O75, 1), F73:F76)*U75, 2) -> 1943.92 | F75: =TRUNC(E75*D75,1) -> 1943.9 | G75: 0 | H75: =TRUNC(G75*D75,1) -> 0 | I75: 0 | J75: =TRUNC(I75*D75,1) -> 0 | K75: =TRUNC(E75+G75+I75,1) -> 1943.9 | L75: =TRUNC(F75+H75+J75,1) -> 1943.9 | N75: 5446B2C9F03778BF75307808AAF3E7F6340F3AEA | O75: 524D3239FD469645789512286F86001 | P75: F | Q75: F | R75: F | S75: 0 | T75: 0 | U75: 0.18 | AW75: 5446B2C9F03778BF75307808AAF3E7F6340F3AEA524D3239FD469645789512286F86001
A76: 건설기계운전사 | B76: 일반공사 직종 | C76: 인 | D76: 1 | E76: =TRUNC(단가대비표!O192*1/8*16/12*25/20, 1) -> 0 | F76: =TRUNC(E76*D76,1) -> 0 | G76: =TRUNC(단가대비표!P192*1/8*16/12*25/20, 1) -> 59020.2 | H76: =TRUNC(G76*D76,1) -> 59020.2 | I76: =TRUNC(단가대비표!V192*1/8*16/12*25/20, 1) -> 0 | J76: =TRUNC(I76*D76,1) -> 0 | K76: =TRUNC(E76+G76+I76,1) -> 59020.2 | L76: =TRUNC(F76+H76+J76,1) -> 59020.2 | N76: 5446B2C9F03778BF75307808AAF3E7F6340F3AEA | O76: 538BA229680AE9E374DF28D86359BE1686547F | P76: F | Q76: F | R76: T | AW76: 5446B2C9F03778BF75307808AAF3E7F6340F3AEA538BA229680AE9E374DF28D86359BE1686547F | AX76: T
A77: [ 합 계 ] | F77: =TRUNC(SUMIF(N73:N76, N72, F73:F76),0) -> 12743 | H77: =TRUNC(SUMIF(N73:N76, N72, H73:H76),0) -> 59020 | J77: =TRUNC(SUMIF(N73:N76, N72, J73:J76),0) -> 10298 | L77: =F77+H77+J77 -> 82061 | N77: TOTAL | O77: TOTAL
A79: 탠덤롤러(자주식) 8∼10ton HR ( 호표 13 ) | N79: 5446B2C9F0377882719F05285902BF1643C351B3
A80: 탠덤롤러(자주식) | B80: 8∼10ton | C80: 대 | D80: 0.1863 | E80: =단가대비표!O17 -> 0 | F80: =TRUNC(E80*D80,1) -> 0 | G80: =단가대비표!P17 -> 0 | H80: =TRUNC(G80*D80,1) -> 0 | I80: =단가대비표!V17 -> 50412 | J80: =TRUNC(I80*D80,1) -> 9391.7 | K80: =TRUNC(E80+G80+I80,1) -> 50412 | L80: =TRUNC(F80+H80+J80,1) -> 9391.7 | M80: 천원 | N80: 5446B2C9F0377882719F05285902BF1643C351B3 | O80: 5446B2C9F0377882719F05285902BF1643C351 | P80: F | Q80: F | R80: T | AW80: 5446B2C9F0377882719F05285902BF1643C351B35446B2C9F0377882719F05285902BF1643C351
A81: 경유 | B81: 저유황 | C81: L | D81: 6.8 | E81: =단가대비표!O45 -> 1421 | F81: =TRUNC(E81*D81,1) -> 9662.8 | G81: =단가대비표!P45 -> 0 | H81: =TRUNC(G81*D81,1) -> 0 | I81: =단가대비표!V45 -> 0 | J81: =TRUNC(I81*D81,1) -> 0 | K81: =TRUNC(E81+G81+I81,1) -> 1421 | L81: =TRUNC(F81+H81+J81,1) -> 9662.8 | N81: 5446B2C9F0377882719F05285902BF1643C351B3 | O81: 545772A939C89A367E9F1718EA235506639BF2 | P81: F | Q81: F | R81: T | V81: 1 | AW81: 5446B2C9F0377882719F05285902BF1643C351B3545772A939C89A367E9F1718EA235506639BF2
A82: 잡재료 | B82: 주연료비의 18% | C82: 식 | D82: 1 | E82: =TRUNC(SUMIF(V80:V83, RIGHTB(O82, 1), F80:F83)*U82, 2) -> 1739.3 | F82: =TRUNC(E82*D82,1) -> 1739.3 | G82: 0 | H82: =TRUNC(G82*D82,1) -> 0 | I82: 0 | J82: =TRUNC(I82*D82,1) -> 0 | K82: =TRUNC(E82+G82+I82,1) -> 1739.3 | L82: =TRUNC(F82+H82+J82,1) -> 1739.3 | N82: 5446B2C9F0377882719F05285902BF1643C351B3 | O82: 524D3239FD469645789512286F86001 | P82: F | Q82: F | R82: F | S82: 0 | T82: 0 | U82: 0.18 | AW82: 5446B2C9F0377882719F05285902BF1643C351B3524D3239FD469645789512286F86001
A83: 건설기계운전사 | B83: 일반공사 직종 | C83: 인 | D83: 1 | E83: =TRUNC(단가대비표!O192*1/8*16/12*25/20, 1) -> 0 | F83: =TRUNC(E83*D83,1) -> 0 | G83: =TRUNC(단가대비표!P192*1/8*16/12*25/20, 1) -> 59020.2 | H83: =TRUNC(G83*D83,1) -> 59020.2 | I83: =TRUNC(단가대비표!V192*1/8*16/12*25/20, 1) -> 0 | J83: =TRUNC(I83*D83,1) -> 0 | K83: =TRUNC(E83+G83+I83,1) -> 59020.2 | L83: =TRUNC(F83+H83+J83,1) -> 59020.2 | N83: 5446B2C9F0377882719F05285902BF1643C351B3 | O83: 538BA229680AE9E374DF28D86359BE1686547F | P83: F | Q83: F | R83: T | AW83: 5446B2C9F0377882719F05285902BF1643C351B3538BA229680AE9E374DF28D86359BE1686547F | AX83: T
A84: [ 합 계 ] | F84: =TRUNC(SUMIF(N80:N83, N79, F80:F83),0) -> 11402 | H84: =TRUNC(SUMIF(N80:N83, N79, H80:H83),0) -> 59020 | J84: =TRUNC(SUMIF(N80:N83, N79, J80:J83),0) -> 9391 | L84: =F84+H84+J84 -> 79813 | N84: TOTAL | O84: TOTAL
A86: 타이어 롤러(자주식) 8∼15ton HR ( 호표 14 ) | N86: 5446B2C9F03778E47A1AA498537ACB76E241AADD
A87: 타이어 롤러(자주식) | B87: 8∼15ton | C87: 대 | D87: 0.1945 | E87: =단가대비표!O18 -> 0 | F87: =TRUNC(E87*D87,1) -> 0 | G87: =단가대비표!P18 -> 0 | H87: =TRUNC(G87*D87,1) -> 0 | I87: =단가대비표!V18 -> 98388 | J87: =TRUNC(I87*D87,1) -> 19136.4 | K87: =TRUNC(E87+G87+I87,1) -> 98388 | L87: =TRUNC(F87+H87+J87,1) -> 19136.4 | M87: 천원 | N87: 5446B2C9F03778E47A1AA498537ACB76E241AADD | O87: 5446B2C9F03778E47A1AA498537ACB76E241AA | P87: F | Q87: F | R87: T | AW87: 5446B2C9F03778E47A1AA498537ACB76E241AADD5446B2C9F03778E47A1AA498537ACB76E241AA
A88: 경유 | B88: 저유황 | C88: L | D88: 8 | E88: =단가대비표!O45 -> 1421 | F88: =TRUNC(E88*D88,1) -> 11368 | G88: =단가대비표!P45 -> 0 | H88: =TRUNC(G88*D88,1) -> 0 | I88: =단가대비표!V45 -> 0 | J88: =TRUNC(I88*D88,1) -> 0 | K88: =TRUNC(E88+G88+I88,1) -> 1421 | L88: =TRUNC(F88+H88+J88,1) -> 11368 | N88: 5446B2C9F03778E47A1AA498537ACB76E241AADD | O88: 545772A939C89A367E9F1718EA235506639BF2 | P88: F | Q88: F | R88: T | V88: 1 | AW88: 5446B2C9F03778E47A1AA498537ACB76E241AADD545772A939C89A367E9F1718EA235506639BF2
A89: 잡재료 | B89: 주연료비의 23% | C89: 식 | D89: 1 | E89: =TRUNC(SUMIF(V87:V90, RIGHTB(O89, 1), F87:F90)*U89, 2) -> 2614.64 | F89: =TRUNC(E89*D89,1) -> 2614.6 | G89: 0 | H89: =TRUNC(G89*D89,1) -> 0 | I89: 0 | J89: =TRUNC(I89*D89,1) -> 0 | K89: =TRUNC(E89+G89+I89,1) -> 2614.6 | L89: =TRUNC(F89+H89+J89,1) -> 2614.6 | N89: 5446B2C9F03778E47A1AA498537ACB76E241AADD | O89: 524D3239FD469645789512286F86001 | P89: F | Q89: F | R89: F | S89: 0 | T89: 0 | U89: 0.23 | AW89: 5446B2C9F03778E47A1AA498537ACB76E241AADD524D3239FD469645789512286F86001
A90: 건설기계운전사 | B90: 일반공사 직종 | C90: 인 | D90: 1 | E90: =TRUNC(단가대비표!O192*1/8*16/12*25/20, 1) -> 0 | F90: =TRUNC(E90*D90,1) -> 0 | G90: =TRUNC(단가대비표!P192*1/8*16/12*25/20, 1) -> 59020.2 | H90: =TRUNC(G90*D90,1) -> 59020.2 | I90: =TRUNC(단가대비표!V192*1/8*16/12*25/20, 1) -> 0 | J90: =TRUNC(I90*D90,1) -> 0 | K90: =TRUNC(E90+G90+I90,1) -> 59020.2 | L90: =TRUNC(F90+H90+J90,1) -> 59020.2 | N90: 5446B2C9F03778E47A1AA498537ACB76E241AADD | O90: 538BA229680AE9E374DF28D86359BE1686547F | P90: F | Q90: F | R90: T | AW90: 5446B2C9F03778E47A1AA498537ACB76E241AADD538BA229680AE9E374DF28D86359BE1686547F | AX90: T
A91: [ 합 계 ] | F91: =TRUNC(SUMIF(N87:N90, N86, F87:F90),0) -> 13982 | H91: =TRUNC(SUMIF(N87:N90, N86, H87:H90),0) -> 59020 | J91: =TRUNC(SUMIF(N87:N90, N86, J87:J90),0) -> 19136 | L91: =F91+H91+J91 -> 92138 | N91: TOTAL | O91: TOTAL
A93: 플레이트 콤팩터 1.5ton HR ( 호표 15 ) | N93: 5446B2C9F03778DA70DEA1B840DD7416A9C832FB
A94: 플레이트 콤팩터 | B94: 1.5ton | C94: 대 | D94: 0.3708 | E94: =단가대비표!O19 -> 0 | F94: =TRUNC(E94*D94,1) -> 0 | G94: =단가대비표!P19 -> 0 | H94: =TRUNC(G94*D94,1) -> 0 | I94: =단가대비표!V19 -> 1673 | J94: =TRUNC(I94*D94,1) -> 620.3 | K94: =TRUNC(E94+G94+I94,1) -> 1673 | L94: =TRUNC(F94+H94+J94,1) -> 620.3 | M94: 천원 | N94: 5446B2C9F03778DA70DEA1B840DD7416A9C832FB | O94: 5446B2C9F03778DA70DEA1B840DD7416A9C832 | P94: F | Q94: F | R94: T | AW94: 5446B2C9F03778DA70DEA1B840DD7416A9C832FB5446B2C9F03778DA70DEA1B840DD7416A9C832
A95: 공업용휘발유 | B95: 무연 | C95: L | D95: 1 | E95: =단가대비표!O46 -> 1473 | F95: =TRUNC(E95*D95,1) -> 1473 | G95: =단가대비표!P46 -> 0 | H95: =TRUNC(G95*D95,1) -> 0 | I95: =단가대비표!V46 -> 0 | J95: =TRUNC(I95*D95,1) -> 0 | K95: =TRUNC(E95+G95+I95,1) -> 1473 | L95: =TRUNC(F95+H95+J95,1) -> 1473 | N95: 5446B2C9F03778DA70DEA1B840DD7416A9C832FB | O95: 545772A939C89A367E9C429893F951C6099F3D | P95: F | Q95: F | R95: T | V95: 1 | AW95: 5446B2C9F03778DA70DEA1B840DD7416A9C832FB545772A939C89A367E9C429893F951C6099F3D
A96: 잡재료 | B96: 주연료비의 20% | C96: 식 | D96: 1 | E96: =TRUNC(SUMIF(V94:V97, RIGHTB(O96, 1), F94:F97)*U96, 2) -> 294.6 | F96: =TRUNC(E96*D96,1) -> 294.6 | G96: 0 | H96: =TRUNC(G96*D96,1) -> 0 | I96: 0 | J96: =TRUNC(I96*D96,1) -> 0 | K96: =TRUNC(E96+G96+I96,1) -> 294.6 | L96: =TRUNC(F96+H96+J96,1) -> 294.6 | N96: 5446B2C9F03778DA70DEA1B840DD7416A9C832FB | O96: 524D3239FD469645789512286F86001 | P96: F | Q96: F | R96: F | S96: 0 | T96: 0 | U96: 0.2 | AW96: 5446B2C9F03778DA70DEA1B840DD7416A9C832FB524D3239FD469645789512286F86001
A97: 일반기계운전사 | B97: 일반공사 직종 | C97: 인 | D97: 1 | E97: =TRUNC(단가대비표!O194*1/8*16/12*25/20, 1) -> 0 | F97: =TRUNC(E97*D97,1) -> 0 | G97: =TRUNC(단가대비표!P194*1/8*16/12*25/20, 1) -> 36248.9 | H97: =TRUNC(G97*D97,1) -> 36248.9 | I97: =TRUNC(단가대비표!V194*1/8*16/12*25/20, 1) -> 0 | J97: =TRUNC(I97*D97,1) -> 0 | K97: =TRUNC(E97+G97+I97,1) -> 36248.9 | L97: =TRUNC(F97+H97+J97,1) -> 36248.9 | N97: 5446B2C9F03778DA70DEA1B840DD7416A9C832FB | O97: 538BA229680AE9E374DF28D86359BE1686551E | P97: F | Q97: F | R97: T | AW97: 5446B2C9F03778DA70DEA1B840DD7416A9C832FB538BA229680AE9E374DF28D86359BE1686551E | AX97: T
A98: [ 합 계 ] | F98: =TRUNC(SUMIF(N94:N97, N93, F94:F97),0) -> 1767 | H98: =TRUNC(SUMIF(N94:N97, N93, H94:H97),0) -> 36248 | J98: =TRUNC(SUMIF(N94:N97, N93, J94:J97),0) -> 620 | L98: =F98+H98+J98 -> 38635 | N98: TOTAL | O98: TOTAL
A100: 크레인(타이어) 10ton HR ( 호표 16 ) | N100: 5446B2C9F037437F77C1FB08810FA7961AD993E7
A101: 크레인(타이어) | B101: 10ton | C101: 대 | D101: 0.2298 | E101: =단가대비표!O20 -> 0 | F101: =TRUNC(E101*D101,1) -> 0 | G101: =단가대비표!P20 -> 0 | H101: =TRUNC(G101*D101,1) -> 0 | I101: =단가대비표!V20 -> 136400 | J101: =TRUNC(I101*D101,1) -> 31344.7 | K101: =TRUNC(E101+G101+I101,1) -> 136400 | L101: =TRUNC(F101+H101+J101,1) -> 31344.7 | M101: 천원 | N101: 5446B2C9F037437F77C1FB08810FA7961AD993E7 | O101: 5446B2C9F037437F77C1FB08810FA7961AD993 | P101: F | Q101: F | R101: T | AW101: 5446B2C9F037437F77C1FB08810FA7961AD993E75446B2C9F037437F77C1FB08810FA7961AD993
A102: 경유 | B102: 저유황 | C102: L | D102: 3.8 | E102: =단가대비표!O45 -> 1421 | F102: =TRUNC(E102*D102,1) -> 5399.8 | G102: =단가대비표!P45 -> 0 | H102: =TRUNC(G102*D102,1) -> 0 | I102: =단가대비표!V45 -> 0 | J102: =TRUNC(I102*D102,1) -> 0 | K102: =TRUNC(E102+G102+I102,1) -> 1421 | L102: =TRUNC(F102+H102+J102,1) -> 5399.8 | N102: 5446B2C9F037437F77C1FB08810FA7961AD993E7 | O102: 545772A939C89A367E9F1718EA235506639BF2 | P102: F | Q102: F | R102: T | V102: 1 | AW102: 5446B2C9F037437F77C1FB08810FA7961AD993E7545772A939C89A367E9F1718EA235506639BF2
A103: 잡재료 | B103: 주연료비의 39% | C103: 식 | D103: 1 | E103: =TRUNC(SUMIF(V101:V104, RIGHTB(O103, 1), F101:F104)*U103, 2) -> 2105.92 | F103: =TRUNC(E103*D103,1) -> 2105.9 | G103: 0 | H103: =TRUNC(G103*D103,1) -> 0 | I103: 0 | J103: =TRUNC(I103*D103,1) -> 0 | K103: =TRUNC(E103+G103+I103,1) -> 2105.9 | L103: =TRUNC(F103+H103+J103,1) -> 2105.9 | N103: 5446B2C9F037437F77C1FB08810FA7961AD993E7 | O103: 524D3239FD469645789512286F86001 | P103: F | Q103: F | R103: F | S103: 0 | T103: 0 | U103: 0.39 | AW103: 5446B2C9F037437F77C1FB08810FA7961AD993E7524D3239FD469645789512286F86001
A104: 건설기계운전사 | B104: 일반공사 직종 | C104: 인 | D104: 1 | E104: =TRUNC(단가대비표!O192*1/8*16/12*25/20, 1) -> 0 | F104: =TRUNC(E104*D104,1) -> 0 | G104: =TRUNC(단가대비표!P192*1/8*16/12*25/20, 1) -> 59020.2 | H104: =TRUNC(G104*D104,1) -> 59020.2 | I104: =TRUNC(단가대비표!V192*1/8*16/12*25/20, 1) -> 0 | J104: =TRUNC(I104*D104,1) -> 0 | K104: =TRUNC(E104+G104+I104,1) -> 59020.2 | L104: =TRUNC(F104+H104+J104,1) -> 59020.2 | N104: 5446B2C9F037437F77C1FB08810FA7961AD993E7 | O104: 538BA229680AE9E374DF28D86359BE1686547F | P104: F | Q104: F | R104: T | AW104: 5446B2C9F037437F77C1FB08810FA7961AD993E7538BA229680AE9E374DF28D86359BE1686547F | AX104: T
A105: [ 합 계 ] | F105: =TRUNC(SUMIF(N101:N104, N100, F101:F104),0) -> 7505 | H105: =TRUNC(SUMIF(N101:N104, N100, H101:H104),0) -> 59020 | J105: =TRUNC(SUMIF(N101:N104, N100, J101:J104),0) -> 31344 | L105: =F105+H105+J105 -> 97869 | N105: TOTAL | O105: TOTAL
A107: 크레인(타이어) 20ton HR ( 호표 17 ) | N107: 5446B2C9F037437F77C1FB088134EB9607EE4942
A108: 크레인(타이어) | B108: 20ton | C108: 대 | D108: 0.2298 | E108: =단가대비표!O21 -> 0 | F108: =TRUNC(E108*D108,1) -> 0 | G108: =단가대비표!P21 -> 0 | H108: =TRUNC(G108*D108,1) -> 0 | I108: =단가대비표!V21 -> 233376 | J108: =TRUNC(I108*D108,1) -> 53629.8 | K108: =TRUNC(E108+G108+I108,1) -> 233376 | L108: =TRUNC(F108+H108+J108,1) -> 53629.8 | M108: 천원 | N108: 5446B2C9F037437F77C1FB088134EB9607EE4942 | O108: 5446B2C9F037437F77C1FB088134EB9607EE49 | P108: F | Q108: F | R108: T | AW108: 5446B2C9F037437F77C1FB088134EB9607EE49425446B2C9F037437F77C1FB088134EB9607EE49
A109: 경유 | B109: 저유황 | C109: L | D109: 5.4 | E109: =단가대비표!O45 -> 1421 | F109: =TRUNC(E109*D109,1) -> 7673.4 | G109: =단가대비표!P45 -> 0 | H109: =TRUNC(G109*D109,1) -> 0 | I109: =단가대비표!V45 -> 0 | J109: =TRUNC(I109*D109,1) -> 0 | K109: =TRUNC(E109+G109+I109,1) -> 1421 | L109: =TRUNC(F109+H109+J109,1) -> 7673.4 | N109: 5446B2C9F037437F77C1FB088134EB9607EE4942 | O109: 545772A939C89A367E9F1718EA235506639BF2 | P109: F | Q109: F | R109: T | V109: 1 | AW109: 5446B2C9F037437F77C1FB088134EB9607EE4942545772A939C89A367E9F1718EA235506639BF2
A110: 잡재료 | B110: 주연료비의 39% | C110: 식 | D110: 1 | E110: =TRUNC(SUMIF(V108:V111, RIGHTB(O110, 1), F108:F111)*U110, 2) -> 2992.62 | F110: =TRUNC(E110*D110,1) -> 2992.6 | G110: 0 | H110: =TRUNC(G110*D110,1) -> 0 | I110: 0 | J110: =TRUNC(I110*D110,1) -> 0 | K110: =TRUNC(E110+G110+I110,1) -> 2992.6 | L110: =TRUNC(F110+H110+J110,1) -> 2992.6 | N110: 5446B2C9F037437F77C1FB088134EB9607EE4942 | O110: 524D3239FD469645789512286F86001 | P110: F | Q110: F | R110: F | S110: 0 | T110: 0 | U110: 0.39 | AW110: 5446B2C9F037437F77C1FB088134EB9607EE4942524D3239FD469645789512286F86001
A111: 건설기계운전사 | B111: 일반공사 직종 | C111: 인 | D111: 1 | E111: =TRUNC(단가대비표!O192*1/8*16/12*25/20, 1) -> 0 | F111: =TRUNC(E111*D111,1) -> 0 | G111: =TRUNC(단가대비표!P192*1/8*16/12*25/20, 1) -> 59020.2 | H111: =TRUNC(G111*D111,1) -> 59020.2 | I111: =TRUNC(단가대비표!V192*1/8*16/12*25/20, 1) -> 0 | J111: =TRUNC(I111*D111,1) -> 0 | K111: =TRUNC(E111+G111+I111,1) -> 59020.2 | L111: =TRUNC(F111+H111+J111,1) -> 59020.2 | N111: 5446B2C9F037437F77C1FB088134EB9607EE4942 | O111: 538BA229680AE9E374DF28D86359BE1686547F | P111: F | Q111: F | R111: T | AW111: 5446B2C9F037437F77C1FB088134EB9607EE4942538BA229680AE9E374DF28D86359BE1686547F | AX111: T
A112: [ 합 계 ] | F112: =TRUNC(SUMIF(N108:N111, N107, F108:F111),0) -> 10666 | H112: =TRUNC(SUMIF(N108:N111, N107, H108:H111),0) -> 59020 | J112: =TRUNC(SUMIF(N108:N111, N107, J108:J111),0) -> 53629 | L112: =F112+H112+J112 -> 123315 | N112: TOTAL | O112: TOTAL
A114: 크레인(타이어) 50ton HR ( 호표 18 ) | N114: 5446B2C9F037437F77C1FB0881455AA638B60F27
A115: 크레인(타이어) | B115: 50ton | C115: 대 | D115: 0.1737 | E115: =단가대비표!O22 -> 0 | F115: =TRUNC(E115*D115,1) -> 0 | G115: =단가대비표!P22 -> 0 | H115: =TRUNC(G115*D115,1) -> 0 | I115: =단가대비표!V22 -> 520694 | J115: =TRUNC(I115*D115,1) -> 90444.5 | K115: =TRUNC(E115+G115+I115,1) -> 520694 | L115: =TRUNC(F115+H115+J115,1) -> 90444.5 | M115: 천원 | N115: 5446B2C9F037437F77C1FB0881455AA638B60F27 | O115: 5446B2C9F037437F77C1FB0881455AA638B60F | P115: F | Q115: F | R115: T | AW115: 5446B2C9F037437F77C1FB0881455AA638B60F275446B2C9F037437F77C1FB0881455AA638B60F
A116: 경유 | B116: 저유황 | C116: L | D116: 10 | E116: =단가대비표!O45 -> 1421 | F116: =TRUNC(E116*D116,1) -> 14210 | G116: =단가대비표!P45 -> 0 | H116: =TRUNC(G116*D116,1) -> 0 | I116: =단가대비표!V45 -> 0 | J116: =TRUNC(I116*D116,1) -> 0 | K116: =TRUNC(E116+G116+I116,1) -> 1421 | L116: =TRUNC(F116+H116+J116,1) -> 14210 | N116: 5446B2C9F037437F77C1FB0881455AA638B60F27 | O116: 545772A939C89A367E9F1718EA235506639BF2 | P116: F | Q116: F | R116: T | V116: 1 | AW116: 5446B2C9F037437F77C1FB0881455AA638B60F27545772A939C89A367E9F1718EA235506639BF2
A117: 잡재료 | B117: 주연료비의 57% | C117: 식 | D117: 1 | E117: =TRUNC(SUMIF(V115:V118, RIGHTB(O117, 1), F115:F118)*U117, 2) -> 8099.7 | F117: =TRUNC(E117*D117,1) -> 8099.7 | G117: 0 | H117: =TRUNC(G117*D117,1) -> 0 | I117: 0 | J117: =TRUNC(I117*D117,1) -> 0 | K117: =TRUNC(E117+G117+I117,1) -> 8099.7 | L117: =TRUNC(F117+H117+J117,1) -> 8099.7 | N117: 5446B2C9F037437F77C1FB0881455AA638B60F27 | O117: 524D3239FD469645789512286F86001 | P117: F | Q117: F | R117: F | S117: 0 | T117: 0 | U117: 0.57 | AW117: 5446B2C9F037437F77C1FB0881455AA638B60F27524D3239FD469645789512286F86001
...

Sheet 단가산출목록
B1: 단 가 산 출 목 록
B2: [ 남원국악예술고 장애인 승강기 증축공사 ]
A3: 코 드 | B3: 품 명 | C3: 규 격 | D3: 단위 | E3: 재 료 비 | F3: 노 무 비 | G3: 경 비 | H3: 합 계 | I3: 번 호 | J3: 비 고 | K3: START | L3: 품셈개요
A4: 541912C915ECCEF975007168C006 | B4: ASPHALT 살포(DISTRIBUTOR) | C4: 3800L 프라임코팅 | D4: a | E4: =단가산출서!B23 -> 306 | F4: =단가산출서!C23 -> 933 | G4: =단가산출서!D23 -> 250 | H4: =단가산출서!E23 -> 1489 | I4: 산근 1 | K4: 541912C915ECCEF975007168C006
A5: 541912C915ECCEF975007168A526 | B5: 기층포설(모터그레이더) | C5: 20cm | D5: M3 | E5: =단가산출서!B44 -> 81 | F5: =단가산출서!C44 -> 162 | G5: =단가산출서!D44 -> 114 | H5: =단가산출서!E44 -> 357 | I5: 산근 2 | K5: 541912C915ECCEF975007168A526
A6: 541912C915ECCEF97500716879E6 | B6: 보조기층포설(모터그레이더) | C6: 30cm | D6: M3 | E6: =단가산출서!B65 -> 55 | F6: =단가산출서!C65 -> 109 | G6: =단가산출서!D65 -> 77 | H6: =단가산출서!E65 -> 241 | I6: 산근 3 | K6: 541912C915ECCEF97500716879E6
A7: 541912C915ECCEF9750070489D16 | B7: 표층공전압비(TIRE ROLLER) | C7: 8-15톤 | D7: a | E7: =단가산출서!B85 -> 4315 | F7: =단가산출서!C85 -> 18216 | G7: =단가산출서!D85 -> 5906 | H7: =단가산출서!E85 -> 28437 | I7: 산근 4 | K7: 541912C915ECCEF9750070489D16
A8: 541912C915ECCEF9750070488CA6 | B8: 기층공전압비(TIRE ROLLER) | C8: 8-15톤 | D8: a | E8: =단가산출서!B102 -> 3655 | F8: =단가산출서!C102 -> 16655 | G8: =단가산출서!D102 -> 5603 | H8: =단가산출서!E102 -> 25913 | I8: 산근 5 | K8: 541912C915ECCEF9750070488CA6
A9: 541912C915ECCEF975007048D4C6 | B9: 표층공전압비(MACADAM ROLLER) | C9: 8-10톤 | D9: a | E9: =단가산출서!B121 -> 1930 | F9: =단가산출서!C121 -> 8942 | G9: =단가산출서!D121 -> 1560 | H9: =단가산출서!E121 -> 12432 | I9: 산근 6 | K9: 541912C915ECCEF975007048D4C6
A10: 541912C915ECCEF975007048F7A6 | B10: 기층공전압비(MACADAM ROLLER) | C10: 10-12톤 | D10: a | E10: =단가산출서!B138 -> 4696 | F10: =단가산출서!C138 -> 19186 | G10: =단가산출서!D138 -> 4328 | H10: =단가산출서!E138 -> 28210 | I10: 산근 7 | K10: 541912C915ECCEF975007048F7A6
A11: 541912C915ECCEF97500704819B6 | B11: 표층공전압비(TANDAM ROLLER) | C11: 10-14톤 | D11: a | E11: =단가산출서!B157 -> 2815 | F11: =단가산출서!C157 -> 14572 | G11: =단가산출서!D157 -> 2318 | H11: =단가산출서!E157 -> 19705 | I11: 산근 8 | K11: 541912C915ECCEF97500704819B6
A12: 541912C915ECCEF9750070480F46 | B12: 기층공전압비(TANDAM ROLLER) | C12: 10-14톤 | D12: a | E12: =단가산출서!B174 -> 2119 | F12: =단가산출서!C174 -> 11843 | G12: =단가산출서!D174 -> 2083 | H12: =단가산출서!E174 -> 16045 | I12: 산근 9 | K12: 541912C915ECCEF9750070480F46
A13: 541912C915ECCEF975007318CA96 | B13: 아스팔트 페이버 표층 | C13: 5cm | D13: a | E13: =단가산출서!B193 -> 4575 | F13: =단가산출서!C193 -> 13662 | G13: =단가산출서!D193 -> 13296 | H13: =단가산출서!E193 -> 31533 | I13: 산근 10 | K13: 541912C915ECCEF975007318CA96
A14: 541912C915ECCEF9750073189D56 | B14: 아스팔트 페이버 기층 | C14: 7.5cm | D14: a | E14: =단가산출서!B212 -> 3050 | F14: =단가산출서!C212 -> 9108 | G14: =단가산출서!D212 -> 8864 | H14: =단가산출서!E212 -> 21022 | I14: 산근 11 | K14: 541912C915ECCEF9750073189D56
A15: 541912C915ECCEF97500731857A6 | B15: 기층살수(물탱크) | C15: 2.0톤/a | D15: M3 | E15: =단가산출서!B234 -> 43 | F15: =단가산출서!C234 -> 134 | G15: =단가산출서!D234 -> 26 | H15: =단가산출서!E234 -> 203 | I15: 산근 12 | K15: 541912C915ECCEF97500731857A6
A16: 541912C915ECCEF9750073184536 | B16: 보조기층살수(물탱크) | C16: 3.0톤/a | D16: M3 | E16: =단가산출서!B256 -> 65 | F16: =단가산출서!C256 -> 202 | G16: =단가산출서!D256 -> 39 | H16: =단가산출서!E256 -> 306 | I16: 산근 13 | K16: 541912C915ECCEF9750073184536
A17: 541912C915ECCEF9750072786C66 | B17: 기층전압비(진동롤러) | C17: 자주식 10톤 | D17: M3 | E17: =단가산출서!B275 -> 217 | F17: =단가산출서!C275 -> 520 | G17: =단가산출서!D275 -> 255 | H17: =단가산출서!E275 -> 992 | I17: 산근 14 | K17: 541912C915ECCEF9750072786C66
A18: 541912C915ECCEF9750072787EC6 | B18: 보조기층전압비(진동롤러) | C18: 자주식 10톤 | D18: M3 | E18: =단가산출서!B294 -> 144 | F18: =단가산출서!C294 -> 346 | G18: =단가산출서!D294 -> 170 | H18: =단가산출서!E294 -> 660 | I18: 산근 15 | K18: 541912C915ECCEF9750072787EC6
A19: 541912C915ECCEF9750072784186 | B19: 기층전압비(타이어롤러) | C19: 자주식 8-15톤 | D19: M3 | E19: =단가산출서!B313 -> 92 | F19: =단가산출서!C313 -> 423 | G19: =단가산출서!D313 -> 142 | H19: =단가산출서!E313 -> 657 | I19: 산근 16 | K19: 541912C915ECCEF9750072784186
A20: 541912C915ECCEF97500727853F6 | B20: 보조기층전압비(타이어롤러) | C20: 자주식 8-15톤 | D20: M3 | E20: =단가산출서!B332 -> 61 | F20: =단가산출서!C332 -> 282 | G20: =단가산출서!D332 -> 94 | H20: =단가산출서!E332 -> 437 | I20: 산근 17 | K20: 541912C915ECCEF97500727853F6
A21: 541912C915ECCEE87E2E57382966 | B21: 혼합골재운반비 | C21: L:20km,덤프15톤 | D21: M3 | E21: =단가산출서!B362 -> 4457 | F21: =단가산출서!C362 -> 9107 | G21: =단가산출서!D362 -> 3474 | H21: =단가산출서!E362 -> 17038 | I21: 산근 18 | K21: 541912C915ECCEE87E2E57382966
A22: 541912C915ECCEE87E2E59F8B676 | B22: 아스콘운반비 | C22: L:20km,덤프15톤 | D22: 톤 | E22: =단가산출서!B390 -> 2799 | F22: =단가산출서!C390 -> 5719 | G22: =단가산출서!D390 -> 2182 | H22: =단가산출서!E390 -> 10700 | I22: 산근 19 | K22: 541912C915ECCEE87E2E59F8B676
A23: 5359523953EAA20176C20838723356 | B23: 잡석깔기지정(T=10cm)-15년상개정CDH1-6021-0810대체 | C23: 백호0.7M3+콤펙트1.5톤 | D23: M3 | E23: =단가산출서!B422 -> 516 | F23: =단가산출서!C422 -> 3932 | G23: =단가산출서!D422 -> 511 | H23: =단가산출서!E422 -> 4959 | I23: 산근 20 | K23: 5359523953EAA20176C20838723356 | L23: 토목 11-3,10
A24: 535822195F5DC358768D6B6844AE56 | B24: 시멘트운반 | C24: L:20km, 덤프 8ton | D24: 포 | E24: =단가산출서!B493 -> 0 | F24: =단가산출서!C493 -> 0 | G24: =단가산출서!D493 -> 1721 | H24: =단가산출서!E493 -> 1721 | I24: 산근 21 | K24: 535822195F5DC358768D6B6844AE56 | L24: 공통 8-2-8
A25: 535822195F20897D7DFABEF84FE676 | B25: 운반비(트레일러 20ton+크레인 10ton) | C25: 철근, L:10km | D25: TON | E25: =단가산출서!B551 -> 0 | F25: =단가산출서!C551 -> 0 | G25: =단가산출서!D551 -> 12129 | H25: =단가산출서!E551 -> 12129 | I25: 산근 22 | K25: 535822195F20897D7DFABEF84FE676
A26: 537E72A960C7ABD97CF85ED8D475F6 | B26: 터파기 | C26: 보통토사 구조물,백호0.6M3 | D26: M3 | E26: =단가산출서!B569 -> 477 | F26: =단가산출서!C569 -> 1380 | G26: =단가산출서!D569 -> 634 | H26: =단가산출서!E569 -> 2491 | I26: 산근 23 | K26: 537E72A960C7ABD97CF85ED8D475F6 | L26: 공통 8-2-3
A27: 537E72A9564E942E76843C98C3F546 | B27: 토사 운반/단지외 4km | C27: 보통, 덤프 15ton+굴착기 0.6m3 | D27: M3 | E27: =단가산출서!B617 -> 2105 | F27: =단가산출서!C617 -> 3985 | G27: =단가산출서!D617 -> 1424 | H27: =단가산출서!E617 -> 7514 | I27: 산근 24 | K27: 537E72A9564E942E76843C98C3F546 | L27: 공통 8-2-8
A28: 537E72A9B8E7201175A498884630A6 | B28: 되메우고 다지기(토사) | C28: 백호0.6M3*콤펙트1.5톤 | D28: M3 | E28: =단가산출서!B652 -> 710 | F28: =단가산출서!C652 -> 6330 | G28: =단가산출서!D652 -> 705 | H28: =단가산출서!E652 -> 7745 | I28: 산근 25 | K28: 537E72A9B8E7201175A498884630A6 | L28: 공통 8-2-3+10
A29: 537EF259186FFEEA72FBDC486A5B66 | B29: ASPHALT 살포(DISTRIBUTOR) | C29: 3800L 택코팅 | D29: a | E29: =단가산출서!B675 -> 163 | F29: =단가산출서!C675 -> 497 | G29: =단가산출서!D675 -> 133 | H29: =단가산출서!E675 -> 793 | I29: 산근 26 | K29: 537EF259186FFEEA72FBDC486A5B66

Sheet 단가산출서
A1: 단 가 산 출 서
A2: [ 남원국악예술고 장애인 승강기 증축공사 ]
A3: 산 출 내 역 | B3: 재 료 비 | C3: 노 무 비 | D3: 경 비 | E3: 합 계 | F3: 비 고 | G3: START | H3: 코드 | I3: 품명 | J3: 규격 | K3: 단위 | L3: 수량 | M3: 변수 | N3: 값 | O3: 소계 | P3: 소계 | Q3: 소계 | R3: 소계 | S3: 소계 | T3: 총계
A4: ASPHALT 살포(DISTRIBUTOR) 3800L 프라임코팅 a ( 산근 1 ) | G4: 541912C915ECCEF975007168C006 | I4: ASPHALT 살포(DISTRIBUTOR) | J4: 3800L 프라임코팅 | K4: a
G5: 541912C915ECCEF975007168C006 | H5: C | L5: 1
A6: 아스팔트디스트리뷰우터(3800L/HR) [호표 41] | B6: 0 | C6: 0 | D6: 0 | E6: 0 | G6: 541912C915ECCEF975007168C006 | H6: C! | I6: '아스팔트디스트리뷰우터(3800L/HR)' '[AAA161990050]'
B7: 0 | C7: 0 | D7: 0 | E7: 0 | G7: 541912C915ECCEF975007168C006 | H7: C!
A8: E 작업효율 =0.9 | B8: 0 | C8: 0 | D8: 0 | E8: 0 | G8: 541912C915ECCEF975007168C006 | H8: C! | I8: E '작업효율' =0.9
A9: t1 적재시간 =20 | B9: 0 | C9: 0 | D9: 0 | E9: 0 | G9: 541912C915ECCEF975007168C006 | H9: C! | I9: t1 '적재시간' =20
A10: T2 운반시간 =(0.5/25)*2*60 = 2.4 | B10: 0 | C10: 0 | D10: 0 | E10: 0 | G10: 541912C915ECCEF975007168C006 | H10: C! | I10: t2 '운반시간' =(0.5/25)*2*60 =?
A11: t4 적재대기시간 =10 | B11: 0 | C11: 0 | D11: 0 | E11: 0 | G11: 541912C915ECCEF975007168C006 | H11: C! | I11: t4 '적재대기시간' =10
A12: b 적재량 =3800 | B12: 0 | C12: 0 | D12: 0 | E12: 0 | G12: 541912C915ECCEF975007168C006 | H12: C! | I12: b '적재량' =3800
A13: t3 살포시간 =b/350 = 10.8571 | B13: 0 | C13: 0 | D13: 0 | E13: 0 | G13: 541912C915ECCEF975007168C006 | H13: C! | I13: t3 '살포시간' =b/350 =?
A14: D 소요살포량 =75 | B14: 0 | C14: 0 | D14: 0 | E14: 0 | G14: 541912C915ECCEF975007168C006 | H14: C! | I14: D '소요살포량' =75
A15: CM 1회 싸이클시간(분) =T1+T2+T3+T4 = 43.257 | B15: 0 | C15: 0 | D15: 0 | E15: 0 | G15: 541912C915ECCEF975007168C006 | H15: C! | I15: Cm '1회 싸이클시간(분)' =t1+t2+t3+t4 =?
A16: Q 시간당 작업량(A/HR) =60*3800*E/CM/D = 63.25 | B16: 0 | C16: 0 | D16: 0 | E16: 0 | G16: 541912C915ECCEF975007168C006 | H16: C! | I16: Q '시간당 작업량(a/hr)' =60*3800*E/Cm/D =?
B17: 0 | C17: 0 | D17: 0 | E17: 0 | G17: 541912C915ECCEF975007168C006 | H17: C!
A18: 재료비: 19361 / 63.25 = 306.1 | B18: 306.1 | C18: 0 | D18: 0 | E18: 306.1 | G18: 541912C915ECCEF975007168C006 | H18: C! | I18: '재료비:' ~AAA161990050.M~ / {Q} =?MA
A19: 노무비: 59020 / 63.25 = 933.1 | B19: 0 | C19: 933.1 | D19: 0 | E19: 933.1 | G19: 541912C915ECCEF975007168C006 | H19: C! | I19: '노무비:' ~AAA161990050.L~ / {Q} =?LA
A20: 경 비: 15861 / 63.25 = 250.7 | B20: 0 | C20: 0 | D20: 250.7 | E20: 250.7 | G20: 541912C915ECCEF975007168C006 | H20: C! | I20: '경 비:' ~AAA161990050.E~ / {Q} =?EQ
B21: 0 | C21: 0 | D21: 0 | E21: 0 | G21: 541912C915ECCEF975007168C006 | H21: C!
A22: 소 계 | B22: 306.1 | C22: 933.1 | D22: 250.7 | E22: 1489.9 | G22: 541912C915ECCEF975007168C006 | H22: C! | I22: >'소 계'
A23: 총 계 | B23: 306 | C23: 933 | D23: 250 | E23: 1489
A25: 기층포설(모터그레이더) 20cm M3 ( 산근 2 ) | G25: 541912C915ECCEF975007168A526 | I25: 기층포설(모터그레이더) | J25: 20cm | K25: M3
G26: 541912C915ECCEF975007168A526 | H26: C | L26: 1
A27: 모터그레이더(3.6M일반용/HR) [호표 22] | B27: 0 | C27: 0 | D27: 0 | E27: 0 | G27: 541912C915ECCEF975007168A526 | H27: C! | I27: '모터그레이더(3.6M일반용/HR)' '[56921010700]'
B28: 0 | C28: 0 | D28: 0 | E28: 0 | G28: 541912C915ECCEF975007168A526 | H28: C!
A29: L 블레이드 유호길이 =2.9 | B29: 0 | C29: 0 | D29: 0 | E29: 0 | G29: 541912C915ECCEF975007168A526 | H29: C! | I29: L '블레이드 유호길이' =2.9
A30: D 작업거리 =40 | B30: 0 | C30: 0 | D30: 0 | E30: 0 | G30: 541912C915ECCEF975007168A526 | H30: C! | I30: D '작업거리' =40
A31: H 포설두께 =0.2 | B31: 0 | C31: 0 | D31: 0 | E31: 0 | G31: 541912C915ECCEF975007168A526 | H31: C! | I31: H '포설두께' =0.2
A32: f 토량환산계수 =0.925/1.175 = 0.7872 | B32: 0 | C32: 0 | D32: 0 | E32: 0 | G32: 541912C915ECCEF975007168A526 | H32: C! | I32: f '토량환산계수' =0.925/1.175 =?
A33: p 부설회수 =4 | B33: 0 | C33: 0 | D33: 0 | E33: 0 | G33: 541912C915ECCEF975007168A526 | H33: C! | I33: p '부설회수' =4
A34: t =0.5 | B34: 0 | C34: 0 | D34: 0 | E34: 0 | G34: 541912C915ECCEF975007168A526 | H34: C! | I34: t =0.5
A35: E 작업효율 =0.6 | B35: 0 | C35: 0 | D35: 0 | E35: 0 | G35: 541912C915ECCEF975007168A526 | H35: C! | I35: E '작업효율' =0.6
A36: Cm 왕복작업으로 계산 =0.06*D*2/6+2*t = 1.8 | B36: 0 | C36: 0 | D36: 0 | E36: 0 | G36: 541912C915ECCEF975007168A526 | H36: C! | I36: Cm '왕복작업으로 계산' =0.06*D*2/6+2*t =?
A37: Q 시간당 작업량(M3/HR) =60*L*D*H*F*E/P*CM = 295.861 | B37: 0 | C37: 0 | D37: 0 | E37: 0 | G37: 541912C915ECCEF975007168A526 | H37: C! | I37: Q '시간당 작업량(M3/HR)' =60*L*D*H*f*E/P*Cm =?
B38: 0 | C38: 0 | D38: 0 | E38: 0 | G38: 541912C915ECCEF975007168A526 | H38: C!
A39: 재료비: 24094 / 295.861 = 81.4 | B39: 81.4 | C39: 0 | D39: 0 | E39: 81.4 | G39: 541912C915ECCEF975007168A526 | H39: C! | I39: '재료비:' ~56921010700.M~ / {Q} =?MA
A40: 노무비: 47967 / 295.861 = 162.1 | B40: 0 | C40: 162.1 | D40: 0 | E40: 162.1 | G40: 541912C915ECCEF975007168A526 | H40: C! | I40: '노무비:' ~56921010700.L~ / {Q} =?LA
A41: 경 비: 33933 / 295.861 = 114.6 | B41: 0 | C41: 0 | D41: 114.6 | E41: 114.6 | G41: 541912C915ECCEF975007168A526 | H41: C! | I41: '경 비:' ~56921010700.E~ / {Q} =?EQ
B42: 0 | C42: 0 | D42: 0 | E42: 0 | G42: 541912C915ECCEF975007168A526 | H42: C!
A43: 소 계 | B43: 81.4 | C43: 162.1 | D43: 114.6 | E43: 358.1 | G43: 541912C915ECCEF975007168A526 | H43: C! | I43: >'소 계'
A44: 총 계 | B44: 81 | C44: 162 | D44: 114 | E44: 357
A46: 보조기층포설(모터그레이더) 30cm M3 ( 산근 3 ) | G46: 541912C915ECCEF97500716879E6 | I46: 보조기층포설(모터그레이더) | J46: 30cm | K46: M3
G47: 541912C915ECCEF97500716879E6 | H47: C | L47: 1
A48: 모터그레이더(3.6M일반용/HR) [호표 22] | B48: 0 | C48: 0 | D48: 0 | E48: 0 | G48: 541912C915ECCEF97500716879E6 | H48: C! | I48: '모터그레이더(3.6M일반용/HR)' '[56921010700]'
B49: 0 | C49: 0 | D49: 0 | E49: 0 | G49: 541912C915ECCEF97500716879E6 | H49: C!
A50: L 블레이드 유호길이 =2.9 | B50: 0 | C50: 0 | D50: 0 | E50: 0 | G50: 541912C915ECCEF97500716879E6 | H50: C! | I50: L '블레이드 유호길이' =2.9
A51: D 작업거리 =40 | B51: 0 | C51: 0 | D51: 0 | E51: 0 | G51: 541912C915ECCEF97500716879E6 | H51: C! | I51: D '작업거리' =40
A52: H 포설두께 =0.3 | B52: 0 | C52: 0 | D52: 0 | E52: 0 | G52: 541912C915ECCEF97500716879E6 | H52: C! | I52: H '포설두께' =0.3
A53: f 토량환산계수 =0.925/1.175 = 0.7872 | B53: 0 | C53: 0 | D53: 0 | E53: 0 | G53: 541912C915ECCEF97500716879E6 | H53: C! | I53: f '토량환산계수' =0.925/1.175 =?
A54: E 작업효율 =0.6 | B54: 0 | C54: 0 | D54: 0 | E54: 0 | G54: 541912C915ECCEF97500716879E6 | H54: C! | I54: E '작업효율' =0.6
A55: P 부설회수 =4 | B55: 0 | C55: 0 | D55: 0 | E55: 0 | G55: 541912C915ECCEF97500716879E6 | H55: C! | I55: P '부설회수' =4
A56: CM 왕복작업으로 계산 =0.06*(D/6+D/6.5)+2*0.5 = 1.769 | B56: 0 | C56: 0 | D56: 0 | E56: 0 | G56: 541912C915ECCEF97500716879E6 | H56: C! | I56: Cm '왕복작업으로 계산' =0.06*(D/6+D/6.5)+2*0.5 =?
A57: Q 시간당 작업량(M3/HR) =60*L*D*H*F*E/P*CM = 436.149 | B57: 0 | C57: 0 | D57: 0 | E57: 0 | G57: 541912C915ECCEF97500716879E6 | H57: C! | I57: Q '시간당 작업량(M3/HR)' =60*L*D*H*f*E/P*Cm =?
B58: 0 | C58: 0 | D58: 0 | E58: 0 | G58: 541912C915ECCEF97500716879E6 | H58: C!
A59: 재료비: 24094 / 436.149 = 55.2 | B59: 55.2 | C59: 0 | D59: 0 | E59: 55.2 | G59: 541912C915ECCEF97500716879E6 | H59: C! | I59: '재료비:' ~56921010700.M~ / {Q} =?MA
A60: 노무비: 47967 / 436.149 = 109.9 | B60: 0 | C60: 109.9 | D60: 0 | E60: 109.9 | G60: 541912C915ECCEF97500716879E6 | H60: C! | I60: '노무비:' ~56921010700.L~ / {Q} =?LA
A61: 경 비: 33933 / 436.149 = 77.8 | B61: 0 | C61: 0 | D61: 77.8 | E61: 77.8 | G61: 541912C915ECCEF97500716879E6 | H61: C! | I61: '경 비:' ~56921010700.E~ / {Q} =?EQ
B62: 0 | C62: 0 | D62: 0 | E62: 0 | G62: 541912C915ECCEF97500716879E6 | H62: C!
A63: 소 계 | B63: 55.2 | C63: 109.9 | D63: 77.8 | E63: 242.9 | G63: 541912C915ECCEF97500716879E6 | H63: C! | I63: >'소 계'
B64: 0 | C64: 0 | D64: 0 | E64: 0 | G64: 541912C915ECCEF97500716879E6 | H64: C!
A65: 총 계 | B65: 55 | C65: 109 | D65: 77 | E65: 241
A67: 표층공전압비(TIRE ROLLER) 8-15톤 a ( 산근 4 ) | G67: 541912C915ECCEF9750070489D16 | I67: 표층공전압비(TIRE ROLLER) | J67: 8-15톤 | K67: a
G68: 541912C915ECCEF9750070489D16 | H68: C | L68: 1
A69: 타이어로울러(자주식)(8-15톤/HR) [호표 27] | B69: 0 | C69: 0 | D69: 0 | E69: 0 | G69: 541912C915ECCEF9750070489D16 | H69: C! | I69: '타이어로울러(자주식)(8-15톤/HR)' '[56921020300]'
B70: 0 | C70: 0 | D70: 0 | E70: 0 | G70: 541912C915ECCEF9750070489D16 | H70: C!
A71: V 다짐속도 =4 | B71: 0 | C71: 0 | D71: 0 | E71: 0 | G71: 541912C915ECCEF9750070489D16 | H71: C! | I71: V '다짐속도' =4
A72: W ROLLER 유효폭 =1.8 | B72: 0 | C72: 0 | D72: 0 | E72: 0 | G72: 541912C915ECCEF9750070489D16 | H72: C! | I72: W 'ROLLER 유효폭' =1.8
A73: E 작업효율 =0.45 | B73: 0 | C73: 0 | D73: 0 | E73: 0 | G73: 541912C915ECCEF9750070489D16 | H73: C! | I73: E '작업효율' =0.45
A74: N 소요다짐회수 =10 | B74: 0 | C74: 0 | D74: 0 | E74: 0 | G74: 541912C915ECCEF9750070489D16 | H74: C! | I74: N '소요다짐회수' =10
A75: Q 시간당 작업량(L/HR) =1000*V*W*E*1/N/100 = 3.24 | B75: 0 | C75: 0 | D75: 0 | E75: 0 | G75: 541912C915ECCEF9750070489D16 | H75: C! | I75: Q '시간당 작업량(L/HR)' =1000*V*W*E*1/N/100 =?
B76: 0 | C76: 0 | D76: 0 | E76: 0 | G76: 541912C915ECCEF9750070489D16 | H76: C!
B77: 0 | C77: 0 | D77: 0 | E77: 0 | G77: 541912C915ECCEF9750070489D16 | H77: C!
A78: 00001406001500000 - 타이어 롤러(자주식)(8∼15TON/HR) | B78: 0 | C78: 0 | D78: 0 | E78: 0 | G78: 541912C915ECCEF9750070489D16 | H78: C! | I78: '00001406001500000 - 타이어 롤러(자주식)(8∼15ton/HR)'
B79: 0 | C79: 0 | D79: 0 | E79: 0 | G79: 541912C915ECCEF9750070489D16 | H79: C!
A80: 재료비: 13982 / 3.24 = 4315.4 | B80: 4315.4 | C80: 0 | D80: 0 | E80: 4315.4 | G80: 541912C915ECCEF9750070489D16 | H80: C! | I80: '재료비:' ~00001406001500000.M~ / {Q} =?MA
A81: 노무비: 59020 / 3.24 = 18216 | B81: 0 | C81: 18216 | D81: 0 | E81: 18216 | G81: 541912C915ECCEF9750070489D16 | H81: C! | I81: '노무비:' ~00001406001500000.L~ / {Q} =?LA
A82: 경 비: 19136 / 3.24 = 5906.1 | B82: 0 | C82: 0 | D82: 5906.1 | E82: 5906.1 | G82: 541912C915ECCEF9750070489D16 | H82: C! | I82: '경 비:' ~00001406001500000.E~ / {Q} =?EQ
B83: 0 | C83: 0 | D83: 0 | E83: 0 | G83: 541912C915ECCEF9750070489D16 | H83: C!
A84: 소 계 | B84: 4315.4 | C84: 18216 | D84: 5906.1 | E84: 28437.5 | G84: 541912C915ECCEF9750070489D16 | H84: C! | I84: >'소 계'
A85: 총 계 | B85: 4315 | C85: 18216 | D85: 5906 | E85: 28437
A87: 기층공전압비(TIRE ROLLER) 8-15톤 a ( 산근 5 ) | G87: 541912C915ECCEF9750070488CA6 | I87: 기층공전압비(TIRE ROLLER) | J87: 8-15톤 | K87: a
G88: 541912C915ECCEF9750070488CA6 | H88: C | L88: 1
A89: 타이어로울러(자주식)(8-15톤/HR) [호표 27] | B89: 0 | C89: 0 | D89: 0 | E89: 0 | G89: 541912C915ECCEF9750070488CA6 | H89: C! | I89: '타이어로울러(자주식)(8-15톤/HR)' '[56921020300]'
B90: 0 | C90: 0 | D90: 0 | E90: 0 | G90: 541912C915ECCEF9750070488CA6 | H90: C!
A91: V 다짐속도 =4 | B91: 0 | C91: 0 | D91: 0 | E91: 0 | G91: 541912C915ECCEF9750070488CA6 | H91: C! | I91: V '다짐속도' =4
A92: W ROLLER 유효폭 =1.8 | B92: 0 | C92: 0 | D92: 0 | E92: 0 | G92: 541912C915ECCEF9750070488CA6 | H92: C! | I92: W 'ROLLER 유효폭' =1.8
A93: E 작업효율 =0.4 | B93: 0 | C93: 0 | D93: 0 | E93: 0 | G93: 541912C915ECCEF9750070488CA6 | H93: C! | I93: E '작업효율' =0.4
A94: N 소요다짐회수 =10 | B94: 0 | C94: 0 | D94: 0 | E94: 0 | G94: 541912C915ECCEF9750070488CA6 | H94: C! | I94: N '소요다짐회수' =10
A95: Q 시간당 작업량(L/HR) =1000*V*W*E*1/N/100 = 2.88 | B95: 0 | C95: 0 | D95: 0 | E95: 0 | G95: 541912C915ECCEF9750070488CA6 | H95: C! | I95: Q '시간당 작업량(L/HR)' =1000*V*W*E*1/N/100 =?
B96: 0 | C96: 0 | D96: 0 | E96: 0 | G96: 541912C915ECCEF9750070488CA6 | H96: C!
A97: 재료비: 10528 / 2.88 = 3655.5 | B97: 3655.5 | C97: 0 | D97: 0 | E97: 3655.5 | G97: 541912C915ECCEF9750070488CA6 | H97: C! | I97: '재료비:' ~56921020300.M~ / {Q} =?MA
A98: 노무비: 47967 / 2.88 = 16655.2 | B98: 0 | C98: 16655.2 | D98: 0 | E98: 16655.2 | G98: 541912C915ECCEF9750070488CA6 | H98: C! | I98: '노무비:' ~56921020300.L~ / {Q} =?LA
A99: 경 비: 16139 / 2.88 = 5603.8 | B99: 0 | C99: 0 | D99: 5603.8 | E99: 5603.8 | G99: 541912C915ECCEF9750070488CA6 | H99: C! | I99: '경 비:' ~56921020300.E~ / {Q} =?EQ
B100: 0 | C100: 0 | D100: 0 | E100: 0 | G100: 541912C915ECCEF9750070488CA6 | H100: C!
A101: 소 계 | B101: 3655.5 | C101: 16655.2 | D101: 5603.8 | E101: 25914.5 | G101: 541912C915ECCEF9750070488CA6 | H101: C! | I101: >'소 계'
A102: 총 계 | B102: 3655 | C102: 16655 | D102: 5603 | E102: 25913
A104: 표층공전압비(MACADAM ROLLER) 8-10톤 a ( 산근 6 ) | G104: 541912C915ECCEF975007048D4C6 | I104: 표층공전압비(MACADAM ROLLER) | J104: 8-10톤 | K104: a
G105: 541912C915ECCEF975007048D4C6 | H105: C | L105: 1
...

Sheet 단가대비표
A1: 단 가 대 비 표
A2: [ 남원국악예술고 장애인 승강기 증축공사 ]
A3: 코 드 | B3: 품 명 | C3: 규격 | D3: 단위 | E3: 재 료 비 | P3: 노 무 비 | Q3: 경 비 | W3: 번 호 | X3: 비 고 | Y3: 품목구분 | Z3: 노임구분 | AA3: 소수점처리 | AB3: 자재구분
E4: 조달청가격 | F4: PAGE | G4: 물가자료 | H4: PAGE | I4: 물가정보 | J4: PAGE | K4: 거래가격 | L4: PAGE | M4: 조사가격 | N4: PAGE | O4: 적용단가 | Q4: 조달청가격 | R4: 물가자료 | S4: 물가정보 | T4: 거래가격 | U4: 조사가격 | V4: 적용단가
A5: 5446B2C9F0376E1B774699C858632916F67601 | B5: 굴착기(무한궤도) | C5: 0.2㎥ | D5: 대 | E5: 0 | G5: 0 | I5: 0 | K5: 0 | M5: 0 | O5: 0 | P5: 0 | Q5: 0 | R5: 0 | S5: 0 | T5: 0 | U5: 66538 | V5: =SMALL(Q5:U5,COUNTIF(Q5:U5,0)+1) -> 66538 | W5: 자재 1 | X5: 천원
A6: 5446B2C9F0376E1B774699C8580A9646B797AC | B6: 굴착기(무한궤도) | C6: 0.4㎥ | D6: 대 | E6: 0 | G6: 0 | I6: 0 | K6: 0 | M6: 0 | O6: 0 | P6: 0 | Q6: 0 | R6: 0 | S6: 0 | T6: 0 | U6: 84000 | V6: =SMALL(Q6:U6,COUNTIF(Q6:U6,0)+1) -> 84000 | W6: 자재 2 | X6: 천원
A7: 5446B2C9F0376E1B774699C858257C061F8AA7 | B7: 굴착기(무한궤도) | C7: 0.6㎥ | D7: 대 | E7: 0 | G7: 0 | I7: 0 | K7: 0 | M7: 0 | O7: 0 | P7: 0 | Q7: 0 | R7: 0 | S7: 0 | T7: 0 | U7: 112342 | V7: =SMALL(Q7:U7,COUNTIF(Q7:U7,0)+1) -> 112342 | W7: 자재 3 | X7: 천원
A8: 5446B2C9F0376E1B774699C85837DC36F602B9 | B8: 굴착기(무한궤도) | C8: 0.7㎥ | D8: 대 | E8: 0 | G8: 0 | I8: 0 | K8: 0 | M8: 0 | O8: 0 | P8: 0 | Q8: 0 | R8: 0 | S8: 0 | T8: 0 | U8: 117766 | V8: =SMALL(Q8:U8,COUNTIF(Q8:U8,0)+1) -> 117766 | W8: 자재 4 | X8: 천원
A9: 5446B2C9F0376E1B774699C84FDB25663DB33C | B9: 굴착기(무한궤도) | C9: 1.0㎥ | D9: 대 | E9: 0 | G9: 0 | I9: 0 | K9: 0 | M9: 0 | O9: 0 | P9: 0 | Q9: 0 | R9: 0 | S9: 0 | T9: 0 | U9: 142069 | V9: =SMALL(Q9:U9,COUNTIF(Q9:U9,0)+1) -> 142069 | W9: 자재 5 | X9: 천원
A10: 5446B2C9F0376E1B76A1DD58090571E64E7B31 | B10: 굴착기(타이어) | C10: 0.6㎥ | D10: 대 | E10: 0 | G10: 0 | I10: 0 | K10: 0 | M10: 0 | O10: 0 | P10: 0 | Q10: 0 | R10: 0 | S10: 0 | T10: 0 | U10: 119000 | V10: =SMALL(Q10:U10,COUNTIF(Q10:U10,0)+1) -> 119000 | W10: 자재 6 | X10: 천원
A11: 5446B2C9F0376E1B74F361D8091E21E69F7CD5 | B11: 대형 브레이커 | C11: 0.4㎥용 | D11: 대 | E11: 0 | G11: 0 | I11: 0 | K11: 0 | M11: 0 | O11: 0 | P11: 0 | Q11: 0 | R11: 0 | S11: 0 | T11: 0 | U11: 8352 | V11: =SMALL(Q11:U11,COUNTIF(Q11:U11,0)+1) -> 8352 | W11: 자재 7 | X11: 천원
A12: 5446B2C9F0376E1B72C56658720C82B68A6C4E | B12: 압쇄기(펄버라이저) | C12: 1.0㎥용 | D12: 대 | E12: 0 | G12: 0 | I12: 0 | K12: 0 | M12: 0 | O12: 0 | P12: 0 | Q12: 0 | R12: 0 | S12: 0 | T12: 0 | U12: 28567 | V12: =SMALL(Q12:U12,COUNTIF(Q12:U12,0)+1) -> 28567 | W12: 자재 8 | X12: 천원
A13: 5446B2C9F0376E5172FAAB78952E43868D5D03 | B13: 덤프트럭 | C13: 8ton | D13: 대 | E13: 0 | G13: 0 | I13: 0 | K13: 0 | M13: 0 | O13: 0 | P13: 0 | Q13: 0 | R13: 0 | S13: 0 | T13: 0 | U13: 37391 | V13: =SMALL(Q13:U13,COUNTIF(Q13:U13,0)+1) -> 37391 | W13: 자재 9 | X13: 천원
A14: 5446B2C9F0376E5172FAAB788B6042762D66EE | B14: 덤프트럭 | C14: 15ton | D14: 대 | E14: 0 | G14: 0 | I14: 0 | K14: 0 | M14: 0 | O14: 0 | P14: 0 | Q14: 0 | R14: 0 | S14: 0 | T14: 0 | U14: 90653 | V14: =SMALL(Q14:U14,COUNTIF(Q14:U14,0)+1) -> 90653 | W14: 자재 10 | X14: 천원
A15: 5446B2C9F0376E51739F68F849707B563AE4F7 | B15: 덤프트럭 자동덮개시설 | C15: 15ton | D15: 대 | E15: 0 | G15: 0 | I15: 0 | K15: 0 | M15: 0 | O15: 0 | P15: 0 | Q15: 0 | R15: 0 | S15: 0 | T15: 0 | U15: 1634 | V15: =SMALL(Q15:U15,COUNTIF(Q15:U15,0)+1) -> 1634 | W15: 자재 11 | X15: 천원
A16: 5446B2C9F03778BF75307808AAF3E7F6340F3A | B16: 머캐덤 롤러(자주식) | C16: 8∼10ton | D16: 대 | E16: 0 | G16: 0 | I16: 0 | K16: 0 | M16: 0 | O16: 0 | P16: 0 | Q16: 0 | R16: 0 | S16: 0 | T16: 0 | U16: 57150 | V16: =SMALL(Q16:U16,COUNTIF(Q16:U16,0)+1) -> 57150 | W16: 자재 12 | X16: 천원
... A27: 5446B2C9F03720D577F8A238C23C51E6407830 | B27: 콘크리트 펌프차 | C27: 21m(65∼75㎥/hr) | D27: 대 | E27: 0 | G27: 0 | I27: 0 | K27: 0 | M27: 0 | O27: 0 | P27: 0 | Q27: 0 | R27: 0 | S27: 0 | T27: 0 | U27: 195829 | V27: =SMALL(Q27:U27,COUNTIF(Q27:U27,0)+1) -> 195829 | W27: 자재 23 | X27: 천원
A28: 545732C961FA56C57672F908D69AA7F6802D98 | B28: 자갈 | C28: (별도), 25mm, #57 | D28: M3 | E28: 0 | G28: 0 | I28: 0 | K28: 0 | M28: 0 | O28: 0 | P28: 0 | Q28: 0 | R28: 0 | S28: 0 | T28: 0 | U28: 0 | V28: 0 | W28: 자재 24 | X28: 별도
A29: 545732C961FA56C57672F908D69AA7E6FEDC2F | B29: 세사 | C29: 시내도착도,25mm | D29: M3 | E29: 0 | G29: 0 | I29: 34500 | J29: 55 | K29: 0 | M29: 0 | O29: =SMALL(E29:M29,COUNTIF(E29:M29,0)+1) -> 34500 | P29: 0 | Q29: 0 | R29: 0 | S29: 0 | T29: 0 | U29: 0 | V29: 0 | W29: 자재 25
A30: 545732C961FA56C57E4E5E680C29A2462733C5 | B30: 잡석 | C30: (별도) | D30: M3 | E30: 0 | G30: 0 | I30: 0 | K30: 0 | M30: 0 | O30: 0 | P30: 0 | Q30: 0 | R30: 0 | S30: 0 | T30: 0 | U30: 0 | V30: 0 | W30: 자재 26 | X30: 별도
A31: 545732C961FA56D77E222A68009403465031B3 | B31: 모래 | C31: (별도) | D31: M3 | E31: 0 | G31: 0 | I31: 0 | K31: 0 | M31: 0 | O31: 0 | P31: 0 | Q31: 0 | R31: 0 | S31: 0 | T31: 0 | U31: 0 | V31: 0 | W31: 자재 27 | X31: 별도
A32: 545732C961CD292F7B7AC998054C6776B93D7D | B32: 내수합판 | C32: 1급, 12*1220*2440mm | D32: M2 | E32: 11268 | G32: 11556 | H32: 670 | I32: 14277 | J32: 587 | K32: 11488 | L32: 667 | M32: 0 | O32: =SMALL(E32:M32,COUNTIF(E32:M32,0)+1) -> 11268 | P32: 0 | Q32: 0 | R32: 0 | S32: 0 | T32: 0 | U32: 0 | V32: 0 | W32: 자재 28
A33: 545732C961CD292F7B781C18C6C3C7963DAC97 | B33: 중밀도섬유판 | C33: 9.0*1220*2440mm | D33: M2 | E33: 4683 | G33: 4736 | H33: 670 | I33: 4568 | J33: 588 | K33: 5442 | L33: 668 | M33: 0 | O33: =SMALL(E33:M33,COUNTIF(E33:M33,0)+1) -> 4568 | P33: 0 | Q33: 0 | R33: 0 | S33: 0 | T33: 0 | U33: 0 | V33: 0 | W33: 자재 29
A34: 545732C96176FACD7DB730181177E676F810FE | B34: 철강설 | C34: 철강설, 고철, 작업설부산물 | D34: TON | E34: 261250 | G34: 360000 | H34: 1472 | I34: 348000 | J34: 1198 | K34: 0 | M34: 0 | O34: =SMALL(E34:M34,COUNTIF(E34:M34,0)+1) -> 261250 | P34: 0 | Q34: 0 | R34: 0 | S34: 0 | T34: 0 | U34: 0 | V34: 0 | W34: 자재 30 | X34: 수집상차도
A35: 545732C96176FACD7DB730181177E676F810FD | B35: 철강설 | C35: 고철, 작업설부산물 | D35: kg | E35: 261 | G35: 290 | H35: 47 II | I35: 255 | J35: 84 II | K35: 335 | L35: 1472 | M35: 0 | O35: =SMALL(E35:M35,COUNTIF(E35:M35,0)+1) -> 255 | P35: 0 | Q35: 0 | R35: 0 | S35: 0 | T35: 0 | U35: 0 | V35: 0 | W35: 자재 31 | X35: 수집상차도
A36: 545732C96176FACD7DB730181177E676F81184 | B36: 철강설 | C36: 스텐레스, 작업설부산물 | D36: kg | E36: 1377.5 | G36: 1400 | H36: 47 II | I36: 1500 | J36: 84 II | K36: 1850 | L36: 1472 | M36: 0 | O36: =SMALL(E36:M36,COUNTIF(E36:M36,0)+1) -> 1377.5 | P36: 0 | Q36: 0 | R36: 0 | S36: 0 | T36: 0 | U36: 0 | V36: 0 | W36: 자재 32 | X36: 수집상차도
A37: 545732C96176FACD7DB7301800604476022C8C | B37: 철강설 | C37: 알루미늄, 작업설부산물 | D37: kg | E37: 1757.5 | G37: 2100 | H37: 47 II | I37: 2850 | J37: 84 II | K37: 2450 | L37: 1472 | M37: 0 | O37: =SMALL(E37:M37,COUNTIF(E37:M37,0)+1) -> 1757.5 | P37: 0 | Q37: 0 | R37: 0 | S37: 0 | T37: 0 | U37: 0 | V37: 0 | W37: 자재 33 | X37: 수집상차도
A38: 5457027920618A8977868018F4664A66517942 | B38: 우레탄도막방수재 | C38: 마감코팅제 | D38: kg | E38: 7500 | G38: 4000 | H38: 483 | I38: 7500 | J38: 469 | K38: 8300 | L38: 591 | M38: 0 | O38: =SMALL(E38:M38,COUNTIF(E38:M38,0)+1) -> 4000 | P38: 0 | Q38: 0 | R38: 0 | S38: 0 | T38: 0 | U38: 0 | V38: 0 | W38: 자재 34
A39: 5457027920618A8977868018F4664A66517941 | B39: 우레탄도막방수재 | C39: 프라이머 | D39: kg | E39: 4000 | G39: 4000 | H39: 483 | I39: 4100 | J39: 469 | K39: 6400 | L39: 591 | M39: 0 | O39: =SMALL(E39:M39,COUNTIF(E39:M39,0)+1) -> 4000 | P39: 0 | Q39: 0 | R39: 0 | S39: 0 | T39: 0 | U39: 0 | V39: 0 | W39: 자재 35
A40: 5457027920618A8977868018F4664A66517940 | B40: 우레탄도막방수재 | C40: 희석재 | D40: kg | E40: 2750 | G40: 2000 | H40: 483 | I40: 3500 | J40: 465 | K40: 3500 | L40: 594 | M40: 0 | O40: =SMALL(E40:M40,COUNTIF(E40:M40,0)+1) -> 2000 | P40: 0 | Q40: 0 | R40: 0 | S40: 0 | T40: 0 | U40: 0 | V40: 0 | W40: 자재 36
A41: 5457027920618A8977868018F4664A665175ED | B41: 우레탄도막방수재 | C41: 우레탄(노출) | D41: kg | E41: 5000 | G41: 4000 | H41: 483 | I41: 5500 | J41: 469 | K41: 5900 | L41: 591 | M41: 0 | O41: =SMALL(E41:M41,COUNTIF(E41:M41,0)+1) -> 4000 | P41: 0 | Q41: 0 | R41: 0 | S41: 0 | T41: 0 | U41: 0 | V41: 0 | W41: 자재 37
A42: 5457027920618A897E3B58782306EB165B550E | B42: 침투성액체방수재 | C42: 초고농축방수액(1:50희석) | D42: L | E42: 0 | G42: 3752 | H42: 465 | I42: 0 | K42: 6944 | L42: 596 | M42: 0 | O42: =SMALL(E42:M42,COUNTIF(E42:M42,0)+1) -> 3752 | P42: 0 | Q42: 0 | R42: 0 | S42: 0 | T42: 0 | U42: 0 | V42: 0 | W42: 자재 38
A43: 545702792061947C7BD2EC68F56783E6A228A9 | B43: 수팽창 고무수지재 | C43: 50*50 | D43: M | E43: 0 | G43: 3000 | H43: 293 | I43: 0 | K43: 0 | M43: 0 | O43: =SMALL(E43:M43,COUNTIF(E43:M43,0)+1) -> 3000 | P43: 5300 | Q43: 0 | R43: 0 | S43: 0 | T43: 0 | U43: 0 | V43: 0 | W43: 자재 39
A44: 54571219BB95FD1474770B98882DB8B6FBF0FD | B44: 폴리에틸렌필름 | C44: 두께, 0.03mm | D44: M2 | E44: 182 | G44: 228 | H44: 18 II | I44: 250 | J44: 72 II | K44: 184 | L44: 1460 | M44: 0 | O44: =SMALL(E44:M44,COUNTIF(E44:M44,0)+1) -> 182 | P44: 0 | Q44: 0 | R44: 0 | S44: 0 | T44: 0 | U44: 0 | V44: 0 | W44: 자재 40
A45: 545772A939C89A367E9F1718EA235506639BF2 | B45: 경유 | C45: 저유황 | D45: L | E45: 1421 | G45: 1481 | H45: 32 II | I45: 1703 | J45: 1438 | K45: 1621 | L45: 1451 | M45: 0 | O45: =SMALL(E45:M45,COUNTIF(E45:M45,0)+1) -> 1421 | P45: 0 | Q45: 0 | R45: 0 | S45: 0 | T45: 0 | U45: 0 | V45: 0 | W45: 자재 41
A46: 545772A939C89A367E9C429893F951C6099F3D | B46: 공업용휘발유 | C46: 무연 | D46: L | E46: 1473 | G46: 1572 | H46: 32 II | I46: 1805 | J46: 1438 | K46: 1724 | L46: 1451 | M46: 0 | O46: =SMALL(E46:M46,COUNTIF(E46:M46,0)+1) -> 1473 | P46: 0 | Q46: 0 | R46: 0 | S46: 0 | T46: 0 | U46: 0 | V46: 0 | W46: 자재 42
A47: 5461B259ACD9BD867B9D98C87F96 | B47: 덤프트럭 | C47: 15톤 | D47: 대 | E47: 0 | G47: 0 | I47: 0 | K47: 0 | M47: 0 | O47: 0 | P47: 0 | Q47: 0 | R47: 0 | S47: 0 | T47: 0 | U47: 80295 | V47: =SMALL(Q47:U47,COUNTIF(Q47:U47,0)+1) -> 80295 | W47: 자재 43 | X47: 천원
A48: 5473F2A9C75353AE7C63B52875BABF06908730 | B48: ㄱ형강 | C48: 등변, 30*30*3mm | D48: kg | E48: 1020 | G48: 1030 | H48: 7 | I48: 1135 | J48: 5 | K48: 1190 | L48: 55 | M48: 0 | O48: =SMALL(E48:M48,COUNTIF(E48:M48,0)+1) -> 1020 | P48: 0 | Q48: 0 | R48: 0 | S48: 0 | T48: 0 | U48: 0 | V48: 0 | W48: 자재 44
A49: 5473F2A9C75353AE7C63B52875BABF06908731 | B49: ㄱ형강 | C49: 등변, 40*40*3mm | D49: kg | E49: 950 | G49: 1030 | H49: 7 | I49: 1135 | J49: 5 | K49: 1000 | L49: 55 | M49: 0 | O49: =SMALL(E49:M49,COUNTIF(E49:M49,0)+1) -> 950 | P49: 0 | Q49: 0 | R49: 0 | S49: 0 | T49: 0 | U49: 0 | V49: 0 | W49: 자재 45
A50: 5473F2A9C753539C7660DD486A01B4261B4172 | B50: 일반봉강 | C50: SS400, ∮13mm | D50: kg | E50: 0 | G50: 990 | H50: 5 | I50: 990 | J50: 3 | K50: 1000 | L50: 50 | M50: 0 | O50: =SMALL(E50:M50,COUNTIF(E50:M50,0)+1) -> 990 | P50: 0 | Q50: 0 | R50: 0 | S50: 0 | T50: 0 | U50: 0 | V50: 0 | W50: 자재 46
A51: 5473F2A9C753539C7702CAD8F706FF1696DE82 | B51: 철근콘크리트용봉강 | C51: 이형봉강(SD400), HD-10, 하치장상차도 | D51: TON | E51: 828200 | G51: 0 | I51: 0 | K51: 0 | M51: 0 | O51: =SMALL(E51:M51,COUNTIF(E51:M51,0)+1) -> 828200 | P51: 0 | Q51: 0 | R51: 0 | S51: 0 | T51: 0 | U51: 0 | V51: 0 | W51: 자재 47
A52: 5473F2A9C753539C7702CAD8F706FF1696DE85 | B52: 철근콘크리트용봉강 | C52: 이형봉강(SD400), HD-13, 하치장상차도 | D52: TON | E52: 822700 | G52: 0 | I52: 0 | K52: 0 | M52: 0 | O52: =SMALL(E52:M52,COUNTIF(E52:M52,0)+1) -> 822700 | P52: 0 | Q52: 0 | R52: 0 | S52: 0 | T52: 0 | U52: 0 | V52: 0 | W52: 자재 48
A53: 5473F2A9C753539C7702CAD8F706FF1696DE84 | B53: 철근콘크리트용봉강 | C53: 이형봉강(SD400), HD-16, 하치장상차도 | D53: TON | E53: 822700 | G53: 0 | I53: 0 | K53: 0 | M53: 0 | O53: =SMALL(E53:M53,COUNTIF(E53:M53,0)+1) -> 822700 | P53: 0 | Q53: 0 | R53: 0 | S53: 0 | T53: 0 | U53: 0 | V53: 0 | W53: 자재 49
A54: 5473F2A9C753539C7702CAD8F706FF1696DE87 | B54: 철근콘크리트용봉강 | C54: 이형봉강(SD400), HD-19, 하치장상차도 | D54: TON | E54: 822700 | G54: 0 | I54: 0 | K54: 0 | M54: 0 | O54: =SMALL(E54:M54,COUNTIF(E54:M54,0)+1) -> 822700 | P54: 0 | Q54: 0 | R54: 0 | S54: 0 | T54: 0 | U54: 0 | V54: 0 | W54: 자재 50
A55: 5473F2A9C75353837FD7AEB81B0AC5D698EBEF | B55: 경량형강 | C55: 경량형강, 블랙C형강, 100*50*20, t3.2 | D55: TON | E55: 1010000 | G55: 1010000 | H55: 58 | I55: 1050000 | J55: 24 | K55: 0 | M55: 0 | O55: =SMALL(E55:M55,COUNTIF(E55:M55,0)+1) -> 1010000 | P55: 0 | Q55: 0 | R55: 0 | S55: 0 | T55: 0 | U55: 0 | V55: 0 | W55: 자재 51
A56: 5473F2A9C7536C4372BC4FF84F391D6602A4CE | B56: 알루미늄합금판 | C56: 알루미늄합금판, A1100, 3.0mm | D56: kg | E56: 0 | G56: 6800 | H56: 82 | I56: 6230 | J56: 48 | K56: 0 | M56: 0 | O56: =SMALL(E56:M56,COUNTIF(E56:M56,0)+1) -> 6230 | P56: 0 | Q56: 0 | R56: 0 | S56: 0 | T56: 0 | U56: 0 | V56: 0 | W56: 자재 52
A57: 5473F2A9C7536C4372BA9DB8D5A80996198DF8 | B57: 일반구조용압연강판 | C57: 1.6mm | D57: kg | E57: 877 | G57: 990 | H57: 13 | I57: 936 | J57: 15 | K57: 962 | L57: 63 | M57: 0 | O57: =SMALL(E57:M57,COUNTIF(E57:M57,0)+1) -> 877 | P57: 0 | Q57: 0 | R57: 0 | S57: 0 | T57: 0 | U57: 0 | V57: 0 | W57: 자재 53
A58: 5473F2A9C7536C4372BA9DB8D5A80996198DFF | B58: 일반구조용압연강판 | C58: 2.3mm | D58: kg | E58: 865 | G58: 960 | H58: 13 | I58: 923 | J58: 15 | K58: 950 | L58: 63 | M58: 0 | O58: =SMALL(E58:M58,COUNTIF(E58:M58,0)+1) -> 865 | P58: 0 | Q58: 0 | R58: 0 | S58: 0 | T58: 0 | U58: 0 | V58: 0 | W58: 자재 54
A59: 5473F2A9C7536C4372BBA4A8F122A496CBDFBF | B59: 스테인리스강판 | C59: STS304, 1.5mm | D59: kg | E59: 3550 | G59: 3900 | H59: 31 | I59: 4029 | J59: 27 | K59: 3980 | L59: 74 | M59: 0 | O59: =SMALL(E59:M59,COUNTIF(E59:M59,0)+1) -> 3550 | P59: 0 | Q59: 0 | R59: 0 | S59: 0 | T59: 0 | U59: 0 | V59: 0 | W59: 자재 55
A60: 5473F2A9C7536C4372BBA4A8F122A496CBDFBC | B60: 스테인리스강판 | C60: STS304, 2.0mm | D60: kg | E60: 3450 | G60: 3800 | H60: 31 | I60: 3913 | J60: 27 | K60: 3930 | L60: 74 | M60: 0 | O60: =SMALL(E60:M60,COUNTIF(E60:M60,0)+1) -> 3450 | P60: 0 | Q60: 0 | R60: 0 | S60: 0 | T60: 0 | U60: 0 | V60: 0 | W60: 자재 56
A61: 5473F2A9C7536C4372BBA4A8F122A496CBDCEB | B61: 스테인리스강판 | C61: STS304, 3.0mm | D61: kg | E61: 3650 | G61: 3800 | H61: 31 | I61: 3913 | J61: 27 | K61: 3880 | L61: 74 | M61: 0 | O61: =SMALL(E61:M61,COUNTIF(E61:M61,0)+1) -> 3650 | P61: 0 | Q61: 0 | R61: 0 | S61: 0 | T61: 0 | U61: 0 | V61: 0 | W61: 자재 57
A62: 5473F2A9C7537EA37C4D5D68780293E61DA295 | B62: 각재 | C62: 각재, 외송 | D62: M3 | E62: 511929 | G62: 718562 | H62: 97 | I62: 0 | K62: 625902 | L62: 148 | M62: 0 | O62: =SMALL(E62:M62,COUNTIF(E62:M62,0)+1) -> 511929 | P62: 0 | Q62: 0 | R62: 0 | S62: 0 | T62: 0 | U62: 0 | V62: 0 | W62: 자재 58
A63: 5473F2A9C7537EA37C4D5D68780293E61DA551 | B63: 각재 | C63: 미송 | D63: M3 | E63: 731289 | G63: 838323 | H63: 97 | I63: 0 | K63: 778635 | L63: 148 | M63: 0 | O63: =SMALL(E63:M63,COUNTIF(E63:M63,0)+1) -> 731289 | P63: 0 | Q63: 0 | R63: 0 | S63: 0 | T63: 0 | U63: 0 | V63: 0 | W63: 자재 59
A64: 5473F2A9C753D7C57E9315E853EF23F6C7135C | B64: 쇄석자갈 | C64: 시내도착도, 40mm | D64: M3 | E64: 0 | G64: 24000 | H64: 103 | I64: 0 | K64: 24000 | L64: 103 | M64: 0 | O64: =SMALL(E64:M64,COUNTIF(E64:M64,0)+1) -> 24000 | P64: 0 | Q64: 0 | R64: 0 | S64: 0 | T64: 0 | U64: 0 | V64: 0 | W64: 자재 60
A65: 5473F2A9C742C0507C75D24805679D062ABC93 | B65: 레미콘 | C65: 25-18-80 | D65: M3 | E65: 0 | G65: 92570 | H65: 73 | I65: 0 | K65: 0 | M65: 0 | O65: =SMALL(E65:M65,COUNTIF(E65:M65,0)+1) -> 92570 | P65: 0 | Q65: 0 | R65: 0 | S65: 0 | T65: 0 | U65: 0 | V65: 0 | W65: 자재 61
A66: 5473F2A9C742C0507C75D24805679D062ABF60 | B66: 레미콘 | C66: 25-27-150 | D66: M3 | E66: 0 | G66: 106930 | I66: 0 | K66: 0 | M66: 0 | O66: =SMALL(E66:M66,COUNTIF(E66:M66,0)+1) -> 106930 | P66: 0 | Q66: 0 | R66: 0 | S66: 0 | T66: 0 | U66: 0 | V66: 0 | W66: 자재 62
A67: 5473F2A9C742C05075C6A0F8BDF034E671140C | B67: 컷백아스팔트(185kg/DM) | C67: MC-1(200L/DM) | D67: D/M | E67: 0 | G67: 380000 | H67: 177 | I67: 380000 | J67: 178 | K67: 0 | M67: 0 | O67: =SMALL(E67:M67,COUNTIF(E67:M67,0)+1) -> 380000 | P67: 0 | Q67: 0 | R67: 0 | S67: 0 | T67: 0 | U67: 0 | V67: 0 | W67: 자재 63 | X67: 현장도착도
A68: 5473F2A9C742C0617363CE38ADCFBBB6B554E0 | B68: 시멘트 | C68: 시멘트(별도) | D68: kg | E68: 0 | G68: 0 | I68: 0 | K68: 0 | M68: 0 | O68: 0 | P68: 0 | Q68: 0 | R68: 0 | S68: 0 | T68: 0 | U68: 0 | V68: 0 | W68: 자재 64 | X68: 별도
A69: 5473F2A9C742C0617363CE38ADCFBBB6B554E5 | B69: 시멘트 | C69: 대리점 | D69: 포 | E69: 0 | G69: 6727 | H69: 65 | I69: 7090 | J69: 58 | K69: 6818 | L69: 103 | M69: 0 | O69: =SMALL(E69:M69,COUNTIF(E69:M69,0)+1) -> 6727 | P69: 0 | Q69: 0 | R69: 0 | S69: 0 | T69: 0 | U69: 0 | V69: 0 | W69: 자재 65
A70: 5473F2A9C742C08C70F7EDE87F337966B8428B | B70: 용접철망 | C70: 와이어메시, #8-150*150 | D70: M2 | E70: 0 | G70: 2390 | H70: 56 | I70: 2460 | J70: 38 | K70: 2170 | L70: 100 | M70: 0 | O70: =SMALL(E70:M70,COUNTIF(E70:M70,0)+1) -> 2170 | P70: 0 | Q70: 0 | R70: 0 | S70: 0 | T70: 0 | U70: 0 | V70: 0 | W70: 자재 66
A71: 5473F2A9C742C08C79DB445835DC6916D08BFD | B71: 신축이음채움재 | C71: RUBBER스폰지, 50*1000*1000 | D71: M2 | E71: 0 | G71: 0 | I71: 40000 | J71: 184 | K71: 35000 | L71: 198 | M71: 0 | O71: =SMALL(E71:M71,COUNTIF(E71:M71,0)+1) -> 35000 | P71: 0 | Q71: 0 | R71: 0 | S71: 0 | T71: 0 | U71: 0 | V71: 0 | W71: 자재 67
A72: 5473F2A9C77E35C87EEE927809BFDE568BB2E2 | B72: 아스팔트 | C72: 아스팔트, 아스팔트프라이머 | D72: L | E72: 2139 | G72: 3733.33 | H72: 581 | I72: 3733.33 | J72: 381 | K72: 0 | M72: 0 | O72: =SMALL(E72:M72,COUNTIF(E72:M72,0)+1) -> 2139 | P72: 0 | Q72: 0 | R72: 0 | S72: 0 | T72: 0 | U72: 0 | V72: 0 | W72: 자재 68
A73: 5473F2A9C76DABD6712522B85A215D66684AC5 | B73: 자연석판석 | C73: 물갈기, 30mm, 포천석판재 | D73: M2 | E73: 0 | G73: 41000 | H73: 459 | I73: 42200 | J73: 437 | K73: 41100 | L73: 560 | M73: 0 | O73: =SMALL(E73:M73,COUNTIF(E73:M73,0)+1) -> 41000 | P73: 0 | Q73: 0 | R73: 0 | S73: 0 | T73: 0 | U73: 0 | V73: 0 | W73: 자재 69
A74: 5473F2A9C76DABD6712522B85A215D6669505F | B74: 자연석판석 | C74: 물갈기, 10mm, 마천석판재 | D74: M2 | E74: 0 | G74: 99000 | H74: 459 | I74: 81000 | J74: 437 | K74: 85000 | L74: 560 | M74: 0 | O74: =SMALL(E74:M74,COUNTIF(E74:M74,0)+1) -> 81000 | P74: 0 | Q74: 0 | R74: 0 | S74: 0 | T74: 0 | U74: 0 | V74: 0 | W74: 자재 70
A75: 5473F2A9C7158A4D7F9B78F824B6F2A621C0F3 | B75: 인테리어필름지 | C75: 방염 | D75: M2 | E75: 0 | G75: 29500 | H75: 685 | I75: 29500 | J75: 632 | K75: 0 | M75: 0 | O75: =SMALL(E75:M75,COUNTIF(E75:M75,0)+1) -> 29500 | P75: 0 | Q75: 0 | R75: 0 | S75: 0 | T75: 0 | U75: 0 | V75: 0 | W75: 자재 71
A76: 5473F2A9C7158A4D7F9ECD9861EA8F86B88C50 | B76: 발포폴리스티렌단열재 | C76: 비중 0.03, 50mm, 1종 | D76: M2 | E76: 6186 | G76: 6049 | H76: 649 | I76: 6419 | J76: 601 | K76: 7160 | L76: 699 | M76: 0 | O76: =SMALL(E76:M76,COUNTIF(E76:M76,0)+1) -> 6049 | P76: 0 | Q76: 0 | R76: 0 | S76: 0 | T76: 0 | U76: 0 | V76: 0 | W76: 자재 72
A77: 5473F2A9C7158A4D7F9ECD984501B9E6A0218F | B77: PF 보드 | C77: 90mm | D77: M2 | E77: 0 | G77: 0 | I77: 0 | K77: 27000 | L77: 703 | M77: 0 | O77: =SMALL(E77:M77,COUNTIF(E77:M77,0)+1) -> 27000 | P77: 0 | Q77: 0 | R77: 0 | S77: 0 | T77: 0 | U77: 0 | V77: 0 | W77: 자재 73
A78: 5473F2A9C7158A4D7F9FD758CB3F0B766D78D6 | B78: 압출발포폴리스티렌단열재 | C78: 압출발포폴리스티렌단열재, 0.03, 900*1800*110mm | D78: M2 | E78: 14596 | G78: 17314.81 | H78: 700 | I78: 14564.81 | J78: 394 | K78: 0 | M78: 0 | O78: =SMALL(E78:M78,COUNTIF(E78:M78,0)+1) -> 14564.81 | P78: 0 | Q78: 0 | R78: 0 | S78: 0 | T78: 0 | U78: 0 | V78: 0 | W78: 자재 74
A79: 5473F2A9C70B3ECC73EC6F6888527A76787A88 | B79: 내화판넬 | C79: 지붕재,220mm,내화1시간 | D79: M2 | E79: 0 | G79: 0 | I79: 76500 | J79: 648 | K79: 0 | M79: 0 | O79: =SMALL(E79:M79,COUNTIF(E79:M79,0)+1) -> 76500 | P79: 0 | Q79: 0 | R79: 0 | S79: 0 | T79: 0 | U79: 0 | V79: 0 | W79: 자재 75
A80: 5473F2A9C70B3ECC73EC6F6888527A767872B5 | B80: 내화패널 | C80: 벽재, 100mm | D80: M2 | E80: 0 | G80: 0 | I80: 41580 | J80: 649 | K80: 0 | M80: 0 | O80: =SMALL(E80:M80,COUNTIF(E80:M80,0)+1) -> 41580 | P80: 0 | Q80: 0 | R80: 0 | S80: 0 | T80: 0 | U80: 0 | V80: 0 | W80: 자재 76
A81: 5473F2A9C70B3ECC73EC6F6888527A6655CEE8 | B81: U-BAR | C81: C/S 0.4t | D81: M | E81: 0 | G81: 1320 | H81: 504 | I81: 0 | K81: 1320 | L81: 744 | M81: 0 | O81: =SMALL(E81:M81,COUNTIF(E81:M81,0)+1) -> 1320 | P81: 0 | Q81: 0 | R81: 0 | S81: 0 | T81: 0 | U81: 0 | V81: 0 | W81: 자재 77
A82: 5473F2A9C70B3ECC73EC6C985C5DFBD6C9DBC6 | B82: 알루미늄 시트패널 | C82: 평판 t=3 불소수지,하지포함 | D82: M2 | E82: 0 | G82: 182000 | H82: 443 | I82: 0 | K82: 204000 | L82: 686 | M82: 0 | O82: =SMALL(E82:M82,COUNTIF(E82:M82,0)+1) -> 182000 | P82: 0 | Q82: 0 | R82: 0 | S82: 0 | T82: 0 | U82: 0 | V82: 0 | W82: 자재 78
A83: 5473F2A9C7306184797C8938D40782B67F434F | B83: 석고보드 | C83: 평보드, 9.5*900*1800mm(㎡) | D83: M2 | E83: 3148 | G83: 2950 | H83: 668 | I83: 3086 | J83: 588 | K83: 3024 | L83: 671 | M83: 0 | O83: =SMALL(E83:M83,COUNTIF(E83:M83,0)+1) -> 2950 | P83: 0 | Q83: 0 | R83: 0 | S83: 0 | T83: 0 | U83: 0 | V83: 0 | W83: 자재 79
A84: 5473F2A9C7306184797C8938D40782B67F42BE | B84: 석고보드 | C84: 석고보드, 평보드, 9.5*900*2400mm(㎡) | D84: M2 | E84: 3114 | G84: 3101.85 | H84: 671 | I84: 3238.88 | J84: 408 | K84: 0 | M84: 0 | O84: =SMALL(E84:M84,COUNTIF(E84:M84,0)+1) -> 3101.85 | P84: 0 | Q84: 0 | R84: 0 | S84: 0 | T84: 0 | U84: 0 | V84: 0 | W84: 자재 80
A85: 5473F2A9C73061B17DD644E812D19096D2421E | B85: 내진 천정틀 | C85: M-BAR,마감재부착포함 | D85: M2 | E85: 0 | G85: 27000 | H85: 695 | I85: 28000 | J85: 569 | K85: 28000 | L85: 676 | M85: 0 | O85: =SMALL(E85:M85,COUNTIF(E85:M85,0)+1) -> 27000 | P85: 0 | Q85: 0 | R85: 0 | S85: 0 | T85: 0 | U85: 0 | V85: 0 | W85: 자재 81 | X85: 시공비포함
A86: 5473F2A9C73061B17DD644E800E4F666451E6C | B86: 불연천장재 | C86: 9.5*300*600mm | D86: M2 | E86: 5415 | G86: 5700 | H86: 674 | I86: 5700 | J86: 590 | K86: 5700 | L86: 675 | M86: 0 | O86: =SMALL(E86:M86,COUNTIF(E86:M86,0)+1) -> 5415 | P86: 0 | Q86: 0 | R86: 0 | S86: 0 | T86: 0 | U86: 0 | V86: 0 | W86: 자재 82
A87: 5473F2A9C73061B17DD03C38C07F81B6839E5E | B87: 시멘트상하차비 | D87: 대 | E87: 0 | G87: 0 | I87: 0 | K87: 0 | M87: 0 | O87: 0 | P87: 0 | Q87: 0 | R87: 0 | S87: 0 | T87: 0 | U87: 741 | V87: =SMALL(Q87:U87,COUNTIF(Q87:U87,0)+1) -> 741 | W87: 자재 83 | Y87: C
A88: 5473F2A9C73061A7766D5E18EC980D76DBA495 | B88: 비닐타일 | C88: 3*450*450mm, 데코타일 | D88: M2 | E88: 17100 | G88: 21500 | H88: 613 | I88: 12000 | J88: 628 | K88: 19000 | L88: 712 | M88: 0 | O88: =SMALL(E88:M88,COUNTIF(E88:M88,0)+1) -> 12000 | P88: 0 | Q88: 0 | R88: 0 | S88: 0 | T88: 0 | U88: 0 | V88: 0 | W88: 자재 84
A89: 5473F2A9C7C62C54749AA38881AFC106D883FA | B89: 강관비계 | C89: 비계파이프, 48.6*2.3mm | D89: M | E89: 4037 | G89: 4375 | H89: 105 | I89: 6300 | J89: 88 | K89: 4250 | L89: 166 | M89: 0 | O89: =SMALL(E89:M89,COUNTIF(E89:M89,0)+1) -> 4037 | P89: 0 | Q89: 0 | R89: 0 | S89: 0 | T89: 0 | U89: 0 | V89: 0 | W89: 자재 85
A90: 5473F2A9C7C62C54749AA38881AFC106D9AA83 | B90: 강관비계 부속철물 | C90: 이음철물, 연결핀 | D90: 개 | E90: 1330 | G90: 1300 | H90: 106 | I90: 2300 | J90: 88 | K90: 1400 | L90: 166 | M90: 0 | O90: =SMALL(E90:M90,COUNTIF(E90:M90,0)+1) -> 1300 | P90: 0 | Q90: 0 | R90: 0 | S90: 0 | T90: 0 | U90: 0 | V90: 0 | W90: 자재 86
A91: 5473F2A9C7C62C54749AA38881AFC106D9AA84 | B91: 강관비계 부속철물 | C91: 클램프 고정, 자동 | D91: 개 | E91: 1590 | G91: 2300 | H91: 105 | I91: 2800 | J91: 88 | K91: 1560 | L91: 166 | M91: 0 | O91: =SMALL(E91:M91,COUNTIF(E91:M91,0)+1) -> 1560 | P91: 0 | Q91: 0 | R91: 0 | S91: 0 | T91: 0 | U91: 0 | V91: 0 | W91: 자재 87
A92: 5473F2A9C7C62C54749AA38881AFC106D9A24C | B92: 수직재 | C92: 48.6mm * 3.800mm | D92: 본 | E92: 0 | G92: 39000 | H92: 108 | I92: 0 | K92: 25000 | L92: 167 | M92: 0 | O92: =SMALL(E92:M92,COUNTIF(E92:M92,0)+1) -> 25000 | P92: 0 | Q92: 0 | R92: 0 | S92: 0 | T92: 0 | U92: 0 | V92: 0 | W92: 자재 88
A93: 5473F2A9C7C62C54749AA38881AFC106D9A353 | B93: 수직재 | C93: 48.6mm * 950mm | D93: 본 | E93: 0 | G93: 13300 | H93: 108 | I93: 0 | K93: 8500 | L93: 167 | M93: 0 | O93: =SMALL(E93:M93,COUNTIF(E93:M93,0)+1) -> 8500 | P93: 0 | Q93: 0 | R93: 0 | S93: 0 | T93: 0 | U93: 0 | V93: 0 | W93: 자재 89
A94: 5473F2A9C7C62C54749AA38881AFC106DE2CDC | B94: 수평재 | C94: 42.7mm * 1829mm | D94: 개 | E94: 0 | G94: 13500 | H94: 108 | I94: 0 | K94: 10000 | L94: 167 | M94: 0 | O94: =SMALL(E94:M94,COUNTIF(E94:M94,0)+1) -> 10000 | P94: 0 | Q94: 0 | R94: 0 | S94: 0 | T94: 0 | U94: 0 | V94: 0 | W94: 자재 90
A95: 5473F2A9C7C62C54749AA38881AFC106DE2DE3 | B95: 수평재 | C95: 42.7mm * 610mm | D95: 개 | E95: 0 | G95: 8300 | H95: 108 | I95: 0 | K95: 5500 | L95: 167 | M95: 0 | O95: =SMALL(E95:M95,COUNTIF(E95:M95,0)+1) -> 5500 | P95: 0 | Q95: 0 | R95: 0 | S95: 0 | T95: 0 | U95: 0 | V95: 0 | W95: 자재 91
A96: 5473F2A9C7C62C54749AA38881AFC106DE2E8A | B96: 난간재 | C96: 42.7mm * 1829mm | D96: 개 | E96: 0 | G96: 13500 | H96: 108 | I96: 0 | K96: 10000 | L96: 167 | M96: 0 | O96: =SMALL(E96:M96,COUNTIF(E96:M96,0)+1) -> 10000 | P96: 0 | Q96: 0 | R96: 0 | S96: 0 | T96: 0 | U96: 0 | V96: 0 | W96: 자재 92
A97: 5473F2A9C7C62C54749AA38881AFC106DE2F91 | B97: 난간재 | C97: 42.7mm * 610mm | D97: 개 | E97: 0 | G97: 8300 | H97: 108 | I97: 0 | K97: 5500 | L97: 167 | M97: 0 | O97: =SMALL(E97:M97,COUNTIF(E97:M97,0)+1) -> 5500 | P97: 0 | Q97: 0 | R97: 0 | S97: 0 | T97: 0 | U97: 0 | V97: 0 | W97: 자재 93
A98: 5473F2A9C7C62C54749AA38881AFC106DE2865 | B98: 안전발판 | C98: 400mm * 1829mm | D98: 개 | E98: 0 | G98: 19800 | H98: 107 | I98: 0 | K98: 26200 | L98: 167 | M98: 0 | O98: =SMALL(E98:M98,COUNTIF(E98:M98,0)+1) -> 19800 | P98: 0 | Q98: 0 | R98: 0 | S98: 0 | T98: 0 | U98: 0 | V98: 0 | W98: 자재 94
A99: 5473F2A9C7C62C54749AA38881AFC106DE2908 | B99: 받침철물 | C99: D34*600mm | D99: 개 | E99: 0 | G99: 8700 | H99: 108 | I99: 0 | K99: 11000 | L99: 166 | M99: 0 | O99: =SMALL(E99:M99,COUNTIF(E99:M99,0)+1) -> 8700 | P99: 0 | Q99: 0 | R99: 0 | S99: 0 | T99: 0 | U99: 0 | V99: 0 | W99: 자재 95
A100: 5473F2A9C7C62C54749AA38881AFC106DE2A2F | B100: 비계버팀대 | C100: 소(330mm*400mm) | D100: 개 | E100: 0 | G100: 10500 | H100: 108 | I100: 0 | K100: 10500 | L100: 167 | M100: 0 | O100: =SMALL(E100:M100,COUNTIF(E100:M100,0)+1) -> 10500 | P100: 0 | Q100: 0 | R100: 0 | S100: 0 | T100: 0 | U100: 0 | V100: 0 | W100: 자재 96
A101: 5473F2A9C7C62C54749AA38881AFC106DE2486 | B101: 내부계단 | C101: 400mm * 2638mm | D101: 개 | E101: 0 | G101: 77000 | H101: 108 | I101: 0 | K101: 0 | M101: 0 | O101: =SMALL(E101:M101,COUNTIF(E101:M101,0)+1) -> 77000 | P101: 0 | Q101: 0 | R101: 0 | S101: 0 | T101: 0 | U101: 0 | V101: 0 | W101: 자재 97
A102: 5473F2A9C7C62C667BA0AD8853F3AC3621B090 | B102: 비계안정장치 | C102: 기둥, 1.2*1.7m | D102: 개 | E102: 28500 | G102: 34400 | H102: 106 | I102: 43200 | J102: 88 | K102: 30000 | L102: 166 | M102: 0 | O102: =SMALL(E102:M102,COUNTIF(E102:M102,0)+1) -> 28500 | P102: 0 | Q102: 0 | R102: 0 | S102: 0 | T102: 0 | U102: 0 | V102: 0 | W102: 자재 98
A103: 5473F2A9C7C62C667BA0AD8853F3AC3621BF1E | B103: 비계안정장치 | C103: 수평띠장, 1829mm | D103: 개 | E103: 24130 | G103: 30000 | H103: 106 | I103: 0 | K103: 25400 | L103: 166 | M103: 0 | O103: =SMALL(E103:M103,COUNTIF(E103:M103,0)+1) -> 24130 | P103: 0 | Q103: 0 | R103: 0 | S103: 0 | T103: 0 | U103: 0 | V103: 0 | W103: 자재 99
A104: 5473F2A9C7C62C667BA0AD8853F3AC3621BF1F | B104: 비계안정장치 | C104: 손잡이, 1229mm | D104: 개 | E104: 0 | G104: 10800 | H104: 108 | I104: 0 | K104: 0 | M104: 0 | O104: =SMALL(E104:M104,COUNTIF(E104:M104,0)+1) -> 10800 | P104: 0 | Q104: 0 | R104: 0 | S104: 0 | T104: 0 | U104: 0 | V104: 0 | W104: 자재 100
A105: 5473F2A9C7C62C667BA0AD8853F3AC3621BF18 | B105: 비계안정장치 | C105: 손잡이, 1829mm | D105: 개 | E105: 0 | G105: 13500 | H105: 108 | I105: 0 | K105: 0 | M105: 0 | O105: =SMALL(E105:M105,COUNTIF(E105:M105,0)+1) -> 13500 | P105: 0 | Q105: 0 | R105: 0 | S105: 0 | T105: 0 | U105: 0 | V105: 0 | W105: 자재 101
A106: 5473F2A9C7C62C667BA0AD8853F3AC3621BF19 | B106: 비계안정장치 | C106: 손잡이기둥 | D106: 개 | E106: 0 | G106: 22400 | H106: 108 | I106: 0 | K106: 0 | M106: 0 | O106: =SMALL(E106:M106,COUNTIF(E106:M106,0)+1) -> 22400 | P106: 0 | Q106: 0 | R106: 0 | S106: 0 | T106: 0 | U106: 0 | V106: 0 | W106: 자재 102
A107: 5473F2A9C7C62C667BA0AD8853F3AC3621BF1A | B107: 비계안정장치 | C107: 바퀴 | D107: 개 | E107: 0 | G107: 11000 | H107: 1422 | I107: 0 | K107: 9500 | L107: 166 | M107: 0 | O107: =SMALL(E107:M107,COUNTIF(E107:M107,0)+1) -> 9500 | P107: 0 | Q107: 0 | R107: 0 | S107: 0 | T107: 0 | U107: 0 | V107: 0 | W107: 자재 103
A108: 5473F2A9C7C62C667BA0AD8853F3AC3621BF1B | B108: 비계안정장치 | C108: 쟈키 | D108: 개 | E108: 0 | G108: 8700 | H108: 108 | I108: 13900 | J108: 88 | K108: 11000 | L108: 166 | M108: 0 | O108: =SMALL(E108:M108,COUNTIF(E108:M108,0)+1) -> 8700 | P108: 0 | Q108: 0 | R108: 0 | S108: 0 | T108: 0 | U108: 0 | V108: 0 | W108: 자재 104
A109: 5473F2A9C7C62C667BA0AD8853F3AC3621BE74 | B109: 비계안정장치 | C109: 가새, 1.518 * 2개 | D109: 개 | E109: 9500 | G109: 10400 | H109: 106 | I109: 0 | K109: 10000 | L109: 166 | M109: 0 | O109: =SMALL(E109:M109,COUNTIF(E109:M109,0)+1) -> 9500 | P109: 0 | Q109: 0 | R109: 0 | S109: 0 | T109: 0 | U109: 0 | V109: 0 | W109: 자재 105
A110: 5473F2A9C7C62C667BA0AD887E8DBB16B117E1 | B110: 비계안정장치 | C110: 발판, 40*200*2000 | D110: 장 | E110: 0 | G110: 9900 | H110: 107 | I110: 0 | K110: 0 | M110: 0 | O110: =SMALL(E110:M110,COUNTIF(E110:M110,0)+1) -> 9900 | P110: 0 | Q110: 0 | R110: 0 | S110: 0 | T110: 0 | U110: 0 | V110: 0 | W110: 자재 106
...

Sheet  공사설정 
A1: 이 Sheet는 수정하지 마십시요
A2: 공사구분 | B2: A | C2: 타이틀
A3: 확정내역 | B3: 원내역
A4: 자재단가적용 | B4: 5
A5: 경비단가적용 | B5: 5
A6: 품목코드형식 | B6: XXXX-XXXX-XXXXXXXXX
A7: 내역금액소수점처리 | B7: C | C7: T
A8: 일위대가내역소수점처리 | B8: C | C8: 2
A9: 단가명 | B9: 조달청가격 | C9: 물가자료 | D9: 물가정보 | E9: 거래가격 | F9: 조사가격 | G9: TTTTT
A10: 환율 | B10: 1442 | C10: 0 | D10: 0
A11: 시간당작업량 | B11: R | C11: 4
A12: 1회 사이클시간 | B12: R | C12: 4
A13: 시간당 작업사이클 | B13: R | C13: 3
A14: 일반변수 | B14: R | C14: 5
A15: 시간당 노임산출 계수 | B15: A | C15: 1/8*16/12*25/20 | D15: 1/8*16/12*25/20 | E15: 1/8*16/12*25/20 | F15: 1
A16: 재료비 할증 계수 | B16: 1.11 | C16: 1.12
A17: 노무비 할증 계수 | B17: 1 | C17: 1.5 | D17: 1.16 | E17: 1.6 | F17: 1.6 | G17: 1.6 | H17: 1.94 | I17: 1.94 | J17: 1.94 | K17: 1 | L17: 1 | M17: 1
A18: 경비 할증 계수 | B18: 1.25 | C18: 1.071
A19: 내역,일위대가 품명,규격,단위 따로적용
A20: 내역단가 소수점처리 | B20: C | C20: 1
A21: 코드 | B21: 공종구분명 | C21: 원가비목코드
A22: 1 | B22: 작 업 부 산 물 | C22: A3
A23: 2 | B23: 운 반 비 | C23: C1
A24: 3 | B24: 관 급 자 재 비 | C24: DJ
A25: 4 | B25: 사 급 자 재 비 | C25: D3
A26: 5 | B26: 외 자 재
A27: 6 | B27: 폐기물처리비
A28: 7 | B28: 건설폐기물처리비 | C28: CC
A29: 8 | B29: 관급자관급자재비 | C29: DL
A30: 9 | B30: ...
A31: A | B31: ....
A32: B | B32: .....
A33: C | B33: ....
A34: D | B34: ....
A35: E | B35: ....
A36: F | B36: ....
A37: G | B37: ....
A38: H | B38: ....
A39: I | B39: ....
A40: J | B40: ....
A43: 단가 순서 | B43: 1234

Sheet Sheet1
