Workbook
Name _: [1]자산별!#REF!
Name ___A1: [2]주방환기!#REF!
Name ___arm1: [3]설계명세서!#REF!
Name ___arm2: [4]설계명세서!#REF!
Name ___arm3: [3]설계명세서!#REF!
Name ___B100000: #REF!
Name ___B66000: #REF!
Name ___B70000: #REF!
Name ___C67000: #REF!
Name ___C68000: #REF!
Name ___CAD15: #REF!
Name ___CAD25: #REF!
Name ___fff12: #REF!
Name ___fff122: #REF!
Name ___fff58: #REF!
Name ___fff59: #REF!
Name ___fff6: #REF!
Name ___fff60: #REF!
Name ___fff65: #REF!
Name ___fff67: #REF!
Name ___fff69: #REF!
Name ___fff7: #REF!
Name ___fff70: #REF!
Name ___fff71: #REF!
Name ___fff77: #REF!
Name ___fff79: #REF!
Name ___fff8: #REF!
Name ___fff80: #REF!
Name ___fff81: #REF!
Name ___fff82: #REF!
Name ___fff83: #REF!
Name ___fff84: #REF!
Name ___fff85: #REF!
Name ___fff86: #REF!
Name ___fff87: #REF!
Name ___fff88: #REF!
Name ___fff89: #REF!
Name ___fff9: #REF!
Name ___fff90: #REF!
Name ___fff91: #REF!
Name ___fff92: #REF!
Name ___fff93: #REF!
Name ___fff94: #REF!
Name ___fff95: #REF!
Name ___fff96: #REF!
Name ___fff97: #REF!
Name ___fff98: #REF!
Name ___fff99: #REF!
Name ___fkn1: #REF!
Name ___fkn2: #REF!
Name ___fks1: #REF!
Name ___fks2: #REF!
Name ___ggg1: #REF!
Name ___ggg2: #REF!
Name ___ggg55: #REF!
Name ___ji21: [3]설계명세서!#REF!
Name ___ji22: [3]설계명세서!#REF!
Name ___ji23: [3]설계명세서!#REF!
Name ___ji31: [3]설계명세서!#REF!
Name ___ji32: [3]설계명세서!#REF!

Sheet 원가계산서
B1: 공 사 원 가 계 산 서
B2: 공사명 : 남원국악예술고 장애인 승강기 증축공사
B3: 비 목 | E3: 금 액 | F3: 구 성 비 | G3: 비 고
A4: A1 | B4: 순 공 사 원 가 | C4: 재 료 비 | D4: 직 접 재 료 비 | E4: =TRUNC(공종별집계표!F5, 0) -> 56279724
A5: A2 | D5: 간 접 재 료 비 | E5: 0
A6: A3 | D6: 작업설, 부산물(△) | E6: 262602
A7: AS | D7: [ 소 계 ] | E7: =TRUNC(E4+E5-E6, 0) -> 56017122
A8: B1 | C8: 노 무 비 | D8: 직 접 노 무 비 | E8: =TRUNC(공종별집계표!H5, 0) -> 35690991
A9: B2 | D9: 간 접 노 무 비 | E9: =TRUNC(E8*0.175, 0) -> 6245923 | F9: 직접노무비 * 17.5%
A10: BS | D10: [ 소 계 ] | E10: =TRUNC(E8+E9, 0) -> 41936914
A11: C2 | C11: 경 비 | D11: 경 비 | E11: =TRUNC(공종별집계표!J5, 0) -> 3622541
A12: C4 | D12: 산 재 보 험 료 | E12: =TRUNC(E10*0.0356, 0) -> 1492954 | F12: 노무비 * 3.56%
A13: C5 | D13: 고 용 보 험 료 | E13: =TRUNC(E10*0.0101, 0) -> 423562 | F13: 노무비 * 1.01%
A14: C6 | D14: 국민 건강 보험료 | E14: =TRUNC(E8*0.03595, 0) -> 1283091 | F14: 직접노무비 * 3.595%
A15: C7 | D15: 국민 연금 보험료 | E15: =TRUNC(E8*0.0475, 0) -> 1695322 | F15: 직접노무비 * 4.75%
A16: C8 | D16: 퇴직 공제 부금비 | F16: 직접노무비 * 2.3%
A17: CA | D17: 산업안전보건관리비 | E17: =TRUNC((E7+E8+(0/1.1))*0.0311, 0) -> 2852122 | F17: (재료비+직노+관급자재비) * 3.11%
A18: CB | D18: 노인장기요양보험료 | E18: =TRUNC(E14*0.1314, 0) -> 168598 | F18: 건강보험료 * 13.14%
A19: CB | D19: 품 질 관 리 비 | E19: =공종별집계표!L23 -> 2606000
A20: CB | D20: 안전관리비 | E20: =공종별집계표!L24 -> 2000000
A21: CC | D21: 건설폐기물처리비 | E21: =TRUNC(공종별집계표!T25, 0) -> 2123844
A22: CE | D22: 석면피해구제분담금 | E22: =TRUNC(E10*0.00006, 0) -> 2516 | F22: 노무비*0.006%
A23: CF | D23: 임금채권부담금 | E23: =TRUNC(E10*0.0009, 0) -> 37743 | F23: 노무비*0.09%
A24: CG | D24: 기 타 경 비 | E24: =TRUNC((E7+E10)*0.05, 0) -> 4897701 | F24: (재료비+노무비) * 5%
A25: CH | D25: 환 경 보 전 비 | E25: =TRUNC((E7+E8+E11)*0.003, 0) -> 285991 | F25: (재료비+직노+경비) * 0.3%
A26: CK | D26: 하도급지급보증수수료 | E26: =TRUNC((E7+E8+E11)*0.00081, 0) -> 77217 | F26: (재료비+직노+경비) * 0.081% | G26: 최저가대상공사
A27: CL | D27: 건설기계대여금지급보증서발급수수료 | E27: =TRUNC((E7+E8+E11)*0.0007, 0) -> 66731 | F27: (재료비+직노+경비) * 0.07%
A28: CS | D28: [ 소 계 ] | E28: =TRUNC(E11+E12+E13+E14+E15+E16+E17+E18+E19+E20+E21+E22+E23+E24+E25+E26+E27, 0) -> 23635933
A29: S1 | B29: 계 | E29: =TRUNC(E7+E10+E28, 0) -> 121589969
A30: D1 | B30: 일 반 관 리 비 | E30: =TRUNC(E29*0.08, 0) -> 9727197 | F30: 계 * 8%
A31: D2 | B31: 이 윤 | E31: =TRUNC((E10+E28+E30)*0.15, 0) -> 11295006 | F31: (노무비+경비+일반관리비) * 15%
A32: D9 | B32: 공 급 가 액 | E32: =TRUNC(E29+E30+E31, 0) -> 142612172
A33: DB | B33: 부 가 가 치 세 | E33: =TRUNC(E32*0.1, 0) -> 14261217 | F33: 공급가액 * 10%
A34: DH | B34: 도 급 액 | E34: =TRUNC(E32+E33, -3) -> 156873000
A35: DL | B35: 관급자관급자재비 | E35: =TRUNC(공종별집계표!T26, 0) -> 70668209
A36: S2 | B36: 총 공 사 비 | E36: =TRUNC(E34+0+E35, 0) -> 227541209

Sheet 공종별집계표
A1: 공 종 별 집 계 표
A2: [ 남원국악예술고 장애인 승강기 증축공사 ]
A3: 품 명 | B3: 규 격 | C3: 단위 | D3: 수량 | E3: 재 료 비 | G3: 노 무 비 | I3: 경 비 | K3: 합 계 | M3: 비 고 | N3: 공종코드 | O3: 변수 | P3: 상위공종 | Q3: 공종구분 | R3: 공종레벨 | S3: 공종소계 | T3: 원가계산서 연결금액
E4: 단 가 | F4: 금 액 | G4: 단 가 | H4: 금 액 | I4: 단 가 | J4: 금 액 | K4: 단 가 | L4: 금 액
A5: 01 남원국악예술고 장애인 승강기 증축공사 | D5: 1 | E5: =F6 -> 56279724 | F5: =E5*D5 -> 56279724 | G5: =H6 -> 35690991 | H5: =G5*D5 -> 35690991 | I5: =J6 -> 3622541 | J5: =I5*D5 -> 3622541 | K5: =E5+G5+I5 -> 95593256 | L5: =F5+H5+J5 -> 95593256 | N5: 01 | R5: 1
A6: 0101 ■ 승강기 | D6: 1 | E6: =F7+F8+F9+F10+F11+F12+F13+F14+F15+F16+F17+F18+F19+F20+F21+F22 -> 56279724 | F6: =E6*D6 -> 56279724 | G6: =H7+H8+H9+H10+H11+H12+H13+H14+H15+H16+H17+H18+H19+H20+H21+H22 -> 35690991 | H6: =G6*D6 -> 35690991 | I6: =J7+J8+J9+J10+J11+J12+J13+J14+J15+J16+J17+J18+J19+J20+J21+J22 -> 3622541 | J6: =I6*D6 -> 3622541 | K6: =E6+G6+I6 -> 95593256 | L6: =F6+H6+J6 -> 95593256 | N6: 0101 | P6: 01 | R6: 2
A7: 010101 공통 가설 공사 | D7: 1 | E7: =공종별내역서!F27 -> 0 | F7: =E7*D7 -> 0 | G7: =공종별내역서!H27 -> 0 | H7: =G7*D7 -> 0 | I7: =공종별내역서!J27 -> 983344 | J7: =I7*D7 -> 983344 | K7: =E7+G7+I7 -> 983344 | L7: =F7+H7+J7 -> 983344 | N7: 010101 | P7: 0101 | R7: 3
A8: 010102 가 설 공 사 | D8: 1 | E8: =공종별내역서!F51 -> 2381663 | F8: =E8*D8 -> 2381663 | G8: =공종별내역서!H51 -> 4109519 | H8: =G8*D8 -> 4109519 | I8: =공종별내역서!J51 -> 1271709 | J8: =I8*D8 -> 1271709 | K8: =E8+G8+I8 -> 7762891 | L8: =F8+H8+J8 -> 7762891 | N8: 010102 | P8: 0101 | R8: 3
A9: 010103 토 및 지정공사 | D9: 1 | E9: =공종별내역서!F75 -> 110884 | F9: =E9*D9 -> 110884 | G9: =공종별내역서!H75 -> 357390 | H9: =G9*D9 -> 357390 | I9: =공종별내역서!J75 -> 97471 | J9: =I9*D9 -> 97471 | K9: =E9+G9+I9 -> 565745 | L9: =F9+H9+J9 -> 565745 | N9: 010103 | P9: 0101 | R9: 3
A10: 010104 철근콘크리트공사 | D10: 1 | E10: =공종별내역서!F99 -> 11215233 | F10: =E10*D10 -> 11215233 | G10: =공종별내역서!H99 -> 18353998 | H10: =G10*D10 -> 18353998 | I10: =공종별내역서!J99 -> 694728 | J10: =I10*D10 -> 694728 | K10: =E10+G10+I10 -> 30263959 | L10: =F10+H10+J10 -> 30263959 | N10: 010104 | P10: 0101 | R10: 3
A11: 010105 철 골 공 사 | D11: 1 | E11: =공종별내역서!F123 -> 109577 | F11: =E11*D11 -> 109577 | G11: =공종별내역서!H123 -> 495293 | H11: =G11*D11 -> 495293 | I11: =공종별내역서!J123 -> 31186 | J11: =I11*D11 -> 31186 | K11: =E11+G11+I11 -> 636056 | L11: =F11+H11+J11 -> 636056 | N11: 010105 | P11: 0101 | R11: 3
A12: 010106 돌 공 사 | D12: 1 | E12: =공종별내역서!F147 -> 418110 | F12: =E12*D12 -> 418110 | G12: =공종별내역서!H147 -> 1253162 | H12: =G12*D12 -> 1253162 | I12: =공종별내역서!J147 -> 25059 | J12: =I12*D12 -> 25059 | K12: =E12+G12+I12 -> 1696331 | L12: =F12+H12+J12 -> 1696331 | N12: 010106 | P12: 0101 | R12: 3
A13: 010107 목공사및수장공사 | D13: 1 | E13: =공종별내역서!F171 -> 8962452 | F13: =E13*D13 -> 8962452 | G13: =공종별내역서!H171 -> 4749802 | H13: =G13*D13 -> 4749802 | I13: =공종별내역서!J171 -> 85428 | J13: =I13*D13 -> 85428 | K13: =E13+G13+I13 -> 13797682 | L13: =F13+H13+J13 -> 13797682 | N13: 010107 | P13: 0101 | R13: 3
A14: 010108 방 수 공 사 | D14: 1 | E14: =공종별내역서!F195 -> 149311 | F14: =E14*D14 -> 149311 | G14: =공종별내역서!H195 -> 627790 | H14: =G14*D14 -> 627790 | I14: =공종별내역서!J195 -> 12353 | J14: =I14*D14 -> 12353 | K14: =E14+G14+I14 -> 789454 | L14: =F14+H14+J14 -> 789454 | N14: 010108 | P14: 0101 | R14: 3
A15: 010109 금 속 공 사 | D15: 1 | E15: =공종별내역서!F219 -> 30456302 | F15: =E15*D15 -> 30456302 | G15: =공종별내역서!H219 -> 1577606 | H15: =G15*D15 -> 1577606 | I15: =공종별내역서!J219 -> 63145 | J15: =I15*D15 -> 63145 | K15: =E15+G15+I15 -> 32097053 | L15: =F15+H15+J15 -> 32097053 | N15: 010109 | P15: 0101 | R15: 3
A16: 010110 미 장 공 사 | D16: 1 | E16: =공종별내역서!F243 -> 0 | F16: =E16*D16 -> 0 | G16: =공종별내역서!H243 -> 274845 | H16: =G16*D16 -> 274845 | I16: =공종별내역서!J243 -> 4426 | J16: =I16*D16 -> 4426 | K16: =E16+G16+I16 -> 279271 | L16: =F16+H16+J16 -> 279271 | N16: 010110 | P16: 0101 | R16: 3
A17: 010111 칠 공 사 | D17: 1 | E17: =공종별내역서!F267 -> 16479 | F17: =E17*D17 -> 16479 | G17: =공종별내역서!H267 -> 28260 | H17: =G17*D17 -> 28260 | I17: =공종별내역서!J267 -> 919 | J17: =I17*D17 -> 919 | K17: =E17+G17+I17 -> 45658 | L17: =F17+H17+J17 -> 45658 | N17: 010111 | P17: 0101 | R17: 3
A18: 010112 판 넬 공 사 | D18: 1 | E18: =공종별내역서!F291 -> 1270228 | F18: =E18*D18 -> 1270228 | G18: =공종별내역서!H291 -> 352044 | H18: =G18*D18 -> 352044 | I18: =공종별내역서!J291 -> 89632 | J18: =I18*D18 -> 89632 | K18: =E18+G18+I18 -> 1711904 | L18: =F18+H18+J18 -> 1711904 | N18: 010112 | P18: 0101 | R18: 3
A19: 010113 부 대 공 사 | D19: 1 | E19: =공종별내역서!F315 -> 618052 | F19: =E19*D19 -> 618052 | G19: =공종별내역서!H315 -> 227790 | H19: =G19*D19 -> 227790 | I19: =공종별내역서!J315 -> 70177 | J19: =I19*D19 -> 70177 | K19: =E19+G19+I19 -> 916019 | L19: =F19+H19+J19 -> 916019 | N19: 010113 | P19: 0101 | R19: 3
A20: 010114 골재비 및 운반비 | D20: 1 | E20: =공종별내역서!F339 -> 173493 | F20: =E20*D20 -> 173493 | G20: =공종별내역서!H339 -> 0 | H20: =G20*D20 -> 0 | I20: =공종별내역서!J339 -> 82803 | J20: =I20*D20 -> 82803 | K20: =E20+G20+I20 -> 256296 | L20: =F20+H20+J20 -> 256296 | N20: 010114 | P20: 0101 | R20: 3
A21: 010115 철 거 공 사 | D21: 1 | E21: =공종별내역서!F363 -> 135338 | F21: =E21*D21 -> 135338 | G21: =공종별내역서!H363 -> 3283492 | H21: =G21*D21 -> 3283492 | I21: =공종별내역서!J363 -> 110161 | J21: =I21*D21 -> 110161 | K21: =E21+G21+I21 -> 3528991 | L21: =F21+H21+J21 -> 3528991 | N21: 010115 | P21: 0101 | R21: 3
A22: 010116 작 업 부 산 물 | D22: 1 | E22: =공종별내역서!F387 -> 262602 | F22: =E22*D22 -> 262602 | G22: =공종별내역서!H387 -> 0 | H22: =G22*D22 -> 0 | I22: =공종별내역서!J387 -> 0 | J22: =I22*D22 -> 0 | K22: =E22+G22+I22 -> 262602 | L22: =F22+H22+J22 -> 262602 | N22: 010116 | P22: 0101 | R22: 3
A23: 010117 □ 품질관리비 | D23: 1 | E23: =공종별내역서!F411 -> 0 | F23: =E23*D23 -> 0 | G23: =공종별내역서!H411 -> 0 | H23: =G23*D23 -> 0 | I23: =공종별내역서!J411 -> 2606000 | J23: =I23*D23 -> 2606000 | K23: =E23+G23+I23 -> 2606000 | L23: =F23+H23+J23 -> 2606000 | N23: 010116 | P23: 0101 | R23: 3
A24: 010118 □ 안전관리비 | D24: 1 | E24: =공종별내역서!F435 -> 2000000 | F24: =E24*D24 -> 2000000 | G24: =공종별내역서!H435 -> 0 | H24: =G24*D24 -> 0 | I24: =공종별내역서!J435 -> 0 | J24: =I24*D24 -> 0 | K24: =E24+G24+I24 -> 2000000 | L24: =F24+H24+J24 -> 2000000 | N24: 010116 | P24: 0101 | R24: 3
A25: 010119 □ 건설폐기물처리비 | D25: 1 | E25: =공종별내역서!F459 -> 0 | F25: =E25*D25 -> 0 | G25: =공종별내역서!H459 -> 0 | H25: =G25*D25 -> 0 | I25: =공종별내역서!J459 -> 2123844 | J25: =I25*D25 -> 2123844 | K25: =E25+G25+I25 -> 2123844 | L25: =F25+H25+J25 -> 2123844 | N25: 010117 | Q25: 7 | R25: 3 | T25: =L25*1 -> 2123844
A26: 010120 □ 관급자관급자재비 | D26: 1 | E26: =공종별내역서!F483 -> 70668209 | F26: =E26*D26 -> 70668209 | G26: =공종별내역서!H483 -> 0 | H26: =G26*D26 -> 0 | I26: =공종별내역서!J483 -> 0 | J26: =I26*D26 -> 0 | K26: =E26+G26+I26 -> 70668209 | L26: =F26+H26+J26 -> 70668209 | N26: 010118 | Q26: 8 | R26: 3 | T26: =L26*1 -> 70668209
A27: [ 합 계 ] | F27: =F5 -> 56279724 | H27: =H5 -> 35690991 | J27: =J5 -> 3622541 | L27: =L5 -> 95593256

Sheet 공종별내역서
A1: [ 남원국악예술고 장애인 승강기 증축공사 ]
A2: 품 명 | B2: 규 격 | C2: 단위 | D2: 수량 | E2: 재 료 비 | G2: 노 무 비 | I2: 경 비 | K2: 합 계 | M2: 비 고 | N2: 품목코드 | O2: 변수 | P2: 설정 | Q2: 공종코드 | R2: 일위 | S2: 단산 | T2: 자재 | U2: 손료적용 | V2: 손료저장 | W2: 적용율 | X2: JUK1 | Y2: JUK2 | Z2: JUK3 | AA2: JUK4 | AB2: JUK5 | AC2: JUK6 | AD2: JUK7 | AE2: JUK8 | AF2: JUK9 | AG2: JUK10 | AH2: JUK11 | AI2: JUK12 | AJ2: JUK13 | AK2: JUK14 | AL2: JUK15 | AM2: JUK16 | AN2: JUK17 | AO2: JUK18 | AP2: JUK19 | AQ2: JUK20 | AR2: 자재구분 | AS2: 공종구분 | AT2: 공종레벨 | AU2: 공종+자재 | AV2: 고유번호
E3: 단 가 | F3: 금 액 | G3: 단 가 | H3: 금 액 | I3: 단 가 | J3: 금 액 | K3: 단 가 | L3: 금 액
A4: 010101 공통 가설 공사 | Q4: 010101
A5: 콘테이너형 가설사무소 설치 및 해체 | B5: 3.0*6.0m, 3개월 | C5: 개소 | D5: 1 | E5: =TRUNC(일위대가목록!E57,0) -> 0 | F5: =TRUNC(E5*D5, 0) -> 0 | G5: =TRUNC(일위대가목록!F57,0) -> 0 | H5: =TRUNC(G5*D5, 0) -> 0 | I5: =TRUNC(일위대가목록!G57,0) -> 983344 | J5: =TRUNC(I5*D5, 0) -> 983344 | K5: =TRUNC(E5+G5+I5, 0) -> 983344 | L5: =TRUNC(F5+H5+J5, 0) -> 983344 | M5: 호표 54 | N5: 535972090FF651E279723C4807BE06 | Q5: 010101 | R5: T | S5: F | T5: F | AU5: 010101535972090FF651E279723C4807BE06 | AV5: 4
Q6: 010101
Q7: 010101
Q8: 010101
Q9: 010101
Q10: 010101
Q11: 010101
Q12: 010101
Q13: 010101
Q14: 010101
Q15: 010101
Q16: 010101
Q17: 010101
... Q26: 010101
A27: [ 합 계 ] | F27: =SUMIF(Q5:Q26,"010101",F5:F26) -> 0 | H27: =SUMIF(Q5:Q26,"010101",H5:H26) -> 0 | J27: =SUMIF(Q5:Q26,"010101",J5:J26) -> 983344 | L27: =SUMIF(Q5:Q26,"010101",L5:L26) -> 983344 | N27: TOTAL
A28: 010102 가 설 공 사 | Q28: 010102
A29: 조립식가설울타리/E.G.I철판 | B29: 3개월,H=4.0m이하,강관지주 | C29: M | D29: 20 | E29: =TRUNC(일위대가목록!E47,0) -> 0 | F29: =TRUNC(E29*D29, 0) -> 0 | G29: =TRUNC(일위대가목록!F47,0) -> 0 | H29: =TRUNC(G29*D29, 0) -> 0 | I29: =TRUNC(일위대가목록!G47,0) -> 46792 | J29: =TRUNC(I29*D29, 0) -> 935840 | K29: =TRUNC(E29+G29+I29, 0) -> 46792 | L29: =TRUNC(F29+H29+J29, 0) -> 935840 | M29: 호표 44 | N29: 535972093B0511957A1558B8494B06 | Q29: 010102 | R29: T | S29: F | T29: F | AU29: 010102535972093B0511957A1558B8494B06 | AV29: 125
A30: 시스템 비계매기(발판2줄) | B30: 3개월,H=10m 이하 | C30: M2 | D30: 138 | E30: =TRUNC(일위대가목록!E180,0) -> 6089 | F30: =TRUNC(E30*D30, 0) -> 840282 | G30: =TRUNC(일위대가목록!F180,0) -> 14718 | H30: =TRUNC(G30*D30, 0) -> 2031084 | I30: =TRUNC(일위대가목록!G180,0) -> 294 | J30: =TRUNC(I30*D30, 0) -> 40572 | K30: =TRUNC(E30+G30+I30, 0) -> 21101 | L30: =TRUNC(F30+H30+J30, 0) -> 2911938 | M30: 호표 177 | N30: 537E222909A515A27752B6884E8816 | Q30: 010102 | R30: T | S30: F | T30: F | AU30: 010102537E222909A515A27752B6884E8816 | AV30: 126
A31: 시스템 비계매기(발판2줄) | B31: 3개월,H=10~20m 이하 | C31: M2 | D31: 44.2 | E31: =TRUNC(일위대가목록!E181,0) -> 6089 | F31: =TRUNC(E31*D31, 0) -> 269133 | G31: =TRUNC(일위대가목록!F181,0) -> 17000 | H31: =TRUNC(G31*D31, 0) -> 751400 | I31: =TRUNC(일위대가목록!G181,0) -> 340 | J31: =TRUNC(I31*D31, 0) -> 15028 | K31: =TRUNC(E31+G31+I31, 0) -> 23429 | L31: =TRUNC(F31+H31+J31, 0) -> 1035561 | M31: 호표 178 | N31: 537E222909A515A27752B6884E9A86 | Q31: 010102 | R31: T | S31: F | T31: F | AU31: 010102537E222909A515A27752B6884E9A86 | AV31: 127
A32: 강관동바리 | B32: 3.5m이하, 1개월 | C32: M2 | D32: 10.4 | E32: =TRUNC(일위대가목록!E56,0) -> 1309 | F32: =TRUNC(E32*D32, 0) -> 13613 | G32: =TRUNC(일위대가목록!F56,0) -> 15267 | H32: =TRUNC(G32*D32, 0) -> 158776 | I32: =TRUNC(일위대가목록!G56,0) -> 0 | J32: =TRUNC(I32*D32, 0) -> 0 | K32: =TRUNC(E32+G32+I32, 0) -> 16576 | L32: =TRUNC(F32+H32+J32, 0) -> 172389 | M32: 호표 53 | N32: 535972093B2062467B2D1AB8BE29D6 | Q32: 010102 | R32: T | S32: F | T32: F | AU32: 010102535972093B2062467B2D1AB8BE29D6 | AV32: 128
A33: 강관 조립말비계(이동식)설치 및 해체 | B33: 높이 2m, 3개월 | C33: 대 | D33: 1 | E33: =TRUNC(일위대가목록!E51,0) -> 33052 | F33: =TRUNC(E33*D33, 0) -> 33052 | G33: =TRUNC(일위대가목록!F51,0) -> 94574 | H33: =TRUNC(G33*D33, 0) -> 94574 | I33: =TRUNC(일위대가목록!G51,0) -> 0 | J33: =TRUNC(I33*D33, 0) -> 0 | K33: =TRUNC(E33+G33+I33, 0) -> 127626 | L33: =TRUNC(F33+H33+J33, 0) -> 127626 | M33: 호표 48 | N33: 535972093B2051F272B542C8B77826 | Q33: 010102 | R33: T | S33: F | T33: F | AU33: 010102535972093B2051F272B542C8B77826 | AV33: 9
A34: 수평 규준틀 | B34: 귀 | C34: 개소 | D34: 4 | E34: =TRUNC(일위대가목록!E54,0) -> 11262 | F34: =TRUNC(E34*D34, 0) -> 45048 | G34: =TRUNC(일위대가목록!F54,0) -> 160723 | H34: =TRUNC(G34*D34, 0) -> 642892 | I34: =TRUNC(일위대가목록!G54,0) -> 0 | J34: =TRUNC(I34*D34, 0) -> 0 | K34: =TRUNC(E34+G34+I34, 0) -> 171985 | L34: =TRUNC(F34+H34+J34, 0) -> 687940 | M34: 호표 51 | N34: 535972093B2051E17E1475F8AF1F36 | Q34: 010102 | R34: T | S34: F | T34: F | AU34: 010102535972093B2051E17E1475F8AF1F36 | AV34: 10
A35: 구조부 먹매김 | B35: 일반 | C35: M2 | D35: 12.8 | E35: =TRUNC(일위대가목록!E62,0) -> 0 | F35: =TRUNC(E35*D35, 0) -> 0 | G35: =TRUNC(일위대가목록!F62,0) -> 1388 | H35: =TRUNC(G35*D35, 0) -> 17766 | I35: =TRUNC(일위대가목록!G62,0) -> 0 | J35: =TRUNC(I35*D35, 0) -> 0 | K35: =TRUNC(E35+G35+I35, 0) -> 1388 | L35: =TRUNC(F35+H35+J35, 0) -> 17766 | M35: 호표 59 | N35: 535972096076A6827BFA8748895116 | Q35: 010102 | R35: T | S35: F | T35: F | AU35: 010102535972096076A6827BFA8748895116 | AV35: 14
A36: 거푸집 먹매김 | B36: 일반 | C36: M2 | D36: 12.8 | E36: =TRUNC(일위대가목록!E63,0) -> 0 | F36: =TRUNC(E36*D36, 0) -> 0 | G36: =TRUNC(일위대가목록!F63,0) -> 3331 | H36: =TRUNC(G36*D36, 0) -> 42636 | I36: =TRUNC(일위대가목록!G63,0) -> 0 | J36: =TRUNC(I36*D36, 0) -> 0 | K36: =TRUNC(E36+G36+I36, 0) -> 3331 | L36: =TRUNC(F36+H36+J36, 0) -> 42636 | M36: 호표 60 | N36: 535972096076A6827BF8D9E8C8C416 | Q36: 010102 | R36: T | S36: F | T36: F | AU36: 010102535972096076A6827BF8D9E8C8C416 | AV36: 15
A37: 건축물보양 - 콘크리트 | B37: 살수 | C37: M2 | D37: 12.8 | E37: =TRUNC(일위대가목록!E64,0) -> 0 | F37: =TRUNC(E37*D37, 0) -> 0 | G37: =TRUNC(일위대가목록!F64,0) -> 688 | H37: =TRUNC(G37*D37, 0) -> 8806 | I37: =TRUNC(일위대가목록!G64,0) -> 0 | J37: =TRUNC(I37*D37, 0) -> 0 | K37: =TRUNC(E37+G37+I37, 0) -> 688 | L37: =TRUNC(F37+H37+J37, 0) -> 8806 | M37: 호표 61 | N37: 535972096076A6BF7D6D0B68D82E36 | Q37: 010102 | R37: T | S37: F | T37: F | AU37: 010102535972096076A6BF7D6D0B68D82E36 | AV37: 16
A38: 건축물 현장정리 | B38: 철근콘크리트조 | C38: M2 | D38: 12.8 | E38: =TRUNC(일위대가목록!E60,0) -> 0 | F38: =TRUNC(E38*D38, 0) -> 0 | G38: =TRUNC(일위대가목록!F60,0) -> 22368 | H38: =TRUNC(G38*D38, 0) -> 286310 | I38: =TRUNC(일위대가목록!G60,0) -> 0 | J38: =TRUNC(I38*D38, 0) -> 0 | K38: =TRUNC(E38+G38+I38, 0) -> 22368 | L38: =TRUNC(F38+H38+J38, 0) -> 286310 | M38: 호표 57 | N38: 535972096049062B7318E648298C56 | Q38: 010102 | R38: T | S38: F | T38: F | AU38: 010102535972096049062B7318E648298C56 | AV38: 12
A39: 건축물 현장정리(청소포함) | B39: 수선(바닥,천장 수선일경우) | C39: M2 | D39: 12.5 | E39: =TRUNC(일위대가목록!E61,0) -> 0 | F39: =TRUNC(E39*D39, 0) -> 0 | G39: =TRUNC(일위대가목록!F61,0) -> 6022 | H39: =TRUNC(G39*D39, 0) -> 75275 | I39: =TRUNC(일위대가목록!G61,0) -> 0 | J39: =TRUNC(I39*D39, 0) -> 0 | K39: =TRUNC(E39+G39+I39, 0) -> 6022 | L39: =TRUNC(F39+H39+J39, 0) -> 75275 | M39: 호표 58 | N39: 535972096049062B743FF028D8E3C6 | Q39: 010102 | R39: T | S39: F | T39: F | AU39: 010102535972096049062B743FF028D8E3C6 | AV39: 129
A40: 임시칸막이설치 및 해체 | B40: H:2900,각관틀+내화패널100mm,3개월이하 | C40: M | D40: 10.4 | E40: =TRUNC(일위대가목록!E59,0) -> 113513 | F40: =TRUNC(E40*D40, 0) -> 1180535 | G40: =TRUNC(일위대가목록!F59,0) -> 0 | H40: =TRUNC(G40*D40, 0) -> 0 | I40: =TRUNC(일위대가목록!G59,0) -> 26949 | J40: =TRUNC(I40*D40, 0) -> 280269 | K40: =TRUNC(E40+G40+I40, 0) -> 140462 | L40: =TRUNC(F40+H40+J40, 0) -> 1460804 | M40: 호표 56 | N40: 535972091825FFD07B0C07E80669D6 | Q40: 010102 | R40: T | S40: F | T40: F | AU40: 010102535972091825FFD07B0C07E80669D6 | AV40: 202
Q41: 010102
Q42: 010102
Q43: 010102
Q44: 010102
Q45: 010102
Q46: 010102
Q47: 010102
Q48: 010102
...

Sheet 일위대가목록
B1: 일 위 대 가 목 록
B2: [ 남원국악예술고 장애인 승강기 증축공사 ]
A3: 코 드 | B3: 품 명 | C3: 규 격 | D3: 단위 | E3: 재 료 비 | F3: 노 무 비 | G3: 경 비 | H3: 합 계 | I3: 번 호 | J3: 비 고 | K3: 노임계수 | L3: 할증 | M3: 품셈개요 | N3: 장비일위
A4: 5446B2C9F0376E1B774699C858632916F67601C5 | B4: 굴착기(무한궤도) | C4: 0.2㎥ | D4: HR | E4: =일위대가!F9 -> 8597 | F4: =일위대가!H9 -> 59020 | G4: =일위대가!J9 -> 13873 | H4: =E4+F4+G4 -> 81490 | I4: 호표 1 | K4: A | N4: T
A5: 5446B2C9F0376E1B774699C8580A9646B797AC70 | B5: 굴착기(무한궤도) | C5: 0.4㎥ | D5: HR | E5: =일위대가!F16 -> 17162 | F5: =일위대가!H16 -> 59020 | G5: =일위대가!J16 -> 17514 | H5: =E5+F5+G5 -> 93696 | I5: 호표 2 | K5: A | N5: T
A6: 5446B2C9F0376E1B774699C858257C061F8AA7D4 | B6: 굴착기(무한궤도) | C6: 0.6㎥ | D6: HR | E6: =일위대가!F23 -> 17682 | F6: =일위대가!H23 -> 59020 | G6: =일위대가!J23 -> 23423 | H6: =E6+F6+G6 -> 100125 | I6: 호표 3 | K6: A | N6: T
A7: 5446B2C9F0376E1B774699C85837DC36F602B903 | B7: 굴착기(무한궤도) | C7: 0.7㎥ | D7: HR | E7: =일위대가!F30 -> 20109 | F7: =일위대가!H30 -> 59020 | G7: =일위대가!J30 -> 24554 | H7: =E7+F7+G7 -> 103683 | I7: 호표 4 | K7: A | N7: T
A8: 5446B2C9F0376E1B774699C84FDB25663DB33CD1 | B8: 굴착기(무한궤도) | C8: 1.0㎥ | D8: HR | E8: =일위대가!F37 -> 33805 | F8: =일위대가!H37 -> 59020 | G8: =일위대가!J37 -> 29621 | H8: =E8+F8+G8 -> 122446 | I8: 호표 5 | K8: A | N8: T
A9: 5446B2C9F0376E1B76A1DD58090571E64E7B3165 | B9: 굴착기(타이어) | C9: 0.6㎥ | D9: HR | E9: =일위대가!F44 -> 20439 | F9: =일위대가!H44 -> 59020 | G9: =일위대가!J44 -> 27120 | H9: =E9+F9+G9 -> 106579 | I9: 호표 6 | K9: A | N9: T
A10: 5446B2C9F0376E1B74F361D8091E21E69F7CD58F | B10: 대형 브레이커 | C10: 0.4㎥용 | D10: HR | E10: =일위대가!F48 -> 0 | F10: =일위대가!H48 -> 0 | G10: =일위대가!J48 -> 5513 | H10: =E10+F10+G10 -> 5513 | I10: 호표 7 | K10: A | N10: T
A11: 5446B2C9F0376E1B72C56658720C82B68A6C4EAC | B11: 압쇄기(펄버라이저) | C11: 1.0㎥용 | D11: HR | E11: =일위대가!F52 -> 0 | F11: =일위대가!H52 -> 0 | G11: =일위대가!J52 -> 18857 | H11: =E11+F11+G11 -> 18857 | I11: 호표 8 | K11: A | N11: T
A12: 5446B2C9F0376E5172FAAB78952E43868D5D0387 | B12: 덤프트럭 | C12: 8ton | D12: HR | E12: =일위대가!F59 -> 18237 | F12: =일위대가!H59 -> 49778 | G12: =일위대가!J59 -> 10544 | H12: =E12+F12+G12 -> 78559 | I12: 호표 9 | K12: A | N12: T
A13: 5446B2C9F0376E5172FAAB788B6042762D66EEAA | B13: 덤프트럭 | C13: 15ton | D13: HR | E13: =일위대가!F66 -> 31179 | F13: =일위대가!H66 -> 59020 | G13: =일위대가!J66 -> 20659 | H13: =E13+F13+G13 -> 110858 | I13: 호표 10 | K13: A | N13: T
A14: 5446B2C9F0376E51739F68F849707B563AE4F736 | B14: 덤프트럭 자동덮개시설 | C14: 15ton | D14: HR | E14: =일위대가!F70 -> 0 | F14: =일위대가!H70 -> 0 | G14: =일위대가!J70 -> 438 | H14: =E14+F14+G14 -> 438 | I14: 호표 11 | K14: A | N14: T
A15: 5446B2C9F03778BF75307808AAF3E7F6340F3AEA | B15: 머캐덤 롤러(자주식) | C15: 8∼10ton | D15: HR | E15: =일위대가!F77 -> 12743 | F15: =일위대가!H77 -> 59020 | G15: =일위대가!J77 -> 10298 | H15: =E15+F15+G15 -> 82061 | I15: 호표 12 | K15: A | N15: T
A16: 5446B2C9F0377882719F05285902BF1643C351B3 | B16: 탠덤롤러(자주식) | C16: 8∼10ton | D16: HR | E16: =일위대가!F84 -> 11402 | F16: =일위대가!H84 -> 59020 | G16: =일위대가!J84 -> 9391 | H16: =E16+F16+G16 -> 79813 | I16: 호표 13 | K16: A | N16: T
A17: 5446B2C9F03778E47A1AA498537ACB76E241AADD | B17: 타이어 롤러(자주식) | C17: 8∼15ton | D17: HR | E17: =일위대가!F91 -> 13982 | F17: =일위대가!H91 -> 59020 | G17: =일위대가!J91 -> 19136 | H17: =E17+F17+G17 -> 92138 | I17: 호표 14 | K17: A | N17: T
A18: 5446B2C9F03778DA70DEA1B840DD7416A9C832FB | B18: 플레이트 콤팩터 | C18: 1.5ton | D18: HR | E18: =일위대가!F98 -> 1767 | F18: =일위대가!H98 -> 36248 | G18: =일위대가!J98 -> 620 | H18: =E18+F18+G18 -> 38635 | I18: 호표 15 | K18: A | N18: T
A19: 5446B2C9F037437F77C1FB08810FA7961AD993E7 | B19: 크레인(타이어) | C19: 10ton | D19: HR | E19: =일위대가!F105 -> 7505 | F19: =일위대가!H105 -> 59020 | G19: =일위대가!J105 -> 31344 | H19: =E19+F19+G19 -> 97869 | I19: 호표 16 | K19: A | N19: T
A20: 5446B2C9F037437F77C1FB088134EB9607EE4942 | B20: 크레인(타이어) | C20: 20ton | D20: HR | E20: =일위대가!F112 -> 10666 | F20: =일위대가!H112 -> 59020 | G20: =일위대가!J112 -> 53629 | H20: =E20+F20+G20 -> 123315 | I20: 호표 17 | K20: A | N20: T
A21: 5446B2C9F037437F77C1FB0881455AA638B60F27 | B21: 크레인(타이어) | C21: 50ton | D21: HR | E21: =일위대가!F119 -> 22309 | F21: =일위대가!H119 -> 59020 | G21: =일위대가!J119 -> 90444 | H21: =E21+F21+G21 -> 171773 | I21: 호표 18 | K21: A | N21: T
A22: 5446B2C9F037437F77C0D5085B8B91B6CDF891CD | B22: 트럭탑재형 크레인 | C22: 10ton | D22: HR | E22: =일위대가!F126 -> 17563 | F22: =일위대가!H126 -> 49778 | G22: =일위대가!J126 -> 23795 | H22: =E22+F22+G22 -> 91136 | I22: 호표 19 | K22: A | N22: T
A23: 5446B2C9F03743167FE22CE8746F0E66DA9B8C45 | B23: 트럭 트랙터 및 평판트레일러 | C23: 20ton | D23: HR | E23: =일위대가!F133 -> 32590 | F23: =일위대가!H133 -> 59020 | G23: =일위대가!J133 -> 17314 | H23: =E23+F23+G23 -> 108924 | I23: 호표 20 | K23: A | N23: T
A24: 5446B2C9F03720D577F8A238C23C51E640783013 | B24: 콘크리트 펌프차 | C24: 21m(65∼75㎥/hr) | D24: HR | E24: =일위대가!F140 -> 28199 | F24: =일위대가!H140 -> 59020 | G24: =일위대가!J140 -> 51698 | H24: =E24+F24+G24 -> 138917 | I24: 호표 21 | K24: A | N24: T
A25: 541912C9155EE98D782E5FC8A6D6 | B25: 모터그레이더 | C25: 3.6m일반용 | D25: HR | E25: =일위대가!F147 -> 24094 | F25: =일위대가!H147 -> 47967 | G25: =일위대가!J147 -> 33933 | H25: =E25+F25+G25 -> 105994 | I25: 호표 22 | K25: A | N25: T
A26: 541912C9155EE98D782E50484006 | B26: 덤프트럭 | C26: 15톤 | D26: HR | E26: =일위대가!F154 -> 23477 | F26: =일위대가!H154 -> 47967 | G26: =일위대가!J154 -> 18299 | H26: =E26+F26+G26 -> 89743 | I26: 호표 23 | K26: A | N26: T
A27: 541912C9155EE98D7BE2DE780376 | B27: 머캐덤롤러(자주식) | C27: 10∼12톤 | D27: HR | E27: =일위대가!F161 -> 11742 | F27: =일위대가!H161 -> 47967 | G27: =일위대가!J161 -> 10822 | H27: =E27+F27+G27 -> 70531 | I27: 호표 24 | K27: A | N27: T
A28: 541912C9155EE98D7BE2DE787676 | B28: 탠덤롤러(자주식) | C28: 8∼10톤 | D28: HR | E28: =일위대가!F168 -> 8585 | F28: =일위대가!H168 -> 47967 | G28: =일위대가!J168 -> 8440 | H28: =E28+F28+G28 -> 64992 | I28: 호표 25 | K28: A | N28: T
A29: 541912C9155EE98D7BE2DF181196 | B29: 진동롤러(자주식) | C29: 10톤 | D29: HR | E29: =일위대가!F175 -> 20030 | F29: =일위대가!H175 -> 47967 | G29: =일위대가!J175 -> 23532 | H29: =E29+F29+G29 -> 91529 | I29: 호표 26 | K29: A | N29: T
A30: 541912C9155EE98D7BE2DD68BF36 | B30: 타이어롤러(자주식) | C30: 8∼15톤 | D30: HR | E30: =일위대가!F182 -> 10528 | F30: =일위대가!H182 -> 47967 | G30: =일위대가!J182 -> 16139 | H30: =E30+F30+G30 -> 74634 | I30: 호표 27 | K30: A | N30: T
A31: 541912C9155EE98D7DAF4B38D216 | B31: 아스팔트페이버(피니셔) | C31: 3m | D31: HR | E31: =일위대가!F189 -> 19766 | F31: =일위대가!H189 -> 59020 | G31: =일위대가!J189 -> 57439 | H31: =E31+F31+G31 -> 136225 | I31: 호표 28 | K31: A | N31: T
A32: 541912C9155EE98D71FEA278EE56 | B32: 물탱크(살수차) | C32: 5500L | D32: HR | E32: =일위대가!F196 -> 12936 | F32: =일위대가!H196 -> 40000 | G32: =일위대가!J196 -> 7823 | H32: =E32+F32+G32 -> 60759 | I32: 호표 29 | K32: A | N32: T
A33: 541912C9154CA423777D7628BBC6 | B33: 아스콘포장공사 | C33: 표층5+기층7.5+기층20+보조30 | D33: M2 | E33: =일위대가!F200 -> 27469 | F33: =일위대가!H200 -> 10124 | G33: =일위대가!J200 -> 3119 | H33: =E33+F33+G33 -> 40712 | I33: 호표 30
A34: 541912C9154CA423777D7628A976 | B34: 아스콘포장공사 | C34: 표층5+기층7.5+기층20+보조30 | D34: a | E34: =일위대가!F209 -> 2746979 | F34: =일위대가!H209 -> 1012464 | G34: =일위대가!J209 -> 311945 | H34: =E34+F34+G34 -> 4071388 | I34: 호표 31
A35: 541912C9154CA423777D762898E6 | B35: 표층 아스콘포장 | C35: #75,T=5.0cm | D35: a | E35: =일위대가!F215 -> 808282 | F35: =일위대가!H215 -> 166685 | G35: =일위대가!J215 -> 23213 | H35: =E35+F35+G35 -> 998180 | I35: 호표 32
A36: 541912C9154CA423777D76288E96 | B36: 기층 아스콘포장 | C36: #57,T=7.5cm | D36: a | E36: =일위대가!F221 -> 1085928 | F36: =일위대가!H221 -> 153174 | G36: =일위대가!J221 -> 21128 | H36: =E36+F36+G36 -> 1260230 | I36: 호표 33
A37: 541912C9154CA423777D7628F196 | B37: 기층 부설 | C37: 혼합골재,T=200mm | D37: M3 | E37: =일위대가!F229 -> 10794 | F37: =일위대가!H229 -> 1118 | G37: =일위대가!J229 -> 513 | H37: =E37+F37+G37 -> 12425 | I37: 호표 34
A38: 541912C9154CA423777D7628E706 | B38: 보조기층 부설 | C38: 혼합골재,T=300mm | D38: M3 | E38: =일위대가!F237 -> 10666 | F38: =일위대가!H237 -> 757 | G38: =일위대가!J237 -> 344 | H38: =E38+F38+G38 -> 11767 | I38: 호표 35
A39: 541912C9154CA423777D7628D696 | B39: 표층 아스콘포설 #78 | C39: 아스팔트페이버 | D39: a | E39: =일위대가!F242 -> 722605 | F39: =일위대가!H242 -> 13662 | G39: =일위대가!J242 -> 13296 | H39: =E39+F39+G39 -> 749563 | I39: 호표 36
A40: 541912C9154CA423777D7628D6F6 | B40: 표층 전압비 | C40: T=5.0cm | D40: a | E40: =일위대가!F248 -> 9060 | F40: =일위대가!H248 -> 41730 | G40: =일위대가!J248 -> 9784 | H40: =E40+F40+G40 -> 60574 | I40: 호표 37
...

Sheet 일위대가
A1: [ 남원국악예술고 장애인 승강기 증축공사 ]
A2: 품 명 | B2: 규 격 | C2: 단위 | D2: 수량 | E2: 재 료 비 | G2: 노 무 비 | I2: 경 비 | K2: 합 계 | M2: 비 고 | N2: 일위대가 | O2: 품목코드 | P2: 일위 | Q2: 단산 | R2: 자재 | S2: 손료적용 | T2: 손료저장 | U2: 적용율 | V2: JUK1 | W2: JUK2 | X2: JUK3 | Y2: JUK4 | Z2: JUK5 | AA2: JUK6 | AB2: JUK7 | AC2: JUK8 | AD2: JUK9 | AE2: JUK10 | AF2: JUK11 | AG2: JUK12 | AH2: JUK13 | AI2: JUK14 | AJ2: JUK15 | AK2: JUK16 | AL2: JUK17 | AM2: JUK18 | AN2: JUK19 | AO2: JUK20 | AP2: 할증적용 | AQ2: 할증저장 | AR2: 할증율 | AS2: HAL1 | AT2: HAL2 | AU2: HAL3 | AV2: 자재구분 | AW2: 일위대가+자재 | AX2: 장비일위 | AY2: 설정 | AZ2: 할증체크
E3: 단 가 | F3: 금 액 | G3: 단 가 | H3: 금 액 | I3: 단 가 | J3: 금 액 | K3: 단 가 | L3: 금 액
A4: 굴착기(무한궤도) 0.2㎥ HR ( 호표 1 ) | N4: 5446B2C9F0376E1B774699C858632916F67601C5
A5: 굴착기(무한궤도) | B5: 0.2㎥ | C5: 대 | D5: 0.2085 | E5: =단가대비표!O5 -> 0 | F5: =TRUNC(E5*D5,1) -> 0 | G5: =단가대비표!P5 -> 0 | H5: =TRUNC(G5*D5,1) -> 0 | I5: =단가대비표!V5 -> 66538 | J5: =TRUNC(I5*D5,1) -> 13873.1 | K5: =TRUNC(E5+G5+I5,1) -> 66538 | L5: =TRUNC(F5+H5+J5,1) -> 13873.1 | M5: 천원 | N5: 5446B2C9F0376E1B774699C858632916F67601C5 | O5: 5446B2C9F0376E1B774699C858632916F67601 | P5: F | Q5: F | R5: T | AW5: 5446B2C9F0376E1B774699C858632916F67601C55446B2C9F0376E1B774699C858632916F67601
A6: 경유 | B6: 저유황 | C6: L | D6: 5 | E6: =단가대비표!O45 -> 1421 | F6: =TRUNC(E6*D6,1) -> 7105 | G6: =단가대비표!P45 -> 0 | H6: =TRUNC(G6*D6,1) -> 0 | I6: =단가대비표!V45 -> 0 | J6: =TRUNC(I6*D6,1) -> 0 | K6: =TRUNC(E6+G6+I6,1) -> 1421 | L6: =TRUNC(F6+H6+J6,1) -> 7105 | N6: 5446B2C9F0376E1B774699C858632916F67601C5 | O6: 545772A939C89A367E9F1718EA235506639BF2 | P6: F | Q6: F | R6: T | V6: 1 | AW6: 5446B2C9F0376E1B774699C858632916F67601C5545772A939C89A367E9F1718EA235506639BF2
A7: 잡재료 | B7: 주연료비의 21% | C7: 식 | D7: 1 | E7: =TRUNC(SUMIF(V5:V8, RIGHTB(O7, 1), F5:F8)*U7, 2) -> 1492.05 | F7: =TRUNC(E7*D7,1) -> 1492 | G7: 0 | H7: =TRUNC(G7*D7,1) -> 0 | I7: 0 | J7: =TRUNC(I7*D7,1) -> 0 | K7: =TRUNC(E7+G7+I7,1) -> 1492 | L7: =TRUNC(F7+H7+J7,1) -> 1492 | N7: 5446B2C9F0376E1B774699C858632916F67601C5 | O7: 524D3239FD469645789512286F86001 | P7: F | Q7: F | R7: F | S7: 0 | T7: 0 | U7: 0.21 | AW7: 5446B2C9F0376E1B774699C858632916F67601C5524D3239FD469645789512286F86001
A8: 건설기계운전사 | B8: 일반공사 직종 | C8: 인 | D8: 1 | E8: =TRUNC(단가대비표!O192*1/8*16/12*25/20, 1) -> 0 | F8: =TRUNC(E8*D8,1) -> 0 | G8: =TRUNC(단가대비표!P192*1/8*16/12*25/20, 1) -> 59020.2 | H8: =TRUNC(G8*D8,1) -> 59020.2 | I8: =TRUNC(단가대비표!V192*1/8*16/12*25/20, 1) -> 0 | J8: =TRUNC(I8*D8,1) -> 0 | K8: =TRUNC(E8+G8+I8,1) -> 59020.2 | L8: =TRUNC(F8+H8+J8,1) -> 59020.2 | N8: 5446B2C9F0376E1B774699C858632916F67601C5 | O8: 538BA229680AE9E374DF28D86359BE1686547F | P8: F | Q8: F | R8: T | AW8: 5446B2C9F0376E1B774699C858632916F67601C5538BA229680AE9E374DF28D86359BE1686547F | AX8: T
A9: [ 합 계 ] | F9: =TRUNC(SUMIF(N5:N8, N4, F5:F8),0) -> 8597 | H9: =TRUNC(SUMIF(N5:N8, N4, H5:H8),0) -> 59020 | J9: =TRUNC(SUMIF(N5:N8, N4, J5:J8),0) -> 13873 | L9: =F9+H9+J9 -> 81490 | N9: TOTAL | O9: TOTAL
A11: 굴착기(무한궤도) 0.4㎥ HR ( 호표 2 ) | N11: 5446B2C9F0376E1B774699C8580A9646B797AC70
A12: 굴착기(무한궤도) | B12: 0.4㎥ | C12: 대 | D12: 0.2085 | E12: =단가대비표!O6 -> 0 | F12: =TRUNC(E12*D12,1) -> 0 | G12: =단가대비표!P6 -> 0 | H12: =TRUNC(G12*D12,1) -> 0 | I12: =단가대비표!V6 -> 84000 | J12: =TRUNC(I12*D12,1) -> 17514 | K12: =TRUNC(E12+G12+I12,1) -> 84000 | L12: =TRUNC(F12+H12+J12,1) -> 17514 | M12: 천원 | N12: 5446B2C9F0376E1B774699C8580A9646B797AC70 | O12: 5446B2C9F0376E1B774699C8580A9646B797AC | P12: F | Q12: F | R12: T | AW12: 5446B2C9F0376E1B774699C8580A9646B797AC705446B2C9F0376E1B774699C8580A9646B797AC
A13: 경유 | B13: 저유황 | C13: L | D13: 9.9 | E13: =단가대비표!O45 -> 1421 | F13: =TRUNC(E13*D13,1) -> 14067.9 | G13: =단가대비표!P45 -> 0 | H13: =TRUNC(G13*D13,1) -> 0 | I13: =단가대비표!V45 -> 0 | J13: =TRUNC(I13*D13,1) -> 0 | K13: =TRUNC(E13+G13+I13,1) -> 1421 | L13: =TRUNC(F13+H13+J13,1) -> 14067.9 | N13: 5446B2C9F0376E1B774699C8580A9646B797AC70 | O13: 545772A939C89A367E9F1718EA235506639BF2 | P13: F | Q13: F | R13: T | V13: 1 | AW13: 5446B2C9F0376E1B774699C8580A9646B797AC70545772A939C89A367E9F1718EA235506639BF2
A14: 잡재료 | B14: 주연료비의 22% | C14: 식 | D14: 1 | E14: =TRUNC(SUMIF(V12:V15, RIGHTB(O14, 1), F12:F15)*U14, 2) -> 3094.93 | F14: =TRUNC(E14*D14,1) -> 3094.9 | G14: 0 | H14: =TRUNC(G14*D14,1) -> 0 | I14: 0 | J14: =TRUNC(I14*D14,1) -> 0 | K14: =TRUNC(E14+G14+I14,1) -> 3094.9 | L14: =TRUNC(F14+H14+J14,1) -> 3094.9 | N14: 5446B2C9F0376E1B774699C8580A9646B797AC70 | O14: 524D3239FD469645789512286F86001 | P14: F | Q14: F | R14: F | S14: 0 | T14: 0 | U14: 0.22 | AW14: 5446B2C9F0376E1B774699C8580A9646B797AC70524D3239FD469645789512286F86001
A15: 건설기계운전사 | B15: 일반공사 직종 | C15: 인 | D15: 1 | E15: =TRUNC(단가대비표!O192*1/8*16/12*25/20, 1) -> 0 | F15: =TRUNC(E15*D15,1) -> 0 | G15: =TRUNC(단가대비표!P192*1/8*16/12*25/20, 1) -> 59020.2 | H15: =TRUNC(G15*D15,1) -> 59020.2 | I15: =TRUNC(단가대비표!V192*1/8*16/12*25/20, 1) -> 0 | J15: =TRUNC(I15*D15,1) -> 0 | K15: =TRUNC(E15+G15+I15,1) -> 59020.2 | L15: =TRUNC(F15+H15+J15,1) -> 59020.2 | N15: 5446B2C9F0376E1B774699C8580A9646B797AC70 | O15: 538BA229680AE9E374DF28D86359BE1686547F | P15: F | Q15: F | R15: T | AW15: 5446B2C9F0376E1B774699C8580A9646B797AC70538BA229680AE9E374DF28D86359BE1686547F | AX15: T
A16: [ 합 계 ] | F16: =TRUNC(SUMIF(N12:N15, N11, F12:F15),0) -> 17162 | H16: =TRUNC(SUMIF(N12:N15, N11, H12:H15),0) -> 59020 | J16: =TRUNC(SUMIF(N12:N15, N11, J12:J15),0) -> 17514 | L16: =F16+H16+J16 -> 93696 | N16: TOTAL | O16: TOTAL
A18: 굴착기(무한궤도) 0.6㎥ HR ( 호표 3 ) | N18: 5446B2C9F0376E1B774699C858257C061F8AA7D4
A19: 굴착기(무한궤도) | B19: 0.6㎥ | C19: 대 | D19: 0.2085 | E19: =단가대비표!O7 -> 0 | F19: =TRUNC(E19*D19,1) -> 0 | G19: =단가대비표!P7 -> 0 | H19: =TRUNC(G19*D19,1) -> 0 | I19: =단가대비표!V7 -> 112342 | J19: =TRUNC(I19*D19,1) -> 23423.3 | K19: =TRUNC(E19+G19+I19,1) -> 112342 | L19: =TRUNC(F19+H19+J19,1) -> 23423.3 | M19: 천원 | N19: 5446B2C9F0376E1B774699C858257C061F8AA7D4 | O19: 5446B2C9F0376E1B774699C858257C061F8AA7 | P19: F | Q19: F | R19: T | AW19: 5446B2C9F0376E1B774699C858257C061F8AA7D45446B2C9F0376E1B774699C858257C061F8AA7
A20: 경유 | B20: 저유황 | C20: L | D20: 10.2 | E20: =단가대비표!O45 -> 1421 | F20: =TRUNC(E20*D20,1) -> 14494.2 | G20: =단가대비표!P45 -> 0 | H20: =TRUNC(G20*D20,1) -> 0 | I20: =단가대비표!V45 -> 0 | J20: =TRUNC(I20*D20,1) -> 0 | K20: =TRUNC(E20+G20+I20,1) -> 1421 | L20: =TRUNC(F20+H20+J20,1) -> 14494.2 | N20: 5446B2C9F0376E1B774699C858257C061F8AA7D4 | O20: 545772A939C89A367E9F1718EA235506639BF2 | P20: F | Q20: F | R20: T | V20: 1 | AW20: 5446B2C9F0376E1B774699C858257C061F8AA7D4545772A939C89A367E9F1718EA235506639BF2
A21: 잡재료 | B21: 주연료비의 22% | C21: 식 | D21: 1 | E21: =TRUNC(SUMIF(V19:V22, RIGHTB(O21, 1), F19:F22)*U21, 2) -> 3188.72 | F21: =TRUNC(E21*D21,1) -> 3188.7 | G21: 0 | H21: =TRUNC(G21*D21,1) -> 0 | I21: 0 | J21: =TRUNC(I21*D21,1) -> 0 | K21: =TRUNC(E21+G21+I21,1) -> 3188.7 | L21: =TRUNC(F21+H21+J21,1) -> 3188.7 | N21: 5446B2C9F0376E1B774699C858257C061F8AA7D4 | O21: 524D3239FD469645789512286F86001 | P21: F | Q21: F | R21: F | S21: 0 | T21: 0 | U21: 0.22 | AW21: 5446B2C9F0376E1B774699C858257C061F8AA7D4524D3239FD469645789512286F86001
A22: 건설기계운전사 | B22: 일반공사 직종 | C22: 인 | D22: 1 | E22: =TRUNC(단가대비표!O192*1/8*16/12*25/20, 1) -> 0 | F22: =TRUNC(E22*D22,1) -> 0 | G22: =TRUNC(단가대비표!P192*1/8*16/12*25/20, 1) -> 59020.2 | H22: =TRUNC(G22*D22,1) -> 59020.2 | I22: =TRUNC(단가대비표!V192*1/8*16/12*25/20, 1) -> 0 | J22: =TRUNC(I22*D22,1) -> 0 | K22: =TRUNC(E22+G22+I22,1) -> 59020.2 | L22: =TRUNC(F22+H22+J22,1) -> 59020.2 | N22: 5446B2C9F0376E1B774699C858257C061F8AA7D4 | O22: 538BA229680AE9E374DF28D86359BE1686547F | P22: F | Q22: F | R22: T | AW22: 5446B2C9F0376E1B774699C858257C061F8AA7D4538BA229680AE9E374DF28D86359BE1686547F | AX22: T
A23: [ 합 계 ] | F23: =TRUNC(SUMIF(N19:N22, N18, F19:F22),0) -> 17682 | H23: =TRUNC(SUMIF(N19:N22, N18, H19:H22),0) -> 59020 | J23: =TRUNC(SUMIF(N19:N22, N18, J19:J22),0) -> 23423 | L23: =F23+H23+J23 -> 100125 | N23: TOTAL | O23: TOTAL
A25: 굴착기(무한궤도) 0.7㎥ HR ( 호표 4 ) | N25: 5446B2C9F0376E1B774699C85837DC36F602B903
A26: 굴착기(무한궤도) | B26: 0.7㎥ | C26: 대 | D26: 0.2085 | E26: =단가대비표!O8 -> 0 | F26: =TRUNC(E26*D26,1) -> 0 | G26: =단가대비표!P8 -> 0 | H26: =TRUNC(G26*D26,1) -> 0 | I26: =단가대비표!V8 -> 117766 | J26: =TRUNC(I26*D26,1) -> 24554.2 | K26: =TRUNC(E26+G26+I26,1) -> 117766 | L26: =TRUNC(F26+H26+J26,1) -> 24554.2 | M26: 천원 | N26: 5446B2C9F0376E1B774699C85837DC36F602B903 | O26: 5446B2C9F0376E1B774699C85837DC36F602B9 | P26: F | Q26: F | R26: T | AW26: 5446B2C9F0376E1B774699C85837DC36F602B9035446B2C9F0376E1B774699C85837DC36F602B9
A27: 경유 | B27: 저유황 | C27: L | D27: 11.6 | E27: =단가대비표!O45 -> 1421 | F27: =TRUNC(E27*D27,1) -> 16483.6 | G27: =단가대비표!P45 -> 0 | H27: =TRUNC(G27*D27,1) -> 0 | I27: =단가대비표!V45 -> 0 | J27: =TRUNC(I27*D27,1) -> 0 | K27: =TRUNC(E27+G27+I27,1) -> 1421 | L27: =TRUNC(F27+H27+J27,1) -> 16483.6 | N27: 5446B2C9F0376E1B774699C85837DC36F602B903 | O27: 545772A939C89A367E9F1718EA235506639BF2 | P27: F | Q27: F | R27: T | V27: 1 | AW27: 5446B2C9F0376E1B774699C85837DC36F602B903545772A939C89A367E9F1718EA235506639BF2
A28: 잡재료 | B28: 주연료비의 22% | C28: 식 | D28: 1 | E28: =TRUNC(SUMIF(V26:V29, RIGHTB(O28, 1), F26:F29)*U28, 2) -> 3626.39 | F28: =TRUNC(E28*D28,1) -> 3626.3 | G28: 0 | H28: =TRUNC(G28*D28,1) -> 0 | I28: 0 | J28: =TRUNC(I28*D28,1) -> 0 | K28: =TRUNC(E28+G28+I28,1) -> 3626.3 | L28: =TRUNC(F28+H28+J28,1) -> 3626.3 | N28: 5446B2C9F0376E1B774699C85837DC36F602B903 | O28: 524D3239FD469645789512286F86001 | P28: F | Q28: F | R28: F | S28: 0 | T28: 0 | U28: 0.22 | AW28: 5446B2C9F0376E1B774699C85837DC36F602B903524D3239FD469645789512286F86001
A29: 건설기계운전사 | B29: 일반공사 직종 | C29: 인 | D29: 1 | E29: =TRUNC(단가대비표!O192*1/8*16/12*25/20, 1) -> 0 | F29: =TRUNC(E29*D29,1) -> 0 | G29: =TRUNC(단가대비표!P192*1/8*16/12*25/20, 1) -> 59020.2 | H29: =TRUNC(G29*D29,1) -> 59020.2 | I29: =TRUNC(단가대비표!V192*1/8*16/12*25/20, 1) -> 0 | J29: =TRUNC(I29*D29,1) -> 0 | K29: =TRUNC(E29+G29+I29,1) -> 59020.2 | L29: =TRUNC(F29+H29+J29,1) -> 59020.2 | N29: 5446B2C9F0376E1B774699C85837DC36F602B903 | O29: 538BA229680AE9E374DF28D86359BE1686547F | P29: F | Q29: F | R29: T | AW29: 5446B2C9F0376E1B774699C85837DC36F602B903538BA229680AE9E374DF28D86359BE1686547F | AX29: T
A30: [ 합 계 ] | F30: =TRUNC(SUMIF(N26:N29, N25, F26:F29),0) -> 20109 | H30: =TRUNC(SUMIF(N26:N29, N25, H26:H29),0) -> 59020 | J30: =TRUNC(SUMIF(N26:N29, N25, J26:J29),0) -> 24554 | L30: =F30+H30+J30 -> 103683 | N30: TOTAL | O30: TOTAL
A32: 굴착기(무한궤도) 1.0㎥ HR ( 호표 5 ) | N32: 5446B2C9F0376E1B774699C84FDB25663DB33CD1
A33: 굴착기(무한궤도) | B33: 1.0㎥ | C33: 대 | D33: 0.2085 | E33: =단가대비표!O9 -> 0 | F33: =TRUNC(E33*D33,1) -> 0 | G33: =단가대비표!P9 -> 0 | H33: =TRUNC(G33*D33,1) -> 0 | I33: =단가대비표!V9 -> 142069 | J33: =TRUNC(I33*D33,1) -> 29621.3 | K33: =TRUNC(E33+G33+I33,1) -> 142069 | L33: =TRUNC(F33+H33+J33,1) -> 29621.3 | M33: 천원 | N33: 5446B2C9F0376E1B774699C84FDB25663DB33CD1 | O33: 5446B2C9F0376E1B774699C84FDB25663DB33C | P33: F | Q33: F | R33: T | AW33: 5446B2C9F0376E1B774699C84FDB25663DB33CD15446B2C9F0376E1B774699C84FDB25663DB33C
A34: 경유 | B34: 저유황 | C34: L | D34: 19.5 | E34: =단가대비표!O45 -> 1421 | F34: =TRUNC(E34*D34,1) -> 27709.5 | G34: =단가대비표!P45 -> 0 | H34: =TRUNC(G34*D34,1) -> 0 | I34: =단가대비표!V45 -> 0 | J34: =TRUNC(I34*D34,1) -> 0 | K34: =TRUNC(E34+G34+I34,1) -> 1421 | L34: =TRUNC(F34+H34+J34,1) -> 27709.5 | N34: 5446B2C9F0376E1B774699C84FDB25663DB33CD1 | O34: 545772A939C89A367E9F1718EA235506639BF2 | P34: F | Q34: F | R34: T | V34: 1 | AW34: 5446B2C9F0376E1B774699C84FDB25663DB33CD1545772A939C89A367E9F1718EA235506639BF2
A35: 잡재료 | B35: 주연료비의 22% | C35: 식 | D35: 1 | E35: =TRUNC(SUMIF(V33:V36, RIGHTB(O35, 1), F33:F36)*U35, 2) -> 6096.09 | F35: =TRUNC(E35*D35,1) -> 6096 | G35: 0 | H35: =TRUNC(G35*D35,1) -> 0 | I35: 0 | J35: =TRUNC(I35*D35,1) -> 0 | K35: =TRUNC(E35+G35+I35,1) -> 6096 | L35: =TRUNC(F35+H35+J35,1) -> 6096 | N35: 5446B2C9F0376E1B774699C84FDB25663DB33CD1 | O35: 524D3239FD469645789512286F86001 | P35: F | Q35: F | R35: F | S35: 0 | T35: 0 | U35: 0.22 | AW35: 5446B2C9F0376E1B774699C84FDB25663DB33CD1524D3239FD469645789512286F86001
A36: 건설기계운전사 | B36: 일반공사 직종 | C36: 인 | D36: 1 | E36: =TRUNC(단가대비표!O192*1/8*16/12*25/20, 1) -> 0 | F36: =TRUNC(E36*D36,1) -> 0 | G36: =TRUNC(단가대비표!P192*1/8*16/12*25/20, 1) -> 59020.2 | H36: =TRUNC(G36*D36,1) -> 59020.2 | I36: =TRUNC(단가대비표!V192*1/8*16/12*25/20, 1) -> 0 | J36: =TRUNC(I36*D36,1) -> 0 | K36: =TRUNC(E36+G36+I36,1) -> 59020.2 | L36: =TRUNC(F36+H36+J36,1) -> 59020.2 | N36: 5446B2C9F0376E1B774699C84FDB25663DB33CD1 | O36: 538BA229680AE9E374DF28D86359BE1686547F | P36: F | Q36: F | R36: T | AW36: 5446B2C9F0376E1B774699C84FDB25663DB33CD1538BA229680AE9E374DF28D86359BE1686547F | AX36: T
A37: [ 합 계 ] | F37: =TRUNC(SUMIF(N33:N36, N32, F33:F36),0) -> 33805 | H37: =TRUNC(SUMIF(N33:N36, N32, H33:H36),0) -> 59020 | J37: =TRUNC(SUMIF(N33:N36, N32, J33:J36),0) -> 29621 | L37: =F37+H37+J37 -> 122446 | N37: TOTAL | O37: TOTAL
A39: 굴착기(타이어) 0.6㎥ HR ( 호표 6 ) | N39: 5446B2C9F0376E1B76A1DD58090571E64E7B3165
A40: 굴착기(타이어) | B40: 0.6㎥ | C40: 대 | D40: 0.2279 | E40: =단가대비표!O10 -> 0 | F40: =TRUNC(E40*D40,1) -> 0 | G40: =단가대비표!P10 -> 0 | H40: =TRUNC(G40*D40,1) -> 0 | I40: =단가대비표!V10 -> 119000 | J40: =TRUNC(I40*D40,1) -> 27120.1 | K40: =TRUNC(E40+G40+I40,1) -> 119000 | L40: =TRUNC(F40+H40+J40,1) -> 27120.1 | M40: 천원 | N40: 5446B2C9F0376E1B76A1DD58090571E64E7B3165 | O40: 5446B2C9F0376E1B76A1DD58090571E64E7B31 | P40: F | Q40: F | R40: T | AW40: 5446B2C9F0376E1B76A1DD58090571E64E7B31655446B2C9F0376E1B76A1DD58090571E64E7B31
A41: 경유 | B41: 저유황 | C41: L | D41: 11.6 | E41: =단가대비표!O45 -> 1421 | F41: =TRUNC(E41*D41,1) -> 16483.6 | G41: =단가대비표!P45 -> 0 | H41: =TRUNC(G41*D41,1) -> 0 | I41: =단가대비표!V45 -> 0 | J41: =TRUNC(I41*D41,1) -> 0 | K41: =TRUNC(E41+G41+I41,1) -> 1421 | L41: =TRUNC(F41+H41+J41,1) -> 16483.6 | N41: 5446B2C9F0376E1B76A1DD58090571E64E7B3165 | O41: 545772A939C89A367E9F1718EA235506639BF2 | P41: F | Q41: F | R41: T | V41: 1 | AW41: 5446B2C9F0376E1B76A1DD58090571E64E7B3165545772A939C89A367E9F1718EA235506639BF2
A42: 잡재료 | B42: 주연료비의 24% | C42: 식 | D42: 1 | E42: =TRUNC(SUMIF(V40:V43, RIGHTB(O42, 1), F40:F43)*U42, 2) -> 3956.06 | F42: =TRUNC(E42*D42,1) -> 3956 | G42: 0 | H42: =TRUNC(G42*D42,1) -> 0 | I42: 0 | J42: =TRUNC(I42*D42,1) -> 0 | K42: =TRUNC(E42+G42+I42,1) -> 3956 | L42: =TRUNC(F42+H42+J42,1) -> 3956 | N42: 5446B2C9F0376E1B76A1DD58090571E64E7B3165 | O42: 524D3239FD469645789512286F86001 | P42: F | Q42: F | R42: F | S42: 0 | T42: 0 | U42: 0.24 | AW42: 5446B2C9F0376E1B76A1DD58090571E64E7B3165524D3239FD469645789512286F86001
A43: 건설기계운전사 | B43: 일반공사 직종 | C43: 인 | D43: 1 | E43: =TRUNC(단가대비표!O192*1/8*16/12*25/20, 1) -> 0 | F43: =TRUNC(E43*D43,1) -> 0 | G43: =TRUNC(단가대비표!P192*1/8*16/12*25/20, 1) -> 59020.2 | H43: =TRUNC(G43*D43,1) -> 59020.2 | I43: =TRUNC(단가대비표!V192*1/8*16/12*25/20, 1) -> 0 | J43: =TRUNC(I43*D43,1) -> 0 | K43: =TRUNC(E43+G43+I43,1) -> 59020.2 | L43: =TRUNC(F43+H43+J43,1) -> 59020.2 | N43: 5446B2C9F0376E1B76A1DD58090571E64E7B3165 | O43: 538BA229680AE9E374DF28D86359BE1686547F | P43: F | Q43: F | R43: T | AW43: 5446B2C9F0376E1B76A1DD58090571E64E7B3165538BA229680AE9E374DF28D86359BE1686547F | AX43: T
A44: [ 합 계 ] | F44: =TRUNC(SUMIF(N40:N43, N39, F40:F43),0) -> 20439 | H44: =TRUNC(SUMIF(N40:N43, N39, H40:H43),0) -> 59020 | J44: =TRUNC(SUMIF(N40:N43, N39, J40:J43),0) -> 27120 | L44: =F44+H44+J44 -> 106579 | N44: TOTAL | O44: TOTAL
A46: 대형 브레이커 0.4㎥용 HR ( 호표 7 ) | N46: 5446B2C9F0376E1B74F361D8091E21E69F7CD58F
...

Sheet 단가산출목록
B1: 단 가 산 출 목 록
B2: [ 남원국악예술고 장애인 승강기 증축공사 ]
A3: 코 드 | B3: 품 명 | C3: 규 격 | D3: 단위 | E3: 재 료 비 | F3: 노 무 비 | G3: 경 비 | H3: 합 계 | I3: 번 호 | J3: 비 고 | K3: START | L3: 품셈개요
A4: 541912C915ECCEF975007168C006 | B4: ASPHALT 살포(DISTRIBUTOR) | C4: 3800L 프라임코팅 | D4: a | E4: =단가산출서!B23 -> 306 | F4: =단가산출서!C23 -> 933 | G4: =단가산출서!D23 -> 250 | H4: =단가산출서!E23 -> 1489 | I4: 산근 1 | K4: 541912C915ECCEF975007168C006
A5: 541912C915ECCEF975007168A526 | B5: 기층포설(모터그레이더) | C5: 20cm | D5: M3 | E5: =단가산출서!B44 -> 81 | F5: =단가산출서!C44 -> 162 | G5: =단가산출서!D44 -> 114 | H5: =단가산출서!E44 -> 357 | I5: 산근 2 | K5: 541912C915ECCEF975007168A526
A6: 541912C915ECCEF97500716879E6 | B6: 보조기층포설(모터그레이더) | C6: 30cm | D6: M3 | E6: =단가산출서!B65 -> 55 | F6: =단가산출서!C65 -> 109 | G6: =단가산출서!D65 -> 77 | H6: =단가산출서!E65 -> 241 | I6: 산근 3 | K6: 541912C915ECCEF97500716879E6
A7: 541912C915ECCEF9750070489D16 | B7: 표층공전압비(TIRE ROLLER) | C7: 8-15톤 | D7: a | E7: =단가산출서!B85 -> 4315 | F7: =단가산출서!C85 -> 18216 | G7: =단가산출서!D85 -> 5906 | H7: =단가산출서!E85 -> 28437 | I7: 산근 4 | K7: 541912C915ECCEF9750070489D16
A8: 541912C915ECCEF9750070488CA6 | B8: 기층공전압비(TIRE ROLLER) | C8: 8-15톤 | D8: a | E8: =단가산출서!B102 -> 3655 | F8: =단가산출서!C102 -> 16655 | G8: =단가산출서!D102 -> 5603 | H8: =단가산출서!E102 -> 25913 | I8: 산근 5 | K8: 541912C915ECCEF9750070488CA6
A9: 541912C915ECCEF975007048D4C6 | B9: 표층공전압비(MACADAM ROLLER) | C9: 8-10톤 | D9: a | E9: =단가산출서!B121 -> 1930 | F9: =단가산출서!C121 -> 8942 | G9: =단가산출서!D121 -> 1560 | H9: =단가산출서!E121 -> 12432 | I9: 산근 6 | K9: 541912C915ECCEF975007048D4C6
A10: 541912C915ECCEF975007048F7A6 | B10: 기층공전압비(MACADAM ROLLER) | C10: 10-12톤 | D10: a | E10: =단가산출서!B138 -> 4696 | F10: =단가산출서!C138 -> 19186 | G10: =단가산출서!D138 -> 4328 | H10: =단가산출서!E138 -> 28210 | I10: 산근 7 | K10: 541912C915ECCEF975007048F7A6
A11: 541912C915ECCEF97500704819B6 | B11: 표층공전압비(TANDAM ROLLER) | C11: 10-14톤 | D11: a | E11: =단가산출서!B157 -> 2815 | F11: =단가산출서!C157 -> 14572 | G11: =단가산출서!D157 -> 2318 | H11: =단가산출서!E157 -> 19705 | I11: 산근 8 | K11: 541912C915ECCEF97500704819B6
A12: 541912C915ECCEF9750070480F46 | B12: 기층공전압비(TANDAM ROLLER) | C12: 10-14톤 | D12: a | E12: =단가산출서!B174 -> 2119 | F12: =단가산출서!C174 -> 11843 | G12: =단가산출서!D174 -> 2083 | H12: =단가산출서!E174 -> 16045 | I12: 산근 9 | K12: 541912C915ECCEF9750070480F46
A13: 541912C915ECCEF975007318CA96 | B13: 아스팔트 페이버 표층 | C13: 5cm | D13: a | E13: =단가산출서!B193 -> 4575 | F13: =단가산출서!C193 -> 13662 | G13: =단가산출서!D193 -> 13296 | H13: =단가산출서!E193 -> 31533 | I13: 산근 10 | K13: 541912C915ECCEF975007318CA96
A14: 541912C915ECCEF9750073189D56 | B14: 아스팔트 페이버 기층 | C14: 7.5cm | D14: a | E14: =단가산출서!B212 -> 3050 | F14: =단가산출서!C212 -> 9108 | G14: =단가산출서!D212 -> 8864 | H14: =단가산출서!E212 -> 21022 | I14: 산근 11 | K14: 541912C915ECCEF9750073189D56
A15: 541912C915ECCEF97500731857A6 | B15: 기층살수(물탱크) | C15: 2.0톤/a | D15: M3 | E15: =단가산출서!B234 -> 43 | F15: =단가산출서!C234 -> 134 | G15: =단가산출서!D234 -> 26 | H15: =단가산출서!E234 -> 203 | I15: 산근 12 | K15: 541912C915ECCEF97500731857A6
A16: 541912C915ECCEF9750073184536 | B16: 보조기층살수(물탱크) | C16: 3.0톤/a | D16: M3 | E16: =단가산출서!B256 -> 65 | F16: =단가산출서!C256 -> 202 | G16: =단가산출서!D256 -> 39 | H16: =단가산출서!E256 -> 306 | I16: 산근 13 | K16: 541912C915ECCEF9750073184536
A17: 541912C915ECCEF9750072786C66 | B17: 기층전압비(진동롤러) | C17: 자주식 10톤 | D17: M3 | E17: =단가산출서!B275 -> 217 | F17: =단가산출서!C275 -> 520 | G17: =단가산출서!D275 -> 255 | H17: =단가산출서!E275 -> 992 | I17: 산근 14 | K17: 541912C915ECCEF9750072786C66
A18: 541912C915ECCEF9750072787EC6 | B18: 보조기층전압비(진동롤러) | C18: 자주식 10톤 | D18: M3 | E18: =단가산출서!B294 -> 144 | F18: =단가산출서!C294 -> 346 | G18: =단가산출서!D294 -> 170 | H18: =단가산출서!E294 -> 660 | I18: 산근 15 | K18: 541912C915ECCEF9750072787EC6
A19: 541912C915ECCEF9750072784186 | B19: 기층전압비(타이어롤러) | C19: 자주식 8-15톤 | D19: M3 | E19: =단가산출서!B313 -> 92 | F19: =단가산출서!C313 -> 423 | G19: =단가산출서!D313 -> 142 | H19: =단가산출서!E313 -> 657 | I19: 산근 16 | K19: 541912C915ECCEF9750072784186
A20: 541912C915ECCEF97500727853F6 | B20: 보조기층전압비(타이어롤러) | C20: 자주식 8-15톤 | D20: M3 | E20: =단가산출서!B332 -> 61 | F20: =단가산출서!C332 -> 282 | G20: =단가산출서!D332 -> 94 | H20: =단가산출서!E332 -> 437 | I20: 산근 17 | K20: 541912C915ECCEF97500727853F6
A21: 541912C915ECCEE87E2E57382966 | B21: 혼합골재운반비 | C21: L:20km,덤프15톤 | D21: M3 | E21: =단가산출서!B362 -> 4457 | F21: =단가산출서!C362 -> 9107 | G21: =단가산출서!D362 -> 3474 | H21: =단가산출서!E362 -> 17038 | I21: 산근 18 | K21: 541912C915ECCEE87E2E57382966
A22: 541912C915ECCEE87E2E59F8B676 | B22: 아스콘운반비 | C22: L:20km,덤프15톤 | D22: 톤 | E22: =단가산출서!B390 -> 2799 | F22: =단가산출서!C390 -> 5719 | G22: =단가산출서!D390 -> 2182 | H22: =단가산출서!E390 -> 10700 | I22: 산근 19 | K22: 541912C915ECCEE87E2E59F8B676
A23: 5359523953EAA20176C20838723356 | B23: 잡석깔기지정(T=10cm)-15년상개정CDH1-6021-0810대체 | C23: 백호0.7M3+콤펙트1.5톤 | D23: M3 | E23: =단가산출서!B422 -> 516 | F23: =단가산출서!C422 -> 3932 | G23: =단가산출서!D422 -> 511 | H23: =단가산출서!E422 -> 4959 | I23: 산근 20 | K23: 5359523953EAA20176C20838723356 | L23: 토목 11-3,10
A24: 535822195F5DC358768D6B6844AE56 | B24: 시멘트운반 | C24: L:20km, 덤프 8ton | D24: 포 | E24: =단가산출서!B493 -> 0 | F24: =단가산출서!C493 -> 0 | G24: =단가산출서!D493 -> 1721 | H24: =단가산출서!E493 -> 1721 | I24: 산근 21 | K24: 535822195F5DC358768D6B6844AE56 | L24: 공통 8-2-8
A25: 535822195F20897D7DFABEF84FE676 | B25: 운반비(트레일러 20ton+크레인 10ton) | C25: 철근, L:10km | D25: TON | E25: =단가산출서!B551 -> 0 | F25: =단가산출서!C551 -> 0 | G25: =단가산출서!D551 -> 12129 | H25: =단가산출서!E551 -> 12129 | I25: 산근 22 | K25: 535822195F20897D7DFABEF84FE676
A26: 537E72A960C7ABD97CF85ED8D475F6 | B26: 터파기 | C26: 보통토사 구조물,백호0.6M3 | D26: M3 | E26: =단가산출서!B569 -> 477 | F26: =단가산출서!C569 -> 1380 | G26: =단가산출서!D569 -> 634 | H26: =단가산출서!E569 -> 2491 | I26: 산근 23 | K26: 537E72A960C7ABD97CF85ED8D475F6 | L26: 공통 8-2-3
A27: 537E72A9564E942E76843C98C3F546 | B27: 토사 운반/단지외 4km | C27: 보통, 덤프 15ton+굴착기 0.6m3 | D27: M3 | E27: =단가산출서!B617 -> 2105 | F27: =단가산출서!C617 -> 3985 | G27: =단가산출서!D617 -> 1424 | H27: =단가산출서!E617 -> 7514 | I27: 산근 24 | K27: 537E72A9564E942E76843C98C3F546 | L27: 공통 8-2-8
A28: 537E72A9B8E7201175A498884630A6 | B28: 되메우고 다지기(토사) | C28: 백호0.6M3*콤펙트1.5톤 | D28: M3 | E28: =단가산출서!B652 -> 710 | F28: =단가산출서!C652 -> 6330 | G28: =단가산출서!D652 -> 705 | H28: =단가산출서!E652 -> 7745 | I28: 산근 25 | K28: 537E72A9B8E7201175A498884630A6 | L28: 공통 8-2-3+10
A29: 537EF259186FFEEA72FBDC486A5B66 | B29: ASPHALT 살포(DISTRIBUTOR) | C29: 3800L 택코팅 | D29: a | E29: =단가산출서!B675 -> 163 | F29: =단가산출서!C675 -> 497 | G29: =단가산출서!D675 -> 133 | H29: =단가산출서!E675 -> 793 | I29: 산근 26 | K29: 537EF259186FFEEA72FBDC486A5B66

Sheet 단가산출서
A1: 단 가 산 출 서
A2: [ 남원국악예술고 장애인 승강기 증축공사 ]
A3: 산 출 내 역 | B3: 재 료 비 | C3: 노 무 비 | D3: 경 비 | E3: 합 계 | F3: 비 고 | G3: START | H3: 코드 | I3: 품명 | J3: 규격 | K3: 단위 | L3: 수량 | M3: 변수 | N3: 값 | O3: 소계 | P3: 소계 | Q3: 소계 | R3: 소계 | S3: 소계 | T3: 총계
A4: ASPHALT 살포(DISTRIBUTOR) 3800L 프라임코팅 a ( 산근 1 ) | G4: 541912C915ECCEF975007168C006 | I4: ASPHALT 살포(DISTRIBUTOR) | J4: 3800L 프라임코팅 | K4: a
G5: 541912C915ECCEF975007168C006 | H5: C | L5: 1
A6: 아스팔트디스트리뷰우터(3800L/HR) [호표 41] | B6: 0 | C6: 0 | D6: 0 | E6: 0 | G6: 541912C915ECCEF975007168C006 | H6: C! | I6: '아스팔트디스트리뷰우터(3800L/HR)' '[AAA161990050]'
B7: 0 | C7: 0 | D7: 0 | E7: 0 | G7: 541912C915ECCEF975007168C006 | H7: C!
A8: E 작업효율 =0.9 | B8: 0 | C8: 0 | D8: 0 | E8: 0 | G8: 541912C915ECCEF975007168C006 | H8: C! | I8: E '작업효율' =0.9
A9: t1 적재시간 =20 | B9: 0 | C9: 0 | D9: 0 | E9: 0 | G9: 541912C915ECCEF975007168C006 | H9: C! | I9: t1 '적재시간' =20
A10: T2 운반시간 =(0.5/25)*2*60 = 2.4 | B10: 0 | C10: 0 | D10: 0 | E10: 0 | G10: 541912C915ECCEF975007168C006 | H10: C! | I10: t2 '운반시간' =(0.5/25)*2*60 =?
A11: t4 적재대기시간 =10 | B11: 0 | C11: 0 | D11: 0 | E11: 0 | G11: 541912C915ECCEF975007168C006 | H11: C! | I11: t4 '적재대기시간' =10
A12: b 적재량 =3800 | B12: 0 | C12: 0 | D12: 0 | E12: 0 | G12: 541912C915ECCEF975007168C006 | H12: C! | I12: b '적재량' =3800
A13: t3 살포시간 =b/350 = 10.8571 | B13: 0 | C13: 0 | D13: 0 | E13: 0 | G13: 541912C915ECCEF975007168C006 | H13: C! | I13: t3 '살포시간' =b/350 =?
A14: D 소요살포량 =75 | B14: 0 | C14: 0 | D14: 0 | E14: 0 | G14: 541912C915ECCEF975007168C006 | H14: C! | I14: D '소요살포량' =75
A15: CM 1회 싸이클시간(분) =T1+T2+T3+T4 = 43.257 | B15: 0 | C15: 0 | D15: 0 | E15: 0 | G15: 541912C915ECCEF975007168C006 | H15: C! | I15: Cm '1회 싸이클시간(분)' =t1+t2+t3+t4 =?
A16: Q 시간당 작업량(A/HR) =60*3800*E/CM/D = 63.25 | B16: 0 | C16: 0 | D16: 0 | E16: 0 | G16: 541912C915ECCEF975007168C006 | H16: C! | I16: Q '시간당 작업량(a/hr)' =60*3800*E/Cm/D =?
B17: 0 | C17: 0 | D17: 0 | E17: 0 | G17: 541912C915ECCEF975007168C006 | H17: C!
A18: 재료비: 19361 / 63.25 = 306.1 | B18: 306.1 | C18: 0 | D18: 0 | E18: 306.1 | G18: 541912C915ECCEF975007168C006 | H18: C! | I18: '재료비:' ~AAA161990050.M~ / {Q} =?MA
A19: 노무비: 59020 / 63.25 = 933.1 | B19: 0 | C19: 933.1 | D19: 0 | E19: 933.1 | G19: 541912C915ECCEF975007168C006 | H19: C! | I19: '노무비:' ~AAA161990050.L~ / {Q} =?LA
A20: 경 비: 15861 / 63.25 = 250.7 | B20: 0 | C20: 0 | D20: 250.7 | E20: 250.7 | G20: 541912C915ECCEF975007168C006 | H20: C! | I20: '경 비:' ~AAA161990050.E~ / {Q} =?EQ
B21: 0 | C21: 0 | D21: 0 | E21: 0 | G21: 541912C915ECCEF975007168C006 | H21: C!
A22: 소 계 | B22: 306.1 | C22: 933.1 | D22: 250.7 | E22: 1489.9 | G22: 541912C915ECCEF975007168C006 | H22: C! | I22: >'소 계'
A23: 총 계 | B23: 306 | C23: 933 | D23: 250 | E23: 1489
A25: 기층포설(모터그레이더) 20cm M3 ( 산근 2 ) | G25: 541912C915ECCEF975007168A526 | I25: 기층포설(모터그레이더) | J25: 20cm | K25: M3
G26: 541912C915ECCEF975007168A526 | H26: C | L26: 1
A27: 모터그레이더(3.6M일반용/HR) [호표 22] | B27: 0 | C27: 0 | D27: 0 | E27: 0 | G27: 541912C915ECCEF975007168A526 | H27: C! | I27: '모터그레이더(3.6M일반용/HR)' '[56921010700]'
B28: 0 | C28: 0 | D28: 0 | E28: 0 | G28: 541912C915ECCEF975007168A526 | H28: C!
A29: L 블레이드 유호길이 =2.9 | B29: 0 | C29: 0 | D29: 0 | E29: 0 | G29: 541912C915ECCEF975007168A526 | H29: C! | I29: L '블레이드 유호길이' =2.9
A30: D 작업거리 =40 | B30: 0 | C30: 0 | D30: 0 | E30: 0 | G30: 541912C915ECCEF975007168A526 | H30: C! | I30: D '작업거리' =40
A31: H 포설두께 =0.2 | B31: 0 | C31: 0 | D31: 0 | E31: 0 | G31: 541912C915ECCEF975007168A526 | H31: C! | I31: H '포설두께' =0.2
A32: f 토량환산계수 =0.925/1.175 = 0.7872 | B32: 0 | C32: 0 | D32: 0 | E32: 0 | G32: 541912C915ECCEF975007168A526 | H32: C! | I32: f '토량환산계수' =0.925/1.175 =?
A33: p 부설회수 =4 | B33: 0 | C33: 0 | D33: 0 | E33: 0 | G33: 541912C915ECCEF975007168A526 | H33: C! | I33: p '부설회수' =4
A34: t =0.5 | B34: 0 | C34: 0 | D34: 0 | E34: 0 | G34: 541912C915ECCEF975007168A526 | H34: C! | I34: t =0.5
A35: E 작업효율 =0.6 | B35: 0 | C35: 0 | D35: 0 | E35: 0 | G35: 541912C915ECCEF975007168A526 | H35: C! | I35: E '작업효율' =0.6
A36: Cm 왕복작업으로 계산 =0.06*D*2/6+2*t = 1.8 | B36: 0 | C36: 0 | D36: 0 | E36: 0 | G36: 541912C915ECCEF975007168A526 | H36: C! | I36: Cm '왕복작업으로 계산' =0.06*D*2/6+2*t =?
A37: Q 시간당 작업량(M3/HR) =60*L*D*H*F*E/P*CM = 295.861 | B37: 0 | C37: 0 | D37: 0 | E37: 0 | G37: 541912C915ECCEF975007168A526 | H37: C! | I37: Q '시간당 작업량(M3/HR)' =60*L*D*H*f*E/P*Cm =?
B38: 0 | C38: 0 | D38: 0 | E38: 0 | G38: 541912C915ECCEF975007168A526 | H38: C!
A39: 재료비: 24094 / 295.861 = 81.4 | B39: 81.4 | C39: 0 | D39: 0 | E39: 81.4 | G39: 541912C915ECCEF975007168A526 | H39: C! | I39: '재료비:' ~56921010700.M~ / {Q} =?MA
A40: 노무비: 47967 / 295.861 = 162.1 | B40: 0 | C40: 162.1 | D40: 0 | E40: 162.1 | G40: 541912C915ECCEF975007168A526 | H40: C! | I40: '노무비:' ~56921010700.L~ / {Q} =?LA
A41: 경 비: 33933 / 295.861 = 114.6 | B41: 0 | C41: 0 | D41: 114.6 | E41: 114.6 | G41: 541912C915ECCEF975007168A526 | H41: C! | I41: '경 비:' ~56921010700.E~ / {Q} =?EQ
...

Sheet 단가대비표
A1: 단 가 대 비 표
A2: [ 남원국악예술고 장애인 승강기 증축공사 ]
A3: 코 드 | B3: 품 명 | C3: 규격 | D3: 단위 | E3: 재 료 비 | P3: 노 무 비 | Q3: 경 비 | W3: 번 호 | X3: 비 고 | Y3: 품목구분 | Z3: 노임구분 | AA3: 소수점처리 | AB3: 자재구분
E4: 조달청가격 | F4: PAGE | G4: 물가자료 | H4: PAGE | I4: 물가정보 | J4: PAGE | K4: 거래가격 | L4: PAGE | M4: 조사가격 | N4: PAGE | O4: 적용단가 | Q4: 조달청가격 | R4: 물가자료 | S4: 물가정보 | T4: 거래가격 | U4: 조사가격 | V4: 적용단가
A5: 5446B2C9F0376E1B774699C858632916F67601 | B5: 굴착기(무한궤도) | C5: 0.2㎥ | D5: 대 | E5: 0 | G5: 0 | I5: 0 | K5: 0 | M5: 0 | O5: 0 | P5: 0 | Q5: 0 | R5: 0 | S5: 0 | T5: 0 | U5: 66538 | V5: =SMALL(Q5:U5,COUNTIF(Q5:U5,0)+1) -> 66538 | W5: 자재 1 | X5: 천원
A6: 5446B2C9F0376E1B774699C8580A9646B797AC | B6: 굴착기(무한궤도) | C6: 0.4㎥ | D6: 대 | E6: 0 | G6: 0 | I6: 0 | K6: 0 | M6: 0 | O6: 0 | P6: 0 | Q6: 0 | R6: 0 | S6: 0 | T6: 0 | U6: 84000 | V6: =SMALL(Q6:U6,COUNTIF(Q6:U6,0)+1) -> 84000 | W6: 자재 2 | X6: 천원
A7: 5446B2C9F0376E1B774699C858257C061F8AA7 | B7: 굴착기(무한궤도) | C7: 0.6㎥ | D7: 대 | E7: 0 | G7: 0 | I7: 0 | K7: 0 | M7: 0 | O7: 0 | P7: 0 | Q7: 0 | R7: 0 | S7: 0 | T7: 0 | U7: 112342 | V7: =SMALL(Q7:U7,COUNTIF(Q7:U7,0)+1) -> 112342 | W7: 자재 3 | X7: 천원
A8: 5446B2C9F0376E1B774699C85837DC36F602B9 | B8: 굴착기(무한궤도) | C8: 0.7㎥ | D8: 대 | E8: 0 | G8: 0 | I8: 0 | K8: 0 | M8: 0 | O8: 0 | P8: 0 | Q8: 0 | R8: 0 | S8: 0 | T8: 0 | U8: 117766 | V8: =SMALL(Q8:U8,COUNTIF(Q8:U8,0)+1) -> 117766 | W8: 자재 4 | X8: 천원
A9: 5446B2C9F0376E1B774699C84FDB25663DB33C | B9: 굴착기(무한궤도) | C9: 1.0㎥ | D9: 대 | E9: 0 | G9: 0 | I9: 0 | K9: 0 | M9: 0 | O9: 0 | P9: 0 | Q9: 0 | R9: 0 | S9: 0 | T9: 0 | U9: 142069 | V9: =SMALL(Q9:U9,COUNTIF(Q9:U9,0)+1) -> 142069 | W9: 자재 5 | X9: 천원
A10: 5446B2C9F0376E1B76A1DD58090571E64E7B31 | B10: 굴착기(타이어) | C10: 0.6㎥ | D10: 대 | E10: 0 | G10: 0 | I10: 0 | K10: 0 | M10: 0 | O10: 0 | P10: 0 | Q10: 0 | R10: 0 | S10: 0 | T10: 0 | U10: 119000 | V10: =SMALL(Q10:U10,COUNTIF(Q10:U10,0)+1) -> 119000 | W10: 자재 6 | X10: 천원
A11: 5446B2C9F0376E1B74F361D8091E21E69F7CD5 | B11: 대형 브레이커 | C11: 0.4㎥용 | D11: 대 | E11: 0 | G11: 0 | I11: 0 | K11: 0 | M11: 0 | O11: 0 | P11: 0 | Q11: 0 | R11: 0 | S11: 0 | T11: 0 | U11: 8352 | V11: =SMALL(Q11:U11,COUNTIF(Q11:U11,0)+1) -> 8352 | W11: 자재 7 | X11: 천원
A12: 5446B2C9F0376E1B72C56658720C82B68A6C4E | B12: 압쇄기(펄버라이저) | C12: 1.0㎥용 | D12: 대 | E12: 0 | G12: 0 | I12: 0 | K12: 0 | M12: 0 | O12: 0 | P12: 0 | Q12: 0 | R12: 0 | S12: 0 | T12: 0 | U12: 28567 | V12: =SMALL(Q12:U12,COUNTIF(Q12:U12,0)+1) -> 28567 | W12: 자재 8 | X12: 천원
A13: 5446B2C9F0376E5172FAAB78952E43868D5D03 | B13: 덤프트럭 | C13: 8ton | D13: 대 | E13: 0 | G13: 0 | I13: 0 | K13: 0 | M13: 0 | O13: 0 | P13: 0 | Q13: 0 | R13: 0 | S13: 0 | T13: 0 | U13: 37391 | V13: =SMALL(Q13:U13,COUNTIF(Q13:U13,0)+1) -> 37391 | W13: 자재 9 | X13: 천원
A14: 5446B2C9F0376E5172FAAB788B6042762D66EE | B14: 덤프트럭 | C14: 15ton | D14: 대 | E14: 0 | G14: 0 | I14: 0 | K14: 0 | M14: 0 | O14: 0 | P14: 0 | Q14: 0 | R14: 0 | S14: 0 | T14: 0 | U14: 90653 | V14: =SMALL(Q14:U14,COUNTIF(Q14:U14,0)+1) -> 90653 | W14: 자재 10 | X14: 천원
A15: 5446B2C9F0376E51739F68F849707B563AE4F7 | B15: 덤프트럭 자동덮개시설 | C15: 15ton | D15: 대 | E15: 0 | G15: 0 | I15: 0 | K15: 0 | M15: 0 | O15: 0 | P15: 0 | Q15: 0 | R15: 0 | S15: 0 | T15: 0 | U15: 1634 | V15: =SMALL(Q15:U15,COUNTIF(Q15:U15,0)+1) -> 1634 | W15: 자재 11 | X15: 천원
A16: 5446B2C9F03778BF75307808AAF3E7F6340F3A | B16: 머캐덤 롤러(자주식) | C16: 8∼10ton | D16: 대 | E16: 0 | G16: 0 | I16: 0 | K16: 0 | M16: 0 | O16: 0 | P16: 0 | Q16: 0 | R16: 0 | S16: 0 | T16: 0 | U16: 57150 | V16: =SMALL(Q16:U16,COUNTIF(Q16:U16,0)+1) -> 57150 | W16: 자재 12 | X16: 천원
... A27: 5446B2C9F03720D577F8A238C23C51E6407830 | B27: 콘크리트 펌프차 | C27: 21m(65∼75㎥/hr) | D27: 대 | E27: 0 | G27: 0 | I27: 0 | K27: 0 | M27: 0 | O27: 0 | P27: 0 | Q27: 0 | R27: 0 | S27: 0 | T27: 0 | U27: 195829 | V27: =SMALL(Q27:U27,COUNTIF(Q27:U27,0)+1) -> 195829 | W27: 자재 23 | X27: 천원
A28: 545732C961FA56C57672F908D69AA7F6802D98 | B28: 자갈 | C28: (별도), 25mm, #57 | D28: M3 | E28: 0 | G28: 0 | I28: 0 | K28: 0 | M28: 0 | O28: 0 | P28: 0 | Q28: 0 | R28: 0 | S28: 0 | T28: 0 | U28: 0 | V28: 0 | W28: 자재 24 | X28: 별도
A29: 545732C961FA56C57672F908D69AA7E6FEDC2F | B29: 세사 | C29: 시내도착도,25mm | D29: M3 | E29: 0 | G29: 0 | I29: 34500 | J29: 55 | K29: 0 | M29: 0 | O29: =SMALL(E29:M29,COUNTIF(E29:M29,0)+1) -> 34500 | P29: 0 | Q29: 0 | R29: 0 | S29: 0 | T29: 0 | U29: 0 | V29: 0 | W29: 자재 25
A30: 545732C961FA56C57E4E5E680C29A2462733C5 | B30: 잡석 | C30: (별도) | D30: M3 | E30: 0 | G30: 0 | I30: 0 | K30: 0 | M30: 0 | O30: 0 | P30: 0 | Q30: 0 | R30: 0 | S30: 0 | T30: 0 | U30: 0 | V30: 0 | W30: 자재 26 | X30: 별도
A31: 545732C961FA56D77E222A68009403465031B3 | B31: 모래 | C31: (별도) | D31: M3 | E31: 0 | G31: 0 | I31: 0 | K31: 0 | M31: 0 | O31: 0 | P31: 0 | Q31: 0 | R31: 0 | S31: 0 | T31: 0 | U31: 0 | V31: 0 | W31: 자재 27 | X31: 별도
A32: 545732C961CD292F7B7AC998054C6776B93D7D | B32: 내수합판 | C32: 1급, 12*1220*2440mm | D32: M2 | E32: 11268 | G32: 11556 | H32: 670 | I32: 14277 | J32: 587 | K32: 11488 | L32: 667 | M32: 0 | O32: =SMALL(E32:M32,COUNTIF(E32:M32,0)+1) -> 11268 | P32: 0 | Q32: 0 | R32: 0 | S32: 0 | T32: 0 | U32: 0 | V32: 0 | W32: 자재 28
A33: 545732C961CD292F7B781C18C6C3C7963DAC97 | B33: 중밀도섬유판 | C33: 9.0*1220*2440mm | D33: M2 | E33: 4683 | G33: 4736 | H33: 670 | I33: 4568 | J33: 588 | K33: 5442 | L33: 668 | M33: 0 | O33: =SMALL(E33:M33,COUNTIF(E33:M33,0)+1) -> 4568 | P33: 0 | Q33: 0 | R33: 0 | S33: 0 | T33: 0 | U33: 0 | V33: 0 | W33: 자재 29
A34: 545732C96176FACD7DB730181177E676F810FE | B34: 철강설 | C34: 철강설, 고철, 작업설부산물 | D34: TON | E34: 261250 | G34: 360000 | H34: 1472 | I34: 348000 | J34: 1198 | K34: 0 | M34: 0 | O34: =SMALL(E34:M34,COUNTIF(E34:M34,0)+1) -> 261250 | P34: 0 | Q34: 0 | R34: 0 | S34: 0 | T34: 0 | U34: 0 | V34: 0 | W34: 자재 30 | X34: 수집상차도
A35: 545732C96176FACD7DB730181177E676F810FD | B35: 철강설 | C35: 고철, 작업설부산물 | D35: kg | E35: 261 | G35: 290 | H35: 47 II | I35: 255 | J35: 84 II | K35: 335 | L35: 1472 | M35: 0 | O35: =SMALL(E35:M35,COUNTIF(E35:M35,0)+1) -> 255 | P35: 0 | Q35: 0 | R35: 0 | S35: 0 | T35: 0 | U35: 0 | V35: 0 | W35: 자재 31 | X35: 수집상차도
A36: 545732C96176FACD7DB730181177E676F81184 | B36: 철강설 | C36: 스텐레스, 작업설부산물 | D36: kg | E36: 1377.5 | G36: 1400 | H36: 47 II | I36: 1500 | J36: 84 II | K36: 1850 | L36: 1472 | M36: 0 | O36: =SMALL(E36:M36,COUNTIF(E36:M36,0)+1) -> 1377.5 | P36: 0 | Q36: 0 | R36: 0 | S36: 0 | T36: 0 | U36: 0 | V36: 0 | W36: 자재 32 | X36: 수집상차도
A37: 545732C96176FACD7DB7301800604476022C8C | B37: 철강설 | C37: 알루미늄, 작업설부산물 | D37: kg | E37: 1757.5 | G37: 2100 | H37: 47 II | I37: 2850 | J37: 84 II | K37: 2450 | L37: 1472 | M37: 0 | O37: =SMALL(E37:M37,COUNTIF(E37:M37,0)+1) -> 1757.5 | P37: 0 | Q37: 0 | R37: 0 | S37: 0 | T37: 0 | U37: 0 | V37: 0 | W37: 자재 33 | X37: 수집상차도
A38: 5457027920618A8977868018F4664A66517942 | B38: 우레탄도막방수재 | C38: 마감코팅제 | D38: kg | E38: 7500 | G38: 4000 | H38: 483 | I38: 7500 | J38: 469 | K38: 8300 | L38: 591 | M38: 0 | O38: =SMALL(E38:M38,COUNTIF(E38:M38,0)+1) -> 4000 | P38: 0 | Q38: 0 | R38: 0 | S38: 0 | T38: 0 | U38: 0 | V38: 0 | W38: 자재 34
