Workbook

Sheet 원가계산서
B1: 공 사 원 가 계 산 서
B2: 공사명 : 울산구치소 B동 수용거실 스프링클러 소방공사 | F2: 금액 :
B3: 비 목 | E3: 금 액 | F3: 구 성 비 | G3: 비 고
A4: A1 | B4: 순 공 사 원 가 | C4: 재 료 비 | D4: 직 접 재 료 비 | E4: =TRUNC(공종별집계표!F5, 0) -> 0
A5: A2 | D5: 간 접 재 료 비 | E5: 0
A6: A3 | D6: 작 업 부 산 물
A7: AS | D7: [ 소 계 ] | E7: =TRUNC(E4+E5-E6, 0) -> 0
A8: B1 | C8: 노 무 비 | D8: 직 접 노 무 비 | E8: =TRUNC(공종별집계표!H5, 0) -> 0
A9: B2 | D9: 간 접 노 무 비 | E9: =TRUNC(E8*0.179, 0) -> 0 | F9: 직접노무비 * 17.9%
A10: BS | D10: [ 소 계 ] | E10: =TRUNC(E8+E9, 0) -> 0
A11: C2 | C11: 경 비 | D11: 기 계 경 비 | E11: =TRUNC(공종별집계표!J5, 0) -> 0
A12: C4 | D12: 산 재 보 험 료 | F12: 노무비 * 3.56%
A13: C5 | D13: 고 용 보 험 료 | F13: 노무비 * 1.01%
A14: C6 | D14: 국민 건강 보험료 | F14: 직접노무비 * 3.595%
A15: C7 | D15: 국민 연금 보험료 | F15: 직접노무비 * 4.75%
A16: CB | D16: 노인장기요양보험료 | F16: 건강보험료 * 13.14%
A17: C8 | D17: 퇴직 공제 부금비 | F17: 직접노무비 * 2.3%
A18: CA | D18: 산업안전보건관리비 | F18: (재료비+직노) * 2.28% + 4,325,000
A19: CE | D19: 임금채권부담금 | F19: 노무비 * 0.09%
A20: CF | D20: 석면분담금 | F20: 노무비 * 0.006%
A21: CG | D21: 기 타 경 비 | E21: =TRUNC((E7+E10)*0.052, 0) -> 0 | F21: (재료비+노무비) * 5.2%
A22: CS | D22: [ 소 계 ]
A23: S1 | B23: 계 | E23: =TRUNC(E7+E10+E22, 0) -> 0
A24: D1 | B24: 일 반 관 리 비 | E24: =TRUNC(E23*0.08, 0) -> 0 | F24: 계 * 8%
A25: D2 | B25: 이 윤 | E25: =TRUNC((E10+E22+E24)*0.15, 0) -> 0 | F25: (노무비+경비+일반관리비) * 15%
A26: D7 | B26: 소방공사 배상책임공제 | E26: =TRUNC((E23+E24+E25)*0.00364, 0) -> 0 | F26: (계+일반관리비+이윤) * 0.364%
A27: D9 | B27: 공 급 가 액 | E27: =TRUNC(E23+E24+E25+E26, 0) -> 0
A28: DB | B28: 부 가 가 치 세 | E28: =TRUNC(E27*0.1, 0) -> 0 | F28: 공급가액 * 10%
A29: DH | B29: 도 급 액 | E29: =TRUNC(E27+E28, 0) -> 0
A30: S2 | B30: 총 공 사 비 | E30: =TRUNC(E29+0, 0) -> 0

Sheet 공종별집계표
A1: 공 종 별 집 계 표
A2: [ 울산구치소 B동 수용거실 스프링클러 소방공사 ]
A3: 품 명 | B3: 규 격 | C3: 단위 | D3: 수량 | E3: 재 료 비 | G3: 노 무 비 | I3: 경 비 | K3: 합 계 | M3: 비 고
E4: 단 가 | F4: 금 액 | G4: 단 가 | H4: 금 액 | I4: 단 가 | J4: 금 액 | K4: 단 가 | L4: 금 액
A5: 울산구치소 수용동 스프링클러 설치 소방공사 | D5: 1 | E5: =F6+F7 -> 0 | F5: =E5*D5 -> 0 | G5: =H6+H7 -> 0 | H5: =G5*D5 -> 0 | I5: =J6+J7 -> 0 | J5: =I5*D5 -> 0 | K5: =E5+G5+I5 -> 0 | L5: =F5+H5+J5 -> 0
A6: 1. 소방설비공사 | D6: 1 | E6: =공종별내역서!F55 -> 0 | F6: =E6*D6 -> 0 | G6: =공종별내역서!H55 -> 0 | H6: =G6*D6 -> 0 | I6: =공종별내역서!J55 -> 0 | J6: =I6*D6 -> 0 | K6: =E6+G6+I6 -> 0 | L6: =F6+H6+J6 -> 0
A7: 2. 기계소방공사 | D7: 1 | E7: =F8+F9+F10 -> 0 | F7: =E7*D7 -> 0 | G7: =H8+H9+H10 -> 0 | H7: =G7*D7 -> 0 | I7: =J8+J9+J10 -> 0 | J7: =I7*D7 -> 0 | K7: =E7+G7+I7 -> 0 | L7: =F7+H7+J7 -> 0
A8: 2-1. 장비설치공사 | D8: 1 | E8: =공종별내역서!F81 -> 0 | F8: =E8*D8 -> 0 | G8: =공종별내역서!H81 -> 0 | H8: =G8*D8 -> 0 | I8: =공종별내역서!J81 -> 0 | J8: =I8*D8 -> 0 | K8: =E8+G8+I8 -> 0 | L8: =F8+H8+J8 -> 0
A9: 2-2. 스프링클러설비공사 | D9: 1 | E9: =공종별내역서!F211 -> 0 | F9: =E9*D9 -> 0 | G9: =공종별내역서!H211 -> 0 | H9: =G9*D9 -> 0 | I9: =공종별내역서!J211 -> 0 | J9: =I9*D9 -> 0 | K9: =E9+G9+I9 -> 0 | L9: =F9+H9+J9 -> 0
A10: 2-3. 소화장비 철거공사 | D10: 1 | E10: =공종별내역서!F237 -> 0 | F10: =E10*D10 -> 0 | G10: =공종별내역서!H237 -> 0 | H10: =G10*D10 -> 0 | I10: =공종별내역서!J237 -> 0 | J10: =I10*D10 -> 0 | K10: =E10+G10+I10 -> 0 | L10: =F10+H10+J10 -> 0
A11: 3.고재비 | D11: 1 | E11: =공종별내역서!F263 -> 0 | F11: =E11*D11 -> 0 | G11: =공종별내역서!H263 -> 0 | H11: =G11*D11 -> 0 | I11: =공종별내역서!J263 -> 0 | J11: =I11*D11 -> 0 | K11: =E11+G11+I11 -> 0 | L11: =F11+H11+J11 -> 0
A29: [ 합 계 ] | F29: =F5 -> 0 | H29: =H5 -> 0 | J29: =J5 -> 0 | L29: =L5 -> 0

Sheet 공종별내역서
A1: [ 울산구치소 B동 수용거실 스프링클러 소방공사 ]
A2: 품 명 | B2: 규 격 | C2: 단위 | D2: 수량 | E2: 재 료 비 | G2: 노 무 비 | I2: 경 비 | K2: 합 계 | M2: 비 고
E3: 단 가 | F3: 금 액 | G3: 단 가 | H3: 금 액 | I3: 단 가 | J3: 금 액 | K3: 단 가 | L3: 금 액
A4: 1. 소방설비공사
A5: 강제전선관 | B5: 강제전선관, 후강전선관, 아연도, 16mm | C5: M | D5: 77 | F5: =TRUNC(E5*D5, 0) -> 0 | H5: =TRUNC(G5*D5, 0) -> 0 | J5: =TRUNC(I5*D5, 0) -> 0 | K5: =TRUNC(E5+G5+I5, 0) -> 0 | L5: =TRUNC(F5+H5+J5, 0) -> 0
A6: 강제전선관 | B6: 강제전선관, 후강전선관, 아연도, 22mm | C6: M | D6: 17 | F6: =TRUNC(E6*D6, 0) -> 0 | H6: =TRUNC(G6*D6, 0) -> 0 | J6: =TRUNC(I6*D6, 0) -> 0 | K6: =TRUNC(E6+G6+I6, 0) -> 0 | L6: =TRUNC(F6+H6+J6, 0) -> 0
A7: 강제전선관 | B7: 강제전선관, 후강전선관, 아연도, 28mm | C7: M | D7: 7 | F7: =TRUNC(E7*D7, 0) -> 0 | H7: =TRUNC(G7*D7, 0) -> 0 | J7: =TRUNC(I7*D7, 0) -> 0 | K7: =TRUNC(E7+G7+I7, 0) -> 0 | L7: =TRUNC(F7+H7+J7, 0) -> 0
A8: 강제전선관 | B8: 강제전선관, 후강전선관, 아연도, 54mm | C8: M | D8: 83 | F8: =TRUNC(E8*D8, 0) -> 0 | H8: =TRUNC(G8*D8, 0) -> 0 | J8: =TRUNC(I8*D8, 0) -> 0 | K8: =TRUNC(E8+G8+I8, 0) -> 0 | L8: =TRUNC(F8+H8+J8, 0) -> 0
A9: 1종금속제가요전선관 | B9: 1종금속제가요전선관, 비닐피복, 16mm, 방수 | C9: M | D9: 495 | F9: =TRUNC(E9*D9, 0) -> 0 | H9: =TRUNC(G9*D9, 0) -> 0 | J9: =TRUNC(I9*D9, 0) -> 0 | K9: =TRUNC(E9+G9+I9, 0) -> 0 | L9: =TRUNC(F9+H9+J9, 0) -> 0
A10: 1종금속제가요전선관 | B10: 1종금속제가요전선관, 비닐피복, 22mm, 방수 | C10: M | D10: 1 | F10: =TRUNC(E10*D10, 0) -> 0 | H10: =TRUNC(G10*D10, 0) -> 0 | J10: =TRUNC(I10*D10, 0) -> 0 | K10: =TRUNC(E10+G10+I10, 0) -> 0 | L10: =TRUNC(F10+H10+J10, 0) -> 0
A11: 1종금속제가요전선관 | B11: 1종금속제가요전선관, 박스커넥터-비닐, 16mm, 방수 | C11: 개 | D11: 334 | F11: =TRUNC(E11*D11, 0) -> 0 | H11: =TRUNC(G11*D11, 0) -> 0 | J11: =TRUNC(I11*D11, 0) -> 0 | K11: =TRUNC(E11+G11+I11, 0) -> 0 | L11: =TRUNC(F11+H11+J11, 0) -> 0
A12: 1종금속제가요전선관 | B12: 1종금속제가요전선관, 박스커넥터-비닐, 22mm, 방수 | C12: 개 | D12: 2 | F12: =TRUNC(E12*D12, 0) -> 0 | H12: =TRUNC(G12*D12, 0) -> 0 | J12: =TRUNC(I12*D12, 0) -> 0 | K12: =TRUNC(E12+G12+I12, 0) -> 0 | L12: =TRUNC(F12+H12+J12, 0) -> 0
A13: 저독성난연케이블 | B13: HFIX, 1.5㎟ | C13: M | D13: 608 | F13: =TRUNC(E13*D13, 0) -> 0 | H13: =TRUNC(G13*D13, 0) -> 0 | J13: =TRUNC(I13*D13, 0) -> 0 | K13: =TRUNC(E13+G13+I13, 0) -> 0 | L13: =TRUNC(F13+H13+J13, 0) -> 0
A14: 저독성난연케이블 | B14: HFIX, 2.5㎟ | C14: M | D14: 1215 | F14: =TRUNC(E14*D14, 0) -> 0 | H14: =TRUNC(G14*D14, 0) -> 0 | J14: =TRUNC(I14*D14, 0) -> 0 | K14: =TRUNC(E14+G14+I14, 0) -> 0 | L14: =TRUNC(F14+H14+J14, 0) -> 0
A15: 내화전선 | B15: 내화전선, 0.6/1kv, F-FR-8, 20C*2.5㎟ | C15: M | D15: 32 | F15: =TRUNC(E15*D15, 0) -> 0 | H15: =TRUNC(G15*D15, 0) -> 0 | J15: =TRUNC(I15*D15, 0) -> 0 | K15: =TRUNC(E15+G15+I15, 0) -> 0 | L15: =TRUNC(F15+H15+J15, 0) -> 0
A16: 내화전선 | B16: 내화전선, 0.6/1kv, F-FR-8, 30C*2.5㎟ | C16: M | D16: 51 | F16: =TRUNC(E16*D16, 0) -> 0 | H16: =TRUNC(G16*D16, 0) -> 0 | J16: =TRUNC(I16*D16, 0) -> 0 | K16: =TRUNC(E16+G16+I16, 0) -> 0 | L16: =TRUNC(F16+H16+J16, 0) -> 0
... A38: 강재전선관용부품 | B38: 강재전선관용부품, 파이프크램프, 54C | C38: 개 | D38: 7 | F38: =TRUNC(E38*D38, 0) -> 0 | H38: =TRUNC(G38*D38, 0) -> 0 | J38: =TRUNC(I38*D38, 0) -> 0 | K38: =TRUNC(E38+G38+I38, 0) -> 0 | L38: =TRUNC(F38+H38+J38, 0) -> 0
A55: [ 합 계 ]
A56: 2-1. 장비설치공사
A57: 다단벌류트펌프 | B57: 다단벌류트펌프, ∮150mm, 1060L/min, 60m, 37K(2S) | C57: 대 | D57: 2 | F57: =TRUNC(E57*D57, 0) -> 0 | H57: =TRUNC(G57*D57, 0) -> 0 | J57: =TRUNC(I57*D57, 0) -> 0 | K57: =TRUNC(E57+G57+I57, 0) -> 0 | L57: =TRUNC(F57+H57+J57, 0) -> 0
A58: 다단벌류트펌프 | B58: 다단벌류트펌프, 웨스코펌프, ∮40mm*60L/min*50m*3.7kw | C58: 대 | D58: 1 | F58: =TRUNC(E58*D58, 0) -> 0 | H58: =TRUNC(G58*D58, 0) -> 0 | J58: =TRUNC(I58*D58, 0) -> 0 | K58: =TRUNC(E58+G58+I58, 0) -> 0 | L58: =TRUNC(F58+H58+J58, 0) -> 0
A59: 삼상농형유도전동기 | B59: 삼상농형유도전동기, 저압3상, 고효율, 3.7kw, 4P | C59: 대 | D59: 1 | F59: =TRUNC(E59*D59, 0) -> 0 | H59: =TRUNC(G59*D59, 0) -> 0 | J59: =TRUNC(I59*D59, 0) -> 0 | K59: =TRUNC(E59+G59+I59, 0) -> 0 | L59: =TRUNC(F59+H59+J59, 0) -> 0
A60: 삼상농형유도전동기 | B60: 삼상농형유도전동기, 저압3상, 고효율, 37kw, 4P | C60: 대 | D60: 2 | F60: =TRUNC(E60*D60, 0) -> 0 | H60: =TRUNC(G60*D60, 0) -> 0 | J60: =TRUNC(I60*D60, 0) -> 0 | K60: =TRUNC(E60+G60+I60, 0) -> 0 | L60: =TRUNC(F60+H60+J60, 0) -> 0
A61: 진동방지장치 | B61: 진동방지장치, 펌프방진(편흡입), 25mm, 3.75kw이하 | C61: 조 | D61: 1 | F61: =TRUNC(E61*D61, 0) -> 0 | H61: =TRUNC(G61*D61, 0) -> 0 | J61: =TRUNC(I61*D61, 0) -> 0 | K61: =TRUNC(E61+G61+I61, 0) -> 0 | L61: =TRUNC(F61+H61+J61, 0) -> 0
A62: 진동방지장치 | B62: 진동방지장치, 펌프방진(편흡입), 25mm, 37.5kw이하 | C62: 조 | D62: 2 | F62: =TRUNC(E62*D62, 0) -> 0 | H62: =TRUNC(G62*D62, 0) -> 0 | J62: =TRUNC(I62*D62, 0) -> 0 | K62: =TRUNC(E62+G62+I62, 0) -> 0 | L62: =TRUNC(F62+H62+J62, 0) -> 0
A63: 전자식 압력스위치 | B63: 전자식 기동용 압력스위치(10k) | C63: set | D63: 1 | F63: =TRUNC(E63*D63, 0) -> 0 | H63: =TRUNC(G63*D63, 0) -> 0 | J63: =TRUNC(I63*D63, 0) -> 0 | K63: =TRUNC(E63+G63+I63, 0) -> 0 | L63: =TRUNC(F63+H63+J63, 0) -> 0
A64: 친환경 청정소화기 | B64: 친환경 청정소화기, HCFC-123, 3.0kg | C64: 개 | D64: 1 | F64: =TRUNC(E64*D64, 0) -> 0 | H64: =TRUNC(G64*D64, 0) -> 0 | J64: =TRUNC(I64*D64, 0) -> 0 | K64: =TRUNC(E64+G64+I64, 0) -> 0 | L64: =TRUNC(F64+H64+J64, 0) -> 0
A81: [ 합 계 ]
A82: 2-2. 스프링클러설비공사
A83: 배관용스테인리스강관 | B83: 배관용스테인리스강관, ∮25*2.5mm | C83: M | D83: 743 | F83: =TRUNC(E83*D83, 0) -> 0 | H83: =TRUNC(G83*D83, 0) -> 0 | J83: =TRUNC(I83*D83, 0) -> 0 | K83: =TRUNC(E83+G83+I83, 0) -> 0 | L83: =TRUNC(F83+H83+J83, 0) -> 0
A84: 배관용스테인리스강관 | B84: 배관용스테인리스강관, ∮32*2.5mm | C84: M | D84: 237 | F84: =TRUNC(E84*D84, 0) -> 0 | H84: =TRUNC(G84*D84, 0) -> 0 | J84: =TRUNC(I84*D84, 0) -> 0 | K84: =TRUNC(E84+G84+I84, 0) -> 0 | L84: =TRUNC(F84+H84+J84, 0) -> 0
A85: 배관용스테인리스강관 | B85: 배관용스테인리스강관, ∮40*2.5mm | C85: M | D85: 95 | F85: =TRUNC(E85*D85, 0) -> 0 | H85: =TRUNC(G85*D85, 0) -> 0 | J85: =TRUNC(I85*D85, 0) -> 0 | K85: =TRUNC(E85+G85+I85, 0) -> 0 | L85: =TRUNC(F85+H85+J85, 0) -> 0
A86: 배관용스테인리스강관 | B86: 배관용스테인리스강관, ∮50*2.5mm | C86: M | D86: 37 | F86: =TRUNC(E86*D86, 0) -> 0 | H86: =TRUNC(G86*D86, 0) -> 0 | J86: =TRUNC(I86*D86, 0) -> 0 | K86: =TRUNC(E86+G86+I86, 0) -> 0 | L86: =TRUNC(F86+H86+J86, 0) -> 0
A87: 배관용스테인리스강관 | B87: 배관용스테인리스강관, ∮65*2.5mm | C87: M | D87: 6 | F87: =TRUNC(E87*D87, 0) -> 0 | H87: =TRUNC(G87*D87, 0) -> 0 | J87: =TRUNC(I87*D87, 0) -> 0 | K87: =TRUNC(E87+G87+I87, 0) -> 0 | L87: =TRUNC(F87+H87+J87, 0) -> 0
A88: 배관용스테인리스강관 | B88: 배관용스테인리스강관, ∮100*2.5mm | C88: M | D88: 292 | F88: =TRUNC(E88*D88, 0) -> 0 | H88: =TRUNC(G88*D88, 0) -> 0 | J88: =TRUNC(I88*D88, 0) -> 0 | K88: =TRUNC(E88+G88+I88, 0) -> 0 | L88: =TRUNC(F88+H88+J88, 0) -> 0
A89: 배관용스테인리스강관 | B89: 배관용스테인리스강관, ∮125*2.5mm | C89: M | D89: 11 | F89: =TRUNC(E89*D89, 0) -> 0 | H89: =TRUNC(G89*D89, 0) -> 0 | J89: =TRUNC(I89*D89, 0) -> 0 | K89: =TRUNC(E89+G89+I89, 0) -> 0 | L89: =TRUNC(F89+H89+J89, 0) -> 0
A90: 배관용스테인리스강관 | B90: 배관용스테인리스강관, ∮150*2.5mm | C90: M | D90: 157 | F90: =TRUNC(E90*D90, 0) -> 0 | H90: =TRUNC(G90*D90, 0) -> 0 | J90: =TRUNC(I90*D90, 0) -> 0 | K90: =TRUNC(E90+G90+I90, 0) -> 0 | L90: =TRUNC(F90+H90+J90, 0) -> 0
A91: 일반배관용스테인리스강관관이음쇠 | B91: 일반배관용스테인리스강관관이음쇠, ∮25mm, 용접식, 엘보, #10 | C91: 개 | D91: 174 | F91: =TRUNC(E91*D91, 0) -> 0 | H91: =TRUNC(G91*D91, 0) -> 0 | J91: =TRUNC(I91*D91, 0) -> 0 | K91: =TRUNC(E91+G91+I91, 0) -> 0 | L91: =TRUNC(F91+H91+J91, 0) -> 0
A92: 일반배관용스테인리스강관관이음쇠 | B92: 일반배관용스테인리스강관관이음쇠, ∮32mm, 용접식, 엘보, #10 | C92: 개 | D92: 65 | F92: =TRUNC(E92*D92, 0) -> 0 | H92: =TRUNC(G92*D92, 0) -> 0 | J92: =TRUNC(I92*D92, 0) -> 0 | K92: =TRUNC(E92+G92+I92, 0) -> 0 | L92: =TRUNC(F92+H92+J92, 0) -> 0
A93: 일반배관용스테인리스강관관이음쇠 | B93: 일반배관용스테인리스강관관이음쇠, ∮40mm, 용접식, 엘보, #10 | C93: 개 | D93: 40 | F93: =TRUNC(E93*D93, 0) -> 0 | H93: =TRUNC(G93*D93, 0) -> 0 | J93: =TRUNC(I93*D93, 0) -> 0 | K93: =TRUNC(E93+G93+I93, 0) -> 0 | L93: =TRUNC(F93+H93+J93, 0) -> 0
A94: 일반배관용스테인리스강관관이음쇠 | B94: 일반배관용스테인리스강관관이음쇠, ∮50mm, 용접식, 엘보, #10 | C94: 개 | D94: 9 | F94: =TRUNC(E94*D94, 0) -> 0 | H94: =TRUNC(G94*D94, 0) -> 0 | J94: =TRUNC(I94*D94, 0) -> 0 | K94: =TRUNC(E94+G94+I94, 0) -> 0 | L94: =TRUNC(F94+H94+J94, 0) -> 0
... A139: 게이트밸브 | B139: 게이트밸브, ∮150mm, 게이트OS AND Y밸브, 스테인리스 | C139: 개 | D139: 5 | F139: =TRUNC(E139*D139, 0) -> 0 | H139: =TRUNC(G139*D139, 0) -> 0 | J139: =TRUNC(I139*D139, 0) -> 0 | K139: =TRUNC(E139+G139+I139, 0) -> 0 | L139: =TRUNC(F139+H139+J139, 0) -> 0
A140: 템퍼스위치 | C140: 개 | D140: 10 | F140: =TRUNC(E140*D140, 0) -> 0 | H140: =TRUNC(G140*D140, 0) -> 0 | J140: =TRUNC(I140*D140, 0) -> 0 | K140: =TRUNC(E140+G140+I140, 0) -> 0 | L140: =TRUNC(F140+H140+J140, 0) -> 0
A141: 체크밸브 | B141: 체크밸브, ∮50mm, 스모렌스키 | C141: 개 | D141: 1 | F141: =TRUNC(E141*D141, 0) -> 0 | H141: =TRUNC(G141*D141, 0) -> 0 | J141: =TRUNC(I141*D141, 0) -> 0 | K141: =TRUNC(E141+G141+I141, 0) -> 0 | L141: =TRUNC(F141+H141+J141, 0) -> 0
A142: 체크밸브 | B142: 체크밸브, ∮150mm, 스모렌스키 | C142: 개 | D142: 2 | F142: =TRUNC(E142*D142, 0) -> 0 | H142: =TRUNC(G142*D142, 0) -> 0 | J142: =TRUNC(I142*D142, 0) -> 0 | K142: =TRUNC(E142+G142+I142, 0) -> 0 | L142: =TRUNC(F142+H142+J142, 0) -> 0
A143: 볼밸브 | B143: 볼밸브, ∮15mm*0.98MPa, 수동식, STS | C143: 개 | D143: 1 | F143: =TRUNC(E143*D143, 0) -> 0 | H143: =TRUNC(G143*D143, 0) -> 0 | J143: =TRUNC(I143*D143, 0) -> 0 | K143: =TRUNC(E143+G143+I143, 0) -> 0 | L143: =TRUNC(F143+H143+J143, 0) -> 0
A144: 볼밸브 | B144: 볼밸브, ∮50mm*0.98MPa, 수동식, STS | C144: 개 | D144: 5 | F144: =TRUNC(E144*D144, 0) -> 0 | H144: =TRUNC(G144*D144, 0) -> 0 | J144: =TRUNC(I144*D144, 0) -> 0 | K144: =TRUNC(E144+G144+I144, 0) -> 0 | L144: =TRUNC(F144+H144+J144, 0) -> 0
A145: 소방용밸브 | B145: 소방용밸브, 릴리프밸브소방, D25 | C145: 개 | D145: 3 | F145: =TRUNC(E145*D145, 0) -> 0 | H145: =TRUNC(G145*D145, 0) -> 0 | J145: =TRUNC(I145*D145, 0) -> 0 | K145: =TRUNC(E145+G145+I145, 0) -> 0 | L145: =TRUNC(F145+H145+J145, 0) -> 0
A146: 스트레이너 | B146: 스트레이너, ∮50mm*0.98MPa, 플랜지식 | C146: 개 | D146: 1 | F146: =TRUNC(E146*D146, 0) -> 0 | H146: =TRUNC(G146*D146, 0) -> 0 | J146: =TRUNC(I146*D146, 0) -> 0 | K146: =TRUNC(E146+G146+I146, 0) -> 0 | L146: =TRUNC(F146+H146+J146, 0) -> 0
A147: 스트레이너 | B147: 스트레이너, ∮150mm*0.98MPa, 플랜지식 | C147: 개 | D147: 2 | F147: =TRUNC(E147*D147, 0) -> 0 | H147: =TRUNC(G147*D147, 0) -> 0 | J147: =TRUNC(I147*D147, 0) -> 0 | K147: =TRUNC(E147+G147+I147, 0) -> 0 | L147: =TRUNC(F147+H147+J147, 0) -> 0
A148: 플랙시블조인트 | B148: 플랙시블조인트, ∮50mm*0.98MPa, BL형, 플렉시블관 | C148: 개 | D148: 2 | F148: =TRUNC(E148*D148, 0) -> 0 | H148: =TRUNC(G148*D148, 0) -> 0 | J148: =TRUNC(I148*D148, 0) -> 0 | K148: =TRUNC(E148+G148+I148, 0) -> 0 | L148: =TRUNC(F148+H148+J148, 0) -> 0
A149: 플랙시블조인트 | B149: 플랙시블조인트, ∮150mm*0.98MPa, BL형, 플렉시블관 | C149: 개 | D149: 4 | F149: =TRUNC(E149*D149, 0) -> 0 | H149: =TRUNC(G149*D149, 0) -> 0 | J149: =TRUNC(I149*D149, 0) -> 0 | K149: =TRUNC(E149+G149+I149, 0) -> 0 | L149: =TRUNC(F149+H149+J149, 0) -> 0
A150: 압력계설치(STS) | C150: 조 | D150: 3 | F150: =TRUNC(E150*D150, 0) -> 0 | H150: =TRUNC(G150*D150, 0) -> 0 | J150: =TRUNC(I150*D150, 0) -> 0 | K150: =TRUNC(E150+G150+I150, 0) -> 0 | L150: =TRUNC(F150+H150+J150, 0) -> 0
A151: 소방유량계 | B151: 소방유량계, 순간유량계(후로셀), D65 | C151: 개 | D151: 2 | F151: =TRUNC(E151*D151, 0) -> 0 | H151: =TRUNC(G151*D151, 0) -> 0 | J151: =TRUNC(I151*D151, 0) -> 0 | K151: =TRUNC(E151+G151+I151, 0) -> 0 | L151: =TRUNC(F151+H151+J151, 0) -> 0
A152: 소방용밸브 | B152: 소방용밸브, 알람밸브, D100 | C152: 개 | D152: 1 | F152: =TRUNC(E152*D152, 0) -> 0 | H152: =TRUNC(G152*D152, 0) -> 0 | J152: =TRUNC(I152*D152, 0) -> 0 | K152: =TRUNC(E152+G152+I152, 0) -> 0 | L152: =TRUNC(F152+H152+J152, 0) -> 0
A153: 소방용밸브 | B153: 소방용밸브, 알람밸브, D125 | C153: 개 | D153: 3 | F153: =TRUNC(E153*D153, 0) -> 0 | H153: =TRUNC(G153*D153, 0) -> 0 | J153: =TRUNC(I153*D153, 0) -> 0 | K153: =TRUNC(E153+G153+I153, 0) -> 0 | L153: =TRUNC(F153+H153+J153, 0) -> 0
A154: 소방용밸브 | B154: 소방용밸브, 알람밸브, D150 | C154: 개 | D154: 1 | F154: =TRUNC(E154*D154, 0) -> 0 | H154: =TRUNC(G154*D154, 0) -> 0 | J154: =TRUNC(I154*D154, 0) -> 0 | K154: =TRUNC(E154+G154+I154, 0) -> 0 | L154: =TRUNC(F154+H154+J154, 0) -> 0
A155: 사이트글라스 | B155: 사이트글라스, D25 | C155: EA | D155: 5 | F155: =TRUNC(E155*D155, 0) -> 0 | H155: =TRUNC(G155*D155, 0) -> 0 | J155: =TRUNC(I155*D155, 0) -> 0 | K155: =TRUNC(E155+G155+I155, 0) -> 0 | L155: =TRUNC(F155+H155+J155, 0) -> 0
A156: 소방용밸브 | B156: 소방용밸브, 앵글밸브, D40 | C156: 개 | D156: 6 | F156: =TRUNC(E156*D156, 0) -> 0 | H156: =TRUNC(G156*D156, 0) -> 0 | J156: =TRUNC(I156*D156, 0) -> 0 | K156: =TRUNC(E156+G156+I156, 0) -> 0 | L156: =TRUNC(F156+H156+J156, 0) -> 0
A157: 수격방지기 | B157: 수격방지기, W.H.C, ∮50mm | C157: 개 | D157: 1 | F157: =TRUNC(E157*D157, 0) -> 0 | H157: =TRUNC(G157*D157, 0) -> 0 | J157: =TRUNC(I157*D157, 0) -> 0 | K157: =TRUNC(E157+G157+I157, 0) -> 0 | L157: =TRUNC(F157+H157+J157, 0) -> 0
A158: 수격방지기 | B158: 수격방지기, W.H.C, ∮100mm | C158: 개 | D158: 6 | F158: =TRUNC(E158*D158, 0) -> 0 | H158: =TRUNC(G158*D158, 0) -> 0 | J158: =TRUNC(I158*D158, 0) -> 0 | K158: =TRUNC(E158+G158+I158, 0) -> 0 | L158: =TRUNC(F158+H158+J158, 0) -> 0
A159: 수격방지기 | B159: 수격방지기, W.H.C, ∮125mm | C159: 개 | D159: 3 | F159: =TRUNC(E159*D159, 0) -> 0 | H159: =TRUNC(G159*D159, 0) -> 0 | J159: =TRUNC(I159*D159, 0) -> 0 | K159: =TRUNC(E159+G159+I159, 0) -> 0 | L159: =TRUNC(F159+H159+J159, 0) -> 0
A160: 수격방지기 | B160: 수격방지기, W.H.C, ∮150mm | C160: 개 | D160: 5 | F160: =TRUNC(E160*D160, 0) -> 0 | H160: =TRUNC(G160*D160, 0) -> 0 | J160: =TRUNC(I160*D160, 0) -> 0 | K160: =TRUNC(E160+G160+I160, 0) -> 0 | L160: =TRUNC(F160+H160+J160, 0) -> 0
A161: 소방용헤드 | B161: 소방용헤드, 스프링클러헤드, 폐쇄상향72°C | C161: 개 | D161: 37 | F161: =TRUNC(E161*D161, 0) -> 0 | H161: =TRUNC(G161*D161, 0) -> 0 | J161: =TRUNC(I161*D161, 0) -> 0 | K161: =TRUNC(E161+G161+I161, 0) -> 0 | L161: =TRUNC(F161+H161+J161, 0) -> 0
A162: 소방용헤드 | B162: 소방용헤드, 스프링클러헤드, 플러쉬형72°C | C162: 개 | D162: 397 | F162: =TRUNC(E162*D162, 0) -> 0 | H162: =TRUNC(G162*D162, 0) -> 0 | J162: =TRUNC(I162*D162, 0) -> 0 | K162: =TRUNC(E162+G162+I162, 0) -> 0 | L162: =TRUNC(F162+H162+J162, 0) -> 0
... A181: 관지지대설치(절연) | B181: D150 | C181: 개소 | D181: 8 | F181: =TRUNC(E181*D181, 0) -> 0 | H181: =TRUNC(G181*D181, 0) -> 0 | J181: =TRUNC(I181*D181, 0) -> 0 | K181: =TRUNC(E181+G181+I181, 0) -> 0 | L181: =TRUNC(F181+H181+J181, 0) -> 0
A182: 입상가대설치(소화) | C182: 개소 | D182: 5 | F182: =TRUNC(E182*D182, 0) -> 0 | H182: =TRUNC(G182*D182, 0) -> 0 | J182: =TRUNC(I182*D182, 0) -> 0 | K182: =TRUNC(E182+G182+I182, 0) -> 0 | L182: =TRUNC(F182+H182+J182, 0) -> 0
A183: 구멍뚫기(코어드릴) | B183: D25, 콘크리트 150mm, 벽 | C183: 개소 | D183: 65 | F183: =TRUNC(E183*D183, 0) -> 0 | H183: =TRUNC(G183*D183, 0) -> 0 | J183: =TRUNC(I183*D183, 0) -> 0 | K183: =TRUNC(E183+G183+I183, 0) -> 0 | L183: =TRUNC(F183+H183+J183, 0) -> 0
A184: 구멍뚫기(코어드릴) | B184: D50, 콘크리트 150mm, 벽 | C184: 개소 | D184: 70 | F184: =TRUNC(E184*D184, 0) -> 0 | H184: =TRUNC(G184*D184, 0) -> 0 | J184: =TRUNC(I184*D184, 0) -> 0 | K184: =TRUNC(E184+G184+I184, 0) -> 0 | L184: =TRUNC(F184+H184+J184, 0) -> 0
A185: 구멍뚫기(코어드릴) | B185: D100, 콘크리트 150mm, 벽 | C185: 개소 | D185: 12 | F185: =TRUNC(E185*D185, 0) -> 0 | H185: =TRUNC(G185*D185, 0) -> 0 | J185: =TRUNC(I185*D185, 0) -> 0 | K185: =TRUNC(E185+G185+I185, 0) -> 0 | L185: =TRUNC(F185+H185+J185, 0) -> 0
A186: 구멍뚫기(코어드릴) | B186: D150, 콘크리트 150mm, 벽 | C186: 개소 | D186: 10 | F186: =TRUNC(E186*D186, 0) -> 0 | H186: =TRUNC(G186*D186, 0) -> 0 | J186: =TRUNC(I186*D186, 0) -> 0 | K186: =TRUNC(E186+G186+I186, 0) -> 0 | L186: =TRUNC(F186+H186+J186, 0) -> 0
A187: 내화충진재(방화실란트,입상배관 상,하부) | C187: 개소 | D187: 5 | F187: =TRUNC(E187*D187, 0) -> 0 | H187: =TRUNC(G187*D187, 0) -> 0 | J187: =TRUNC(I187*D187, 0) -> 0 | K187: =TRUNC(E187+G187+I187, 0) -> 0 | L187: =TRUNC(F187+H187+J187, 0) -> 0
A188: 강관절단(sch 20~40) | B188: D100 | C188: 개소 | D188: 4 | F188: =TRUNC(E188*D188, 0) -> 0 | H188: =TRUNC(G188*D188, 0) -> 0 | J188: =TRUNC(I188*D188, 0) -> 0 | K188: =TRUNC(E188+G188+I188, 0) -> 0 | L188: =TRUNC(F188+H188+J188, 0) -> 0
A189: 표지판 | C189: 개 | D189: 7 | F189: =TRUNC(E189*D189, 0) -> 0 | H189: =TRUNC(G189*D189, 0) -> 0 | J189: =TRUNC(I189*D189, 0) -> 0 | K189: =TRUNC(E189+G189+I189, 0) -> 0 | L189: =TRUNC(F189+H189+J189, 0) -> 0
A211: [ 합 계 ]
A212: 2-3. 소화장비 철거공사
A213: 소화장비철거공사 | C213: 식 | D213: 1 | F213: =TRUNC(E213*D213, 0) -> 0 | H213: =TRUNC(G213*D213, 0) -> 0 | J213: =TRUNC(I213*D213, 0) -> 0 | K213: =TRUNC(E213+G213+I213, 0) -> 0 | L213: =TRUNC(F213+H213+J213, 0) -> 0
A214: 보온재 철거공사 | C214: 식 | D214: 1 | F214: =TRUNC(E214*D214, 0) -> 0 | H214: =TRUNC(G214*D214, 0) -> 0 | J214: =TRUNC(I214*D214, 0) -> 0 | K214: =TRUNC(E214+G214+I214, 0) -> 0 | L214: =TRUNC(F214+H214+J214, 0) -> 0
A215: 소화배관철거공사 | C215: 식 | D215: 1 | F215: =TRUNC(E215*D215, 0) -> 0 | H215: =TRUNC(G215*D215, 0) -> 0 | J215: =TRUNC(I215*D215, 0) -> 0 | K215: =TRUNC(E215+G215+I215, 0) -> 0 | L215: =TRUNC(F215+H215+J215, 0) -> 0
A237: [ 합 계 ]
A238: 3.고재비
A239: 고스텐 | C239: Kg | D239: 468 | F239: =TRUNC(E239*D239, 0) -> 0 | H239: =TRUNC(G239*D239, 0) -> 0 | J239: =TRUNC(I239*D239, 0) -> 0 | K239: =TRUNC(E239+G239+I239, 0) -> 0 | L239: =TRUNC(F239+H239+J239, 0) -> 0
A240: 고철 | C240: Kg | D240: 264.6 | F240: =TRUNC(E240*D240, 0) -> 0 | H240: =TRUNC(G240*D240, 0) -> 0 | J240: =TRUNC(I240*D240, 0) -> 0 | K240: =TRUNC(E240+G240+I240, 0) -> 0 | L240: =TRUNC(F240+H240+J240, 0) -> 0
A263: [ 합 계 ]
