Workbook

Sheet 원가계산서
B1: 공 사 원 가 계 산 서
B2: 공사명 : 울산구치소 B동 수용거실 스프링클러 소방공사 | F2: 금액 :
B3: 비 목 | E3: 금 액 | F3: 구 성 비 | G3: 비 고
A4: A1 | B4: 순 공 사 원 가 | C4: 재 료 비 | D4: 직 접 재 료 비 | E4: =TRUNC(공종별집계표!F5, 0) -> 0
A5: A2 | D5: 간 접 재 료 비 | E5: 0
A6: A3 | D6: 작 업 부 산 물
A7: AS | D7: [ 소 계 ] | E7: =TRUNC(E4+E5-E6, 0) -> 0
A8: B1 | C8: 노 무 비 | D8: 직 접 노 무 비 | E8: =TRUNC(공종별집계표!H5, 0) -> 0
A9: B2 | D9: 간 접 노 무 비 | E9: =TRUNC(E8*0.179, 0) -> 0 | F9: 직접노무비 * 17.9%
A10: BS | D10: [ 소 계 ] | E10: =TRUNC(E8+E9, 0) -> 0
A11: C2 | C11: 경 비 | D11: 기 계 경 비 | E11: =TRUNC(공종별집계표!J5, 0) -> 0
A12: C4 | D12: 산 재 보 험 료 | F12: 노무비 * 3.56%
A13: C5 | D13: 고 용 보 험 료 | F13: 노무비 * 1.01%
A14: C6 | D14: 국민 건강 보험료 | F14: 직접노무비 * 3.595%
A15: C7 | D15: 국민 연금 보험료 | F15: 직접노무비 * 4.75%
A16: CB | D16: 노인장기요양보험료 | F16: 건강보험료 * 13.14%
A17: C8 | D17: 퇴직 공제 부금비 | F17: 직접노무비 * 2.3%
A18: CA | D18: 산업안전보건관리비 | F18: (재료비+직노) * 2.28% + 4,325,000
A19: CE | D19: 임금채권부담금 | F19: 노무비 * 0.09%
A20: CF | D20: 석면분담금 | F20: 노무비 * 0.006%
A21: CG | D21: 기 타 경 비 | E21: =TRUNC((E7+E10)*0.052, 0) -> 0 | F21: (재료비+노무비) * 5.2%
A22: CS | D22: [ 소 계 ]
A23: S1 | B23: 계 | E23: =TRUNC(E7+E10+E22, 0) -> 0
A24: D1 | B24: 일 반 관 리 비 | E24: =TRUNC(E23*0.08, 0) -> 0 | F24: 계 * 8%
A25: D2 | B25: 이 윤 | E25: =TRUNC((E10+E22+E24)*0.15, 0) -> 0 | F25: (노무비+경비+일반관리비) * 15%
A26: D7 | B26: 소방공사 배상책임공제 | E26: =TRUNC((E23+E24+E25)*0.00364, 0) -> 0 | F26: (계+일반관리비+이윤) * 0.364%
A27: D9 | B27: 공 급 가 액 | E27: =TRUNC(E23+E24+E25+E26, 0) -> 0
A28: DB | B28: 부 가 가 치 세 | E28: =TRUNC(E27*0.1, 0) -> 0 | F28: 공급가액 * 10%
A29: DH | B29: 도 급 액 | E29: =TRUNC(E27+E28, 0) -> 0
A30: S2 | B30: 총 공 사 비 | E30: =TRUNC(E29+0, 0) -> 0

Sheet 공종별집계표
A1: 공 종 별 집 계 표
A2: [ 울산구치소 B동 수용거실 스프링클러 소방공사 ]
A3: 품 명 | B3: 규 격 | C3: 단위 | D3: 수량 | E3: 재 료 비 | G3: 노 무 비 | I3: 경 비 | K3: 합 계 | M3: 비 고
E4: 단 가 | F4: 금 액 | G4: 단 가 | H4: 금 액 | I4: 단 가 | J4: 금 액 | K4: 단 가 | L4: 금 액
A5: 울산구치소 수용동 스프링클러 설치 소방공사 | D5: 1 | E5: =F6+F7 -> 0 | F5: =E5*D5 -> 0 | G5: =H6+H7 -> 0 | H5: =G5*D5 -> 0 | I5: =J6+J7 -> 0 | J5: =I5*D5 -> 0 | K5: =E5+G5+I5 -> 0 | L5: =F5+H5+J5 -> 0
A6: 1. 소방설비공사 | D6: 1 | E6: =공종별내역서!F55 -> 0 | F6: =E6*D6 -> 0 | G6: =공종별내역서!H55 -> 0 | H6: =G6*D6 -> 0 | I6: =공종별내역서!J55 -> 0 | J6: =I6*D6 -> 0 | K6: =E6+G6+I6 -> 0 | L6: =F6+H6+J6 -> 0
A7: 2. 기계소방공사 | D7: 1 | E7: =F8+F9+F10 -> 0 | F7: =E7*D7 -> 0 | G7: =H8+H9+H10 -> 0 | H7: =G7*D7 -> 0 | I7: =J8+J9+J10 -> 0 | J7: =I7*D7 -> 0 | K7: =E7+G7+I7 -> 0 | L7: =F7+H7+J7 -> 0
A8: 2-1. 장비설치공사 | D8: 1 | E8: =공종별내역서!F81 -> 0 | F8: =E8*D8 -> 0 | G8: =공종별내역서!H81 -> 0 | H8: =G8*D8 -> 0 | I8: =공종별내역서!J81 -> 0 | J8: =I8*D8 -> 0 | K8: =E8+G8+I8 -> 0 | L8: =F8+H8+J8 -> 0
A9: 2-2. 스프링클러설비공사 | D9: 1 | E9: =공종별내역서!F211 -> 0 | F9: =E9*D9 -> 0 | G9: =공종별내역서!H211 -> 0 | H9: =G9*D9 -> 0 | I9: =공종별내역서!J211 -> 0 | J9: =I9*D9 -> 0 | K9: =E9+G9+I9 -> 0 | L9: =F9+H9+J9 -> 0
A10: 2-3. 소화장비 철거공사 | D10: 1 | E10: =공종별내역서!F237 -> 0 | F10: =E10*D10 -> 0 | G10: =공종별내역서!H237 -> 0 | H10: =G10*D10 -> 0 | I10: =공종별내역서!J237 -> 0 | J10: =I10*D10 -> 0 | K10: =E10+G10+I10 -> 0 | L10: =F10+H10+J10 -> 0
A11: 3.고재비 | D11: 1 | E11: =공종별내역서!F263 -> 0 | F11: =E11*D11 -> 0 | G11: =공종별내역서!H263 -> 0 | H11: =G11*D11 -> 0 | I11: =공종별내역서!J263 -> 0 | J11: =I11*D11 -> 0 | K11: =E11+G11+I11 -> 0 | L11: =F11+H11+J11 -> 0
A29: [ 합 계 ] | F29: =F5 -> 0 | H29: =H5 -> 0 | J29: =J5 -> 0 | L29: =L5 -> 0

Sheet 공종별내역서
A1: [ 울산구치소 B동 수용거실 스프링클러 소방공사 ]
A2: 품 명 | B2: 규 격 | C2: 단위 | D2: 수량 | E2: 재 료 비 | G2: 노 무 비 | I2: 경 비 | K2: 합 계 | M2: 비 고
E3: 단 가 | F3: 금 액 | G3: 단 가 | H3: 금 액 | I3: 단 가 | J3: 금 액 | K3: 단 가 | L3: 금 액
A4: 1. 소방설비공사
A5: 강제전선관 | B5: 강제전선관, 후강전선관, 아연도, 16mm | C5: M | D5: 77 | F5: =TRUNC(E5*D5, 0) -> 0 | H5: =TRUNC(G5*D5, 0) -> 0 | J5: =TRUNC(I5*D5, 0) -> 0 | K5: =TRUNC(E5+G5+I5, 0) -> 0 | L5: =TRUNC(F5+H5+J5, 0) -> 0
A6: 강제전선관 | B6: 강제전선관, 후강전선관, 아연도, 22mm | C6: M | D6: 17 | F6: =TRUNC(E6*D6, 0) -> 0 | H6: =TRUNC(G6*D6, 0) -> 0 | J6: =TRUNC(I6*D6, 0) -> 0 | K6: =TRUNC(E6+G6+I6, 0) -> 0 | L6: =TRUNC(F6+H6+J6, 0) -> 0
A7: 강제전선관 | B7: 강제전선관, 후강전선관, 아연도, 28mm | C7: M | D7: 7 | F7: =TRUNC(E7*D7, 0) -> 0 | H7: =TRUNC(G7*D7, 0) -> 0 | J7: =TRUNC(I7*D7, 0) -> 0 | K7: =TRUNC(E7+G7+I7, 0) -> 0 | L7: =TRUNC(F7+H7+J7, 0) -> 0
A8: 강제전선관 | B8: 강제전선관, 후강전선관, 아연도, 54mm | C8: M | D8: 83 | F8: =TRUNC(E8*D8, 0) -> 0 | H8: =TRUNC(G8*D8, 0) -> 0 | J8: =TRUNC(I8*D8, 0) -> 0 | K8: =TRUNC(E8+G8+I8, 0) -> 0 | L8: =TRUNC(F8+H8+J8, 0) -> 0
A9: 1종금속제가요전선관 | B9: 1종금속제가요전선관, 비닐피복, 16mm, 방수 | C9: M | D9: 495 | F9: =TRUNC(E9*D9, 0) -> 0 | H9: =TRUNC(G9*D9, 0) -> 0 | J9: =TRUNC(I9*D9, 0) -> 0 | K9: =TRUNC(E9+G9+I9, 0) -> 0 | L9: =TRUNC(F9+H9+J9, 0) -> 0
A10: 1종금속제가요전선관 | B10: 1종금속제가요전선관, 비닐피복, 22mm, 방수 | C10: M | D10: 1 | F10: =TRUNC(E10*D10, 0) -> 0 | H10: =TRUNC(G10*D10, 0) -> 0 | J10: =TRUNC(I10*D10, 0) -> 0 | K10: =TRUNC(E10+G10+I10, 0) -> 0 | L10: =TRUNC(F10+H10+J10, 0) -> 0
A11: 1종금속제가요전선관 | B11: 1종금속제가요전선관, 박스커넥터-비닐, 16mm, 방수 | C11: 개 | D11: 334 | F11: =TRUNC(E11*D11, 0) -> 0 | H11: =TRUNC(G11*D11, 0) -> 0 | J11: =TRUNC(I11*D11, 0) -> 0 | K11: =TRUNC(E11+G11+I11, 0) -> 0 | L11: =TRUNC(F11+H11+J11, 0) -> 0
A12: 1종금속제가요전선관 | B12: 1종금속제가요전선관, 박스커넥터-비닐, 22mm, 방수 | C12: 개 | D12: 2 | F12: =TRUNC(E12*D12, 0) -> 0 | H12: =TRUNC(G12*D12, 0) -> 0 | J12: =TRUNC(I12*D12, 0) -> 0 | K12: =TRUNC(E12+G12+I12, 0) -> 0 | L12: =TRUNC(F12+H12+J12, 0) -> 0
A13: 저독성난연케이블 | B13: HFIX, 1.5㎟ | C13: M | D13: 608 | F13: =TRUNC(E13*D13, 0) -> 0 | H13: =TRUNC(G13*D13, 0) -> 0 | J13: =TRUNC(I13*D13, 0) -> 0 | K13: =TRUNC(E13+G13+I13, 0) -> 0 | L13: =TRUNC(F13+H13+J13, 0) -> 0
A14: 저독성난연케이블 | B14: HFIX, 2.5㎟ | C14: M | D14: 1215 | F14: =TRUNC(E14*D14, 0) -> 0 | H14: =TRUNC(G14*D14, 0) -> 0 | J14: =TRUNC(I14*D14, 0) -> 0 | K14: =TRUNC(E14+G14+I14, 0) -> 0 | L14: =TRUNC(F14+H14+J14, 0) -> 0
A15: 내화전선 | B15: 내화전선, 0.6/1kv, F-FR-8, 20C*2.5㎟ | C15: M | D15: 32 | F15: =TRUNC(E15*D15, 0) -> 0 | H15: =TRUNC(G15*D15, 0) -> 0 | J15: =TRUNC(I15*D15, 0) -> 0 | K15: =TRUNC(E15+G15+I15, 0) -> 0 | L15: =TRUNC(F15+H15+J15, 0) -> 0
A16: 내화전선 | B16: 내화전선, 0.6/1kv, F-FR-8, 30C*2.5㎟ | C16: M | D16: 51 | F16: =TRUNC(E16*D16, 0) -> 0 | H16: =TRUNC(G16*D16, 0) -> 0 | J16: =TRUNC(I16*D16, 0) -> 0 | K16: =TRUNC(E16+G16+I16, 0) -> 0 | L16: =TRUNC(F16+H16+J16, 0) -> 0
... A38: 강재전선관용부품 | B38: 강재전선관용부품, 파이프크램프, 54C | C38: 개 | D38: 7 | F38: =TRUNC(E38*D38, 0) -> 0 | H38: =TRUNC(G38*D38, 0) -> 0 | J38: =TRUNC(I38*D38, 0) -> 0 | K38: =TRUNC(E38+G38+I38, 0) -> 0 | L38: =TRUNC(F38+H38+J38, 0) -> 0
A55: [ 합 계 ]
A56: 2-1. 장비설치공사
A57: 다단벌류트펌프 | B57: 다단벌류트펌프, ∮150mm, 1060L/min, 60m, 37K(2S) | C57: 대 | D57: 2 | F57: =TRUNC(E57*D57, 0) -> 0 | H57: =TRUNC(G57*D57, 0) -> 0 | J57: =TRUNC(I57*D57, 0) -> 0 | K57: =TRUNC(E57+G57+I57, 0) -> 0 | L57: =TRUNC(F57+H57+J57, 0) -> 0
A58: 다단벌류트펌프 | B58: 다단벌류트펌프, 웨스코펌프, ∮40mm*60L/min*50m*3.7kw | C58: 대 | D58: 1 | F58: =TRUNC(E58*D58, 0) -> 0 | H58: =TRUNC(G58*D58, 0) -> 0 | J58: =TRUNC(I58*D58, 0) -> 0 | K58: =TRUNC(E58+G58+I58, 0) -> 0 | L58: =TRUNC(F58+H58+J58, 0) -> 0
A59: 삼상농형유도전동기 | B59: 삼상농형유도전동기, 저압3상, 고효율, 3.7kw, 4P | C59: 대 | D59: 1 | F59: =TRUNC(E59*D59, 0) -> 0 | H59: =TRUNC(G59*D59, 0) -> 0 | J59: =TRUNC(I59*D59, 0) -> 0 | K59: =TRUNC(E59+G59+I59, 0) -> 0 | L59: =TRUNC(F59+H59+J59, 0) -> 0
A60: 삼상농형유도전동기 | B60: 삼상농형유도전동기, 저압3상, 고효율, 37kw, 4P | C60: 대 | D60: 2 | F60: =TRUNC(E60*D60, 0) -> 0 | H60: =TRUNC(G60*D60, 0) -> 0 | J60: =TRUNC(I60*D60, 0) -> 0 | K60: =TRUNC(E60+G60+I60, 0) -> 0 | L60: =TRUNC(F60+H60+J60, 0) -> 0
A61: 진동방지장치 | B61: 진동방지장치, 펌프방진(편흡입), 25mm, 3.75kw이하 | C61: 조 | D61: 1 | F61: =TRUNC(E61*D61, 0) -> 0 | H61: =TRUNC(G61*D61, 0) -> 0 | J61: =TRUNC(I61*D61, 0) -> 0 | K61: =TRUNC(E61+G61+I61, 0) -> 0 | L61: =TRUNC(F61+H61+J61, 0) -> 0
A62: 진동방지장치 | B62: 진동방지장치, 펌프방진(편흡입), 25mm, 37.5kw이하 | C62: 조 | D62: 2 | F62: =TRUNC(E62*D62, 0) -> 0 | H62: =TRUNC(G62*D62, 0) -> 0 | J62: =TRUNC(I62*D62, 0) -> 0 | K62: =TRUNC(E62+G62+I62, 0) -> 0 | L62: =TRUNC(F62+H62+J62, 0) -> 0
A63: 전자식 압력스위치 | B63: 전자식 기동용 압력스위치(10k) | C63: set | D63: 1 | F63: =TRUNC(E63*D63, 0) -> 0 | H63: =TRUNC(G63*D63, 0) -> 0 | J63: =TRUNC(I63*D63, 0) -> 0 | K63: =TRUNC(E63+G63+I63, 0) -> 0 | L63: =TRUNC(F63+H63+J63, 0) -> 0
A64: 친환경 청정소화기 | B64: 친환경 청정소화기, HCFC-123, 3.0kg | C64: 개 | D64: 1 | F64: =TRUNC(E64*D64, 0) -> 0 | H64: =TRUNC(G64*D64, 0) -> 0 | J64: =TRUNC(I64*D64, 0) -> 0 | K64: =TRUNC(E64+G64+I64, 0) -> 0 | L64: =TRUNC(F64+H64+J64, 0) -> 0
A81: [ 합 계 ]
A82: 2-2. 스프링클러설비공사
A83: 배관용스테인리스강관 | B83: 배관용스테인리스강관, ∮25*2.5mm | C83: M | D83: 743 | F83: =TRUNC(E83*D83, 0) -> 0 | H83: =TRUNC(G83*D83, 0) -> 0 | J83: =TRUNC(I83*D83, 0) -> 0 | K83: =TRUNC(E83+G83+I83, 0) -> 0 | L83: =TRUNC(F83+H83+J83, 0) -> 0
A84: 배관용스테인리스강관 | B84: 배관용스테인리스강관, ∮32*2.5mm | C84: M | D84: 237 | F84: =TRUNC(E84*D84, 0) -> 0 | H84: =TRUNC(G84*D84, 0) -> 0 | J84: =TRUNC(I84*D84, 0) -> 0 | K84: =TRUNC(E84+G84+I84, 0) -> 0 | L84: =TRUNC(F84+H84+J84, 0) -> 0
A85: 배관용스테인리스강관 | B85: 배관용스테인리스강관, ∮40*2.5mm | C85: M | D85: 95 | F85: =TRUNC(E85*D85, 0) -> 0 | H85: =TRUNC(G85*D85, 0) -> 0 | J85: =TRUNC(I85*D85, 0) -> 0 | K85: =TRUNC(E85+G85+I85, 0) -> 0 | L85: =TRUNC(F85+H85+J85, 0) -> 0
A86: 배관용스테인리스강관 | B86: 배관용스테인리스강관, ∮50*2.5mm | C86: M | D86: 37 | F86: =TRUNC(E86*D86, 0) -> 0 | H86: =TRUNC(G86*D86, 0) -> 0 | J86: =TRUNC(I86*D86, 0) -> 0 | K86: =TRUNC(E86+G86+I86, 0) -> 0 | L86: =TRUNC(F86+H86+J86, 0) -> 0
A87: 배관용스테인리스강관 | B87: 배관용스테인리스강관, ∮65*2.5mm | C87: M | D87: 6 | F87: =TRUNC(E87*D87, 0) -> 0 | H87: =TRUNC(G87*D87, 0) -> 0 | J87: =TRUNC(I87*D87, 0) -> 0 | K87: =TRUNC(E87+G87+I87, 0) -> 0 | L87: =TRUNC(F87+H87+J87, 0) -> 0
A88: 배관용스테인리스강관 | B88: 배관용스테인리스강관, ∮100*2.5mm | C88: M | D88: 292 | F88: =TRUNC(E88*D88, 0) -> 0 | H88: =TRUNC(G88*D88, 0) -> 0 | J88: =TRUNC(I88*D88, 0) -> 0 | K88: =TRUNC(E88+G88+I88, 0) -> 0 | L88: =TRUNC(F88+H88+J88, 0) -> 0
A89: 배관용스테인리스강관 | B89: 배관용스테인리스강관, ∮125*2.5mm | C89: M | D89: 11 | F89: =TRUNC(E89*D89, 0) -> 0 | H89: =TRUNC(G89*D89, 0) -> 0 | J89: =TRUNC(I89*D89, 0) -> 0 | K89: =TRUNC(E89+G89+I89, 0) -> 0 | L89: =TRUNC(F89+H89+J89, 0) -> 0
A90: 배관용스테인리스강관 | B90: 배관용스테인리스강관, ∮150*2.5mm | C90: M | D90: 157 | F90: =TRUNC(E90*D90, 0) -> 0 | H90: =TRUNC(G90*D90, 0) -> 0 | J90: =TRUNC(I90*D90, 0) -> 0 | K90: =TRUNC(E90+G90+I90, 0) -> 0 | L90: =TRUNC(F90+H90+J90, 0) -> 0
A91: 일반배관용스테인리스강관관이음쇠 | B91: 일반배관용스테인리스강관관이음쇠, ∮25mm, 용접식, 엘보, #10 | C91: 개 | D91: 174 | F91: =TRUNC(E91*D91, 0) -> 0 | H91: =TRUNC(G91*D91, 0) -> 0 | J91: =TRUNC(I91*D91, 0) -> 0 | K91: =TRUNC(E91+G91+I91, 0) -> 0 | L91: =TRUNC(F91+H91+J91, 0) -> 0
A92: 일반배관용스테인리스강관관이음쇠 | B92: 일반배관용스테인리스강관관이음쇠, ∮32mm, 용접식, 엘보, #10 | C92: 개 | D92: 65 | F92: =TRUNC(E92*D92, 0) -> 0 | H92: =TRUNC(G92*D92, 0) -> 0 | J92: =TRUNC(I92*D92, 0) -> 0 | K92: =TRUNC(E92+G92+I92, 0) -> 0 | L92: =TRUNC(F92+H92+J92, 0) -> 0
A93: 일반배관용스테인리스강관관이음쇠 | B93: 일반배관용스테인리스강관관이음쇠, ∮40mm, 용접식, 엘보, #10 | C93: 개 | D93: 40 | F93: =TRUNC(E93*D93, 0) -> 0 | H93: =TRUNC(G93*D93, 0) -> 0 | J93: =TRUNC(I93*D93, 0) -> 0 | K93: =TRUNC(E93+G93+I93, 0) -> 0 | L93: =TRUNC(F93+H93+J93, 0) -> 0
...
