Workbook

Sheet 〓 목 차 〓
D1: =IF('〓 INITIAL 〓'!C4,"※※ 기본정보의 일부가 삭제되어 Stmate로 변환할 수 없습니다 ※※","")
B2: 목 차 | D2: ※ 본 엑셀자료는 【STmate w26.05】버전 이상에서 STmate 자료로 다시 등록할 수 있습니다.
D3: 단, 임의로 수정한 내용(Sheet삭제, 산근내용변경, 기타계산식변경..)은 반영되지 않을 수 있습니다.
B4: 1. ※※안내※※ | D4: =HYPERLINK("#'※※안내※※'!A1","※※안내※※ →") -> ※※안내※※ →
B5: 2. 공사원가계산서 | D5: =HYPERLINK("#"&공사원가계산서!G2&"!A1","공사원가계산서 →") -> 공사원가계산서 →
B6: 3. 총괄내역서 | D6: =HYPERLINK("#"&총괄내역서!H2&"!A1","총괄내역서 →") -> 총괄내역서 →
B7: 4. 설계내역서 | D7: =HYPERLINK("#"&설계내역서!O2&"!A1","설계내역서 →") -> 설계내역서 →
B8: 5. 일위대가목록표 | D8: =HYPERLINK("#"&일위대가목록표!J2&"!A1","일위대가목록표 →") -> 일위대가목록표 →
B9: 6. 일위대가표 | D9: =HYPERLINK("#"&일위대가표!N2&"!A1","일위대가표 →") -> 일위대가표 →
B10: 7. 단가산출근거목록표 | D10: =HYPERLINK("#"&단가산출근거목록표!J2&"!A1","단가산출근거목록표 →") -> 단가산출근거목록표 →
B11: 8. 단가산출근거 | D11: =HYPERLINK("#"&단가산출근거!G2&"!A1","단가산출근거 →") -> 단가산출근거 →
B12: 9. 환율및기초자료 | D12: =HYPERLINK("#"&환율및기초자료!I2&"!A1","환율및기초자료 →") -> 환율및기초자료 →
B13: 10. 중기목록표 | D13: =HYPERLINK("#"&중기목록표!J2&"!A1","중기목록표 →") -> 중기목록표 →
B14: 11. 중기사용료 | D14: =HYPERLINK("#"&중기사용료!N2&"!A1","중기사용료 →") -> 중기사용료 →
B15: 12. 재료비목록표 | D15: =HYPERLINK("#"&재료비목록표!G2&"!A1","재료비목록표 →") -> 재료비목록표 →
B16: 13. 노무비목록표 | D16: =HYPERLINK("#"&노무비목록표!G2&"!A1","노무비목록표 →") -> 노무비목록표 →
B17: 14. 경비목록표 | D17: =HYPERLINK("#"&경비목록표!G2&"!A1","경비목록표 →") -> 경비목록표 →
B18: 15. 일식견적목록표 | D18: =HYPERLINK("#"&일식견적목록표!J2&"!A1","일식견적목록표 →") -> 일식견적목록표 →
B19: 16. 자재단가대비표 | D19: =HYPERLINK("#"&자재단가대비표!R2&"!A1","자재단가대비표 →") -> 자재단가대비표 →

Sheet ※※안내※※
A2: =HYPERLINK("#'〓 목 차 〓'!B2","목차 →") -> 목차 → | B2: === 엑셀파일에 작성에 대한 안내문(반드시 읽어보세요) ===
B4: 엑셀파일 수정후 계산식 반영이 안될경우 :【 Ctrl+Alt(+Shift)+F9 】
B6: ◈ 엑셀파일내의 산식은 기초단가, 복합단가, 내역서 및 총괄내역서까지 연결됩니다.
B7: (모든산식은 단가만을 불러오며, 명칭, 규격, 단위, 비고.. 등은 TEXT로 입력됩니다)
B8: ◈ 각 Sheet우측에는 해당 항목을 찾아가는 위치이동(→) 링크가 있으며, 클릭하면 이동됩니다.
B9: (Alt + ← 키를 이용하여 찾아갔던 항목을 되돌아 올 수 있습니다.)
B10: ◈ 자재단가 대비표의 적용단가는 수식이 적용되지 않았으나, 우측에 최소단가 수식을 입력하였습니다.
B11: ◈ 일위대가표 및 중기사용료 및 총괄내역서의 양식은 일반양식을 적용합니다.
B12: =HYPERLINK("#"&단가산출근거!G2&"!Y3","◈ 단가산출근거의 수량부분은 산출근거 우측 연두색 부분에서 수정합니다. →") -> ◈ 단가산출근거의 수량부분은 산출근거 우측 연두색 부분에서 수정합니다. →
B13: ◈ [목차] 및 [안내] Sheet의 이름을 변경하지 마시고, Sheet이름을 변경할때 공백문자 및 특수문자를 사용하지 마십시요.
B15: ※※※ 아래의 내용(안내 및 오류)을 확인/검토 하세요 ※※※
B16: =HYPERLINK("#"&총괄내역서!H2&"!I"&ROW(총괄내역서!I18)," → ") -> → | C16: 【총괄내역서】18번째줄의 I열 이윤보정액은 총공사비 금액이 다를경우 임의조정(±α) 하십시요.
B17: =HYPERLINK("#"&총괄내역서!H2&"!D"&ROW(총괄내역서!D26)," → ") -> → | C17: 【총괄내역서】26번째줄의 D열에 계산된 총공사비 금액을 확인하십시요.
B18: =HYPERLINK("#"&단가산출근거!G2&"!B"&ROW(단가산출근거!B458)," → ") -> → | C18: 【단가산출근거】458번째줄 에서 사용된【S00190】코드의 %단위(T%) 는 산식을 입력할 수 없으니 손료계산 형식으로 변경하십시요.
B19: =HYPERLINK("#"&단가산출근거!G2&"!B"&ROW(단가산출근거!B537)," → ") -> → | C19: 【단가산출근거】537번째줄 에서 사용된【S00092】코드의 %단위(L%) 는 산식을 입력할 수 없으니 손료계산 형식으로 변경하십시요.
B20: =HYPERLINK("#"&단가산출근거!G2&"!B"&ROW(단가산출근거!B1178)," → ") -> → | C20: 【단가산출근거】1178번째줄 에서 사용된【S00159】코드의 %단위(L%) 는 산식을 입력할 수 없으니 손료계산 형식으로 변경하십시요.
B21: =HYPERLINK("#"&단가산출근거!G2&"!B"&ROW(단가산출근거!B1273)," → ") -> → | C21: 【단가산출근거】1273번째줄 에서 사용된【S00190】코드의 %단위(T%) 는 산식을 입력할 수 없으니 손료계산 형식으로 변경하십시요.

Sheet 공사원가계산서
A1: 공 사 원 가 계 산 서 | G1: STmate | H1: STmate
A2: 공사명 : 모현읍 왕산리 799-37번지 배수관로 이설공사 | F2: 공사기간: 2026년00월 ~ 2026년00월 | G2: =MID(CELL("filename",$A$1),FIND("]",CELL("filename",$A$1))+1,LEN(CELL("filename",$A$1))) -> 공사원가계산서
A3: 구 분 | D3: 금 액 | E3: 구 성 비 | F3: 비 고
A4: 비 목 | H4: =HYPERLINK("#'〓 목 차 〓'!B2","목차 →") -> 목차 →
A5: 순 공 사 원 가 | B5: 재 료 비 | C5: 직 접 재 료 비 | D5: =총괄내역서!F4-D6+D7 -> 16591866 | E5: =D5/D32*100 -> 22.760074 | H5: =HYPERLINK("#"&총괄내역서!H2&"!F"&ROW(총괄내역서!F4),"총괄표 →") -> 총괄표 →
C6: 간 접 재 료 비 | D6: 0 | E6: =D6/D32*100 -> 0
C7: 작업설,부산물등(△) | D7: 0 | E7: =D7/D32*100 -> 0
C8: 소 계 | D8: =+D5+D6-D7 -> 16591866 | E8: =D8/D32*100 -> 22.760074
B9: 노 무 비 | C9: 직 접 노 무 비 | D9: =총괄내역서!E4 -> 10038067 | E9: =D9/D32*100 -> 13.769828 | H9: =HYPERLINK("#"&총괄내역서!H2&"!E"&ROW(총괄내역서!E4),"총괄표 →") -> 총괄표 →
C10: 간 접 노 무 비 | D10: =총괄내역서!D5 -> 1917270 | E10: =D10/D32*100 -> 2.6300361 | F10: =총괄내역서!E5 -> 직접노무비 x 19.1% | H10: =HYPERLINK("#"&총괄내역서!H2&"!D"&ROW(총괄내역서!D5),"총괄표 →") -> 총괄표 →
C11: 소 계 | D11: =+D9+D10 -> 11955337 | E11: =D11/D32*100 -> 16.399864
B12: 경 비 | C12: 산 출 경 비 | D12: =총괄내역서!G4 -> 3183822 | E12: =D12/D32*100 -> 4.3674426 | H12: =HYPERLINK("#"&총괄내역서!H2&"!G"&ROW(총괄내역서!G4),"총괄표 →") -> 총괄표 →
C13: 산 재 보 험 료 | D13: =총괄내역서!D6 -> 425609 | E13: =D13/D32*100 -> 0.5838338 | F13: =총괄내역서!E6 -> (직접노무비+간접노무비) x 3.56% | H13: =HYPERLINK("#"&총괄내역서!H2&"!D"&ROW(총괄내역서!D6),"총괄표 →") -> 총괄표 →
C14: 고 용 보 험 료 | D14: =총괄내역서!D7 -> 120748 | E14: =D14/D32*100 -> 0.16563739 | F14: =총괄내역서!E7 -> (직접노무비+간접노무비) x 1.01% | H14: =HYPERLINK("#"&총괄내역서!H2&"!D"&ROW(총괄내역서!D7),"총괄표 →") -> 총괄표 →
C15: 산업안전보건관리비 | D15: =총괄내역서!D8 -> 838842 | E15: =D15/D32*100 -> 1.1506907 | F15: =총괄내역서!E8 -> (직노+직재+간재) x 3.15% = 838,842 | H15: =HYPERLINK("#"&총괄내역서!H2&"!D"&ROW(총괄내역서!D8),"총괄표 →") -> 총괄표 →
C16: 기 타 경 비 | D16: =총괄내역서!D9 -> 1570096 | E16: =D16/D32*100 -> 2.1537964 | F16: =총괄내역서!E9 -> (직접노무비+간접노무비+재료비) x 5.5% | H16: =HYPERLINK("#"&총괄내역서!H2&"!D"&ROW(총괄내역서!D9),"총괄표 →") -> 총괄표 →
C17: 환 경 보 전 비 | D17: =총괄내역서!D10 -> 149068 | E17: =D17/D32*100 -> 0.20448566 | F17: =총괄내역서!E10 -> (재료비 + 직접노무비 + 산출경비) x 0.5% | H17: =HYPERLINK("#"&총괄내역서!H2&"!D"&ROW(총괄내역서!D10),"총괄표 →") -> 총괄표 →
C18: 건설기계대여금지급보증서수수료 | D18: =총괄내역서!D11 -> 152050 | E18: =D18/D32*100 -> 0.20857625 | F18: =총괄내역서!E11 -> (재료비 + 직접노무비 + 산출경비) x 0.51% | H18: =HYPERLINK("#"&총괄내역서!H2&"!D"&ROW(총괄내역서!D11),"총괄표 →") -> 총괄표 →
C19: 석면피해구제분담금 | D19: =총괄내역서!D12 -> 717 | E19: =D19/D32*100 -> 0.00098355259 | F19: =총괄내역서!E12 -> (직접노무비+간접노무비) x 0.006% | H19: =HYPERLINK("#"&총괄내역서!H2&"!D"&ROW(총괄내역서!D12),"총괄표 →") -> 총괄표 →
C20: 임 금 채 권 부 담 금 | D20: =총괄내역서!D13 -> 10759 | E20: =D20/D32*100 -> 0.014758776 | F20: =총괄내역서!E13 -> (직접노무비+간접노무비) x 0.09% | H20: =HYPERLINK("#"&총괄내역서!H2&"!D"&ROW(총괄내역서!D13),"총괄표 →") -> 총괄표 →
C21: 안전관리비 | D21: =총괄내역서!D14 -> 1856940 | E21: =D21/D32*100 -> 2.5472777 | H21: =HYPERLINK("#"&총괄내역서!H2&"!D"&ROW(총괄내역서!D14),"총괄표 →") -> 총괄표 →
C22: 소 계 | D22: =+D12+D13+D14+D15+D16+D17+D18+D19+D20+D21 -> 8308651 | E22: =D22/D32*100 -> 11.397483
A23: 일 반 관 리 비 | D23: =총괄내역서!D16 -> 2948468 | E23: =D23/D32*100 -> 4.0445932 | F23: ="순공사원가 x "&ROUND(총괄내역서!M16,5)&"%" -> 순공사원가 x 8% | H23: =HYPERLINK("#"&총괄내역서!H2&"!D"&ROW(총괄내역서!D16),"총괄표 →") -> 총괄표 →
A24: 이 윤 | D24: =총괄내역서!D18 -> 3417132.8 | E24: =D24/D32*100 -> 4.6874893 | F24: ="(노무비+경비+일반관리비) x "&ROUND(총괄내역서!M18,5)&"%" -> (노무비+경비+일반관리비) x 14.72121% | H24: =HYPERLINK("#"&총괄내역서!H2&"!D"&ROW(총괄내역서!D18),"총괄표 →") -> 총괄표 →
A25: 폐기물처리비 및 운반비 | D25: =총괄내역서!D19 -> 620000 | E25: =D25/D32*100 -> 0.85049178 | H25: =HYPERLINK("#"&총괄내역서!H2&"!D"&ROW(총괄내역서!D19),"총괄표 →") -> 총괄표 →
A26: 고재처리 | D26: =총괄내역서!D20 -> -406000 | E26: =D26/D32*100 -> -0.55693494 | H26: =HYPERLINK("#"&총괄내역서!H2&"!D"&ROW(총괄내역서!D20),"총괄표 →") -> 총괄표 →
A27: 총 원 가 | D27: =총괄내역서!D21 -> 43435455 | E27: =D27/D32*100 -> 59.58306 | H27: =HYPERLINK("#"&총괄내역서!H2&"!D"&ROW(총괄내역서!D21),"총괄표 →") -> 총괄표 →
A28: 부 가 가 치 세 | D28: =총괄내역서!D22 -> 4343545 | E28: =D28/D32*100 -> 5.9583053 | F28: ="총 원 가 x "&ROUND(총괄내역서!M22,5)&"%" -> 총 원 가 x 10% | H28: =HYPERLINK("#"&총괄내역서!H2&"!D"&ROW(총괄내역서!D22),"총괄표 →") -> 총괄표 →
A29: 도 급 공 사 비 | D29: =총괄내역서!D23 -> 47779000 | E29: =D29/D32*100 -> 65.541365 | H29: =HYPERLINK("#"&총괄내역서!H2&"!D"&ROW(총괄내역서!D23),"총괄표 →") -> 총괄표 →
A30: 관급자재대(도급자설치) | D30: =총괄내역서!D24 -> 10452000 | E30: =D30/D32*100 -> 14.337645 | H30: =HYPERLINK("#"&총괄내역서!H2&"!D"&ROW(총괄내역서!D24),"총괄표 →") -> 총괄표 →
A31: 관급자재대(관급자설치) | D31: =총괄내역서!D25 -> 14668000 | E31: =D31/D32*100 -> 20.120989 | H31: =HYPERLINK("#"&총괄내역서!H2&"!D"&ROW(총괄내역서!D25),"총괄표 →") -> 총괄표 →
A32: 총 공 사 비 | D32: =총괄내역서!D26 -> 72899000 | E32: 100 | H32: =HYPERLINK("#"&총괄내역서!H2&"!D"&ROW(총괄내역서!D26),"총괄표 →") -> 총괄표 →
D33: =D30+D31 -> 25120000

Sheet 총괄내역서
A1: 총 괄 내 역 서 | H1: STmate | Q1: STmate
A2: 공사명 : 모현읍 왕산리 799-37번지 배수관로 이설공사 | H2: =MID(CELL("filename",$A$1),FIND("]",CELL("filename",$A$1))+1,LEN(CELL("filename",$A$1))) -> 총괄내역서
A3: 공 종 | B3: 명 칭 | C3: 규 격 | D3: 합 계 | E3: 노 무 비 | F3: 재 료 비 | G3: 경 비 | H3: _x0007_`JTYP|0_x0005_`ACTL|F_x0005_` | I3: 수정은 아래의 연두색 부분에 | Q3: =HYPERLINK("#'〓 목 차 〓'!B2","목차 →") -> 목차 →
A4: 가. | B4: 순공사비계 | D4: =설계내역서!G205 -> 29813755 | E4: =설계내역서!I205 -> 10038067 | F4: =설계내역서!K205 -> 16591866 | G4: =설계내역서!M205 -> 3183822 | Q4: =HYPERLINK("#"&설계내역서!O2&"!A"&ROW(설계내역서!A205),"내역 →") -> 내역 →
B5: 1. 간접노무비 | D5: =ROUNDDOWN(E4*M5/100,0) -> 1917270 | E5: ="직접노무비 x "&ROUND(M5,5)&"%" -> 직접노무비 x 19.1% | H5: _x0007_`DTP|201_x0005_`QTY1|1_x0005_`BDC|_x0005_`SRE|LA_x0005_` | I5: 0 | M5: 19.1 | N5: 0 | O5: 0 | P5: 0
B6: 2. 산재보험료 | D6: =ROUNDDOWN(((E4+D5))*M6/100,0) -> 425609 | E6: ="(직접노무비+간접노무비) x "&ROUND(M6,5)&"%" -> (직접노무비+간접노무비) x 3.56% | H6: _x0007_`DTP|301_x0005_`QTY1|1_x0005_`BDC|_x0005_`SRE|SA_x0005_` | I6: 0 | M6: 3.56 | N6: 0 | O6: 0 | P6: 0
B7: 3. 고용보험료 | D7: =ROUNDDOWN(((E4+D5))*M7/100,0) -> 120748 | E7: ="(직접노무비+간접노무비) x "&ROUND(M7,5)&"%" -> (직접노무비+간접노무비) x 1.01% | H7: _x0007_`DTP|302_x0005_`QTY1|1_x0005_`BDC|_x0005_`SRE|SA_x0005_` | I7: 0 | M7: 1.01 | N7: 0 | O7: 0 | P7: 0
B8: 4. 산업안전보건관리비 | D8: =ROUNDDOWN(((E4+(F4)))*M8/100,0) -> 838842 | E8: ="(직노+직재+간재) x "&ROUND(M8,5)&"% = "&TEXT(D8,"#,0")&"" -> (직노+직재+간재) x 3.15% = 838,842 | H8: _x0007_`DTP|306_x0005_`QTY1|1_x0005_`BDC|_x0005_`SRE|SA_x0005_` | I8: 0 | J8: =((E4+(F4))+(I24)/1.1) -> 36131751 | M8: 3.15 | N8: 0 | O8: 0 | P8: 0
B9: 5. 기타경비 | D9: =ROUNDDOWN(((((E4+D5)+(F4))))*M9/100,0) -> 1570096 | E9: ="(직접노무비+간접노무비+재료비) x "&ROUND(M9,5)&"%" -> (직접노무비+간접노무비+재료비) x 5.5% | H9: _x0007_`DTP|321_x0005_`QTY1|1_x0005_`BDC|_x0005_`SRE|SA_x0005_` | I9: 0 | M9: 5.5 | N9: 0 | O9: 0 | P9: 0
B10: 6. 환경보전비 | D10: =ROUNDDOWN((D4)*M10/100,0) -> 149068 | E10: ="(재료비 + 직접노무비 + 산출경비) x "&ROUND(M10,5)&"%" -> (재료비 + 직접노무비 + 산출경비) x 0.5% | H10: _x0007_`DTP|309_x0005_`QTY1|1_x0005_`BDC|_x0005_`SRE|SA_x0005_` | I10: 0 | M10: 0.5 | N10: 0 | O10: 0 | P10: 0
B11: 7. 건설기계대여금지급보증서수수료 | D11: =ROUNDDOWN((D4)*M11/100,0) -> 152050 | E11: ="(재료비 + 직접노무비 + 산출경비) x "&ROUND(M11,5)&"%" -> (재료비 + 직접노무비 + 산출경비) x 0.51% | H11: _x0007_`DTP|311_x0005_`QTY1|1_x0005_`BDC|_x0005_`SRE|SA_x0005_` | I11: 0 | M11: 0.51 | N11: 0 | O11: 0 | P11: 0
B12: 8. 석면피해구제분담금 | D12: =ROUNDDOWN(((E4+D5))*M12/100,0) -> 717 | E12: ="(직접노무비+간접노무비) x "&ROUND(M12,5)&"%" -> (직접노무비+간접노무비) x 0.006% | H12: _x0007_`DTP|322_x0005_`QTY1|1_x0005_`BDC|_x0005_`SRE|SA_x0005_` | I12: 0 | M12: 0.006 | N12: 0 | O12: 0 | P12: 0
B13: 9. 임금채권부담금 | D13: =ROUNDDOWN(((E4+D5))*M13/100,0) -> 10759 | E13: ="(직접노무비+간접노무비) x "&ROUND(M13,5)&"%" -> (직접노무비+간접노무비) x 0.09% | H13: _x0007_`DTP|323_x0005_`QTY1|1_x0005_`BDC|_x0005_`SRE|SA_x0005_` | I13: 0 | M13: 0.09 | N13: 0 | O13: 0 | P13: 0
B14: 10. 안전관리비 | D14: 1856940 | H14: _x0007_`DTP|361_x0005_`QTY1|1_x0005_`BDC|A101_x0005_`SRE|SA_x0005_`ADN|안전관리비_x0005_`ADB|_x0005_` | I14: 0 | M14: 0 | N14: 0 | O14: 0 | P14: 0
A15: 나. | B15: 소 계 | D15: =(D4+D5+D6+D7+D8+D9+D10+D11+D12+D13+D14) -> 36855854 | H15: _x0007_`DTP|400_x0005_`QTY1|1_x0005_`BDC|_x0005_`SRE|TA-F_x0005_` | I15: 0 | M15: 0 | N15: 0 | O15: 0 | P15: 0
B16: 11. 일반관리비 | D16: =ROUNDDOWN(((D15)+0)*M16/100,0) -> 2948468 | E16: ="(나.소 계) x "&ROUND(M16,5)&"%" -> (나.소 계) x 8% | H16: _x0007_`DTP|401_x0005_`QTY1|1_x0005_`BDC|_x0005_`SRE|TA_x0005_` | I16: 0 | M16: 8 | N16: 0 | O16: 0 | P16: 0
A17: 다. | B17: 소 계 | D17: =(D15+D16) -> 39804322 | H17: _x0007_`DTP|410_x0005_`QTY1|1_x0005_`BDC|_x0005_`SRE|TA-F_x0005_` | I17: 1 | J17: =D17 -> 39804322 | L17: =D17 -> 39804322 | M17: 0 | N17: 0 | O17: 0 | P17: 0
B18: 12. 이 윤 | D18: =ROUNDDOWN(((D17)-(F4))*M18/100,0)-I18-K18-20/1.1 -> 3417132.8 | E18: ="(다.소계 - 재료비) x "&ROUND(M18,5)&"% = "&TEXT(J18,"#,##0") -> (다.소계 - 재료비) x 14.72121% = 3,417,154 | H18: _x0007_`DTP|402_x0005_`QTY1|1_x0005_`BDC|_x0005_`SRE|TA_x0005_` | I18: =ROUND((J26-ROUNDDOWN(J26,-I17))/1.1,0) -> 3 | J18: =ROUNDDOWN(((J17)-(F4))*M18/100,0) -> 3417154 | K18: =ABS(L26-ROUNDDOWN(J26,-I17))*IF(L26>ROUNDDOWN(J26,-I17),1,-1) -> 0 | L18: =ROUNDDOWN(((L17)-(F4))*M18/100,0)-I18 -> 3417151 | M18: 14.72121 | N18: 0 | O18: 0 | P18: 0
B19: 13. 폐기물처리비및운반비 | D19: 620000 | H19: _x0007_`DTP|461_x0005_`QTY1|1_x0005_`BDC|A201_x0005_`SRE|_x0005_`ADN|폐기물처리비및운반비_x0005_`ADB|_x0005_` | I19: 0 | J19: =D19 -> 620000 | L19: =D19 -> 620000 | M19: 0 | N19: 0 | O19: 0 | P19: 0
B20: 14. 고재처리 | D20: -406000 | H20: _x0007_`DTP|462_x0005_`QTY1|1_x0005_`BDC|A202_x0005_`SRE|_x0005_`ADN|고재처리_x0005_`ADB|_x0005_` | I20: 0 | J20: =D20 -> -406000 | L20: =D20 -> -406000 | M20: 0 | N20: 0 | O20: 0 | P20: 0
A21: 라. | B21: 공급가액 | D21: =(D17+D18+D19+D20) -> 43435455 | H21: _x0007_`DTP|500_x0005_`QTY1|1_x0005_`BDC|_x0005_`SRE|TA-F_x0005_` | I21: 0 | J21: =(J17+J18+J19+J20) -> 43435476 | L21: =(L17+L18+L19+L20) -> 43435473 | M21: 0 | N21: 0 | O21: 0 | P21: 0
B22: 15. 부가가치세 | D22: =ROUNDDOWN((D21)*M22/100,0)+I22 -> 4343545 | E22: ="공급가액 x "&ROUND(M22,5)&"%" -> 공급가액 x 10% | H22: _x0007_`DTP|502_x0005_`QTY1|1_x0005_`BDC|_x0005_`SRE|TA_x0005_` | I22: 0 | J22: =ROUNDDOWN((J21)*M22/100,0)+I22 -> 4343547 | L22: =ROUNDDOWN((L21)*M22/100,0)+I22 -> 4343547 | M22: 10 | N22: 0 | O22: 0 | P22: 0
A23: 마. | B23: 도급공사비 | D23: =(D21+D22) -> 47779000 | H23: _x0007_`DTP|600_x0005_`QTY1|1_x0005_`BDC|_x0005_`SRE|TA-F_x0005_` | I23: 0 | J23: =(J21+J22) -> 47779023 | L23: =(L21+L22) -> 47779020 | M23: 0 | N23: 0 | O23: 1 | P23: 0
B24: 16. 관급자재대(도급자설치) | D24: =ROUNDUP(I24,0) -> 10452000 | H24: _x0007_`DTP|653_x0005_`QTY1|1_x0005_`BDC|_x0005_`SRE|TA-3_x0005_` | I24: 10452000 | J24: =ROUNDUP(I24,0) -> 10452000 | L24: =ROUNDUP(I24,0) -> 10452000 | M24: 0 | N24: 14668000 | O24: 0 | P24: 0
B25: 17. 관급자재대(관급자설치) | D25: =ROUNDUP(I25,0) -> 14668000 | H25: _x0007_`DTP|654_x0005_`QTY1|1_x0005_`BDC|_x0005_`SRE|TA-3_x0005_` | I25: 14668000 | J25: =ROUNDUP(I25,0) -> 14668000 | L25: =ROUNDUP(I25,0) -> 14668000 | M25: 0 | N25: 0 | O25: 0 | P25: 0
A26: 바. | B26: 총공사비 | D26: =(D23+D24+D25) -> 72899000 | H26: _x0007_`DTP|700_x0005_`QTY1|1_x0005_`BDC|_x0005_`SRE|TA-F_x0005_` | I26: 0 | J26: =(J23+J24+J25) -> 72899023 | L26: =(L23+L24+L25) -> 72899020 | M26: 0 | N26: 0 | O26: 1 | P26: 0

Sheet 설계내역서
A1: 설 계 내 역 서 | O1: STmate | AC1: STmate
A2: 공사명 : 모현읍 왕산리 799-37번지 배수관로 이설공사 | O2: =MID(CELL("filename",$A$1),FIND("]",CELL("filename",$A$1))+1,LEN(CELL("filename",$A$1))) -> 설계내역서
A3: 공 종 | B3: 명 칭 | C3: 규 격 | D3: 수 량 | E3: 단위 | F3: 합 계 | H3: 노 무 비 | J3: 재 료 비 | L3: 경 비 | N3: 비 고
F4: 단 가 | G4: 금 액 | H4: 단 가 | I4: 금 액 | J4: 단 가 | K4: 금 액 | L4: 단 가 | M4: 금 액 | AC4: =HYPERLINK("#'〓 목 차 〓'!B2","목차 →") -> 목차 →
A5: 1. | B5: 토공 | F5: 0 | G5: =SUMIF(Q6:Q19,P5,G6:G19) -> 3617776 | H5: 0 | I5: =SUMIF(Q6:Q19,P5,I6:I19) -> 2936787 | J5: 0 | K5: =SUMIF(Q6:Q19,P5,K6:K19) -> 193387 | L5: 0 | M5: =SUMIF(Q6:Q19,P5,M6:M19) -> 487602 | O5: ="_x0007_`COD|E3_x0005_`QTY1|1_x0005_`EXI|0_x0005_`ITT|0_x0005_`END|"&ROW(M20)&"_x0005_`" -> _x0007_`COD|E3_x0005_`QTY1|1_x0005_`EXI|0_x0005_`ITT|0_x0005_`END|20_x0005_` | P5: E3_1 | Q5: E10_1
A6: 1.1 | B6: 기존구조물철거 | F6: 0 | G6: =SUMIF(Q7:Q13,P6,G7:G13) -> 819641 | H6: 0 | I6: =SUMIF(Q7:Q13,P6,I7:I13) -> 714931 | J6: 0 | K6: =SUMIF(Q7:Q13,P6,K7:K13) -> 43075 | L6: 0 | M6: =SUMIF(Q7:Q13,P6,M7:M13) -> 61635 | O6: ="_x0007_`COD|E2_x0005_`QTY1|1_x0005_`EXI|0_x0005_`ITT|0_x0005_`END|"&ROW(M14)&"_x0005_`" -> _x0007_`COD|E2_x0005_`QTY1|1_x0005_`EXI|0_x0005_`ITT|0_x0005_`END|14_x0005_` | P6: E2_1 | Q6: E3_1
B7: 포장절단 | C7: 아스콘포장 | D7: 18 | E7: m | F7: =J7+H7+L7 -> 2661 | G7: =K7+I7+M7 -> 47898 | H7: =단가산출근거목록표!F4 -> 1376 | I7: =ROUNDDOWN(H7*D7,0) -> 24768 | J7: =단가산출근거목록표!G4 -> 216 | K7: =ROUNDDOWN(J7*D7,0) -> 3888 | L7: =단가산출근거목록표!H4 -> 1069 | M7: =ROUNDDOWN(L7*D7,0) -> 19242 | N7: 산근 1호표 | O7: _x0007_`COD|D01375_x0005_`QTY1|1_x0005_`EXI|0_x0005_`IPR|0_x0005_`BLA|F_x0005_` | P7: D01375_1 | Q7: E2_1 | AC7: =HYPERLINK("#"&단가산출근거목록표!J2&"!A"&ROW(단가산출근거목록표!A4),"산근1 →") -> 산근1 →
B8: 아스팔트포장 깨기 | C8: (기계0.4㎥, 대형브레이카) | D8: 2.7 | E8: ㎥ | F8: =J8+H8+L8 -> 18065 | G8: =K8+I8+M8 -> 48774 | H8: =단가산출근거목록표!F5 -> 11670 | I8: =ROUNDDOWN(H8*D8,0) -> 31509 | J8: =단가산출근거목록표!G5 -> 3058 | K8: =ROUNDDOWN(J8*D8,0) -> 8256 | L8: =단가산출근거목록표!H5 -> 3337 | M8: =ROUNDDOWN(L8*D8,0) -> 9009 | N8: 산근 2호표 | O8: _x0007_`COD|D00265_x0005_`QTY1|1_x0005_`EXI|0_x0005_`IPR|0_x0005_`BLA|F_x0005_` | P8: D00265_1 | Q8: E2_1 | AC8: =HYPERLINK("#"&단가산출근거목록표!J2&"!A"&ROW(단가산출근거목록표!A5),"산근2 →") -> 산근2 →
B9: 무근콘크리트깨기 | C9: (T=30cm미만,굴착기0.4㎥) | D9: 2.5 | E9: ㎥ | F9: =J9+H9+L9 -> 37775 | G9: =K9+I9+M9 -> 94437 | H9: =단가산출근거목록표!F6 -> 24402 | I9: =ROUNDDOWN(H9*D9,0) -> 61005 | J9: =단가산출근거목록표!G6 -> 6396 | K9: =ROUNDDOWN(J9*D9,0) -> 15990 | L9: =단가산출근거목록표!H6 -> 6977 | M9: =ROUNDDOWN(L9*D9,0) -> 17442 | N9: 산근 3호표 | O9: _x0007_`COD|D02950_x0005_`QTY1|1_x0005_`EXI|0_x0005_`IPR|0_x0005_`BLA|F_x0005_` | P9: D02950_1 | Q9: E2_1 | AC9: =HYPERLINK("#"&단가산출근거목록표!J2&"!A"&ROW(단가산출근거목록표!A6),"산근3 →") -> 산근3 →
B10: 보도블럭철거(점자블럭)B-TYPE | C10: 차도인접, 주택가도로 차도인접, 주택가도로 | D10: 3.4 | E10: ㎡ | F10: =J10+H10+L10 -> 13611 | G10: =K10+I10+M10 -> 46276 | H10: =일위대가목록표!F4 -> 11304 | I10: =ROUNDDOWN(H10*D10,0) -> 38433 | J10: =일위대가목록표!G4 -> 1117 | K10: =ROUNDDOWN(J10*D10,0) -> 3797 | L10: =일위대가목록표!H4 -> 1190 | M10: =ROUNDDOWN(L10*D10,0) -> 4046 | N10: 대가 1호표 | O10: _x0007_`COD|B02631_x0005_`QTY1|1_x0005_`EXI|0_x0005_`IPR|0_x0005_`BLA|F_x0005_` | P10: B02631_1 | Q10: E2_1 | AC10: =HYPERLINK("#"&일위대가목록표!J2&"!A"&ROW(일위대가목록표!A4),"대가1 →") -> 대가1 →
B11: 보차도경계석 철거(B-TYPE) | C11: 200×250×1000- 400m/일 | D11: 8 | E11: M | F11: =J11+H11+L11 -> 4504 | G11: =K11+I11+M11 -> 36032 | H11: =일위대가목록표!F5 -> 3736 | I11: =ROUNDDOWN(H11*D11,0) -> 29888 | J11: =일위대가목록표!G5 -> 361 | K11: =ROUNDDOWN(J11*D11,0) -> 2888 | L11: =일위대가목록표!H5 -> 407 | M11: =ROUNDDOWN(L11*D11,0) -> 3256 | N11: 대가 2호표 | O11: _x0007_`COD|B04729_x0005_`QTY1|1_x0005_`EXI|0_x0005_`IPR|0_x0005_`BLA|F_x0005_` | P11: B04729_1 | Q11: E2_1 | AC11: =HYPERLINK("#"&일위대가목록표!J2&"!A"&ROW(일위대가목록표!A5),"대가2 →") -> 대가2 →
B12: 도로경계석 철거 | C12: 150×150×1000, 화강석-설치품의50%적용 | D12: 8 | E12: M | F12: =J12+H12+L12 -> 15354 | G12: =K12+I12+M12 -> 122832 | H12: =일위대가목록표!F6 -> 15354 | I12: =ROUNDDOWN(H12*D12,0) -> 122832 | J12: =일위대가목록표!G6 -> 0 | K12: =ROUNDDOWN(J12*D12,0) -> 0 | L12: =일위대가목록표!H6 -> 0 | M12: =ROUNDDOWN(L12*D12,0) -> 0 | N12: 대가 3호표 | O12: _x0007_`COD|B04727_x0005_`QTY1|1_x0005_`EXI|0_x0005_`IPR|0_x0005_`BLA|F_x0005_` | P12: B04727_1 | Q12: E2_1 | AC12: =HYPERLINK("#"&일위대가목록표!J2&"!A"&ROW(일위대가목록표!A6),"대가3 →") -> 대가3 →
B13: 조경석 헐기 | C13: (정원석 쌓기 및 놓기 30% 적용) | D13: 16 | E13: ton | F13: =J13+H13+L13 -> 26462 | G13: =K13+I13+M13 -> 423392 | H13: =일위대가목록표!F7 -> 25406 | I13: =ROUNDDOWN(H13*D13,0) -> 406496 | J13: =일위대가목록표!G7 -> 516 | K13: =ROUNDDOWN(J13*D13,0) -> 8256 | L13: =일위대가목록표!H7 -> 540 | M13: =ROUNDDOWN(L13*D13,0) -> 8640 | N13: 대가 4호표 | O13: _x0007_`COD|B06812_x0005_`QTY1|1_x0005_`EXI|0_x0005_`IPR|0_x0005_`BLA|F_x0005_` | P13: B06812_1 | Q13: E2_1 | AC13: =HYPERLINK("#"&일위대가목록표!J2&"!A"&ROW(일위대가목록표!A7),"대가4 →") -> 대가4 →
A14: 1.2 | B14: 관로토공 | F14: 0 | G14: =SUMIF(Q15:Q19,P14,G15:G19) -> 2798135 | H14: 0 | I14: =SUMIF(Q15:Q19,P14,I15:I19) -> 2221856 | J14: 0 | K14: =SUMIF(Q15:Q19,P14,K15:K19) -> 150312 | L14: 0 | M14: =SUMIF(Q15:Q19,P14,M15:M19) -> 425967 | O14: ="_x0007_`COD|E2_x0005_`QTY1|1_x0005_`EXI|0_x0005_`ITT|0_x0005_`END|"&ROW(M20)&"_x0005_`" -> _x0007_`COD|E2_x0005_`QTY1|1_x0005_`EXI|0_x0005_`ITT|0_x0005_`END|20_x0005_` | P14: E2_1 | Q14: E3_1
B15: 터파기(배수관)0.4㎥ | C15: (굴착기0.4㎥ 기계90%+인력10%) | D15: 120 | E15: ㎥ | F15: =J15+H15+L15 -> 16712 | G15: =K15+I15+M15 -> 2005440 | H15: =단가산출근거목록표!F7 -> 15861 | I15: =ROUNDDOWN(H15*D15,0) -> 1903320 | J15: =단가산출근거목록표!G7 -> 471 | K15: =ROUNDDOWN(J15*D15,0) -> 56520 | L15: =단가산출근거목록표!H7 -> 380 | M15: =ROUNDDOWN(L15*D15,0) -> 45600 | N15: 산근 4호표 | O15: _x0007_`COD|D02305_x0005_`QTY1|1_x0005_`EXI|0_x0005_`IPR|0_x0005_`BLA|F_x0005_` | P15: D02305_1 | Q15: E2_1 | AC15: =HYPERLINK("#"&단가산출근거목록표!J2&"!A"&ROW(단가산출근거목록표!A7),"산근4 →") -> 산근4 →
B16: 되메우기및다짐(배수관) | C16: 백호우0.4㎥(진돌롤러) | D16: 92 | E16: ㎥ | F16: =J16+H16+L16 -> 4262 | G16: =K16+I16+M16 -> 392104 | H16: =단가산출근거목록표!F8 -> 2818 | I16: =ROUNDDOWN(H16*D16,0) -> 259256 | J16: =단가산출근거목록표!G8 -> 900 | K16: =ROUNDDOWN(J16*D16,0) -> 82800 | L16: =단가산출근거목록표!H8 -> 544 | M16: =ROUNDDOWN(L16*D16,0) -> 50048 | N16: 산근 5호표 | O16: _x0007_`COD|D02638_x0005_`QTY1|1_x0005_`EXI|0_x0005_`IPR|0_x0005_`BLA|F_x0005_` | P16: D02638_1 | Q16: E2_1 | AC16: =HYPERLINK("#"&단가산출근거목록표!J2&"!A"&ROW(단가산출근거목록표!A8),"산근5 →") -> 산근5 →
B17: 모래부설(배수관) | C17: (굴착기0.4+플레이트콤펙터 1.5ton) | D17: 8.1 | E17: ㎥ | F17: =J17+H17+L17 -> 5664 | G17: =K17+I17+M17 -> 45876 | H17: =단가산출근거목록표!F9 -> 4928 | I17: =ROUNDDOWN(H17*D17,0) -> 39916 | J17: =단가산출근거목록표!G9 -> 477 | K17: =ROUNDDOWN(J17*D17,0) -> 3863 | L17: =단가산출근거목록표!H9 -> 259 | M17: =ROUNDDOWN(L17*D17,0) -> 2097 | N17: 산근 6호표 | O17: _x0007_`COD|D03713_x0005_`QTY1|1_x0005_`EXI|0_x0005_`IPR|0_x0005_`BLA|F_x0005_` | P17: D03713_1 | Q17: E2_1 | AC17: =HYPERLINK("#"&단가산출근거목록표!J2&"!A"&ROW(단가산출근거목록표!A9),"산근6 →") -> 산근6 →
B18: 폐기물적사 | C18: 굴착기 0.4㎥ | D18: 5.2 | E18: ㎥ | F18: =J18+H18+L18 -> 6200 | G18: =K18+I18+M18 -> 32239 | H18: =단가산출근거목록표!F10 -> 3724 | I18: =ROUNDDOWN(H18*D18,0) -> 19364 | J18: =단가산출근거목록표!G10 -> 1371 | K18: =ROUNDDOWN(J18*D18,0) -> 7129 | L18: =단가산출근거목록표!H10 -> 1105 | M18: =ROUNDDOWN(L18*D18,0) -> 5746 | N18: 산근 7호표 | O18: _x0007_`COD|D00785_x0005_`QTY1|1_x0005_`EXI|0_x0005_`IPR|0_x0005_`BLA|F_x0005_` | P18: D00785_1 | Q18: E2_1 | AC18: =HYPERLINK("#"&단가산출근거목록표!J2&"!A"&ROW(단가산출근거목록표!A10),"산근7 →") -> 산근7 →
B19: 사토:토사[L=10.0km]. | C19: (굴착기0.4㎥+덤프15ton) | D19: 28 | E19: ㎥ | F19: =J19+H19+L19 -> 11517 | G19: =K19+I19+M19 -> 322476 | H19: =단가산출근거목록표!F11 -> 0 | I19: =ROUNDDOWN(H19*D19,0) -> 0 | J19: =단가산출근거목록표!G11 -> 0 | K19: =ROUNDDOWN(J19*D19,0) -> 0 | L19: =단가산출근거목록표!H11 -> 11517 | M19: =ROUNDDOWN(L19*D19,0) -> 322476 | N19: 산근 8호표 | O19: _x0007_`COD|D04064_x0005_`QTY1|1_x0005_`EXI|0_x0005_`IPR|0_x0005_`BLA|F_x0005_` | P19: D04064_1 | Q19: E2_1 | AC19: =HYPERLINK("#"&단가산출근거목록표!J2&"!A"&ROW(단가산출근거목록표!A11),"산근8 →") -> 산근8 →
A20: 2. | B20: 상수도공 | F20: 0 | G20: =SUMIF(Q21:Q32,P20,G21:G32) -> 5061687 | H20: 0 | I20: =SUMIF(Q21:Q32,P20,I21:I32) -> 3938213 | J20: 0 | K20: =SUMIF(Q21:Q32,P20,K21:K32) -> 503535 | L20: 0 | M20: =SUMIF(Q21:Q32,P20,M21:M32) -> 619939 | O20: ="_x0007_`COD|E3_x0005_`QTY1|1_x0005_`EXI|0_x0005_`ITT|0_x0005_`END|"&ROW(M33)&"_x0005_`" -> _x0007_`COD|E3_x0005_`QTY1|1_x0005_`EXI|0_x0005_`ITT|0_x0005_`END|33_x0005_` | P20: E3_1 | Q20: E10_1
A21: 2.1 | B21: 관로공) | F21: 0 | G21: =SUMIF(Q22:Q32,P21,G22:G32) -> 5061687 | H21: 0 | I21: =SUMIF(Q22:Q32,P21,I22:I32) -> 3938213 | J21: 0 | K21: =SUMIF(Q22:Q32,P21,K22:K32) -> 503535 | L21: 0 | M21: =SUMIF(Q22:Q32,P21,M22:M32) -> 619939 | O21: ="_x0007_`COD|E1_x0005_`QTY1|1_x0005_`EXI|0_x0005_`ITT|0_x0005_`END|"&ROW(M33)&"_x0005_`" -> _x0007_`COD|E1_x0005_`QTY1|1_x0005_`EXI|0_x0005_`ITT|0_x0005_`END|33_x0005_` | P21: E1_1 | Q21: E3_1
B22: 주철관 접합 및 부설 | C22: (기계:D250㎜) | D22: 6 | E22: 본 | F22: =J22+H22+L22 -> 149157 | G22: =K22+I22+M22 -> 894942 | H22: =일위대가목록표!F8 -> 109545 | I22: =ROUNDDOWN(H22*D22,0) -> 657270 | J22: =일위대가목록표!G8 -> 17788 | K22: =ROUNDDOWN(J22*D22,0) -> 106728 | L22: =일위대가목록표!H8 -> 21824 | M22: =ROUNDDOWN(L22*D22,0) -> 130944 | N22: 대가 5호표 | O22: _x0007_`COD|B00196_x0005_`QTY1|1_x0005_`EXI|0_x0005_`IPR|0_x0005_`BLA|F_x0005_` | P22: B00196_1 | Q22: E1_1 | AC22: =HYPERLINK("#"&일위대가목록표!J2&"!A"&ROW(일위대가목록표!A8),"대가5 →") -> 대가5 →
B23: 주철이형관 접합 및 부설 | C23: (기계:D250㎜), 직관품 적용 | D23: 2 | E23: 개소 | F23: =J23+H23+L23 -> 74578 | G23: =K23+I23+M23 -> 149156 | H23: =일위대가목록표!F9 -> 54772 | I23: =ROUNDDOWN(H23*D23,0) -> 109544 | J23: =일위대가목록표!G9 -> 8894 | K23: =ROUNDDOWN(J23*D23,0) -> 17788 | L23: =일위대가목록표!H9 -> 10912 | M23: =ROUNDDOWN(L23*D23,0) -> 21824 | N23: 대가 6호표 | O23: _x0007_`COD|B06587_x0005_`QTY1|1_x0005_`EXI|0_x0005_`IPR|0_x0005_`BLA|F_x0005_` | P23: B06587_1 | Q23: E1_1 | AC23: =HYPERLINK("#"&일위대가목록표!J2&"!A"&ROW(일위대가목록표!A9),"대가6 →") -> 대가6 →
B24: 주철 이형관 접합 | C24: (인력:D250㎜) | D24: 2 | E24: 개소 | F24: =J24+H24+L24 -> 44746 | G24: =K24+I24+M24 -> 89492 | H24: =일위대가목록표!F10 -> 32863 | I24: =ROUNDDOWN(H24*D24,0) -> 65726 | J24: =일위대가목록표!G10 -> 5336 | K24: =ROUNDDOWN(J24*D24,0) -> 10672 | L24: =일위대가목록표!H10 -> 6547 | M24: =ROUNDDOWN(L24*D24,0) -> 13094 | N24: 대가 7호표 | O24: _x0007_`COD|B02873_x0005_`QTY1|1_x0005_`EXI|0_x0005_`IPR|0_x0005_`BLA|F_x0005_` | P24: B02873_1 | Q24: E1_1 | AC24: =HYPERLINK("#"&일위대가목록표!J2&"!A"&ROW(일위대가목록표!A10),"대가7 →") -> 대가7 →
B25: 이탈방지압륜 이형관 접합 및 부설 | C25: (D250mm), 직관품의 50% 할증 30% | D25: 18 | E25: 개소 | F25: =J25+H25+L25 -> 96952 | G25: =K25+I25+M25 -> 1745136 | H25: =일위대가목록표!F11 -> 71204 | I25: =ROUNDDOWN(H25*D25,0) -> 1281672 | J25: =일위대가목록표!G11 -> 11562 | K25: =ROUNDDOWN(J25*D25,0) -> 208116 | L25: =일위대가목록표!H11 -> 14186 | M25: =ROUNDDOWN(L25*D25,0) -> 255348 | N25: 대가 8호표 | O25: _x0007_`COD|B01295_x0005_`QTY1|1_x0005_`EXI|0_x0005_`IPR|0_x0005_`BLA|F_x0005_` | P25: B01295_1 | Q25: E1_1 | AC25: =HYPERLINK("#"&일위대가목록표!J2&"!A"&ROW(일위대가목록표!A11),"대가8 →") -> 대가8 →
B26: 이탈방지압륜접합 | C26: (D250mm)이탈방지압륜 접합 및 부설품의 60% 적용 | D26: 7 | E26: 개소 | F26: =J26+H26+L26 -> 58170 | G26: =K26+I26+M26 -> 407190 | H26: =일위대가목록표!F12 -> 42722 | I26: =ROUNDDOWN(H26*D26,0) -> 299054 | J26: =일위대가목록표!G12 -> 6937 | K26: =ROUNDDOWN(J26*D26,0) -> 48559 | L26: =일위대가목록표!H12 -> 8511 | M26: =ROUNDDOWN(L26*D26,0) -> 59577 | N26: 대가 9호표 | O26: _x0007_`COD|B02633_x0005_`QTY1|1_x0005_`EXI|0_x0005_`IPR|0_x0005_`BLA|F_x0005_` | P26: B02633_1 | Q26: E1_1 | AC26: =HYPERLINK("#"&일위대가목록표!J2&"!A"&ROW(일위대가목록표!A12),"대가9 →") -> 대가9 →
B27: 주철관절단 | C27: (D250㎜) | D27: 11 | E27: 개소 | F27: =J27+H27+L27 -> 38599 | G27: =K27+I27+M27 -> 424589 | H27: =일위대가목록표!F13 -> 36761 | I27: =ROUNDDOWN(H27*D27,0) -> 404371 | J27: =일위대가목록표!G13 -> 0 | K27: =ROUNDDOWN(J27*D27,0) -> 0 | L27: =일위대가목록표!H13 -> 1838 | M27: =ROUNDDOWN(L27*D27,0) -> 20218 | N27: 대가 10호표 | O27: _x0007_`COD|B00207_x0005_`QTY1|1_x0005_`EXI|0_x0005_`IPR|0_x0005_`BLA|F_x0005_` | P27: B00207_1 | Q27: E1_1 | AC27: =HYPERLINK("#"&일위대가목록표!J2&"!A"&ROW(일위대가목록표!A13),"대가10 →") -> 대가10 →
B28: 제수밸브부설및접합(게이트) | C28: (D250㎜) 주철제 | D28: 2 | E28: 개소 | F28: =J28+H28+L28 -> 124392 | G28: =K28+I28+M28 -> 248784 | H28: =일위대가목록표!F14 -> 107420 | I28: =ROUNDDOWN(H28*D28,0) -> 214840 | J28: =일위대가목록표!G14 -> 7376 | K28: =ROUNDDOWN(J28*D28,0) -> 14752 | L28: =일위대가목록표!H14 -> 9596 | M28: =ROUNDDOWN(L28*D28,0) -> 19192 | N28: 대가 11호표 | O28: _x0007_`COD|B00905_x0005_`QTY1|1_x0005_`EXI|0_x0005_`IPR|0_x0005_`BLA|F_x0005_` | P28: B00905_1 | Q28: E1_1 | AC28: =HYPERLINK("#"&일위대가목록표!J2&"!A"&ROW(일위대가목록표!A14),"대가11 →") -> 대가11 →
B29: 부단수할정자관부설및접합 | C29: D250,본관기준 | D29: 2 | E29: 개소 | F29: =J29+H29+L29 -> 83544 | G29: =K29+I29+M29 -> 167088 | H29: =일위대가목록표!F15 -> 78592 | I29: =ROUNDDOWN(H29*D29,0) -> 157184 | J29: =일위대가목록표!G15 -> 1761 | K29: =ROUNDDOWN(J29*D29,0) -> 3522 | L29: =일위대가목록표!H15 -> 3191 | M29: =ROUNDDOWN(L29*D29,0) -> 6382 | N29: 대가 12호표 | O29: _x0007_`COD|B03108_x0005_`QTY1|1_x0005_`EXI|0_x0005_`IPR|0_x0005_`BLA|F_x0005_` | P29: B03108_1 | Q29: E1_1 | AC29: =HYPERLINK("#"&일위대가목록표!J2&"!A"&ROW(일위대가목록표!A15),"대가12 →") -> 대가12 →
B30: 부단수천공분기점분기 | C30: D250,분기관(지관)기준 | D30: 2 | E30: 개소 | F30: =J30+H30+L30 -> 295082 | G30: =K30+I30+M30 -> 590164 | H30: =일위대가목록표!F16 -> 249471 | I30: =ROUNDDOWN(H30*D30,0) -> 498942 | J30: =일위대가목록표!G16 -> 16623 | K30: =ROUNDDOWN(J30*D30,0) -> 33246 | L30: =일위대가목록표!H16 -> 28988 | M30: =ROUNDDOWN(L30*D30,0) -> 57976 | N30: 대가 13호표 | O30: _x0007_`COD|B03086_x0005_`QTY1|1_x0005_`EXI|0_x0005_`IPR|0_x0005_`BLA|F_x0005_` | P30: B03086_1 | Q30: E1_1 | AC30: =HYPERLINK("#"&일위대가목록표!J2&"!A"&ROW(일위대가목록표!A16),"대가13 →") -> 대가13 →
B31: 플랜지접합 | C31: (D250㎜) | D31: 2 | E31: 개소 | F31: =J31+H31+L31 -> 74791 | G31: =K31+I31+M31 -> 149582 | H31: =일위대가목록표!F17 -> 48805 | I31: =ROUNDDOWN(H31*D31,0) -> 97610 | J31: =일위대가목록표!G17 -> 25010 | K31: =ROUNDDOWN(J31*D31,0) -> 50020 | L31: =일위대가목록표!H17 -> 976 | M31: =ROUNDDOWN(L31*D31,0) -> 1952 | N31: 대가 14호표 | O31: _x0007_`COD|B00790_x0005_`QTY1|1_x0005_`EXI|0_x0005_`IPR|0_x0005_`BLA|F_x0005_` | P31: B00790_1 | Q31: E1_1 | AC31: =HYPERLINK("#"&일위대가목록표!J2&"!A"&ROW(일위대가목록표!A17),"대가14 →") -> 대가14 →
B32: 주철관 철거 | C32: D250mm(기존관 철거) | D32: 4 | E32: 본 | F32: =J32+H32+L32 -> 48891 | G32: =K32+I32+M32 -> 195564 | H32: =일위대가목록표!F18 -> 38000 | I32: =ROUNDDOWN(H32*D32,0) -> 152000 | J32: =일위대가목록표!G18 -> 2533 | K32: =ROUNDDOWN(J32*D32,0) -> 10132 | L32: =일위대가목록표!H18 -> 8358 | M32: =ROUNDDOWN(L32*D32,0) -> 33432 | N32: 대가 15호표 | O32: _x0007_`COD|B05653_x0005_`QTY1|1_x0005_`EXI|0_x0005_`IPR|0_x0005_`BLA|F_x0005_` | P32: B05653_1 | Q32: E1_1 | AC32: =HYPERLINK("#"&일위대가목록표!J2&"!A"&ROW(일위대가목록표!A18),"대가15 →") -> 대가15 →
A33: 3. | B33: 구조물공 | F33: 0 | G33: =SUMIF(Q34:Q35,P33,G34:G35) -> 726520 | H33: 0 | I33: =SUMIF(Q34:Q35,P33,I34:I35) -> 558184 | J33: 0 | K33: =SUMIF(Q34:Q35,P33,K34:K35) -> 32406 | L33: 0 | M33: =SUMIF(Q34:Q35,P33,M34:M35) -> 135930 | O33: ="_x0007_`COD|E3_x0005_`QTY1|1_x0005_`EXI|0_x0005_`ITT|0_x0005_`END|"&ROW(M36)&"_x0005_`" -> _x0007_`COD|E3_x0005_`QTY1|1_x0005_`EXI|0_x0005_`ITT|0_x0005_`END|36_x0005_` | P33: E3_1 | Q33: E10_1
B34: 제수변실 설치 | C34: 1.2x1.2x1.5(개선품) | D34: 2 | E34: 개소 | F34: =J34+H34+L34 -> 335510 | G34: =K34+I34+M34 -> 671020 | H34: =단가산출근거목록표!F12 -> 251342 | I34: =ROUNDDOWN(H34*D34,0) -> 502684 | J34: =단가산출근거목록표!G12 -> 16203 | K34: =ROUNDDOWN(J34*D34,0) -> 32406 | L34: =단가산출근거목록표!H12 -> 67965 | M34: =ROUNDDOWN(L34*D34,0) -> 135930 | N34: 산근 9호표 | O34: _x0007_`COD|D03180_x0005_`QTY1|1_x0005_`EXI|0_x0005_`IPR|0_x0005_`BLA|F_x0005_` | P34: D03180_1 | Q34: E3_1 | AC34: =HYPERLINK("#"&단가산출근거목록표!J2&"!A"&ROW(단가산출근거목록표!A12),"산근9 →") -> 산근9 →
B35: 맨홀뚜껑설치(자재비별도) | C35: (상수도용:φ648mm)DKC | D35: 2 | E35: 조 | F35: =J35+H35+L35 -> 27750 | G35: =K35+I35+M35 -> 55500 | H35: =단가산출근거목록표!F13 -> 27750 | I35: =ROUNDDOWN(H35*D35,0) -> 55500 | J35: =단가산출근거목록표!G13 -> 0 | K35: =ROUNDDOWN(J35*D35,0) -> 0 | L35: =단가산출근거목록표!H13 -> 0 | M35: =ROUNDDOWN(L35*D35,0) -> 0 | N35: 산근 10호표 | O35: _x0007_`COD|D02908_x0005_`QTY1|1_x0005_`EXI|0_x0005_`IPR|0_x0005_`BLA|F_x0005_` | P35: D02908_1 | Q35: E3_1 | AC35: =HYPERLINK("#"&단가산출근거목록표!J2&"!A"&ROW(단가산출근거목록표!A13),"산근10 →") -> 산근10 →
A36: 4. | B36: 포장공 | F36: 0 | G36: =SUMIF(Q37:Q53,P36,G37:G53) -> 1474145 | H36: 0 | I36: =SUMIF(Q37:Q53,P36,I37:I53) -> 1234640 | J36: 0 | K36: =SUMIF(Q37:Q53,P36,K37:K53) -> 129150 | L36: 0 | M36: =SUMIF(Q37:Q53,P36,M37:M53) -> 110355 | O36: ="_x0007_`COD|E3_x0005_`QTY1|1_x0005_`EXI|0_x0005_`ITT|0_x0005_`END|"&ROW(M54)&"_x0005_`" -> _x0007_`COD|E3_x0005_`QTY1|1_x0005_`EXI|0_x0005_`ITT|0_x0005_`END|54_x0005_` | P36: E3_1 | Q36: E10_1
A37: 4.1 | B37: 아스콘포장 | F37: 0 | G37: =SUMIF(Q38:Q40,P37,G38:G40) -> 215032 | H37: 0 | I37: =SUMIF(Q38:Q40,P37,I38:I40) -> 138776 | J37: 0 | K37: =SUMIF(Q38:Q40,P37,K38:K40) -> 38947 | L37: 0 | M37: =SUMIF(Q38:Q40,P37,M38:M40) -> 37309 | O37: ="_x0007_`COD|E1_x0005_`QTY1|1_x0005_`EXI|0_x0005_`ITT|0_x0005_`END|"&ROW(M41)&"_x0005_`" -> _x0007_`COD|E1_x0005_`QTY1|1_x0005_`EXI|0_x0005_`ITT|0_x0005_`END|41_x0005_` | P37: E1_1 | Q37: E3_1
B38: 프라임코팅(RSC-3:75ℓ/a) | D38: 17 | E38: ㎡ | F38: =J38+H38+L38 -> 81 | G38: =K38+I38+M38 -> 1377 | H38: =단가산출근거목록표!F14 -> 79 | I38: =ROUNDDOWN(H38*D38,0) -> 1343 | J38: =단가산출근거목록표!G14 -> 2 | K38: =ROUNDDOWN(J38*D38,0) -> 34 | L38: =단가산출근거목록표!H14 -> 0 | M38: =ROUNDDOWN(L38*D38,0) -> 0 | N38: 산근 11호표 | O38: _x0007_`COD|D01361_x0005_`QTY1|1_x0005_`EXI|0_x0005_`IPR|0_x0005_`BLA|F_x0005_` | P38: D01361_1 | Q38: E1_1 | AC38: =HYPERLINK("#"&단가산출근거목록표!J2&"!A"&ROW(단가산출근거목록표!A14),"산근11 →") -> 산근11 →
B39: 기층포설및다짐 | C39: 인력식소규모포설(BB층) | D39: 17 | E39: ㎡ | F39: =J39+H39+L39 -> 6290 | G39: =K39+I39+M39 -> 106930 | H39: =단가산출근거목록표!F15 -> 5249 | I39: =ROUNDDOWN(H39*D39,0) -> 89233 | J39: =단가산출근거목록표!G15 -> 664 | K39: =ROUNDDOWN(J39*D39,0) -> 11288 | L39: =단가산출근거목록표!H15 -> 377 | M39: =ROUNDDOWN(L39*D39,0) -> 6409 | N39: 산근 12호표 | O39: _x0007_`COD|D01503_x0005_`QTY1|1_x0005_`EXI|0_x0005_`IPR|0_x0005_`BLA|F_x0005_` | P39: D01503_1 | Q39: E1_1 | AC39: =HYPERLINK("#"&단가산출근거목록표!J2&"!A"&ROW(단가산출근거목록표!A15),"산근12 →") -> 산근12 →
B40: 절삭후아스팔트덧씌우기 | C40: t=5cm B=2.0m(B-TYPE) | D40: 25 | E40: ㎡ | F40: =J40+H40+L40 -> 4269 | G40: =K40+I40+M40 -> 106725 | H40: =단가산출근거목록표!F16 -> 1928 | I40: =ROUNDDOWN(H40*D40,0) -> 48200 | J40: =단가산출근거목록표!G16 -> 1105 | K40: =ROUNDDOWN(J40*D40,0) -> 27625 | L40: =단가산출근거목록표!H16 -> 1236 | M40: =ROUNDDOWN(L40*D40,0) -> 30900 | N40: 산근 13호표 | O40: _x0007_`COD|D03372_x0005_`QTY1|1_x0005_`EXI|0_x0005_`IPR|0_x0005_`BLA|F_x0005_` | P40: D03372_1 | Q40: E1_1 | AC40: =HYPERLINK("#"&단가산출근거목록표!J2&"!A"&ROW(단가산출근거목록표!A16),"산근13 →") -> 산근13 →
A41: 4.2 | B41: 보조기층 포장 | F41: 0 | G41: =SUMIF(Q42:Q42,P41,G42:G42) -> 168184 | H41: 0 | I41: =SUMIF(Q42:Q42,P41,I42:I42) -> 122421 | J41: 0 | K41: =SUMIF(Q42:Q42,P41,K42:K42) -> 25351 | L41: 0 | M41: =SUMIF(Q42:Q42,P41,M42:M42) -> 20412 | O41: ="_x0007_`COD|E1_x0005_`QTY1|1_x0005_`EXI|0_x0005_`ITT|0_x0005_`END|"&ROW(M43)&"_x0005_`" -> _x0007_`COD|E1_x0005_`QTY1|1_x0005_`EXI|0_x0005_`ITT|0_x0005_`END|43_x0005_` | P41: E1_1 | Q41: E3_1
B42: 보조기층포설및다짐 | C42: 인력식소규모장비(자재비별도) | D42: 12.6 | E42: ㎥ | F42: =J42+H42+L42 -> 13348 | G42: =K42+I42+M42 -> 168184 | H42: =단가산출근거목록표!F17 -> 9716 | I42: =ROUNDDOWN(H42*D42,0) -> 122421 | J42: =단가산출근거목록표!G17 -> 2012 | K42: =ROUNDDOWN(J42*D42,0) -> 25351 | L42: =단가산출근거목록표!H17 -> 1620 | M42: =ROUNDDOWN(L42*D42,0) -> 20412 | N42: 산근 14호표 | O42: _x0007_`COD|D01352_x0005_`QTY1|1_x0005_`EXI|0_x0005_`IPR|0_x0005_`BLA|F_x0005_` | P42: D01352_1 | Q42: E1_1 | AC42: =HYPERLINK("#"&단가산출근거목록표!J2&"!A"&ROW(단가산출근거목록표!A17),"산근14 →") -> 산근14 →
A43: 4.3 | B43: 투수콘포장 | F43: 0 | G43: =SUMIF(Q44:Q44,P43,G44:G44) -> 330091 | H43: 0 | I43: =SUMIF(Q44:Q44,P43,I44:I44) -> 275479 | J43: 0 | K43: =SUMIF(Q44:Q44,P43,K44:K44) -> 34850 | L43: 0 | M43: =SUMIF(Q44:Q44,P43,M44:M44) -> 19762 | O43: ="_x0007_`COD|E1_x0005_`QTY1|1_x0005_`EXI|0_x0005_`ITT|0_x0005_`END|"&ROW(M45)&"_x0005_`" -> _x0007_`COD|E1_x0005_`QTY1|1_x0005_`EXI|0_x0005_`ITT|0_x0005_`END|45_x0005_` | P43: E1_1 | Q43: E3_1
B44: 투수콘포장(칼라) | C44: (7cm)보도용 | D44: 41 | E44: ㎡ | F44: =J44+H44+L44 -> 8051 | G44: =K44+I44+M44 -> 330091 | H44: =단가산출근거목록표!F18 -> 6719 | I44: =ROUNDDOWN(H44*D44,0) -> 275479 | J44: =단가산출근거목록표!G18 -> 850 | K44: =ROUNDDOWN(J44*D44,0) -> 34850 | L44: =단가산출근거목록표!H18 -> 482 | M44: =ROUNDDOWN(L44*D44,0) -> 19762 | N44: 산근 15호표 | O44: _x0007_`COD|D03304_x0005_`QTY1|1_x0005_`EXI|0_x0005_`IPR|0_x0005_`BLA|F_x0005_` | P44: D03304_1 | Q44: E1_1 | AC44: =HYPERLINK("#"&단가산출근거목록표!J2&"!A"&ROW(단가산출근거목록표!A18),"산근15 →") -> 산근15 →
A45: 4.4 | B45: 보도블록포장(점자블록) | F45: 0 | G45: =SUMIF(Q46:Q46,P45,G46:G46) -> 73282 | H45: 0 | I45: =SUMIF(Q46:Q46,P45,I46:I46) -> 62063 | J45: 0 | K45: =SUMIF(Q46:Q46,P45,K46:K46) -> 4460 | L45: 0 | M45: =SUMIF(Q46:Q46,P45,M46:M46) -> 6759 | O45: ="_x0007_`COD|E1_x0005_`QTY1|1_x0005_`EXI|0_x0005_`ITT|0_x0005_`END|"&ROW(M47)&"_x0005_`" -> _x0007_`COD|E1_x0005_`QTY1|1_x0005_`EXI|0_x0005_`ITT|0_x0005_`END|47_x0005_` | P45: E1_1 | Q45: E3_1
B46: 보도블럭포장(점자블럭)B-TYPE | C46: 차도인접, 주택가도로 T=6cm, 점형(30x30X6) | D46: 3.4 | E46: ㎡ | F46: =J46+H46+L46 -> 21554 | G46: =K46+I46+M46 -> 73282 | H46: =일위대가목록표!F19 -> 18254 | I46: =ROUNDDOWN(H46*D46,0) -> 62063 | J46: =일위대가목록표!G19 -> 1312 | K46: =ROUNDDOWN(J46*D46,0) -> 4460 | L46: =일위대가목록표!H19 -> 1988 | M46: =ROUNDDOWN(L46*D46,0) -> 6759 | N46: 대가 16호표 | O46: _x0007_`COD|B03724_x0005_`QTY1|1_x0005_`EXI|0_x0005_`IPR|0_x0005_`BLA|F_x0005_` | P46: B03724_1 | Q46: E1_1 | AC46: =HYPERLINK("#"&일위대가목록표!J2&"!A"&ROW(일위대가목록표!A19),"대가16 →") -> 대가16 →
A47: 4.5 | B47: 보차도 및 경계석설치 | F47: 0 | G47: =SUMIF(Q48:Q50,P47,G48:G50) -> 536282 | H47: 0 | I47: =SUMIF(Q48:Q50,P47,I48:I50) -> 491829 | J47: 0 | K47: =SUMIF(Q48:Q50,P47,K48:K50) -> 25542 | L47: 0 | M47: =SUMIF(Q48:Q50,P47,M48:M50) -> 18911 | O47: ="_x0007_`COD|E1_x0005_`QTY1|1_x0005_`EXI|0_x0005_`ITT|0_x0005_`END|"&ROW(M51)&"_x0005_`" -> _x0007_`COD|E1_x0005_`QTY1|1_x0005_`EXI|0_x0005_`ITT|0_x0005_`END|51_x0005_` | P47: E1_1 | Q47: E3_1
B48: L형측구 및 보차도경계석 재설치(B-TYPE) | C48: 화강석(200×250×1000)직선 | D48: 5 | E48: M | F48: =J48+H48+L48 -> 32254 | G48: =K48+I48+M48 -> 161270 | H48: =일위대가목록표!F20 -> 29801 | I48: =ROUNDDOWN(H48*D48,0) -> 149005 | J48: =일위대가목록표!G20 -> 1670 | K48: =ROUNDDOWN(J48*D48,0) -> 8350 | L48: =일위대가목록표!H20 -> 783 | M48: =ROUNDDOWN(L48*D48,0) -> 3915 | N48: 대가 17호표 | O48: _x0007_`COD|B06814_x0005_`QTY1|1_x0005_`EXI|0_x0005_`IPR|0_x0005_`BLA|F_x0005_` | P48: B06814_1 | Q48: E1_1 | AC48: =HYPERLINK("#"&일위대가목록표!J2&"!A"&ROW(일위대가목록표!A20),"대가17 →") -> 대가17 →
B49: L형측구 및 보차도경계석 재설치(B-TYPE) | C49: 화강석(180×200×1000)낯춤석 경계석제외 | D49: 4 | E49: M | F49: =J49+H49+L49 -> 32171 | G49: =K49+I49+M49 -> 128684 | H49: =일위대가목록표!F21 -> 29718 | I49: =ROUNDDOWN(H49*D49,0) -> 118872 | J49: =일위대가목록표!G21 -> 1670 | K49: =ROUNDDOWN(J49*D49,0) -> 6680 | L49: =일위대가목록표!H21 -> 783 | M49: =ROUNDDOWN(L49*D49,0) -> 3132 | N49: 대가 18호표 | O49: _x0007_`COD|B06813_x0005_`QTY1|1_x0005_`EXI|0_x0005_`IPR|0_x0005_`BLA|F_x0005_` | P49: B06813_1 | Q49: E1_1 | AC49: =HYPERLINK("#"&일위대가목록표!J2&"!A"&ROW(일위대가목록표!A21),"대가18 →") -> 대가18 →
B50: 도로경계석 설치(B-TYPE) | C50: 직선 차도인접, 주택가 110m/일 폭+높이300mm이하(150×150) | D50: 8 | E50: m | F50: =J50+H50+L50 -> 30791 | G50: =K50+I50+M50 -> 246328 | H50: =단가산출근거목록표!F19 -> 27994 | I50: =ROUNDDOWN(H50*D50,0) -> 223952 | J50: =단가산출근거목록표!G19 -> 1314 | K50: =ROUNDDOWN(J50*D50,0) -> 10512 | L50: =단가산출근거목록표!H19 -> 1483 | M50: =ROUNDDOWN(L50*D50,0) -> 11864 | N50: 산근 16호표 | O50: _x0007_`COD|D04433_x0005_`QTY1|1_x0005_`EXI|0_x0005_`IPR|0_x0005_`BLA|F_x0005_` | P50: D04433_1 | Q50: E1_1 | AC50: =HYPERLINK("#"&단가산출근거목록표!J2&"!A"&ROW(단가산출근거목록표!A19),"산근16 →") -> 산근16 →
A51: 4.6 | B51: 볼라드 철거 및 설치 | F51: 0 | G51: =SUMIF(Q52:Q53,P51,G52:G53) -> 151274 | H51: 0 | I51: =SUMIF(Q52:Q53,P51,I52:I53) -> 144072 | J51: 0 | K51: =SUMIF(Q52:Q53,P51,K52:K53) -> 0 | L51: 0 | M51: =SUMIF(Q52:Q53,P51,M52:M53) -> 7202 | O51: ="_x0007_`COD|E1_x0005_`QTY1|1_x0005_`EXI|0_x0005_`ITT|0_x0005_`END|"&ROW(M54)&"_x0005_`" -> _x0007_`COD|E1_x0005_`QTY1|1_x0005_`EXI|0_x0005_`ITT|0_x0005_`END|54_x0005_` | P51: E1_1 | Q51: E3_1
B52: 볼라드 철거 | C52: Φ100mm~150mm(설치비의50%) | D52: 2 | E52: 개소 | F52: =J52+H52+L52 -> 25212 | G52: =K52+I52+M52 -> 50424 | H52: =일위대가목록표!F22 -> 24012 | I52: =ROUNDDOWN(H52*D52,0) -> 48024 | J52: =일위대가목록표!G22 -> 0 | K52: =ROUNDDOWN(J52*D52,0) -> 0 | L52: =일위대가목록표!H22 -> 1200 | M52: =ROUNDDOWN(L52*D52,0) -> 2400 | N52: 대가 19호표 | O52: _x0007_`COD|B03895_x0005_`QTY1|1_x0005_`EXI|0_x0005_`IPR|0_x0005_`BLA|F_x0005_` | P52: B03895_1 | Q52: E1_1 | AC52: =HYPERLINK("#"&일위대가목록표!J2&"!A"&ROW(일위대가목록표!A22),"대가19 →") -> 대가19 →
B53: 볼라드 설치 | C53: (Φ100mm~150mm) | D53: 2 | E53: 개소 | F53: =J53+H53+L53 -> 50425 | G53: =K53+I53+M53 -> 100850 | H53: =단가산출근거목록표!F20 -> 48024 | I53: =ROUNDDOWN(H53*D53,0) -> 96048 | J53: =단가산출근거목록표!G20 -> 0 | K53: =ROUNDDOWN(J53*D53,0) -> 0 | L53: =단가산출근거목록표!H20 -> 2401 | M53: =ROUNDDOWN(L53*D53,0) -> 4802 | N53: 산근 17호표 | O53: _x0007_`COD|D02768_x0005_`QTY1|1_x0005_`EXI|0_x0005_`IPR|0_x0005_`BLA|F_x0005_` | P53: D02768_1 | Q53: E1_1 | AC53: =HYPERLINK("#"&단가산출근거목록표!J2&"!A"&ROW(단가산출근거목록표!A20),"산근17 →") -> 산근17 →
A54: 5. | B54: 부대공 | F54: 0 | G54: =SUMIF(Q55:Q64,P54,G55:G64) -> 3175204 | H54: 0 | I54: =SUMIF(Q55:Q64,P54,I55:I64) -> 1370243 | J54: 0 | K54: =SUMIF(Q55:Q64,P54,K55:K64) -> 594965 | L54: 0 | M54: =SUMIF(Q55:Q64,P54,M55:M64) -> 1209996 | O54: ="_x0007_`COD|E3_x0005_`QTY1|1_x0005_`EXI|0_x0005_`ITT|0_x0005_`END|"&ROW(M65)&"_x0005_`" -> _x0007_`COD|E3_x0005_`QTY1|1_x0005_`EXI|0_x0005_`ITT|0_x0005_`END|65_x0005_` | P54: E3_1 | Q54: E10_1
A55: 5.1 | B55: 운반 | F55: 0 | G55: =SUMIF(Q56:Q62,P55,G56:G62) -> 2921644 | H55: 0 | I55: =SUMIF(Q56:Q62,P55,I56:I62) -> 1276353 | J55: 0 | K55: =SUMIF(Q56:Q62,P55,K56:K62) -> 455389 | L55: 0 | M55: =SUMIF(Q56:Q62,P55,M56:M62) -> 1189902 | O55: ="_x0007_`COD|E1_x0005_`QTY1|1_x0005_`EXI|0_x0005_`ITT|0_x0005_`END|"&ROW(M63)&"_x0005_`" -> _x0007_`COD|E1_x0005_`QTY1|1_x0005_`EXI|0_x0005_`ITT|0_x0005_`END|63_x0005_` | P55: E1_1 | Q55: E3_1
B56: 중기 운반비 | C56: 모현읍 왕산리 | D56: 1 | E56: 식 | F56: =J56+H56+L56 -> 870233 | G56: =K56+I56+M56 -> 870233 | H56: =단가산출근거목록표!F21 -> 0 | I56: =ROUNDDOWN(H56*D56,0) -> 0 | J56: =단가산출근거목록표!G21 -> 0 | K56: =ROUNDDOWN(J56*D56,0) -> 0 | L56: =단가산출근거목록표!H21 -> 870233 | M56: =ROUNDDOWN(L56*D56,0) -> 870233 | N56: 산근 18호표 | O56: _x0007_`COD|D03917_x0005_`QTY1|1_x0005_`EXI|0_x0005_`IPR|0_x0005_`BLA|F_x0005_` | P56: D03917_1 | Q56: E1_1 | AC56: =HYPERLINK("#"&단가산출근거목록표!J2&"!A"&ROW(단가산출근거목록표!A21),"산근18 →") -> 산근18 →
B57: KP주철관 하차비(직관) | C57: 20톤이하, 생산공장~용인시청(360km | D57: 1 | E57: 식 | F57: =J57+H57+L57 -> 40000 | G57: =K57+I57+M57 -> 40000 | H57: =일식견적목록표!F5 -> 0 | I57: =ROUNDDOWN(H57*D57,0) -> 0 | J57: =일식견적목록표!G5 -> 0 | K57: =ROUNDDOWN(J57*D57,0) -> 0 | L57: =일식견적목록표!H5 -> 40000 | M57: =ROUNDDOWN(L57*D57,0) -> 40000 | N57: 기타2 | O57: _x0007_`COD|W00197_x0005_`QTY1|1_x0005_`EXI|0_x0005_`IPR|0_x0005_`BLA|F_x0005_` | P57: W00197_1 | Q57: E1_1 | AC57: =HYPERLINK("#"&일식견적목록표!J2&"!A"&ROW(일식견적목록표!A5),"기타2 →") -> 기타2 →
B58: KP주철관 하차비(이형관) | C58: 20TON이하,공장~용인시청(360m | D58: 1 | E58: 식 | F58: =J58+H58+L58 -> 40000 | G58: =K58+I58+M58 -> 40000 | H58: =일식견적목록표!F4 -> 0 | I58: =ROUNDDOWN(H58*D58,0) -> 0 | J58: =일식견적목록표!G4 -> 0 | K58: =ROUNDDOWN(J58*D58,0) -> 0 | L58: =일식견적목록표!H4 -> 40000 | M58: =ROUNDDOWN(L58*D58,0) -> 40000 | N58: 기타1 | O58: _x0007_`COD|W00244_x0005_`QTY1|1_x0005_`EXI|0_x0005_`IPR|0_x0005_`BLA|F_x0005_` | P58: W00244_1 | Q58: E1_1 | AC58: =HYPERLINK("#"&일식견적목록표!J2&"!A"&ROW(일식견적목록표!A4),"기타1 →") -> 기타1 →
B59: 차선도색(황색실선) | C59: (융착식) | D59: 0.5 | E59: ㎡ | F59: =J59+H59+L59 -> 19887 | G59: =K59+I59+M59 -> 9942 | H59: =단가산출근거목록표!F22 -> 2275 | I59: =ROUNDDOWN(H59*D59,0) -> 1137 | J59: =단가산출근거목록표!G22 -> 17337 | K59: =ROUNDDOWN(J59*D59,0) -> 8668 | L59: =단가산출근거목록표!H22 -> 275 | M59: =ROUNDDOWN(L59*D59,0) -> 137 | N59: 산근 19호표 | O59: _x0007_`COD|D02956_x0005_`QTY1|1_x0005_`EXI|0_x0005_`IPR|0_x0005_`BLA|F_x0005_` | P59: D02956_1 | Q59: E1_1 | AC59: =HYPERLINK("#"&단가산출근거목록표!J2&"!A"&ROW(단가산출근거목록표!A22),"산근19 →") -> 산근19 →
B60: 차선도색(백색실선) | C60: (융착식) | D60: 0.8 | E60: ㎡ | F60: =J60+H60+L60 -> 19887 | G60: =K60+I60+M60 -> 15909 | H60: =단가산출근거목록표!F23 -> 2275 | I60: =ROUNDDOWN(H60*D60,0) -> 1820 | J60: =단가산출근거목록표!G23 -> 17337 | K60: =ROUNDDOWN(J60*D60,0) -> 13869 | L60: =단가산출근거목록표!H23 -> 275 | M60: =ROUNDDOWN(L60*D60,0) -> 220 | N60: 산근 20호표 | O60: _x0007_`COD|D02954_x0005_`QTY1|1_x0005_`EXI|0_x0005_`IPR|0_x0005_`BLA|F_x0005_` | P60: D02954_1 | Q60: E1_1 | AC60: =HYPERLINK("#"&단가산출근거목록표!J2&"!A"&ROW(단가산출근거목록표!A23),"산근20 →") -> 산근20 →
B61: 차선도색(횡단보도) | C61: (융착식,백색) | D61: 12 | E61: ㎡ | F61: =J61+H61+L61 -> 24414 | G61: =K61+I61+M61 -> 292968 | H61: =단가산출근거목록표!F24 -> 5987 | I61: =ROUNDDOWN(H61*D61,0) -> 71844 | J61: =단가산출근거목록표!G24 -> 17703 | K61: =ROUNDDOWN(J61*D61,0) -> 212436 | L61: =단가산출근거목록표!H24 -> 724 | M61: =ROUNDDOWN(L61*D61,0) -> 8688 | N61: 산근 21호표 | O61: _x0007_`COD|D03552_x0005_`QTY1|1_x0005_`EXI|0_x0005_`IPR|0_x0005_`BLA|F_x0005_` | P61: D03552_1 | Q61: E1_1 | AC61: =HYPERLINK("#"&단가산출근거목록표!J2&"!A"&ROW(단가산출근거목록표!A24),"산근21 →") -> 산근21 →
B62: 조경 유용석 쌓기 및 놓기 | C62: 1ton | D62: 16 | E62: ton | F62: =J62+H62+L62 -> 103287 | G62: =K62+I62+M62 -> 1652592 | H62: =일위대가목록표!F23 -> 75097 | I62: =ROUNDDOWN(H62*D62,0) -> 1201552 | J62: =일위대가목록표!G23 -> 13776 | K62: =ROUNDDOWN(J62*D62,0) -> 220416 | L62: =일위대가목록표!H23 -> 14414 | M62: =ROUNDDOWN(L62*D62,0) -> 230624 | N62: 대가 20호표 | O62: _x0007_`COD|B03637_x0005_`QTY1|1_x0005_`EXI|0_x0005_`IPR|0_x0005_`BLA|F_x0005_` | P62: B03637_1 | Q62: E1_1 | AC62: =HYPERLINK("#"&일위대가목록표!J2&"!A"&ROW(일위대가목록표!A23),"대가20 →") -> 대가20 →
A63: 5.2 | B63: 확인굴착 | F63: 0 | G63: =SUMIF(Q64:Q64,P63,G64:G64) -> 253560 | H63: 0 | I63: =SUMIF(Q64:Q64,P63,I64:I64) -> 93890 | J63: 0 | K63: =SUMIF(Q64:Q64,P63,K64:K64) -> 139576 | L63: 0 | M63: =SUMIF(Q64:Q64,P63,M64:M64) -> 20094 | O63: ="_x0007_`COD|E1_x0005_`QTY1|1_x0005_`EXI|0_x0005_`ITT|0_x0005_`END|"&ROW(M65)&"_x0005_`" -> _x0007_`COD|E1_x0005_`QTY1|1_x0005_`EXI|0_x0005_`ITT|0_x0005_`END|65_x0005_` | P63: E1_1 | Q63: E3_1
B64: 시험굴착 | C64: (2.0x1.0x1.5) | D64: 2 | E64: 개소 | F64: =J64+H64+L64 -> 126780 | G64: =K64+I64+M64 -> 253560 | H64: =일위대가목록표!F24 -> 46945 | I64: =ROUNDDOWN(H64*D64,0) -> 93890 | J64: =일위대가목록표!G24 -> 69788 | K64: =ROUNDDOWN(J64*D64,0) -> 139576 | L64: =일위대가목록표!H24 -> 10047 | M64: =ROUNDDOWN(L64*D64,0) -> 20094 | N64: 대가 21호표 | O64: _x0007_`COD|B01892_x0005_`QTY1|1_x0005_`EXI|0_x0005_`IPR|0_x0005_`BLA|F_x0005_` | P64: B01892_1 | Q64: E1_1 | AC64: =HYPERLINK("#"&일위대가목록표!J2&"!A"&ROW(일위대가목록표!A24),"대가21 →") -> 대가21 →
A65: 6. | B65: 사급자재비 | F65: 0 | G65: =SUMIF(Q66:Q87,P65,G66:G87) -> 15138423 | H65: 0 | I65: =SUMIF(Q66:Q87,P65,I66:I87) -> 0 | J65: 0 | K65: =SUMIF(Q66:Q87,P65,K66:K87) -> 15138423 | L65: 0 | M65: =SUMIF(Q66:Q87,P65,M66:M87) -> 0 | O65: ="_x0007_`COD|E3_x0005_`QTY1|1_x0005_`EXI|0_x0005_`ITT|0_x0005_`END|"&ROW(M88)&"_x0005_`" -> _x0007_`COD|E3_x0005_`QTY1|1_x0005_`EXI|0_x0005_`ITT|0_x0005_`END|88_x0005_` | P65: E3_1 | Q65: E10_1
B66: 레미콘 | C66: 25-21-08 | D66: 2 | E66: ㎥ | F66: =J66+H66+L66 -> 94240 | G66: =K66+I66+M66 -> 188480 | H66: 0 | I66: =ROUNDDOWN(H66*D66,0) -> 0 | J66: =재료비목록표!E23 -> 94240 | K66: =ROUNDDOWN(J66*D66,0) -> 188480 | L66: 0 | M66: =ROUNDDOWN(L66*D66,0) -> 0 | N66: 자재20 | O66: _x0007_`COD|M00188_x0005_`QTY1|1_x0005_`EXI|0_x0005_`IPR|0_x0005_`KWN|0_x0005_`BLA|F_x0005_` | P66: M00188_1 | Q66: E3_1 | AC66: =HYPERLINK("#"&재료비목록표!G2&"!A"&ROW(재료비목록표!A23),"자재20 →") -> 자재20 →
B67: 아스콘 | C67: 표층용(#78) | D67: 3 | E67: TON | F67: =J67+H67+L67 -> 116160 | G67: =K67+I67+M67 -> 348480 | H67: 0 | I67: =ROUNDDOWN(H67*D67,0) -> 0 | J67: =재료비목록표!E37 -> 116160 | K67: =ROUNDDOWN(J67*D67,0) -> 348480 | L67: 0 | M67: =ROUNDDOWN(L67*D67,0) -> 0 | N67: 자재34 | O67: _x0007_`COD|M00641_x0005_`QTY1|1_x0005_`EXI|0_x0005_`IPR|0_x0005_`KWN|0_x0005_`BLA|F_x0005_` | P67: M00641_1 | Q67: E3_1 | AC67: =HYPERLINK("#"&재료비목록표!G2&"!A"&ROW(재료비목록표!A37),"자재34 →") -> 자재34 →
B68: 아스콘 | C68: 기층용(#467) | D68: 8 | E68: Ton | F68: =J68+H68+L68 -> 93170 | G68: =K68+I68+M68 -> 745360 | H68: 0 | I68: =ROUNDDOWN(H68*D68,0) -> 0 | J68: =재료비목록표!E36 -> 93170 | K68: =ROUNDDOWN(J68*D68,0) -> 745360 | L68: 0 | M68: =ROUNDDOWN(L68*D68,0) -> 0 | N68: 자재33 | O68: _x0007_`COD|M00642_x0005_`QTY1|1_x0005_`EXI|0_x0005_`IPR|0_x0005_`KWN|0_x0005_`BLA|F_x0005_` | P68: M00642_1 | Q68: E3_1 | AC68: =HYPERLINK("#"&재료비목록표!G2&"!A"&ROW(재료비목록표!A36),"자재33 →") -> 자재33 →
B69: 아스팔트 유제 | C69: RSC-4,(현장도착도) | D69: 0.1 | E69: D/M | F69: =J69+H69+L69 -> 154620 | G69: =K69+I69+M69 -> 15462 | H69: 0 | I69: =ROUNDDOWN(H69*D69,0) -> 0 | J69: =재료비목록표!E39 -> 154620 | K69: =ROUNDDOWN(J69*D69,0) -> 15462 | L69: 0 | M69: =ROUNDDOWN(L69*D69,0) -> 0 | N69: 자재36 | O69: _x0007_`COD|M04118_x0005_`QTY1|1_x0005_`EXI|0_x0005_`IPR|0_x0005_`KWN|0_x0005_`BLA|F_x0005_` | P69: M04118_1 | Q69: E3_1 | AC69: =HYPERLINK("#"&재료비목록표!G2&"!A"&ROW(재료비목록표!A39),"자재36 →") -> 자재36 →
B70: 아스팔트 유제 | C70: RSC-3,(현장도착도) | D70: 0.1 | E70: D/M | F70: =J70+H70+L70 -> 154620 | G70: =K70+I70+M70 -> 15462 | H70: 0 | I70: =ROUNDDOWN(H70*D70,0) -> 0 | J70: =재료비목록표!E38 -> 154620 | K70: =ROUNDDOWN(J70*D70,0) -> 15462 | L70: 0 | M70: =ROUNDDOWN(L70*D70,0) -> 0 | N70: 자재35 | O70: _x0007_`COD|M04117_x0005_`QTY1|1_x0005_`EXI|0_x0005_`IPR|0_x0005_`KWN|0_x0005_`BLA|F_x0005_` | P70: M04117_1 | Q70: E3_1 | AC70: =HYPERLINK("#"&재료비목록표!G2&"!A"&ROW(재료비목록표!A38),"자재35 →") -> 자재35 →
B71: 혼합골재 | C71: Φ40mm이하 (시내도착도) | D71: 17 | E71: ㎥ | F71: =J71+H71+L71 -> 26000 | G71: =K71+I71+M71 -> 442000 | H71: 0 | I71: =ROUNDDOWN(H71*D71,0) -> 0 | J71: =재료비목록표!E55 -> 26000 | K71: =ROUNDDOWN(J71*D71,0) -> 442000 | L71: 0 | M71: =ROUNDDOWN(L71*D71,0) -> 0 | N71: 자재52 | O71: _x0007_`COD|M03931_x0005_`QTY1|1_x0005_`EXI|0_x0005_`IPR|0_x0005_`KWN|0_x0005_`BLA|F_x0005_` | P71: M03931_1 | Q71: E3_1 | AC71: =HYPERLINK("#"&재료비목록표!G2&"!A"&ROW(재료비목록표!A55),"자재52 →") -> 자재52 →
B72: 모래 | C72: (도착도) | D72: 9 | E72: ㎥ | F72: =J72+H72+L72 -> 37000 | G72: =K72+I72+M72 -> 333000 | H72: 0 | I72: =ROUNDDOWN(H72*D72,0) -> 0 | J72: =재료비목록표!E26 -> 37000 | K72: =ROUNDDOWN(J72*D72,0) -> 333000 | L72: 0 | M72: =ROUNDDOWN(L72*D72,0) -> 0 | N72: 자재23 | O72: _x0007_`COD|M03781_x0005_`QTY1|1_x0005_`EXI|0_x0005_`IPR|0_x0005_`KWN|0_x0005_`BLA|F_x0005_` | P72: M03781_1 | Q72: E3_1 | AC72: =HYPERLINK("#"&재료비목록표!G2&"!A"&ROW(재료비목록표!A26),"자재23 →") -> 자재23 →
B73: 시멘트 | C73: 40kg/대(수원) | D73: 1 | E73: 대 | F73: =J73+H73+L73 -> 8300 | G73: =K73+I73+M73 -> 8300 | H73: 0 | I73: =ROUNDDOWN(H73*D73,0) -> 0 | J73: =재료비목록표!E35 -> 8300 | K73: =ROUNDDOWN(J73*D73,0) -> 8300 | L73: 0 | M73: =ROUNDDOWN(L73*D73,0) -> 0 | N73: 자재32 | O73: _x0007_`COD|M00636_x0005_`QTY1|1_x0005_`EXI|0_x0005_`IPR|0_x0005_`KWN|0_x0005_`BLA|F_x0005_` | P73: M00636_1 | Q73: E3_1 | AC73: =HYPERLINK("#"&재료비목록표!G2&"!A"&ROW(재료비목록표!A35),"자재32 →") -> 자재32 →
B74: 사각맨홀 | C74: 1.5x1.5x2.0,도착도 | D74: 2 | E74: 개 | F74: =J74+H74+L74 -> 2370000 | G74: =K74+I74+M74 -> 4740000 | H74: 0 | I74: =ROUNDDOWN(H74*D74,0) -> 0 | J74: =재료비목록표!E33 -> 2370000 | K74: =ROUNDDOWN(J74*D74,0) -> 4740000 | L74: 0 | M74: =ROUNDDOWN(L74*D74,0) -> 0 | N74: 자재30 | O74: _x0007_`COD|M05624_x0005_`QTY1|1_x0005_`EXI|0_x0005_`IPR|0_x0005_`KWN|0_x0005_`BLA|F_x0005_` | P74: M05624_1 | Q74: E3_1 | AC74: =HYPERLINK("#"&재료비목록표!G2&"!A"&ROW(재료비목록표!A33),"자재30 →") -> 자재30 →
B75: 보차도경계석(화강석) | C75: 200*250*1000(직선) | D75: 5 | E75: 개 | F75: =J75+H75+L75 -> 29300 | G75: =K75+I75+M75 -> 146500 | H75: 0 | I75: =ROUNDDOWN(H75*D75,0) -> 0 | J75: =재료비목록표!E29 -> 29300 | K75: =ROUNDDOWN(J75*D75,0) -> 146500 | L75: 0 | M75: =ROUNDDOWN(L75*D75,0) -> 0 | N75: 자재26 | O75: _x0007_`COD|M00361_x0005_`QTY1|1_x0005_`EXI|0_x0005_`IPR|0_x0005_`KWN|0_x0005_`BLA|F_x0005_` | P75: M00361_1 | Q75: E3_1 | AC75: =HYPERLINK("#"&재료비목록표!G2&"!A"&ROW(재료비목록표!A29),"자재26 →") -> 자재26 →
B76: 보차도경계석(화강석) | C76: 180*200*1000(낯춤석) | D76: 4 | E76: 개 | F76: =J76+H76+L76 -> 16100 | G76: =K76+I76+M76 -> 64400 | H76: 0 | I76: =ROUNDDOWN(H76*D76,0) -> 0 | J76: =재료비목록표!E28 -> 16100 | K76: =ROUNDDOWN(J76*D76,0) -> 64400 | L76: 0 | M76: =ROUNDDOWN(L76*D76,0) -> 0 | N76: 자재25 | O76: _x0007_`COD|M07143_x0005_`QTY1|1_x0005_`EXI|0_x0005_`IPR|0_x0005_`KWN|0_x0005_`BLA|F_x0005_` | P76: M07143_1 | Q76: E3_1 | AC76: =HYPERLINK("#"&재료비목록표!G2&"!A"&ROW(재료비목록표!A28),"자재25 →") -> 자재25 →
B77: 도로경계블럭(직선) | C77: 150x150x1000 | D77: 8 | E77: 개 | F77: =J77+H77+L77 -> 17890 | G77: =K77+I77+M77 -> 143120 | H77: 0 | I77: =ROUNDDOWN(H77*D77,0) -> 0 | J77: =재료비목록표!E21 -> 17890 | K77: =ROUNDDOWN(J77*D77,0) -> 143120 | L77: 0 | M77: =ROUNDDOWN(L77*D77,0) -> 0 | N77: 자재18 | O77: _x0007_`COD|M02742_x0005_`QTY1|1_x0005_`EXI|0_x0005_`IPR|0_x0005_`KWN|0_x0005_`BLA|F_x0005_` | P77: M02742_1 | Q77: E3_1 | AC77: =HYPERLINK("#"&재료비목록표!G2&"!A"&ROW(재료비목록표!A21),"자재18 →") -> 자재18 →
B78: 점자블럭(선형) | C78: 300x300x60 황색 | D78: 38 | E78: 개 | F78: =J78+H78+L78 -> 4000 | G78: =K78+I78+M78 -> 152000 | H78: 0 | I78: =ROUNDDOWN(H78*D78,0) -> 0 | J78: =재료비목록표!E45 -> 4000 | K78: =ROUNDDOWN(J78*D78,0) -> 152000 | L78: 0 | M78: =ROUNDDOWN(L78*D78,0) -> 0 | N78: 자재42 | O78: _x0007_`COD|M07040_x0005_`QTY1|1_x0005_`EXI|0_x0005_`IPR|0_x0005_`KWN|0_x0005_`BLA|F_x0005_` | P78: M07040_1 | Q78: E3_1 | AC78: =HYPERLINK("#"&재료비목록표!G2&"!A"&ROW(재료비목록표!A45),"자재42 →") -> 자재42 →
B79: 투수콘 | C79: (적색, 회색) | D79: 3 | E79: ㎥ | F79: =J79+H79+L79 -> 245000 | G79: =K79+I79+M79 -> 735000 | H79: 0 | I79: =ROUNDDOWN(H79*D79,0) -> 0 | J79: =재료비목록표!E50 -> 245000 | K79: =ROUNDDOWN(J79*D79,0) -> 735000 | L79: 0 | M79: =ROUNDDOWN(L79*D79,0) -> 0 | N79: 자재47 | O79: _x0007_`COD|M07759_x0005_`QTY1|1_x0005_`EXI|0_x0005_`IPR|0_x0005_`KWN|0_x0005_`BLA|F_x0005_` | P79: M07759_1 | Q79: E3_1 | AC79: =HYPERLINK("#"&재료비목록표!G2&"!A"&ROW(재료비목록표!A50),"자재47 →") -> 자재47 →
B80: 부단수할정자관 | C80: D250*250 | D80: 2 | E80: 개 | F80: =J80+H80+L80 -> 2050700 | G80: =K80+I80+M80 -> 4101400 | H80: 0 | I80: =ROUNDDOWN(H80*D80,0) -> 0 | J80: =재료비목록표!E31 -> 2050700 | K80: =ROUNDDOWN(J80*D80,0) -> 4101400 | L80: 0 | M80: =ROUNDDOWN(L80*D80,0) -> 0 | N80: 자재28 | O80: _x0007_`COD|M06368_x0005_`QTY1|1_x0005_`EXI|0_x0005_`IPR|0_x0005_`KWN|0_x0005_`BLA|F_x0005_` | P80: M06368_1 | Q80: E3_1 | AC80: =HYPERLINK("#"&재료비목록표!G2&"!A"&ROW(재료비목록표!A31),"자재28 →") -> 자재28 →
B81: K.P플랜지 소켓 | C81: D250 | D81: 2 | E81: 개 | F81: =J81+H81+L81 -> 138410 | G81: =K81+I81+M81 -> 276820 | H81: 0 | I81: =ROUNDDOWN(H81*D81,0) -> 0 | J81: =재료비목록표!E10 -> 138410 | K81: =ROUNDDOWN(J81*D81,0) -> 276820 | L81: 0 | M81: =ROUNDDOWN(L81*D81,0) -> 0 | N81: 자재7 | O81: _x0007_`COD|M06200_x0005_`QTY1|1_x0005_`EXI|0_x0005_`IPR|0_x0005_`KWN|0_x0005_`BLA|F_x0005_` | P81: M06200_1 | Q81: E3_1 | AC81: =HYPERLINK("#"&재료비목록표!G2&"!A"&ROW(재료비목록표!A10),"자재7 →") -> 자재7 →
B82: K.P이음관 | C82: D250 | D82: 8 | E82: 개 | F82: =J82+H82+L82 -> 145220 | G82: =K82+I82+M82 -> 1161760 | H82: 0 | I82: =ROUNDDOWN(H82*D82,0) -> 0 | J82: =재료비목록표!E9 -> 145220 | K82: =ROUNDDOWN(J82*D82,0) -> 1161760 | L82: 0 | M82: =ROUNDDOWN(L82*D82,0) -> 0 | N82: 자재6 | O82: _x0007_`COD|M00485_x0005_`QTY1|1_x0005_`EXI|0_x0005_`IPR|0_x0005_`KWN|0_x0005_`BLA|F_x0005_` | P82: M00485_1 | Q82: E3_1 | AC82: =HYPERLINK("#"&재료비목록표!G2&"!A"&ROW(재료비목록표!A9),"자재6 →") -> 자재6 →
B83: K.P소켓곡관(B) | C83: D250x45° | D83: 4 | E83: 개 | F83: =J83+H83+L83 -> 181520 | G83: =K83+I83+M83 -> 726080 | H83: 0 | I83: =ROUNDDOWN(H83*D83,0) -> 0 | J83: =재료비목록표!E8 -> 181520 | K83: =ROUNDDOWN(J83*D83,0) -> 726080 | L83: 0 | M83: =ROUNDDOWN(L83*D83,0) -> 0 | N83: 자재5 | O83: _x0007_`COD|M01279_x0005_`QTY1|1_x0005_`EXI|0_x0005_`IPR|0_x0005_`KWN|0_x0005_`BLA|F_x0005_` | P83: M01279_1 | Q83: E3_1 | AC83: =HYPERLINK("#"&재료비목록표!G2&"!A"&ROW(재료비목록표!A8),"자재5 →") -> 자재5 →
B84: K.P소켓곡관(B) | C84: D250x11.25° | D84: 1 | E84: 개 | F84: =J84+H84+L84 -> 145220 | G84: =K84+I84+M84 -> 145220 | H84: 0 | I84: =ROUNDDOWN(H84*D84,0) -> 0 | J84: =재료비목록표!E7 -> 145220 | K84: =ROUNDDOWN(J84*D84,0) -> 145220 | L84: 0 | M84: =ROUNDDOWN(L84*D84,0) -> 0 | N84: 자재4 | O84: _x0007_`COD|M06275_x0005_`QTY1|1_x0005_`EXI|0_x0005_`IPR|0_x0005_`KWN|0_x0005_`BLA|F_x0005_` | P84: M06275_1 | Q84: E3_1 | AC84: =HYPERLINK("#"&재료비목록표!G2&"!A"&ROW(재료비목록표!A7),"자재4 →") -> 자재4 →
B85: K.P 캡 | C85: D250 | D85: 2 | E85: 조 | F85: =J85+H85+L85 -> 81680 | G85: =K85+I85+M85 -> 163360 | H85: 0 | I85: =ROUNDDOWN(H85*D85,0) -> 0 | J85: =재료비목록표!E6 -> 81680 | K85: =ROUNDDOWN(J85*D85,0) -> 163360 | L85: 0 | M85: =ROUNDDOWN(L85*D85,0) -> 0 | N85: 자재3 | O85: _x0007_`COD|M05608_x0005_`QTY1|1_x0005_`EXI|0_x0005_`IPR|0_x0005_`KWN|0_x0005_`BLA|F_x0005_` | P85: M05608_1 | Q85: E3_1 | AC85: =HYPERLINK("#"&재료비목록표!G2&"!A"&ROW(재료비목록표!A6),"자재3 →") -> 자재3 →
B86: K.P 단관 | C86: D250x2.0m | D86: 2 | E86: 개 | F86: =J86+H86+L86 -> 240800 | G86: =K86+I86+M86 -> 481600 | H86: 0 | I86: =ROUNDDOWN(H86*D86,0) -> 0 | J86: =재료비목록표!E4 -> 240800 | K86: =ROUNDDOWN(J86*D86,0) -> 481600 | L86: 0 | M86: =ROUNDDOWN(L86*D86,0) -> 0 | N86: 자재1 | O86: _x0007_`COD|M07927_x0005_`QTY1|1_x0005_`EXI|0_x0005_`IPR|0_x0005_`KWN|0_x0005_`BLA|F_x0005_` | P86: M07927_1 | Q86: E3_1 | AC86: =HYPERLINK("#"&재료비목록표!G2&"!A"&ROW(재료비목록표!A4),"자재1 →") -> 자재1 →
B87: 관로 테이프 | C87: D300mm 지하매설물 경고테이프 | D87: 31 | E87: M | F87: =J87+H87+L87 -> 149 | G87: =K87+I87+M87 -> 4619 | H87: 0 | I87: =ROUNDDOWN(H87*D87,0) -> 0 | J87: =재료비목록표!E18 -> 149 | K87: =ROUNDDOWN(J87*D87,0) -> 4619 | L87: 0 | M87: =ROUNDDOWN(L87*D87,0) -> 0 | N87: 자재15 | O87: _x0007_`COD|M06326_x0005_`QTY1|1_x0005_`EXI|0_x0005_`IPR|0_x0005_`KWN|0_x0005_`BLA|F_x0005_`PSKP|1_x0005_` | P87: M06326_1 | Q87: E3_1 | AC87: =HYPERLINK("#"&재료비목록표!G2&"!A"&ROW(재료비목록표!A18),"자재15 →") -> 자재15 →
A105: 7. | B105: 안전관리비 | F105: 0 | G105: =SUMIF(Q106:Q111,P105,G106:G111) -> 1856940 | H105: 0 | I105: =SUMIF(Q106:Q111,P105,I106:I111) -> 9326 | J105: 0 | K105: =SUMIF(Q106:Q111,P105,K106:K111) -> 304544 | L105: 0 | M105: =SUMIF(Q106:Q111,P105,M106:M111) -> 1543070 | N105: (제외금액) | O105: ="_x0007_`COD|C3_x0005_`QTY1|1_x0005_`EXI|1_x0005_`ITT|0_x0005_`END|"&ROW(M112)&"_x0005_`" -> _x0007_`COD|C3_x0005_`QTY1|1_x0005_`EXI|1_x0005_`ITT|0_x0005_`END|112_x0005_` | P105: C3_1
B106: 교통신호수 | C106: 2인1조 | D106: 4 | E106: 일 | F106: =J106+H106+L106 -> 347568 | G106: =K106+I106+M106 -> 1390272 | H106: =일위대가목록표!F25 -> 0 | I106: =ROUNDDOWN(H106*D106,0) -> 0 | J106: =일위대가목록표!G25 -> 0 | K106: =ROUNDDOWN(J106*D106,0) -> 0 | L106: =일위대가목록표!H25 -> 347568 | M106: =ROUNDDOWN(L106*D106,0) -> 1390272 | N106: 대가 22호표 | O106: _x0007_`COD|B02657_x0005_`QTY1|1_x0005_`EXI|0_x0005_`IPR|0_x0005_`BLA|F_x0005_` | P106: B02657_1 | Q106: C3_1 | AC106: =HYPERLINK("#"&일위대가목록표!J2&"!A"&ROW(일위대가목록표!A25),"대가22 →") -> 대가22 →
B107: 공사안내간판 및 플랜카드 | C107: 공사안내간판(0.9*1.8m), 플랜카드(0.7*7.0m) | D107: 2 | E107: 개 | F107: =J107+H107+L107 -> 156935 | G107: =K107+I107+M107 -> 313870 | H107: =일위대가목록표!F26 -> 4663 | I107: =ROUNDDOWN(H107*D107,0) -> 9326 | J107: =일위대가목록표!G26 -> 152272 | K107: =ROUNDDOWN(J107*D107,0) -> 304544 | L107: =일위대가목록표!H26 -> 0 | M107: =ROUNDDOWN(L107*D107,0) -> 0 | N107: 대가 23호표 | O107: _x0007_`COD|B04012_x0005_`QTY1|1_x0005_`EXI|0_x0005_`IPR|0_x0005_`BLA|F_x0005_` | P107: B04012_1 | Q107: C3_1 | AC107: =HYPERLINK("#"&일위대가목록표!J2&"!A"&ROW(일위대가목록표!A26),"대가23 →") -> 대가23 →
B108: 공사안내 표지판 구입 | C108: 900x1800 | D108: 2 | E108: EA | F108: =J108+H108+L108 -> 42141 | G108: =K108+I108+M108 -> 84282 | H108: =단가산출근거목록표!F25 -> 0 | I108: =ROUNDDOWN(H108*D108,0) -> 0 | J108: =단가산출근거목록표!G25 -> 0 | K108: =ROUNDDOWN(J108*D108,0) -> 0 | L108: =단가산출근거목록표!H25 -> 42141 | M108: =ROUNDDOWN(L108*D108,0) -> 84282 | N108: 산근 22호표 | O108: _x0007_`COD|D04342_x0005_`QTY1|1_x0005_`EXI|0_x0005_`IPR|0_x0005_`BLA|F_x0005_` | P108: D04342_1 | Q108: C3_1 | AC108: =HYPERLINK("#"&단가산출근거목록표!J2&"!A"&ROW(단가산출근거목록표!A25),"산근22 →") -> 산근22 →
B109: 공사안내 표지판 구입 | C109: 600x900 | D109: 2 | E109: EA | F109: =J109+H109+L109 -> 17052 | G109: =K109+I109+M109 -> 34104 | H109: =단가산출근거목록표!F26 -> 0 | I109: =ROUNDDOWN(H109*D109,0) -> 0 | J109: =단가산출근거목록표!G26 -> 0 | K109: =ROUNDDOWN(J109*D109,0) -> 0 | L109: =단가산출근거목록표!H26 -> 17052 | M109: =ROUNDDOWN(L109*D109,0) -> 34104 | N109: 산근 23호표 | O109: _x0007_`COD|D04343_x0005_`QTY1|1_x0005_`EXI|0_x0005_`IPR|0_x0005_`BLA|F_x0005_` | P109: D04343_1 | Q109: C3_1 | AC109: =HYPERLINK("#"&단가산출근거목록표!J2&"!A"&ROW(단가산출근거목록표!A26),"산근23 →") -> 산근23 →
B110: 공사안내 표지판 설치/철거 | C110: 900x1800 | D110: 2 | E110: EA | F110: =J110+H110+L110 -> 8603 | G110: =K110+I110+M110 -> 17206 | H110: =단가산출근거목록표!F27 -> 0 | I110: =ROUNDDOWN(H110*D110,0) -> 0 | J110: =단가산출근거목록표!G27 -> 0 | K110: =ROUNDDOWN(J110*D110,0) -> 0 | L110: =단가산출근거목록표!H27 -> 8603 | M110: =ROUNDDOWN(L110*D110,0) -> 17206 | N110: 산근 24호표 | O110: _x0007_`COD|D04344_x0005_`QTY1|1_x0005_`EXI|0_x0005_`IPR|0_x0005_`BLA|F_x0005_` | P110: D04344_1 | Q110: C3_1 | AC110: =HYPERLINK("#"&단가산출근거목록표!J2&"!A"&ROW(단가산출근거목록표!A27),"산근24 →") -> 산근24 →
B111: 공사안내 표지판 설치/철거 | C111: 600x900 | D111: 2 | E111: EA | F111: =J111+H111+L111 -> 8603 | G111: =K111+I111+M111 -> 17206 | H111: =단가산출근거목록표!F28 -> 0 | I111: =ROUNDDOWN(H111*D111,0) -> 0 | J111: =단가산출근거목록표!G28 -> 0 | K111: =ROUNDDOWN(J111*D111,0) -> 0 | L111: =단가산출근거목록표!H28 -> 8603 | M111: =ROUNDDOWN(L111*D111,0) -> 17206 | N111: 산근 25호표 | O111: _x0007_`COD|D04345_x0005_`QTY1|1_x0005_`EXI|0_x0005_`IPR|0_x0005_`BLA|F_x0005_`PSKP|1_x0005_` | P111: D04345_1 | Q111: C3_1 | AC111: =HYPERLINK("#"&단가산출근거목록표!J2&"!A"&ROW(단가산출근거목록표!A28),"산근25 →") -> 산근25 →
A125: 8. | B125: 관급자재비(도급자설치비) | F125: 0 | G125: =SUMIF(Q126:Q140,P125,G126:G140) -> 10452000 | H125: 0 | I125: =SUMIF(Q126:Q140,P125,I126:I140) -> 0 | J125: 0 | K125: =SUMIF(Q126:Q140,P125,K126:K140) -> 10224660 | L125: 0 | M125: =SUMIF(Q126:Q140,P125,M126:M140) -> 227340 | N125: (제외금액) | O125: ="_x0007_`COD|C3_x0005_`QTY1|1_x0005_`EXI|1_x0005_`ITT|0_x0005_`END|"&ROW(M141)&"_x0005_`" -> _x0007_`COD|C3_x0005_`QTY1|1_x0005_`EXI|1_x0005_`ITT|0_x0005_`END|141_x0005_` | P125: C3_1
A126: 8.1 | B126: 맨홀뚜껑 | F126: 0 | G126: =SUMIF(Q127:Q128,P126,G127:G128) -> 1115990 | H126: 0 | I126: =SUMIF(Q127:Q128,P126,I127:I128) -> 0 | J126: 0 | K126: =SUMIF(Q127:Q128,P126,K127:K128) -> 1110000 | L126: 0 | M126: =SUMIF(Q127:Q128,P126,M127:M128) -> 5990 | O126: ="_x0007_`COD|E2_x0005_`QTY1|1_x0005_`EXI|0_x0005_`ITT|0_x0005_`END|"&ROW(M129)&"_x0005_`" -> _x0007_`COD|E2_x0005_`QTY1|1_x0005_`EXI|0_x0005_`ITT|0_x0005_`END|129_x0005_` | P126: E2_1 | Q126: C3_1
B127: 맨홀뚜껑(관급) | C127: 상수도용φ648 DKC-648251 | D127: 2 | E127: 조 | F127: =J127+H127+L127 -> 555000 | G127: =K127+I127+M127 -> 1110000 | H127: 0 | I127: =ROUNDDOWN(H127*D127,0) -> 0 | J127: =재료비목록표!E25 -> 555000 | K127: =ROUNDDOWN(J127*D127,0) -> 1110000 | L127: 0 | M127: =ROUNDDOWN(L127*D127,0) -> 0 | N127: 자재22 | O127: _x0007_`COD|M04882_x0005_`QTY1|1_x0005_`EXI|0_x0005_`IPR|1_x0005_`KWN|0_x0005_`BLA|F_x0005_` | P127: M04882_1 | Q127: E2_1 | R127: 1_2_01 | AC127: =HYPERLINK("#"&재료비목록표!G2&"!A"&ROW(재료비목록표!A25),"자재22 →") -> 자재22 →
B128: 조달수수료 | C128: 금액의 % | D128: 0.54 | E128: % | F128: =J128+H128+L128 -> 1110000 | G128: =K128+I128+M128 -> 5990 | H128: 0 | I128: =ROUNDDOWN(H128*D128/100,-1) -> 0 | J128: 0 | K128: =ROUNDDOWN(J128*D128/100,-1) -> 0 | L128: =SUMIF(R127:R127,"1_2_01",G127:G127) -> 1110000 | M128: =ROUNDDOWN(L128*D128/100,-1) -> 5990 | O128: _x0007_`COD|PR_x0005_`QTY1|1_x0005_`EXI|1_x0005_`IPR|1_x0005_`EQC|A01_x0005_`PRI|4_x0005_`PRO|3_x0005_`UNI|식1_x0005_`RCU|0_x0005_`BLA|F_x0005_` | P128: PR_1 | Q128: E2_1 | R128: 1_2_01
A129: 8.2 | B129: 상수도관 | F129: 0 | G129: =SUMIF(Q130:Q133,P129,G130:G133) -> 4135720 | H129: 0 | I129: =SUMIF(Q130:Q133,P129,I130:I133) -> 0 | J129: 0 | K129: =SUMIF(Q130:Q133,P129,K130:K133) -> 3941860 | L129: 0 | M129: =SUMIF(Q130:Q133,P129,M130:M133) -> 193860 | O129: ="_x0007_`COD|E2_x0005_`QTY1|1_x0005_`EXI|0_x0005_`ITT|0_x0005_`END|"&ROW(M134)&"_x0005_`" -> _x0007_`COD|E2_x0005_`QTY1|1_x0005_`EXI|0_x0005_`ITT|0_x0005_`END|134_x0005_` | P129: E2_1 | Q129: C3_1
B130: 닥타일주철관(관급) | C130: D=250x6m(에폭시분체도장 2종) | D130: 6 | E130: 본 | F130: =J130+H130+L130 -> 581110 | G130: =K130+I130+M130 -> 3486660 | H130: 0 | I130: =ROUNDDOWN(H130*D130,0) -> 0 | J130: =재료비목록표!E19 -> 581110 | K130: =ROUNDDOWN(J130*D130,0) -> 3486660 | L130: 0 | M130: =ROUNDDOWN(L130*D130,0) -> 0 | N130: 자재16 | O130: _x0007_`COD|M00840_x0005_`QTY1|1_x0005_`EXI|0_x0005_`IPR|2_x0005_`KWN|0_x0005_`BLA|F_x0005_` | P130: M00840_1 | Q130: E2_1 | R130: 1_2_02 | AC130: =HYPERLINK("#"&재료비목록표!G2&"!A"&ROW(재료비목록표!A19),"자재16 →") -> 자재16 →
...

Sheet 일위대가목록표
A1: 일위대가 목록표 | J1: STmate | K1: STmate
A2: 공사명 : 모현읍 왕산리 799-37번지 배수관로 이설공사 | J2: =MID(CELL("filename",$A$1),FIND("]",CELL("filename",$A$1))+1,LEN(CELL("filename",$A$1))) -> 일위대가목록표
A3: 호표 | B3: 명 칭 | C3: 규 격 | D3: 단위 | E3: 합 계 | F3: 노 무 비 | G3: 재 료 비 | H3: 경 비 | I3: 비 고 | K3: =HYPERLINK("#'〓 목 차 〓'!B2","목차 →") -> 목차 →
A4: 제 1호표 | B4: 보도블럭철거(점자블럭)B-TYPE | C4: 차도인접, 주택가도로 차도인접, 주택가도로 | D4: ㎡ | E4: =일위대가표!F8 -> 13611 | F4: =일위대가표!H8 -> 11304 | G4: =일위대가표!J8 -> 1117 | H4: =일위대가표!L8 -> 1190 | I4: 제 1호표 | J4: ="_x0007_`COD|B02631_x0005_`QTY1|1_x0005_`BQC|_x0005_`EQC|_x0005_`JDC|_x0005_`WQC|_x0005_`EDT|_x0005_`ADJ|F_x0005_`DET|"&ROW(일위대가표!A6)&"_x0005_`" -> _x0007_`COD|B02631_x0005_`QTY1|1_x0005_`BQC|_x0005_`EQC|_x0005_`JDC|_x0005_`WQC|_x0005_`EDT|_x0005_`ADJ|F_x0005_`DET|6_x0005_` | K4: =HYPERLINK("#"&일위대가표!N2&"!A"&ROW(일위대가표!A6),"대가1 →") -> 대가1 →
A5: 제 2호표 | B5: 보차도경계석 철거(B-TYPE) | C5: 200×250×1000- 400m/일 | D5: M | E5: =일위대가표!F15 -> 4504 | F5: =일위대가표!H15 -> 3736 | G5: =일위대가표!J15 -> 361 | H5: =일위대가표!L15 -> 407 | I5: 제 2호표 | J5: ="_x0007_`COD|B04729_x0005_`QTY1|1_x0005_`BQC|_x0005_`EQC|_x0005_`JDC|_x0005_`WQC|_x0005_`EDT|_x0005_`ADJ|F_x0005_`DET|"&ROW(일위대가표!A10)&"_x0005_`" -> _x0007_`COD|B04729_x0005_`QTY1|1_x0005_`BQC|_x0005_`EQC|_x0005_`JDC|_x0005_`WQC|_x0005_`EDT|_x0005_`ADJ|F_x0005_`DET|10_x0005_` | K5: =HYPERLINK("#"&일위대가표!N2&"!A"&ROW(일위대가표!A10),"대가2 →") -> 대가2 →
A6: 제 3호표 | B6: 도로경계석 철거 | C6: 150×150×1000, 화강석-설치품의50%적용 | D6: M | E6: =일위대가표!F21 -> 15354 | F6: =일위대가표!H21 -> 15354 | G6: =일위대가표!J21 -> 0 | H6: =일위대가표!L21 -> 0 | I6: 제 3호표 | J6: ="_x0007_`COD|B04727_x0005_`QTY1|1_x0005_`BQC|_x0005_`EQC|_x0005_`JDC|_x0005_`WQC|_x0005_`EDT|_x0005_`ADJ|F_x0005_`DET|"&ROW(일위대가표!A17)&"_x0005_`" -> _x0007_`COD|B04727_x0005_`QTY1|1_x0005_`BQC|_x0005_`EQC|_x0005_`JDC|_x0005_`WQC|_x0005_`EDT|_x0005_`ADJ|F_x0005_`DET|17_x0005_` | K6: =HYPERLINK("#"&일위대가표!N2&"!A"&ROW(일위대가표!A17),"대가3 →") -> 대가3 →
A7: 제 4호표 | B7: 조경석 헐기 | C7: (정원석 쌓기 및 놓기 30% 적용) | D7: ton | E7: =일위대가표!F25 -> 26462 | F7: =일위대가표!H25 -> 25406 | G7: =일위대가표!J25 -> 516 | H7: =일위대가표!L25 -> 540 | I7: 제 4호표 | J7: ="_x0007_`COD|B06812_x0005_`QTY1|1_x0005_`BQC|_x0005_`EQC|_x0005_`JDC|_x0005_`WQC|_x0005_`EDT|_x0005_`ADJ|F_x0005_`DET|"&ROW(일위대가표!A23)&"_x0005_`" -> _x0007_`COD|B06812_x0005_`QTY1|1_x0005_`BQC|_x0005_`EQC|_x0005_`JDC|_x0005_`WQC|_x0005_`EDT|_x0005_`ADJ|F_x0005_`DET|23_x0005_` | K7: =HYPERLINK("#"&일위대가표!N2&"!A"&ROW(일위대가표!A23),"대가4 →") -> 대가4 →
A8: 제 5호표 | B8: 주철관 접합 및 부설 | C8: (기계:D250㎜) | D8: 본 | E8: =일위대가표!F31 -> 149157 | F8: =일위대가표!H31 -> 109545 | G8: =일위대가표!J31 -> 17788 | H8: =일위대가표!L31 -> 21824 | I8: 제 5호표 | J8: ="_x0007_`COD|B00196_x0005_`QTY1|1_x0005_`BQC|_x0005_`EQC|상수도_x0005_`JDC|_x0005_`WQC|_x0005_`EDT|_x0005_`ADJ|F_x0005_`DET|"&ROW(일위대가표!A27)&"_x0005_`" -> _x0007_`COD|B00196_x0005_`QTY1|1_x0005_`BQC|_x0005_`EQC|상수도_x0005_`JDC|_x0005_`WQC|_x0005_`EDT|_x0005_`ADJ|F_x0005_`DET|27_x0005_` | K8: =HYPERLINK("#"&일위대가표!N2&"!A"&ROW(일위대가표!A27),"대가5 →") -> 대가5 →
A9: 제 6호표 | B9: 주철이형관 접합 및 부설 | C9: (기계:D250㎜), 직관품 적용 | D9: 개소 | E9: =일위대가표!F37 -> 74578 | F9: =일위대가표!H37 -> 54772 | G9: =일위대가표!J37 -> 8894 | H9: =일위대가표!L37 -> 10912 | I9: 제 6호표 | J9: ="_x0007_`COD|B06587_x0005_`QTY1|1_x0005_`BQC|_x0005_`EQC|상수도_x0005_`JDC|_x0005_`WQC|_x0005_`EDT|_x0005_`ADJ|F_x0005_`DET|"&ROW(일위대가표!A33)&"_x0005_`" -> _x0007_`COD|B06587_x0005_`QTY1|1_x0005_`BQC|_x0005_`EQC|상수도_x0005_`JDC|_x0005_`WQC|_x0005_`EDT|_x0005_`ADJ|F_x0005_`DET|33_x0005_` | K9: =HYPERLINK("#"&일위대가표!N2&"!A"&ROW(일위대가표!A33),"대가6 →") -> 대가6 →
A10: 제 7호표 | B10: 주철 이형관 접합 | C10: (인력:D250㎜) | D10: 개소 | E10: =일위대가표!F43 -> 44746 | F10: =일위대가표!H43 -> 32863 | G10: =일위대가표!J43 -> 5336 | H10: =일위대가표!L43 -> 6547 | I10: 제 7호표 | J10: ="_x0007_`COD|B02873_x0005_`QTY1|1_x0005_`BQC|_x0005_`EQC|_x0005_`JDC|_x0005_`WQC|_x0005_`EDT|_x0005_`ADJ|F_x0005_`DET|"&ROW(일위대가표!A39)&"_x0005_`" -> _x0007_`COD|B02873_x0005_`QTY1|1_x0005_`BQC|_x0005_`EQC|_x0005_`JDC|_x0005_`WQC|_x0005_`EDT|_x0005_`ADJ|F_x0005_`DET|39_x0005_` | K10: =HYPERLINK("#"&일위대가표!N2&"!A"&ROW(일위대가표!A39),"대가7 →") -> 대가7 →
A11: 제 8호표 | B11: 이탈방지압륜 이형관 접합 및 부설 | C11: (D250mm), 직관품의 50% 할증 30% | D11: 개소 | E11: =일위대가표!F47 -> 96952 | F11: =일위대가표!H47 -> 71204 | G11: =일위대가표!J47 -> 11562 | H11: =일위대가표!L47 -> 14186 | I11: 제 8호표 | J11: ="_x0007_`COD|B01295_x0005_`QTY1|1_x0005_`BQC|_x0005_`EQC|_x0005_`JDC|_x0005_`WQC|_x0005_`EDT|_x0005_`ADJ|F_x0005_`DET|"&ROW(일위대가표!A45)&"_x0005_`" -> _x0007_`COD|B01295_x0005_`QTY1|1_x0005_`BQC|_x0005_`EQC|_x0005_`JDC|_x0005_`WQC|_x0005_`EDT|_x0005_`ADJ|F_x0005_`DET|45_x0005_` | K11: =HYPERLINK("#"&일위대가표!N2&"!A"&ROW(일위대가표!A45),"대가8 →") -> 대가8 →
A12: 제 9호표 | B12: 이탈방지압륜접합 | C12: (D250mm)이탈방지압륜 접합 및 부설품의 60% 적용 | D12: 개소 | E12: =일위대가표!F53 -> 58170 | F12: =일위대가표!H53 -> 42722 | G12: =일위대가표!J53 -> 6937 | H12: =일위대가표!L53 -> 8511 | I12: 제 9호표 | J12: ="_x0007_`COD|B02633_x0005_`QTY1|1_x0005_`BQC|_x0005_`EQC|상수도_x0005_`JDC|_x0005_`WQC|_x0005_`EDT|_x0005_`ADJ|F_x0005_`DET|"&ROW(일위대가표!A49)&"_x0005_`" -> _x0007_`COD|B02633_x0005_`QTY1|1_x0005_`BQC|_x0005_`EQC|상수도_x0005_`JDC|_x0005_`WQC|_x0005_`EDT|_x0005_`ADJ|F_x0005_`DET|49_x0005_` | K12: =HYPERLINK("#"&일위대가표!N2&"!A"&ROW(일위대가표!A49),"대가9 →") -> 대가9 →
A13: 제 10호표 | B13: 주철관절단 | C13: (D250㎜) | D13: 개소 | E13: =일위대가표!F58 -> 38599 | F13: =일위대가표!H58 -> 36761 | G13: =일위대가표!J58 -> 0 | H13: =일위대가표!L58 -> 1838 | I13: 제 10호표 | J13: ="_x0007_`COD|B00207_x0005_`QTY1|1_x0005_`BQC|_x0005_`EQC|상수도_x0005_`JDC|_x0005_`WQC|_x0005_`EDT|_x0005_`ADJ|F_x0005_`DET|"&ROW(일위대가표!A55)&"_x0005_`" -> _x0007_`COD|B00207_x0005_`QTY1|1_x0005_`BQC|_x0005_`EQC|상수도_x0005_`JDC|_x0005_`WQC|_x0005_`EDT|_x0005_`ADJ|F_x0005_`DET|55_x0005_` | K13: =HYPERLINK("#"&일위대가표!N2&"!A"&ROW(일위대가표!A55),"대가10 →") -> 대가10 →
A14: 제 11호표 | B14: 제수밸브부설및접합(게이트) | C14: (D250㎜) 주철제 | D14: 개소 | E14: =일위대가표!F65 -> 124392 | F14: =일위대가표!H65 -> 107420 | G14: =일위대가표!J65 -> 7376 | H14: =일위대가표!L65 -> 9596 | I14: 제 11호표 | J14: ="_x0007_`COD|B00905_x0005_`QTY1|1_x0005_`BQC|_x0005_`EQC|_x0005_`JDC|_x0005_`WQC|_x0005_`EDT|_x0005_`ADJ|F_x0005_`DET|"&ROW(일위대가표!A60)&"_x0005_`" -> _x0007_`COD|B00905_x0005_`QTY1|1_x0005_`BQC|_x0005_`EQC|_x0005_`JDC|_x0005_`WQC|_x0005_`EDT|_x0005_`ADJ|F_x0005_`DET|60_x0005_` | K14: =HYPERLINK("#"&일위대가표!N2&"!A"&ROW(일위대가표!A60),"대가11 →") -> 대가11 →
A15: 제 12호표 | B15: 부단수할정자관부설및접합 | C15: D250,본관기준 | D15: 개소 | E15: =일위대가표!F72 -> 83544 | F15: =일위대가표!H72 -> 78592 | G15: =일위대가표!J72 -> 1761 | H15: =일위대가표!L72 -> 3191 | I15: 제 12호표 | J15: ="_x0007_`COD|B03108_x0005_`QTY1|1_x0005_`BQC|_x0005_`EQC|상수도_x0005_`JDC|_x0005_`WQC|_x0005_`EDT|_x0005_`ADJ|F_x0005_`DET|"&ROW(일위대가표!A67)&"_x0005_`" -> _x0007_`COD|B03108_x0005_`QTY1|1_x0005_`BQC|_x0005_`EQC|상수도_x0005_`JDC|_x0005_`WQC|_x0005_`EDT|_x0005_`ADJ|F_x0005_`DET|67_x0005_` | K15: =HYPERLINK("#"&일위대가표!N2&"!A"&ROW(일위대가표!A67),"대가12 →") -> 대가12 →
A16: 제 13호표 | B16: 부단수천공분기점분기 | C16: D250,분기관(지관)기준 | D16: 개소 | E16: =일위대가표!F79 -> 295082 | F16: =일위대가표!H79 -> 249471 | G16: =일위대가표!J79 -> 16623 | H16: =일위대가표!L79 -> 28988 | I16: 제 13호표 | J16: ="_x0007_`COD|B03086_x0005_`QTY1|1_x0005_`BQC|_x0005_`EQC|상수도_x0005_`JDC|_x0005_`WQC|_x0005_`EDT|_x0005_`ADJ|F_x0005_`DET|"&ROW(일위대가표!A74)&"_x0005_`" -> _x0007_`COD|B03086_x0005_`QTY1|1_x0005_`BQC|_x0005_`EQC|상수도_x0005_`JDC|_x0005_`WQC|_x0005_`EDT|_x0005_`ADJ|F_x0005_`DET|74_x0005_` | K16: =HYPERLINK("#"&일위대가표!N2&"!A"&ROW(일위대가표!A74),"대가13 →") -> 대가13 →
A17: 제 14호표 | B17: 플랜지접합 | C17: (D250㎜) | D17: 개소 | E17: =일위대가표!F86 -> 74791 | F17: =일위대가표!H86 -> 48805 | G17: =일위대가표!J86 -> 25010 | H17: =일위대가표!L86 -> 976 | I17: 제 14호표 | J17: ="_x0007_`COD|B00790_x0005_`QTY1|1_x0005_`BQC|_x0005_`EQC|_x0005_`JDC|_x0005_`WQC|_x0005_`EDT|_x0005_`ADJ|F_x0005_`DET|"&ROW(일위대가표!A81)&"_x0005_`" -> _x0007_`COD|B00790_x0005_`QTY1|1_x0005_`BQC|_x0005_`EQC|_x0005_`JDC|_x0005_`WQC|_x0005_`EDT|_x0005_`ADJ|F_x0005_`DET|81_x0005_` | K17: =HYPERLINK("#"&일위대가표!N2&"!A"&ROW(일위대가표!A81),"대가14 →") -> 대가14 →
A18: 제 15호표 | B18: 주철관 철거 | C18: D250mm(기존관 철거) | D18: 본 | E18: =일위대가표!F91 -> 48891 | F18: =일위대가표!H91 -> 38000 | G18: =일위대가표!J91 -> 2533 | H18: =일위대가표!L91 -> 8358 | I18: 제 15호표 | J18: ="_x0007_`COD|B05653_x0005_`QTY1|1_x0005_`BQC|_x0005_`EQC|_x0005_`JDC|_x0005_`WQC|_x0005_`EDT|_x0005_`ADJ|F_x0005_`DET|"&ROW(일위대가표!A88)&"_x0005_`" -> _x0007_`COD|B05653_x0005_`QTY1|1_x0005_`BQC|_x0005_`EQC|_x0005_`JDC|_x0005_`WQC|_x0005_`EDT|_x0005_`ADJ|F_x0005_`DET|88_x0005_` | K18: =HYPERLINK("#"&일위대가표!N2&"!A"&ROW(일위대가표!A88),"대가15 →") -> 대가15 →
A19: 제 16호표 | B19: 보도블럭포장(점자블럭)B-TYPE | C19: 차도인접, 주택가도로 T=6cm, 점형(30x30X6) | D19: ㎡ | E19: =일위대가표!F100 -> 21554 | F19: =일위대가표!H100 -> 18254 | G19: =일위대가표!J100 -> 1312 | H19: =일위대가표!L100 -> 1988 | I19: 제 16호표 | J19: ="_x0007_`COD|B03724_x0005_`QTY1|1_x0005_`BQC|_x0005_`EQC|_x0005_`JDC|_x0005_`WQC|_x0005_`EDT|_x0005_`ADJ|F_x0005_`DET|"&ROW(일위대가표!A93)&"_x0005_`" -> _x0007_`COD|B03724_x0005_`QTY1|1_x0005_`BQC|_x0005_`EQC|_x0005_`JDC|_x0005_`WQC|_x0005_`EDT|_x0005_`ADJ|F_x0005_`DET|93_x0005_` | K19: =HYPERLINK("#"&일위대가표!N2&"!A"&ROW(일위대가표!A93),"대가16 →") -> 대가16 →
A20: 제 17호표 | B20: L형측구 및 보차도경계석 재설치(B-TYPE) | C20: 화강석(200×250×1000)직선 | D20: M | E20: =일위대가표!F112 -> 32254 | F20: =일위대가표!H112 -> 29801 | G20: =일위대가표!J112 -> 1670 | H20: =일위대가표!L112 -> 783 | I20: 제 17호표 | J20: ="_x0007_`COD|B06814_x0005_`QTY1|1_x0005_`BQC|_x0005_`EQC|_x0005_`JDC|_x0005_`WQC|_x0005_`EDT|_x0005_`ADJ|F_x0005_`DET|"&ROW(일위대가표!A102)&"_x0005_`" -> _x0007_`COD|B06814_x0005_`QTY1|1_x0005_`BQC|_x0005_`EQC|_x0005_`JDC|_x0005_`WQC|_x0005_`EDT|_x0005_`ADJ|F_x0005_`DET|102_x0005_` | K20: =HYPERLINK("#"&일위대가표!N2&"!A"&ROW(일위대가표!A102),"대가17 →") -> 대가17 →
A21: 제 18호표 | B21: L형측구 및 보차도경계석 재설치(B-TYPE) | C21: 화강석(180×200×1000)낯춤석 경계석제외 | D21: M | E21: =일위대가표!F124 -> 32171 | F21: =일위대가표!H124 -> 29718 | G21: =일위대가표!J124 -> 1670 | H21: =일위대가표!L124 -> 783 | I21: 제 18호표 | J21: ="_x0007_`COD|B06813_x0005_`QTY1|1_x0005_`BQC|_x0005_`EQC|_x0005_`JDC|_x0005_`WQC|_x0005_`EDT|_x0005_`ADJ|F_x0005_`DET|"&ROW(일위대가표!A114)&"_x0005_`" -> _x0007_`COD|B06813_x0005_`QTY1|1_x0005_`BQC|_x0005_`EQC|_x0005_`JDC|_x0005_`WQC|_x0005_`EDT|_x0005_`ADJ|F_x0005_`DET|114_x0005_` | K21: =HYPERLINK("#"&일위대가표!N2&"!A"&ROW(일위대가표!A114),"대가18 →") -> 대가18 →
A22: 제 19호표 | B22: 볼라드 철거 | C22: Φ100mm~150mm(설치비의50%) | D22: 개소 | E22: =일위대가표!F128 -> 25212 | F22: =일위대가표!H128 -> 24012 | G22: =일위대가표!J128 -> 0 | H22: =일위대가표!L128 -> 1200 | I22: 제 19호표 | J22: ="_x0007_`COD|B03895_x0005_`QTY1|1_x0005_`BQC|_x0005_`EQC|_x0005_`JDC|_x0005_`WQC|_x0005_`EDT|_x0005_`ADJ|F_x0005_`DET|"&ROW(일위대가표!A126)&"_x0005_`" -> _x0007_`COD|B03895_x0005_`QTY1|1_x0005_`BQC|_x0005_`EQC|_x0005_`JDC|_x0005_`WQC|_x0005_`EDT|_x0005_`ADJ|F_x0005_`DET|126_x0005_` | K22: =HYPERLINK("#"&일위대가표!N2&"!A"&ROW(일위대가표!A126),"대가19 →") -> 대가19 →
A23: 제 20호표 | B23: 조경 유용석 쌓기 및 놓기 | C23: 1ton | D23: ton | E23: =일위대가표!F132 -> 103287 | F23: =일위대가표!H132 -> 75097 | G23: =일위대가표!J132 -> 13776 | H23: =일위대가표!L132 -> 14414 | I23: 제 20호표 | J23: ="_x0007_`COD|B03637_x0005_`QTY1|1_x0005_`BQC|_x0005_`EQC|_x0005_`JDC|_x0005_`WQC|_x0005_`EDT|_x0005_`ADJ|F_x0005_`DET|"&ROW(일위대가표!A130)&"_x0005_`" -> _x0007_`COD|B03637_x0005_`QTY1|1_x0005_`BQC|_x0005_`EQC|_x0005_`JDC|_x0005_`WQC|_x0005_`EDT|_x0005_`ADJ|F_x0005_`DET|130_x0005_` | K23: =HYPERLINK("#"&일위대가표!N2&"!A"&ROW(일위대가표!A130),"대가20 →") -> 대가20 →
A24: 제 21호표 | B24: 시험굴착 | C24: (2.0x1.0x1.5) | D24: 개소 | E24: =일위대가표!F141 -> 126780 | F24: =일위대가표!H141 -> 46945 | G24: =일위대가표!J141 -> 69788 | H24: =일위대가표!L141 -> 10047 | I24: 제 21호표 | J24: ="_x0007_`COD|B01892_x0005_`QTY1|1_x0005_`BQC|_x0005_`EQC|_x0005_`JDC|_x0005_`WQC|_x0005_`EDT|_x0005_`ADJ|F_x0005_`DET|"&ROW(일위대가표!A134)&"_x0005_`" -> _x0007_`COD|B01892_x0005_`QTY1|1_x0005_`BQC|_x0005_`EQC|_x0005_`JDC|_x0005_`WQC|_x0005_`EDT|_x0005_`ADJ|F_x0005_`DET|134_x0005_` | K24: =HYPERLINK("#"&일위대가표!N2&"!A"&ROW(일위대가표!A134),"대가21 →") -> 대가21 →
A25: 제 22호표 | B25: 교통신호수 | C25: 2인1조 | D25: 일 | E25: =일위대가표!F147 -> 347568 | F25: =일위대가표!H147 -> 0 | G25: =일위대가표!J147 -> 0 | H25: =일위대가표!L147 -> 347568 | I25: 제 22호표 | J25: ="_x0007_`COD|B02657_x0005_`QTY1|1_x0005_`BQC|_x0005_`EQC|_x0005_`JDC|_x0005_`WQC|_x0005_`EDT|_x0005_`ADJ|F_x0005_`DET|"&ROW(일위대가표!A143)&"_x0005_`" -> _x0007_`COD|B02657_x0005_`QTY1|1_x0005_`BQC|_x0005_`EQC|_x0005_`JDC|_x0005_`WQC|_x0005_`EDT|_x0005_`ADJ|F_x0005_`DET|143_x0005_` | K25: =HYPERLINK("#"&일위대가표!N2&"!A"&ROW(일위대가표!A143),"대가22 →") -> 대가22 →
A26: 제 23호표 | B26: 공사안내간판 및 플랜카드 | C26: 공사안내간판(0.9*1.8m), 플랜카드(0.7*7.0m) | D26: 개 | E26: =일위대가표!F152 -> 156935 | F26: =일위대가표!H152 -> 4663 | G26: =일위대가표!J152 -> 152272 | H26: =일위대가표!L152 -> 0 | I26: 제 23호표 | J26: ="_x0007_`COD|B04012_x0005_`QTY1|1_x0005_`BQC|_x0005_`EQC|_x0005_`JDC|_x0005_`WQC|_x0005_`EDT|_x0005_`ADJ|F_x0005_`DET|"&ROW(일위대가표!A149)&"_x0005_`" -> _x0007_`COD|B04012_x0005_`QTY1|1_x0005_`BQC|_x0005_`EQC|_x0005_`JDC|_x0005_`WQC|_x0005_`EDT|_x0005_`ADJ|F_x0005_`DET|149_x0005_` | K26: =HYPERLINK("#"&일위대가표!N2&"!A"&ROW(일위대가표!A149),"대가23 →") -> 대가23 →
A27: 제 24호표 | B27: 도로경계석 설치 | C27: 150×150×1000 | D27: M | E27: =일위대가표!F156 -> 36170 | F27: =일위대가표!H156 -> 30708 | G27: =일위대가표!J156 -> 4689 | H27: =일위대가표!L156 -> 773 | I27: 제 24호표 | J27: ="_x0007_`COD|B00401_x0005_`QTY1|1_x0005_`BQC|_x0005_`EQC|_x0005_`JDC|_x0005_`WQC|_x0005_`EDT|_x0005_`ADJ|F_x0005_`DET|"&ROW(일위대가표!A154)&"_x0005_`" -> _x0007_`COD|B00401_x0005_`QTY1|1_x0005_`BQC|_x0005_`EQC|_x0005_`JDC|_x0005_`WQC|_x0005_`EDT|_x0005_`ADJ|F_x0005_`DET|154_x0005_` | K27: =HYPERLINK("#"&일위대가표!N2&"!A"&ROW(일위대가표!A154),"대가24 →") -> 대가24 →
A28: 제 25호표 | B28: 레미콘타설(25-21-8) | C28: (무근구조물)레미콘별산 | D28: ㎥ | E28: =일위대가표!F161 -> 59284 | F28: =일위대가표!H161 -> 58122 | G28: =일위대가표!J161 -> 0 | H28: =일위대가표!L161 -> 1162 | I28: 제 25호표 | J28: ="_x0007_`COD|B04067_x0005_`QTY1|1_x0005_`BQC|_x0005_`EQC|_x0005_`JDC|_x0005_`WQC|_x0005_`EDT|_x0005_`ADJ|F_x0005_`DET|"&ROW(일위대가표!A158)&"_x0005_`" -> _x0007_`COD|B04067_x0005_`QTY1|1_x0005_`BQC|_x0005_`EQC|_x0005_`JDC|_x0005_`WQC|_x0005_`EDT|_x0005_`ADJ|F_x0005_`DET|158_x0005_` | K28: =HYPERLINK("#"&일위대가표!N2&"!A"&ROW(일위대가표!A158),"대가25 →") -> 대가25 →
A29: 제 26호표 | B29: 몰탈채움 | C29: (1:3) | D29: ㎥ | E29: =일위대가표!F166 -> 285632 | F29: =일위대가표!H166 -> 285632 | G29: =일위대가표!J166 -> 0 | H29: =일위대가표!L166 -> 0 | I29: 제 26호표 | J29: ="_x0007_`COD|B00235_x0005_`QTY1|1_x0005_`BQC|_x0005_`EQC|_x0005_`JDC|_x0005_`WQC|_x0005_`EDT|_x0005_`ADJ|F_x0005_`DET|"&ROW(일위대가표!A163)&"_x0005_`" -> _x0007_`COD|B00235_x0005_`QTY1|1_x0005_`BQC|_x0005_`EQC|_x0005_`JDC|_x0005_`WQC|_x0005_`EDT|_x0005_`ADJ|F_x0005_`DET|163_x0005_` | K29: =HYPERLINK("#"&일위대가표!N2&"!A"&ROW(일위대가표!A163),"대가26 →") -> 대가26 →
A30: 제 27호표 | B30: 모르터 | C30: (1:3) | D30: ㎥ | E30: =일위대가표!F172 -> 113564 | F30: =일위대가표!H172 -> 113564 | G30: =일위대가표!J172 -> 0 | H30: =일위대가표!L172 -> 0 | I30: 제 27호표 | J30: ="_x0007_`COD|B00025_x0005_`QTY1|1_x0005_`BQC|_x0005_`EQC|_x0005_`JDC|_x0005_`WQC|_x0005_`EDT|_x0005_`ADJ|F_x0005_`DET|"&ROW(일위대가표!A168)&"_x0005_`" -> _x0007_`COD|B00025_x0005_`QTY1|1_x0005_`BQC|_x0005_`EQC|_x0005_`JDC|_x0005_`WQC|_x0005_`EDT|_x0005_`ADJ|F_x0005_`DET|168_x0005_` | K30: =HYPERLINK("#"&일위대가표!N2&"!A"&ROW(일위대가표!A168),"대가27 →") -> 대가27 →

Sheet 일위대가표
A1: 일 위 대 가 표 | N1: STmate | Z1: STmate
A2: 공사명 : 모현읍 왕산리 799-37번지 배수관로 이설공사 | N2: =MID(CELL("filename",$A$1),FIND("]",CELL("filename",$A$1))+1,LEN(CELL("filename",$A$1))) -> 일위대가표
A3: 명 칭 | B3: 규 격 | C3: 수 량 | D3: 단위 | E3: 합 계 | G3: 노 무 비 | I3: 재 료 비 | K3: 경 비 | M3: 비 고
E4: 단 가 | F4: 금 액 | G4: 단 가 | H4: 금 액 | I4: 단 가 | J4: 금 액 | K4: 단 가 | L4: 금 액 | Z4: =HYPERLINK("#'〓 목 차 〓'!B2","목차 →") -> 목차 →
A6: 제 1 호표 보도블럭철거(점자블럭)B-TYPE 차도인접, 주택가도로 차도인접, 주택가도로 / ㎡ | M6: 대가1 | N6: =HYPERLINK("#N"&ROW(N7),"_x0005_`BDCOD|B02631_x0007_`POSS|"&ROW(N7)&"_x0007_`POSE|"&ROW(N7)&"_x0007_`") -> _x0005_`BDCOD|B02631_x0007_`POSS|7_x0007_`POSE|7_x0007_` | O6: B02631
A7: 보도블럭포장(B-TYPE) | B7: (유도, 점자블록 - 300*300) | C7: 1 | D7: ㎡ | E7: =I7+G7+K7 -> 13611 | F7: =J7+H7+L7 -> 13611 | G7: =단가산출근거목록표!F31 -> 11304 | H7: =IF(C7=0,0,ROUNDDOWN(G7*C7,1)) -> 11304 | I7: =단가산출근거목록표!G31 -> 1117 | J7: =IF(C7=0,0,ROUNDDOWN(I7*C7,1)) -> 1117 | K7: =단가산출근거목록표!H31 -> 1190 | L7: =IF(C7=0,0,ROUNDDOWN(K7*C7,1)) -> 1190 | M7: 산근 28호표 | N7: _x0007_`COD|D03666_x0005_`EXI|0_x0005_`DVD|F_x0005_`BMK| _x0005_`IPR|0_x0005_`BLA|F_x0005_` | O7: D03666_1 | P7: T7_1 | Z7: =HYPERLINK("#"&단가산출근거목록표!J2&"!A"&ROW(단가산출근거목록표!A31),"산근28 →") -> 산근28 →
A8: 합 계 | F8: =J8+H8+L8 -> 13611 | H8: =ROUNDDOWN(SUMIF(P7:P7,O8,H7:H7),0) -> 11304 | J8: =ROUNDDOWN(SUMIF(P7:P7,O8,J7:J7),0) -> 1117 | L8: =ROUNDDOWN(SUMIF(P7:P7,O8,L7:L7),0) -> 1190 | O8: T7_1
A10: 제 2 호표 보차도경계석 철거(B-TYPE) 200×250×1000- 400m/일 / M | M10: 대가2 | N10: =HYPERLINK("#N"&ROW(N14),"_x0005_`BDCOD|B04729_x0007_`POSS|"&ROW(N11)&"_x0007_`POSE|"&ROW(N14)&"_x0007_`") -> _x0005_`BDCOD|B04729_x0007_`POSS|11_x0007_`POSE|14_x0007_` | O10: B04729
A11: 특별인부 | C11: 0.005 | D11: 인 | E11: =I11+G11+K11 -> 226122 | F11: =J11+H11+L11 -> 1130.6 | G11: =노무비목록표!E13 -> 226122 | H11: =IF(C11=0,0,ROUNDDOWN(G11*C11,1)) -> 1130.6 | I11: 0 | J11: =IF(C11=0,0,ROUNDDOWN(I11*C11,1)) -> 0 | K11: 0 | L11: =IF(C11=0,0,ROUNDDOWN(K11*C11,1)) -> 0 | M11: 노무10 | N11: _x0007_`COD|L00079_x0005_`EXI|0_x0005_`DVD|F_x0005_`BMK| _x0005_`IPR|1_x0005_`BLA|F_x0005_` | O11: L00079_1 | P11: T7_1 | Q11: 1_01 | Z11: =HYPERLINK("#"&노무비목록표!G2&"!A"&ROW(노무비목록표!A13),"노무10 →") -> 노무10 →
A12: 보통인부 | C12: 0.0025 | D12: 인 | E12: =I12+G12+K12 -> 172068 | F12: =J12+H12+L12 -> 430.1 | G12: =노무비목록표!E8 -> 172068 | H12: =IF(C12=0,0,ROUNDDOWN(G12*C12,1)) -> 430.1 | I12: 0 | J12: =IF(C12=0,0,ROUNDDOWN(I12*C12,1)) -> 0 | K12: 0 | L12: =IF(C12=0,0,ROUNDDOWN(K12*C12,1)) -> 0 | M12: 노무5 | N12: _x0007_`COD|L00001_x0005_`EXI|0_x0005_`DVD|F_x0005_`BMK| _x0005_`IPR|1_x0005_`BLA|F_x0005_` | O12: L00001_1 | P12: T7_1 | Q12: 1_01 | Z12: =HYPERLINK("#"&노무비목록표!G2&"!A"&ROW(노무비목록표!A8),"노무5 →") -> 노무5 →
A13: 굴착기(무한궤도) | B13: 0.2㎥ | C13: 0.02 | D13: 시간 | E13: =I13+G13+K13 -> 83776 | F13: =J13+H13+L13 -> 1675.4 | G13: =중기목록표!F5 -> 59020 | H13: =IF(C13=0,0,ROUNDDOWN(G13*C13,1)) -> 1180.4 | I13: =중기목록표!G5 -> 10883 | J13: =IF(C13=0,0,ROUNDDOWN(I13*C13,1)) -> 217.6 | K13: =중기목록표!H5 -> 13873 | L13: =IF(C13=0,0,ROUNDDOWN(K13*C13,1)) -> 277.4 | M13: 중기2 | N13: _x0007_`COD|X00113_x0005_`EXI|0_x0005_`DVD|F_x0005_`BMK| _x0005_`IPR|1_x0005_`BLA|F_x0005_` | O13: X00113_1 | P13: T7_1 | Q13: 1_01 | Z13: =HYPERLINK("#"&중기목록표!J2&"!A"&ROW(중기목록표!A5),"중기2 →") -> 중기2 →
A14: 덤프트럭 | B14: 2.5톤 | C14: 0.02 | D14: 시간 | E14: =I14+G14+K14 -> 63499 | F14: =J14+H14+L14 -> 1269.8 | G14: =중기목록표!F14 -> 49778 | H14: =IF(C14=0,0,ROUNDDOWN(G14*C14,1)) -> 995.5 | I14: =중기목록표!G14 -> 7199 | J14: =IF(C14=0,0,ROUNDDOWN(I14*C14,1)) -> 143.9 | K14: =중기목록표!H14 -> 6522 | L14: =IF(C14=0,0,ROUNDDOWN(K14*C14,1)) -> 130.4 | M14: 중기11 | N14: _x0007_`COD|X00120_x0005_`EXI|0_x0005_`DVD|F_x0005_`BMK| _x0005_`IPR|1_x0005_`BLA|F_x0005_` | O14: X00120_1 | P14: T7_1 | Q14: 1_01 | Z14: =HYPERLINK("#"&중기목록표!J2&"!A"&ROW(중기목록표!A14),"중기11 →") -> 중기11 →
A15: 합 계 | F15: =J15+H15+L15 -> 4504 | H15: =ROUNDDOWN(SUMIF(P11:P14,O15,H11:H14),0) -> 3736 | J15: =ROUNDDOWN(SUMIF(P11:P14,O15,J11:J14),0) -> 361 | L15: =ROUNDDOWN(SUMIF(P11:P14,O15,L11:L14),0) -> 407 | O15: T7_1
A17: 제 3 호표 도로경계석 철거 150×150×1000, 화강석-설치품의50%적용 / M | M17: 대가3 | N17: =HYPERLINK("#N"&ROW(N20),"_x0005_`BDCOD|B04727_x0007_`POSS|"&ROW(N18)&"_x0007_`POSE|"&ROW(N20)&"_x0007_`") -> _x0005_`BDCOD|B04727_x0007_`POSS|18_x0007_`POSE|20_x0007_` | O17: B04727
A18: 도로경계석 설치 | B18: 150×150×1000 | C18: 1 | D18: M | E18: =I18+G18+K18 -> 36170 | F18: =J18+H18+L18 -> 36170 | G18: =일위대가목록표!F27 -> 30708 | H18: =IF(C18=0,0,ROUNDDOWN(G18*C18,1)) -> 30708 | I18: =일위대가목록표!G27 -> 4689 | J18: =IF(C18=0,0,ROUNDDOWN(I18*C18,1)) -> 4689 | K18: =일위대가목록표!H27 -> 773 | L18: =IF(C18=0,0,ROUNDDOWN(K18*C18,1)) -> 773 | M18: 대가 24호표 | N18: _x0007_`COD|B00401_x0005_`EXI|0_x0005_`DVD|F_x0005_`BMK| _x0005_`IPR|1_x0005_`BLA|F_x0005_` | O18: B00401_1 | P18: C1_1 | Q18: 1_01 | Z18: =HYPERLINK("#"&일위대가목록표!J2&"!A"&ROW(일위대가목록표!A27),"대가24 →") -> 대가24 →
A19: 소계(제외금액) | C19: 0 | E19: 0 | F19: =J19+H19+L19 -> 36170 | H19: =SUMIF(P18:P18,O19,H18:H18) -> 30708 | J19: =SUMIF(P18:P18,O19,J18:J18) -> 4689 | L19: =SUMIF(P18:P18,O19,L18:L18) -> 773 | N19: _x0007_`COD|C1_x0005_`EXI|0_x0005_`TPR|0_x0005_` | O19: C1_1
A20: 철거(노무비의50%적용) | B20: 노무비의 % | C20: 50 | D20: % | E20: =I20+G20+K20 -> 30708 | F20: =J20+H20+L20 -> 15354 | G20: =H18 -> 30708 | H20: =IF(C20=0,0,ROUNDDOWN(G20*C20/100,1)) -> 15354 | I20: 0 | J20: =IF(C20=0,0,ROUNDDOWN(I20*C20/100,1)) -> 0 | K20: 0 | L20: =IF(C20=0,0,ROUNDDOWN(K20*C20/100,1)) -> 0 | N20: _x0007_`COD|PR_x0005_`EXI|1_x0005_`DVD|F_x0005_`BMK| _x0005_`IPR|0_x0005_`EQC|A01_x0005_`PRI|2_x0005_`PRO|2_x0005_`UNI|%_x0005_`BLA|F_x0005_` | O20: PRA01_1 | P20: T7_1
A21: 합 계 | F21: =J21+H21+L21 -> 15354 | H21: =ROUNDDOWN(SUMIF(P18:P20,O21,H18:H20),0) -> 15354 | J21: =ROUNDDOWN(SUMIF(P18:P20,O21,J18:J20),0) -> 0 | L21: =ROUNDDOWN(SUMIF(P18:P20,O21,L18:L20),0) -> 0 | O21: T7_1
A23: 제 4 호표 조경석 헐기 (정원석 쌓기 및 놓기 30% 적용) / ton | M23: 대가4 | N23: =HYPERLINK("#N"&ROW(N24),"_x0005_`BDCOD|B06812_x0007_`POSS|"&ROW(N24)&"_x0007_`POSE|"&ROW(N24)&"_x0007_`") -> _x0005_`BDCOD|B06812_x0007_`POSS|24_x0007_`POSE|24_x0007_` | O23: B06812
A24: 조경 유용석 쌓기 놓기 | B24: 조경 유용석 쌓기 놓기 | C24: 0.3 | D24: TON | E24: =I24+G24+K24 -> 88211 | F24: =J24+H24+L24 -> 26463.3 | G24: =단가산출근거목록표!F35 -> 84688 | H24: =IF(C24=0,0,ROUNDDOWN(G24*C24,1)) -> 25406.4 | I24: =단가산출근거목록표!G35 -> 1722 | J24: =IF(C24=0,0,ROUNDDOWN(I24*C24,1)) -> 516.6 | K24: =단가산출근거목록표!H35 -> 1801 | L24: =IF(C24=0,0,ROUNDDOWN(K24*C24,1)) -> 540.3 | M24: 산근 32호표 | N24: _x0007_`COD|D04424_x0005_`EXI|0_x0005_`DVD|F_x0005_`BMK| _x0005_`IPR|0_x0005_`BLA|F_x0005_` | O24: D04424_1 | P24: T7_1 | Z24: =HYPERLINK("#"&단가산출근거목록표!J2&"!A"&ROW(단가산출근거목록표!A35),"산근32 →") -> 산근32 →
A25: 합 계 | F25: =J25+H25+L25 -> 26462 | H25: =ROUNDDOWN(SUMIF(P24:P24,O25,H24:H24),0) -> 25406 | J25: =ROUNDDOWN(SUMIF(P24:P24,O25,J24:J24),0) -> 516 | L25: =ROUNDDOWN(SUMIF(P24:P24,O25,L24:L24),0) -> 540 | O25: T7_1
A27: 제 5 호표 주철관 접합 및 부설 (기계:D250㎜) / 본 | M27: 대가5 | N27: =HYPERLINK("#N"&ROW(N30),"_x0005_`BDCOD|B00196_x0007_`POSS|"&ROW(N28)&"_x0007_`POSE|"&ROW(N30)&"_x0007_`") -> _x0005_`BDCOD|B00196_x0007_`POSS|28_x0007_`POSE|30_x0007_` | O27: B00196
A28: 1. 주철관 접합 및 부설 | C28: 0 | E28: 0 | F28: 0 | H28: 0 | J28: 0 | L28: 0 | N28: _x0007_`COD|_x0005_`EXI|1_x0005_` | O28: _1 | P28: _1
A29: 주철관 접합 및 부설 | B29: D250mm(양중장비) | C29: 1 | D29: 본 | E29: =I29+G29+K29 -> 149157 | F29: =J29+H29+L29 -> 149157 | G29: =단가산출근거목록표!F36 -> 109545 | H29: =IF(C29=0,0,ROUNDDOWN(G29*C29,1)) -> 109545 | I29: =단가산출근거목록표!G36 -> 17788 | J29: =IF(C29=0,0,ROUNDDOWN(I29*C29,1)) -> 17788 | K29: =단가산출근거목록표!H36 -> 21824 | L29: =IF(C29=0,0,ROUNDDOWN(K29*C29,1)) -> 21824 | M29: 산근 33호표 | N29: _x0007_`COD|D00589_x0005_`EXI|0_x0005_`DVD|F_x0005_`BMK| _x0005_`IPR|0_x0005_`BLA|F_x0005_` | O29: D00589_1 | P29: T2_1 | Z29: =HYPERLINK("#"&단가산출근거목록표!J2&"!A"&ROW(단가산출근거목록표!A36),"산근33 →") -> 산근33 →
A30: 계 | C30: 0 | E30: 0 | F30: =J30+H30+L30 -> 149157 | H30: =SUMIF(P28:P29,O30,H28:H29) -> 109545 | J30: =SUMIF(P28:P29,O30,J28:J29) -> 17788 | L30: =SUMIF(P28:P29,O30,L28:L29) -> 21824 | N30: _x0007_`COD|T2_x0005_`EXI|0_x0005_`TPR|0_x0005_` | O30: T2_1 | P30: T7_1
A31: 합 계 | F31: =J31+H31+L31 -> 149157 | H31: =ROUNDDOWN(SUMIF(P28:P30,O31,H28:H30),0) -> 109545 | J31: =ROUNDDOWN(SUMIF(P28:P30,O31,J28:J30),0) -> 17788 | L31: =ROUNDDOWN(SUMIF(P28:P30,O31,L28:L30),0) -> 21824 | O31: T7_1
A33: 제 6 호표 주철이형관 접합 및 부설 (기계:D250㎜), 직관품 적용 / 개소 | M33: 대가6 | N33: =HYPERLINK("#N"&ROW(N36),"_x0005_`BDCOD|B06587_x0007_`POSS|"&ROW(N34)&"_x0007_`POSE|"&ROW(N36)&"_x0007_`") -> _x0005_`BDCOD|B06587_x0007_`POSS|34_x0007_`POSE|36_x0007_` | O33: B06587
A34: 1. 주철관 접합 및 부설 | B34: 품의1/2적용 | C34: 0 | E34: 0 | F34: 0 | H34: 0 | J34: 0 | L34: 0 | N34: _x0007_`COD|_x0005_`EXI|1_x0005_` | O34: _1 | P34: _1
A35: 주철 이형관 접합 및 부설(양중장비) | B35: D250mm 직관 접합 및 부설의 1/2적용 | C35: 1 | D35: 개소 | E35: =I35+G35+K35 -> 74578 | F35: =J35+H35+L35 -> 74578 | G35: =단가산출근거목록표!F37 -> 54772 | H35: =IF(C35=0,0,ROUNDDOWN(G35*C35,1)) -> 54772 | I35: =단가산출근거목록표!G37 -> 8894 | J35: =IF(C35=0,0,ROUNDDOWN(I35*C35,1)) -> 8894 | K35: =단가산출근거목록표!H37 -> 10912 | L35: =IF(C35=0,0,ROUNDDOWN(K35*C35,1)) -> 10912 | M35: 산근 34호표 | N35: _x0007_`COD|D00591_x0005_`EXI|0_x0005_`DVD|F_x0005_`BMK| _x0005_`IPR|0_x0005_`BLA|F_x0005_` | O35: D00591_1 | P35: T1_1 | Z35: =HYPERLINK("#"&단가산출근거목록표!J2&"!A"&ROW(단가산출근거목록표!A37),"산근34 →") -> 산근34 →
A36: 소계 | C36: 0 | E36: 0 | F36: =J36+H36+L36 -> 74578 | H36: =SUMIF(P34:P35,O36,H34:H35) -> 54772 | J36: =SUMIF(P34:P35,O36,J34:J35) -> 8894 | L36: =SUMIF(P34:P35,O36,L34:L35) -> 10912 | N36: _x0007_`COD|T1_x0005_`EXI|0_x0005_`TPR|0_x0005_` | O36: T1_1 | P36: T7_1
A37: 합 계 | F37: =J37+H37+L37 -> 74578 | H37: =ROUNDDOWN(SUMIF(P34:P36,O37,H34:H36),0) -> 54772 | J37: =ROUNDDOWN(SUMIF(P34:P36,O37,J34:J36),0) -> 8894 | L37: =ROUNDDOWN(SUMIF(P34:P36,O37,L34:L36),0) -> 10912 | O37: T7_1
A39: 제 7 호표 주철 이형관 접합 (인력:D250㎜) / 개소 | M39: 대가7 | N39: =HYPERLINK("#N"&ROW(N42),"_x0005_`BDCOD|B02873_x0007_`POSS|"&ROW(N40)&"_x0007_`POSE|"&ROW(N42)&"_x0007_`") -> _x0005_`BDCOD|B02873_x0007_`POSS|40_x0007_`POSE|42_x0007_` | O39: B02873
A40: 1.주철 이형관 접합 | B40: 주철 이형관 접합 및 부설품의 60% 적용 | C40: 0 | E40: 0 | F40: 0 | H40: 0 | J40: 0 | L40: 0 | N40: _x0007_`COD|_x0005_`EXI|1_x0005_` | O40: _1 | P40: _1
A41: 주철 이형관 접합 및 부설(양중장비) | B41: D250mm 직관 접합 및 부설의 1/2적용 | C41: 0.6 | D41: 개소 | E41: =I41+G41+K41 -> 74578 | F41: =J41+H41+L41 -> 44746.8 | G41: =단가산출근거목록표!F37 -> 54772 | H41: =IF(C41=0,0,ROUNDDOWN(G41*C41,1)) -> 32863.2 | I41: =단가산출근거목록표!G37 -> 8894 | J41: =IF(C41=0,0,ROUNDDOWN(I41*C41,1)) -> 5336.4 | K41: =단가산출근거목록표!H37 -> 10912 | L41: =IF(C41=0,0,ROUNDDOWN(K41*C41,1)) -> 6547.2 | M41: 산근 34호표 | N41: _x0007_`COD|D00591_x0005_`EXI|0_x0005_`DVD|F_x0005_`BMK| _x0005_`IPR|0_x0005_`BLA|F_x0005_` | O41: D00591_1 | P41: T2_1 | Z41: =HYPERLINK("#"&단가산출근거목록표!J2&"!A"&ROW(단가산출근거목록표!A37),"산근34 →") -> 산근34 →
A42: 계 | C42: 0 | E42: 0 | F42: =J42+H42+L42 -> 44746.8 | H42: =SUMIF(P40:P41,O42,H40:H41) -> 32863.2 | J42: =SUMIF(P40:P41,O42,J40:J41) -> 5336.4 | L42: =SUMIF(P40:P41,O42,L40:L41) -> 6547.2 | N42: _x0007_`COD|T2_x0005_`EXI|0_x0005_`TPR|0_x0005_` | O42: T2_1 | P42: T7_1
A43: 합 계 | F43: =J43+H43+L43 -> 44746 | H43: =ROUNDDOWN(SUMIF(P40:P42,O43,H40:H42),0) -> 32863 | J43: =ROUNDDOWN(SUMIF(P40:P42,O43,J40:J42),0) -> 5336 | L43: =ROUNDDOWN(SUMIF(P40:P42,O43,L40:L42),0) -> 6547 | O43: T7_1
A45: 제 8 호표 이탈방지압륜 이형관 접합 및 부설 (D250mm), 직관품의 50% 할증 30% / 개소 | M45: 대가8 | N45: =HYPERLINK("#N"&ROW(N46),"_x0005_`BDCOD|B01295_x0007_`POSS|"&ROW(N46)&"_x0007_`POSE|"&ROW(N46)&"_x0007_`") -> _x0005_`BDCOD|B01295_x0007_`POSS|46_x0007_`POSE|46_x0007_` | O45: B01295
A46: 이탈방지압륜 접합 및 부설(인력+장비사용) | B46: D250mm K.P 메커니컬 접합 품의 1/2 적용 | C46: 1 | D46: 개소 | E46: =I46+G46+K46 -> 96952 | F46: =J46+H46+L46 -> 96952 | G46: =단가산출근거목록표!F38 -> 71204 | H46: =IF(C46=0,0,ROUNDDOWN(G46*C46,1)) -> 71204 | I46: =단가산출근거목록표!G38 -> 11562 | J46: =IF(C46=0,0,ROUNDDOWN(I46*C46,1)) -> 11562 | K46: =단가산출근거목록표!H38 -> 14186 | L46: =IF(C46=0,0,ROUNDDOWN(K46*C46,1)) -> 14186 | M46: 산근 35호표 | N46: _x0007_`COD|D04252_x0005_`EXI|0_x0005_`DVD|F_x0005_`BMK| _x0005_`IPR|0_x0005_`BLA|F_x0005_` | O46: D04252_1 | P46: T7_1 | Z46: =HYPERLINK("#"&단가산출근거목록표!J2&"!A"&ROW(단가산출근거목록표!A38),"산근35 →") -> 산근35 →
A47: 합 계 | F47: =J47+H47+L47 -> 96952 | H47: =ROUNDDOWN(SUMIF(P46:P46,O47,H46:H46),0) -> 71204 | J47: =ROUNDDOWN(SUMIF(P46:P46,O47,J46:J46),0) -> 11562 | L47: =ROUNDDOWN(SUMIF(P46:P46,O47,L46:L46),0) -> 14186 | O47: T7_1
A49: 제 9 호표 이탈방지압륜접합 (D250mm)이탈방지압륜 접합 및 부설품의 60% 적용 / 개소 | M49: 대가9 | N49: =HYPERLINK("#N"&ROW(N52),"_x0005_`BDCOD|B02633_x0007_`POSS|"&ROW(N50)&"_x0007_`POSE|"&ROW(N52)&"_x0007_`") -> _x0005_`BDCOD|B02633_x0007_`POSS|50_x0007_`POSE|52_x0007_` | O49: B02633
A50: 1.이탈방지 압륜 접합 | B50: 이탈방지압륜 접합 및 부설품의 60% 적용 | C50: 0 | E50: 0 | F50: 0 | H50: 0 | J50: 0 | L50: 0 | N50: _x0007_`COD|_x0005_`EXI|1_x0005_` | O50: _1 | P50: _1
A51: 이탈방지압륜 접합 및 부설(인력+장비사용) | B51: D250mm K.P 메커니컬 접합 품의 1/2 적용 | C51: 0.6 | D51: 개소 | E51: =I51+G51+K51 -> 96952 | F51: =J51+H51+L51 -> 58171.2 | G51: =단가산출근거목록표!F38 -> 71204 | H51: =IF(C51=0,0,ROUNDDOWN(G51*C51,1)) -> 42722.4 | I51: =단가산출근거목록표!G38 -> 11562 | J51: =IF(C51=0,0,ROUNDDOWN(I51*C51,1)) -> 6937.2 | K51: =단가산출근거목록표!H38 -> 14186 | L51: =IF(C51=0,0,ROUNDDOWN(K51*C51,1)) -> 8511.6 | M51: 산근 35호표 | N51: _x0007_`COD|D04252_x0005_`EXI|0_x0005_`DVD|F_x0005_`BMK| _x0005_`IPR|0_x0005_`BLA|F_x0005_` | O51: D04252_1 | P51: T2_1 | Z51: =HYPERLINK("#"&단가산출근거목록표!J2&"!A"&ROW(단가산출근거목록표!A38),"산근35 →") -> 산근35 →
A52: 계 | C52: 0 | E52: 0 | F52: =J52+H52+L52 -> 58171.2 | H52: =SUMIF(P50:P51,O52,H50:H51) -> 42722.4 | J52: =SUMIF(P50:P51,O52,J50:J51) -> 6937.2 | L52: =SUMIF(P50:P51,O52,L50:L51) -> 8511.6 | N52: _x0007_`COD|T2_x0005_`EXI|0_x0005_`TPR|0_x0005_` | O52: T2_1 | P52: T7_1
A53: 합 계 | F53: =J53+H53+L53 -> 58170 | H53: =ROUNDDOWN(SUMIF(P50:P52,O53,H50:H52),0) -> 42722 | J53: =ROUNDDOWN(SUMIF(P50:P52,O53,J50:J52),0) -> 6937 | L53: =ROUNDDOWN(SUMIF(P50:P52,O53,L50:L52),0) -> 8511 | O53: T7_1
A55: 제 10 호표 주철관절단 (D250㎜) / 개소 | M55: 대가10 | N55: =HYPERLINK("#N"&ROW(N57),"_x0005_`BDCOD|B00207_x0007_`POSS|"&ROW(N56)&"_x0007_`POSE|"&ROW(N57)&"_x0007_`") -> _x0005_`BDCOD|B00207_x0007_`POSS|56_x0007_`POSE|57_x0007_` | O55: B00207
A56: 배관공(수도) | C56: 0.14 | D56: 인 | E56: =I56+G56+K56 -> 262580 | F56: =J56+H56+L56 -> 36761.2 | G56: =노무비목록표!E7 -> 262580 | H56: =IF(C56=0,0,ROUNDDOWN(G56*C56,1)) -> 36761.2 | I56: 0 | J56: =IF(C56=0,0,ROUNDDOWN(I56*C56,1)) -> 0 | K56: 0 | L56: =IF(C56=0,0,ROUNDDOWN(K56*C56,1)) -> 0 | M56: 노무4 | N56: _x0007_`COD|L00027_x0005_`EXI|0_x0005_`DVD|F_x0005_`BMK| _x0005_`IPR|1_x0005_`BLA|F_x0005_` | O56: L00027_1 | P56: T7_1 | Q56: 1_01 | Z56: =HYPERLINK("#"&노무비목록표!G2&"!A"&ROW(노무비목록표!A7),"노무4 →") -> 노무4 →
A57: 공구손료및기계경비 | B57: 노무비의 % | C57: 5 | D57: % | E57: =I57+G57+K57 -> 36761.2 | F57: =J57+H57+L57 -> 1838 | G57: 0 | H57: =IF(C57=0,0,ROUNDDOWN(G57*C57/100,1)) -> 0 | I57: 0 | J57: =IF(C57=0,0,ROUNDDOWN(I57*C57/100,1)) -> 0 | K57: =H56 -> 36761.2 | L57: =IF(C57=0,0,ROUNDDOWN(K57*C57/100,1)) -> 1838 | N57: _x0007_`COD|PR_x0005_`EXI|1_x0005_`DVD|F_x0005_`BMK| _x0005_`IPR|0_x0005_`EQC|A01_x0005_`PRI|2_x0005_`PRO|3_x0005_`UNI|%_x0005_`BLA|F_x0005_` | O57: PRA01_1 | P57: T7_1
A58: 합 계 | F58: =J58+H58+L58 -> 38599 | H58: =ROUNDDOWN(SUMIF(P56:P57,O58,H56:H57),0) -> 36761 | J58: =ROUNDDOWN(SUMIF(P56:P57,O58,J56:J57),0) -> 0 | L58: =ROUNDDOWN(SUMIF(P56:P57,O58,L56:L57),0) -> 1838 | O58: T7_1
A60: 제 11 호표 제수밸브부설및접합(게이트) (D250㎜) 주철제 / 개소 | M60: 대가11 | N60: =HYPERLINK("#N"&ROW(N64),"_x0005_`BDCOD|B00905_x0007_`POSS|"&ROW(N61)&"_x0007_`POSE|"&ROW(N64)&"_x0007_`") -> _x0005_`BDCOD|B00905_x0007_`POSS|61_x0007_`POSE|64_x0007_` | O60: B00905
A61: 배관공(수도) | C61: 0.21 | D61: 인 | E61: =I61+G61+K61 -> 262580 | F61: =J61+H61+L61 -> 55141.8 | G61: =노무비목록표!E7 -> 262580 | H61: =IF(C61=0,0,ROUNDDOWN(G61*C61,1)) -> 55141.8 | I61: 0 | J61: =IF(C61=0,0,ROUNDDOWN(I61*C61,1)) -> 0 | K61: 0 | L61: =IF(C61=0,0,ROUNDDOWN(K61*C61,1)) -> 0 | M61: 노무4 | N61: _x0007_`COD|L00027_x0005_`EXI|0_x0005_`DVD|F_x0005_`BMK| _x0005_`IPR|1_x0005_`BLA|F_x0005_` | O61: L00027_1 | P61: T7_1 | Q61: 1_01 | Z61: =HYPERLINK("#"&노무비목록표!G2&"!A"&ROW(노무비목록표!A7),"노무4 →") -> 노무4 →
A62: 보통인부 | C62: 0.11 | D62: 인 | E62: =I62+G62+K62 -> 172068 | F62: =J62+H62+L62 -> 18927.4 | G62: =노무비목록표!E8 -> 172068 | H62: =IF(C62=0,0,ROUNDDOWN(G62*C62,1)) -> 18927.4 | I62: 0 | J62: =IF(C62=0,0,ROUNDDOWN(I62*C62,1)) -> 0 | K62: 0 | L62: =IF(C62=0,0,ROUNDDOWN(K62*C62,1)) -> 0 | M62: 노무5 | N62: _x0007_`COD|L00001_x0005_`EXI|0_x0005_`DVD|F_x0005_`BMK| _x0005_`IPR|1_x0005_`BLA|F_x0005_` | O62: L00001_1 | P62: T7_1 | Q62: 1_01 | Z62: =HYPERLINK("#"&노무비목록표!G2&"!A"&ROW(노무비목록표!A8),"노무5 →") -> 노무5 →
A63: 트럭탑재형 크레인 | B63: 5톤 | C63: 0.67 | D63: 시간 | E63: =I63+G63+K63 -> 71904 | F63: =J63+H63+L63 -> 48175.5 | G63: =중기목록표!F35 -> 49778 | H63: =IF(C63=0,0,ROUNDDOWN(G63*C63,1)) -> 33351.2 | I63: =중기목록표!G35 -> 11009 | J63: =IF(C63=0,0,ROUNDDOWN(I63*C63,1)) -> 7376 | K63: =중기목록표!H35 -> 11117 | L63: =IF(C63=0,0,ROUNDDOWN(K63*C63,1)) -> 7448.3 | M63: 중기32 | N63: _x0007_`COD|X00124_x0005_`EXI|0_x0005_`DVD|F_x0005_`BMK| _x0005_`IPR|1_x0005_`BLA|F_x0005_` | O63: X00124_1 | P63: T7_1 | Q63: 1_01 | Z63: =HYPERLINK("#"&중기목록표!J2&"!A"&ROW(중기목록표!A35),"중기32 →") -> 중기32 →
A64: 공구손료및잡재료비 | B64: 노무비의 % | C64: 2 | D64: % | E64: =I64+G64+K64 -> 107420.4 | F64: =J64+H64+L64 -> 2148.4 | G64: 0 | H64: =IF(C64=0,0,ROUNDDOWN(G64*C64/100,1)) -> 0 | I64: 0 | J64: =IF(C64=0,0,ROUNDDOWN(I64*C64/100,1)) -> 0 | K64: =H61+H62+H63 -> 107420.4 | L64: =IF(C64=0,0,ROUNDDOWN(K64*C64/100,1)) -> 2148.4 | N64: _x0007_`COD|PR_x0005_`EXI|1_x0005_`DVD|F_x0005_`BMK| _x0005_`IPR|0_x0005_`EQC|A01_x0005_`PRI|2_x0005_`PRO|3_x0005_`UNI|%_x0005_`BLA|F_x0005_` | O64: PRA01_1 | P64: T7_1
A65: 합 계 | F65: =J65+H65+L65 -> 124392 | H65: =ROUNDDOWN(SUMIF(P61:P64,O65,H61:H64),0) -> 107420 | J65: =ROUNDDOWN(SUMIF(P61:P64,O65,J61:J64),0) -> 7376 | L65: =ROUNDDOWN(SUMIF(P61:P64,O65,L61:L64),0) -> 9596 | O65: T7_1
A67: 제 12 호표 부단수할정자관부설및접합 D250,본관기준 / 개소 | M67: 대가12 | N67: =HYPERLINK("#N"&ROW(N71),"_x0005_`BDCOD|B03108_x0007_`POSS|"&ROW(N68)&"_x0007_`POSE|"&ROW(N71)&"_x0007_`") -> _x0005_`BDCOD|B03108_x0007_`POSS|68_x0007_`POSE|71_x0007_` | O67: B03108
A68: 배관공(수도) | C68: 0.21 | D68: 인 | E68: =I68+G68+K68 -> 262580 | F68: =J68+H68+L68 -> 55141.8 | G68: =노무비목록표!E7 -> 262580 | H68: =IF(C68=0,0,ROUNDDOWN(G68*C68,1)) -> 55141.8 | I68: 0 | J68: =IF(C68=0,0,ROUNDDOWN(I68*C68,1)) -> 0 | K68: 0 | L68: =IF(C68=0,0,ROUNDDOWN(K68*C68,1)) -> 0 | M68: 노무4 | N68: _x0007_`COD|L00027_x0005_`EXI|0_x0005_`DVD|F_x0005_`BMK| _x0005_`IPR|1_x0005_`BLA|F_x0005_` | O68: L00027_1 | P68: T7_1 | Q68: 1_01 | Z68: =HYPERLINK("#"&노무비목록표!G2&"!A"&ROW(노무비목록표!A7),"노무4 →") -> 노무4 →
A69: 보통인부 | C69: 0.09 | D69: 인 | E69: =I69+G69+K69 -> 172068 | F69: =J69+H69+L69 -> 15486.1 | G69: =노무비목록표!E8 -> 172068 | H69: =IF(C69=0,0,ROUNDDOWN(G69*C69,1)) -> 15486.1 | I69: 0 | J69: =IF(C69=0,0,ROUNDDOWN(I69*C69,1)) -> 0 | K69: 0 | L69: =IF(C69=0,0,ROUNDDOWN(K69*C69,1)) -> 0 | M69: 노무5 | N69: _x0007_`COD|L00001_x0005_`EXI|0_x0005_`DVD|F_x0005_`BMK| _x0005_`IPR|1_x0005_`BLA|F_x0005_` | O69: L00001_1 | P69: T7_1 | Q69: 1_01 | Z69: =HYPERLINK("#"&노무비목록표!G2&"!A"&ROW(노무비목록표!A8),"노무5 →") -> 노무5 →
A70: 공구손료및잡재료비 | B70: 노무비의 % | C70: 2 | D70: % | E70: =I70+G70+K70 -> 70627.9 | F70: =J70+H70+L70 -> 1412.5 | G70: 0 | H70: =IF(C70=0,0,ROUNDDOWN(G70*C70/100,1)) -> 0 | I70: 0 | J70: =IF(C70=0,0,ROUNDDOWN(I70*C70/100,1)) -> 0 | K70: =H68+H69 -> 70627.9 | L70: =IF(C70=0,0,ROUNDDOWN(K70*C70/100,1)) -> 1412.5 | N70: _x0007_`COD|PR_x0005_`EXI|1_x0005_`DVD|F_x0005_`BMK| _x0005_`IPR|0_x0005_`EQC|A01_x0005_`PRI|2_x0005_`PRO|3_x0005_`UNI|%_x0005_`BLA|F_x0005_` | O70: PRA01_1 | P70: T7_1
A71: 트럭탑재형 크레인 | B71: 5톤 | C71: 0.16 | D71: 시간 | E71: =I71+G71+K71 -> 71904 | F71: =J71+H71+L71 -> 11504.5 | G71: =중기목록표!F35 -> 49778 | H71: =IF(C71=0,0,ROUNDDOWN(G71*C71,1)) -> 7964.4 | I71: =중기목록표!G35 -> 11009 | J71: =IF(C71=0,0,ROUNDDOWN(I71*C71,1)) -> 1761.4 | K71: =중기목록표!H35 -> 11117 | L71: =IF(C71=0,0,ROUNDDOWN(K71*C71,1)) -> 1778.7 | M71: 중기32 | N71: _x0007_`COD|X00124_x0005_`EXI|0_x0005_`DVD|F_x0005_`BMK| _x0005_`IPR|0_x0005_`BLA|F_x0005_` | O71: X00124_1 | P71: T7_1 | Z71: =HYPERLINK("#"&중기목록표!J2&"!A"&ROW(중기목록표!A35),"중기32 →") -> 중기32 →
A72: 합 계 | F72: =J72+H72+L72 -> 83544 | H72: =ROUNDDOWN(SUMIF(P68:P71,O72,H68:H71),0) -> 78592 | J72: =ROUNDDOWN(SUMIF(P68:P71,O72,J68:J71),0) -> 1761 | L72: =ROUNDDOWN(SUMIF(P68:P71,O72,L68:L71),0) -> 3191 | O72: T7_1
A74: 제 13 호표 부단수천공분기점분기 D250,분기관(지관)기준 / 개소 | M74: 대가13 | N74: =HYPERLINK("#N"&ROW(N78),"_x0005_`BDCOD|B03086_x0007_`POSS|"&ROW(N75)&"_x0007_`POSE|"&ROW(N78)&"_x0007_`") -> _x0005_`BDCOD|B03086_x0007_`POSS|75_x0007_`POSE|78_x0007_` | O74: B03086
A75: 배관공(수도) | C75: 0.5 | D75: 인 | E75: =I75+G75+K75 -> 262580 | F75: =J75+H75+L75 -> 131290 | G75: =노무비목록표!E7 -> 262580 | H75: =IF(C75=0,0,ROUNDDOWN(G75*C75,1)) -> 131290 | I75: 0 | J75: =IF(C75=0,0,ROUNDDOWN(I75*C75,1)) -> 0 | K75: 0 | L75: =IF(C75=0,0,ROUNDDOWN(K75*C75,1)) -> 0 | M75: 노무4 | N75: _x0007_`COD|L00027_x0005_`EXI|0_x0005_`DVD|F_x0005_`BMK| _x0005_`IPR|1_x0005_`BLA|F_x0005_` | O75: L00027_1 | P75: T7_1 | Q75: 1_01 | Z75: =HYPERLINK("#"&노무비목록표!G2&"!A"&ROW(노무비목록표!A7),"노무4 →") -> 노무4 →
A76: 보통인부 | C76: 0.25 | D76: 인 | E76: =I76+G76+K76 -> 172068 | F76: =J76+H76+L76 -> 43017 | G76: =노무비목록표!E8 -> 172068 | H76: =IF(C76=0,0,ROUNDDOWN(G76*C76,1)) -> 43017 | I76: 0 | J76: =IF(C76=0,0,ROUNDDOWN(I76*C76,1)) -> 0 | K76: 0 | L76: =IF(C76=0,0,ROUNDDOWN(K76*C76,1)) -> 0 | M76: 노무5 | N76: _x0007_`COD|L00001_x0005_`EXI|0_x0005_`DVD|F_x0005_`BMK| _x0005_`IPR|1_x0005_`BLA|F_x0005_` | O76: L00001_1 | P76: T7_1 | Q76: 1_01 | Z76: =HYPERLINK("#"&노무비목록표!G2&"!A"&ROW(노무비목록표!A8),"노무5 →") -> 노무5 →
A77: 공구손료 및 기계경비 | B77: 노무비의 % | C77: 7 | D77: % | E77: =I77+G77+K77 -> 174307 | F77: =J77+H77+L77 -> 12201.4 | G77: 0 | H77: =IF(C77=0,0,ROUNDDOWN(G77*C77/100,1)) -> 0 | I77: 0 | J77: =IF(C77=0,0,ROUNDDOWN(I77*C77/100,1)) -> 0 | K77: =H75+H76 -> 174307 | L77: =IF(C77=0,0,ROUNDDOWN(K77*C77/100,1)) -> 12201.4 | N77: _x0007_`COD|PR_x0005_`EXI|1_x0005_`DVD|F_x0005_`BMK| _x0005_`IPR|1_x0005_`EQC|A01_x0005_`PRI|2_x0005_`PRO|3_x0005_`UNI|%_x0005_`BLA|F_x0005_` | O77: PRA01_1 | P77: T7_1 | Q77: 1_01
A78: 트럭탑재형 크레인 | B78: 5톤 | C78: 1.51 | D78: 시간 | E78: =I78+G78+K78 -> 71904 | F78: =J78+H78+L78 -> 108574.8 | G78: =중기목록표!F35 -> 49778 | H78: =IF(C78=0,0,ROUNDDOWN(G78*C78,1)) -> 75164.7 | I78: =중기목록표!G35 -> 11009 | J78: =IF(C78=0,0,ROUNDDOWN(I78*C78,1)) -> 16623.5 | K78: =중기목록표!H35 -> 11117 | L78: =IF(C78=0,0,ROUNDDOWN(K78*C78,1)) -> 16786.6 | M78: 중기32 | N78: _x0007_`COD|X00124_x0005_`EXI|0_x0005_`DVD|F_x0005_`BMK| _x0005_`IPR|1_x0005_`BLA|F_x0005_` | O78: X00124_1 | P78: T7_1 | Q78: 1_01 | Z78: =HYPERLINK("#"&중기목록표!J2&"!A"&ROW(중기목록표!A35),"중기32 →") -> 중기32 →
A79: 합 계 | F79: =J79+H79+L79 -> 295082 | H79: =ROUNDDOWN(SUMIF(P75:P78,O79,H75:H78),0) -> 249471 | J79: =ROUNDDOWN(SUMIF(P75:P78,O79,J75:J78),0) -> 16623 | L79: =ROUNDDOWN(SUMIF(P75:P78,O79,L75:L78),0) -> 28988 | O79: T7_1
A81: 제 14 호표 플랜지접합 (D250㎜) / 개소 | M81: 대가14 | N81: =HYPERLINK("#N"&ROW(N85),"_x0005_`BDCOD|B00790_x0007_`POSS|"&ROW(N82)&"_x0007_`POSE|"&ROW(N85)&"_x0007_`") -> _x0005_`BDCOD|B00790_x0007_`POSS|82_x0007_`POSE|85_x0007_` | O81: B00790
A82: 플랜지접합부속 | B82: D250 | C82: 1 | D82: 조 | E82: =I82+G82+K82 -> 25010 | F82: =J82+H82+L82 -> 25010 | G82: 0 | H82: =IF(C82=0,0,ROUNDDOWN(G82*C82,1)) -> 0 | I82: =재료비목록표!E52 -> 25010 | J82: =IF(C82=0,0,ROUNDDOWN(I82*C82,1)) -> 25010 | K82: 0 | L82: =IF(C82=0,0,ROUNDDOWN(K82*C82,1)) -> 0 | M82: 자재49 | N82: _x0007_`COD|M00563_x0005_`EXI|0_x0005_`DVD|F_x0005_`BMK| _x0005_`IPR|1_x0005_`KWN|0_x0005_`BLA|F_x0005_` | O82: M00563_1 | P82: T7_1 | Q82: 1_01 | Z82: =HYPERLINK("#"&재료비목록표!G2&"!A"&ROW(재료비목록표!A52),"자재49 →") -> 자재49 →
A83: 배관공(수도) | C83: 0.14 | D83: 인 | E83: =I83+G83+K83 -> 262580 | F83: =J83+H83+L83 -> 36761.2 | G83: =노무비목록표!E7 -> 262580 | H83: =IF(C83=0,0,ROUNDDOWN(G83*C83,1)) -> 36761.2 | I83: 0 | J83: =IF(C83=0,0,ROUNDDOWN(I83*C83,1)) -> 0 | K83: 0 | L83: =IF(C83=0,0,ROUNDDOWN(K83*C83,1)) -> 0 | M83: 노무4 | N83: _x0007_`COD|L00027_x0005_`EXI|0_x0005_`DVD|F_x0005_`BMK| _x0005_`IPR|1_x0005_`BLA|F_x0005_` | O83: L00027_1 | P83: T7_1 | Q83: 1_01 | Z83: =HYPERLINK("#"&노무비목록표!G2&"!A"&ROW(노무비목록표!A7),"노무4 →") -> 노무4 →
A84: 보통인부 | C84: 0.07 | D84: 인 | E84: =I84+G84+K84 -> 172068 | F84: =J84+H84+L84 -> 12044.7 | G84: =노무비목록표!E8 -> 172068 | H84: =IF(C84=0,0,ROUNDDOWN(G84*C84,1)) -> 12044.7 | I84: 0 | J84: =IF(C84=0,0,ROUNDDOWN(I84*C84,1)) -> 0 | K84: 0 | L84: =IF(C84=0,0,ROUNDDOWN(K84*C84,1)) -> 0 | M84: 노무5 | N84: _x0007_`COD|L00001_x0005_`EXI|0_x0005_`DVD|F_x0005_`BMK| _x0005_`IPR|1_x0005_`BLA|F_x0005_` | O84: L00001_1 | P84: T7_1 | Q84: 1_01 | Z84: =HYPERLINK("#"&노무비목록표!G2&"!A"&ROW(노무비목록표!A8),"노무5 →") -> 노무5 →
A85: 공구손료및기계경비 | B85: 노무비의 % | C85: 2 | D85: % | E85: =I85+G85+K85 -> 48805.9 | F85: =J85+H85+L85 -> 976.1 | G85: 0 | H85: =IF(C85=0,0,ROUNDDOWN(G85*C85/100,1)) -> 0 | I85: 0 | J85: =IF(C85=0,0,ROUNDDOWN(I85*C85/100,1)) -> 0 | K85: =H82+H83+H84 -> 48805.9 | L85: =IF(C85=0,0,ROUNDDOWN(K85*C85/100,1)) -> 976.1 | N85: _x0007_`COD|PR_x0005_`EXI|1_x0005_`DVD|F_x0005_`BMK| _x0005_`IPR|1_x0005_`EQC|A01_x0005_`PRI|2_x0005_`PRO|3_x0005_`UNI|%_x0005_`BLA|F_x0005_` | O85: PRA01_1 | P85: T7_1 | Q85: 1_01
A86: 합 계 | F86: =J86+H86+L86 -> 74791 | H86: =ROUNDDOWN(SUMIF(P82:P85,O86,H82:H85),0) -> 48805 | J86: =ROUNDDOWN(SUMIF(P82:P85,O86,J82:J85),0) -> 25010 | L86: =ROUNDDOWN(SUMIF(P82:P85,O86,L82:L85),0) -> 976 | O86: T7_1
A88: 제 15 호표 주철관 철거 D250mm(기존관 철거) / 본 | M88: 대가15 | N88: =HYPERLINK("#N"&ROW(N90),"_x0005_`BDCOD|B05653_x0007_`POSS|"&ROW(N89)&"_x0007_`POSE|"&ROW(N90)&"_x0007_`") -> _x0005_`BDCOD|B05653_x0007_`POSS|89_x0007_`POSE|90_x0007_` | O88: B05653
A89: 주철관 철거 | B89: D250mm | C89: 1 | D89: 본 | E89: =I89+G89+K89 -> 48891 | F89: =J89+H89+L89 -> 48891 | G89: =단가산출근거목록표!F39 -> 38000 | H89: =IF(C89=0,0,ROUNDDOWN(G89*C89,1)) -> 38000 | I89: =단가산출근거목록표!G39 -> 2533 | J89: =IF(C89=0,0,ROUNDDOWN(I89*C89,1)) -> 2533 | K89: =단가산출근거목록표!H39 -> 8358 | L89: =IF(C89=0,0,ROUNDDOWN(K89*C89,1)) -> 8358 | M89: 산근 36호표 | N89: _x0007_`COD|D03799_x0005_`EXI|0_x0005_`DVD|F_x0005_`BMK| _x0005_`IPR|0_x0005_`BLA|F_x0005_` | O89: D03799_1 | P89: T2_1 | Z89: =HYPERLINK("#"&단가산출근거목록표!J2&"!A"&ROW(단가산출근거목록표!A39),"산근36 →") -> 산근36 →
A90: 계 | C90: 0 | E90: 0 | F90: =J90+H90+L90 -> 48891 | H90: =SUMIF(P89:P89,O90,H89:H89) -> 38000 | J90: =SUMIF(P89:P89,O90,J89:J89) -> 2533 | L90: =SUMIF(P89:P89,O90,L89:L89) -> 8358 | N90: _x0007_`COD|T2_x0005_`EXI|0_x0005_`TPR|0_x0005_` | O90: T2_1 | P90: T7_1
A91: 합 계 | F91: =J91+H91+L91 -> 48891 | H91: =ROUNDDOWN(SUMIF(P89:P90,O91,H89:H90),0) -> 38000 | J91: =ROUNDDOWN(SUMIF(P89:P90,O91,J89:J90),0) -> 2533 | L91: =ROUNDDOWN(SUMIF(P89:P90,O91,L89:L90),0) -> 8358 | O91: T7_1
A93: 제 16 호표 보도블럭포장(점자블럭)B-TYPE 차도인접, 주택가도로 T=6cm, 점형(30x30X6) / ㎡ | M93: 대가16 | N93: =HYPERLINK("#N"&ROW(N99),"_x0005_`BDCOD|B03724_x0007_`POSS|"&ROW(N94)&"_x0007_`POSE|"&ROW(N99)&"_x0007_`") -> _x0005_`BDCOD|B03724_x0007_`POSS|94_x0007_`POSE|99_x0007_` | O93: B03724
A94: 포장공 | C94: 0.0115 | D94: 인 | E94: =I94+G94+K94 -> 273308 | F94: =J94+H94+L94 -> 3143 | G94: =노무비목록표!E15 -> 273308 | H94: =IF(C94=0,0,ROUNDDOWN(G94*C94,1)) -> 3143 | I94: 0 | J94: =IF(C94=0,0,ROUNDDOWN(I94*C94,1)) -> 0 | K94: 0 | L94: =IF(C94=0,0,ROUNDDOWN(K94*C94,1)) -> 0 | M94: 노무12 | N94: _x0007_`COD|L00040_x0005_`EXI|0_x0005_`DVD|F_x0005_`BMK| _x0005_`IPR|1_x0005_`BLA|F_x0005_` | O94: L00040_1 | P94: T7_1 | Q94: 1_01 | Z94: =HYPERLINK("#"&노무비목록표!G2&"!A"&ROW(노무비목록표!A15),"노무12 →") -> 노무12 →
A95: 특별인부 | C95: 0.0115 | D95: 인 | E95: =I95+G95+K95 -> 226122 | F95: =J95+H95+L95 -> 2600.4 | G95: =노무비목록표!E13 -> 226122 | H95: =IF(C95=0,0,ROUNDDOWN(G95*C95,1)) -> 2600.4 | I95: 0 | J95: =IF(C95=0,0,ROUNDDOWN(I95*C95,1)) -> 0 | K95: 0 | L95: =IF(C95=0,0,ROUNDDOWN(K95*C95,1)) -> 0 | M95: 노무10 | N95: _x0007_`COD|L00079_x0005_`EXI|0_x0005_`DVD|F_x0005_`BMK| _x0005_`IPR|1_x0005_`BLA|F_x0005_` | O95: L00079_1 | P95: T7_1 | Q95: 1_01 | Z95: =HYPERLINK("#"&노무비목록표!G2&"!A"&ROW(노무비목록표!A13),"노무10 →") -> 노무10 →
A96: 보통인부 | C96: 0.0468 | D96: 인 | E96: =I96+G96+K96 -> 172068 | F96: =J96+H96+L96 -> 8052.7 | G96: =노무비목록표!E8 -> 172068 | H96: =IF(C96=0,0,ROUNDDOWN(G96*C96,1)) -> 8052.7 | I96: 0 | J96: =IF(C96=0,0,ROUNDDOWN(I96*C96,1)) -> 0 | K96: 0 | L96: =IF(C96=0,0,ROUNDDOWN(K96*C96,1)) -> 0 | M96: 노무5 | N96: _x0007_`COD|L00001_x0005_`EXI|0_x0005_`DVD|F_x0005_`BMK| _x0005_`IPR|1_x0005_`BLA|F_x0005_` | O96: L00001_1 | P96: T7_1 | Q96: 1_01 | Z96: =HYPERLINK("#"&노무비목록표!G2&"!A"&ROW(노무비목록표!A8),"노무5 →") -> 노무5 →
A97: 공구손료 및 잡재료비 | B97: 노무비의 % | C97: 5 | D97: % | E97: =I97+G97+K97 -> 13796.1 | F97: =J97+H97+L97 -> 689.8 | G97: 0 | H97: =IF(C97=0,0,ROUNDDOWN(G97*C97/100,1)) -> 0 | I97: 0 | J97: =IF(C97=0,0,ROUNDDOWN(I97*C97/100,1)) -> 0 | K97: =H94+H95+H96 -> 13796.1 | L97: =IF(C97=0,0,ROUNDDOWN(K97*C97/100,1)) -> 689.8 | N97: _x0007_`COD|PR_x0005_`EXI|1_x0005_`DVD|F_x0005_`BMK| _x0005_`IPR|0_x0005_`EQC|A01_x0005_`PRI|2_x0005_`PRO|3_x0005_`UNI|%_x0005_`BLA|F_x0005_` | O97: PRA01_1 | P97: T7_1
A98: 플레이트 콤팩터 | B98: 1.5톤 | C98: 0.0468 | D98: 시간 | E98: =I98+G98+K98 -> 39034 | F98: =J98+H98+L98 -> 1826.7 | G98: =중기목록표!F36 -> 36248 | H98: =IF(C98=0,0,ROUNDDOWN(G98*C98,1)) -> 1696.4 | I98: =중기목록표!G36 -> 2166 | J98: =IF(C98=0,0,ROUNDDOWN(I98*C98,1)) -> 101.3 | K98: =중기목록표!H36 -> 620 | L98: =IF(C98=0,0,ROUNDDOWN(K98*C98,1)) -> 29 | M98: 중기33 | N98: _x0007_`COD|X00026_x0005_`EXI|0_x0005_`DVD|F_x0005_`BMK| _x0005_`IPR|0_x0005_`BLA|F_x0005_` | O98: X00026_1 | P98: T7_1 | Z98: =HYPERLINK("#"&중기목록표!J2&"!A"&ROW(중기목록표!A36),"중기33 →") -> 중기33 →
A99: 굴착기(타이어) | B99: 0.6㎥ | C99: 0.0468 | D99: 시간 | E99: =I99+G99+K99 -> 112016 | F99: =J99+H99+L99 -> 5242.2 | G99: =중기목록표!F10 -> 59020 | H99: =IF(C99=0,0,ROUNDDOWN(G99*C99,1)) -> 2762.1 | I99: =중기목록표!G10 -> 25876 | J99: =IF(C99=0,0,ROUNDDOWN(I99*C99,1)) -> 1210.9 | K99: =중기목록표!H10 -> 27120 | L99: =IF(C99=0,0,ROUNDDOWN(K99*C99,1)) -> 1269.2 | M99: 중기7 | N99: _x0007_`COD|X00179_x0005_`EXI|0_x0005_`DVD|F_x0005_`BMK| _x0005_`IPR|0_x0005_`BLA|F_x0005_` | O99: X00179_1 | P99: T7_1 | Z99: =HYPERLINK("#"&중기목록표!J2&"!A"&ROW(중기목록표!A10),"중기7 →") -> 중기7 →
A100: 합 계 | F100: =J100+H100+L100 -> 21554 | H100: =ROUNDDOWN(SUMIF(P94:P99,O100,H94:H99),0) -> 18254 | J100: =ROUNDDOWN(SUMIF(P94:P99,O100,J94:J99),0) -> 1312 | L100: =ROUNDDOWN(SUMIF(P94:P99,O100,L94:L99),0) -> 1988 | O100: T7_1
A102: 제 17 호표 L형측구 및 보차도경계석 재설치(B-TYPE) 화강석(200×250×1000)직선 / M | M102: 대가17 | N102: =HYPERLINK("#N"&ROW(N111),"_x0005_`BDCOD|B06814_x0007_`POSS|"&ROW(N103)&"_x0007_`POSE|"&ROW(N111)&"_x0007_`") -> _x0005_`BDCOD|B06814_x0007_`POSS|103_x0007_`POSE|111_x0007_` | O102: B06814
B103: 품셈 유지관리 2-1-33 적용 | C103: 0 | E103: 0 | F103: 0 | H103: 0 | J103: 0 | L103: 0 | N103: _x0007_`COD|_x0005_`EXI|1_x0005_` | O103: _1 | P103: _1
A104: 특별인부 | C104: 0.018 | D104: 인 | E104: =I104+G104+K104 -> 226122 | F104: =J104+H104+L104 -> 4070.1 | G104: =노무비목록표!E13 -> 226122 | H104: =IF(C104=0,0,ROUNDDOWN(G104*C104,1)) -> 4070.1 | I104: 0 | J104: =IF(C104=0,0,ROUNDDOWN(I104*C104,1)) -> 0 | K104: 0 | L104: =IF(C104=0,0,ROUNDDOWN(K104*C104,1)) -> 0 | M104: 노무10 | N104: _x0007_`COD|L00079_x0005_`EXI|0_x0005_`DVD|F_x0005_`BMK| _x0005_`IPR|1_x0005_`BLA|F_x0005_` | O104: L00079_1 | P104: T7_1 | Q104: 1_01 | Z104: =HYPERLINK("#"&노무비목록표!G2&"!A"&ROW(노무비목록표!A13),"노무10 →") -> 노무10 →
A105: 보통인부 | C105: 0.0091 | D105: 인 | E105: =I105+G105+K105 -> 172068 | F105: =J105+H105+L105 -> 1565.8 | G105: =노무비목록표!E8 -> 172068 | H105: =IF(C105=0,0,ROUNDDOWN(G105*C105,1)) -> 1565.8 | I105: 0 | J105: =IF(C105=0,0,ROUNDDOWN(I105*C105,1)) -> 0 | K105: 0 | L105: =IF(C105=0,0,ROUNDDOWN(K105*C105,1)) -> 0 | M105: 노무5 | N105: _x0007_`COD|L00001_x0005_`EXI|0_x0005_`DVD|F_x0005_`BMK| _x0005_`IPR|1_x0005_`BLA|F_x0005_` | O105: L00001_1 | P105: T7_1 | Q105: 1_01 | Z105: =HYPERLINK("#"&노무비목록표!G2&"!A"&ROW(노무비목록표!A8),"노무5 →") -> 노무5 →
A106: 공구손료 및 기계경비 | B106: 노무비의 % | C106: 2 | D106: % | E106: =I106+G106+K106 -> 5635.9 | F106: =J106+H106+L106 -> 112.7 | G106: =H104+H105 -> 5635.9 | H106: =IF(C106=0,0,ROUNDDOWN(G106*C106/100,1)) -> 112.7 | I106: 0 | J106: =IF(C106=0,0,ROUNDDOWN(I106*C106/100,1)) -> 0 | K106: 0 | L106: =IF(C106=0,0,ROUNDDOWN(K106*C106/100,1)) -> 0 | N106: _x0007_`COD|PR_x0005_`EXI|1_x0005_`DVD|F_x0005_`BMK| _x0005_`IPR|0_x0005_`EQC|A01_x0005_`PRI|2_x0005_`PRO|2_x0005_`UNI|%_x0005_`BLA|F_x0005_` | O106: PRA01_1 | P106: T7_1
A107: 굴착기(무한궤도) | B107: 0.2㎥ | C107: 0.0091 | D107: 시간 | E107: =I107+G107+K107 -> 83776 | F107: =J107+H107+L107 -> 762.2 | G107: =중기목록표!F5 -> 59020 | H107: =IF(C107=0,0,ROUNDDOWN(G107*C107,1)) -> 537 | I107: =중기목록표!G5 -> 10883 | J107: =IF(C107=0,0,ROUNDDOWN(I107*C107,1)) -> 99 | K107: =중기목록표!H5 -> 13873 | L107: =IF(C107=0,0,ROUNDDOWN(K107*C107,1)) -> 126.2 | M107: 중기2 | N107: _x0007_`COD|X00113_x0005_`EXI|0_x0005_`DVD|F_x0005_`BMK| _x0005_`IPR|0_x0005_`BLA|F_x0005_` | O107: X00113_1 | P107: T7_1 | Z107: =HYPERLINK("#"&중기목록표!J2&"!A"&ROW(중기목록표!A5),"중기2 →") -> 중기2 →
A108: 덤프트럭 | B108: 2.5톤 | C108: 0.0091 | D108: 시간 | E108: =I108+G108+K108 -> 63499 | F108: =J108+H108+L108 -> 577.7 | G108: =중기목록표!F14 -> 49778 | H108: =IF(C108=0,0,ROUNDDOWN(G108*C108,1)) -> 452.9 | I108: =중기목록표!G14 -> 7199 | J108: =IF(C108=0,0,ROUNDDOWN(I108*C108,1)) -> 65.5 | K108: =중기목록표!H14 -> 6522 | L108: =IF(C108=0,0,ROUNDDOWN(K108*C108,1)) -> 59.3 | M108: 중기11 | N108: _x0007_`COD|X00120_x0005_`EXI|0_x0005_`DVD|F_x0005_`BMK| _x0005_`IPR|0_x0005_`BLA|F_x0005_` | O108: X00120_1 | P108: T7_1 | Z108: =HYPERLINK("#"&중기목록표!J2&"!A"&ROW(중기목록표!A14),"중기11 →") -> 중기11 →
A109: 레미콘타설(25-21-8) | B109: (무근구조물)레미콘별산 | C109: 0.153 | D109: ㎥ | E109: =I109+G109+K109 -> 59284 | F109: =J109+H109+L109 -> 9070.3 | G109: =일위대가목록표!F28 -> 58122 | H109: =IF(C109=0,0,ROUNDDOWN(G109*C109,1)) -> 8892.6 | I109: =일위대가목록표!G28 -> 0 | J109: =IF(C109=0,0,ROUNDDOWN(I109*C109,1)) -> 0 | K109: =일위대가목록표!H28 -> 1162 | L109: =IF(C109=0,0,ROUNDDOWN(K109*C109,1)) -> 177.7 | M109: 대가 25호표 | N109: _x0007_`COD|B04067_x0005_`EXI|0_x0005_`DVD|F_x0005_`BMK| _x0005_`IPR|0_x0005_`BLA|F_x0005_` | O109: B04067_1 | P109: T7_1 | Z109: =HYPERLINK("#"&일위대가목록표!J2&"!A"&ROW(일위대가목록표!A28),"대가25 →") -> 대가25 →
A110: 유로폼 | B110: 6회(바닥용) 벽체 간단 적용 | C110: 0.44 | D110: ㎡ | E110: =I110+G110+K110 -> 36258 | F110: =J110+H110+L110 -> 15953.4 | G110: =단가산출근거목록표!F40 -> 31880 | H110: =IF(C110=0,0,ROUNDDOWN(G110*C110,1)) -> 14027.2 | I110: =단가산출근거목록표!G40 -> 3422 | J110: =IF(C110=0,0,ROUNDDOWN(I110*C110,1)) -> 1505.6 | K110: =단가산출근거목록표!H40 -> 956 | L110: =IF(C110=0,0,ROUNDDOWN(K110*C110,1)) -> 420.6 | M110: 산근 37호표 | N110: _x0007_`COD|D04373_x0005_`EXI|0_x0005_`DVD|F_x0005_`BMK| _x0005_`IPR|0_x0005_`BLA|F_x0005_` | O110: D04373_1 | P110: T7_1 | Z110: =HYPERLINK("#"&단가산출근거목록표!J2&"!A"&ROW(단가산출근거목록표!A40),"산근37 →") -> 산근37 →
A111: 몰탈채움 | B111: (1:3) | C111: 0.0005 | D111: ㎥ | E111: =I111+G111+K111 -> 285632 | F111: =J111+H111+L111 -> 142.8 | G111: =일위대가목록표!F29 -> 285632 | H111: =IF(C111=0,0,ROUNDDOWN(G111*C111,1)) -> 142.8 | I111: =일위대가목록표!G29 -> 0 | J111: =IF(C111=0,0,ROUNDDOWN(I111*C111,1)) -> 0 | K111: =일위대가목록표!H29 -> 0 | L111: =IF(C111=0,0,ROUNDDOWN(K111*C111,1)) -> 0 | M111: 대가 26호표 | N111: _x0007_`COD|B00235_x0005_`EXI|0_x0005_`DVD|F_x0005_`BMK| _x0005_`IPR|0_x0005_`BLA|F_x0005_` | O111: B00235_1 | P111: T7_1 | Z111: =HYPERLINK("#"&일위대가목록표!J2&"!A"&ROW(일위대가목록표!A29),"대가26 →") -> 대가26 →
A112: 합 계 | F112: =J112+H112+L112 -> 32254 | H112: =ROUNDDOWN(SUMIF(P103:P111,O112,H103:H111),0) -> 29801 | J112: =ROUNDDOWN(SUMIF(P103:P111,O112,J103:J111),0) -> 1670 | L112: =ROUNDDOWN(SUMIF(P103:P111,O112,L103:L111),0) -> 783 | O112: T7_1
A114: 제 18 호표 L형측구 및 보차도경계석 재설치(B-TYPE) 화강석(180×200×1000)낯춤석 경계석제외 / M | M114: 대가18 | N114: =HYPERLINK("#N"&ROW(N123),"_x0005_`BDCOD|B06813_x0007_`POSS|"&ROW(N115)&"_x0007_`POSE|"&ROW(N123)&"_x0007_`") -> _x0005_`BDCOD|B06813_x0007_`POSS|115_x0007_`POSE|123_x0007_` | O114: B06813
B115: 품셈 유지관리 2-1-33 적용 | C115: 0 | E115: 0 | F115: 0 | H115: 0 | J115: 0 | L115: 0 | N115: _x0007_`COD|_x0005_`EXI|1_x0005_` | O115: _1 | P115: _1
A116: 특별인부 | C116: 0.0182 | D116: 인 | E116: =I116+G116+K116 -> 226122 | F116: =J116+H116+L116 -> 4115.4 | G116: =노무비목록표!E13 -> 226122 | H116: =IF(C116=0,0,ROUNDDOWN(G116*C116,1)) -> 4115.4 | I116: 0 | J116: =IF(C116=0,0,ROUNDDOWN(I116*C116,1)) -> 0 | K116: 0 | L116: =IF(C116=0,0,ROUNDDOWN(K116*C116,1)) -> 0 | M116: 노무10 | N116: _x0007_`COD|L00079_x0005_`EXI|0_x0005_`DVD|F_x0005_`BMK| _x0005_`IPR|1_x0005_`BLA|F_x0005_` | O116: L00079_1 | P116: T7_1 | Q116: 1_01 | Z116: =HYPERLINK("#"&노무비목록표!G2&"!A"&ROW(노무비목록표!A13),"노무10 →") -> 노무10 →
A117: 보통인부 | C117: 0.0091 | D117: 인 | E117: =I117+G117+K117 -> 172068 | F117: =J117+H117+L117 -> 1565.8 | G117: =노무비목록표!E8 -> 172068 | H117: =IF(C117=0,0,ROUNDDOWN(G117*C117,1)) -> 1565.8 | I117: 0 | J117: =IF(C117=0,0,ROUNDDOWN(I117*C117,1)) -> 0 | K117: 0 | L117: =IF(C117=0,0,ROUNDDOWN(K117*C117,1)) -> 0 | M117: 노무5 | N117: _x0007_`COD|L00001_x0005_`EXI|0_x0005_`DVD|F_x0005_`BMK| _x0005_`IPR|1_x0005_`BLA|F_x0005_` | O117: L00001_1 | P117: T7_1 | Q117: 1_01 | Z117: =HYPERLINK("#"&노무비목록표!G2&"!A"&ROW(노무비목록표!A8),"노무5 →") -> 노무5 →
A118: 공구손료 및 기계경비 | B118: 노무비의 % | C118: 2 | D118: % | E118: =I118+G118+K118 -> 5681.2 | F118: =J118+H118+L118 -> 113.6 | G118: =H116+H117 -> 5681.2 | H118: =IF(C118=0,0,ROUNDDOWN(G118*C118/100,1)) -> 113.6 | I118: 0 | J118: =IF(C118=0,0,ROUNDDOWN(I118*C118/100,1)) -> 0 | K118: 0 | L118: =IF(C118=0,0,ROUNDDOWN(K118*C118/100,1)) -> 0 | N118: _x0007_`COD|PR_x0005_`EXI|1_x0005_`DVD|F_x0005_`BMK| _x0005_`IPR|0_x0005_`EQC|A01_x0005_`PRI|2_x0005_`PRO|2_x0005_`UNI|%_x0005_`BLA|F_x0005_` | O118: PRA01_1 | P118: T7_1
...

Sheet 단가산출근거목록표
A1: 단가산출근거 목록표 | J1: STmate | K1: STmate
A2: 공사명 : 모현읍 왕산리 799-37번지 배수관로 이설공사 | J2: =MID(CELL("filename",$A$1),FIND("]",CELL("filename",$A$1))+1,LEN(CELL("filename",$A$1))) -> 단가산출근거목록표
A3: 호표 | B3: 명 칭 | C3: 규 격 | D3: 단위 | E3: 합 계 | F3: 노 무 비 | G3: 재 료 비 | H3: 경 비 | I3: 비 고 | K3: =HYPERLINK("#'〓 목 차 〓'!B2","목차 →") -> 목차 →
A4: 제 1호표 | B4: 포장절단 | C4: 아스콘포장 | D4: m | E4: =단가산출근거!C104 -> 2661 | F4: =단가산출근거!D104 -> 1376 | G4: =단가산출근거!E104 -> 216 | H4: =단가산출근거!F104 -> 1069 | I4: 제 1호표 | J4: ="_x0007_`COD|D01375_x0005_`QTY1|1_x0005_`BQC|_x0005_`EQC|_x0005_`JDC|_x0005_`WQC|_x0005_`EDT|_x0005_`ADJ|F_x0005_`DET|"&ROW(단가산출근거!A5)&"_x0005_`" -> _x0007_`COD|D01375_x0005_`QTY1|1_x0005_`BQC|_x0005_`EQC|_x0005_`JDC|_x0005_`WQC|_x0005_`EDT|_x0005_`ADJ|F_x0005_`DET|5_x0005_` | K4: =HYPERLINK("#"&단가산출근거!G2&"!A"&ROW(단가산출근거!A5),"산근1 →") -> 산근1 →
A5: 제 2호표 | B5: 아스팔트포장 깨기 | C5: (기계0.4㎥, 대형브레이카) | D5: ㎥ | E5: =단가산출근거!C154 -> 18065 | F5: =단가산출근거!D154 -> 11670 | G5: =단가산출근거!E154 -> 3058 | H5: =단가산출근거!F154 -> 3337 | I5: 제 2호표 | J5: ="_x0007_`COD|D00265_x0005_`QTY1|1_x0005_`BQC|_x0005_`EQC|_x0005_`JDC|_x0005_`WQC|_x0005_`EDT|_x0005_`ADJ|F_x0005_`DET|"&ROW(단가산출근거!A105)&"_x0005_`" -> _x0007_`COD|D00265_x0005_`QTY1|1_x0005_`BQC|_x0005_`EQC|_x0005_`JDC|_x0005_`WQC|_x0005_`EDT|_x0005_`ADJ|F_x0005_`DET|105_x0005_` | K5: =HYPERLINK("#"&단가산출근거!G2&"!A"&ROW(단가산출근거!A105),"산근2 →") -> 산근2 →
A6: 제 3호표 | B6: 무근콘크리트깨기 | C6: (T=30cm미만,굴착기0.4㎥) | D6: ㎥ | E6: =단가산출근거!C204 -> 37775 | F6: =단가산출근거!D204 -> 24402 | G6: =단가산출근거!E204 -> 6396 | H6: =단가산출근거!F204 -> 6977 | I6: 제 3호표 | J6: ="_x0007_`COD|D02950_x0005_`QTY1|1_x0005_`BQC|_x0005_`EQC|도로_x0005_`JDC|_x0005_`WQC|_x0005_`EDT|_x0005_`ADJ|F_x0005_`DET|"&ROW(단가산출근거!A155)&"_x0005_`" -> _x0007_`COD|D02950_x0005_`QTY1|1_x0005_`BQC|_x0005_`EQC|도로_x0005_`JDC|_x0005_`WQC|_x0005_`EDT|_x0005_`ADJ|F_x0005_`DET|155_x0005_` | K6: =HYPERLINK("#"&단가산출근거!G2&"!A"&ROW(단가산출근거!A155),"산근3 →") -> 산근3 →
A7: 제 4호표 | B7: 터파기(배수관)0.4㎥ | C7: (굴착기0.4㎥ 기계90%+인력10%) | D7: ㎥ | E7: =단가산출근거!C254 -> 16712 | F7: =단가산출근거!D254 -> 15861 | G7: =단가산출근거!E254 -> 471 | H7: =단가산출근거!F254 -> 380 | I7: 제 4호표 | J7: ="_x0007_`COD|D02305_x0005_`QTY1|1_x0005_`BQC|_x0005_`EQC|_x0005_`JDC|_x0005_`WQC|_x0005_`EDT|_x0005_`ADJ|F_x0005_`DET|"&ROW(단가산출근거!A205)&"_x0005_`" -> _x0007_`COD|D02305_x0005_`QTY1|1_x0005_`BQC|_x0005_`EQC|_x0005_`JDC|_x0005_`WQC|_x0005_`EDT|_x0005_`ADJ|F_x0005_`DET|205_x0005_` | K7: =HYPERLINK("#"&단가산출근거!G2&"!A"&ROW(단가산출근거!A205),"산근4 →") -> 산근4 →
A8: 제 5호표 | B8: 되메우기및다짐(배수관) | C8: 백호우0.4㎥(진돌롤러) | D8: ㎥ | E8: =단가산출근거!C304 -> 4262 | F8: =단가산출근거!D304 -> 2818 | G8: =단가산출근거!E304 -> 900 | H8: =단가산출근거!F304 -> 544 | I8: 제 5호표 | J8: ="_x0007_`COD|D02638_x0005_`QTY1|1_x0005_`BQC|_x0005_`EQC|_x0005_`JDC|_x0005_`WQC|_x0005_`EDT|_x0005_`ADJ|F_x0005_`DET|"&ROW(단가산출근거!A255)&"_x0005_`" -> _x0007_`COD|D02638_x0005_`QTY1|1_x0005_`BQC|_x0005_`EQC|_x0005_`JDC|_x0005_`WQC|_x0005_`EDT|_x0005_`ADJ|F_x0005_`DET|255_x0005_` | K8: =HYPERLINK("#"&단가산출근거!G2&"!A"&ROW(단가산출근거!A255),"산근5 →") -> 산근5 →
A9: 제 6호표 | B9: 모래부설(배수관) | C9: (굴착기0.4+플레이트콤펙터 1.5ton) | D9: ㎥ | E9: =단가산출근거!C354 -> 5664 | F9: =단가산출근거!D354 -> 4928 | G9: =단가산출근거!E354 -> 477 | H9: =단가산출근거!F354 -> 259 | I9: 제 6호표 | J9: ="_x0007_`COD|D03713_x0005_`QTY1|1_x0005_`BQC|_x0005_`EQC|_x0005_`JDC|_x0005_`WQC|_x0005_`EDT|_x0005_`ADJ|F_x0005_`DET|"&ROW(단가산출근거!A305)&"_x0005_`" -> _x0007_`COD|D03713_x0005_`QTY1|1_x0005_`BQC|_x0005_`EQC|_x0005_`JDC|_x0005_`WQC|_x0005_`EDT|_x0005_`ADJ|F_x0005_`DET|305_x0005_` | K9: =HYPERLINK("#"&단가산출근거!G2&"!A"&ROW(단가산출근거!A305),"산근6 →") -> 산근6 →
A10: 제 7호표 | B10: 폐기물적사 | C10: 굴착기 0.4㎥ | D10: ㎥ | E10: =단가산출근거!C404 -> 6200 | F10: =단가산출근거!D404 -> 3724 | G10: =단가산출근거!E404 -> 1371 | H10: =단가산출근거!F404 -> 1105 | I10: 제 7호표 | J10: ="_x0007_`COD|D00785_x0005_`QTY1|1_x0005_`BQC|_x0005_`EQC|_x0005_`JDC|_x0005_`WQC|_x0005_`EDT|_x0005_`ADJ|F_x0005_`DET|"&ROW(단가산출근거!A355)&"_x0005_`" -> _x0007_`COD|D00785_x0005_`QTY1|1_x0005_`BQC|_x0005_`EQC|_x0005_`JDC|_x0005_`WQC|_x0005_`EDT|_x0005_`ADJ|F_x0005_`DET|355_x0005_` | K10: =HYPERLINK("#"&단가산출근거!G2&"!A"&ROW(단가산출근거!A355),"산근7 →") -> 산근7 →
A11: 제 8호표 | B11: 사토:토사[L=10.0km]. | C11: (굴착기0.4㎥+덤프15ton) | D11: ㎥ | E11: =단가산출근거!C504 -> 11517 | F11: =단가산출근거!D504 -> 0 | G11: =단가산출근거!E504 -> 0 | H11: =단가산출근거!F504 -> 11517 | I11: 제 8호표 | J11: ="_x0007_`COD|D04064_x0005_`QTY1|1_x0005_`BQC|_x0005_`EQC|_x0005_`JDC|_x0005_`WQC|_x0005_`EDT|_x0005_`ADJ|F_x0005_`DET|"&ROW(단가산출근거!A405)&"_x0005_`" -> _x0007_`COD|D04064_x0005_`QTY1|1_x0005_`BQC|_x0005_`EQC|_x0005_`JDC|_x0005_`WQC|_x0005_`EDT|_x0005_`ADJ|F_x0005_`DET|405_x0005_` | K11: =HYPERLINK("#"&단가산출근거!G2&"!A"&ROW(단가산출근거!A405),"산근8 →") -> 산근8 →
A12: 제 9호표 | B12: 제수변실 설치 | C12: 1.2x1.2x1.5(개선품) | D12: 개소 | E12: =단가산출근거!C554 -> 335510 | F12: =단가산출근거!D554 -> 251342 | G12: =단가산출근거!E554 -> 16203 | H12: =단가산출근거!F554 -> 67965 | I12: 제 9호표 | J12: ="_x0007_`COD|D03180_x0005_`QTY1|1_x0005_`BQC|_x0005_`EQC|_x0005_`JDC|_x0005_`WQC|_x0005_`EDT|_x0005_`ADJ|F_x0005_`DET|"&ROW(단가산출근거!A505)&"_x0005_`" -> _x0007_`COD|D03180_x0005_`QTY1|1_x0005_`BQC|_x0005_`EQC|_x0005_`JDC|_x0005_`WQC|_x0005_`EDT|_x0005_`ADJ|F_x0005_`DET|505_x0005_` | K12: =HYPERLINK("#"&단가산출근거!G2&"!A"&ROW(단가산출근거!A505),"산근9 →") -> 산근9 →
A13: 제 10호표 | B13: 맨홀뚜껑설치(자재비별도) | C13: (상수도용:φ648mm)DKC | D13: 조 | E13: =단가산출근거!C604 -> 27750 | F13: =단가산출근거!D604 -> 27750 | G13: =단가산출근거!E604 -> 0 | H13: =단가산출근거!F604 -> 0 | I13: 제 10호표 | J13: ="_x0007_`COD|D02908_x0005_`QTY1|1_x0005_`BQC|_x0005_`EQC|_x0005_`JDC|_x0005_`WQC|_x0005_`EDT|_x0005_`ADJ|F_x0005_`DET|"&ROW(단가산출근거!A555)&"_x0005_`" -> _x0007_`COD|D02908_x0005_`QTY1|1_x0005_`BQC|_x0005_`EQC|_x0005_`JDC|_x0005_`WQC|_x0005_`EDT|_x0005_`ADJ|F_x0005_`DET|555_x0005_` | K13: =HYPERLINK("#"&단가산출근거!G2&"!A"&ROW(단가산출근거!A555),"산근10 →") -> 산근10 →
A14: 제 11호표 | B14: 프라임코팅(RSC-3:75ℓ/a) | D14: ㎡ | E14: =단가산출근거!C654 -> 81 | F14: =단가산출근거!D654 -> 79 | G14: =단가산출근거!E654 -> 2 | H14: =단가산출근거!F654 -> 0 | I14: 제 11호표 | J14: ="_x0007_`COD|D01361_x0005_`QTY1|1_x0005_`BQC|_x0005_`EQC|_x0005_`JDC|_x0005_`WQC|_x0005_`EDT|_x0005_`ADJ|F_x0005_`DET|"&ROW(단가산출근거!A605)&"_x0005_`" -> _x0007_`COD|D01361_x0005_`QTY1|1_x0005_`BQC|_x0005_`EQC|_x0005_`JDC|_x0005_`WQC|_x0005_`EDT|_x0005_`ADJ|F_x0005_`DET|605_x0005_` | K14: =HYPERLINK("#"&단가산출근거!G2&"!A"&ROW(단가산출근거!A605),"산근11 →") -> 산근11 →
A15: 제 12호표 | B15: 기층포설및다짐 | C15: 인력식소규모포설(BB층) | D15: ㎡ | E15: =단가산출근거!C754 -> 6290 | F15: =단가산출근거!D754 -> 5249 | G15: =단가산출근거!E754 -> 664 | H15: =단가산출근거!F754 -> 377 | I15: 제 12호표 | J15: ="_x0007_`COD|D01503_x0005_`QTY1|1_x0005_`BQC|_x0005_`EQC|_x0005_`JDC|_x0005_`WQC|_x0005_`EDT|_x0005_`ADJ|F_x0005_`DET|"&ROW(단가산출근거!A655)&"_x0005_`" -> _x0007_`COD|D01503_x0005_`QTY1|1_x0005_`BQC|_x0005_`EQC|_x0005_`JDC|_x0005_`WQC|_x0005_`EDT|_x0005_`ADJ|F_x0005_`DET|655_x0005_` | K15: =HYPERLINK("#"&단가산출근거!G2&"!A"&ROW(단가산출근거!A655),"산근12 →") -> 산근12 →
A16: 제 13호표 | B16: 절삭후아스팔트덧씌우기 | C16: t=5cm B=2.0m(B-TYPE) | D16: ㎡ | E16: =단가산출근거!C904 -> 4269 | F16: =단가산출근거!D904 -> 1928 | G16: =단가산출근거!E904 -> 1105 | H16: =단가산출근거!F904 -> 1236 | I16: 제 13호표 | J16: ="_x0007_`COD|D03372_x0005_`QTY1|1_x0005_`BQC|_x0005_`EQC|_x0005_`JDC|_x0005_`WQC|_x0005_`EDT|_x0005_`ADJ|F_x0005_`DET|"&ROW(단가산출근거!A755)&"_x0005_`" -> _x0007_`COD|D03372_x0005_`QTY1|1_x0005_`BQC|_x0005_`EQC|_x0005_`JDC|_x0005_`WQC|_x0005_`EDT|_x0005_`ADJ|F_x0005_`DET|755_x0005_` | K16: =HYPERLINK("#"&단가산출근거!G2&"!A"&ROW(단가산출근거!A755),"산근13 →") -> 산근13 →
A17: 제 14호표 | B17: 보조기층포설및다짐 | C17: 인력식소규모장비(자재비별도) | D17: ㎥ | E17: =단가산출근거!C1004 -> 13348 | F17: =단가산출근거!D1004 -> 9716 | G17: =단가산출근거!E1004 -> 2012 | H17: =단가산출근거!F1004 -> 1620 | I17: 제 14호표 | J17: ="_x0007_`COD|D01352_x0005_`QTY1|1_x0005_`BQC|_x0005_`EQC|_x0005_`JDC|_x0005_`WQC|_x0005_`EDT|_x0005_`ADJ|F_x0005_`DET|"&ROW(단가산출근거!A905)&"_x0005_`" -> _x0007_`COD|D01352_x0005_`QTY1|1_x0005_`BQC|_x0005_`EQC|_x0005_`JDC|_x0005_`WQC|_x0005_`EDT|_x0005_`ADJ|F_x0005_`DET|905_x0005_` | K17: =HYPERLINK("#"&단가산출근거!G2&"!A"&ROW(단가산출근거!A905),"산근14 →") -> 산근14 →
A18: 제 15호표 | B18: 투수콘포장(칼라) | C18: (7cm)보도용 | D18: ㎡ | E18: =단가산출근거!C1104 -> 8051 | F18: =단가산출근거!D1104 -> 6719 | G18: =단가산출근거!E1104 -> 850 | H18: =단가산출근거!F1104 -> 482 | I18: 제 15호표 | J18: ="_x0007_`COD|D03304_x0005_`QTY1|1_x0005_`BQC|_x0005_`EQC|_x0005_`JDC|_x0005_`WQC|_x0005_`EDT|_x0005_`ADJ|F_x0005_`DET|"&ROW(단가산출근거!A1005)&"_x0005_`" -> _x0007_`COD|D03304_x0005_`QTY1|1_x0005_`BQC|_x0005_`EQC|_x0005_`JDC|_x0005_`WQC|_x0005_`EDT|_x0005_`ADJ|F_x0005_`DET|1005_x0005_` | K18: =HYPERLINK("#"&단가산출근거!G2&"!A"&ROW(단가산출근거!A1005),"산근15 →") -> 산근15 →
A19: 제 16호표 | B19: 도로경계석 설치(B-TYPE) | C19: 직선 차도인접, 주택가 110m/일 폭+높이300mm이하(150×150) | D19: m | E19: =단가산출근거!C1154 -> 30791 | F19: =단가산출근거!D1154 -> 27994 | G19: =단가산출근거!E1154 -> 1314 | H19: =단가산출근거!F1154 -> 1483 | I19: 제 16호표 | J19: ="_x0007_`COD|D04433_x0005_`QTY1|1_x0005_`BQC|_x0005_`EQC|_x0005_`JDC|_x0005_`WQC|_x0005_`EDT|_x0005_`ADJ|F_x0005_`DET|"&ROW(단가산출근거!A1105)&"_x0005_`" -> _x0007_`COD|D04433_x0005_`QTY1|1_x0005_`BQC|_x0005_`EQC|_x0005_`JDC|_x0005_`WQC|_x0005_`EDT|_x0005_`ADJ|F_x0005_`DET|1105_x0005_` | K19: =HYPERLINK("#"&단가산출근거!G2&"!A"&ROW(단가산출근거!A1105),"산근16 →") -> 산근16 →
A20: 제 17호표 | B20: 볼라드 설치 | C20: (Φ100mm~150mm) | D20: 개소 | E20: =단가산출근거!C1204 -> 50425 | F20: =단가산출근거!D1204 -> 48024 | G20: =단가산출근거!E1204 -> 0 | H20: =단가산출근거!F1204 -> 2401 | I20: 제 17호표 | J20: ="_x0007_`COD|D02768_x0005_`QTY1|1_x0005_`BQC|_x0005_`EQC|_x0005_`JDC|_x0005_`WQC|_x0005_`EDT|_x0005_`ADJ|F_x0005_`DET|"&ROW(단가산출근거!A1155)&"_x0005_`" -> _x0007_`COD|D02768_x0005_`QTY1|1_x0005_`BQC|_x0005_`EQC|_x0005_`JDC|_x0005_`WQC|_x0005_`EDT|_x0005_`ADJ|F_x0005_`DET|1155_x0005_` | K20: =HYPERLINK("#"&단가산출근거!G2&"!A"&ROW(단가산출근거!A1155),"산근17 →") -> 산근17 →
A21: 제 18호표 | B21: 중기 운반비 | C21: 모현읍 왕산리 | D21: 식 | E21: =단가산출근거!C1304 -> 870233 | F21: =단가산출근거!D1304 -> 0 | G21: =단가산출근거!E1304 -> 0 | H21: =단가산출근거!F1304 -> 870233 | I21: 제 18호표 | J21: ="_x0007_`COD|D03917_x0005_`QTY1|1_x0005_`BQC|_x0005_`EQC|_x0005_`JDC|_x0005_`WQC|_x0005_`EDT|_x0005_`ADJ|F_x0005_`DET|"&ROW(단가산출근거!A1205)&"_x0005_`" -> _x0007_`COD|D03917_x0005_`QTY1|1_x0005_`BQC|_x0005_`EQC|_x0005_`JDC|_x0005_`WQC|_x0005_`EDT|_x0005_`ADJ|F_x0005_`DET|1205_x0005_` | K21: =HYPERLINK("#"&단가산출근거!G2&"!A"&ROW(단가산출근거!A1205),"산근18 →") -> 산근18 →
A22: 제 19호표 | B22: 차선도색(황색실선) | C22: (융착식) | D22: ㎡ | E22: =단가산출근거!C1354 -> 19887 | F22: =단가산출근거!D1354 -> 2275 | G22: =단가산출근거!E1354 -> 17337 | H22: =단가산출근거!F1354 -> 275 | I22: 제 19호표 | J22: ="_x0007_`COD|D02956_x0005_`QTY1|1_x0005_`BQC|24_x0005_`EQC|도로_x0005_`JDC|_x0005_`WQC|_x0005_`EDT|_x0005_`ADJ|F_x0005_`DET|"&ROW(단가산출근거!A1305)&"_x0005_`" -> _x0007_`COD|D02956_x0005_`QTY1|1_x0005_`BQC|24_x0005_`EQC|도로_x0005_`JDC|_x0005_`WQC|_x0005_`EDT|_x0005_`ADJ|F_x0005_`DET|1305_x0005_` | K22: =HYPERLINK("#"&단가산출근거!G2&"!A"&ROW(단가산출근거!A1305),"산근19 →") -> 산근19 →
A23: 제 20호표 | B23: 차선도색(백색실선) | C23: (융착식) | D23: ㎡ | E23: =단가산출근거!C1454 -> 19887 | F23: =단가산출근거!D1454 -> 2275 | G23: =단가산출근거!E1454 -> 17337 | H23: =단가산출근거!F1454 -> 275 | I23: 제 20호표 | J23: ="_x0007_`COD|D02954_x0005_`QTY1|1_x0005_`BQC|24_x0005_`EQC|도로_x0005_`JDC|_x0005_`WQC|_x0005_`EDT|_x0005_`ADJ|F_x0005_`DET|"&ROW(단가산출근거!A1355)&"_x0005_`" -> _x0007_`COD|D02954_x0005_`QTY1|1_x0005_`BQC|24_x0005_`EQC|도로_x0005_`JDC|_x0005_`WQC|_x0005_`EDT|_x0005_`ADJ|F_x0005_`DET|1355_x0005_` | K23: =HYPERLINK("#"&단가산출근거!G2&"!A"&ROW(단가산출근거!A1355),"산근20 →") -> 산근20 →
A24: 제 21호표 | B24: 차선도색(횡단보도) | C24: (융착식,백색) | D24: ㎡ | E24: =단가산출근거!C1504 -> 24414 | F24: =단가산출근거!D1504 -> 5987 | G24: =단가산출근거!E1504 -> 17703 | H24: =단가산출근거!F1504 -> 724 | I24: 제 21호표 | J24: ="_x0007_`COD|D03552_x0005_`QTY1|1_x0005_`BQC|24_x0005_`EQC|상수도_x0005_`JDC|_x0005_`WQC|_x0005_`EDT|_x0005_`ADJ|F_x0005_`DET|"&ROW(단가산출근거!A1455)&"_x0005_`" -> _x0007_`COD|D03552_x0005_`QTY1|1_x0005_`BQC|24_x0005_`EQC|상수도_x0005_`JDC|_x0005_`WQC|_x0005_`EDT|_x0005_`ADJ|F_x0005_`DET|1455_x0005_` | K24: =HYPERLINK("#"&단가산출근거!G2&"!A"&ROW(단가산출근거!A1455),"산근21 →") -> 산근21 →
A25: 제 22호표 | B25: 공사안내 표지판 구입 | C25: 900x1800 | D25: EA | E25: =단가산출근거!C1554 -> 42141 | F25: =단가산출근거!D1554 -> 0 | G25: =단가산출근거!E1554 -> 0 | H25: =단가산출근거!F1554 -> 42141 | I25: 제 22호표 | J25: ="_x0007_`COD|D04342_x0005_`QTY1|1_x0005_`BQC|_x0005_`EQC|_x0005_`JDC|_x0005_`WQC|_x0005_`EDT|_x0005_`ADJ|F_x0005_`DET|"&ROW(단가산출근거!A1505)&"_x0005_`" -> _x0007_`COD|D04342_x0005_`QTY1|1_x0005_`BQC|_x0005_`EQC|_x0005_`JDC|_x0005_`WQC|_x0005_`EDT|_x0005_`ADJ|F_x0005_`DET|1505_x0005_` | K25: =HYPERLINK("#"&단가산출근거!G2&"!A"&ROW(단가산출근거!A1505),"산근22 →") -> 산근22 →
A26: 제 23호표 | B26: 공사안내 표지판 구입 | C26: 600x900 | D26: EA | E26: =단가산출근거!C1604 -> 17052 | F26: =단가산출근거!D1604 -> 0 | G26: =단가산출근거!E1604 -> 0 | H26: =단가산출근거!F1604 -> 17052 | I26: 제 23호표 | J26: ="_x0007_`COD|D04343_x0005_`QTY1|1_x0005_`BQC|_x0005_`EQC|_x0005_`JDC|_x0005_`WQC|_x0005_`EDT|_x0005_`ADJ|F_x0005_`DET|"&ROW(단가산출근거!A1555)&"_x0005_`" -> _x0007_`COD|D04343_x0005_`QTY1|1_x0005_`BQC|_x0005_`EQC|_x0005_`JDC|_x0005_`WQC|_x0005_`EDT|_x0005_`ADJ|F_x0005_`DET|1555_x0005_` | K26: =HYPERLINK("#"&단가산출근거!G2&"!A"&ROW(단가산출근거!A1555),"산근23 →") -> 산근23 →
A27: 제 24호표 | B27: 공사안내 표지판 설치/철거 | C27: 900x1800 | D27: EA | E27: =단가산출근거!C1654 -> 8603 | F27: =단가산출근거!D1654 -> 0 | G27: =단가산출근거!E1654 -> 0 | H27: =단가산출근거!F1654 -> 8603 | I27: 제 24호표 | J27: ="_x0007_`COD|D04344_x0005_`QTY1|1_x0005_`BQC|_x0005_`EQC|_x0005_`JDC|_x0005_`WQC|_x0005_`EDT|_x0005_`ADJ|F_x0005_`DET|"&ROW(단가산출근거!A1605)&"_x0005_`" -> _x0007_`COD|D04344_x0005_`QTY1|1_x0005_`BQC|_x0005_`EQC|_x0005_`JDC|_x0005_`WQC|_x0005_`EDT|_x0005_`ADJ|F_x0005_`DET|1605_x0005_` | K27: =HYPERLINK("#"&단가산출근거!G2&"!A"&ROW(단가산출근거!A1605),"산근24 →") -> 산근24 →
A28: 제 25호표 | B28: 공사안내 표지판 설치/철거 | C28: 600x900 | D28: EA | E28: =단가산출근거!C1704 -> 8603 | F28: =단가산출근거!D1704 -> 0 | G28: =단가산출근거!E1704 -> 0 | H28: =단가산출근거!F1704 -> 8603 | I28: 제 25호표 | J28: ="_x0007_`COD|D04345_x0005_`QTY1|1_x0005_`BQC|_x0005_`EQC|_x0005_`JDC|_x0005_`WQC|_x0005_`EDT|_x0005_`ADJ|F_x0005_`DET|"&ROW(단가산출근거!A1655)&"_x0005_`" -> _x0007_`COD|D04345_x0005_`QTY1|1_x0005_`BQC|_x0005_`EQC|_x0005_`JDC|_x0005_`WQC|_x0005_`EDT|_x0005_`ADJ|F_x0005_`DET|1655_x0005_` | K28: =HYPERLINK("#"&단가산출근거!G2&"!A"&ROW(단가산출근거!A1655),"산근25 →") -> 산근25 →
A29: 제 26호표 | B29: 정지:토사 | C29: (B.D 19ton) | D29: ㎥ | E29: =단가산출근거!C1754 -> 1026 | F29: =단가산출근거!D1754 -> 412 | G29: =단가산출근거!E1754 -> 364 | H29: =단가산출근거!F1754 -> 250 | I29: 제 26호표 | J29: ="_x0007_`COD|D00022_x0005_`QTY1|1_x0005_`BQC|_x0005_`EQC|_x0005_`JDC|_x0005_`WQC|_x0005_`EDT|_x0005_`ADJ|F_x0005_`DET|"&ROW(단가산출근거!A1705)&"_x0005_`" -> _x0007_`COD|D00022_x0005_`QTY1|1_x0005_`BQC|_x0005_`EQC|_x0005_`JDC|_x0005_`WQC|_x0005_`EDT|_x0005_`ADJ|F_x0005_`DET|1705_x0005_` | K29: =HYPERLINK("#"&단가산출근거!G2&"!A"&ROW(단가산출근거!A1705),"산근26 →") -> 산근26 →
A30: 제 27호표 | B30: 몰탈 (1:3) | D30: ㎥ | E30: =단가산출근거!C1804 -> 73989 | F30: =단가산출근거!D1804 -> 73989 | G30: =단가산출근거!E1804 -> 0 | H30: =단가산출근거!F1804 -> 0 | I30: 제 27호표 | J30: ="_x0007_`COD|D00492_x0005_`QTY1|1_x0005_`BQC|_x0005_`EQC|_x0005_`JDC|_x0005_`WQC|_x0005_`EDT|_x0005_`ADJ|F_x0005_`DET|"&ROW(단가산출근거!A1755)&"_x0005_`" -> _x0007_`COD|D00492_x0005_`QTY1|1_x0005_`BQC|_x0005_`EQC|_x0005_`JDC|_x0005_`WQC|_x0005_`EDT|_x0005_`ADJ|F_x0005_`DET|1755_x0005_` | K30: =HYPERLINK("#"&단가산출근거!G2&"!A"&ROW(단가산출근거!A1755),"산근27 →") -> 산근27 →
A31: 제 28호표 | B31: 보도블럭포장(B-TYPE) | C31: (유도, 점자블록 - 300*300) | D31: ㎡ | E31: =단가산출근거!C1904 -> 13611 | F31: =단가산출근거!D1904 -> 11304 | G31: =단가산출근거!E1904 -> 1117 | H31: =단가산출근거!F1904 -> 1190 | I31: 제 28호표 | J31: ="_x0007_`COD|D03666_x0005_`QTY1|1_x0005_`BQC|_x0005_`EQC|_x0005_`JDC|_x0005_`WQC|_x0005_`EDT|_x0005_`ADJ|F_x0005_`DET|"&ROW(단가산출근거!A1805)&"_x0005_`" -> _x0007_`COD|D03666_x0005_`QTY1|1_x0005_`BQC|_x0005_`EQC|_x0005_`JDC|_x0005_`WQC|_x0005_`EDT|_x0005_`ADJ|F_x0005_`DET|1805_x0005_` | K31: =HYPERLINK("#"&단가산출근거!G2&"!A"&ROW(단가산출근거!A1805),"산근28 →") -> 산근28 →
A32: 제 29호표 | B32: 도로경계석 설치(B-TYPE) | C32: 직선구간(폭+높이 300mm이하(150×150) | D32: m | E32: =단가산출근거!C1954 -> 36170 | F32: =단가산출근거!D1954 -> 30708 | G32: =단가산출근거!E1954 -> 4689 | H32: =단가산출근거!F1954 -> 773 | I32: 제 29호표 | J32: ="_x0007_`COD|D01383_x0005_`QTY1|1_x0005_`BQC|_x0005_`EQC|_x0005_`JDC|_x0005_`WQC|_x0005_`EDT|_x0005_`ADJ|F_x0005_`DET|"&ROW(단가산출근거!A1905)&"_x0005_`" -> _x0007_`COD|D01383_x0005_`QTY1|1_x0005_`BQC|_x0005_`EQC|_x0005_`JDC|_x0005_`WQC|_x0005_`EDT|_x0005_`ADJ|F_x0005_`DET|1905_x0005_` | K32: =HYPERLINK("#"&단가산출근거!G2&"!A"&ROW(단가산출근거!A1905),"산근29 →") -> 산근29 →
A33: 제 30호표 | B33: 레미콘타설(무근)인력 | C33: 무근 | D33: ㎥ | E33: =단가산출근거!C2004 -> 59284 | F33: =단가산출근거!D2004 -> 58122 | G33: =단가산출근거!E2004 -> 0 | H33: =단가산출근거!F2004 -> 1162 | I33: 제 30호표 | J33: ="_x0007_`COD|D00368_x0005_`QTY1|1_x0005_`BQC|_x0005_`EQC|_x0005_`JDC|_x0005_`WQC|_x0005_`EDT|_x0005_`ADJ|F_x0005_`DET|"&ROW(단가산출근거!A1955)&"_x0005_`" -> _x0007_`COD|D00368_x0005_`QTY1|1_x0005_`BQC|_x0005_`EQC|_x0005_`JDC|_x0005_`WQC|_x0005_`EDT|_x0005_`ADJ|F_x0005_`DET|1955_x0005_` | K33: =HYPERLINK("#"&단가산출근거!G2&"!A"&ROW(단가산출근거!A1955),"산근30 →") -> 산근30 →
A34: 제 31호표 | B34: 합판거푸집 | C34: (6회) | D34: ㎡ | E34: =단가산출근거!C2054 -> 48340 | F34: =단가산출근거!D2054 -> 34461 | G34: =단가산출근거!E2054 -> 13535 | H34: =단가산출근거!F2054 -> 344 | I34: 제 31호표 | J34: ="_x0007_`COD|D00362_x0005_`QTY1|1_x0005_`BQC|_x0005_`EQC|도로_x0005_`JDC|_x0005_`WQC|_x0005_`EDT|_x0005_`ADJ|F_x0005_`DET|"&ROW(단가산출근거!A2005)&"_x0005_`" -> _x0007_`COD|D00362_x0005_`QTY1|1_x0005_`BQC|_x0005_`EQC|도로_x0005_`JDC|_x0005_`WQC|_x0005_`EDT|_x0005_`ADJ|F_x0005_`DET|2005_x0005_` | K34: =HYPERLINK("#"&단가산출근거!G2&"!A"&ROW(단가산출근거!A2005),"산근31 →") -> 산근31 →
A35: 제 32호표 | B35: 조경 유용석 쌓기 놓기 | C35: 조경 유용석 쌓기 놓기 | D35: TON | E35: =단가산출근거!C2104 -> 88211 | F35: =단가산출근거!D2104 -> 84688 | G35: =단가산출근거!E2104 -> 1722 | H35: =단가산출근거!F2104 -> 1801 | I35: 제 32호표 | J35: ="_x0007_`COD|D04424_x0005_`QTY1|1_x0005_`BQC|_x0005_`EQC|_x0005_`JDC|_x0005_`WQC|_x0005_`EDT|_x0005_`ADJ|F_x0005_`DET|"&ROW(단가산출근거!A2055)&"_x0005_`" -> _x0007_`COD|D04424_x0005_`QTY1|1_x0005_`BQC|_x0005_`EQC|_x0005_`JDC|_x0005_`WQC|_x0005_`EDT|_x0005_`ADJ|F_x0005_`DET|2055_x0005_` | K35: =HYPERLINK("#"&단가산출근거!G2&"!A"&ROW(단가산출근거!A2055),"산근32 →") -> 산근32 →
A36: 제 33호표 | B36: 주철관 접합 및 부설 | C36: D250mm(양중장비) | D36: 본 | E36: =단가산출근거!C2154 -> 149157 | F36: =단가산출근거!D2154 -> 109545 | G36: =단가산출근거!E2154 -> 17788 | H36: =단가산출근거!F2154 -> 21824 | I36: 제 33호표 | J36: ="_x0007_`COD|D00589_x0005_`QTY1|1_x0005_`BQC|_x0005_`EQC|_x0005_`JDC|_x0005_`WQC|_x0005_`EDT|_x0005_`ADJ|F_x0005_`DET|"&ROW(단가산출근거!A2105)&"_x0005_`" -> _x0007_`COD|D00589_x0005_`QTY1|1_x0005_`BQC|_x0005_`EQC|_x0005_`JDC|_x0005_`WQC|_x0005_`EDT|_x0005_`ADJ|F_x0005_`DET|2105_x0005_` | K36: =HYPERLINK("#"&단가산출근거!G2&"!A"&ROW(단가산출근거!A2105),"산근33 →") -> 산근33 →
A37: 제 34호표 | B37: 주철 이형관 접합 및 부설(양중장비) | C37: D250mm 직관 접합 및 부설의 1/2적용 | D37: 개소 | E37: =단가산출근거!C2204 -> 74578 | F37: =단가산출근거!D2204 -> 54772 | G37: =단가산출근거!E2204 -> 8894 | H37: =단가산출근거!F2204 -> 10912 | I37: 제 34호표 | J37: ="_x0007_`COD|D00591_x0005_`QTY1|1_x0005_`BQC|_x0005_`EQC|_x0005_`JDC|_x0005_`WQC|_x0005_`EDT|_x0005_`ADJ|F_x0005_`DET|"&ROW(단가산출근거!A2155)&"_x0005_`" -> _x0007_`COD|D00591_x0005_`QTY1|1_x0005_`BQC|_x0005_`EQC|_x0005_`JDC|_x0005_`WQC|_x0005_`EDT|_x0005_`ADJ|F_x0005_`DET|2155_x0005_` | K37: =HYPERLINK("#"&단가산출근거!G2&"!A"&ROW(단가산출근거!A2155),"산근34 →") -> 산근34 →
A38: 제 35호표 | B38: 이탈방지압륜 접합 및 부설(인력+장비사용) | C38: D250mm K.P 메커니컬 접합 품의 1/2 적용 | D38: 개소 | E38: =단가산출근거!C2254 -> 96952 | F38: =단가산출근거!D2254 -> 71204 | G38: =단가산출근거!E2254 -> 11562 | H38: =단가산출근거!F2254 -> 14186 | I38: 제 35호표 | J38: ="_x0007_`COD|D04252_x0005_`QTY1|1_x0005_`BQC|_x0005_`EQC|_x0005_`JDC|_x0005_`WQC|_x0005_`EDT|_x0005_`ADJ|F_x0005_`DET|"&ROW(단가산출근거!A2205)&"_x0005_`" -> _x0007_`COD|D04252_x0005_`QTY1|1_x0005_`BQC|_x0005_`EQC|_x0005_`JDC|_x0005_`WQC|_x0005_`EDT|_x0005_`ADJ|F_x0005_`DET|2205_x0005_` | K38: =HYPERLINK("#"&단가산출근거!G2&"!A"&ROW(단가산출근거!A2205),"산근35 →") -> 산근35 →
A39: 제 36호표 | B39: 주철관 철거 | C39: D250mm | D39: 본 | E39: =단가산출근거!C2304 -> 48891 | F39: =단가산출근거!D2304 -> 38000 | G39: =단가산출근거!E2304 -> 2533 | H39: =단가산출근거!F2304 -> 8358 | I39: 제 36호표 | J39: ="_x0007_`COD|D03799_x0005_`QTY1|1_x0005_`BQC|_x0005_`EQC|_x0005_`JDC|_x0005_`WQC|_x0005_`EDT|_x0005_`ADJ|F_x0005_`DET|"&ROW(단가산출근거!A2255)&"_x0005_`" -> _x0007_`COD|D03799_x0005_`QTY1|1_x0005_`BQC|_x0005_`EQC|_x0005_`JDC|_x0005_`WQC|_x0005_`EDT|_x0005_`ADJ|F_x0005_`DET|2255_x0005_` | K39: =HYPERLINK("#"&단가산출근거!G2&"!A"&ROW(단가산출근거!A2255),"산근36 →") -> 산근36 →
A40: 제 37호표 | B40: 유로폼 | C40: 6회(바닥용) 벽체 간단 적용 | D40: ㎡ | E40: =단가산출근거!C2354 -> 36258 | F40: =단가산출근거!D2354 -> 31880 | G40: =단가산출근거!E2354 -> 3422 | H40: =단가산출근거!F2354 -> 956 | I40: 제 37호표 | J40: ="_x0007_`COD|D04373_x0005_`QTY1|1_x0005_`BQC|_x0005_`EQC|하수도보수_x0005_`JDC|_x0005_`WQC|_x0005_`EDT|_x0005_`ADJ|F_x0005_`DET|"&ROW(단가산출근거!A2305)&"_x0005_`" -> _x0007_`COD|D04373_x0005_`QTY1|1_x0005_`BQC|_x0005_`EQC|하수도보수_x0005_`JDC|_x0005_`WQC|_x0005_`EDT|_x0005_`ADJ|F_x0005_`DET|2305_x0005_` | K40: =HYPERLINK("#"&단가산출근거!G2&"!A"&ROW(단가산출근거!A2305),"산근37 →") -> 산근37 →
A41: 제 38호표 | B41: 조경유용석 쌓기 및 놓기 | D41: ton | E41: =단가산출근거!C2404 -> 103287 | F41: =단가산출근거!D2404 -> 75097 | G41: =단가산출근거!E2404 -> 13776 | H41: =단가산출근거!F2404 -> 14414 | I41: 제 38호표 | J41: ="_x0007_`COD|D03924_x0005_`QTY1|1_x0005_`BQC|_x0005_`EQC|_x0005_`JDC|_x0005_`WQC|_x0005_`EDT|_x0005_`ADJ|F_x0005_`DET|"&ROW(단가산출근거!A2355)&"_x0005_`" -> _x0007_`COD|D03924_x0005_`QTY1|1_x0005_`BQC|_x0005_`EQC|_x0005_`JDC|_x0005_`WQC|_x0005_`EDT|_x0005_`ADJ|F_x0005_`DET|2355_x0005_` | K41: =HYPERLINK("#"&단가산출근거!G2&"!A"&ROW(단가산출근거!A2355),"산근38 →") -> 산근38 →
A42: 제 39호표 | B42: 아스팔트포장 깨기 | C42: (기계0.6㎥, 대형브레이카) | D42: ㎥ | E42: =단가산출근거!C2454 -> 8336 | F42: =단가산출근거!D2454 -> 5032 | G42: =단가산출근거!E2454 -> 1256 | H42: =단가산출근거!F2454 -> 2048 | I42: 제 39호표 | J42: ="_x0007_`COD|D02702_x0005_`QTY1|1_x0005_`BQC|_x0005_`EQC|_x0005_`JDC|_x0005_`WQC|_x0005_`EDT|_x0005_`ADJ|F_x0005_`DET|"&ROW(단가산출근거!A2405)&"_x0005_`" -> _x0007_`COD|D02702_x0005_`QTY1|1_x0005_`BQC|_x0005_`EQC|_x0005_`JDC|_x0005_`WQC|_x0005_`EDT|_x0005_`ADJ|F_x0005_`DET|2405_x0005_` | K42: =HYPERLINK("#"&단가산출근거!G2&"!A"&ROW(단가산출근거!A2405),"산근39 →") -> 산근39 →
A43: 제 40호표 | B43: 터파기(보통토사) | C43: (굴착기0.6㎥,기계90%인력10%). | D43: ㎥ | E43: =단가산출근거!C2504 -> 8345 | F43: =단가산출근거!D2504 -> 7443 | G43: =단가산출근거!E2504 -> 441 | H43: =단가산출근거!F2504 -> 461 | I43: 제 40호표 | J43: ="_x0007_`COD|D03839_x0005_`QTY1|1_x0005_`BQC|_x0005_`EQC|상수도_x0005_`JDC|_x0005_`WQC|_x0005_`EDT|_x0005_`ADJ|F_x0005_`DET|"&ROW(단가산출근거!A2455)&"_x0005_`" -> _x0007_`COD|D03839_x0005_`QTY1|1_x0005_`BQC|_x0005_`EQC|상수도_x0005_`JDC|_x0005_`WQC|_x0005_`EDT|_x0005_`ADJ|F_x0005_`DET|2455_x0005_` | K43: =HYPERLINK("#"&단가산출근거!G2&"!A"&ROW(단가산출근거!A2455),"산근40 →") -> 산근40 →
A44: 제 41호표 | B44: 되메우기및다짐0.6㎥ | C44: 기계90%, 인력10%. | D44: ㎥ | E44: =단가산출근거!C2554 -> 3302 | F44: =단가산출근거!D2554 -> 2439 | G44: =단가산출근거!E2554 -> 485 | H44: =단가산출근거!F2554 -> 378 | I44: 제 41호표 | J44: ="_x0007_`COD|D03840_x0005_`QTY1|1_x0005_`BQC|_x0005_`EQC|_x0005_`JDC|_x0005_`WQC|_x0005_`EDT|_x0005_`ADJ|F_x0005_`DET|"&ROW(단가산출근거!A2505)&"_x0005_`" -> _x0007_`COD|D03840_x0005_`QTY1|1_x0005_`BQC|_x0005_`EQC|_x0005_`JDC|_x0005_`WQC|_x0005_`EDT|_x0005_`ADJ|F_x0005_`DET|2505_x0005_` | K44: =HYPERLINK("#"&단가산출근거!G2&"!A"&ROW(단가산출근거!A2505),"산근41 →") -> 산근41 →
A45: 제 42호표 | B45: 공사안내 간판 | D45: 식 | E45: =단가산출근거!C2604 -> 97935 | F45: =단가산출근거!D2604 -> 4663 | G45: =단가산출근거!E2604 -> 93272 | H45: =단가산출근거!F2604 -> 0 | I45: 제 42호표 | J45: ="_x0007_`COD|D03940_x0005_`QTY1|1_x0005_`BQC|_x0005_`EQC|_x0005_`JDC|_x0005_`WQC|_x0005_`EDT|_x0005_`ADJ|F_x0005_`DET|"&ROW(단가산출근거!A2555)&"_x0005_`" -> _x0007_`COD|D03940_x0005_`QTY1|1_x0005_`BQC|_x0005_`EQC|_x0005_`JDC|_x0005_`WQC|_x0005_`EDT|_x0005_`ADJ|F_x0005_`DET|2555_x0005_` | K45: =HYPERLINK("#"&단가산출근거!G2&"!A"&ROW(단가산출근거!A2555),"산근42 →") -> 산근42 →

Sheet 단가산출근거
A1: 단 가 산 출 근 거 | G1: STmate | Y1: STmate
A2: 공사명 : 모현읍 왕산리 799-37번지 배수관로 이설공사 | G2: =MID(CELL("filename",$A$1),FIND("]",CELL("filename",$A$1))+1,LEN(CELL("filename",$A$1))) -> 단가산출근거
A3: 공 종 | B3: 산 출 내 역 | C3: 합 계 | D3: 노 무 비 | E3: 재 료 비 | F3: 경 비 | Z3: 수량부분 값 수정은 아래의 연두색 부분에
H4: QTY | I4: T | J4: L | K4: M | L4: S | Y4: =HYPERLINK("#'〓 목 차 〓'!B2","목차 →") -> 목차 →
A5: 제 1호표 | B5: 제 1호표 | C5: =C104 -> 2661 | D5: =D104 -> 1376 | E5: =E104 -> 216 | F5: =F104 -> 1069 | G5: =HYPERLINK("#G"&ROW(G80),"_x0005_`BDCOD|D01375_x0007_`POSS|"&ROW(G7)&"_x0007_`POSE|"&ROW(G80)&"_x0007_`") -> _x0005_`BDCOD|D01375_x0007_`POSS|7_x0007_`POSE|80_x0007_`
B6: 포장절단 아스콘포장 / m | M6: D01375
G7: _x0007_
B8: 토목품셈 유지관리 2-1-2 | G8: _x0007_ '토목품셈 유지관리 2-1-2'
G9: _x0007_
B10: =" Q1 = "&Z10&" m/일 = "&AB10&" m/일 " -> Q1 = 500 m/일 = 500.000 m/일 | G10: _x0007_ Q1 = 500'm/일'='m/일' | Z10: 500 | AA10: = | AB10: =TEXT(ROUND(Z10,3),"#,0.000") -> 500.000
B11: =" Q2 = "&Z11&" m/일 = "&AB11&" m/일 " -> Q2 = 500 m/일 = 500.000 m/일 | G11: _x0007_ Q2 = 500'm/일'='m/일' | Z11: 500 | AA11: = | AB11: =TEXT(ROUND(Z11,3),"#,0.000") -> 500.000
B12: =" Q = "&Z12&" m/일 /"&AB12&" hr/일 = "&AD12&" m/hr " -> Q = 500 m/일 /8 hr/일 = 62.500 m/hr | G12: _x0007_ Q = 500'm/일'/8'hr/일'='m/hr' | Z12: 500 | AA12: / | AB12: 8 | AC12: = | AD12: =TEXT(ROUND(Z12/AB12,3),"#,0.000") -> 62.500
G13: _x0007_
B14: 1. 노 무 비 | G14: _x0007_'1. 노 무 비'
G15: _x0007_
A16: 노무10 | B16: =" 특별인부 : "&TEXT(I16,"#,##0"&IF(I16<>INT(I16),".###",""))&" / Q1 = "&TEXT(C16,"#,##0.0")&"" -> 특별인부 : 226,122 / Q1 = 452.2 | C16: =E16+D16+F16 -> 452.2 | D16: =IF(H16=0,0,ROUNDDOWN(J16*H16,1)) -> 452.2 | E16: =IF(H16=0,0,ROUNDDOWN(K16*H16,1)) -> 0 | F16: =IF(H16=0,0,ROUNDDOWN(L16*H16,1)) -> 0 | G16: _x0007_'특별인부 :'&L00079& / Q1 :=A01 | H16: =ROUNDUP(AC16,14-LEN(ABS(INT(AC16)))) -> 0.002 | I16: =K16+J16+L16 -> 226122 | J16: =노무비목록표!E13 -> 226122 | M16: L00079_1 | N16: T1_1 | O16: 1_01 | X16: =노무비목록표!B13&" / "&노무비목록표!C13 -> 특별인부 / | Y16: =HYPERLINK("#"&노무비목록표!G2&"!A"&ROW(노무비목록표!A13),"노무10 →") -> 노무10 → | Z16: 1/ | AA16: =AB10 -> 500.000 | AB16: = | AC16: =1/AB10 -> 0.002
G17: _x0007_
A18: 노무5 | B18: =" 보통인부: "&TEXT(I18,"#,##0"&IF(I18<>INT(I18),".###",""))&" / Q2 = "&TEXT(C18,"#,##0.0")&"" -> 보통인부: 172,068 / Q2 = 344.1 | C18: =E18+D18+F18 -> 344.1 | D18: =IF(H18=0,0,ROUNDDOWN(J18*H18,1)) -> 344.1 | E18: =IF(H18=0,0,ROUNDDOWN(K18*H18,1)) -> 0 | F18: =IF(H18=0,0,ROUNDDOWN(L18*H18,1)) -> 0 | G18: _x0007_'보통인부:'&L00001& / Q2 :=A01 | H18: =ROUNDUP(AC18,14-LEN(ABS(INT(AC18)))) -> 0.002 | I18: =K18+J18+L18 -> 172068 | J18: =노무비목록표!E8 -> 172068 | M18: L00001_1 | N18: T1_1 | O18: 1_01 | X18: =노무비목록표!B8&" / "&노무비목록표!C8 -> 보통인부 / | Y18: =HYPERLINK("#"&노무비목록표!G2&"!A"&ROW(노무비목록표!A8),"노무5 →") -> 노무5 → | Z18: 1/ | AA18: =AB11 -> 500.000 | AB18: = | AC18: =1/AB11 -> 0.002
B19: 소계 | C19: =E19+D19+F19 -> 796.3 | D19: =SUMIF(N7:N18,M19,D7:D18) -> 796.3 | E19: =SUMIF(N7:N18,M19,E7:E18) -> 0 | F19: =SUMIF(N7:N18,M19,F7:F18) -> 0 | G19: _x0007_ (=) | M19: T1_1 | N19: T2_1
G20: _x0007_
B21: 2. 기계손료(콘크리트캇타300∼400) | G21: _x0007_'2. 기계손료(콘크리트캇타300∼400)'
G22: _x0007_
G23: _x0007_
A24: 중기25L | B24: =" 노무비: "&TEXT(I24,"#,##0"&IF(I24<>INT(I24),".###",""))&" / Q = "&TEXT(C24,"#,##0.0")&"" -> 노무비: 36,248 / Q = 579.9 | C24: =E24+D24+F24 -> 579.9 | D24: =IF(H24=0,0,ROUNDDOWN(J24*H24,1)) -> 579.9 | E24: =IF(H24=0,0,ROUNDDOWN(K24*H24,1)) -> 0 | F24: =IF(H24=0,0,ROUNDDOWN(L24*H24,1)) -> 0 | G24: _x0007_ '노무비:'&X00039L& / Q = | H24: =ROUNDUP(AC24,14-LEN(ABS(INT(AC24)))) -> 0.016 | I24: =K24+J24+L24 -> 36248 | J24: =중기목록표!F28 -> 36248 | M24: X00039_1 | N24: T1_1 | X24: =중기목록표!B28&" / "&중기목록표!C28 -> 커터(콘크리트 및 아스팔트용) / 320-440mm | Y24: =HYPERLINK("#"&중기목록표!J2&"!A"&ROW(중기목록표!A28),"중기25 →") -> 중기25 → | Z24: 1/ | AA24: =AD12 -> 62.500 | AB24: = | AC24: =1/AD12 -> 0.016
G25: _x0007_
A26: 중기25M | B26: =" 재료비: "&TEXT(I26,"#,##0"&IF(I26<>INT(I26),".###",""))&" / Q = "&TEXT(C26,"#,##0.0")&"" -> 재료비: 12,129 / Q = 194.0 | C26: =E26+D26+F26 -> 194 | D26: =IF(H26=0,0,ROUNDDOWN(J26*H26,1)) -> 0 | E26: =IF(H26=0,0,ROUNDDOWN(K26*H26,1)) -> 194 | F26: =IF(H26=0,0,ROUNDDOWN(L26*H26,1)) -> 0 | G26: _x0007_ '재료비:'&X00039M& / Q = | H26: =ROUNDUP(AC26,14-LEN(ABS(INT(AC26)))) -> 0.016 | I26: =K26+J26+L26 -> 12129 | K26: =중기목록표!G28 -> 12129 | M26: X00039_1 | N26: T1_1 | X26: =중기목록표!B28&" / "&중기목록표!C28 -> 커터(콘크리트 및 아스팔트용) / 320-440mm | Y26: =HYPERLINK("#"&중기목록표!J2&"!A"&ROW(중기목록표!A28),"중기25 →") -> 중기25 → | Z26: 1/ | AA26: =AD12 -> 62.500 | AB26: = | AC26: =1/AD12 -> 0.016
G27: _x0007_
A28: 중기25S | B28: =" 경 비: "&TEXT(I28,"#,##0"&IF(I28<>INT(I28),".###",""))&" / Q = "&TEXT(C28,"#,##0.0")&"" -> 경 비: 2,064 / Q = 33.0 | C28: =E28+D28+F28 -> 33 | D28: =IF(H28=0,0,ROUNDDOWN(J28*H28,1)) -> 0 | E28: =IF(H28=0,0,ROUNDDOWN(K28*H28,1)) -> 0 | F28: =IF(H28=0,0,ROUNDDOWN(L28*H28,1)) -> 33 | G28: _x0007_ '경 비:'&X00039S& / Q = | H28: =ROUNDUP(AC28,14-LEN(ABS(INT(AC28)))) -> 0.016 | I28: =K28+J28+L28 -> 2064 | L28: =중기목록표!H28 -> 2064 | M28: X00039_1 | N28: T1_1 | X28: =중기목록표!B28&" / "&중기목록표!C28 -> 커터(콘크리트 및 아스팔트용) / 320-440mm | Y28: =HYPERLINK("#"&중기목록표!J2&"!A"&ROW(중기목록표!A28),"중기25 →") -> 중기25 → | Z28: 1/ | AA28: =AD12 -> 62.500 | AB28: = | AC28: =1/AD12 -> 0.016
G29: _x0007_
B30: 소계 | C30: =E30+D30+F30 -> 806.9 | D30: =SUMIF(N20:N29,M30,D20:D29) -> 579.9 | E30: =SUMIF(N20:N29,M30,E20:E29) -> 194 | F30: =SUMIF(N20:N29,M30,F20:F29) -> 33 | G30: _x0007_(=) | M30: T1_1 | N30: T2_1
G31: _x0007_
B32: 3. 동력분무기(4.85kw) | G32: _x0007_'3. 동력분무기(4.85kw)'
G33: _x0007_
A34: 중기13L | B34: =" 노 무 비 : "&TEXT(I34,"#,##0"&IF(I34<>INT(I34),".###",""))&" / Q * "&AC34&" 대 = "&TEXT(C34,"#,##0.0")&"" -> 노 무 비 : 0 / Q * 0.5 대 = 0.0 | C34: =E34+D34+F34 -> 0 | D34: =IF(H34=0,0,ROUNDDOWN(J34*H34,1)) -> 0 | E34: =IF(H34=0,0,ROUNDDOWN(K34*H34,1)) -> 0 | F34: =IF(H34=0,0,ROUNDDOWN(L34*H34,1)) -> 0 | G34: _x0007_ '노 무 비 : '&X00216L& / Q * 0.5'대'= | H34: =ROUNDUP(AE34,14-LEN(ABS(INT(AE34)))) -> 0.008 | I34: =K34+J34+L34 -> 0 | J34: =중기목록표!F16 -> 0 | M34: X00216_1 | N34: T1_1 | X34: =중기목록표!B16&" / "&중기목록표!C16 -> 동력분무기 / 4.85㎾ | Y34: =HYPERLINK("#"&중기목록표!J2&"!A"&ROW(중기목록표!A16),"중기13 →") -> 중기13 → | Z34: 1/ | AA34: =AD12 -> 62.500 | AB34: * | AC34: 0.5 | AD34: = | AE34: =1/AD12*AC34 -> 0.008
G35: _x0007_
A36: 중기13M | B36: =" 재 료 비 : "&TEXT(I36,"#,##0"&IF(I36<>INT(I36),".###",""))&" / Q * "&AC36&" 대 = "&TEXT(C36,"#,##0.0")&"" -> 재 료 비 : 2,815 / Q * 0.5 대 = 22.5 | C36: =E36+D36+F36 -> 22.5 | D36: =IF(H36=0,0,ROUNDDOWN(J36*H36,1)) -> 0 | E36: =IF(H36=0,0,ROUNDDOWN(K36*H36,1)) -> 22.5 | F36: =IF(H36=0,0,ROUNDDOWN(L36*H36,1)) -> 0 | G36: _x0007_ '재 료 비 : '&X00216M& / Q * 0.5'대'= | H36: =ROUNDUP(AE36,14-LEN(ABS(INT(AE36)))) -> 0.008 | I36: =K36+J36+L36 -> 2815 | K36: =중기목록표!G16 -> 2815 | M36: X00216_1 | N36: T1_1 | X36: =중기목록표!B16&" / "&중기목록표!C16 -> 동력분무기 / 4.85㎾ | Y36: =HYPERLINK("#"&중기목록표!J2&"!A"&ROW(중기목록표!A16),"중기13 →") -> 중기13 → | Z36: 1/ | AA36: =AD12 -> 62.500 | AB36: * | AC36: 0.5 | AD36: = | AE36: =1/AD12*AC36 -> 0.008
G37: _x0007_
A38: 중기13S | B38: =" 경 비 : "&TEXT(I38,"#,##0"&IF(I38<>INT(I38),".###",""))&" / Q * "&AC38&" 대 = "&TEXT(C38,"#,##0.0")&"" -> 경 비 : 258 / Q * 0.5 대 = 2.0 | C38: =E38+D38+F38 -> 2 | D38: =IF(H38=0,0,ROUNDDOWN(J38*H38,1)) -> 0 | E38: =IF(H38=0,0,ROUNDDOWN(K38*H38,1)) -> 0 | F38: =IF(H38=0,0,ROUNDDOWN(L38*H38,1)) -> 2 | G38: _x0007_ '경 비 : '&X00216S& / Q * 0.5'대'= | H38: =ROUNDUP(AE38,14-LEN(ABS(INT(AE38)))) -> 0.008 | I38: =K38+J38+L38 -> 258 | L38: =중기목록표!H16 -> 258 | M38: X00216_1 | N38: T1_1 | X38: =중기목록표!B16&" / "&중기목록표!C16 -> 동력분무기 / 4.85㎾ | Y38: =HYPERLINK("#"&중기목록표!J2&"!A"&ROW(중기목록표!A16),"중기13 →") -> 중기13 → | Z38: 1/ | AA38: =AD12 -> 62.500 | AB38: * | AC38: 0.5 | AD38: = | AE38: =1/AD12*AC38 -> 0.008
G39: _x0007_
B40: 소계 | C40: =E40+D40+F40 -> 24.5 | D40: =SUMIF(N31:N39,M40,D31:D39) -> 0 | E40: =SUMIF(N31:N39,M40,E31:E39) -> 22.5 | F40: =SUMIF(N31:N39,M40,F31:F39) -> 2 | G40: _x0007_(=) | M40: T1_1 | N40: T2_1
G41: _x0007_
B42: 4. 블레이드(d=320-400mm t=3.2mm) | G42: _x0007_'4. 블레이드(d=320-400mm t=3.2mm)'
G43: _x0007_
A44: 자재29 | B44: =" 블레이드: "&TEXT(I44,"#,##0"&IF(I44<>INT(I44),".###",""))&"*"&AA44&"/"&AC44&" = "&TEXT(C44,"#,##0.0")&"" -> 블레이드: 160,000*0.27/100 = 432.0 | C44: =E44+D44+F44 -> 432 | D44: =IF(H44=0,0,ROUNDDOWN(J44*H44,1)) -> 0 | E44: =IF(H44=0,0,ROUNDDOWN(K44*H44,1)) -> 432 | F44: =IF(H44=0,0,ROUNDDOWN(L44*H44,1)) -> 0 | G44: _x0007_ '블레이드:' &M00288&*0.27/100 = | H44: =ROUNDUP(AE44,14-LEN(ABS(INT(AE44)))) -> 0.0027 | I44: =K44+J44+L44 -> 160000 | K44: =재료비목록표!E32 -> 160000 | M44: M00288_1 | N44: C1_1 | X44: =재료비목록표!B32&" / "&재료비목록표!C32 -> 블레이드 / D=320-400㎜,t=3.2㎜ | Y44: =HYPERLINK("#"&재료비목록표!G2&"!A"&ROW(재료비목록표!A32),"자재29 →") -> 자재29 → | Z44: 1* | AA44: 0.27 | AB44: / | AC44: 100 | AD44: = | AE44: =1*AA44/AC44 -> 0.0027
G45: _x0007_
G46: _x0007_
B47: 5.물 운 반 비(100m당2000ℓ소요) | G47: _x0007_'5.물 운 반 비(100m당2000ℓ소요)'
G48: _x0007_
G49: _x0007_
B50: 토목품샘 제9편 [9-37-2, 물탱크(살수차)참조 | G50: _x0007_'토목품샘 제9편 [9-37-2, 물탱크(살수차)참조'
G51: _x0007_
B52: =" D = "&Z52&", V = "&AD52&", E = "&AH52&"" -> D = 1, V = 20, E = 0.9 | G52: _x0007_ D = 1.0, V = 20, E = 0.9 | Z52: 1 | AA52: = | AB52: =Z52 -> 1 | AC52: , | AD52: 20 | AE52: = | AF52: =AD52 -> 20 | AG52: , | AH52: 0.9 | AI52: = | AJ52: =AH52 -> 0.9
G53: _x0007_
B54: 작업시간(분) | G54: _x0007_ '작업시간(분)'
G55: _x0007_
B56: =" t1 (흡입준비) ="&Z56&", t2 (운반비) =(D/V)*"&AI56&"*"&AK56&" = "&AM56&"" -> t1 (흡입준비) =5, t2 (운반비) =(D/V)*2*60 = 6.000 | G56: _x0007_ t1'(흡입준비)'=5.0, t2'(운반비)'=(D/V)*2*60 = | Z56: 5 | AA56: = | AB56: =Z56 -> 5 | AC56: , | AD56: ( | AE56: =AB52 -> 1 | AF56: / | AG56: =AF52 -> 20 | AH56: )* | AI56: 2 | AJ56: * | AK56: 60 | AL56: = | AM56: =TEXT(ROUND((AB52/AF52)*AI56*AK56,3),"#,0.000") -> 6.000
G57: _x0007_
B58: =" t3 (흡입) = "&Z58&", t4 (살수대기) = "&AD58&"" -> t3 (흡입) = 10, t4 (살수대기) = 5 | G58: _x0007_ t3'(흡입) '= 10.0, t4'(살수대기)' = 5.0 | Z58: 10 | AA58: = | AB58: =Z58 -> 10 | AC58: , | AD58: 5 | AE58: = | AF58: =AD58 -> 5
G59: _x0007_
B60: =" t5 (살수) = "&Z60&"" -> t5 (살수) = 20 | G60: _x0007_ t5'(살수)' = 20.0 | Z60: 20 | AA60: = | AB60: =Z60 -> 20
G61: _x0007_
B62: =" cm = t1 + t2 + t3 + t4 + t5 = "&AJ62&"" -> cm = t1 + t2 + t3 + t4 + t5 = 46.000 | G62: _x0007_ cm = t1 + t2 + t3 + t4 + t5 = | Z62: =AB56 -> 5 | AA62: + | AB62: =AM56 -> 6.000 | AC62: + | AD62: =AB58 -> 10 | AE62: + | AF62: =AF58 -> 5 | AG62: + | AH62: =AB60 -> 20 | AI62: = | AJ62: =TEXT(ROUND(AB56+AM56+AB58+AF58+AB60,3),"#,0.000") -> 46.000
G63: _x0007_
B64: =" To = (cm - t3) / cm = "&AG64&" L/Hr " -> To = (cm - t3) / cm = 0.783 L/Hr | G64: _x0007_ To = (cm - t3) / cm = 'L/Hr' | Z64: ( | AA64: =AJ62 -> 46.000 | AB64: - | AC64: =AB58 -> 10 | AD64: )/ | AE64: =AJ62 -> 46.000 | AF64: = | AG64: =TEXT(ROUND((AJ62-AB58)/AJ62,3),"#,0.000") -> 0.783
G65: _x0007_
B66: =" Q="&Z66&"*"&AB66&"*E/(cm*"&AH66&") = "&AK66&"" -> Q=60*5500*E/(cm*20) = 322.826 | G66: _x0007_ Q=60*5500*E/(cm*20) = | Z66: 60 | AA66: * | AB66: 5500 | AC66: * | AD66: =AJ52 -> 0.9 | AE66: /( | AF66: =AJ62 -> 46.000 | AG66: * | AH66: 20 | AI66: ) | AJ66: = | AK66: =TEXT(ROUND(Z66*AB66*AJ52/(AJ62*AH66),3),"#,0.000") -> 322.826
G67: _x0007_
A68: 중기18:제외 | B68: =" 노 무 비 : "&TEXT(I68,"#,##0"&IF(I68<>INT(I68),".###",""))&" / Q = "&TEXT(C68,"#,##0.0")&"" -> 노 무 비 : 49,778 / Q = 154.1 | C68: =E68+D68+F68 -> 154.1 | D68: =IF(H68=0,0,ROUNDDOWN(J68*H68,1)) -> 154.1 | E68: =IF(H68=0,0,ROUNDDOWN(K68*H68,1)) -> 0 | F68: =IF(H68=0,0,ROUNDDOWN(L68*H68,1)) -> 0 | G68: _x0007_ '노 무 비 : '&X00051L& / Q :=A01-> | H68: =ROUNDUP(AC68,14-LEN(ABS(INT(AC68)))) -> 0.0030976439 | I68: =K68+J68+L68 -> 49778 | J68: =중기목록표!F21 -> 49778 | M68: X00051_1 | N68: C1_1:C | O68: 1_01 | X68: =중기목록표!B21&" / "&중기목록표!C21 -> 물탱크(살수차) / 5500ℓ | Y68: =HYPERLINK("#"&중기목록표!J2&"!A"&ROW(중기목록표!A21),"중기18 →") -> 중기18 → | Z68: 1/ | AA68: =AK66 -> 322.826 | AB68: = | AC68: =1/AK66 -> 0.0030976439
G69: _x0007_
A70: 중기18:제외 | B70: =" 재 료 비 : "&TEXT(I70,"#,##0"&IF(I70<>INT(I70),".###",""))&" / Q *To= "&TEXT(C70,"#,##0.0")&"" -> 재 료 비 : 21,749 / Q *To= 52.7 | C70: =E70+D70+F70 -> 52.7 | D70: =IF(H70=0,0,ROUNDDOWN(J70*H70,1)) -> 0 | E70: =IF(H70=0,0,ROUNDDOWN(K70*H70,1)) -> 52.7 | F70: =IF(H70=0,0,ROUNDDOWN(L70*H70,1)) -> 0 | G70: _x0007_ '재 료 비 : '&X00051M& / Q *To:=A01-> | H70: =ROUNDUP(AE70,14-LEN(ABS(INT(AE70)))) -> 0.0024254552 | I70: =K70+J70+L70 -> 21749 | K70: =중기목록표!G21 -> 21749 | M70: X00051_1 | N70: C1_1:C | O70: 1_01 | X70: =중기목록표!B21&" / "&중기목록표!C21 -> 물탱크(살수차) / 5500ℓ | Y70: =HYPERLINK("#"&중기목록표!J2&"!A"&ROW(중기목록표!A21),"중기18 →") -> 중기18 → | Z70: 1/ | AA70: =AK66 -> 322.826 | AB70: * | AC70: =AG64 -> 0.783 | AD70: = | AE70: =1/AK66*AG64 -> 0.0024254552
G71: _x0007_
A72: 중기18:제외 | B72: =" 경 비 : "&TEXT(I72,"#,##0"&IF(I72<>INT(I72),".###",""))&" / Q = "&TEXT(C72,"#,##0.0")&"" -> 경 비 : 9,986 / Q = 30.9 | C72: =E72+D72+F72 -> 30.9 | D72: =IF(H72=0,0,ROUNDDOWN(J72*H72,1)) -> 0 | E72: =IF(H72=0,0,ROUNDDOWN(K72*H72,1)) -> 0 | F72: =IF(H72=0,0,ROUNDDOWN(L72*H72,1)) -> 30.9 | G72: _x0007_ '경 비 : '&X00051S& / Q :=A01-> | H72: =ROUNDUP(AC72,14-LEN(ABS(INT(AC72)))) -> 0.0030976439 | I72: =K72+J72+L72 -> 9986 | L72: =중기목록표!H21 -> 9986 | M72: X00051_1 | N72: C1_1:C | O72: 1_01 | X72: =중기목록표!B21&" / "&중기목록표!C21 -> 물탱크(살수차) / 5500ℓ | Y72: =HYPERLINK("#"&중기목록표!J2&"!A"&ROW(중기목록표!A21),"중기18 →") -> 중기18 → | Z72: 1/ | AA72: =AK66 -> 322.826 | AB72: = | AC72: =1/AK66 -> 0.0030976439
G73: _x0007_
B74: 소계(제외금액) | C74: =E74+D74+F74 -> 432 | D74: =SUMIF(N41:N73,M74,D41:D73) -> 0 | E74: =SUMIF(N41:N73,M74,E41:E73) -> 432 | F74: =SUMIF(N41:N73,M74,F41:F73) -> 0 | G74: _x0007_(-=) | M74: C1_1
G75: _x0007_
B76: =" 운반비(경비) : "&TEXT(I76,"#,##0.0")&" * "&AA76&" % = "&TEXT(C76,"#,##0.0")&"" -> 운반비(경비) : 1,034.0 * 100 % = 1,034.0 | C76: =E76+D76+F76 -> 1034 | D76: =IF(H76=0,0,ROUNDDOWN(J76*H76/100,1)) -> 0 | E76: =IF(H76=0,0,ROUNDDOWN(K76*H76/100,1)) -> 0 | F76: =IF(H76=0,0,ROUNDDOWN(L76*H76/100,1)) -> 1034 | G76: _x0007_ '운반비(경비) :'&PA01:S& * 100'%' = | H76: =ROUNDUP(AC76,14-LEN(ABS(INT(AC76)))) -> 100 | I76: =K76+J76+L76 -> 1034 | J76: 0 | K76: 0 | L76: =C16+C18+C68+C70+C72 -> 1034 | M76: PR_1 | N76: T1_1 | Z76: 1* | AA76: 100 | AB76: = | AC76: =1*AA76 -> 100
G77: _x0007_
B78: 소계 | C78: =E78+D78+F78 -> 1034 | D78: =SUMIF(N75:N77,M78,D75:D77) -> 0 | E78: =SUMIF(N75:N77,M78,E75:E77) -> 0 | F78: =SUMIF(N75:N77,M78,F75:F77) -> 1034 | G78: _x0007_(=) | M78: T1_1 | N78: T2_1
G79: _x0007_
B80: 계 | C80: =E80+D80+F80 -> 2661.7 | D80: =SUMIF(N7:N79,M80,D7:D79) -> 1376.2 | E80: =SUMIF(N7:N79,M80,E7:E79) -> 216.5 | F80: =SUMIF(N7:N79,M80,F7:F79) -> 1069 | G80: _x0007_(==) | M80: T2_1 | N80: T7_1
A104: 총 계 | C104: =E104+D104+F104 -> 2661 | D104: =ROUNDDOWN(SUMIF(N7:N80,M104,D7:D80),0) -> 1376 | E104: =ROUNDDOWN(SUMIF(N7:N80,M104,E7:E80),0) -> 216 | F104: =ROUNDDOWN(SUMIF(N7:N80,M104,F7:F80),0) -> 1069 | M104: T7_1
A105: 제 2호표 | B105: 제 2호표 | C105: =C154 -> 18065 | D105: =D154 -> 11670 | E105: =E154 -> 3058 | F105: =F154 -> 3337 | G105: =HYPERLINK("#G"&ROW(G141),"_x0005_`BDCOD|D00265_x0007_`POSS|"&ROW(G107)&"_x0007_`POSE|"&ROW(G141)&"_x0007_`") -> _x0005_`BDCOD|D00265_x0007_`POSS|107_x0007_`POSE|141_x0007_`
B106: 아스팔트포장 깨기 (기계0.4㎥, 대형브레이카) / ㎥ | M106: D00265
G107: _x0007_
B108: 품셈 9-19 | G108: _x0007_ '품셈 9-19'
G109: _x0007_
G110: _x0007_
B111: 1.기계사용료(대형브레이카+백호0.4㎥) | G111: _x0007_'1.기계사용료(대형브레이카+백호0.4㎥)'
G112: _x0007_
G113: _x0007_
B114: =" Q= "&Z114&" ㎥/hr " -> Q= 6.9 ㎥/hr | G114: _x0007_ Q= 6.9'㎥/hr' | Z114: 6.9 | AA114: = | AB114: =Z114 -> 6.9
G115: _x0007_
G116: _x0007_
A117: 중기4L | B117: =" 노무비: "&TEXT(I117,"#,##0"&IF(I117<>INT(I117),".###",""))&"/Q = "&TEXT(C117,"#,##0.0")&"" -> 노무비: 59,020/Q = 8,553.6 | C117: =E117+D117+F117 -> 8553.6 | D117: =IF(H117=0,0,ROUNDDOWN(J117*H117,1)) -> 8553.6 | E117: =IF(H117=0,0,ROUNDDOWN(K117*H117,1)) -> 0 | F117: =IF(H117=0,0,ROUNDDOWN(L117*H117,1)) -> 0 | G117: _x0007_' 노무비:'&X00160L&/Q = | H117: =ROUNDUP(AC117,14-LEN(ABS(INT(AC117)))) -> 0.14492754 | I117: =K117+J117+L117 -> 59020 | J117: =중기목록표!F7 -> 59020 | M117: X00160_1 | N117: T2_1 | X117: =중기목록표!B7&" / "&중기목록표!C7 -> 굴착기(무한궤도) / 0.4㎥+대형브레이카 | Y117: =HYPERLINK("#"&중기목록표!J2&"!A"&ROW(중기목록표!A7),"중기4 →") -> 중기4 → | Z117: 1/ | AA117: =AB114 -> 6.9 | AB117: = | AC117: =1/AB114 -> 0.14492754
G118: _x0007_
G119: _x0007_
A120: 중기4M | B120: =" 재료비: "&TEXT(I120,"#,##0"&IF(I120<>INT(I120),".###",""))&"/Q = "&TEXT(C120,"#,##0.0")&"" -> 재료비: 20,659/Q = 2,994.0 | C120: =E120+D120+F120 -> 2994 | D120: =IF(H120=0,0,ROUNDDOWN(J120*H120,1)) -> 0 | E120: =IF(H120=0,0,ROUNDDOWN(K120*H120,1)) -> 2994 | F120: =IF(H120=0,0,ROUNDDOWN(L120*H120,1)) -> 0 | G120: _x0007_' 재료비:'&X00160M&/Q = | H120: =ROUNDUP(AC120,14-LEN(ABS(INT(AC120)))) -> 0.14492754 | I120: =K120+J120+L120 -> 20659 | K120: =중기목록표!G7 -> 20659 | M120: X00160_1 | N120: T2_1 | X120: =중기목록표!B7&" / "&중기목록표!C7 -> 굴착기(무한궤도) / 0.4㎥+대형브레이카 | Y120: =HYPERLINK("#"&중기목록표!J2&"!A"&ROW(중기목록표!A7),"중기4 →") -> 중기4 → | Z120: 1/ | AA120: =AB114 -> 6.9 | AB120: = | AC120: =1/AB114 -> 0.14492754
G121: _x0007_
G122: _x0007_
A123: 중기4S | B123: =" 경 비: "&TEXT(I123,"#,##0"&IF(I123<>INT(I123),".###",""))&"/Q = "&TEXT(C123,"#,##0.0")&"" -> 경 비: 23,027/Q = 3,337.2 | C123: =E123+D123+F123 -> 3337.2 | D123: =IF(H123=0,0,ROUNDDOWN(J123*H123,1)) -> 0 | E123: =IF(H123=0,0,ROUNDDOWN(K123*H123,1)) -> 0 | F123: =IF(H123=0,0,ROUNDDOWN(L123*H123,1)) -> 3337.2 | G123: _x0007_' 경 비:'&X00160S&/Q = | H123: =ROUNDUP(AC123,14-LEN(ABS(INT(AC123)))) -> 0.14492754 | I123: =K123+J123+L123 -> 23027 | L123: =중기목록표!H7 -> 23027 | M123: X00160_1 | N123: T2_1 | X123: =중기목록표!B7&" / "&중기목록표!C7 -> 굴착기(무한궤도) / 0.4㎥+대형브레이카 | Y123: =HYPERLINK("#"&중기목록표!J2&"!A"&ROW(중기목록표!A7),"중기4 →") -> 중기4 → | Z123: 1/ | AA123: =AB114 -> 6.9 | AB123: = | AC123: =1/AB114 -> 0.14492754
...

Sheet 환율및기초자료
A1: 1. 환 율 | I1: STmate | J1: STmate
C2: 100,000$ 미만 | D2: 100,000$ 이상 | E2: 유로화(€) | G2: 엔화(100￥) | I2: =MID(CELL("filename",$A$1),FIND("]",CELL("filename",$A$1))+1,LEN(CELL("filename",$A$1))) -> 환율및기초자료
C3: 1507 | D3: 1507 | E3: 1717.96 | G3: 952
A5: 2. 인 건 비
C6: 건설기계운전사 | D6: =노무비목록표!E4 -> 283297 | E6: * 1/8 * 16/12 * 25/20 = | G6: =ROUNDDOWN(D6*0.20833333334,1) -> 59020.2 | H6: 노무1 | J6: =HYPERLINK("#"&노무비목록표!G2&"!A"&ROW(노무비목록표!A4),"노무1 →") -> 노무1 →
C7: 화물차운전사 | D7: =노무비목록표!E17 -> 238936 | E7: * 1/8 * 16/12 * 25/20 = | G7: =ROUNDDOWN(D7*0.20833333334,1) -> 49778.3 | H7: 노무14 | J7: =HYPERLINK("#"&노무비목록표!G2&"!A"&ROW(노무비목록표!A17),"노무14 →") -> 노무14 →
C8: 일반기계운전사 | D8: =노무비목록표!E10 -> 173995 | E8: * 1/8 * 16/12 * 25/20 = | G8: =ROUNDDOWN(D8*0.20833333334,1) -> 36248.9 | H8: 노무7 | J8: =HYPERLINK("#"&노무비목록표!G2&"!A"&ROW(노무비목록표!A10),"노무7 →") -> 노무7 →
A10: 3. 단가 및 재료비
B11: NO | C11: 단 가 명 | D11: 규 격 | E11: 단위 | F11: 가 격 | H11: 비 고
B12: 1 | C12: 건설기계운전사 | E12: 인 | F12: =노무비목록표!E4 -> 283297 | H12: 노무1 | J12: =HYPERLINK("#"&노무비목록표!G2&"!A"&ROW(노무비목록표!A4),"노무1 →") -> 노무1 →
B13: 2 | C13: 화물차운전사 | E13: 인 | F13: =노무비목록표!E17 -> 238936 | H13: 노무14 | J13: =HYPERLINK("#"&노무비목록표!G2&"!A"&ROW(노무비목록표!A17),"노무14 →") -> 노무14 →
B14: 3 | C14: 일반기계운전사 | E14: 인 | F14: =노무비목록표!E10 -> 173995 | H14: 노무7 | J14: =HYPERLINK("#"&노무비목록표!G2&"!A"&ROW(노무비목록표!A10),"노무7 →") -> 노무7 →
B15: 4 | C15: 경유 | D15: 저유황 | E15: L | F15: =재료비목록표!E13 -> 1799 | H15: 자재10 | J15: =HYPERLINK("#"&재료비목록표!G2&"!A"&ROW(재료비목록표!A13),"자재10 →") -> 자재10 →
B16: 5 | C16: 휘발유 | D16: 무연 | E16: L | F16: =재료비목록표!E56 -> 1805 | H16: 자재53 | J16: =HYPERLINK("#"&재료비목록표!G2&"!A"&ROW(재료비목록표!A56),"자재53 →") -> 자재53 →

Sheet 중기목록표
A1: 중기 목록표 | J1: STmate | K1: STmate
A2: 공사명 : 모현읍 왕산리 799-37번지 배수관로 이설공사 | J2: =MID(CELL("filename",$A$1),FIND("]",CELL("filename",$A$1))+1,LEN(CELL("filename",$A$1))) -> 중기목록표
A3: 호표 | B3: 명 칭 | C3: 규 격 | D3: 단위 | E3: 합 계 | F3: 노 무 비 | G3: 재 료 비 | H3: 경 비 | I3: 비 고 | K3: =HYPERLINK("#'〓 목 차 〓'!B2","목차 →") -> 목차 →
A4: 제 1호표 | B4: 굴착기 | C4: (0.6㎥)백호우+브레이카 | D4: 시간 | E4: =중기사용료!F12 -> 110148 | F4: =중기사용료!H12 -> 59020 | G4: =중기사용료!J12 -> 18349 | H4: =중기사용료!L12 -> 32779 | I4: 중기1 | J4: ="_x0007_`COD|X00156_x0005_`QTY1|1_x0005_`BQC|_x0005_`EQC|_x0005_`JDC|_x0005_`WQC|_x0005_`EDT|_x0005_`ADJ|F_x0005_`RXX|0_x0005_`DET|"&ROW(중기사용료!A6)&"_x0005_`" -> _x0007_`COD|X00156_x0005_`QTY1|1_x0005_`BQC|_x0005_`EQC|_x0005_`JDC|_x0005_`WQC|_x0005_`EDT|_x0005_`ADJ|F_x0005_`RXX|0_x0005_`DET|6_x0005_` | K4: =HYPERLINK("#"&중기사용료!N2&"!A"&ROW(중기사용료!A6),"중기1 →") -> 중기1 →
A5: 제 2호표 | B5: 굴착기(무한궤도) | C5: 0.2㎥ | D5: 시간 | E5: =중기사용료!F19 -> 83776 | F5: =중기사용료!H19 -> 59020 | G5: =중기사용료!J19 -> 10883 | H5: =중기사용료!L19 -> 13873 | I5: 중기2 | J5: ="_x0007_`COD|X00113_x0005_`QTY1|1_x0005_`BQC|_x0005_`EQC|03020100200_x0005_`JDC|00000201002000000_x0005_`WQC|_x0005_`EDT|2026_x0005_`ADJ|F_x0005_`RXX|0_x0005_`DET|"&ROW(중기사용료!A14)&"_x0005_`" -> _x0007_`COD|X00113_x0005_`QTY1|1_x0005_`BQC|_x0005_`EQC|03020100200_x0005_`JDC|00000201002000000_x0005_`WQC|_x0005_`EDT|2026_x0005_`ADJ|F_x0005_`RXX|0_x0005_`DET|14_x0005_` | K5: =HYPERLINK("#"&중기사용료!N2&"!A"&ROW(중기사용료!A14),"중기2 →") -> 중기2 →
A6: 제 3호표 | B6: 굴착기(무한궤도) | C6: 0.4㎥ | D6: 시간 | E6: =중기사용료!F26 -> 98262 | F6: =중기사용료!H26 -> 59020 | G6: =중기사용료!J26 -> 21728 | H6: =중기사용료!L26 -> 17514 | I6: 중기3 | J6: ="_x0007_`COD|X00108_x0005_`QTY1|1_x0005_`BQC|_x0005_`EQC|03020100400_x0005_`JDC|00000201004000000_x0005_`WQC|_x0005_`EDT|2026_x0005_`ADJ|F_x0005_`RXX|0_x0005_`DET|"&ROW(중기사용료!A21)&"_x0005_`" -> _x0007_`COD|X00108_x0005_`QTY1|1_x0005_`BQC|_x0005_`EQC|03020100400_x0005_`JDC|00000201004000000_x0005_`WQC|_x0005_`EDT|2026_x0005_`ADJ|F_x0005_`RXX|0_x0005_`DET|21_x0005_` | K6: =HYPERLINK("#"&중기사용료!N2&"!A"&ROW(중기사용료!A21),"중기3 →") -> 중기3 →
A7: 제 4호표 | B7: 굴착기(무한궤도) | C7: 0.4㎥+대형브레이카 | D7: 시간 | E7: =중기사용료!F34 -> 102706 | F7: =중기사용료!H34 -> 59020 | G7: =중기사용료!J34 -> 20659 | H7: =중기사용료!L34 -> 23027 | I7: 중기4 | J7: ="_x0007_`COD|X00160_x0005_`QTY1|1_x0005_`BQC|_x0005_`EQC|_x0005_`JDC|_x0005_`WQC|_x0005_`EDT|_x0005_`ADJ|F_x0005_`RXX|0_x0005_`DET|"&ROW(중기사용료!A28)&"_x0005_`" -> _x0007_`COD|X00160_x0005_`QTY1|1_x0005_`BQC|_x0005_`EQC|_x0005_`JDC|_x0005_`WQC|_x0005_`EDT|_x0005_`ADJ|F_x0005_`RXX|0_x0005_`DET|28_x0005_` | K7: =HYPERLINK("#"&중기사용료!N2&"!A"&ROW(중기사용료!A28),"중기4 →") -> 중기4 →
A8: 제 5호표 | B8: 굴착기(무한궤도) | C8: 0.4㎥,(브레이커조합) | D8: 시간 | E8: =중기사용료!F42 -> 102706 | F8: =중기사용료!H42 -> 59020 | G8: =중기사용료!J42 -> 20659 | H8: =중기사용료!L42 -> 23027 | I8: 중기5 | J8: ="_x0007_`COD|X00238_x0005_`QTY1|1_x0005_`BQC|_x0005_`EQC|03020100404_x0005_`JDC|00000201004000004_x0005_`WQC|_x0005_`EDT|2026_x0005_`ADJ|F_x0005_`RXX|0_x0005_`DET|"&ROW(중기사용료!A36)&"_x0005_`" -> _x0007_`COD|X00238_x0005_`QTY1|1_x0005_`BQC|_x0005_`EQC|03020100404_x0005_`JDC|00000201004000004_x0005_`WQC|_x0005_`EDT|2026_x0005_`ADJ|F_x0005_`RXX|0_x0005_`DET|36_x0005_` | K8: =HYPERLINK("#"&중기사용료!N2&"!A"&ROW(중기사용료!A36),"중기5 →") -> 중기5 →
A9: 제 6호표 | B9: 굴착기(무한궤도) | C9: 0.6㎥ | D9: 시간 | E9: =중기사용료!F49 -> 104829 | F9: =중기사용료!H49 -> 59020 | G9: =중기사용료!J49 -> 22386 | H9: =중기사용료!L49 -> 23423 | I9: 중기6 | J9: ="_x0007_`COD|X00139_x0005_`QTY1|1_x0005_`BQC|08' 신규_x0005_`EQC|03020100600_x0005_`JDC|00000201006000000_x0005_`WQC|_x0005_`EDT|2026_x0005_`ADJ|F_x0005_`RXX|0_x0005_`DET|"&ROW(중기사용료!A44)&"_x0005_`" -> _x0007_`COD|X00139_x0005_`QTY1|1_x0005_`BQC|08' 신규_x0005_`EQC|03020100600_x0005_`JDC|00000201006000000_x0005_`WQC|_x0005_`EDT|2026_x0005_`ADJ|F_x0005_`RXX|0_x0005_`DET|44_x0005_` | K9: =HYPERLINK("#"&중기사용료!N2&"!A"&ROW(중기사용료!A44),"중기6 →") -> 중기6 →
A10: 제 7호표 | B10: 굴착기(타이어) | C10: 0.6㎥ | D10: 시간 | E10: =중기사용료!F56 -> 112016 | F10: =중기사용료!H56 -> 59020 | G10: =중기사용료!J56 -> 25876 | H10: =중기사용료!L56 -> 27120 | I10: 중기7 | J10: ="_x0007_`COD|X00179_x0005_`QTY1|1_x0005_`BQC|08' 신규_x0005_`EQC|03021100600_x0005_`JDC|00000211006000000_x0005_`WQC|_x0005_`EDT|2026_x0005_`ADJ|F_x0005_`RXX|0_x0005_`DET|"&ROW(중기사용료!A51)&"_x0005_`" -> _x0007_`COD|X00179_x0005_`QTY1|1_x0005_`BQC|08' 신규_x0005_`EQC|03021100600_x0005_`JDC|00000211006000000_x0005_`WQC|_x0005_`EDT|2026_x0005_`ADJ|F_x0005_`RXX|0_x0005_`DET|51_x0005_` | K10: =HYPERLINK("#"&중기사용료!N2&"!A"&ROW(중기사용료!A51),"중기7 →") -> 중기7 →
A11: 제 8호표 | B11: 노면파쇄기 | C11: 2.0ｍ | D11: 시간 | E11: =중기사용료!F63 -> 345741 | F11: =중기사용료!H63 -> 59020 | G11: =중기사용료!J63 -> 109976 | H11: =중기사용료!L63 -> 176745 | I11: 중기8 | J11: ="_x0007_`COD|X00121_x0005_`QTY1|1_x0005_`BQC|_x0005_`EQC|03570100200_x0005_`JDC|00005701002000000_x0005_`WQC|_x0005_`EDT|2026_x0005_`ADJ|F_x0005_`RXX|0_x0005_`DET|"&ROW(중기사용료!A58)&"_x0005_`" -> _x0007_`COD|X00121_x0005_`QTY1|1_x0005_`BQC|_x0005_`EQC|03570100200_x0005_`JDC|00005701002000000_x0005_`WQC|_x0005_`EDT|2026_x0005_`ADJ|F_x0005_`RXX|0_x0005_`DET|58_x0005_` | K11: =HYPERLINK("#"&중기사용료!N2&"!A"&ROW(중기사용료!A58),"중기8 →") -> 중기8 →
A12: 제 9호표 | B12: 대형 브레이커 | C12: 0.6㎥ | D12: 시간 | E12: =중기사용료!F67 -> 9356 | F12: =중기사용료!H67 -> 0 | G12: =중기사용료!J67 -> 0 | H12: =중기사용료!L67 -> 9356 | I12: 중기9 | J12: ="_x0007_`COD|X00232_x0005_`QTY1|1_x0005_`BQC|08하' 신규_x0005_`EQC|03023000060_x0005_`JDC|00000230000600000_x0005_`WQC|_x0005_`EDT|2026_x0005_`ADJ|F_x0005_`RXX|0_x0005_`DET|"&ROW(중기사용료!A65)&"_x0005_`" -> _x0007_`COD|X00232_x0005_`QTY1|1_x0005_`BQC|08하' 신규_x0005_`EQC|03023000060_x0005_`JDC|00000230000600000_x0005_`WQC|_x0005_`EDT|2026_x0005_`ADJ|F_x0005_`RXX|0_x0005_`DET|65_x0005_` | K12: =HYPERLINK("#"&중기사용료!N2&"!A"&ROW(중기사용료!A65),"중기9 →") -> 중기9 →
A13: 제 10호표 | B13: 덤프트럭 | C13: 15톤 | D13: 시간 | E13: =중기사용료!F74 -> 119152 | F13: =중기사용료!H74 -> 59020 | G13: =중기사용료!J74 -> 39473 | H13: =중기사용료!L74 -> 20659 | I13: 중기10 | J13: ="_x0007_`COD|X00010_x0005_`QTY1|1_x0005_`BQC|_x0005_`EQC|03060201500_x0005_`JDC|00000602015000000_x0005_`WQC|_x0005_`EDT|2026_x0005_`ADJ|F_x0005_`RXX|0_x0005_`DET|"&ROW(중기사용료!A69)&"_x0005_`" -> _x0007_`COD|X00010_x0005_`QTY1|1_x0005_`BQC|_x0005_`EQC|03060201500_x0005_`JDC|00000602015000000_x0005_`WQC|_x0005_`EDT|2026_x0005_`ADJ|F_x0005_`RXX|0_x0005_`DET|69_x0005_` | K13: =HYPERLINK("#"&중기사용료!N2&"!A"&ROW(중기사용료!A69),"중기10 →") -> 중기10 →
A14: 제 11호표 | B14: 덤프트럭 | C14: 2.5톤 | D14: 시간 | E14: =중기사용료!F81 -> 63499 | F14: =중기사용료!H81 -> 49778 | G14: =중기사용료!J81 -> 7199 | H14: =중기사용료!L81 -> 6522 | I14: 중기11 | J14: ="_x0007_`COD|X00120_x0005_`QTY1|1_x0005_`BQC|_x0005_`EQC|03060200250_x0005_`JDC|00000602002500000_x0005_`WQC|_x0005_`EDT|2026_x0005_`ADJ|F_x0005_`RXX|0_x0005_`DET|"&ROW(중기사용료!A76)&"_x0005_`" -> _x0007_`COD|X00120_x0005_`QTY1|1_x0005_`BQC|_x0005_`EQC|03060200250_x0005_`JDC|00000602002500000_x0005_`WQC|_x0005_`EDT|2026_x0005_`ADJ|F_x0005_`RXX|0_x0005_`DET|76_x0005_` | K14: =HYPERLINK("#"&중기사용료!N2&"!A"&ROW(중기사용료!A76),"중기11 →") -> 중기11 →
A15: 제 12호표 | B15: 덤프트럭 | C15: 4.5톤 | D15: 시간 | E15: =중기사용료!F88 -> 69804 | F15: =중기사용료!H88 -> 49778 | G15: =중기사용료!J88 -> 12413 | H15: =중기사용료!L88 -> 7613 | I15: 중기12 | J15: ="_x0007_`COD|X00001_x0005_`QTY1|1_x0005_`BQC|_x0005_`EQC|03060200450_x0005_`JDC|00000602004500000_x0005_`WQC|_x0005_`EDT|2026_x0005_`ADJ|F_x0005_`RXX|0_x0005_`DET|"&ROW(중기사용료!A83)&"_x0005_`" -> _x0007_`COD|X00001_x0005_`QTY1|1_x0005_`BQC|_x0005_`EQC|03060200450_x0005_`JDC|00000602004500000_x0005_`WQC|_x0005_`EDT|2026_x0005_`ADJ|F_x0005_`RXX|0_x0005_`DET|83_x0005_` | K15: =HYPERLINK("#"&중기사용료!N2&"!A"&ROW(중기사용료!A83),"중기12 →") -> 중기12 →
A16: 제 13호표 | B16: 동력분무기 | C16: 4.85㎾ | D16: 시간 | E16: =중기사용료!F94 -> 3073 | F16: =중기사용료!H94 -> 0 | G16: =중기사용료!J94 -> 2815 | H16: =중기사용료!L94 -> 258 | I16: 중기13 | J16: ="_x0007_`COD|X00216_x0005_`QTY1|1_x0005_`BQC|14상' 신규_x0005_`EQC|03721004850_x0005_`JDC|00007210048500000_x0005_`WQC|_x0005_`EDT|2026_x0005_`ADJ|F_x0005_`RXX|0_x0005_`DET|"&ROW(중기사용료!A90)&"_x0005_`" -> _x0007_`COD|X00216_x0005_`QTY1|1_x0005_`BQC|14상' 신규_x0005_`EQC|03721004850_x0005_`JDC|00007210048500000_x0005_`WQC|_x0005_`EDT|2026_x0005_`ADJ|F_x0005_`RXX|0_x0005_`DET|90_x0005_` | K16: =HYPERLINK("#"&중기사용료!N2&"!A"&ROW(중기사용료!A90),"중기13 →") -> 중기13 →
A17: 제 14호표 | B17: 로더(타이어) | C17: 0.57㎥ | D17: 시간 | E17: =중기사용료!F101 -> 75591 | F17: =중기사용료!H101 -> 59020 | G17: =중기사용료!J101 -> 9066 | H17: =중기사용료!L101 -> 7505 | I17: 중기14 | J17: ="_x0007_`COD|X00138_x0005_`QTY1|1_x0005_`BQC|_x0005_`EQC|03030200570_x0005_`JDC|00000302005700000_x0005_`WQC|_x0005_`EDT|2026_x0005_`ADJ|F_x0005_`RXX|0_x0005_`DET|"&ROW(중기사용료!A96)&"_x0005_`" -> _x0007_`COD|X00138_x0005_`QTY1|1_x0005_`BQC|_x0005_`EQC|03030200570_x0005_`JDC|00000302005700000_x0005_`WQC|_x0005_`EDT|2026_x0005_`ADJ|F_x0005_`RXX|0_x0005_`DET|96_x0005_` | K17: =HYPERLINK("#"&중기사용료!N2&"!A"&ROW(중기사용료!A96),"중기14 →") -> 중기14 →
A18: 제 15호표 | B18: 로더(타이어)+소형노면파쇄기 | C18: 0.95㎥ | D18: 시간 | E18: =중기사용료!F109 -> 96585 | F18: =중기사용료!H109 -> 59020 | G18: =중기사용료!J109 -> 16061 | H18: =중기사용료!L109 -> 21504 | I18: 중기15 | J18: ="_x0007_`COD|X00289_x0005_`QTY1|1_x0005_`BQC|_x0005_`EQC|03030200570_x0005_`JDC|_x0005_`WQC|_x0005_`EDT|_x0005_`ADJ|F_x0005_`RXX|0_x0005_`DET|"&ROW(중기사용료!A103)&"_x0005_`" -> _x0007_`COD|X00289_x0005_`QTY1|1_x0005_`BQC|_x0005_`EQC|03030200570_x0005_`JDC|_x0005_`WQC|_x0005_`EDT|_x0005_`ADJ|F_x0005_`RXX|0_x0005_`DET|103_x0005_` | K18: =HYPERLINK("#"&중기사용료!N2&"!A"&ROW(중기사용료!A103),"중기15 →") -> 중기15 →
A19: 제 16호표 | B19: 머캐덤 롤러(자주식) | C19: 10-12톤 | D19: 시간 | E19: =중기사용료!F116 -> 91619 | F19: =중기사용료!H116 -> 59020 | G19: =중기사용료!J116 -> 19742 | H19: =중기사용료!L116 -> 12857 | I19: 중기16 | J19: ="_x0007_`COD|X00020_x0005_`QTY1|1_x0005_`BQC|_x0005_`EQC|03110600120_x0005_`JDC|00001106001200000_x0005_`WQC|_x0005_`EDT|2026_x0005_`ADJ|F_x0005_`RXX|0_x0005_`DET|"&ROW(중기사용료!A111)&"_x0005_`" -> _x0007_`COD|X00020_x0005_`QTY1|1_x0005_`BQC|_x0005_`EQC|03110600120_x0005_`JDC|00001106001200000_x0005_`WQC|_x0005_`EDT|2026_x0005_`ADJ|F_x0005_`RXX|0_x0005_`DET|111_x0005_` | K19: =HYPERLINK("#"&중기사용료!N2&"!A"&ROW(중기사용료!A111),"중기16 →") -> 중기16 →
A20: 제 17호표 | B20: 물탱크(살수차) | C20: 16000ℓ | D20: 시간 | E20: =중기사용료!F123 -> 99101 | F20: =중기사용료!H123 -> 49778 | G20: =중기사용료!J123 -> 30169 | H20: =중기사용료!L123 -> 19154 | I20: 중기17 | J20: ="_x0007_`COD|X00135_x0005_`QTY1|1_x0005_`BQC|_x0005_`EQC|03720401600_x0005_`JDC|00007204016000000_x0005_`WQC|_x0005_`EDT|2026_x0005_`ADJ|F_x0005_`RXX|0_x0005_`DET|"&ROW(중기사용료!A118)&"_x0005_`" -> _x0007_`COD|X00135_x0005_`QTY1|1_x0005_`BQC|_x0005_`EQC|03720401600_x0005_`JDC|00007204016000000_x0005_`WQC|_x0005_`EDT|2026_x0005_`ADJ|F_x0005_`RXX|0_x0005_`DET|118_x0005_` | K20: =HYPERLINK("#"&중기사용료!N2&"!A"&ROW(중기사용료!A118),"중기17 →") -> 중기17 →
A21: 제 18호표 | B21: 물탱크(살수차) | C21: 5500ℓ | D21: 시간 | E21: =중기사용료!F130 -> 81513 | F21: =중기사용료!H130 -> 49778 | G21: =중기사용료!J130 -> 21749 | H21: =중기사용료!L130 -> 9986 | I21: 중기18 | J21: ="_x0007_`COD|X00051_x0005_`QTY1|1_x0005_`BQC|_x0005_`EQC|03720400550_x0005_`JDC|00007204005500000_x0005_`WQC|_x0005_`EDT|2026_x0005_`ADJ|F_x0005_`RXX|0_x0005_`DET|"&ROW(중기사용료!A125)&"_x0005_`" -> _x0007_`COD|X00051_x0005_`QTY1|1_x0005_`BQC|_x0005_`EQC|03720400550_x0005_`JDC|00007204005500000_x0005_`WQC|_x0005_`EDT|2026_x0005_`ADJ|F_x0005_`RXX|0_x0005_`DET|125_x0005_` | K21: =HYPERLINK("#"&중기사용료!N2&"!A"&ROW(중기사용료!A125),"중기18 →") -> 중기18 →
A22: 제 19호표 | B22: 불도저(무한궤도) | C22: 19톤 | D22: 시간 | E22: =중기사용료!F137 -> 147075 | F22: =중기사용료!H137 -> 59020 | G22: =중기사용료!J137 -> 52171 | H22: =중기사용료!L137 -> 35884 | I22: 중기19 | J22: ="_x0007_`COD|X00006_x0005_`QTY1|1_x0005_`BQC|_x0005_`EQC|03010100190_x0005_`JDC|00000101001900000_x0005_`WQC|_x0005_`EDT|2026_x0005_`ADJ|F_x0005_`RXX|0_x0005_`DET|"&ROW(중기사용료!A132)&"_x0005_`" -> _x0007_`COD|X00006_x0005_`QTY1|1_x0005_`BQC|_x0005_`EQC|03010100190_x0005_`JDC|00000101001900000_x0005_`WQC|_x0005_`EDT|2026_x0005_`ADJ|F_x0005_`RXX|0_x0005_`DET|132_x0005_` | K22: =HYPERLINK("#"&중기사용료!N2&"!A"&ROW(중기사용료!A132),"중기19 →") -> 중기19 →
A23: 제 20호표 | B23: 소형노면파쇄기 | C23: 0.95㎥ | D23: 시간 | E23: =중기사용료!F141 -> 11793 | F23: =중기사용료!H141 -> 0 | G23: =중기사용료!J141 -> 0 | H23: =중기사용료!L141 -> 11793 | I23: 중기20 | J23: ="_x0007_`COD|X00287_x0005_`QTY1|1_x0005_`BQC|20상' 신규_x0005_`EQC|03570200950_x0005_`JDC|00005702009500000_x0005_`WQC|_x0005_`EDT|2026_x0005_`ADJ|F_x0005_`RXX|0_x0005_`DET|"&ROW(중기사용료!A139)&"_x0005_`" -> _x0007_`COD|X00287_x0005_`QTY1|1_x0005_`BQC|20상' 신규_x0005_`EQC|03570200950_x0005_`JDC|00005702009500000_x0005_`WQC|_x0005_`EDT|2026_x0005_`ADJ|F_x0005_`RXX|0_x0005_`DET|139_x0005_` | K23: =HYPERLINK("#"&중기사용료!N2&"!A"&ROW(중기사용료!A139),"중기20 →") -> 중기20 →
A24: 제 21호표 | B24: 아스팔트 디스트리뷰터 | C24: 3,800ℓ | D24: 시간 | E24: =중기사용료!F148 -> 100001 | F24: =중기사용료!H148 -> 59020 | G24: =중기사용료!J148 -> 24511 | H24: =중기사용료!L148 -> 16470 | I24: 중기21 | J24: ="_x0007_`COD|X00038_x0005_`QTY1|1_x0005_`BQC|_x0005_`EQC|03330200380_x0005_`JDC|00003302003800000_x0005_`WQC|_x0005_`EDT|2026_x0005_`ADJ|F_x0005_`RXX|0_x0005_`DET|"&ROW(중기사용료!A143)&"_x0005_`" -> _x0007_`COD|X00038_x0005_`QTY1|1_x0005_`BQC|_x0005_`EQC|03330200380_x0005_`JDC|00003302003800000_x0005_`WQC|_x0005_`EDT|2026_x0005_`ADJ|F_x0005_`RXX|0_x0005_`DET|143_x0005_` | K24: =HYPERLINK("#"&중기사용료!N2&"!A"&ROW(중기사용료!A143),"중기21 →") -> 중기21 →
A25: 제 22호표 | B25: 아스팔트 스프레이어 | C25: 400ℓ | D25: 시간 | E25: =중기사용료!F155 -> 39347 | F25: =중기사용료!H155 -> 36248 | G25: =중기사용료!J155 -> 2295 | H25: =중기사용료!L155 -> 804 | I25: 중기22 | J25: ="_x0007_`COD|X00109_x0005_`QTY1|1_x0005_`BQC|_x0005_`EQC|03343004000_x0005_`JDC|00003430040000000_x0005_`WQC|_x0005_`EDT|2026_x0005_`ADJ|F_x0005_`RXX|0_x0005_`DET|"&ROW(중기사용료!A150)&"_x0005_`" -> _x0007_`COD|X00109_x0005_`QTY1|1_x0005_`BQC|_x0005_`EQC|03343004000_x0005_`JDC|00003430040000000_x0005_`WQC|_x0005_`EDT|2026_x0005_`ADJ|F_x0005_`RXX|0_x0005_`DET|150_x0005_` | K25: =HYPERLINK("#"&중기사용료!N2&"!A"&ROW(중기사용료!A150),"중기22 →") -> 중기22 →
A26: 제 23호표 | B26: 아스팔트 피니셔 | C26: 3m | D26: 시간 | E26: =중기사용료!F162 -> 143185 | F26: =중기사용료!H162 -> 59020 | G26: =중기사용료!J162 -> 25024 | H26: =중기사용료!L162 -> 59141 | I26: 중기23 | J26: ="_x0007_`COD|X00037_x0005_`QTY1|1_x0005_`BQC|_x0005_`EQC|03320100030_x0005_`JDC|00003201000300000_x0005_`WQC|_x0005_`EDT|2026_x0005_`ADJ|F_x0005_`RXX|0_x0005_`DET|"&ROW(중기사용료!A157)&"_x0005_`" -> _x0007_`COD|X00037_x0005_`QTY1|1_x0005_`BQC|_x0005_`EQC|03320100030_x0005_`JDC|00003201000300000_x0005_`WQC|_x0005_`EDT|2026_x0005_`ADJ|F_x0005_`RXX|0_x0005_`DET|157_x0005_` | K26: =HYPERLINK("#"&중기사용료!N2&"!A"&ROW(중기사용료!A157),"중기23 →") -> 중기23 →
A27: 제 24호표 | B27: 진동롤러(핸드가이드식) | C27: 0.7톤 | D27: 시간 | E27: =중기사용료!F169 -> 6439 | F27: =중기사용료!H169 -> 0 | G27: =중기사용료!J169 -> 4472 | H27: =중기사용료!L169 -> 1967 | I27: 중기24 | J27: ="_x0007_`COD|X00091_x0005_`QTY1|1_x0005_`BQC|_x0005_`EQC|03130500070_x0005_`JDC|00001305000700000_x0005_`WQC|_x0005_`EDT|2026_x0005_`ADJ|F_x0005_`RXX|0_x0005_`DET|"&ROW(중기사용료!A164)&"_x0005_`" -> _x0007_`COD|X00091_x0005_`QTY1|1_x0005_`BQC|_x0005_`EQC|03130500070_x0005_`JDC|00001305000700000_x0005_`WQC|_x0005_`EDT|2026_x0005_`ADJ|F_x0005_`RXX|0_x0005_`DET|164_x0005_` | K27: =HYPERLINK("#"&중기사용료!N2&"!A"&ROW(중기사용료!A164),"중기24 →") -> 중기24 →
A28: 제 25호표 | B28: 커터(콘크리트 및 아스팔트용) | C28: 320-440mm | D28: 시간 | E28: =중기사용료!F176 -> 50441 | F28: =중기사용료!H176 -> 36248 | G28: =중기사용료!J176 -> 12129 | H28: =중기사용료!L176 -> 2064 | I28: 중기25 | J28: ="_x0007_`COD|X00039_x0005_`QTY1|1_x0005_`BQC|_x0005_`EQC|03443004000_x0005_`JDC|00004430040000000_x0005_`WQC|_x0005_`EDT|2026_x0005_`ADJ|F_x0005_`RXX|0_x0005_`DET|"&ROW(중기사용료!A171)&"_x0005_`" -> _x0007_`COD|X00039_x0005_`QTY1|1_x0005_`BQC|_x0005_`EQC|03443004000_x0005_`JDC|00004430040000000_x0005_`WQC|_x0005_`EDT|2026_x0005_`ADJ|F_x0005_`RXX|0_x0005_`DET|171_x0005_` | K28: =HYPERLINK("#"&중기사용료!N2&"!A"&ROW(중기사용료!A171),"중기25 →") -> 중기25 →
A29: 제 26호표 | B29: 크레인(타이어) | C29: 10톤 | D29: 시간 | E29: =중기사용료!F183 -> 99866 | F29: =중기사용료!H183 -> 59020 | G29: =중기사용료!J183 -> 9502 | H29: =중기사용료!L183 -> 31344 | I29: 중기26 | J29: ="_x0007_`COD|X00031_x0005_`QTY1|1_x0005_`BQC|_x0005_`EQC|03210400100_x0005_`JDC|00002104001000000_x0005_`WQC|_x0005_`EDT|2026_x0005_`ADJ|F_x0005_`RXX|0_x0005_`DET|"&ROW(중기사용료!A178)&"_x0005_`" -> _x0007_`COD|X00031_x0005_`QTY1|1_x0005_`BQC|_x0005_`EQC|03210400100_x0005_`JDC|00002104001000000_x0005_`WQC|_x0005_`EDT|2026_x0005_`ADJ|F_x0005_`RXX|0_x0005_`DET|178_x0005_` | K29: =HYPERLINK("#"&중기사용료!N2&"!A"&ROW(중기사용료!A178),"중기26 →") -> 중기26 →
A30: 제 27호표 | B30: 크레인(타이어) | C30: 20톤 | D30: 시간 | E30: =중기사용료!F190 -> 126152 | F30: =중기사용료!H190 -> 59020 | G30: =중기사용료!J190 -> 13503 | H30: =중기사용료!L190 -> 53629 | I30: 중기27 | J30: ="_x0007_`COD|X00033_x0005_`QTY1|1_x0005_`BQC|_x0005_`EQC|03210400200_x0005_`JDC|00002104002000000_x0005_`WQC|_x0005_`EDT|2026_x0005_`ADJ|F_x0005_`RXX|0_x0005_`DET|"&ROW(중기사용료!A185)&"_x0005_`" -> _x0007_`COD|X00033_x0005_`QTY1|1_x0005_`BQC|_x0005_`EQC|03210400200_x0005_`JDC|00002104002000000_x0005_`WQC|_x0005_`EDT|2026_x0005_`ADJ|F_x0005_`RXX|0_x0005_`DET|185_x0005_` | K30: =HYPERLINK("#"&중기사용료!N2&"!A"&ROW(중기사용료!A185),"중기27 →") -> 중기27 →
A31: 제 28호표 | B31: 타이어 롤러(자주식) | C31: 8-15톤 | D31: 시간 | E31: =중기사용료!F197 -> 95858 | F31: =중기사용료!H197 -> 59020 | G31: =중기사용료!J197 -> 17702 | H31: =중기사용료!L197 -> 19136 | I31: 중기28 | J31: ="_x0007_`COD|X00024_x0005_`QTY1|1_x0005_`BQC|_x0005_`EQC|03140600150_x0005_`JDC|00001406001500000_x0005_`WQC|_x0005_`EDT|2026_x0005_`ADJ|F_x0005_`RXX|0_x0005_`DET|"&ROW(중기사용료!A192)&"_x0005_`" -> _x0007_`COD|X00024_x0005_`QTY1|1_x0005_`BQC|_x0005_`EQC|03140600150_x0005_`JDC|00001406001500000_x0005_`WQC|_x0005_`EDT|2026_x0005_`ADJ|F_x0005_`RXX|0_x0005_`DET|192_x0005_` | K31: =HYPERLINK("#"&중기사용료!N2&"!A"&ROW(중기사용료!A192),"중기28 →") -> 중기28 →
A32: 제 29호표 | B32: 탠덤롤러(자주식) | C32: 5-8톤 | D32: 시간 | E32: =중기사용료!F204 -> 78671 | F32: =중기사용료!H204 -> 59020 | G32: =중기사용료!J204 -> 10614 | H32: =중기사용료!L204 -> 9037 | I32: 중기29 | J32: ="_x0007_`COD|X00134_x0005_`QTY1|1_x0005_`BQC|_x0005_`EQC|03120600080_x0005_`JDC|00001206000800000_x0005_`WQC|_x0005_`EDT|2026_x0005_`ADJ|F_x0005_`RXX|0_x0005_`DET|"&ROW(중기사용료!A199)&"_x0005_`" -> _x0007_`COD|X00134_x0005_`QTY1|1_x0005_`BQC|_x0005_`EQC|03120600080_x0005_`JDC|00001206000800000_x0005_`WQC|_x0005_`EDT|2026_x0005_`ADJ|F_x0005_`RXX|0_x0005_`DET|199_x0005_` | K32: =HYPERLINK("#"&중기사용료!N2&"!A"&ROW(중기사용료!A199),"중기29 →") -> 중기29 →
A33: 제 30호표 | B33: 트럭 트랙터 및 평판트레일러 | C33: 20톤 | D33: 시간 | E33: =중기사용료!F211 -> 117594 | F33: =중기사용료!H211 -> 59020 | G33: =중기사용료!J211 -> 41260 | H33: =중기사용료!L211 -> 17314 | I33: 중기30 | J33: ="_x0007_`COD|X00036_x0005_`QTY1|1_x0005_`BQC|_x0005_`EQC|03270200200_x0005_`JDC|00002702002000000_x0005_`WQC|_x0005_`EDT|2026_x0005_`ADJ|F_x0005_`RXX|0_x0005_`DET|"&ROW(중기사용료!A206)&"_x0005_`" -> _x0007_`COD|X00036_x0005_`QTY1|1_x0005_`BQC|_x0005_`EQC|03270200200_x0005_`JDC|00002702002000000_x0005_`WQC|_x0005_`EDT|2026_x0005_`ADJ|F_x0005_`RXX|0_x0005_`DET|206_x0005_` | K33: =HYPERLINK("#"&중기사용료!N2&"!A"&ROW(중기사용료!A206),"중기30 →") -> 중기30 →
A34: 제 31호표 | B34: 트럭탑재형 크레인 | C34: 10톤 | D34: 시간 | E34: =중기사용료!F218 -> 95808 | F34: =중기사용료!H218 -> 49778 | G34: =중기사용료!J218 -> 22235 | H34: =중기사용료!L218 -> 23795 | I34: 중기31 | J34: ="_x0007_`COD|X00167_x0005_`QTY1|1_x0005_`BQC|08' 신규_x0005_`EQC|03210500100_x0005_`JDC|00002105001000000_x0005_`WQC|_x0005_`EDT|2026_x0005_`ADJ|F_x0005_`RXX|0_x0005_`DET|"&ROW(중기사용료!A213)&"_x0005_`" -> _x0007_`COD|X00167_x0005_`QTY1|1_x0005_`BQC|08' 신규_x0005_`EQC|03210500100_x0005_`JDC|00002105001000000_x0005_`WQC|_x0005_`EDT|2026_x0005_`ADJ|F_x0005_`RXX|0_x0005_`DET|213_x0005_` | K34: =HYPERLINK("#"&중기사용료!N2&"!A"&ROW(중기사용료!A213),"중기31 →") -> 중기31 →
A35: 제 32호표 | B35: 트럭탑재형 크레인 | C35: 5톤 | D35: 시간 | E35: =중기사용료!F225 -> 71904 | F35: =중기사용료!H225 -> 49778 | G35: =중기사용료!J225 -> 11009 | H35: =중기사용료!L225 -> 11117 | I35: 중기32 | J35: ="_x0007_`COD|X00124_x0005_`QTY1|1_x0005_`BQC|_x0005_`EQC|03210500050_x0005_`JDC|00002105000500000_x0005_`WQC|_x0005_`EDT|2026_x0005_`ADJ|F_x0005_`RXX|0_x0005_`DET|"&ROW(중기사용료!A220)&"_x0005_`" -> _x0007_`COD|X00124_x0005_`QTY1|1_x0005_`BQC|_x0005_`EQC|03210500050_x0005_`JDC|00002105000500000_x0005_`WQC|_x0005_`EDT|2026_x0005_`ADJ|F_x0005_`RXX|0_x0005_`DET|220_x0005_` | K35: =HYPERLINK("#"&중기사용료!N2&"!A"&ROW(중기사용료!A220),"중기32 →") -> 중기32 →
A36: 제 33호표 | B36: 플레이트 콤팩터 | C36: 1.5톤 | D36: 시간 | E36: =중기사용료!F232 -> 39034 | F36: =중기사용료!H232 -> 36248 | G36: =중기사용료!J232 -> 2166 | H36: =중기사용료!L232 -> 620 | I36: 중기33 | J36: ="_x0007_`COD|X00026_x0005_`QTY1|1_x0005_`BQC|_x0005_`EQC|03173000150_x0005_`JDC|00001730001500000_x0005_`WQC|_x0005_`EDT|2026_x0005_`ADJ|F_x0005_`RXX|0_x0005_`DET|"&ROW(중기사용료!A227)&"_x0005_`" -> _x0007_`COD|X00026_x0005_`QTY1|1_x0005_`BQC|_x0005_`EQC|03173000150_x0005_`JDC|00001730001500000_x0005_`WQC|_x0005_`EDT|2026_x0005_`ADJ|F_x0005_`RXX|0_x0005_`DET|227_x0005_` | K36: =HYPERLINK("#"&중기사용료!N2&"!A"&ROW(중기사용료!A227),"중기33 →") -> 중기33 →

Sheet 중기사용료
A1: 중 기 사 용 료 | N1: STmate | Z1: STmate
A2: 공사명 : 모현읍 왕산리 799-37번지 배수관로 이설공사 | N2: =MID(CELL("filename",$A$1),FIND("]",CELL("filename",$A$1))+1,LEN(CELL("filename",$A$1))) -> 중기사용료
A3: 명 칭 | B3: 규 격 | C3: 수 량 | D3: 단위 | E3: 합 계 | G3: 노 무 비 | I3: 재 료 비 | K3: 경 비 | M3: 비 고
E4: 단 가 | F4: 금 액 | G4: 단 가 | H4: 금 액 | I4: 단 가 | J4: 금 액 | K4: 단 가 | L4: 금 액 | Z4: =HYPERLINK("#'〓 목 차 〓'!B2","목차 →") -> 목차 →
A6: 제 1 호표 굴착기 (0.6㎥)백호우+브레이카 / 시간 | M6: 중기1 | N6: =HYPERLINK("#N"&ROW(N11),"_x0005_`BDCOD|X00156_x0007_`POSS|"&ROW(N7)&"_x0007_`POSE|"&ROW(N11)&"_x0007_`") -> _x0005_`BDCOD|X00156_x0007_`POSS|7_x0007_`POSE|11_x0007_` | O6: X00156
A7: 굴착기(무한궤도) | B7: 0.6㎥ | C7: 0.2085 | D7: 천원 | E7: =I7+G7+K7 -> 112342 | F7: =J7+H7+L7 -> 23423.3 | G7: 0 | H7: =IF(C7=0,0,ROUNDDOWN(G7*C7,1)) -> 0 | I7: 0 | J7: =IF(C7=0,0,ROUNDDOWN(I7*C7,1)) -> 0 | K7: =경비목록표!E7 -> 112342 | L7: =IF(C7=0,0,ROUNDDOWN(K7*C7,1)) -> 23423.3 | M7: 경비4 | N7: _x0007_`COD|S00186_x0005_`EXI|0_x0005_`DVD|F_x0005_`BMK| _x0005_`IPR|0_x0005_`BLA|F_x0005_` | O7: S00186_1 | P7: T7_1 | Z7: =HYPERLINK("#"&경비목록표!G2&"!A"&ROW(경비목록표!A7),"경비4 →") -> 경비4 →
A8: 건설기계운전사 | C8: 1 | D8: 인 | E8: =I8+G8+K8 -> 59020.2 | F8: =J8+H8+L8 -> 59020.2 | G8: =환율및기초자료!G6 -> 59020.2 | H8: =IF(C8=0,0,ROUNDDOWN(G8*C8,1)) -> 59020.2 | I8: 0 | J8: =IF(C8=0,0,ROUNDDOWN(I8*C8,1)) -> 0 | K8: 0 | L8: =IF(C8=0,0,ROUNDDOWN(K8*C8,1)) -> 0 | M8: 노무1 | N8: _x0007_`COD|L00082_x0005_`EXI|0_x0005_`DVD|F_x0005_`BMK| _x0005_`IPR|0_x0005_`BLA|F_x0005_` | O8: L00082_1 | P8: T7_1 | Z8: =HYPERLINK("#"&환율및기초자료!I2&"!A"&ROW(환율및기초자료!A6),"노무1 →") -> 노무1 →
A9: 경유 | B9: 저유황 | C9: 10.2 | D9: L | E9: =I9+G9+K9 -> 1799 | F9: =J9+H9+L9 -> 18349.8 | G9: 0 | H9: =IF(C9=0,0,ROUNDDOWN(G9*C9,1)) -> 0 | I9: =재료비목록표!E13 -> 1799 | J9: =IF(C9=0,0,ROUNDDOWN(I9*C9,1)) -> 18349.8 | K9: 0 | L9: =IF(C9=0,0,ROUNDDOWN(K9*C9,1)) -> 0 | M9: 자재10 | N9: _x0007_`COD|M00258_x0005_`EXI|0_x0005_`DVD|F_x0005_`BMK| _x0005_`IPR|0_x0005_`KWN|0_x0005_`BLA|F_x0005_` | O9: M00258_1 | P9: T7_1 | Z9: =HYPERLINK("#"&재료비목록표!G2&"!A"&ROW(재료비목록표!A13),"자재10 →") -> 자재10 →
A10: 대형 브레이커 | B10: 0.6㎥ | C10: 1 | D10: 시간 | E10: =I10+G10+K10 -> 9356 | F10: =J10+H10+L10 -> 9356 | G10: =중기목록표!F12 -> 0 | H10: =IF(C10=0,0,ROUNDDOWN(G10*C10,1)) -> 0 | I10: =중기목록표!G12 -> 0 | J10: =IF(C10=0,0,ROUNDDOWN(I10*C10,1)) -> 0 | K10: =중기목록표!H12 -> 9356 | L10: =IF(C10=0,0,ROUNDDOWN(K10*C10,1)) -> 9356 | M10: 중기9 | N10: _x0007_`COD|X00232_x0005_`EXI|0_x0005_`DVD|F_x0005_`BMK| _x0005_`IPR|0_x0005_`BLA|F_x0005_` | O10: X00232_1 | P10: T7_1 | Z10: =HYPERLINK("#"&중기목록표!J2&"!A"&ROW(중기목록표!A12),"중기9 →") -> 중기9 →
A11: 잡품 | B11: 주연료의 % | C11: 16 | D11: % | E11: =I11+G11+K11 -> 0 | F11: =J11+H11+L11 -> 0 | G11: 0 | H11: =IF(C11=0,0,ROUNDDOWN(G11*C11/100,1)) -> 0 | I11: =J10 -> 0 | J11: =IF(C11=0,0,ROUNDDOWN(I11*C11/100,1)) -> 0 | K11: 0 | L11: =IF(C11=0,0,ROUNDDOWN(K11*C11/100,1)) -> 0 | M11: 별산자재41 | N11: _x0007_`COD|M00468_x0005_`EXI|0_x0005_`DVD|F_x0005_`BMK| _x0005_`IPR|0_x0005_`KWN|0_x0005_`BLA|F_x0005_` | O11: M00468_1 | P11: T7_1 | Z11: =HYPERLINK("#"&재료비목록표!G2&"!A"&ROW(재료비목록표!A44),"자재41 →") -> 자재41 →
A12: 합 계 | F12: =J12+H12+L12 -> 110148 | H12: =ROUNDDOWN(SUMIF(P7:P11,O12,H7:H11),0) -> 59020 | J12: =ROUNDDOWN(SUMIF(P7:P11,O12,J7:J11),0) -> 18349 | L12: =ROUNDDOWN(SUMIF(P7:P11,O12,L7:L11),0) -> 32779 | O12: T7_1
A14: 제 2 호표 굴착기(무한궤도) 0.2㎥ / 시간 | M14: 중기2 | N14: =HYPERLINK("#N"&ROW(N18),"_x0005_`BDCOD|X00113_x0007_`POSS|"&ROW(N15)&"_x0007_`POSE|"&ROW(N18)&"_x0007_`") -> _x0005_`BDCOD|X00113_x0007_`POSS|15_x0007_`POSE|18_x0007_` | O14: X00113
A15: 굴착기(무한궤도) | B15: 0.2㎥ | C15: 0.2085 | D15: 천원 | E15: =I15+G15+K15 -> 66538 | F15: =J15+H15+L15 -> 13873.1 | G15: 0 | H15: =IF(C15=0,0,ROUNDDOWN(G15*C15,1)) -> 0 | I15: 0 | J15: =IF(C15=0,0,ROUNDDOWN(I15*C15,1)) -> 0 | K15: =경비목록표!E5 -> 66538 | L15: =IF(C15=0,0,ROUNDDOWN(K15*C15,1)) -> 13873.1 | M15: 경비2 | N15: _x0007_`COD|S00132_x0005_`EXI|0_x0005_`DVD|F_x0005_`BMK| _x0005_`IPR|0_x0005_`BLA|F_x0005_` | O15: S00132_1 | P15: T7_1 | Z15: =HYPERLINK("#"&경비목록표!G2&"!A"&ROW(경비목록표!A5),"경비2 →") -> 경비2 →
A16: 건설기계운전사 | C16: 1 | D16: 인 | E16: =I16+G16+K16 -> 59020.2 | F16: =J16+H16+L16 -> 59020.2 | G16: =환율및기초자료!G6 -> 59020.2 | H16: =IF(C16=0,0,ROUNDDOWN(G16*C16,1)) -> 59020.2 | I16: 0 | J16: =IF(C16=0,0,ROUNDDOWN(I16*C16,1)) -> 0 | K16: 0 | L16: =IF(C16=0,0,ROUNDDOWN(K16*C16,1)) -> 0 | M16: 노무1 | N16: _x0007_`COD|L00082_x0005_`EXI|0_x0005_`DVD|F_x0005_`BMK| _x0005_`IPR|0_x0005_`BLA|F_x0005_` | O16: L00082_1 | P16: T7_1 | Z16: =HYPERLINK("#"&환율및기초자료!I2&"!A"&ROW(환율및기초자료!A6),"노무1 →") -> 노무1 →
A17: 경유 | B17: 저유황 | C17: 5 | D17: L | E17: =I17+G17+K17 -> 1799 | F17: =J17+H17+L17 -> 8995 | G17: 0 | H17: =IF(C17=0,0,ROUNDDOWN(G17*C17,1)) -> 0 | I17: =재료비목록표!E13 -> 1799 | J17: =IF(C17=0,0,ROUNDDOWN(I17*C17,1)) -> 8995 | K17: 0 | L17: =IF(C17=0,0,ROUNDDOWN(K17*C17,1)) -> 0 | M17: 자재10 | N17: _x0007_`COD|M00258_x0005_`EXI|0_x0005_`DVD|F_x0005_`BMK| _x0005_`IPR|1_x0005_`KWN|0_x0005_`BLA|F_x0005_` | O17: M00258_1 | P17: T7_1 | Q17: 1_01 | Z17: =HYPERLINK("#"&재료비목록표!G2&"!A"&ROW(재료비목록표!A13),"자재10 →") -> 자재10 →
A18: 잡품 | B18: 주연료의% | C18: 21 | D18: % | E18: =I18+G18+K18 -> 8995 | F18: =J18+H18+L18 -> 1888.9 | G18: 0 | H18: =IF(C18=0,0,ROUNDDOWN(G18*C18/100,1)) -> 0 | I18: =J17 -> 8995 | J18: =IF(C18=0,0,ROUNDDOWN(I18*C18/100,1)) -> 1888.9 | K18: 0 | L18: =IF(C18=0,0,ROUNDDOWN(K18*C18/100,1)) -> 0 | N18: _x0007_`COD|PR_x0005_`EXI|1_x0005_`DVD|F_x0005_`BMK| _x0005_`IPR|0_x0005_`EQC|A01_x0005_`PRI|1_x0005_`PRO|1_x0005_`UNI|%_x0005_`BLA|F_x0005_` | O18: PRA01_1 | P18: T7_1
A19: 합 계 | F19: =J19+H19+L19 -> 83776 | H19: =ROUNDDOWN(SUMIF(P15:P18,O19,H15:H18),0) -> 59020 | J19: =ROUNDDOWN(SUMIF(P15:P18,O19,J15:J18),0) -> 10883 | L19: =ROUNDDOWN(SUMIF(P15:P18,O19,L15:L18),0) -> 13873 | O19: T7_1
A21: 제 3 호표 굴착기(무한궤도) 0.4㎥ / 시간 | M21: 중기3 | N21: =HYPERLINK("#N"&ROW(N25),"_x0005_`BDCOD|X00108_x0007_`POSS|"&ROW(N22)&"_x0007_`POSE|"&ROW(N25)&"_x0007_`") -> _x0005_`BDCOD|X00108_x0007_`POSS|22_x0007_`POSE|25_x0007_` | O21: X00108
A22: 굴착기(무한궤도) | B22: 0.4㎥ | C22: 0.2085 | D22: 천원 | E22: =I22+G22+K22 -> 84000 | F22: =J22+H22+L22 -> 17514 | G22: 0 | H22: =IF(C22=0,0,ROUNDDOWN(G22*C22,1)) -> 0 | I22: 0 | J22: =IF(C22=0,0,ROUNDDOWN(I22*C22,1)) -> 0 | K22: =경비목록표!E6 -> 84000 | L22: =IF(C22=0,0,ROUNDDOWN(K22*C22,1)) -> 17514 | M22: 경비3 | N22: _x0007_`COD|S00125_x0005_`EXI|0_x0005_`DVD|F_x0005_`BMK| _x0005_`IPR|0_x0005_`BLA|F_x0005_` | O22: S00125_1 | P22: T7_1 | Z22: =HYPERLINK("#"&경비목록표!G2&"!A"&ROW(경비목록표!A6),"경비3 →") -> 경비3 →
A23: 건설기계운전사 | C23: 1 | D23: 인 | E23: =I23+G23+K23 -> 59020.2 | F23: =J23+H23+L23 -> 59020.2 | G23: =환율및기초자료!G6 -> 59020.2 | H23: =IF(C23=0,0,ROUNDDOWN(G23*C23,1)) -> 59020.2 | I23: 0 | J23: =IF(C23=0,0,ROUNDDOWN(I23*C23,1)) -> 0 | K23: 0 | L23: =IF(C23=0,0,ROUNDDOWN(K23*C23,1)) -> 0 | M23: 노무1 | N23: _x0007_`COD|L00082_x0005_`EXI|0_x0005_`DVD|F_x0005_`BMK| _x0005_`IPR|0_x0005_`BLA|F_x0005_` | O23: L00082_1 | P23: T7_1 | Z23: =HYPERLINK("#"&환율및기초자료!I2&"!A"&ROW(환율및기초자료!A6),"노무1 →") -> 노무1 →
A24: 경유 | B24: 저유황 | C24: 9.9 | D24: L | E24: =I24+G24+K24 -> 1799 | F24: =J24+H24+L24 -> 17810.1 | G24: 0 | H24: =IF(C24=0,0,ROUNDDOWN(G24*C24,1)) -> 0 | I24: =재료비목록표!E13 -> 1799 | J24: =IF(C24=0,0,ROUNDDOWN(I24*C24,1)) -> 17810.1 | K24: 0 | L24: =IF(C24=0,0,ROUNDDOWN(K24*C24,1)) -> 0 | M24: 자재10 | N24: _x0007_`COD|M00258_x0005_`EXI|0_x0005_`DVD|F_x0005_`BMK| _x0005_`IPR|1_x0005_`KWN|0_x0005_`BLA|F_x0005_` | O24: M00258_1 | P24: T7_1 | Q24: 1_01 | Z24: =HYPERLINK("#"&재료비목록표!G2&"!A"&ROW(재료비목록표!A13),"자재10 →") -> 자재10 →
A25: 잡품 | B25: 주연료의% | C25: 22 | D25: % | E25: =I25+G25+K25 -> 17810.1 | F25: =J25+H25+L25 -> 3918.2 | G25: 0 | H25: =IF(C25=0,0,ROUNDDOWN(G25*C25/100,1)) -> 0 | I25: =J24 -> 17810.1 | J25: =IF(C25=0,0,ROUNDDOWN(I25*C25/100,1)) -> 3918.2 | K25: 0 | L25: =IF(C25=0,0,ROUNDDOWN(K25*C25/100,1)) -> 0 | N25: _x0007_`COD|PR_x0005_`EXI|1_x0005_`DVD|F_x0005_`BMK| _x0005_`IPR|0_x0005_`EQC|A01_x0005_`PRI|1_x0005_`PRO|1_x0005_`UNI|%_x0005_`BLA|F_x0005_` | O25: PRA01_1 | P25: T7_1
A26: 합 계 | F26: =J26+H26+L26 -> 98262 | H26: =ROUNDDOWN(SUMIF(P22:P25,O26,H22:H25),0) -> 59020 | J26: =ROUNDDOWN(SUMIF(P22:P25,O26,J22:J25),0) -> 21728 | L26: =ROUNDDOWN(SUMIF(P22:P25,O26,L22:L25),0) -> 17514 | O26: T7_1
A28: 제 4 호표 굴착기(무한궤도) 0.4㎥+대형브레이카 / 시간 | M28: 중기4 | N28: =HYPERLINK("#N"&ROW(N33),"_x0005_`BDCOD|X00160_x0007_`POSS|"&ROW(N29)&"_x0007_`POSE|"&ROW(N33)&"_x0007_`") -> _x0005_`BDCOD|X00160_x0007_`POSS|29_x0007_`POSE|33_x0007_` | O28: X00160
A29: 굴착기(무한궤도) | B29: 0.4㎥ | C29: 0.2085 | D29: 천원 | E29: =I29+G29+K29 -> 84000 | F29: =J29+H29+L29 -> 17514 | G29: 0 | H29: =IF(C29=0,0,ROUNDDOWN(G29*C29,1)) -> 0 | I29: 0 | J29: =IF(C29=0,0,ROUNDDOWN(I29*C29,1)) -> 0 | K29: =경비목록표!E6 -> 84000 | L29: =IF(C29=0,0,ROUNDDOWN(K29*C29,1)) -> 17514 | M29: 경비3 | N29: _x0007_`COD|S00125_x0005_`EXI|0_x0005_`DVD|F_x0005_`BMK| _x0005_`IPR|0_x0005_`BLA|F_x0005_` | O29: S00125_1 | P29: T7_1 | Z29: =HYPERLINK("#"&경비목록표!G2&"!A"&ROW(경비목록표!A6),"경비3 →") -> 경비3 →
A30: 건설기계운전사 | C30: 1 | D30: 인 | E30: =I30+G30+K30 -> 59020.2 | F30: =J30+H30+L30 -> 59020.2 | G30: =환율및기초자료!G6 -> 59020.2 | H30: =IF(C30=0,0,ROUNDDOWN(G30*C30,1)) -> 59020.2 | I30: 0 | J30: =IF(C30=0,0,ROUNDDOWN(I30*C30,1)) -> 0 | K30: 0 | L30: =IF(C30=0,0,ROUNDDOWN(K30*C30,1)) -> 0 | M30: 노무1 | N30: _x0007_`COD|L00082_x0005_`EXI|0_x0005_`DVD|F_x0005_`BMK| _x0005_`IPR|0_x0005_`BLA|F_x0005_` | O30: L00082_1 | P30: T7_1 | Z30: =HYPERLINK("#"&환율및기초자료!I2&"!A"&ROW(환율및기초자료!A6),"노무1 →") -> 노무1 →
A31: 경유 | B31: 저유황 | C31: 9.9 | D31: L | E31: =I31+G31+K31 -> 1799 | F31: =J31+H31+L31 -> 17810.1 | G31: 0 | H31: =IF(C31=0,0,ROUNDDOWN(G31*C31,1)) -> 0 | I31: =재료비목록표!E13 -> 1799 | J31: =IF(C31=0,0,ROUNDDOWN(I31*C31,1)) -> 17810.1 | K31: 0 | L31: =IF(C31=0,0,ROUNDDOWN(K31*C31,1)) -> 0 | M31: 자재10 | N31: _x0007_`COD|M00258_x0005_`EXI|0_x0005_`DVD|F_x0005_`BMK| _x0005_`IPR|0_x0005_`KWN|0_x0005_`BLA|F_x0005_` | O31: M00258_1 | P31: T7_1 | Z31: =HYPERLINK("#"&재료비목록표!G2&"!A"&ROW(재료비목록표!A13),"자재10 →") -> 자재10 →
A32: 잡품 | B32: 주연료의 % | C32: 16 | D32: % | E32: =I32+G32+K32 -> 17810.1 | F32: =J32+H32+L32 -> 2849.6 | G32: 0 | H32: =IF(C32=0,0,ROUNDDOWN(G32*C32/100,1)) -> 0 | I32: =J31 -> 17810.1 | J32: =IF(C32=0,0,ROUNDDOWN(I32*C32/100,1)) -> 2849.6 | K32: 0 | L32: =IF(C32=0,0,ROUNDDOWN(K32*C32/100,1)) -> 0 | M32: 자재41 | N32: _x0007_`COD|M00468_x0005_`EXI|0_x0005_`DVD|F_x0005_`BMK| _x0005_`IPR|0_x0005_`KWN|0_x0005_`BLA|F_x0005_` | O32: M00468_1 | P32: T7_1 | Z32: =HYPERLINK("#"&재료비목록표!G2&"!A"&ROW(재료비목록표!A44),"자재41 →") -> 자재41 →
A33: 대형 브레이커 | B33: 0.4㎥ | C33: 0.6601 | D33: 천원 | E33: =I33+G33+K33 -> 8352 | F33: =J33+H33+L33 -> 5513.1 | G33: 0 | H33: =IF(C33=0,0,ROUNDDOWN(G33*C33,1)) -> 0 | I33: 0 | J33: =IF(C33=0,0,ROUNDDOWN(I33*C33,1)) -> 0 | K33: =경비목록표!E13 -> 8352 | L33: =IF(C33=0,0,ROUNDDOWN(K33*C33,1)) -> 5513.1 | M33: 경비10 | N33: _x0007_`COD|S00127_x0005_`EXI|0_x0005_`DVD|F_x0005_`BMK| _x0005_`IPR|0_x0005_`BLA|F_x0005_` | O33: S00127_1 | P33: T7_1 | Z33: =HYPERLINK("#"&경비목록표!G2&"!A"&ROW(경비목록표!A13),"경비10 →") -> 경비10 →
A34: 합 계 | F34: =J34+H34+L34 -> 102706 | H34: =ROUNDDOWN(SUMIF(P29:P33,O34,H29:H33),0) -> 59020 | J34: =ROUNDDOWN(SUMIF(P29:P33,O34,J29:J33),0) -> 20659 | L34: =ROUNDDOWN(SUMIF(P29:P33,O34,L29:L33),0) -> 23027 | O34: T7_1
A36: 제 5 호표 굴착기(무한궤도) 0.4㎥,(브레이커조합) / 시간 | M36: 중기5 | N36: =HYPERLINK("#N"&ROW(N41),"_x0005_`BDCOD|X00238_x0007_`POSS|"&ROW(N37)&"_x0007_`POSE|"&ROW(N41)&"_x0007_`") -> _x0005_`BDCOD|X00238_x0007_`POSS|37_x0007_`POSE|41_x0007_` | O36: X00238
A37: 굴착기(무한궤도) | B37: 0.4㎥ | C37: 0.2085 | D37: 천원 | E37: =I37+G37+K37 -> 84000 | F37: =J37+H37+L37 -> 17514 | G37: 0 | H37: =IF(C37=0,0,ROUNDDOWN(G37*C37,1)) -> 0 | I37: 0 | J37: =IF(C37=0,0,ROUNDDOWN(I37*C37,1)) -> 0 | K37: =경비목록표!E6 -> 84000 | L37: =IF(C37=0,0,ROUNDDOWN(K37*C37,1)) -> 17514 | M37: 경비3 | N37: _x0007_`COD|S00125_x0005_`EXI|0_x0005_`DVD|F_x0005_`BMK| _x0005_`IPR|0_x0005_`BLA|F_x0005_` | O37: S00125_1 | P37: T7_1 | Z37: =HYPERLINK("#"&경비목록표!G2&"!A"&ROW(경비목록표!A6),"경비3 →") -> 경비3 →
A38: 건설기계운전사 | C38: 1 | D38: 인 | E38: =I38+G38+K38 -> 59020.2 | F38: =J38+H38+L38 -> 59020.2 | G38: =환율및기초자료!G6 -> 59020.2 | H38: =IF(C38=0,0,ROUNDDOWN(G38*C38,1)) -> 59020.2 | I38: 0 | J38: =IF(C38=0,0,ROUNDDOWN(I38*C38,1)) -> 0 | K38: 0 | L38: =IF(C38=0,0,ROUNDDOWN(K38*C38,1)) -> 0 | M38: 노무1 | N38: _x0007_`COD|L00082_x0005_`EXI|0_x0005_`DVD|F_x0005_`BMK| _x0005_`IPR|0_x0005_`BLA|F_x0005_` | O38: L00082_1 | P38: T7_1 | Z38: =HYPERLINK("#"&환율및기초자료!I2&"!A"&ROW(환율및기초자료!A6),"노무1 →") -> 노무1 →
A39: 경유 | B39: 저유황 | C39: 9.9 | D39: L | E39: =I39+G39+K39 -> 1799 | F39: =J39+H39+L39 -> 17810.1 | G39: 0 | H39: =IF(C39=0,0,ROUNDDOWN(G39*C39,1)) -> 0 | I39: =재료비목록표!E13 -> 1799 | J39: =IF(C39=0,0,ROUNDDOWN(I39*C39,1)) -> 17810.1 | K39: 0 | L39: =IF(C39=0,0,ROUNDDOWN(K39*C39,1)) -> 0 | M39: 자재10 | N39: _x0007_`COD|M00258_x0005_`EXI|0_x0005_`DVD|F_x0005_`BMK| _x0005_`IPR|1_x0005_`KWN|0_x0005_`BLA|F_x0005_` | O39: M00258_1 | P39: T7_1 | Q39: 1_01 | Z39: =HYPERLINK("#"&재료비목록표!G2&"!A"&ROW(재료비목록표!A13),"자재10 →") -> 자재10 →
A40: 잡품 | B40: 주연료의% | C40: 16 | D40: % | E40: =I40+G40+K40 -> 17810.1 | F40: =J40+H40+L40 -> 2849.6 | G40: 0 | H40: =IF(C40=0,0,ROUNDDOWN(G40*C40/100,1)) -> 0 | I40: =J39 -> 17810.1 | J40: =IF(C40=0,0,ROUNDDOWN(I40*C40/100,1)) -> 2849.6 | K40: 0 | L40: =IF(C40=0,0,ROUNDDOWN(K40*C40/100,1)) -> 0 | N40: _x0007_`COD|PR_x0005_`EXI|1_x0005_`DVD|F_x0005_`BMK| _x0005_`IPR|0_x0005_`EQC|A01_x0005_`PRI|1_x0005_`PRO|1_x0005_`UNI|%_x0005_`BLA|F_x0005_` | O40: PRA01_1 | P40: T7_1
A41: 대형 브레이커 | B41: 0.4㎥ | C41: 0.6601 | D41: 천원 | E41: =I41+G41+K41 -> 8352 | F41: =J41+H41+L41 -> 5513.1 | G41: 0 | H41: =IF(C41=0,0,ROUNDDOWN(G41*C41,1)) -> 0 | I41: 0 | J41: =IF(C41=0,0,ROUNDDOWN(I41*C41,1)) -> 0 | K41: =경비목록표!E13 -> 8352 | L41: =IF(C41=0,0,ROUNDDOWN(K41*C41,1)) -> 5513.1 | M41: 경비10 | N41: _x0007_`COD|S00127_x0005_`EXI|0_x0005_`DVD|F_x0005_`BMK| _x0005_`IPR|0_x0005_`BLA|F_x0005_` | O41: S00127_1 | P41: T7_1 | Z41: =HYPERLINK("#"&경비목록표!G2&"!A"&ROW(경비목록표!A13),"경비10 →") -> 경비10 →
A42: 합 계 | F42: =J42+H42+L42 -> 102706 | H42: =ROUNDDOWN(SUMIF(P37:P41,O42,H37:H41),0) -> 59020 | J42: =ROUNDDOWN(SUMIF(P37:P41,O42,J37:J41),0) -> 20659 | L42: =ROUNDDOWN(SUMIF(P37:P41,O42,L37:L41),0) -> 23027 | O42: T7_1
A44: 제 6 호표 굴착기(무한궤도) 0.6㎥ / 시간 | M44: 중기6 | N44: =HYPERLINK("#N"&ROW(N48),"_x0005_`BDCOD|X00139_x0007_`POSS|"&ROW(N45)&"_x0007_`POSE|"&ROW(N48)&"_x0007_`") -> _x0005_`BDCOD|X00139_x0007_`POSS|45_x0007_`POSE|48_x0007_` | O44: X00139
A45: 굴착기(무한궤도) | B45: 0.6㎥ | C45: 0.2085 | D45: 천원 | E45: =I45+G45+K45 -> 112342 | F45: =J45+H45+L45 -> 23423.3 | G45: 0 | H45: =IF(C45=0,0,ROUNDDOWN(G45*C45,1)) -> 0 | I45: 0 | J45: =IF(C45=0,0,ROUNDDOWN(I45*C45,1)) -> 0 | K45: =경비목록표!E7 -> 112342 | L45: =IF(C45=0,0,ROUNDDOWN(K45*C45,1)) -> 23423.3 | M45: 경비4 | N45: _x0007_`COD|S00186_x0005_`EXI|0_x0005_`DVD|F_x0005_`BMK| _x0005_`IPR|0_x0005_`BLA|F_x0005_` | O45: S00186_1 | P45: T7_1 | Z45: =HYPERLINK("#"&경비목록표!G2&"!A"&ROW(경비목록표!A7),"경비4 →") -> 경비4 →
A46: 건설기계운전사 | C46: 1 | D46: 인 | E46: =I46+G46+K46 -> 59020.2 | F46: =J46+H46+L46 -> 59020.2 | G46: =환율및기초자료!G6 -> 59020.2 | H46: =IF(C46=0,0,ROUNDDOWN(G46*C46,1)) -> 59020.2 | I46: 0 | J46: =IF(C46=0,0,ROUNDDOWN(I46*C46,1)) -> 0 | K46: 0 | L46: =IF(C46=0,0,ROUNDDOWN(K46*C46,1)) -> 0 | M46: 노무1 | N46: _x0007_`COD|L00082_x0005_`EXI|0_x0005_`DVD|F_x0005_`BMK| _x0005_`IPR|0_x0005_`BLA|F_x0005_` | O46: L00082_1 | P46: T7_1 | Z46: =HYPERLINK("#"&환율및기초자료!I2&"!A"&ROW(환율및기초자료!A6),"노무1 →") -> 노무1 →
A47: 경유 | B47: 저유황 | C47: 10.2 | D47: L | E47: =I47+G47+K47 -> 1799 | F47: =J47+H47+L47 -> 18349.8 | G47: 0 | H47: =IF(C47=0,0,ROUNDDOWN(G47*C47,1)) -> 0 | I47: =재료비목록표!E13 -> 1799 | J47: =IF(C47=0,0,ROUNDDOWN(I47*C47,1)) -> 18349.8 | K47: 0 | L47: =IF(C47=0,0,ROUNDDOWN(K47*C47,1)) -> 0 | M47: 자재10 | N47: _x0007_`COD|M00258_x0005_`EXI|0_x0005_`DVD|F_x0005_`BMK| _x0005_`IPR|1_x0005_`KWN|0_x0005_`BLA|F_x0005_` | O47: M00258_1 | P47: T7_1 | Q47: 1_01 | Z47: =HYPERLINK("#"&재료비목록표!G2&"!A"&ROW(재료비목록표!A13),"자재10 →") -> 자재10 →
A48: 잡품 | B48: 주연료의% | C48: 22 | D48: % | E48: =I48+G48+K48 -> 18349.8 | F48: =J48+H48+L48 -> 4036.9 | G48: 0 | H48: =IF(C48=0,0,ROUNDDOWN(G48*C48/100,1)) -> 0 | I48: =J47 -> 18349.8 | J48: =IF(C48=0,0,ROUNDDOWN(I48*C48/100,1)) -> 4036.9 | K48: 0 | L48: =IF(C48=0,0,ROUNDDOWN(K48*C48/100,1)) -> 0 | N48: _x0007_`COD|PR_x0005_`EXI|1_x0005_`DVD|F_x0005_`BMK| _x0005_`IPR|0_x0005_`EQC|A01_x0005_`PRI|1_x0005_`PRO|1_x0005_`UNI|%_x0005_`BLA|F_x0005_` | O48: PRA01_1 | P48: T7_1
A49: 합 계 | F49: =J49+H49+L49 -> 104829 | H49: =ROUNDDOWN(SUMIF(P45:P48,O49,H45:H48),0) -> 59020 | J49: =ROUNDDOWN(SUMIF(P45:P48,O49,J45:J48),0) -> 22386 | L49: =ROUNDDOWN(SUMIF(P45:P48,O49,L45:L48),0) -> 23423 | O49: T7_1
A51: 제 7 호표 굴착기(타이어) 0.6㎥ / 시간 | M51: 중기7 | N51: =HYPERLINK("#N"&ROW(N55),"_x0005_`BDCOD|X00179_x0007_`POSS|"&ROW(N52)&"_x0007_`POSE|"&ROW(N55)&"_x0007_`") -> _x0005_`BDCOD|X00179_x0007_`POSS|52_x0007_`POSE|55_x0007_` | O51: X00179
A52: 굴착기(타이어) | B52: 0.6㎥ | C52: 0.2279 | D52: 천원 | E52: =I52+G52+K52 -> 119000 | F52: =J52+H52+L52 -> 27120.1 | G52: 0 | H52: =IF(C52=0,0,ROUNDDOWN(G52*C52,1)) -> 0 | I52: 0 | J52: =IF(C52=0,0,ROUNDDOWN(I52*C52,1)) -> 0 | K52: =경비목록표!E8 -> 119000 | L52: =IF(C52=0,0,ROUNDDOWN(K52*C52,1)) -> 27120.1 | M52: 경비5 | N52: _x0007_`COD|S00274_x0005_`EXI|0_x0005_`DVD|F_x0005_`BMK| _x0005_`IPR|0_x0005_`BLA|F_x0005_` | O52: S00274_1 | P52: T7_1 | Z52: =HYPERLINK("#"&경비목록표!G2&"!A"&ROW(경비목록표!A8),"경비5 →") -> 경비5 →
A53: 건설기계운전사 | C53: 1 | D53: 인 | E53: =I53+G53+K53 -> 59020.2 | F53: =J53+H53+L53 -> 59020.2 | G53: =환율및기초자료!G6 -> 59020.2 | H53: =IF(C53=0,0,ROUNDDOWN(G53*C53,1)) -> 59020.2 | I53: 0 | J53: =IF(C53=0,0,ROUNDDOWN(I53*C53,1)) -> 0 | K53: 0 | L53: =IF(C53=0,0,ROUNDDOWN(K53*C53,1)) -> 0 | M53: 노무1 | N53: _x0007_`COD|L00082_x0005_`EXI|0_x0005_`DVD|F_x0005_`BMK| _x0005_`IPR|0_x0005_`BLA|F_x0005_` | O53: L00082_1 | P53: T7_1 | Z53: =HYPERLINK("#"&환율및기초자료!I2&"!A"&ROW(환율및기초자료!A6),"노무1 →") -> 노무1 →
A54: 경유 | B54: 저유황 | C54: 11.6 | D54: L | E54: =I54+G54+K54 -> 1799 | F54: =J54+H54+L54 -> 20868.4 | G54: 0 | H54: =IF(C54=0,0,ROUNDDOWN(G54*C54,1)) -> 0 | I54: =재료비목록표!E13 -> 1799 | J54: =IF(C54=0,0,ROUNDDOWN(I54*C54,1)) -> 20868.4 | K54: 0 | L54: =IF(C54=0,0,ROUNDDOWN(K54*C54,1)) -> 0 | M54: 자재10 | N54: _x0007_`COD|M00258_x0005_`EXI|0_x0005_`DVD|F_x0005_`BMK| _x0005_`IPR|1_x0005_`KWN|0_x0005_`BLA|F_x0005_` | O54: M00258_1 | P54: T7_1 | Q54: 1_01 | Z54: =HYPERLINK("#"&재료비목록표!G2&"!A"&ROW(재료비목록표!A13),"자재10 →") -> 자재10 →
A55: 잡품 | B55: 주연료의% | C55: 24 | D55: % | E55: =I55+G55+K55 -> 20868.4 | F55: =J55+H55+L55 -> 5008.4 | G55: 0 | H55: =IF(C55=0,0,ROUNDDOWN(G55*C55/100,1)) -> 0 | I55: =J54 -> 20868.4 | J55: =IF(C55=0,0,ROUNDDOWN(I55*C55/100,1)) -> 5008.4 | K55: 0 | L55: =IF(C55=0,0,ROUNDDOWN(K55*C55/100,1)) -> 0 | N55: _x0007_`COD|PR_x0005_`EXI|1_x0005_`DVD|F_x0005_`BMK| _x0005_`IPR|0_x0005_`EQC|A01_x0005_`PRI|1_x0005_`PRO|1_x0005_`UNI|%_x0005_`BLA|F_x0005_` | O55: PRA01_1 | P55: T7_1
A56: 합 계 | F56: =J56+H56+L56 -> 112016 | H56: =ROUNDDOWN(SUMIF(P52:P55,O56,H52:H55),0) -> 59020 | J56: =ROUNDDOWN(SUMIF(P52:P55,O56,J52:J55),0) -> 25876 | L56: =ROUNDDOWN(SUMIF(P52:P55,O56,L52:L55),0) -> 27120 | O56: T7_1
A58: 제 8 호표 노면파쇄기 2.0ｍ / 시간 | M58: 중기8 | N58: =HYPERLINK("#N"&ROW(N62),"_x0005_`BDCOD|X00121_x0007_`POSS|"&ROW(N59)&"_x0007_`POSE|"&ROW(N62)&"_x0007_`") -> _x0005_`BDCOD|X00121_x0007_`POSS|59_x0007_`POSE|62_x0007_` | O58: X00121
A59: 노면파쇄기 | B59: 2.0ｍ | C59: 0.4032 | D59: 천원 | E59: =I59+G59+K59 -> 438356 | F59: =J59+H59+L59 -> 176745.1 | G59: 0 | H59: =IF(C59=0,0,ROUNDDOWN(G59*C59,1)) -> 0 | I59: 0 | J59: =IF(C59=0,0,ROUNDDOWN(I59*C59,1)) -> 0 | K59: =경비목록표!E11 -> 438356 | L59: =IF(C59=0,0,ROUNDDOWN(K59*C59,1)) -> 176745.1 | M59: 경비8 | N59: _x0007_`COD|S00145_x0005_`EXI|0_x0005_`DVD|F_x0005_`BMK| _x0005_`IPR|0_x0005_`BLA|F_x0005_` | O59: S00145_1 | P59: T7_1 | Z59: =HYPERLINK("#"&경비목록표!G2&"!A"&ROW(경비목록표!A11),"경비8 →") -> 경비8 →
A60: 건설기계운전사 | C60: 1 | D60: 인 | E60: =I60+G60+K60 -> 59020.2 | F60: =J60+H60+L60 -> 59020.2 | G60: =환율및기초자료!G6 -> 59020.2 | H60: =IF(C60=0,0,ROUNDDOWN(G60*C60,1)) -> 59020.2 | I60: 0 | J60: =IF(C60=0,0,ROUNDDOWN(I60*C60,1)) -> 0 | K60: 0 | L60: =IF(C60=0,0,ROUNDDOWN(K60*C60,1)) -> 0 | M60: 노무1 | N60: _x0007_`COD|L00082_x0005_`EXI|0_x0005_`DVD|F_x0005_`BMK| _x0005_`IPR|0_x0005_`BLA|F_x0005_` | O60: L00082_1 | P60: T7_1 | Z60: =HYPERLINK("#"&환율및기초자료!I2&"!A"&ROW(환율및기초자료!A6),"노무1 →") -> 노무1 →
A61: 경유 | B61: 저유황 | C61: 52.7 | D61: L | E61: =I61+G61+K61 -> 1799 | F61: =J61+H61+L61 -> 94807.3 | G61: 0 | H61: =IF(C61=0,0,ROUNDDOWN(G61*C61,1)) -> 0 | I61: =재료비목록표!E13 -> 1799 | J61: =IF(C61=0,0,ROUNDDOWN(I61*C61,1)) -> 94807.3 | K61: 0 | L61: =IF(C61=0,0,ROUNDDOWN(K61*C61,1)) -> 0 | M61: 자재10 | N61: _x0007_`COD|M00258_x0005_`EXI|0_x0005_`DVD|F_x0005_`BMK| _x0005_`IPR|1_x0005_`KWN|0_x0005_`BLA|F_x0005_` | O61: M00258_1 | P61: T7_1 | Q61: 1_01 | Z61: =HYPERLINK("#"&재료비목록표!G2&"!A"&ROW(재료비목록표!A13),"자재10 →") -> 자재10 →
A62: 잡품 | B62: 주연료의% | C62: 16 | D62: % | E62: =I62+G62+K62 -> 94807.3 | F62: =J62+H62+L62 -> 15169.1 | G62: 0 | H62: =IF(C62=0,0,ROUNDDOWN(G62*C62/100,1)) -> 0 | I62: =J61 -> 94807.3 | J62: =IF(C62=0,0,ROUNDDOWN(I62*C62/100,1)) -> 15169.1 | K62: 0 | L62: =IF(C62=0,0,ROUNDDOWN(K62*C62/100,1)) -> 0 | N62: _x0007_`COD|PR_x0005_`EXI|1_x0005_`DVD|F_x0005_`BMK| _x0005_`IPR|0_x0005_`EQC|A01_x0005_`PRI|1_x0005_`PRO|1_x0005_`UNI|%_x0005_`BLA|F_x0005_` | O62: PRA01_1 | P62: T7_1
A63: 합 계 | F63: =J63+H63+L63 -> 345741 | H63: =ROUNDDOWN(SUMIF(P59:P62,O63,H59:H62),0) -> 59020 | J63: =ROUNDDOWN(SUMIF(P59:P62,O63,J59:J62),0) -> 109976 | L63: =ROUNDDOWN(SUMIF(P59:P62,O63,L59:L62),0) -> 176745 | O63: T7_1
A65: 제 9 호표 대형 브레이커 0.6㎥ / 시간 | M65: 중기9 | N65: =HYPERLINK("#N"&ROW(N66),"_x0005_`BDCOD|X00232_x0007_`POSS|"&ROW(N66)&"_x0007_`POSE|"&ROW(N66)&"_x0007_`") -> _x0005_`BDCOD|X00232_x0007_`POSS|66_x0007_`POSE|66_x0007_` | O65: X00232
A66: 대형 브레이커 | B66: 0.6㎥ | C66: 0.6601 | D66: 천원 | E66: =I66+G66+K66 -> 14174 | F66: =J66+H66+L66 -> 9356.2 | G66: 0 | H66: =IF(C66=0,0,ROUNDDOWN(G66*C66,1)) -> 0 | I66: 0 | J66: =IF(C66=0,0,ROUNDDOWN(I66*C66,1)) -> 0 | K66: =경비목록표!E14 -> 14174 | L66: =IF(C66=0,0,ROUNDDOWN(K66*C66,1)) -> 9356.2 | M66: 경비11 | N66: _x0007_`COD|S00323_x0005_`EXI|0_x0005_`DVD|F_x0005_`BMK| _x0005_`IPR|0_x0005_`BLA|F_x0005_` | O66: S00323_1 | P66: T7_1 | Z66: =HYPERLINK("#"&경비목록표!G2&"!A"&ROW(경비목록표!A14),"경비11 →") -> 경비11 →
A67: 합 계 | F67: =J67+H67+L67 -> 9356 | H67: =ROUNDDOWN(SUMIF(P66:P66,O67,H66:H66),0) -> 0 | J67: =ROUNDDOWN(SUMIF(P66:P66,O67,J66:J66),0) -> 0 | L67: =ROUNDDOWN(SUMIF(P66:P66,O67,L66:L66),0) -> 9356 | O67: T7_1
