Workbook

Sheet 〓 목 차 〓
D1: =IF('〓 INITIAL 〓'!C4,"※※ 기본정보의 일부가 삭제되어 Stmate로 변환할 수 없습니다 ※※","")
B2: 목 차 | D2: ※ 본 엑셀자료는 【STmate w26.05】버전 이상에서 STmate 자료로 다시 등록할 수 있습니다.
D3: 단, 임의로 수정한 내용(Sheet삭제, 산근내용변경, 기타계산식변경..)은 반영되지 않을 수 있습니다.
B4: 1. ※※안내※※ | D4: =HYPERLINK("#'※※안내※※'!A1","※※안내※※ →") -> ※※안내※※ →
B5: 2. 공사원가계산서 | D5: =HYPERLINK("#"&공사원가계산서!G2&"!A1","공사원가계산서 →") -> 공사원가계산서 →
B6: 3. 총괄내역서 | D6: =HYPERLINK("#"&총괄내역서!H2&"!A1","총괄내역서 →") -> 총괄내역서 →
B7: 4. 설계내역서 | D7: =HYPERLINK("#"&설계내역서!O2&"!A1","설계내역서 →") -> 설계내역서 →
B8: 5. 일위대가목록표 | D8: =HYPERLINK("#"&일위대가목록표!J2&"!A1","일위대가목록표 →") -> 일위대가목록표 →
B9: 6. 일위대가표 | D9: =HYPERLINK("#"&일위대가표!N2&"!A1","일위대가표 →") -> 일위대가표 →
B10: 7. 단가산출근거목록표 | D10: =HYPERLINK("#"&단가산출근거목록표!J2&"!A1","단가산출근거목록표 →") -> 단가산출근거목록표 →
B11: 8. 단가산출근거 | D11: =HYPERLINK("#"&단가산출근거!G2&"!A1","단가산출근거 →") -> 단가산출근거 →
B12: 9. 환율및기초자료 | D12: =HYPERLINK("#"&환율및기초자료!I2&"!A1","환율및기초자료 →") -> 환율및기초자료 →
B13: 10. 중기목록표 | D13: =HYPERLINK("#"&중기목록표!J2&"!A1","중기목록표 →") -> 중기목록표 →
B14: 11. 중기사용료 | D14: =HYPERLINK("#"&중기사용료!N2&"!A1","중기사용료 →") -> 중기사용료 →
B15: 12. 재료비목록표 | D15: =HYPERLINK("#"&재료비목록표!G2&"!A1","재료비목록표 →") -> 재료비목록표 →
B16: 13. 노무비목록표 | D16: =HYPERLINK("#"&노무비목록표!G2&"!A1","노무비목록표 →") -> 노무비목록표 →
B17: 14. 경비목록표 | D17: =HYPERLINK("#"&경비목록표!G2&"!A1","경비목록표 →") -> 경비목록표 →
B18: 15. 일식견적목록표 | D18: =HYPERLINK("#"&일식견적목록표!J2&"!A1","일식견적목록표 →") -> 일식견적목록표 →
B19: 16. 자재단가대비표 | D19: =HYPERLINK("#"&자재단가대비표!R2&"!A1","자재단가대비표 →") -> 자재단가대비표 →

Sheet ※※안내※※
A2: =HYPERLINK("#'〓 목 차 〓'!B2","목차 →") -> 목차 → | B2: === 엑셀파일에 작성에 대한 안내문(반드시 읽어보세요) ===
B4: 엑셀파일 수정후 계산식 반영이 안될경우 :【 Ctrl+Alt(+Shift)+F9 】
B6: ◈ 엑셀파일내의 산식은 기초단가, 복합단가, 내역서 및 총괄내역서까지 연결됩니다.
B7: (모든산식은 단가만을 불러오며, 명칭, 규격, 단위, 비고.. 등은 TEXT로 입력됩니다)
B8: ◈ 각 Sheet우측에는 해당 항목을 찾아가는 위치이동(→) 링크가 있으며, 클릭하면 이동됩니다.
B9: (Alt + ← 키를 이용하여 찾아갔던 항목을 되돌아 올 수 있습니다.)
B10: ◈ 자재단가 대비표의 적용단가는 수식이 적용되지 않았으나, 우측에 최소단가 수식을 입력하였습니다.
B11: ◈ 일위대가표 및 중기사용료 및 총괄내역서의 양식은 일반양식을 적용합니다.
B12: =HYPERLINK("#"&단가산출근거!G2&"!Y3","◈ 단가산출근거의 수량부분은 산출근거 우측 연두색 부분에서 수정합니다. →") -> ◈ 단가산출근거의 수량부분은 산출근거 우측 연두색 부분에서 수정합니다. →
B13: ◈ [목차] 및 [안내] Sheet의 이름을 변경하지 마시고, Sheet이름을 변경할때 공백문자 및 특수문자를 사용하지 마십시요.
B15: ※※※ 아래의 내용(안내 및 오류)을 확인/검토 하세요 ※※※
B16: =HYPERLINK("#"&총괄내역서!H2&"!I"&ROW(총괄내역서!I18)," → ") -> → | C16: 【총괄내역서】18번째줄의 I열 이윤보정액은 총공사비 금액이 다를경우 임의조정(±α) 하십시요.
B17: =HYPERLINK("#"&총괄내역서!H2&"!D"&ROW(총괄내역서!D26)," → ") -> → | C17: 【총괄내역서】26번째줄의 D열에 계산된 총공사비 금액을 확인하십시요.
B18: =HYPERLINK("#"&단가산출근거!G2&"!B"&ROW(단가산출근거!B458)," → ") -> → | C18: 【단가산출근거】458번째줄 에서 사용된【S00190】코드의 %단위(T%) 는 산식을 입력할 수 없으니 손료계산 형식으로 변경하십시요.
B19: =HYPERLINK("#"&단가산출근거!G2&"!B"&ROW(단가산출근거!B537)," → ") -> → | C19: 【단가산출근거】537번째줄 에서 사용된【S00092】코드의 %단위(L%) 는 산식을 입력할 수 없으니 손료계산 형식으로 변경하십시요.
B20: =HYPERLINK("#"&단가산출근거!G2&"!B"&ROW(단가산출근거!B1178)," → ") -> → | C20: 【단가산출근거】1178번째줄 에서 사용된【S00159】코드의 %단위(L%) 는 산식을 입력할 수 없으니 손료계산 형식으로 변경하십시요.
B21: =HYPERLINK("#"&단가산출근거!G2&"!B"&ROW(단가산출근거!B1273)," → ") -> → | C21: 【단가산출근거】1273번째줄 에서 사용된【S00190】코드의 %단위(T%) 는 산식을 입력할 수 없으니 손료계산 형식으로 변경하십시요.

Sheet 공사원가계산서
A1: 공 사 원 가 계 산 서 | G1: STmate | H1: STmate
A2: 공사명 : 모현읍 왕산리 799-37번지 배수관로 이설공사 | F2: 공사기간: 2026년00월 ~ 2026년00월 | G2: =MID(CELL("filename",$A$1),FIND("]",CELL("filename",$A$1))+1,LEN(CELL("filename",$A$1))) -> 공사원가계산서
A3: 구 분 | D3: 금 액 | E3: 구 성 비 | F3: 비 고
A4: 비 목 | H4: =HYPERLINK("#'〓 목 차 〓'!B2","목차 →") -> 목차 →
A5: 순 공 사 원 가 | B5: 재 료 비 | C5: 직 접 재 료 비 | D5: =총괄내역서!F4-D6+D7 -> 16591866 | E5: =D5/D32*100 -> 22.760074 | H5: =HYPERLINK("#"&총괄내역서!H2&"!F"&ROW(총괄내역서!F4),"총괄표 →") -> 총괄표 →
C6: 간 접 재 료 비 | D6: 0 | E6: =D6/D32*100 -> 0
C7: 작업설,부산물등(△) | D7: 0 | E7: =D7/D32*100 -> 0
C8: 소 계 | D8: =+D5+D6-D7 -> 16591866 | E8: =D8/D32*100 -> 22.760074
B9: 노 무 비 | C9: 직 접 노 무 비 | D9: =총괄내역서!E4 -> 10038067 | E9: =D9/D32*100 -> 13.769828 | H9: =HYPERLINK("#"&총괄내역서!H2&"!E"&ROW(총괄내역서!E4),"총괄표 →") -> 총괄표 →
C10: 간 접 노 무 비 | D10: =총괄내역서!D5 -> 1917270 | E10: =D10/D32*100 -> 2.6300361 | F10: =총괄내역서!E5 -> 직접노무비 x 19.1% | H10: =HYPERLINK("#"&총괄내역서!H2&"!D"&ROW(총괄내역서!D5),"총괄표 →") -> 총괄표 →
C11: 소 계 | D11: =+D9+D10 -> 11955337 | E11: =D11/D32*100 -> 16.399864
B12: 경 비 | C12: 산 출 경 비 | D12: =총괄내역서!G4 -> 3183822 | E12: =D12/D32*100 -> 4.3674426 | H12: =HYPERLINK("#"&총괄내역서!H2&"!G"&ROW(총괄내역서!G4),"총괄표 →") -> 총괄표 →
C13: 산 재 보 험 료 | D13: =총괄내역서!D6 -> 425609 | E13: =D13/D32*100 -> 0.5838338 | F13: =총괄내역서!E6 -> (직접노무비+간접노무비) x 3.56% | H13: =HYPERLINK("#"&총괄내역서!H2&"!D"&ROW(총괄내역서!D6),"총괄표 →") -> 총괄표 →
C14: 고 용 보 험 료 | D14: =총괄내역서!D7 -> 120748 | E14: =D14/D32*100 -> 0.16563739 | F14: =총괄내역서!E7 -> (직접노무비+간접노무비) x 1.01% | H14: =HYPERLINK("#"&총괄내역서!H2&"!D"&ROW(총괄내역서!D7),"총괄표 →") -> 총괄표 →
C15: 산업안전보건관리비 | D15: =총괄내역서!D8 -> 838842 | E15: =D15/D32*100 -> 1.1506907 | F15: =총괄내역서!E8 -> (직노+직재+간재) x 3.15% = 838,842 | H15: =HYPERLINK("#"&총괄내역서!H2&"!D"&ROW(총괄내역서!D8),"총괄표 →") -> 총괄표 →
C16: 기 타 경 비 | D16: =총괄내역서!D9 -> 1570096 | E16: =D16/D32*100 -> 2.1537964 | F16: =총괄내역서!E9 -> (직접노무비+간접노무비+재료비) x 5.5% | H16: =HYPERLINK("#"&총괄내역서!H2&"!D"&ROW(총괄내역서!D9),"총괄표 →") -> 총괄표 →
C17: 환 경 보 전 비 | D17: =총괄내역서!D10 -> 149068 | E17: =D17/D32*100 -> 0.20448566 | F17: =총괄내역서!E10 -> (재료비 + 직접노무비 + 산출경비) x 0.5% | H17: =HYPERLINK("#"&총괄내역서!H2&"!D"&ROW(총괄내역서!D10),"총괄표 →") -> 총괄표 →
C18: 건설기계대여금지급보증서수수료 | D18: =총괄내역서!D11 -> 152050 | E18: =D18/D32*100 -> 0.20857625 | F18: =총괄내역서!E11 -> (재료비 + 직접노무비 + 산출경비) x 0.51% | H18: =HYPERLINK("#"&총괄내역서!H2&"!D"&ROW(총괄내역서!D11),"총괄표 →") -> 총괄표 →
C19: 석면피해구제분담금 | D19: =총괄내역서!D12 -> 717 | E19: =D19/D32*100 -> 0.00098355259 | F19: =총괄내역서!E12 -> (직접노무비+간접노무비) x 0.006% | H19: =HYPERLINK("#"&총괄내역서!H2&"!D"&ROW(총괄내역서!D12),"총괄표 →") -> 총괄표 →
C20: 임 금 채 권 부 담 금 | D20: =총괄내역서!D13 -> 10759 | E20: =D20/D32*100 -> 0.014758776 | F20: =총괄내역서!E13 -> (직접노무비+간접노무비) x 0.09% | H20: =HYPERLINK("#"&총괄내역서!H2&"!D"&ROW(총괄내역서!D13),"총괄표 →") -> 총괄표 →
C21: 안전관리비 | D21: =총괄내역서!D14 -> 1856940 | E21: =D21/D32*100 -> 2.5472777 | H21: =HYPERLINK("#"&총괄내역서!H2&"!D"&ROW(총괄내역서!D14),"총괄표 →") -> 총괄표 →
C22: 소 계 | D22: =+D12+D13+D14+D15+D16+D17+D18+D19+D20+D21 -> 8308651 | E22: =D22/D32*100 -> 11.397483
A23: 일 반 관 리 비 | D23: =총괄내역서!D16 -> 2948468 | E23: =D23/D32*100 -> 4.0445932 | F23: ="순공사원가 x "&ROUND(총괄내역서!M16,5)&"%" -> 순공사원가 x 8% | H23: =HYPERLINK("#"&총괄내역서!H2&"!D"&ROW(총괄내역서!D16),"총괄표 →") -> 총괄표 →
A24: 이 윤 | D24: =총괄내역서!D18 -> 3417132.8 | E24: =D24/D32*100 -> 4.6874893 | F24: ="(노무비+경비+일반관리비) x "&ROUND(총괄내역서!M18,5)&"%" -> (노무비+경비+일반관리비) x 14.72121% | H24: =HYPERLINK("#"&총괄내역서!H2&"!D"&ROW(총괄내역서!D18),"총괄표 →") -> 총괄표 →
A25: 폐기물처리비 및 운반비 | D25: =총괄내역서!D19 -> 620000 | E25: =D25/D32*100 -> 0.85049178 | H25: =HYPERLINK("#"&총괄내역서!H2&"!D"&ROW(총괄내역서!D19),"총괄표 →") -> 총괄표 →
A26: 고재처리 | D26: =총괄내역서!D20 -> -406000 | E26: =D26/D32*100 -> -0.55693494 | H26: =HYPERLINK("#"&총괄내역서!H2&"!D"&ROW(총괄내역서!D20),"총괄표 →") -> 총괄표 →
A27: 총 원 가 | D27: =총괄내역서!D21 -> 43435455 | E27: =D27/D32*100 -> 59.58306 | H27: =HYPERLINK("#"&총괄내역서!H2&"!D"&ROW(총괄내역서!D21),"총괄표 →") -> 총괄표 →
A28: 부 가 가 치 세 | D28: =총괄내역서!D22 -> 4343545 | E28: =D28/D32*100 -> 5.9583053 | F28: ="총 원 가 x "&ROUND(총괄내역서!M22,5)&"%" -> 총 원 가 x 10% | H28: =HYPERLINK("#"&총괄내역서!H2&"!D"&ROW(총괄내역서!D22),"총괄표 →") -> 총괄표 →
A29: 도 급 공 사 비 | D29: =총괄내역서!D23 -> 47779000 | E29: =D29/D32*100 -> 65.541365 | H29: =HYPERLINK("#"&총괄내역서!H2&"!D"&ROW(총괄내역서!D23),"총괄표 →") -> 총괄표 →
A30: 관급자재대(도급자설치) | D30: =총괄내역서!D24 -> 10452000 | E30: =D30/D32*100 -> 14.337645 | H30: =HYPERLINK("#"&총괄내역서!H2&"!D"&ROW(총괄내역서!D24),"총괄표 →") -> 총괄표 →
A31: 관급자재대(관급자설치) | D31: =총괄내역서!D25 -> 14668000 | E31: =D31/D32*100 -> 20.120989 | H31: =HYPERLINK("#"&총괄내역서!H2&"!D"&ROW(총괄내역서!D25),"총괄표 →") -> 총괄표 →
A32: 총 공 사 비 | D32: =총괄내역서!D26 -> 72899000 | E32: 100 | H32: =HYPERLINK("#"&총괄내역서!H2&"!D"&ROW(총괄내역서!D26),"총괄표 →") -> 총괄표 →
D33: =D30+D31 -> 25120000

Sheet 총괄내역서
A1: 총 괄 내 역 서 | H1: STmate | Q1: STmate
A2: 공사명 : 모현읍 왕산리 799-37번지 배수관로 이설공사 | H2: =MID(CELL("filename",$A$1),FIND("]",CELL("filename",$A$1))+1,LEN(CELL("filename",$A$1))) -> 총괄내역서
A3: 공 종 | B3: 명 칭 | C3: 규 격 | D3: 합 계 | E3: 노 무 비 | F3: 재 료 비 | G3: 경 비 | H3: _x0007_`JTYP|0_x0005_`ACTL|F_x0005_` | I3: 수정은 아래의 연두색 부분에 | Q3: =HYPERLINK("#'〓 목 차 〓'!B2","목차 →") -> 목차 →
A4: 가. | B4: 순공사비계 | D4: =설계내역서!G205 -> 29813755 | E4: =설계내역서!I205 -> 10038067 | F4: =설계내역서!K205 -> 16591866 | G4: =설계내역서!M205 -> 3183822 | Q4: =HYPERLINK("#"&설계내역서!O2&"!A"&ROW(설계내역서!A205),"내역 →") -> 내역 →
B5: 1. 간접노무비 | D5: =ROUNDDOWN(E4*M5/100,0) -> 1917270 | E5: ="직접노무비 x "&ROUND(M5,5)&"%" -> 직접노무비 x 19.1% | H5: _x0007_`DTP|201_x0005_`QTY1|1_x0005_`BDC|_x0005_`SRE|LA_x0005_` | I5: 0 | M5: 19.1 | N5: 0 | O5: 0 | P5: 0
B6: 2. 산재보험료 | D6: =ROUNDDOWN(((E4+D5))*M6/100,0) -> 425609 | E6: ="(직접노무비+간접노무비) x "&ROUND(M6,5)&"%" -> (직접노무비+간접노무비) x 3.56% | H6: _x0007_`DTP|301_x0005_`QTY1|1_x0005_`BDC|_x0005_`SRE|SA_x0005_` | I6: 0 | M6: 3.56 | N6: 0 | O6: 0 | P6: 0
B7: 3. 고용보험료 | D7: =ROUNDDOWN(((E4+D5))*M7/100,0) -> 120748 | E7: ="(직접노무비+간접노무비) x "&ROUND(M7,5)&"%" -> (직접노무비+간접노무비) x 1.01% | H7: _x0007_`DTP|302_x0005_`QTY1|1_x0005_`BDC|_x0005_`SRE|SA_x0005_` | I7: 0 | M7: 1.01 | N7: 0 | O7: 0 | P7: 0
B8: 4. 산업안전보건관리비 | D8: =ROUNDDOWN(((E4+(F4)))*M8/100,0) -> 838842 | E8: ="(직노+직재+간재) x "&ROUND(M8,5)&"% = "&TEXT(D8,"#,0")&"" -> (직노+직재+간재) x 3.15% = 838,842 | H8: _x0007_`DTP|306_x0005_`QTY1|1_x0005_`BDC|_x0005_`SRE|SA_x0005_` | I8: 0 | J8: =((E4+(F4))+(I24)/1.1) -> 36131751 | M8: 3.15 | N8: 0 | O8: 0 | P8: 0
B9: 5. 기타경비 | D9: =ROUNDDOWN(((((E4+D5)+(F4))))*M9/100,0) -> 1570096 | E9: ="(직접노무비+간접노무비+재료비) x "&ROUND(M9,5)&"%" -> (직접노무비+간접노무비+재료비) x 5.5% | H9: _x0007_`DTP|321_x0005_`QTY1|1_x0005_`BDC|_x0005_`SRE|SA_x0005_` | I9: 0 | M9: 5.5 | N9: 0 | O9: 0 | P9: 0
B10: 6. 환경보전비 | D10: =ROUNDDOWN((D4)*M10/100,0) -> 149068 | E10: ="(재료비 + 직접노무비 + 산출경비) x "&ROUND(M10,5)&"%" -> (재료비 + 직접노무비 + 산출경비) x 0.5% | H10: _x0007_`DTP|309_x0005_`QTY1|1_x0005_`BDC|_x0005_`SRE|SA_x0005_` | I10: 0 | M10: 0.5 | N10: 0 | O10: 0 | P10: 0
B11: 7. 건설기계대여금지급보증서수수료 | D11: =ROUNDDOWN((D4)*M11/100,0) -> 152050 | E11: ="(재료비 + 직접노무비 + 산출경비) x "&ROUND(M11,5)&"%" -> (재료비 + 직접노무비 + 산출경비) x 0.51% | H11: _x0007_`DTP|311_x0005_`QTY1|1_x0005_`BDC|_x0005_`SRE|SA_x0005_` | I11: 0 | M11: 0.51 | N11: 0 | O11: 0 | P11: 0
B12: 8. 석면피해구제분담금 | D12: =ROUNDDOWN(((E4+D5))*M12/100,0) -> 717 | E12: ="(직접노무비+간접노무비) x "&ROUND(M12,5)&"%" -> (직접노무비+간접노무비) x 0.006% | H12: _x0007_`DTP|322_x0005_`QTY1|1_x0005_`BDC|_x0005_`SRE|SA_x0005_` | I12: 0 | M12: 0.006 | N12: 0 | O12: 0 | P12: 0
B13: 9. 임금채권부담금 | D13: =ROUNDDOWN(((E4+D5))*M13/100,0) -> 10759 | E13: ="(직접노무비+간접노무비) x "&ROUND(M13,5)&"%" -> (직접노무비+간접노무비) x 0.09% | H13: _x0007_`DTP|323_x0005_`QTY1|1_x0005_`BDC|_x0005_`SRE|SA_x0005_` | I13: 0 | M13: 0.09 | N13: 0 | O13: 0 | P13: 0
B14: 10. 안전관리비 | D14: 1856940 | H14: _x0007_`DTP|361_x0005_`QTY1|1_x0005_`BDC|A101_x0005_`SRE|SA_x0005_`ADN|안전관리비_x0005_`ADB|_x0005_` | I14: 0 | M14: 0 | N14: 0 | O14: 0 | P14: 0
A15: 나. | B15: 소 계 | D15: =(D4+D5+D6+D7+D8+D9+D10+D11+D12+D13+D14) -> 36855854 | H15: _x0007_`DTP|400_x0005_`QTY1|1_x0005_`BDC|_x0005_`SRE|TA-F_x0005_` | I15: 0 | M15: 0 | N15: 0 | O15: 0 | P15: 0
B16: 11. 일반관리비 | D16: =ROUNDDOWN(((D15)+0)*M16/100,0) -> 2948468 | E16: ="(나.소 계) x "&ROUND(M16,5)&"%" -> (나.소 계) x 8% | H16: _x0007_`DTP|401_x0005_`QTY1|1_x0005_`BDC|_x0005_`SRE|TA_x0005_` | I16: 0 | M16: 8 | N16: 0 | O16: 0 | P16: 0
A17: 다. | B17: 소 계 | D17: =(D15+D16) -> 39804322 | H17: _x0007_`DTP|410_x0005_`QTY1|1_x0005_`BDC|_x0005_`SRE|TA-F_x0005_` | I17: 1 | J17: =D17 -> 39804322 | L17: =D17 -> 39804322 | M17: 0 | N17: 0 | O17: 0 | P17: 0
B18: 12. 이 윤 | D18: =ROUNDDOWN(((D17)-(F4))*M18/100,0)-I18-K18-20/1.1 -> 3417132.8 | E18: ="(다.소계 - 재료비) x "&ROUND(M18,5)&"% = "&TEXT(J18,"#,##0") -> (다.소계 - 재료비) x 14.72121% = 3,417,154 | H18: _x0007_`DTP|402_x0005_`QTY1|1_x0005_`BDC|_x0005_`SRE|TA_x0005_` | I18: =ROUND((J26-ROUNDDOWN(J26,-I17))/1.1,0) -> 3 | J18: =ROUNDDOWN(((J17)-(F4))*M18/100,0) -> 3417154 | K18: =ABS(L26-ROUNDDOWN(J26,-I17))*IF(L26>ROUNDDOWN(J26,-I17),1,-1) -> 0 | L18: =ROUNDDOWN(((L17)-(F4))*M18/100,0)-I18 -> 3417151 | M18: 14.72121 | N18: 0 | O18: 0 | P18: 0
B19: 13. 폐기물처리비및운반비 | D19: 620000 | H19: _x0007_`DTP|461_x0005_`QTY1|1_x0005_`BDC|A201_x0005_`SRE|_x0005_`ADN|폐기물처리비및운반비_x0005_`ADB|_x0005_` | I19: 0 | J19: =D19 -> 620000 | L19: =D19 -> 620000 | M19: 0 | N19: 0 | O19: 0 | P19: 0
B20: 14. 고재처리 | D20: -406000 | H20: _x0007_`DTP|462_x0005_`QTY1|1_x0005_`BDC|A202_x0005_`SRE|_x0005_`ADN|고재처리_x0005_`ADB|_x0005_` | I20: 0 | J20: =D20 -> -406000 | L20: =D20 -> -406000 | M20: 0 | N20: 0 | O20: 0 | P20: 0
A21: 라. | B21: 공급가액 | D21: =(D17+D18+D19+D20) -> 43435455 | H21: _x0007_`DTP|500_x0005_`QTY1|1_x0005_`BDC|_x0005_`SRE|TA-F_x0005_` | I21: 0 | J21: =(J17+J18+J19+J20) -> 43435476 | L21: =(L17+L18+L19+L20) -> 43435473 | M21: 0 | N21: 0 | O21: 0 | P21: 0
B22: 15. 부가가치세 | D22: =ROUNDDOWN((D21)*M22/100,0)+I22 -> 4343545 | E22: ="공급가액 x "&ROUND(M22,5)&"%" -> 공급가액 x 10% | H22: _x0007_`DTP|502_x0005_`QTY1|1_x0005_`BDC|_x0005_`SRE|TA_x0005_` | I22: 0 | J22: =ROUNDDOWN((J21)*M22/100,0)+I22 -> 4343547 | L22: =ROUNDDOWN((L21)*M22/100,0)+I22 -> 4343547 | M22: 10 | N22: 0 | O22: 0 | P22: 0
A23: 마. | B23: 도급공사비 | D23: =(D21+D22) -> 47779000 | H23: _x0007_`DTP|600_x0005_`QTY1|1_x0005_`BDC|_x0005_`SRE|TA-F_x0005_` | I23: 0 | J23: =(J21+J22) -> 47779023 | L23: =(L21+L22) -> 47779020 | M23: 0 | N23: 0 | O23: 1 | P23: 0
B24: 16. 관급자재대(도급자설치) | D24: =ROUNDUP(I24,0) -> 10452000 | H24: _x0007_`DTP|653_x0005_`QTY1|1_x0005_`BDC|_x0005_`SRE|TA-3_x0005_` | I24: 10452000 | J24: =ROUNDUP(I24,0) -> 10452000 | L24: =ROUNDUP(I24,0) -> 10452000 | M24: 0 | N24: 14668000 | O24: 0 | P24: 0
B25: 17. 관급자재대(관급자설치) | D25: =ROUNDUP(I25,0) -> 14668000 | H25: _x0007_`DTP|654_x0005_`QTY1|1_x0005_`BDC|_x0005_`SRE|TA-3_x0005_` | I25: 14668000 | J25: =ROUNDUP(I25,0) -> 14668000 | L25: =ROUNDUP(I25,0) -> 14668000 | M25: 0 | N25: 0 | O25: 0 | P25: 0
A26: 바. | B26: 총공사비 | D26: =(D23+D24+D25) -> 72899000 | H26: _x0007_`DTP|700_x0005_`QTY1|1_x0005_`BDC|_x0005_`SRE|TA-F_x0005_` | I26: 0 | J26: =(J23+J24+J25) -> 72899023 | L26: =(L23+L24+L25) -> 72899020 | M26: 0 | N26: 0 | O26: 1 | P26: 0

Sheet 설계내역서
A1: 설 계 내 역 서 | O1: STmate | AC1: STmate
A2: 공사명 : 모현읍 왕산리 799-37번지 배수관로 이설공사 | O2: =MID(CELL("filename",$A$1),FIND("]",CELL("filename",$A$1))+1,LEN(CELL("filename",$A$1))) -> 설계내역서
A3: 공 종 | B3: 명 칭 | C3: 규 격 | D3: 수 량 | E3: 단위 | F3: 합 계 | H3: 노 무 비 | J3: 재 료 비 | L3: 경 비 | N3: 비 고
F4: 단 가 | G4: 금 액 | H4: 단 가 | I4: 금 액 | J4: 단 가 | K4: 금 액 | L4: 단 가 | M4: 금 액 | AC4: =HYPERLINK("#'〓 목 차 〓'!B2","목차 →") -> 목차 →
A5: 1. | B5: 토공 | F5: 0 | G5: =SUMIF(Q6:Q19,P5,G6:G19) -> 3617776 | H5: 0 | I5: =SUMIF(Q6:Q19,P5,I6:I19) -> 2936787 | J5: 0 | K5: =SUMIF(Q6:Q19,P5,K6:K19) -> 193387 | L5: 0 | M5: =SUMIF(Q6:Q19,P5,M6:M19) -> 487602 | O5: ="_x0007_`COD|E3_x0005_`QTY1|1_x0005_`EXI|0_x0005_`ITT|0_x0005_`END|"&ROW(M20)&"_x0005_`" -> _x0007_`COD|E3_x0005_`QTY1|1_x0005_`EXI|0_x0005_`ITT|0_x0005_`END|20_x0005_` | P5: E3_1 | Q5: E10_1
A6: 1.1 | B6: 기존구조물철거 | F6: 0 | G6: =SUMIF(Q7:Q13,P6,G7:G13) -> 819641 | H6: 0 | I6: =SUMIF(Q7:Q13,P6,I7:I13) -> 714931 | J6: 0 | K6: =SUMIF(Q7:Q13,P6,K7:K13) -> 43075 | L6: 0 | M6: =SUMIF(Q7:Q13,P6,M7:M13) -> 61635 | O6: ="_x0007_`COD|E2_x0005_`QTY1|1_x0005_`EXI|0_x0005_`ITT|0_x0005_`END|"&ROW(M14)&"_x0005_`" -> _x0007_`COD|E2_x0005_`QTY1|1_x0005_`EXI|0_x0005_`ITT|0_x0005_`END|14_x0005_` | P6: E2_1 | Q6: E3_1
B7: 포장절단 | C7: 아스콘포장 | D7: 18 | E7: m | F7: =J7+H7+L7 -> 2661 | G7: =K7+I7+M7 -> 47898 | H7: =단가산출근거목록표!F4 -> 1376 | I7: =ROUNDDOWN(H7*D7,0) -> 24768 | J7: =단가산출근거목록표!G4 -> 216 | K7: =ROUNDDOWN(J7*D7,0) -> 3888 | L7: =단가산출근거목록표!H4 -> 1069 | M7: =ROUNDDOWN(L7*D7,0) -> 19242 | N7: 산근 1호표 | O7: _x0007_`COD|D01375_x0005_`QTY1|1_x0005_`EXI|0_x0005_`IPR|0_x0005_`BLA|F_x0005_` | P7: D01375_1 | Q7: E2_1 | AC7: =HYPERLINK("#"&단가산출근거목록표!J2&"!A"&ROW(단가산출근거목록표!A4),"산근1 →") -> 산근1 →
B8: 아스팔트포장 깨기 | C8: (기계0.4㎥, 대형브레이카) | D8: 2.7 | E8: ㎥ | F8: =J8+H8+L8 -> 18065 | G8: =K8+I8+M8 -> 48774 | H8: =단가산출근거목록표!F5 -> 11670 | I8: =ROUNDDOWN(H8*D8,0) -> 31509 | J8: =단가산출근거목록표!G5 -> 3058 | K8: =ROUNDDOWN(J8*D8,0) -> 8256 | L8: =단가산출근거목록표!H5 -> 3337 | M8: =ROUNDDOWN(L8*D8,0) -> 9009 | N8: 산근 2호표 | O8: _x0007_`COD|D00265_x0005_`QTY1|1_x0005_`EXI|0_x0005_`IPR|0_x0005_`BLA|F_x0005_` | P8: D00265_1 | Q8: E2_1 | AC8: =HYPERLINK("#"&단가산출근거목록표!J2&"!A"&ROW(단가산출근거목록표!A5),"산근2 →") -> 산근2 →
B9: 무근콘크리트깨기 | C9: (T=30cm미만,굴착기0.4㎥) | D9: 2.5 | E9: ㎥ | F9: =J9+H9+L9 -> 37775 | G9: =K9+I9+M9 -> 94437 | H9: =단가산출근거목록표!F6 -> 24402 | I9: =ROUNDDOWN(H9*D9,0) -> 61005 | J9: =단가산출근거목록표!G6 -> 6396 | K9: =ROUNDDOWN(J9*D9,0) -> 15990 | L9: =단가산출근거목록표!H6 -> 6977 | M9: =ROUNDDOWN(L9*D9,0) -> 17442 | N9: 산근 3호표 | O9: _x0007_`COD|D02950_x0005_`QTY1|1_x0005_`EXI|0_x0005_`IPR|0_x0005_`BLA|F_x0005_` | P9: D02950_1 | Q9: E2_1 | AC9: =HYPERLINK("#"&단가산출근거목록표!J2&"!A"&ROW(단가산출근거목록표!A6),"산근3 →") -> 산근3 →
B10: 보도블럭철거(점자블럭)B-TYPE | C10: 차도인접, 주택가도로 차도인접, 주택가도로 | D10: 3.4 | E10: ㎡ | F10: =J10+H10+L10 -> 13611 | G10: =K10+I10+M10 -> 46276 | H10: =일위대가목록표!F4 -> 11304 | I10: =ROUNDDOWN(H10*D10,0) -> 38433 | J10: =일위대가목록표!G4 -> 1117 | K10: =ROUNDDOWN(J10*D10,0) -> 3797 | L10: =일위대가목록표!H4 -> 1190 | M10: =ROUNDDOWN(L10*D10,0) -> 4046 | N10: 대가 1호표 | O10: _x0007_`COD|B02631_x0005_`QTY1|1_x0005_`EXI|0_x0005_`IPR|0_x0005_`BLA|F_x0005_` | P10: B02631_1 | Q10: E2_1 | AC10: =HYPERLINK("#"&일위대가목록표!J2&"!A"&ROW(일위대가목록표!A4),"대가1 →") -> 대가1 →
B11: 보차도경계석 철거(B-TYPE) | C11: 200×250×1000- 400m/일 | D11: 8 | E11: M | F11: =J11+H11+L11 -> 4504 | G11: =K11+I11+M11 -> 36032 | H11: =일위대가목록표!F5 -> 3736 | I11: =ROUNDDOWN(H11*D11,0) -> 29888 | J11: =일위대가목록표!G5 -> 361 | K11: =ROUNDDOWN(J11*D11,0) -> 2888 | L11: =일위대가목록표!H5 -> 407 | M11: =ROUNDDOWN(L11*D11,0) -> 3256 | N11: 대가 2호표 | O11: _x0007_`COD|B04729_x0005_`QTY1|1_x0005_`EXI|0_x0005_`IPR|0_x0005_`BLA|F_x0005_` | P11: B04729_1 | Q11: E2_1 | AC11: =HYPERLINK("#"&일위대가목록표!J2&"!A"&ROW(일위대가목록표!A5),"대가2 →") -> 대가2 →
B12: 도로경계석 철거 | C12: 150×150×1000, 화강석-설치품의50%적용 | D12: 8 | E12: M | F12: =J12+H12+L12 -> 15354 | G12: =K12+I12+M12 -> 122832 | H12: =일위대가목록표!F6 -> 15354 | I12: =ROUNDDOWN(H12*D12,0) -> 122832 | J12: =일위대가목록표!G6 -> 0 | K12: =ROUNDDOWN(J12*D12,0) -> 0 | L12: =일위대가목록표!H6 -> 0 | M12: =ROUNDDOWN(L12*D12,0) -> 0 | N12: 대가 3호표 | O12: _x0007_`COD|B04727_x0005_`QTY1|1_x0005_`EXI|0_x0005_`IPR|0_x0005_`BLA|F_x0005_` | P12: B04727_1 | Q12: E2_1 | AC12: =HYPERLINK("#"&일위대가목록표!J2&"!A"&ROW(일위대가목록표!A6),"대가3 →") -> 대가3 →
B13: 조경석 헐기 | C13: (정원석 쌓기 및 놓기 30% 적용) | D13: 16 | E13: ton | F13: =J13+H13+L13 -> 26462 | G13: =K13+I13+M13 -> 423392 | H13: =일위대가목록표!F7 -> 25406 | I13: =ROUNDDOWN(H13*D13,0) -> 406496 | J13: =일위대가목록표!G7 -> 516 | K13: =ROUNDDOWN(J13*D13,0) -> 8256 | L13: =일위대가목록표!H7 -> 540 | M13: =ROUNDDOWN(L13*D13,0) -> 8640 | N13: 대가 4호표 | O13: _x0007_`COD|B06812_x0005_`QTY1|1_x0005_`EXI|0_x0005_`IPR|0_x0005_`BLA|F_x0005_` | P13: B06812_1 | Q13: E2_1 | AC13: =HYPERLINK("#"&일위대가목록표!J2&"!A"&ROW(일위대가목록표!A7),"대가4 →") -> 대가4 →
A14: 1.2 | B14: 관로토공 | F14: 0 | G14: =SUMIF(Q15:Q19,P14,G15:G19) -> 2798135 | H14: 0 | I14: =SUMIF(Q15:Q19,P14,I15:I19) -> 2221856 | J14: 0 | K14: =SUMIF(Q15:Q19,P14,K15:K19) -> 150312 | L14: 0 | M14: =SUMIF(Q15:Q19,P14,M15:M19) -> 425967 | O14: ="_x0007_`COD|E2_x0005_`QTY1|1_x0005_`EXI|0_x0005_`ITT|0_x0005_`END|"&ROW(M20)&"_x0005_`" -> _x0007_`COD|E2_x0005_`QTY1|1_x0005_`EXI|0_x0005_`ITT|0_x0005_`END|20_x0005_` | P14: E2_1 | Q14: E3_1
B15: 터파기(배수관)0.4㎥ | C15: (굴착기0.4㎥ 기계90%+인력10%) | D15: 120 | E15: ㎥ | F15: =J15+H15+L15 -> 16712 | G15: =K15+I15+M15 -> 2005440 | H15: =단가산출근거목록표!F7 -> 15861 | I15: =ROUNDDOWN(H15*D15,0) -> 1903320 | J15: =단가산출근거목록표!G7 -> 471 | K15: =ROUNDDOWN(J15*D15,0) -> 56520 | L15: =단가산출근거목록표!H7 -> 380 | M15: =ROUNDDOWN(L15*D15,0) -> 45600 | N15: 산근 4호표 | O15: _x0007_`COD|D02305_x0005_`QTY1|1_x0005_`EXI|0_x0005_`IPR|0_x0005_`BLA|F_x0005_` | P15: D02305_1 | Q15: E2_1 | AC15: =HYPERLINK("#"&단가산출근거목록표!J2&"!A"&ROW(단가산출근거목록표!A7),"산근4 →") -> 산근4 →
B16: 되메우기및다짐(배수관) | C16: 백호우0.4㎥(진돌롤러) | D16: 92 | E16: ㎥ | F16: =J16+H16+L16 -> 4262 | G16: =K16+I16+M16 -> 392104 | H16: =단가산출근거목록표!F8 -> 2818 | I16: =ROUNDDOWN(H16*D16,0) -> 259256 | J16: =단가산출근거목록표!G8 -> 900 | K16: =ROUNDDOWN(J16*D16,0) -> 82800 | L16: =단가산출근거목록표!H8 -> 544 | M16: =ROUNDDOWN(L16*D16,0) -> 50048 | N16: 산근 5호표 | O16: _x0007_`COD|D02638_x0005_`QTY1|1_x0005_`EXI|0_x0005_`IPR|0_x0005_`BLA|F_x0005_` | P16: D02638_1 | Q16: E2_1 | AC16: =HYPERLINK("#"&단가산출근거목록표!J2&"!A"&ROW(단가산출근거목록표!A8),"산근5 →") -> 산근5 →
B17: 모래부설(배수관) | C17: (굴착기0.4+플레이트콤펙터 1.5ton) | D17: 8.1 | E17: ㎥ | F17: =J17+H17+L17 -> 5664 | G17: =K17+I17+M17 -> 45876 | H17: =단가산출근거목록표!F9 -> 4928 | I17: =ROUNDDOWN(H17*D17,0) -> 39916 | J17: =단가산출근거목록표!G9 -> 477 | K17: =ROUNDDOWN(J17*D17,0) -> 3863 | L17: =단가산출근거목록표!H9 -> 259 | M17: =ROUNDDOWN(L17*D17,0) -> 2097 | N17: 산근 6호표 | O17: _x0007_`COD|D03713_x0005_`QTY1|1_x0005_`EXI|0_x0005_`IPR|0_x0005_`BLA|F_x0005_` | P17: D03713_1 | Q17: E2_1 | AC17: =HYPERLINK("#"&단가산출근거목록표!J2&"!A"&ROW(단가산출근거목록표!A9),"산근6 →") -> 산근6 →
B18: 폐기물적사 | C18: 굴착기 0.4㎥ | D18: 5.2 | E18: ㎥ | F18: =J18+H18+L18 -> 6200 | G18: =K18+I18+M18 -> 32239 | H18: =단가산출근거목록표!F10 -> 3724 | I18: =ROUNDDOWN(H18*D18,0) -> 19364 | J18: =단가산출근거목록표!G10 -> 1371 | K18: =ROUNDDOWN(J18*D18,0) -> 7129 | L18: =단가산출근거목록표!H10 -> 1105 | M18: =ROUNDDOWN(L18*D18,0) -> 5746 | N18: 산근 7호표 | O18: _x0007_`COD|D00785_x0005_`QTY1|1_x0005_`EXI|0_x0005_`IPR|0_x0005_`BLA|F_x0005_` | P18: D00785_1 | Q18: E2_1 | AC18: =HYPERLINK("#"&단가산출근거목록표!J2&"!A"&ROW(단가산출근거목록표!A10),"산근7 →") -> 산근7 →
B19: 사토:토사[L=10.0km]. | C19: (굴착기0.4㎥+덤프15ton) | D19: 28 | E19: ㎥ | F19: =J19+H19+L19 -> 11517 | G19: =K19+I19+M19 -> 322476 | H19: =단가산출근거목록표!F11 -> 0 | I19: =ROUNDDOWN(H19*D19,0) -> 0 | J19: =단가산출근거목록표!G11 -> 0 | K19: =ROUNDDOWN(J19*D19,0) -> 0 | L19: =단가산출근거목록표!H11 -> 11517 | M19: =ROUNDDOWN(L19*D19,0) -> 322476 | N19: 산근 8호표 | O19: _x0007_`COD|D04064_x0005_`QTY1|1_x0005_`EXI|0_x0005_`IPR|0_x0005_`BLA|F_x0005_` | P19: D04064_1 | Q19: E2_1 | AC19: =HYPERLINK("#"&단가산출근거목록표!J2&"!A"&ROW(단가산출근거목록표!A11),"산근8 →") -> 산근8 →
A20: 2. | B20: 상수도공 | F20: 0 | G20: =SUMIF(Q21:Q32,P20,G21:G32) -> 5061687 | H20: 0 | I20: =SUMIF(Q21:Q32,P20,I21:I32) -> 3938213 | J20: 0 | K20: =SUMIF(Q21:Q32,P20,K21:K32) -> 503535 | L20: 0 | M20: =SUMIF(Q21:Q32,P20,M21:M32) -> 619939 | O20: ="_x0007_`COD|E3_x0005_`QTY1|1_x0005_`EXI|0_x0005_`ITT|0_x0005_`END|"&ROW(M33)&"_x0005_`" -> _x0007_`COD|E3_x0005_`QTY1|1_x0005_`EXI|0_x0005_`ITT|0_x0005_`END|33_x0005_` | P20: E3_1 | Q20: E10_1
A21: 2.1 | B21: 관로공) | F21: 0 | G21: =SUMIF(Q22:Q32,P21,G22:G32) -> 5061687 | H21: 0 | I21: =SUMIF(Q22:Q32,P21,I22:I32) -> 3938213 | J21: 0 | K21: =SUMIF(Q22:Q32,P21,K22:K32) -> 503535 | L21: 0 | M21: =SUMIF(Q22:Q32,P21,M22:M32) -> 619939 | O21: ="_x0007_`COD|E1_x0005_`QTY1|1_x0005_`EXI|0_x0005_`ITT|0_x0005_`END|"&ROW(M33)&"_x0005_`" -> _x0007_`COD|E1_x0005_`QTY1|1_x0005_`EXI|0_x0005_`ITT|0_x0005_`END|33_x0005_` | P21: E1_1 | Q21: E3_1
B22: 주철관 접합 및 부설 | C22: (기계:D250㎜) | D22: 6 | E22: 본 | F22: =J22+H22+L22 -> 149157 | G22: =K22+I22+M22 -> 894942 | H22: =일위대가목록표!F8 -> 109545 | I22: =ROUNDDOWN(H22*D22,0) -> 657270 | J22: =일위대가목록표!G8 -> 17788 | K22: =ROUNDDOWN(J22*D22,0) -> 106728 | L22: =일위대가목록표!H8 -> 21824 | M22: =ROUNDDOWN(L22*D22,0) -> 130944 | N22: 대가 5호표 | O22: _x0007_`COD|B00196_x0005_`QTY1|1_x0005_`EXI|0_x0005_`IPR|0_x0005_`BLA|F_x0005_` | P22: B00196_1 | Q22: E1_1 | AC22: =HYPERLINK("#"&일위대가목록표!J2&"!A"&ROW(일위대가목록표!A8),"대가5 →") -> 대가5 →
B23: 주철이형관 접합 및 부설 | C23: (기계:D250㎜), 직관품 적용 | D23: 2 | E23: 개소 | F23: =J23+H23+L23 -> 74578 | G23: =K23+I23+M23 -> 149156 | H23: =일위대가목록표!F9 -> 54772 | I23: =ROUNDDOWN(H23*D23,0) -> 109544 | J23: =일위대가목록표!G9 -> 8894 | K23: =ROUNDDOWN(J23*D23,0) -> 17788 | L23: =일위대가목록표!H9 -> 10912 | M23: =ROUNDDOWN(L23*D23,0) -> 21824 | N23: 대가 6호표 | O23: _x0007_`COD|B06587_x0005_`QTY1|1_x0005_`EXI|0_x0005_`IPR|0_x0005_`BLA|F_x0005_` | P23: B06587_1 | Q23: E1_1 | AC23: =HYPERLINK("#"&일위대가목록표!J2&"!A"&ROW(일위대가목록표!A9),"대가6 →") -> 대가6 →
B24: 주철 이형관 접합 | C24: (인력:D250㎜) | D24: 2 | E24: 개소 | F24: =J24+H24+L24 -> 44746 | G24: =K24+I24+M24 -> 89492 | H24: =일위대가목록표!F10 -> 32863 | I24: =ROUNDDOWN(H24*D24,0) -> 65726 | J24: =일위대가목록표!G10 -> 5336 | K24: =ROUNDDOWN(J24*D24,0) -> 10672 | L24: =일위대가목록표!H10 -> 6547 | M24: =ROUNDDOWN(L24*D24,0) -> 13094 | N24: 대가 7호표 | O24: _x0007_`COD|B02873_x0005_`QTY1|1_x0005_`EXI|0_x0005_`IPR|0_x0005_`BLA|F_x0005_` | P24: B02873_1 | Q24: E1_1 | AC24: =HYPERLINK("#"&일위대가목록표!J2&"!A"&ROW(일위대가목록표!A10),"대가7 →") -> 대가7 →
B25: 이탈방지압륜 이형관 접합 및 부설 | C25: (D250mm), 직관품의 50% 할증 30% | D25: 18 | E25: 개소 | F25: =J25+H25+L25 -> 96952 | G25: =K25+I25+M25 -> 1745136 | H25: =일위대가목록표!F11 -> 71204 | I25: =ROUNDDOWN(H25*D25,0) -> 1281672 | J25: =일위대가목록표!G11 -> 11562 | K25: =ROUNDDOWN(J25*D25,0) -> 208116 | L25: =일위대가목록표!H11 -> 14186 | M25: =ROUNDDOWN(L25*D25,0) -> 255348 | N25: 대가 8호표 | O25: _x0007_`COD|B01295_x0005_`QTY1|1_x0005_`EXI|0_x0005_`IPR|0_x0005_`BLA|F_x0005_` | P25: B01295_1 | Q25: E1_1 | AC25: =HYPERLINK("#"&일위대가목록표!J2&"!A"&ROW(일위대가목록표!A11),"대가8 →") -> 대가8 →
B26: 이탈방지압륜접합 | C26: (D250mm)이탈방지압륜 접합 및 부설품의 60% 적용 | D26: 7 | E26: 개소 | F26: =J26+H26+L26 -> 58170 | G26: =K26+I26+M26 -> 407190 | H26: =일위대가목록표!F12 -> 42722 | I26: =ROUNDDOWN(H26*D26,0) -> 299054 | J26: =일위대가목록표!G12 -> 6937 | K26: =ROUNDDOWN(J26*D26,0) -> 48559 | L26: =일위대가목록표!H12 -> 8511 | M26: =ROUNDDOWN(L26*D26,0) -> 59577 | N26: 대가 9호표 | O26: _x0007_`COD|B02633_x0005_`QTY1|1_x0005_`EXI|0_x0005_`IPR|0_x0005_`BLA|F_x0005_` | P26: B02633_1 | Q26: E1_1 | AC26: =HYPERLINK("#"&일위대가목록표!J2&"!A"&ROW(일위대가목록표!A12),"대가9 →") -> 대가9 →
B27: 주철관절단 | C27: (D250㎜) | D27: 11 | E27: 개소 | F27: =J27+H27+L27 -> 38599 | G27: =K27+I27+M27 -> 424589 | H27: =일위대가목록표!F13 -> 36761 | I27: =ROUNDDOWN(H27*D27,0) -> 404371 | J27: =일위대가목록표!G13 -> 0 | K27: =ROUNDDOWN(J27*D27,0) -> 0 | L27: =일위대가목록표!H13 -> 1838 | M27: =ROUNDDOWN(L27*D27,0) -> 20218 | N27: 대가 10호표 | O27: _x0007_`COD|B00207_x0005_`QTY1|1_x0005_`EXI|0_x0005_`IPR|0_x0005_`BLA|F_x0005_` | P27: B00207_1 | Q27: E1_1 | AC27: =HYPERLINK("#"&일위대가목록표!J2&"!A"&ROW(일위대가목록표!A13),"대가10 →") -> 대가10 →
B28: 제수밸브부설및접합(게이트) | C28: (D250㎜) 주철제 | D28: 2 | E28: 개소 | F28: =J28+H28+L28 -> 124392 | G28: =K28+I28+M28 -> 248784 | H28: =일위대가목록표!F14 -> 107420 | I28: =ROUNDDOWN(H28*D28,0) -> 214840 | J28: =일위대가목록표!G14 -> 7376 | K28: =ROUNDDOWN(J28*D28,0) -> 14752 | L28: =일위대가목록표!H14 -> 9596 | M28: =ROUNDDOWN(L28*D28,0) -> 19192 | N28: 대가 11호표 | O28: _x0007_`COD|B00905_x0005_`QTY1|1_x0005_`EXI|0_x0005_`IPR|0_x0005_`BLA|F_x0005_` | P28: B00905_1 | Q28: E1_1 | AC28: =HYPERLINK("#"&일위대가목록표!J2&"!A"&ROW(일위대가목록표!A14),"대가11 →") -> 대가11 →
B29: 부단수할정자관부설및접합 | C29: D250,본관기준 | D29: 2 | E29: 개소 | F29: =J29+H29+L29 -> 83544 | G29: =K29+I29+M29 -> 167088 | H29: =일위대가목록표!F15 -> 78592 | I29: =ROUNDDOWN(H29*D29,0) -> 157184 | J29: =일위대가목록표!G15 -> 1761 | K29: =ROUNDDOWN(J29*D29,0) -> 3522 | L29: =일위대가목록표!H15 -> 3191 | M29: =ROUNDDOWN(L29*D29,0) -> 6382 | N29: 대가 12호표 | O29: _x0007_`COD|B03108_x0005_`QTY1|1_x0005_`EXI|0_x0005_`IPR|0_x0005_`BLA|F_x0005_` | P29: B03108_1 | Q29: E1_1 | AC29: =HYPERLINK("#"&일위대가목록표!J2&"!A"&ROW(일위대가목록표!A15),"대가12 →") -> 대가12 →
B30: 부단수천공분기점분기 | C30: D250,분기관(지관)기준 | D30: 2 | E30: 개소 | F30: =J30+H30+L30 -> 295082 | G30: =K30+I30+M30 -> 590164 | H30: =일위대가목록표!F16 -> 249471 | I30: =ROUNDDOWN(H30*D30,0) -> 498942 | J30: =일위대가목록표!G16 -> 16623 | K30: =ROUNDDOWN(J30*D30,0) -> 33246 | L30: =일위대가목록표!H16 -> 28988 | M30: =ROUNDDOWN(L30*D30,0) -> 57976 | N30: 대가 13호표 | O30: _x0007_`COD|B03086_x0005_`QTY1|1_x0005_`EXI|0_x0005_`IPR|0_x0005_`BLA|F_x0005_` | P30: B03086_1 | Q30: E1_1 | AC30: =HYPERLINK("#"&일위대가목록표!J2&"!A"&ROW(일위대가목록표!A16),"대가13 →") -> 대가13 →
B31: 플랜지접합 | C31: (D250㎜) | D31: 2 | E31: 개소 | F31: =J31+H31+L31 -> 74791 | G31: =K31+I31+M31 -> 149582 | H31: =일위대가목록표!F17 -> 48805 | I31: =ROUNDDOWN(H31*D31,0) -> 97610 | J31: =일위대가목록표!G17 -> 25010 | K31: =ROUNDDOWN(J31*D31,0) -> 50020 | L31: =일위대가목록표!H17 -> 976 | M31: =ROUNDDOWN(L31*D31,0) -> 1952 | N31: 대가 14호표 | O31: _x0007_`COD|B00790_x0005_`QTY1|1_x0005_`EXI|0_x0005_`IPR|0_x0005_`BLA|F_x0005_` | P31: B00790_1 | Q31: E1_1 | AC31: =HYPERLINK("#"&일위대가목록표!J2&"!A"&ROW(일위대가목록표!A17),"대가14 →") -> 대가14 →
B32: 주철관 철거 | C32: D250mm(기존관 철거) | D32: 4 | E32: 본 | F32: =J32+H32+L32 -> 48891 | G32: =K32+I32+M32 -> 195564 | H32: =일위대가목록표!F18 -> 38000 | I32: =ROUNDDOWN(H32*D32,0) -> 152000 | J32: =일위대가목록표!G18 -> 2533 | K32: =ROUNDDOWN(J32*D32,0) -> 10132 | L32: =일위대가목록표!H18 -> 8358 | M32: =ROUNDDOWN(L32*D32,0) -> 33432 | N32: 대가 15호표 | O32: _x0007_`COD|B05653_x0005_`QTY1|1_x0005_`EXI|0_x0005_`IPR|0_x0005_`BLA|F_x0005_` | P32: B05653_1 | Q32: E1_1 | AC32: =HYPERLINK("#"&일위대가목록표!J2&"!A"&ROW(일위대가목록표!A18),"대가15 →") -> 대가15 →
A33: 3. | B33: 구조물공 | F33: 0 | G33: =SUMIF(Q34:Q35,P33,G34:G35) -> 726520 | H33: 0 | I33: =SUMIF(Q34:Q35,P33,I34:I35) -> 558184 | J33: 0 | K33: =SUMIF(Q34:Q35,P33,K34:K35) -> 32406 | L33: 0 | M33: =SUMIF(Q34:Q35,P33,M34:M35) -> 135930 | O33: ="_x0007_`COD|E3_x0005_`QTY1|1_x0005_`EXI|0_x0005_`ITT|0_x0005_`END|"&ROW(M36)&"_x0005_`" -> _x0007_`COD|E3_x0005_`QTY1|1_x0005_`EXI|0_x0005_`ITT|0_x0005_`END|36_x0005_` | P33: E3_1 | Q33: E10_1
B34: 제수변실 설치 | C34: 1.2x1.2x1.5(개선품) | D34: 2 | E34: 개소 | F34: =J34+H34+L34 -> 335510 | G34: =K34+I34+M34 -> 671020 | H34: =단가산출근거목록표!F12 -> 251342 | I34: =ROUNDDOWN(H34*D34,0) -> 502684 | J34: =단가산출근거목록표!G12 -> 16203 | K34: =ROUNDDOWN(J34*D34,0) -> 32406 | L34: =단가산출근거목록표!H12 -> 67965 | M34: =ROUNDDOWN(L34*D34,0) -> 135930 | N34: 산근 9호표 | O34: _x0007_`COD|D03180_x0005_`QTY1|1_x0005_`EXI|0_x0005_`IPR|0_x0005_`BLA|F_x0005_` | P34: D03180_1 | Q34: E3_1 | AC34: =HYPERLINK("#"&단가산출근거목록표!J2&"!A"&ROW(단가산출근거목록표!A12),"산근9 →") -> 산근9 →
B35: 맨홀뚜껑설치(자재비별도) | C35: (상수도용:φ648mm)DKC | D35: 2 | E35: 조 | F35: =J35+H35+L35 -> 27750 | G35: =K35+I35+M35 -> 55500 | H35: =단가산출근거목록표!F13 -> 27750 | I35: =ROUNDDOWN(H35*D35,0) -> 55500 | J35: =단가산출근거목록표!G13 -> 0 | K35: =ROUNDDOWN(J35*D35,0) -> 0 | L35: =단가산출근거목록표!H13 -> 0 | M35: =ROUNDDOWN(L35*D35,0) -> 0 | N35: 산근 10호표 | O35: _x0007_`COD|D02908_x0005_`QTY1|1_x0005_`EXI|0_x0005_`IPR|0_x0005_`BLA|F_x0005_` | P35: D02908_1 | Q35: E3_1 | AC35: =HYPERLINK("#"&단가산출근거목록표!J2&"!A"&ROW(단가산출근거목록표!A13),"산근10 →") -> 산근10 →
A36: 4. | B36: 포장공 | F36: 0 | G36: =SUMIF(Q37:Q53,P36,G37:G53) -> 1474145 | H36: 0 | I36: =SUMIF(Q37:Q53,P36,I37:I53) -> 1234640 | J36: 0 | K36: =SUMIF(Q37:Q53,P36,K37:K53) -> 129150 | L36: 0 | M36: =SUMIF(Q37:Q53,P36,M37:M53) -> 110355 | O36: ="_x0007_`COD|E3_x0005_`QTY1|1_x0005_`EXI|0_x0005_`ITT|0_x0005_`END|"&ROW(M54)&"_x0005_`" -> _x0007_`COD|E3_x0005_`QTY1|1_x0005_`EXI|0_x0005_`ITT|0_x0005_`END|54_x0005_` | P36: E3_1 | Q36: E10_1
A37: 4.1 | B37: 아스콘포장 | F37: 0 | G37: =SUMIF(Q38:Q40,P37,G38:G40) -> 215032 | H37: 0 | I37: =SUMIF(Q38:Q40,P37,I38:I40) -> 138776 | J37: 0 | K37: =SUMIF(Q38:Q40,P37,K38:K40) -> 38947 | L37: 0 | M37: =SUMIF(Q38:Q40,P37,M38:M40) -> 37309 | O37: ="_x0007_`COD|E1_x0005_`QTY1|1_x0005_`EXI|0_x0005_`ITT|0_x0005_`END|"&ROW(M41)&"_x0005_`" -> _x0007_`COD|E1_x0005_`QTY1|1_x0005_`EXI|0_x0005_`ITT|0_x0005_`END|41_x0005_` | P37: E1_1 | Q37: E3_1
B38: 프라임코팅(RSC-3:75ℓ/a) | D38: 17 | E38: ㎡ | F38: =J38+H38+L38 -> 81 | G38: =K38+I38+M38 -> 1377 | H38: =단가산출근거목록표!F14 -> 79 | I38: =ROUNDDOWN(H38*D38,0) -> 1343 | J38: =단가산출근거목록표!G14 -> 2 | K38: =ROUNDDOWN(J38*D38,0) -> 34 | L38: =단가산출근거목록표!H14 -> 0 | M38: =ROUNDDOWN(L38*D38,0) -> 0 | N38: 산근 11호표 | O38: _x0007_`COD|D01361_x0005_`QTY1|1_x0005_`EXI|0_x0005_`IPR|0_x0005_`BLA|F_x0005_` | P38: D01361_1 | Q38: E1_1 | AC38: =HYPERLINK("#"&단가산출근거목록표!J2&"!A"&ROW(단가산출근거목록표!A14),"산근11 →") -> 산근11 →
B39: 기층포설및다짐 | C39: 인력식소규모포설(BB층) | D39: 17 | E39: ㎡ | F39: =J39+H39+L39 -> 6290 | G39: =K39+I39+M39 -> 106930 | H39: =단가산출근거목록표!F15 -> 5249 | I39: =ROUNDDOWN(H39*D39,0) -> 89233 | J39: =단가산출근거목록표!G15 -> 664 | K39: =ROUNDDOWN(J39*D39,0) -> 11288 | L39: =단가산출근거목록표!H15 -> 377 | M39: =ROUNDDOWN(L39*D39,0) -> 6409 | N39: 산근 12호표 | O39: _x0007_`COD|D01503_x0005_`QTY1|1_x0005_`EXI|0_x0005_`IPR|0_x0005_`BLA|F_x0005_` | P39: D01503_1 | Q39: E1_1 | AC39: =HYPERLINK("#"&단가산출근거목록표!J2&"!A"&ROW(단가산출근거목록표!A15),"산근12 →") -> 산근12 →
B40: 절삭후아스팔트덧씌우기 | C40: t=5cm B=2.0m(B-TYPE) | D40: 25 | E40: ㎡ | F40: =J40+H40+L40 -> 4269 | G40: =K40+I40+M40 -> 106725 | H40: =단가산출근거목록표!F16 -> 1928 | I40: =ROUNDDOWN(H40*D40,0) -> 48200 | J40: =단가산출근거목록표!G16 -> 1105 | K40: =ROUNDDOWN(J40*D40,0) -> 27625 | L40: =단가산출근거목록표!H16 -> 1236 | M40: =ROUNDDOWN(L40*D40,0) -> 30900 | N40: 산근 13호표 | O40: _x0007_`COD|D03372_x0005_`QTY1|1_x0005_`EXI|0_x0005_`IPR|0_x0005_`BLA|F_x0005_` | P40: D03372_1 | Q40: E1_1 | AC40: =HYPERLINK("#"&단가산출근거목록표!J2&"!A"&ROW(단가산출근거목록표!A16),"산근13 →") -> 산근13 →
...

Sheet 일위대가목록표
A1: 일위대가 목록표 | J1: STmate | K1: STmate
A2: 공사명 : 모현읍 왕산리 799-37번지 배수관로 이설공사 | J2: =MID(CELL("filename",$A$1),FIND("]",CELL("filename",$A$1))+1,LEN(CELL("filename",$A$1))) -> 일위대가목록표
A3: 호표 | B3: 명 칭 | C3: 규 격 | D3: 단위 | E3: 합 계 | F3: 노 무 비 | G3: 재 료 비 | H3: 경 비 | I3: 비 고 | K3: =HYPERLINK("#'〓 목 차 〓'!B2","목차 →") -> 목차 →
A4: 제 1호표 | B4: 보도블럭철거(점자블럭)B-TYPE | C4: 차도인접, 주택가도로 차도인접, 주택가도로 | D4: ㎡ | E4: =일위대가표!F8 -> 13611 | F4: =일위대가표!H8 -> 11304 | G4: =일위대가표!J8 -> 1117 | H4: =일위대가표!L8 -> 1190 | I4: 제 1호표 | J4: ="_x0007_`COD|B02631_x0005_`QTY1|1_x0005_`BQC|_x0005_`EQC|_x0005_`JDC|_x0005_`WQC|_x0005_`EDT|_x0005_`ADJ|F_x0005_`DET|"&ROW(일위대가표!A6)&"_x0005_`" -> _x0007_`COD|B02631_x0005_`QTY1|1_x0005_`BQC|_x0005_`EQC|_x0005_`JDC|_x0005_`WQC|_x0005_`EDT|_x0005_`ADJ|F_x0005_`DET|6_x0005_` | K4: =HYPERLINK("#"&일위대가표!N2&"!A"&ROW(일위대가표!A6),"대가1 →") -> 대가1 →
A5: 제 2호표 | B5: 보차도경계석 철거(B-TYPE) | C5: 200×250×1000- 400m/일 | D5: M | E5: =일위대가표!F15 -> 4504 | F5: =일위대가표!H15 -> 3736 | G5: =일위대가표!J15 -> 361 | H5: =일위대가표!L15 -> 407 | I5: 제 2호표 | J5: ="_x0007_`COD|B04729_x0005_`QTY1|1_x0005_`BQC|_x0005_`EQC|_x0005_`JDC|_x0005_`WQC|_x0005_`EDT|_x0005_`ADJ|F_x0005_`DET|"&ROW(일위대가표!A10)&"_x0005_`" -> _x0007_`COD|B04729_x0005_`QTY1|1_x0005_`BQC|_x0005_`EQC|_x0005_`JDC|_x0005_`WQC|_x0005_`EDT|_x0005_`ADJ|F_x0005_`DET|10_x0005_` | K5: =HYPERLINK("#"&일위대가표!N2&"!A"&ROW(일위대가표!A10),"대가2 →") -> 대가2 →
A6: 제 3호표 | B6: 도로경계석 철거 | C6: 150×150×1000, 화강석-설치품의50%적용 | D6: M | E6: =일위대가표!F21 -> 15354 | F6: =일위대가표!H21 -> 15354 | G6: =일위대가표!J21 -> 0 | H6: =일위대가표!L21 -> 0 | I6: 제 3호표 | J6: ="_x0007_`COD|B04727_x0005_`QTY1|1_x0005_`BQC|_x0005_`EQC|_x0005_`JDC|_x0005_`WQC|_x0005_`EDT|_x0005_`ADJ|F_x0005_`DET|"&ROW(일위대가표!A17)&"_x0005_`" -> _x0007_`COD|B04727_x0005_`QTY1|1_x0005_`BQC|_x0005_`EQC|_x0005_`JDC|_x0005_`WQC|_x0005_`EDT|_x0005_`ADJ|F_x0005_`DET|17_x0005_` | K6: =HYPERLINK("#"&일위대가표!N2&"!A"&ROW(일위대가표!A17),"대가3 →") -> 대가3 →
A7: 제 4호표 | B7: 조경석 헐기 | C7: (정원석 쌓기 및 놓기 30% 적용) | D7: ton | E7: =일위대가표!F25 -> 26462 | F7: =일위대가표!H25 -> 25406 | G7: =일위대가표!J25 -> 516 | H7: =일위대가표!L25 -> 540 | I7: 제 4호표 | J7: ="_x0007_`COD|B06812_x0005_`QTY1|1_x0005_`BQC|_x0005_`EQC|_x0005_`JDC|_x0005_`WQC|_x0005_`EDT|_x0005_`ADJ|F_x0005_`DET|"&ROW(일위대가표!A23)&"_x0005_`" -> _x0007_`COD|B06812_x0005_`QTY1|1_x0005_`BQC|_x0005_`EQC|_x0005_`JDC|_x0005_`WQC|_x0005_`EDT|_x0005_`ADJ|F_x0005_`DET|23_x0005_` | K7: =HYPERLINK("#"&일위대가표!N2&"!A"&ROW(일위대가표!A23),"대가4 →") -> 대가4 →
A8: 제 5호표 | B8: 주철관 접합 및 부설 | C8: (기계:D250㎜) | D8: 본 | E8: =일위대가표!F31 -> 149157 | F8: =일위대가표!H31 -> 109545 | G8: =일위대가표!J31 -> 17788 | H8: =일위대가표!L31 -> 21824 | I8: 제 5호표 | J8: ="_x0007_`COD|B00196_x0005_`QTY1|1_x0005_`BQC|_x0005_`EQC|상수도_x0005_`JDC|_x0005_`WQC|_x0005_`EDT|_x0005_`ADJ|F_x0005_`DET|"&ROW(일위대가표!A27)&"_x0005_`" -> _x0007_`COD|B00196_x0005_`QTY1|1_x0005_`BQC|_x0005_`EQC|상수도_x0005_`JDC|_x0005_`WQC|_x0005_`EDT|_x0005_`ADJ|F_x0005_`DET|27_x0005_` | K8: =HYPERLINK("#"&일위대가표!N2&"!A"&ROW(일위대가표!A27),"대가5 →") -> 대가5 →
A9: 제 6호표 | B9: 주철이형관 접합 및 부설 | C9: (기계:D250㎜), 직관품 적용 | D9: 개소 | E9: =일위대가표!F37 -> 74578 | F9: =일위대가표!H37 -> 54772 | G9: =일위대가표!J37 -> 8894 | H9: =일위대가표!L37 -> 10912 | I9: 제 6호표 | J9: ="_x0007_`COD|B06587_x0005_`QTY1|1_x0005_`BQC|_x0005_`EQC|상수도_x0005_`JDC|_x0005_`WQC|_x0005_`EDT|_x0005_`ADJ|F_x0005_`DET|"&ROW(일위대가표!A33)&"_x0005_`" -> _x0007_`COD|B06587_x0005_`QTY1|1_x0005_`BQC|_x0005_`EQC|상수도_x0005_`JDC|_x0005_`WQC|_x0005_`EDT|_x0005_`ADJ|F_x0005_`DET|33_x0005_` | K9: =HYPERLINK("#"&일위대가표!N2&"!A"&ROW(일위대가표!A33),"대가6 →") -> 대가6 →
A10: 제 7호표 | B10: 주철 이형관 접합 | C10: (인력:D250㎜) | D10: 개소 | E10: =일위대가표!F43 -> 44746 | F10: =일위대가표!H43 -> 32863 | G10: =일위대가표!J43 -> 5336 | H10: =일위대가표!L43 -> 6547 | I10: 제 7호표 | J10: ="_x0007_`COD|B02873_x0005_`QTY1|1_x0005_`BQC|_x0005_`EQC|_x0005_`JDC|_x0005_`WQC|_x0005_`EDT|_x0005_`ADJ|F_x0005_`DET|"&ROW(일위대가표!A39)&"_x0005_`" -> _x0007_`COD|B02873_x0005_`QTY1|1_x0005_`BQC|_x0005_`EQC|_x0005_`JDC|_x0005_`WQC|_x0005_`EDT|_x0005_`ADJ|F_x0005_`DET|39_x0005_` | K10: =HYPERLINK("#"&일위대가표!N2&"!A"&ROW(일위대가표!A39),"대가7 →") -> 대가7 →
A11: 제 8호표 | B11: 이탈방지압륜 이형관 접합 및 부설 | C11: (D250mm), 직관품의 50% 할증 30% | D11: 개소 | E11: =일위대가표!F47 -> 96952 | F11: =일위대가표!H47 -> 71204 | G11: =일위대가표!J47 -> 11562 | H11: =일위대가표!L47 -> 14186 | I11: 제 8호표 | J11: ="_x0007_`COD|B01295_x0005_`QTY1|1_x0005_`BQC|_x0005_`EQC|_x0005_`JDC|_x0005_`WQC|_x0005_`EDT|_x0005_`ADJ|F_x0005_`DET|"&ROW(일위대가표!A45)&"_x0005_`" -> _x0007_`COD|B01295_x0005_`QTY1|1_x0005_`BQC|_x0005_`EQC|_x0005_`JDC|_x0005_`WQC|_x0005_`EDT|_x0005_`ADJ|F_x0005_`DET|45_x0005_` | K11: =HYPERLINK("#"&일위대가표!N2&"!A"&ROW(일위대가표!A45),"대가8 →") -> 대가8 →
A12: 제 9호표 | B12: 이탈방지압륜접합 | C12: (D250mm)이탈방지압륜 접합 및 부설품의 60% 적용 | D12: 개소 | E12: =일위대가표!F53 -> 58170 | F12: =일위대가표!H53 -> 42722 | G12: =일위대가표!J53 -> 6937 | H12: =일위대가표!L53 -> 8511 | I12: 제 9호표 | J12: ="_x0007_`COD|B02633_x0005_`QTY1|1_x0005_`BQC|_x0005_`EQC|상수도_x0005_`JDC|_x0005_`WQC|_x0005_`EDT|_x0005_`ADJ|F_x0005_`DET|"&ROW(일위대가표!A49)&"_x0005_`" -> _x0007_`COD|B02633_x0005_`QTY1|1_x0005_`BQC|_x0005_`EQC|상수도_x0005_`JDC|_x0005_`WQC|_x0005_`EDT|_x0005_`ADJ|F_x0005_`DET|49_x0005_` | K12: =HYPERLINK("#"&일위대가표!N2&"!A"&ROW(일위대가표!A49),"대가9 →") -> 대가9 →
A13: 제 10호표 | B13: 주철관절단 | C13: (D250㎜) | D13: 개소 | E13: =일위대가표!F58 -> 38599 | F13: =일위대가표!H58 -> 36761 | G13: =일위대가표!J58 -> 0 | H13: =일위대가표!L58 -> 1838 | I13: 제 10호표 | J13: ="_x0007_`COD|B00207_x0005_`QTY1|1_x0005_`BQC|_x0005_`EQC|상수도_x0005_`JDC|_x0005_`WQC|_x0005_`EDT|_x0005_`ADJ|F_x0005_`DET|"&ROW(일위대가표!A55)&"_x0005_`" -> _x0007_`COD|B00207_x0005_`QTY1|1_x0005_`BQC|_x0005_`EQC|상수도_x0005_`JDC|_x0005_`WQC|_x0005_`EDT|_x0005_`ADJ|F_x0005_`DET|55_x0005_` | K13: =HYPERLINK("#"&일위대가표!N2&"!A"&ROW(일위대가표!A55),"대가10 →") -> 대가10 →
A14: 제 11호표 | B14: 제수밸브부설및접합(게이트) | C14: (D250㎜) 주철제 | D14: 개소 | E14: =일위대가표!F65 -> 124392 | F14: =일위대가표!H65 -> 107420 | G14: =일위대가표!J65 -> 7376 | H14: =일위대가표!L65 -> 9596 | I14: 제 11호표 | J14: ="_x0007_`COD|B00905_x0005_`QTY1|1_x0005_`BQC|_x0005_`EQC|_x0005_`JDC|_x0005_`WQC|_x0005_`EDT|_x0005_`ADJ|F_x0005_`DET|"&ROW(일위대가표!A60)&"_x0005_`" -> _x0007_`COD|B00905_x0005_`QTY1|1_x0005_`BQC|_x0005_`EQC|_x0005_`JDC|_x0005_`WQC|_x0005_`EDT|_x0005_`ADJ|F_x0005_`DET|60_x0005_` | K14: =HYPERLINK("#"&일위대가표!N2&"!A"&ROW(일위대가표!A60),"대가11 →") -> 대가11 →
A15: 제 12호표 | B15: 부단수할정자관부설및접합 | C15: D250,본관기준 | D15: 개소 | E15: =일위대가표!F72 -> 83544 | F15: =일위대가표!H72 -> 78592 | G15: =일위대가표!J72 -> 1761 | H15: =일위대가표!L72 -> 3191 | I15: 제 12호표 | J15: ="_x0007_`COD|B03108_x0005_`QTY1|1_x0005_`BQC|_x0005_`EQC|상수도_x0005_`JDC|_x0005_`WQC|_x0005_`EDT|_x0005_`ADJ|F_x0005_`DET|"&ROW(일위대가표!A67)&"_x0005_`" -> _x0007_`COD|B03108_x0005_`QTY1|1_x0005_`BQC|_x0005_`EQC|상수도_x0005_`JDC|_x0005_`WQC|_x0005_`EDT|_x0005_`ADJ|F_x0005_`DET|67_x0005_` | K15: =HYPERLINK("#"&일위대가표!N2&"!A"&ROW(일위대가표!A67),"대가12 →") -> 대가12 →
A16: 제 13호표 | B16: 부단수천공분기점분기 | C16: D250,분기관(지관)기준 | D16: 개소 | E16: =일위대가표!F79 -> 295082 | F16: =일위대가표!H79 -> 249471 | G16: =일위대가표!J79 -> 16623 | H16: =일위대가표!L79 -> 28988 | I16: 제 13호표 | J16: ="_x0007_`COD|B03086_x0005_`QTY1|1_x0005_`BQC|_x0005_`EQC|상수도_x0005_`JDC|_x0005_`WQC|_x0005_`EDT|_x0005_`ADJ|F_x0005_`DET|"&ROW(일위대가표!A74)&"_x0005_`" -> _x0007_`COD|B03086_x0005_`QTY1|1_x0005_`BQC|_x0005_`EQC|상수도_x0005_`JDC|_x0005_`WQC|_x0005_`EDT|_x0005_`ADJ|F_x0005_`DET|74_x0005_` | K16: =HYPERLINK("#"&일위대가표!N2&"!A"&ROW(일위대가표!A74),"대가13 →") -> 대가13 →
A17: 제 14호표 | B17: 플랜지접합 | C17: (D250㎜) | D17: 개소 | E17: =일위대가표!F86 -> 74791 | F17: =일위대가표!H86 -> 48805 | G17: =일위대가표!J86 -> 25010 | H17: =일위대가표!L86 -> 976 | I17: 제 14호표 | J17: ="_x0007_`COD|B00790_x0005_`QTY1|1_x0005_`BQC|_x0005_`EQC|_x0005_`JDC|_x0005_`WQC|_x0005_`EDT|_x0005_`ADJ|F_x0005_`DET|"&ROW(일위대가표!A81)&"_x0005_`" -> _x0007_`COD|B00790_x0005_`QTY1|1_x0005_`BQC|_x0005_`EQC|_x0005_`JDC|_x0005_`WQC|_x0005_`EDT|_x0005_`ADJ|F_x0005_`DET|81_x0005_` | K17: =HYPERLINK("#"&일위대가표!N2&"!A"&ROW(일위대가표!A81),"대가14 →") -> 대가14 →
A18: 제 15호표 | B18: 주철관 철거 | C18: D250mm(기존관 철거) | D18: 본 | E18: =일위대가표!F91 -> 48891 | F18: =일위대가표!H91 -> 38000 | G18: =일위대가표!J91 -> 2533 | H18: =일위대가표!L91 -> 8358 | I18: 제 15호표 | J18: ="_x0007_`COD|B05653_x0005_`QTY1|1_x0005_`BQC|_x0005_`EQC|_x0005_`JDC|_x0005_`WQC|_x0005_`EDT|_x0005_`ADJ|F_x0005_`DET|"&ROW(일위대가표!A88)&"_x0005_`" -> _x0007_`COD|B05653_x0005_`QTY1|1_x0005_`BQC|_x0005_`EQC|_x0005_`JDC|_x0005_`WQC|_x0005_`EDT|_x0005_`ADJ|F_x0005_`DET|88_x0005_` | K18: =HYPERLINK("#"&일위대가표!N2&"!A"&ROW(일위대가표!A88),"대가15 →") -> 대가15 →
A19: 제 16호표 | B19: 보도블럭포장(점자블럭)B-TYPE | C19: 차도인접, 주택가도로 T=6cm, 점형(30x30X6) | D19: ㎡ | E19: =일위대가표!F100 -> 21554 | F19: =일위대가표!H100 -> 18254 | G19: =일위대가표!J100 -> 1312 | H19: =일위대가표!L100 -> 1988 | I19: 제 16호표 | J19: ="_x0007_`COD|B03724_x0005_`QTY1|1_x0005_`BQC|_x0005_`EQC|_x0005_`JDC|_x0005_`WQC|_x0005_`EDT|_x0005_`ADJ|F_x0005_`DET|"&ROW(일위대가표!A93)&"_x0005_`" -> _x0007_`COD|B03724_x0005_`QTY1|1_x0005_`BQC|_x0005_`EQC|_x0005_`JDC|_x0005_`WQC|_x0005_`EDT|_x0005_`ADJ|F_x0005_`DET|93_x0005_` | K19: =HYPERLINK("#"&일위대가표!N2&"!A"&ROW(일위대가표!A93),"대가16 →") -> 대가16 →
A20: 제 17호표 | B20: L형측구 및 보차도경계석 재설치(B-TYPE) | C20: 화강석(200×250×1000)직선 | D20: M | E20: =일위대가표!F112 -> 32254 | F20: =일위대가표!H112 -> 29801 | G20: =일위대가표!J112 -> 1670 | H20: =일위대가표!L112 -> 783 | I20: 제 17호표 | J20: ="_x0007_`COD|B06814_x0005_`QTY1|1_x0005_`BQC|_x0005_`EQC|_x0005_`JDC|_x0005_`WQC|_x0005_`EDT|_x0005_`ADJ|F_x0005_`DET|"&ROW(일위대가표!A102)&"_x0005_`" -> _x0007_`COD|B06814_x0005_`QTY1|1_x0005_`BQC|_x0005_`EQC|_x0005_`JDC|_x0005_`WQC|_x0005_`EDT|_x0005_`ADJ|F_x0005_`DET|102_x0005_` | K20: =HYPERLINK("#"&일위대가표!N2&"!A"&ROW(일위대가표!A102),"대가17 →") -> 대가17 →
A21: 제 18호표 | B21: L형측구 및 보차도경계석 재설치(B-TYPE) | C21: 화강석(180×200×1000)낯춤석 경계석제외 | D21: M | E21: =일위대가표!F124 -> 32171 | F21: =일위대가표!H124 -> 29718 | G21: =일위대가표!J124 -> 1670 | H21: =일위대가표!L124 -> 783 | I21: 제 18호표 | J21: ="_x0007_`COD|B06813_x0005_`QTY1|1_x0005_`BQC|_x0005_`EQC|_x0005_`JDC|_x0005_`WQC|_x0005_`EDT|_x0005_`ADJ|F_x0005_`DET|"&ROW(일위대가표!A114)&"_x0005_`" -> _x0007_`COD|B06813_x0005_`QTY1|1_x0005_`BQC|_x0005_`EQC|_x0005_`JDC|_x0005_`WQC|_x0005_`EDT|_x0005_`ADJ|F_x0005_`DET|114_x0005_` | K21: =HYPERLINK("#"&일위대가표!N2&"!A"&ROW(일위대가표!A114),"대가18 →") -> 대가18 →
A22: 제 19호표 | B22: 볼라드 철거 | C22: Φ100mm~150mm(설치비의50%) | D22: 개소 | E22: =일위대가표!F128 -> 25212 | F22: =일위대가표!H128 -> 24012 | G22: =일위대가표!J128 -> 0 | H22: =일위대가표!L128 -> 1200 | I22: 제 19호표 | J22: ="_x0007_`COD|B03895_x0005_`QTY1|1_x0005_`BQC|_x0005_`EQC|_x0005_`JDC|_x0005_`WQC|_x0005_`EDT|_x0005_`ADJ|F_x0005_`DET|"&ROW(일위대가표!A126)&"_x0005_`" -> _x0007_`COD|B03895_x0005_`QTY1|1_x0005_`BQC|_x0005_`EQC|_x0005_`JDC|_x0005_`WQC|_x0005_`EDT|_x0005_`ADJ|F_x0005_`DET|126_x0005_` | K22: =HYPERLINK("#"&일위대가표!N2&"!A"&ROW(일위대가표!A126),"대가19 →") -> 대가19 →
A23: 제 20호표 | B23: 조경 유용석 쌓기 및 놓기 | C23: 1ton | D23: ton | E23: =일위대가표!F132 -> 103287 | F23: =일위대가표!H132 -> 75097 | G23: =일위대가표!J132 -> 13776 | H23: =일위대가표!L132 -> 14414 | I23: 제 20호표 | J23: ="_x0007_`COD|B03637_x0005_`QTY1|1_x0005_`BQC|_x0005_`EQC|_x0005_`JDC|_x0005_`WQC|_x0005_`EDT|_x0005_`ADJ|F_x0005_`DET|"&ROW(일위대가표!A130)&"_x0005_`" -> _x0007_`COD|B03637_x0005_`QTY1|1_x0005_`BQC|_x0005_`EQC|_x0005_`JDC|_x0005_`WQC|_x0005_`EDT|_x0005_`ADJ|F_x0005_`DET|130_x0005_` | K23: =HYPERLINK("#"&일위대가표!N2&"!A"&ROW(일위대가표!A130),"대가20 →") -> 대가20 →
A24: 제 21호표 | B24: 시험굴착 | C24: (2.0x1.0x1.5) | D24: 개소 | E24: =일위대가표!F141 -> 126780 | F24: =일위대가표!H141 -> 46945 | G24: =일위대가표!J141 -> 69788 | H24: =일위대가표!L141 -> 10047 | I24: 제 21호표 | J24: ="_x0007_`COD|B01892_x0005_`QTY1|1_x0005_`BQC|_x0005_`EQC|_x0005_`JDC|_x0005_`WQC|_x0005_`EDT|_x0005_`ADJ|F_x0005_`DET|"&ROW(일위대가표!A134)&"_x0005_`" -> _x0007_`COD|B01892_x0005_`QTY1|1_x0005_`BQC|_x0005_`EQC|_x0005_`JDC|_x0005_`WQC|_x0005_`EDT|_x0005_`ADJ|F_x0005_`DET|134_x0005_` | K24: =HYPERLINK("#"&일위대가표!N2&"!A"&ROW(일위대가표!A134),"대가21 →") -> 대가21 →
A25: 제 22호표 | B25: 교통신호수 | C25: 2인1조 | D25: 일 | E25: =일위대가표!F147 -> 347568 | F25: =일위대가표!H147 -> 0 | G25: =일위대가표!J147 -> 0 | H25: =일위대가표!L147 -> 347568 | I25: 제 22호표 | J25: ="_x0007_`COD|B02657_x0005_`QTY1|1_x0005_`BQC|_x0005_`EQC|_x0005_`JDC|_x0005_`WQC|_x0005_`EDT|_x0005_`ADJ|F_x0005_`DET|"&ROW(일위대가표!A143)&"_x0005_`" -> _x0007_`COD|B02657_x0005_`QTY1|1_x0005_`BQC|_x0005_`EQC|_x0005_`JDC|_x0005_`WQC|_x0005_`EDT|_x0005_`ADJ|F_x0005_`DET|143_x0005_` | K25: =HYPERLINK("#"&일위대가표!N2&"!A"&ROW(일위대가표!A143),"대가22 →") -> 대가22 →
A26: 제 23호표 | B26: 공사안내간판 및 플랜카드 | C26: 공사안내간판(0.9*1.8m), 플랜카드(0.7*7.0m) | D26: 개 | E26: =일위대가표!F152 -> 156935 | F26: =일위대가표!H152 -> 4663 | G26: =일위대가표!J152 -> 152272 | H26: =일위대가표!L152 -> 0 | I26: 제 23호표 | J26: ="_x0007_`COD|B04012_x0005_`QTY1|1_x0005_`BQC|_x0005_`EQC|_x0005_`JDC|_x0005_`WQC|_x0005_`EDT|_x0005_`ADJ|F_x0005_`DET|"&ROW(일위대가표!A149)&"_x0005_`" -> _x0007_`COD|B04012_x0005_`QTY1|1_x0005_`BQC|_x0005_`EQC|_x0005_`JDC|_x0005_`WQC|_x0005_`EDT|_x0005_`ADJ|F_x0005_`DET|149_x0005_` | K26: =HYPERLINK("#"&일위대가표!N2&"!A"&ROW(일위대가표!A149),"대가23 →") -> 대가23 →
A27: 제 24호표 | B27: 도로경계석 설치 | C27: 150×150×1000 | D27: M | E27: =일위대가표!F156 -> 36170 | F27: =일위대가표!H156 -> 30708 | G27: =일위대가표!J156 -> 4689 | H27: =일위대가표!L156 -> 773 | I27: 제 24호표 | J27: ="_x0007_`COD|B00401_x0005_`QTY1|1_x0005_`BQC|_x0005_`EQC|_x0005_`JDC|_x0005_`WQC|_x0005_`EDT|_x0005_`ADJ|F_x0005_`DET|"&ROW(일위대가표!A154)&"_x0005_`" -> _x0007_`COD|B00401_x0005_`QTY1|1_x0005_`BQC|_x0005_`EQC|_x0005_`JDC|_x0005_`WQC|_x0005_`EDT|_x0005_`ADJ|F_x0005_`DET|154_x0005_` | K27: =HYPERLINK("#"&일위대가표!N2&"!A"&ROW(일위대가표!A154),"대가24 →") -> 대가24 →
A28: 제 25호표 | B28: 레미콘타설(25-21-8) | C28: (무근구조물)레미콘별산 | D28: ㎥ | E28: =일위대가표!F161 -> 59284 | F28: =일위대가표!H161 -> 58122 | G28: =일위대가표!J161 -> 0 | H28: =일위대가표!L161 -> 1162 | I28: 제 25호표 | J28: ="_x0007_`COD|B04067_x0005_`QTY1|1_x0005_`BQC|_x0005_`EQC|_x0005_`JDC|_x0005_`WQC|_x0005_`EDT|_x0005_`ADJ|F_x0005_`DET|"&ROW(일위대가표!A158)&"_x0005_`" -> _x0007_`COD|B04067_x0005_`QTY1|1_x0005_`BQC|_x0005_`EQC|_x0005_`JDC|_x0005_`WQC|_x0005_`EDT|_x0005_`ADJ|F_x0005_`DET|158_x0005_` | K28: =HYPERLINK("#"&일위대가표!N2&"!A"&ROW(일위대가표!A158),"대가25 →") -> 대가25 →
A29: 제 26호표 | B29: 몰탈채움 | C29: (1:3) | D29: ㎥ | E29: =일위대가표!F166 -> 285632 | F29: =일위대가표!H166 -> 285632 | G29: =일위대가표!J166 -> 0 | H29: =일위대가표!L166 -> 0 | I29: 제 26호표 | J29: ="_x0007_`COD|B00235_x0005_`QTY1|1_x0005_`BQC|_x0005_`EQC|_x0005_`JDC|_x0005_`WQC|_x0005_`EDT|_x0005_`ADJ|F_x0005_`DET|"&ROW(일위대가표!A163)&"_x0005_`" -> _x0007_`COD|B00235_x0005_`QTY1|1_x0005_`BQC|_x0005_`EQC|_x0005_`JDC|_x0005_`WQC|_x0005_`EDT|_x0005_`ADJ|F_x0005_`DET|163_x0005_` | K29: =HYPERLINK("#"&일위대가표!N2&"!A"&ROW(일위대가표!A163),"대가26 →") -> 대가26 →
A30: 제 27호표 | B30: 모르터 | C30: (1:3) | D30: ㎥ | E30: =일위대가표!F172 -> 113564 | F30: =일위대가표!H172 -> 113564 | G30: =일위대가표!J172 -> 0 | H30: =일위대가표!L172 -> 0 | I30: 제 27호표 | J30: ="_x0007_`COD|B00025_x0005_`QTY1|1_x0005_`BQC|_x0005_`EQC|_x0005_`JDC|_x0005_`WQC|_x0005_`EDT|_x0005_`ADJ|F_x0005_`DET|"&ROW(일위대가표!A168)&"_x0005_`" -> _x0007_`COD|B00025_x0005_`QTY1|1_x0005_`BQC|_x0005_`EQC|_x0005_`JDC|_x0005_`WQC|_x0005_`EDT|_x0005_`ADJ|F_x0005_`DET|168_x0005_` | K30: =HYPERLINK("#"&일위대가표!N2&"!A"&ROW(일위대가표!A168),"대가27 →") -> 대가27 →

Sheet 일위대가표
A1: 일 위 대 가 표 | N1: STmate | Z1: STmate
A2: 공사명 : 모현읍 왕산리 799-37번지 배수관로 이설공사 | N2: =MID(CELL("filename",$A$1),FIND("]",CELL("filename",$A$1))+1,LEN(CELL("filename",$A$1))) -> 일위대가표
A3: 명 칭 | B3: 규 격 | C3: 수 량 | D3: 단위 | E3: 합 계 | G3: 노 무 비 | I3: 재 료 비 | K3: 경 비 | M3: 비 고
E4: 단 가 | F4: 금 액 | G4: 단 가 | H4: 금 액 | I4: 단 가 | J4: 금 액 | K4: 단 가 | L4: 금 액 | Z4: =HYPERLINK("#'〓 목 차 〓'!B2","목차 →") -> 목차 →
A6: 제 1 호표 보도블럭철거(점자블럭)B-TYPE 차도인접, 주택가도로 차도인접, 주택가도로 / ㎡ | M6: 대가1 | N6: =HYPERLINK("#N"&ROW(N7),"_x0005_`BDCOD|B02631_x0007_`POSS|"&ROW(N7)&"_x0007_`POSE|"&ROW(N7)&"_x0007_`") -> _x0005_`BDCOD|B02631_x0007_`POSS|7_x0007_`POSE|7_x0007_` | O6: B02631
A7: 보도블럭포장(B-TYPE) | B7: (유도, 점자블록 - 300*300) | C7: 1 | D7: ㎡ | E7: =I7+G7+K7 -> 13611 | F7: =J7+H7+L7 -> 13611 | G7: =단가산출근거목록표!F31 -> 11304 | H7: =IF(C7=0,0,ROUNDDOWN(G7*C7,1)) -> 11304 | I7: =단가산출근거목록표!G31 -> 1117 | J7: =IF(C7=0,0,ROUNDDOWN(I7*C7,1)) -> 1117 | K7: =단가산출근거목록표!H31 -> 1190 | L7: =IF(C7=0,0,ROUNDDOWN(K7*C7,1)) -> 1190 | M7: 산근 28호표 | N7: _x0007_`COD|D03666_x0005_`EXI|0_x0005_`DVD|F_x0005_`BMK| _x0005_`IPR|0_x0005_`BLA|F_x0005_` | O7: D03666_1 | P7: T7_1 | Z7: =HYPERLINK("#"&단가산출근거목록표!J2&"!A"&ROW(단가산출근거목록표!A31),"산근28 →") -> 산근28 →
A8: 합 계 | F8: =J8+H8+L8 -> 13611 | H8: =ROUNDDOWN(SUMIF(P7:P7,O8,H7:H7),0) -> 11304 | J8: =ROUNDDOWN(SUMIF(P7:P7,O8,J7:J7),0) -> 1117 | L8: =ROUNDDOWN(SUMIF(P7:P7,O8,L7:L7),0) -> 1190 | O8: T7_1
A10: 제 2 호표 보차도경계석 철거(B-TYPE) 200×250×1000- 400m/일 / M | M10: 대가2 | N10: =HYPERLINK("#N"&ROW(N14),"_x0005_`BDCOD|B04729_x0007_`POSS|"&ROW(N11)&"_x0007_`POSE|"&ROW(N14)&"_x0007_`") -> _x0005_`BDCOD|B04729_x0007_`POSS|11_x0007_`POSE|14_x0007_` | O10: B04729
A11: 특별인부 | C11: 0.005 | D11: 인 | E11: =I11+G11+K11 -> 226122 | F11: =J11+H11+L11 -> 1130.6 | G11: =노무비목록표!E13 -> 226122 | H11: =IF(C11=0,0,ROUNDDOWN(G11*C11,1)) -> 1130.6 | I11: 0 | J11: =IF(C11=0,0,ROUNDDOWN(I11*C11,1)) -> 0 | K11: 0 | L11: =IF(C11=0,0,ROUNDDOWN(K11*C11,1)) -> 0 | M11: 노무10 | N11: _x0007_`COD|L00079_x0005_`EXI|0_x0005_`DVD|F_x0005_`BMK| _x0005_`IPR|1_x0005_`BLA|F_x0005_` | O11: L00079_1 | P11: T7_1 | Q11: 1_01 | Z11: =HYPERLINK("#"&노무비목록표!G2&"!A"&ROW(노무비목록표!A13),"노무10 →") -> 노무10 →
A12: 보통인부 | C12: 0.0025 | D12: 인 | E12: =I12+G12+K12 -> 172068 | F12: =J12+H12+L12 -> 430.1 | G12: =노무비목록표!E8 -> 172068 | H12: =IF(C12=0,0,ROUNDDOWN(G12*C12,1)) -> 430.1 | I12: 0 | J12: =IF(C12=0,0,ROUNDDOWN(I12*C12,1)) -> 0 | K12: 0 | L12: =IF(C12=0,0,ROUNDDOWN(K12*C12,1)) -> 0 | M12: 노무5 | N12: _x0007_`COD|L00001_x0005_`EXI|0_x0005_`DVD|F_x0005_`BMK| _x0005_`IPR|1_x0005_`BLA|F_x0005_` | O12: L00001_1 | P12: T7_1 | Q12: 1_01 | Z12: =HYPERLINK("#"&노무비목록표!G2&"!A"&ROW(노무비목록표!A8),"노무5 →") -> 노무5 →
A13: 굴착기(무한궤도) | B13: 0.2㎥ | C13: 0.02 | D13: 시간 | E13: =I13+G13+K13 -> 83776 | F13: =J13+H13+L13 -> 1675.4 | G13: =중기목록표!F5 -> 59020 | H13: =IF(C13=0,0,ROUNDDOWN(G13*C13,1)) -> 1180.4 | I13: =중기목록표!G5 -> 10883 | J13: =IF(C13=0,0,ROUNDDOWN(I13*C13,1)) -> 217.6 | K13: =중기목록표!H5 -> 13873 | L13: =IF(C13=0,0,ROUNDDOWN(K13*C13,1)) -> 277.4 | M13: 중기2 | N13: _x0007_`COD|X00113_x0005_`EXI|0_x0005_`DVD|F_x0005_`BMK| _x0005_`IPR|1_x0005_`BLA|F_x0005_` | O13: X00113_1 | P13: T7_1 | Q13: 1_01 | Z13: =HYPERLINK("#"&중기목록표!J2&"!A"&ROW(중기목록표!A5),"중기2 →") -> 중기2 →
A14: 덤프트럭 | B14: 2.5톤 | C14: 0.02 | D14: 시간 | E14: =I14+G14+K14 -> 63499 | F14: =J14+H14+L14 -> 1269.8 | G14: =중기목록표!F14 -> 49778 | H14: =IF(C14=0,0,ROUNDDOWN(G14*C14,1)) -> 995.5 | I14: =중기목록표!G14 -> 7199 | J14: =IF(C14=0,0,ROUNDDOWN(I14*C14,1)) -> 143.9 | K14: =중기목록표!H14 -> 6522 | L14: =IF(C14=0,0,ROUNDDOWN(K14*C14,1)) -> 130.4 | M14: 중기11 | N14: _x0007_`COD|X00120_x0005_`EXI|0_x0005_`DVD|F_x0005_`BMK| _x0005_`IPR|1_x0005_`BLA|F_x0005_` | O14: X00120_1 | P14: T7_1 | Q14: 1_01 | Z14: =HYPERLINK("#"&중기목록표!J2&"!A"&ROW(중기목록표!A14),"중기11 →") -> 중기11 →
A15: 합 계 | F15: =J15+H15+L15 -> 4504 | H15: =ROUNDDOWN(SUMIF(P11:P14,O15,H11:H14),0) -> 3736 | J15: =ROUNDDOWN(SUMIF(P11:P14,O15,J11:J14),0) -> 361 | L15: =ROUNDDOWN(SUMIF(P11:P14,O15,L11:L14),0) -> 407 | O15: T7_1
A17: 제 3 호표 도로경계석 철거 150×150×1000, 화강석-설치품의50%적용 / M | M17: 대가3 | N17: =HYPERLINK("#N"&ROW(N20),"_x0005_`BDCOD|B04727_x0007_`POSS|"&ROW(N18)&"_x0007_`POSE|"&ROW(N20)&"_x0007_`") -> _x0005_`BDCOD|B04727_x0007_`POSS|18_x0007_`POSE|20_x0007_` | O17: B04727
A18: 도로경계석 설치 | B18: 150×150×1000 | C18: 1 | D18: M | E18: =I18+G18+K18 -> 36170 | F18: =J18+H18+L18 -> 36170 | G18: =일위대가목록표!F27 -> 30708 | H18: =IF(C18=0,0,ROUNDDOWN(G18*C18,1)) -> 30708 | I18: =일위대가목록표!G27 -> 4689 | J18: =IF(C18=0,0,ROUNDDOWN(I18*C18,1)) -> 4689 | K18: =일위대가목록표!H27 -> 773 | L18: =IF(C18=0,0,ROUNDDOWN(K18*C18,1)) -> 773 | M18: 대가 24호표 | N18: _x0007_`COD|B00401_x0005_`EXI|0_x0005_`DVD|F_x0005_`BMK| _x0005_`IPR|1_x0005_`BLA|F_x0005_` | O18: B00401_1 | P18: C1_1 | Q18: 1_01 | Z18: =HYPERLINK("#"&일위대가목록표!J2&"!A"&ROW(일위대가목록표!A27),"대가24 →") -> 대가24 →
A19: 소계(제외금액) | C19: 0 | E19: 0 | F19: =J19+H19+L19 -> 36170 | H19: =SUMIF(P18:P18,O19,H18:H18) -> 30708 | J19: =SUMIF(P18:P18,O19,J18:J18) -> 4689 | L19: =SUMIF(P18:P18,O19,L18:L18) -> 773 | N19: _x0007_`COD|C1_x0005_`EXI|0_x0005_`TPR|0_x0005_` | O19: C1_1
A20: 철거(노무비의50%적용) | B20: 노무비의 % | C20: 50 | D20: % | E20: =I20+G20+K20 -> 30708 | F20: =J20+H20+L20 -> 15354 | G20: =H18 -> 30708 | H20: =IF(C20=0,0,ROUNDDOWN(G20*C20/100,1)) -> 15354 | I20: 0 | J20: =IF(C20=0,0,ROUNDDOWN(I20*C20/100,1)) -> 0 | K20: 0 | L20: =IF(C20=0,0,ROUNDDOWN(K20*C20/100,1)) -> 0 | N20: _x0007_`COD|PR_x0005_`EXI|1_x0005_`DVD|F_x0005_`BMK| _x0005_`IPR|0_x0005_`EQC|A01_x0005_`PRI|2_x0005_`PRO|2_x0005_`UNI|%_x0005_`BLA|F_x0005_` | O20: PRA01_1 | P20: T7_1
A21: 합 계 | F21: =J21+H21+L21 -> 15354 | H21: =ROUNDDOWN(SUMIF(P18:P20,O21,H18:H20),0) -> 15354 | J21: =ROUNDDOWN(SUMIF(P18:P20,O21,J18:J20),0) -> 0 | L21: =ROUNDDOWN(SUMIF(P18:P20,O21,L18:L20),0) -> 0 | O21: T7_1
A23: 제 4 호표 조경석 헐기 (정원석 쌓기 및 놓기 30% 적용) / ton | M23: 대가4 | N23: =HYPERLINK("#N"&ROW(N24),"_x0005_`BDCOD|B06812_x0007_`POSS|"&ROW(N24)&"_x0007_`POSE|"&ROW(N24)&"_x0007_`") -> _x0005_`BDCOD|B06812_x0007_`POSS|24_x0007_`POSE|24_x0007_` | O23: B06812
A24: 조경 유용석 쌓기 놓기 | B24: 조경 유용석 쌓기 놓기 | C24: 0.3 | D24: TON | E24: =I24+G24+K24 -> 88211 | F24: =J24+H24+L24 -> 26463.3 | G24: =단가산출근거목록표!F35 -> 84688 | H24: =IF(C24=0,0,ROUNDDOWN(G24*C24,1)) -> 25406.4 | I24: =단가산출근거목록표!G35 -> 1722 | J24: =IF(C24=0,0,ROUNDDOWN(I24*C24,1)) -> 516.6 | K24: =단가산출근거목록표!H35 -> 1801 | L24: =IF(C24=0,0,ROUNDDOWN(K24*C24,1)) -> 540.3 | M24: 산근 32호표 | N24: _x0007_`COD|D04424_x0005_`EXI|0_x0005_`DVD|F_x0005_`BMK| _x0005_`IPR|0_x0005_`BLA|F_x0005_` | O24: D04424_1 | P24: T7_1 | Z24: =HYPERLINK("#"&단가산출근거목록표!J2&"!A"&ROW(단가산출근거목록표!A35),"산근32 →") -> 산근32 →
A25: 합 계 | F25: =J25+H25+L25 -> 26462 | H25: =ROUNDDOWN(SUMIF(P24:P24,O25,H24:H24),0) -> 25406 | J25: =ROUNDDOWN(SUMIF(P24:P24,O25,J24:J24),0) -> 516 | L25: =ROUNDDOWN(SUMIF(P24:P24,O25,L24:L24),0) -> 540 | O25: T7_1
A27: 제 5 호표 주철관 접합 및 부설 (기계:D250㎜) / 본 | M27: 대가5 | N27: =HYPERLINK("#N"&ROW(N30),"_x0005_`BDCOD|B00196_x0007_`POSS|"&ROW(N28)&"_x0007_`POSE|"&ROW(N30)&"_x0007_`") -> _x0005_`BDCOD|B00196_x0007_`POSS|28_x0007_`POSE|30_x0007_` | O27: B00196
A28: 1. 주철관 접합 및 부설 | C28: 0 | E28: 0 | F28: 0 | H28: 0 | J28: 0 | L28: 0 | N28: _x0007_`COD|_x0005_`EXI|1_x0005_` | O28: _1 | P28: _1
A29: 주철관 접합 및 부설 | B29: D250mm(양중장비) | C29: 1 | D29: 본 | E29: =I29+G29+K29 -> 149157 | F29: =J29+H29+L29 -> 149157 | G29: =단가산출근거목록표!F36 -> 109545 | H29: =IF(C29=0,0,ROUNDDOWN(G29*C29,1)) -> 109545 | I29: =단가산출근거목록표!G36 -> 17788 | J29: =IF(C29=0,0,ROUNDDOWN(I29*C29,1)) -> 17788 | K29: =단가산출근거목록표!H36 -> 21824 | L29: =IF(C29=0,0,ROUNDDOWN(K29*C29,1)) -> 21824 | M29: 산근 33호표 | N29: _x0007_`COD|D00589_x0005_`EXI|0_x0005_`DVD|F_x0005_`BMK| _x0005_`IPR|0_x0005_`BLA|F_x0005_` | O29: D00589_1 | P29: T2_1 | Z29: =HYPERLINK("#"&단가산출근거목록표!J2&"!A"&ROW(단가산출근거목록표!A36),"산근33 →") -> 산근33 →
A30: 계 | C30: 0 | E30: 0 | F30: =J30+H30+L30 -> 149157 | H30: =SUMIF(P28:P29,O30,H28:H29) -> 109545 | J30: =SUMIF(P28:P29,O30,J28:J29) -> 17788 | L30: =SUMIF(P28:P29,O30,L28:L29) -> 21824 | N30: _x0007_`COD|T2_x0005_`EXI|0_x0005_`TPR|0_x0005_` | O30: T2_1 | P30: T7_1
A31: 합 계 | F31: =J31+H31+L31 -> 149157 | H31: =ROUNDDOWN(SUMIF(P28:P30,O31,H28:H30),0) -> 109545 | J31: =ROUNDDOWN(SUMIF(P28:P30,O31,J28:J30),0) -> 17788 | L31: =ROUNDDOWN(SUMIF(P28:P30,O31,L28:L30),0) -> 21824 | O31: T7_1
A33: 제 6 호표 주철이형관 접합 및 부설 (기계:D250㎜), 직관품 적용 / 개소 | M33: 대가6 | N33: =HYPERLINK("#N"&ROW(N36),"_x0005_`BDCOD|B06587_x0007_`POSS|"&ROW(N34)&"_x0007_`POSE|"&ROW(N36)&"_x0007_`") -> _x0005_`BDCOD|B06587_x0007_`POSS|34_x0007_`POSE|36_x0007_` | O33: B06587
A34: 1. 주철관 접합 및 부설 | B34: 품의1/2적용 | C34: 0 | E34: 0 | F34: 0 | H34: 0 | J34: 0 | L34: 0 | N34: _x0007_`COD|_x0005_`EXI|1_x0005_` | O34: _1 | P34: _1
A35: 주철 이형관 접합 및 부설(양중장비) | B35: D250mm 직관 접합 및 부설의 1/2적용 | C35: 1 | D35: 개소 | E35: =I35+G35+K35 -> 74578 | F35: =J35+H35+L35 -> 74578 | G35: =단가산출근거목록표!F37 -> 54772 | H35: =IF(C35=0,0,ROUNDDOWN(G35*C35,1)) -> 54772 | I35: =단가산출근거목록표!G37 -> 8894 | J35: =IF(C35=0,0,ROUNDDOWN(I35*C35,1)) -> 8894 | K35: =단가산출근거목록표!H37 -> 10912 | L35: =IF(C35=0,0,ROUNDDOWN(K35*C35,1)) -> 10912 | M35: 산근 34호표 | N35: _x0007_`COD|D00591_x0005_`EXI|0_x0005_`DVD|F_x0005_`BMK| _x0005_`IPR|0_x0005_`BLA|F_x0005_` | O35: D00591_1 | P35: T1_1 | Z35: =HYPERLINK("#"&단가산출근거목록표!J2&"!A"&ROW(단가산출근거목록표!A37),"산근34 →") -> 산근34 →
A36: 소계 | C36: 0 | E36: 0 | F36: =J36+H36+L36 -> 74578 | H36: =SUMIF(P34:P35,O36,H34:H35) -> 54772 | J36: =SUMIF(P34:P35,O36,J34:J35) -> 8894 | L36: =SUMIF(P34:P35,O36,L34:L35) -> 10912 | N36: _x0007_`COD|T1_x0005_`EXI|0_x0005_`TPR|0_x0005_` | O36: T1_1 | P36: T7_1
A37: 합 계 | F37: =J37+H37+L37 -> 74578 | H37: =ROUNDDOWN(SUMIF(P34:P36,O37,H34:H36),0) -> 54772 | J37: =ROUNDDOWN(SUMIF(P34:P36,O37,J34:J36),0) -> 8894 | L37: =ROUNDDOWN(SUMIF(P34:P36,O37,L34:L36),0) -> 10912 | O37: T7_1
A39: 제 7 호표 주철 이형관 접합 (인력:D250㎜) / 개소 | M39: 대가7 | N39: =HYPERLINK("#N"&ROW(N42),"_x0005_`BDCOD|B02873_x0007_`POSS|"&ROW(N40)&"_x0007_`POSE|"&ROW(N42)&"_x0007_`") -> _x0005_`BDCOD|B02873_x0007_`POSS|40_x0007_`POSE|42_x0007_` | O39: B02873
A40: 1.주철 이형관 접합 | B40: 주철 이형관 접합 및 부설품의 60% 적용 | C40: 0 | E40: 0 | F40: 0 | H40: 0 | J40: 0 | L40: 0 | N40: _x0007_`COD|_x0005_`EXI|1_x0005_` | O40: _1 | P40: _1
A41: 주철 이형관 접합 및 부설(양중장비) | B41: D250mm 직관 접합 및 부설의 1/2적용 | C41: 0.6 | D41: 개소 | E41: =I41+G41+K41 -> 74578 | F41: =J41+H41+L41 -> 44746.8 | G41: =단가산출근거목록표!F37 -> 54772 | H41: =IF(C41=0,0,ROUNDDOWN(G41*C41,1)) -> 32863.2 | I41: =단가산출근거목록표!G37 -> 8894 | J41: =IF(C41=0,0,ROUNDDOWN(I41*C41,1)) -> 5336.4 | K41: =단가산출근거목록표!H37 -> 10912 | L41: =IF(C41=0,0,ROUNDDOWN(K41*C41,1)) -> 6547.2 | M41: 산근 34호표 | N41: _x0007_`COD|D00591_x0005_`EXI|0_x0005_`DVD|F_x0005_`BMK| _x0005_`IPR|0_x0005_`BLA|F_x0005_` | O41: D00591_1 | P41: T2_1 | Z41: =HYPERLINK("#"&단가산출근거목록표!J2&"!A"&ROW(단가산출근거목록표!A37),"산근34 →") -> 산근34 →
A42: 계 | C42: 0 | E42: 0 | F42: =J42+H42+L42 -> 44746.8 | H42: =SUMIF(P40:P41,O42,H40:H41) -> 32863.2 | J42: =SUMIF(P40:P41,O42,J40:J41) -> 5336.4 | L42: =SUMIF(P40:P41,O42,L40:L41) -> 6547.2 | N42: _x0007_`COD|T2_x0005_`EXI|0_x0005_`TPR|0_x0005_` | O42: T2_1 | P42: T7_1
A43: 합 계 | F43: =J43+H43+L43 -> 44746 | H43: =ROUNDDOWN(SUMIF(P40:P42,O43,H40:H42),0) -> 32863 | J43: =ROUNDDOWN(SUMIF(P40:P42,O43,J40:J42),0) -> 5336 | L43: =ROUNDDOWN(SUMIF(P40:P42,O43,L40:L42),0) -> 6547 | O43: T7_1
A45: 제 8 호표 이탈방지압륜 이형관 접합 및 부설 (D250mm), 직관품의 50% 할증 30% / 개소 | M45: 대가8 | N45: =HYPERLINK("#N"&ROW(N46),"_x0005_`BDCOD|B01295_x0007_`POSS|"&ROW(N46)&"_x0007_`POSE|"&ROW(N46)&"_x0007_`") -> _x0005_`BDCOD|B01295_x0007_`POSS|46_x0007_`POSE|46_x0007_` | O45: B01295
A46: 이탈방지압륜 접합 및 부설(인력+장비사용) | B46: D250mm K.P 메커니컬 접합 품의 1/2 적용 | C46: 1 | D46: 개소 | E46: =I46+G46+K46 -> 96952 | F46: =J46+H46+L46 -> 96952 | G46: =단가산출근거목록표!F38 -> 71204 | H46: =IF(C46=0,0,ROUNDDOWN(G46*C46,1)) -> 71204 | I46: =단가산출근거목록표!G38 -> 11562 | J46: =IF(C46=0,0,ROUNDDOWN(I46*C46,1)) -> 11562 | K46: =단가산출근거목록표!H38 -> 14186 | L46: =IF(C46=0,0,ROUNDDOWN(K46*C46,1)) -> 14186 | M46: 산근 35호표 | N46: _x0007_`COD|D04252_x0005_`EXI|0_x0005_`DVD|F_x0005_`BMK| _x0005_`IPR|0_x0005_`BLA|F_x0005_` | O46: D04252_1 | P46: T7_1 | Z46: =HYPERLINK("#"&단가산출근거목록표!J2&"!A"&ROW(단가산출근거목록표!A38),"산근35 →") -> 산근35 →
A47: 합 계 | F47: =J47+H47+L47 -> 96952 | H47: =ROUNDDOWN(SUMIF(P46:P46,O47,H46:H46),0) -> 71204 | J47: =ROUNDDOWN(SUMIF(P46:P46,O47,J46:J46),0) -> 11562 | L47: =ROUNDDOWN(SUMIF(P46:P46,O47,L46:L46),0) -> 14186 | O47: T7_1
A49: 제 9 호표 이탈방지압륜접합 (D250mm)이탈방지압륜 접합 및 부설품의 60% 적용 / 개소 | M49: 대가9 | N49: =HYPERLINK("#N"&ROW(N52),"_x0005_`BDCOD|B02633_x0007_`POSS|"&ROW(N50)&"_x0007_`POSE|"&ROW(N52)&"_x0007_`") -> _x0005_`BDCOD|B02633_x0007_`POSS|50_x0007_`POSE|52_x0007_` | O49: B02633
...

Sheet 단가산출근거목록표
A1: 단가산출근거 목록표 | J1: STmate | K1: STmate
