Workbook
Name _\D: #REF!
Name _\X: #REF!
Name _1_3_0Crite: #REF!
Name _1공장: #REF!
Name _2_3_0Criteria: #REF!
Name _2공장: #REF!
Name _3G_0Extr: #REF!
Name _3공장: #REF!
Name _4G_0Extract: #REF!
Name _A: #REF!
Name _a16385: #REF!
Name _F45: [1]맨홀토공산출!#REF!
Name _F46: [1]맨홀토공산출!#REF!
Name _HSH1: #REF!
Name _HSH2: #REF!
Name _NMB96: #REF!
Name _NP1: #REF!
Name _NP2: #REF!
Name _NSH1: #REF!
Name _NSH2: #REF!
Name _SUM1: [2]EP0618!#REF!
Name _SUM10: [2]EP0618!#REF!
Name _SUM11: [2]EP0618!#REF!
Name _SUM12: [2]EP0618!#REF!
Name _SUM13: [2]EP0618!#REF!
Name _SUM14: [2]EP0618!#REF!
Name _SUM15: [2]EP0618!#REF!
Name _SUM16: [2]EP0618!#REF!
Name _SUM17: [2]EP0618!#REF!
Name _SUM18: [2]EP0618!#REF!
Name _SUM19: [2]EP0618!#REF!
Name _SUM2: [2]EP0618!#REF!
Name _SUM3: [2]EP0618!#REF!
Name _SUM4: [2]EP0618!#REF!
Name _SUM5: [2]EP0618!#REF!
Name _SUM6: [2]EP0618!#REF!
Name _SUM7: [2]EP0618!#REF!
Name _SUM8: [2]EP0618!#REF!
Name _SUM9: [2]EP0618!#REF!
Name _건축목공: #REF!
Name ¤±8529: '[3]일위대가(가설)'!#REF!
Name \\O: [4]기기리스트!#REF!
Name \b: #REF!
Name \c: #REF!
Name \d: #REF!
Name \f: #REF!
Name \h: #REF!
Name \i: #REF!
Name \j: #REF!
Name \k: #REF!
Name \l: #REF!
Name \m: #REF!
Name \n: #REF!
Name \o: [4]기기리스트!#REF!
Name \q: #REF!
Name \r: #REF!
Name \v: [4]기기리스트!#REF!
Name \w: [4]기기리스트!#REF!
Name \y: [5]약품설비!#REF!
Name A0: #REF!

Sheet 견적서
B1: No. EP260524-001
A2: 견 적 서
B5: 사업명 : 동양중학교 진입로 도로열선 관급자재 구매설치 | V5: 공 급 자 | X5: 등 록 번 호 | AC5: 514 - 81 - 60452
B6: 제출일 : 2026년 05월 24일 | X6: 상호(법인명) | AC6: ㈜에너피아 | AK6: 성명 | AM6: 이 자 현
B7: 제출처 : 가지디자인 | X7: 사업장주소 | AC7: 대구광역시 달성군 구지면 국가산단서로 71길 20-35
B8: 참 조 : 견적담당자 귀중 | X8: 업 태 | AC8: 제조 | AJ8: 종목 | AM8: 냉난방기, 열선
C9: 아래와 같이 견적합니다. | X9: 전 화 번 호 | AC9: 053-474-8050 | AJ9: F A X | AM9: 053-473-8050
X10: 담 당 자 | AC10: 고영남 | AH10: 부장 | AJ10: T E L | AM10: 010-8757-9225
A11: 합 계 금 액 (부가세포함) | J11: ="일금"&NUMBERSTRING(AE11,1)&"원정" -> 일금팔천육백삼십만원정 | AC11: ( \ | AE11: =AF26 -> 86300000 | AQ11: )
A13: 품명 | K13: 규격 | S13: 단위 | V13: 수량 | Y13: 단가 | AF13: 금액 | AN13: 물품식별번호
A14: 절전형 스마트 IOT 자율제어 스노우멜팅 시스템 | K14: EP-S3804 | S14: 식 | V14: 1 | Y14: =원가계산서!I27 -> 78454546 | AF14: =V14*Y14 -> 78454546 | AN14: 25543579
A24: 총 원 가 | AF24: =TRUNC((AF14+AF15+AF16),0) -> 78454546
A25: 부가가치세 | AF25: =AF24*9.999999% -> 7845453.8
A26: 견 적 가 | AF26: =AF24+AF25 -> 86300000
A27: * 참 고 사 항
B28: 1. 본 견적은 조달청 '혁신제품(관급자재) 현장설치도' 견적임
B29: 2. 견적유효기간 : 발급일로부터 30日
B30: 3. 1차 전기인입공사비 및 통신공사비 미포함
B31: 4. 설치면적 및 필요소비전력는 첨부 '설계내역서' 참조
B32: 5. 조달청 혁신장터에 등록된 '희망가격'과는 상이할 수 있음
B33: → 모델별 '희망가격'을 기준으로하되 현장 여건에 따라 상이함
B34: 6. 조달청 혁신제품은 금액에 관계없이 물품구매를 통한 총액수의계약 가능함.

Sheet 표지
A2: 동양중학교 교내 포장개선 전기공사
A3: [스노우멜팅-도로열선]
A8: 2026년 07월
A10: 동양중학교
A16: 1. 원가계산서
A17: 2. 집 계 표
A18: 3. 내 역 서
A19: 4. 일 위 대 가
A20: 5. 단가비교표
A21: 6. 수량산출서
A27: 1. 원가계산서
A39: 2. 집 계 표
... A87: 6. 수량산출서

Sheet 갑지
A1: 결 재 자 | D1: 심 사 자 | G1: 기 안 자 | J1: 설 계 자 | K1: ㈜에너피아 | M1: 설 계 일 | N1: 2026년 07월
M2: 심 사 일
A4: 관 급 자 재(혁신제품) 설 계 내 역 서
B6: □ 사 업 명 : 동양중학교 진입로 도로열선 관급자재 구매설치
B8: 구 분 | E8: 금 액 | N8: 비고
B9: 총 공 사 비 | E9: ="일금"&NUMBERSTRING(L9,1)&"원정" -> 일금팔천육백삼십만원정 | K9: \ | L9: =L12+L13+L14 -> 86300000
B10: 도 급 비 | C10: 총 원 가 | E10: ="일금"&NUMBERSTRING(L10,1)&"원정" -> 일금칠천팔백사십오만사천오백사십육원정 | K10: \ | L10: =원가계산서!I27 -> 78454546
C11: 부가가치세 | E11: ="일금"&NUMBERSTRING(L11,1)&"원정" -> 일금칠백팔십사만오천사백오십사원정 | K11: \ | L11: =원가계산서!I28 -> 7845454.2
C12: 계 | E12: ="일금"&NUMBERSTRING(L12,1)&"원정" -> 일금팔천육백삼십만원정 | K12: \ | L12: =TRUNC((L10+L11),-1) -> 86300000
B14: 제 품 개 요
B15: - | C15: 조달청 혁신제품(관급자재) '절전형 스마트 IoT 자율제어 스노우멜팅 시스템' 현장설치도 설계내역서임 | R15: `
B16: - | C16: 도로홈파기 및 되메우기하는 '컷팅공법' 적용 / 1차 전기인입공사비 및 통신공사비 별도 내역임 | R16: `
B17: - | C17: 물품분류번호 : 46161506, 물품식별번호 : 25543579, 모델명 : EP-S3804, 수량 : 2조 현장설치도 내역임
B18: - | C18: 대상지별 설치내역 요약 (A+B)
C19: A. 상단부 : 열선총장 390M, 1차선, 타이어접지면당 4Line, 필요소비전력 SMP-1 15.60Kw
C20: B. 하단부 : 열선총장 323M, 1차선, 타이어접지면당 4Line × 2륜 + 보행로 4Line, 필요소비전력 SMP-2 12.92KW
B21: - | C21: 총 필요소비전력 총 28.52Kw (380V, 3상4선식 기준, 열선 M당 40W 소요)
B22: - | C22: 예열/본가동 교차출력을 통한 전기세 절감 효과 (최대 35% 절감) 우수 / 하자보증기간 2년

Sheet 원가계산서
A1: 원 가 계 산 서
A2: =갑지!B6 -> □ 사 업 명 : 동양중학교 진입로 도로열선 관급자재 구매설치 | K2: [단위 : 원]
A3: 비 목 | C3: 구 분 | G3: =총괄집계표!A6 -> A 상단부(차로) | H3: =총괄집계표!A7 -> B 하단부(차로+보행로) | I3: 합 계 | K3: 적 용 기 준
A4: 순 공 사 원 가 | B4: 재 | D4: ⓐ 직접재료비 | G4: =총괄집계표!F6 -> 18648320 | H4: =총괄집계표!F7 -> 17265978 | I4: =SUM(G4:H4) -> 35914298 | K4: 2026년 토목,조경,산업환경
B5: 료 | D5: ⓑ 간접재료비 | I5: =SUM(G5:H5) -> 0 | K5: 설비공사 원가계산
B6: 비 | D6: ⓒ소계 | F6: (ⓐ + ⓑ) | G6: =SUM(G4:G5) -> 18648320 | H6: =SUM(H4:H5) -> 17265978 | I6: =SUM(G6:H6) -> 35914298 | K6: 제비율적용
B7: 노 | D7: ⓓ 직접노무비 | G7: =총괄집계표!H6 -> 11473765 | H7: =총괄집계표!H7 -> 10556724 | I7: =SUM(G7:H7) -> 22030488
B8: 무 | D8: ⓔ 간접노무비 | F8: (ⓓ × 16.5%) | G8: =TRUNC(G7*$J8) -> 1893171 | H8: =TRUNC(H7*$J8) -> 1741859 | I8: =SUM(G8:H8) -> 3635030 | J8: 0.165 | K8: 토목, 10억 미만, 6개월이하 적용
B9: 비 | D9: ⓕ소계 | F9: (ⓓ + ⓔ) | G9: =SUM(G7:G8) -> 13366936 | H9: =SUM(H7:H8) -> 12298583 | I9: =SUM(G9:H9) -> 25665518
D10: ⓖ산출경비 | G10: =총괄집계표!J6 -> 50310 | H10: =총괄집계표!I7 -> 41667 | I10: =SUM(G10:H10) -> 91977 | K10: 공종별 집계표 참조
B11: 경 | D11: ⓗ 산재보험료 | F11: (ⓕ × 3.56%) | G11: =TRUNC(G9*$J11,0) -> 475862 | H11: =TRUNC(H9*$J11,0) -> 437829 | I11: =SUM(G11:H11) -> 913691 | J11: 0.0356 | K11: 건설공사 동일 적용
D12: ⓘ 고용보험료 | F12: (ⓕ × 1.01%) | G12: =TRUNC(G9*$J12,0) -> 135006 | H12: =TRUNC(H9*$J12,0) -> 124215 | I12: =SUM(G12:H12) -> 259221 | J12: 0.0101 | K12: 7등급 적용
D13: ⓙ 건강보험료 | I13: =SUM(G13:H13) -> 0 | K13: 미적용 (1개월 이하 공사)
D14: ⓚ 연금보험료 | I14: =SUM(G14:H14) -> 0 | K14: 미적용 (1개월 이하 공사)
D15: ⓛ 노인장기요양보험료 | G15: =TRUNC(G13*$J15,0) -> 0 | H15: =TRUNC(H13*$J15,0) -> 0 | I15: =SUM(G15:H15) -> 0 | K15: 미적용 (1개월 이하 공사)
D16: ⓜ 퇴직공제부금비 | F16: (ⓓ × 2.3%) | G16: =TRUNC(G7*$J16) -> 263896 | H16: =TRUNC(H7*$J16) -> 242804 | I16: =SUM(G16:H16) -> 506700 | J16: 0.023 | K16: 추정금액 1억 이상 적용
D17: ⓝ 산업안전보건관리비 | F17: [(ⓒ+ⓓ) × 1.59%)] | G17: =TRUNC((G6+G7)*$J17) -> 478941 | H17: =TRUNC((H6+H7)*$J17) -> 442380 | I17: =SUM(G17:H17) -> 921321 | J17: 0.0159 | K17: 특수건설공사 5억~50억 미만 적용
D18: ⓞ기타경비 | F18: [(ⓒ+ⓕ) × 5.20%)] | G18: =TRUNC((G6+G9)*$J18) -> 1664793 | H18: =TRUNC((H6+H9)*$J18) -> 1537357 | I18: =SUM(G18:H18) -> 3202150 | J18: 0.052 | K18: 토목, 10억 미만, 6개월이하 적용
D19: ⓟ건설기계대여대금지급보증서 | F19: (ⓕ × 0.68%) | I19: =SUM(G19:H19) -> 0 | K19: 미적용 (그외) | P19: 0
B20: 비 | D20: ⓠ 환경보전비 | F20: [(ⓒ+ⓓ+ⓖ) × 0.9%)] | I20: =SUM(G20:H20) -> 0 | J20: 0.009 | K20: 미적용 (전기공사)
D21: ⓡ석면분담금 | F21: (ⓕ × 0.006%) | G21: =TRUNC(G9*$J$21) -> 802 | H21: =TRUNC(H9*$J$21) -> 737 | I21: =SUM(G21:H21) -> 1539 | J21: 6e-05 | K21: 건설공사 동일 적용
D22: ⓢ임금채권부담금 | F22: [(ⓒ+ⓓ+ⓖ) × 0.09%)] | G22: =TRUNC((G6+G7+G10)*$J$22) -> 27155 | H22: =TRUNC((H6+H7+H10)*$J$22) -> 25077 | I22: =SUM(G22:H22) -> 52232 | J22: 0.0009 | K22: 건설공사 동일 적용
D23: ⓣ소계 | F23: (ⓖ+ ~ +ⓢ) | G23: =SUM(G10:G22) -> 3096765 | H23: =SUM(H10:H22) -> 2852066 | I23: =SUM(G23:H23) -> 5948831
A24: ⓤ 순 공 사 원 가 | F24: (ⓒ+ⓕ+ⓣ) | G24: =SUM(G6,G9,G23) -> 35112021 | H24: =SUM(H6,H9,H23) -> 32416627 | I24: =SUM(G24:H24) -> 67528647
A25: ⓥ 일 반 관 리 비 | F25: (ⓤ × 8.0%) | G25: =TRUNC(G24*$J25,0) -> 2808961 | H25: =TRUNC(H24*$J25,0) -> 2593330 | I25: =SUM(G25:H25) -> 5402291 | J25: 0.08 | K25: 전기, 추정가격 5억~30억 미만 적용
A26: ⓦ 이 윤 | F26: [(ⓕ+ⓣ+ⓥ) × 15.0%) | G26: =TRUNC((G9+G23+G25)*$J26,0) -> 2875859 | H26: =TRUNC((H9+H23+H25)*$J26,0) -> 2647750 | I26: =SUM(G26:H26) -> 5523609 | J26: 0.14921965 | K26: 전기, 추정가격 5억~30억 미만 적용
A27: ⓧ 총 원 가 | F27: (ⓤ+ⓥ+ⓦ) | G27: =TRUNC((G24+G25+G26),0) -> 40796840 | H27: =TRUNC((H24+H25+H26),0) -> 37657706 | I27: =SUM(G27:H27) -> 78454546 | K27: 만원단위 절사
A28: ⓨ 부 가 가 치 세 | F28: (ⓧ × 10%) | G28: =G27*10% -> 4079684 | H28: =H27*9.999999% -> 3765770.2 | I28: =SUM(G28:H28) -> 7845454.2 | J28: 0.1
A29: ⓩ 총 공 사 비 | F29: (ⓧ + ⓨ) | G29: =TRUNC((G27+G28),0) -> 44876524 | H29: =TRUNC((H27+H28),0) -> 41423476 | I29: =SUM(G29:H29) -> 86300000
I31: =I8+I11+I12+I16+I17+I18+I25+I26 -> 20364013

Sheet 총괄집계표
A1: 총 괄 집 계 표
A2: =갑지!B6 -> □ 사 업 명 : 동양중학교 진입로 도로열선 관급자재 구매설치
A3: 품 명 | B3: 규 격 | C3: 단위 | D3: 수량 | E3: 세 부 내 역 | M3: 비 고
E4: 재 료 비 | G4: 노 무 비 | I4: 경 비 | K4: 합 계
E5: 단 가 | F5: 금 액 | G5: 단 가 | H5: 금 액 | I5: 단 가 | J5: 금 액 | K5: 단 가 | L5: 금 액
A6: =내역서!A6 -> A 상단부(차로) | B6: 절전형 스마트 IoT 자율제어 스노우멜팅 시스템 | C6: 식 | D6: 1 | E6: =내역서!F6 -> 18648320 | F6: =D6*E6 -> 18648320 | G6: =내역서!H6 -> 11473765 | H6: =D6*G6 -> 11473765 | I6: =내역서!J6 -> 50310 | J6: =D6*I6 -> 50310 | K6: =E6+G6+I6 -> 30172395 | L6: =F6+H6+J6 -> 30172395
A7: =내역서!A23 -> B 하단부(차로+보행로) | B7: 절전형 스마트 IoT 자율제어 스노우멜팅 시스템 | C7: 식 | D7: 1 | E7: =내역서!F23 -> 17265978 | F7: =D7*E7 -> 17265978 | G7: =내역서!H23 -> 10556724 | H7: =D7*G7 -> 10556724 | I7: =내역서!J23 -> 41667 | J7: =D7*I7 -> 41667 | K7: =E7+G7+I7 -> 27864369 | L7: =F7+H7+J7 -> 27864369
S27: 0
A36: 순공사비 | F36: =SUM(F6:F35) -> 35914298 | H36: =SUM(H6:H35) -> 22030488 | J36: =SUM(J6:J35) -> 91977 | L36: =F36+H36+J36 -> 58036763

Sheet 내역서
A1: 내 역 서
A2: =갑지!B6 -> □ 사 업 명 : 동양중학교 진입로 도로열선 관급자재 구매설치
A3: 품 명 | B3: 규 격 | C3: 단위 | D3: 수량 | E3: 세 부 내 역 | M3: 비 고
E4: 재 료 비 | G4: 노 무 비 | I4: 경 비 | K4: 합 계
E5: 단 가 | F5: 금 액 | G5: 단 가 | H5: 금 액 | I5: 단 가 | J5: 금 액 | K5: 단 가 | L5: 금 액
A6: =수량산출서!A6 -> A 상단부(차로) | F6: =SUM(F7:F21) -> 18648320 | H6: =SUM(H7:H21) -> 11473765 | J6: =SUM(J7:J21) -> 50310 | L6: =F6+H6+J6 -> 30172395
A7: 스노우멜팅케이블 신설 | B7: =일위대가총괄표!C6 -> DW40W110S | C7: M | D7: =수량산출서!E8 -> 390 | E7: =일위대가총괄표!G6 -> 14100 | F7: =D7*E7 -> 5499000 | G7: =일위대가총괄표!H6 -> 5708.2 | H7: =D7*G7 -> 2226198 | K7: =E7+G7+I7 -> 19808.2 | L7: =F7+H7+J7 -> 7725198 | M7: 일위1참조
A8: COLDLEAD KIT 신설 | B8: =일위대가총괄표!C7 -> 방습,절연키트 | C8: M | D8: =수량산출서!E9 -> 3 | E8: =일위대가총괄표!G7 -> 65000 | F8: =D8*E8 -> 195000 | G8: =일위대가총괄표!I7 -> 3163.2 | H8: =D8*G8 -> 9489.6 | K8: =E8+G8+I8 -> 68163.2 | L8: =F8+H8+J8 -> 204489.6 | M8: 일위2참조
A9: 난연전력케이블(0.6/1KV) 신설 | B9: F-CV 6㎟/1C | C9: M | D9: =수량산출서!E11 -> 120 | E9: =일위대가총괄표!G8 -> 1239 | F9: =D9*E9 -> 148680 | G9: =일위대가총괄표!I8 -> 1714.3 | H9: =D9*G9 -> 205716 | K9: =E9+G9+I9 -> 2953.3 | L9: =F9+H9+J9 -> 354396 | M9: 일위3참조
A10: 간선용전선관 신설 | B10: GW-28C | C10: M | D10: =수량산출서!E12 -> 15 | E10: =일위대가총괄표!G9 -> 1000 | F10: =D10*E10 -> 15000 | G10: =일위대가총괄표!I9 -> 14574.7 | H10: =D10*G10 -> 218620.5 | K10: =E10+G10+I10 -> 15574.7 | L10: =F10+H10+J10 -> 233620.5 | M10: 일위4참조
A11: 파상형경질폴리에틸렌전선관 신설 | B11: ELP 80 | C11: M | D11: =수량산출서!E13 -> 20 | E11: =일위대가총괄표!G10 -> 1450 | F11: =D11*E11 -> 29000 | G11: =일위대가총괄표!I10 -> 8103.1 | H11: =D11*G11 -> 162062 | K11: =E11+G11+I11 -> 9553.1 | L11: =F11+H11+J11 -> 191062 | M11: 일위5참조
A12: 노면자동센서KIT 신설 | B12: =일위대가총괄표!C11 -> EP-SMC300S 매립형 | C12: SET | D12: =수량산출서!E15 -> 1 | E12: =일위대가총괄표!G11 -> 1200000 | F12: =D12*E12 -> 1200000 | G12: =일위대가총괄표!I11 -> 808342.5 | H12: =D12*G12 -> 808342.5 | K12: =E12+G12+I12 -> 2008342.5 | L12: =F12+H12+J12 -> 2008342.5 | M12: 일위6참조
A13: 대기자동센서KIT 신설 | B13: =일위대가총괄표!C12 -> NTC-10K 매립형 | C13: SET | D13: =수량산출서!E16 -> 1 | E13: =일위대가총괄표!G12 -> 1300000 | F13: =D13*E13 -> 1300000 | G13: =일위대가총괄표!I12 -> 808342.5 | H13: =D13*G13 -> 808342.5 | K13: =E13+G13+I13 -> 2108342.5 | L13: =F13+H13+J13 -> 2108342.5 | M13: 일위7참조
A14: 무인자동제어반 SMP-1 신설 | B14: =단가비교표!C12 -> 380V 15.6KW SUS304 옥외자립 | C14: 대 | D14: =수량산출서!E17 -> 1 | E14: =일위대가총괄표!G13 -> 2400000 | F14: =D14*E14 -> 2400000 | G14: =일위대가총괄표!I14 -> 1458780.9 | H14: =D14*G14 -> 1458780.9 | K14: =E14+G14+I14 -> 3858780.9 | L14: =F14+H14+J14 -> 3858780.9 | M14: 일위8참조
A15: 접지동봉 신설 | B15: 14￠×1000L | C15: SET | D15: =수량산출서!E18 -> 1 | E15: =일위대가총괄표!G15 -> 6500 | F15: =D15*E15 -> 6500 | G15: =일위대가총괄표!I15 -> 100095.8 | H15: =D15*G15 -> 100095.8 | K15: =E15+G15+I15 -> 106595.8 | L15: =F15+H15+J15 -> 106595.8 | M15: 일위9참조
A16: 판넬기초(BASE) 신설 | B16: =수량산출서!B19 -> 1350×600×350이상(제작) | C16: 개소 | D16: =수량산출서!E19 -> 1 | E16: =일위대가총괄표!G16 -> 650000 | F16: =D16*E16 -> 650000 | G16: =일위대가총괄표!I16 -> 6538.5 | H16: =D16*G16 -> 6538.5 | K16: =E16+G16+I16 -> 656538.5 | L16: =F16+H16+J16 -> 656538.5 | M16: 일위10참조
A17: IoT원격제어시스템 신설 | B17: =단가비교표!C16 -> 절전형스마트시스템 V1.0, S/W포함 | C17: SET | D17: =수량산출서!E20 -> 1 | E17: =일위대가총괄표!G17 -> 6400000 | F17: =D17*E17 -> 6400000 | G17: =일위대가총괄표!I17 -> 1541216.4 | H17: =D17*G17 -> 1541216.4 | K17: =E17+G17+I17 -> 7941216.4 | L17: =F17+H17+J17 -> 7941216.4 | M17: 일위11참조
A18: 도로 홈파기 | B18: W10×D50mm 건식컷팅 | C18: M | D18: =수량산출서!E8 -> 390 | E18: =일위대가총괄표!G18 -> 1138 | F18: =D18*E18 -> 443820 | G18: =일위대가총괄표!I18 -> 4455 | H18: =D18*G18 -> 1737450 | I18: =일위대가총괄표!K18 -> 129 | J18: =D18*I18 -> 50310 | K18: =E18+G18+I18 -> 5722 | L18: =F18+H18+J18 -> 2231580 | M18: 일위12참조
A19: 도로 홈되메우기 | B19: 록하드 도로보수재 25KG/포 | C19: M | D19: =수량산출서!E8 -> 390 | E19: =일위대가총괄표!G19 -> 588 | F19: =D19*E19 -> 229320 | G19: =일위대가총괄표!I19 -> 5600.8 | H19: =D19*G19 -> 2184312 | K19: =E19+G19+I19 -> 6188.8 | L19: =F19+H19+J19 -> 2413632 | M19: 일위13참조
A20: 공사안내표지판 | B20: 대형 | C20: EA | D20: =수량산출서!E24 -> 1 | E20: =일위대가총괄표!G20 -> 120000 | F20: =D20*E20 -> 120000 | G20: =일위대가총괄표!I20 -> 6000 | H20: =D20*G20 -> 6000 | K20: =E20+G20+I20 -> 126000 | L20: =F20+H20+J20 -> 126000 | M20: 일위14참조
A21: 교통안내표지판 | B21: 소형 | C21: EA | D21: =수량산출서!E25 -> 1 | E21: =일위대가총괄표!G21 -> 12000 | F21: =D21*E21 -> 12000 | G21: =일위대가총괄표!I21 -> 600 | H21: =D21*G21 -> 600 | K21: =E21+G21+I21 -> 12600 | L21: =F21+H21+J21 -> 12600 | M21: 일위15참조
A23: =수량산출서!A27 -> B 하단부(차로+보행로) | F23: =SUM(F24:F36) -> 17265978 | H23: =SUM(H24:H36) -> 10556724 | J23: =SUM(J24:J36) -> 41667 | L23: =F23+H23+J23 -> 27864369
A24: 스노우멜팅케이블 신설 | B24: DW40W110S | C24: M | D24: =수량산출서!E29 -> 323 | E24: =일위대가총괄표!G6 -> 14100 | F24: =D24*E24 -> 4554300 | G24: =일위대가총괄표!I6 -> 5708.2 | H24: =D24*G24 -> 1843748.6 | K24: =E24+G24+I24 -> 19808.2 | L24: =F24+H24+J24 -> 6398048.6 | M24: 일위1참조
A25: COLDLEAD KIT 신설 | B25: 방습,절연키트 | C25: M | D25: =수량산출서!E30 -> 3 | E25: =일위대가총괄표!G7 -> 65000 | F25: =D25*E25 -> 195000 | G25: =일위대가총괄표!I7 -> 3163.2 | H25: =D25*G25 -> 9489.6 | K25: =E25+G25+I25 -> 68163.2 | L25: =F25+H25+J25 -> 204489.6 | M25: 일위2참조
A26: 난연전력케이블(0.6/1KV) 신설 | B26: F-CV 6㎟/1C | C26: M | D26: =수량산출서!E32 -> 120 | E26: =일위대가총괄표!G8 -> 1239 | F26: =D26*E26 -> 148680 | G26: =일위대가총괄표!I8 -> 1714.3 | H26: =D26*G26 -> 205716 | K26: =E26+G26+I26 -> 2953.3 | L26: =F26+H26+J26 -> 354396 | M26: 일위3참조
A27: 간선용전선관 신설 | B27: GW-28C | C27: M | D27: =수량산출서!E33 -> 25 | E27: =일위대가총괄표!G9 -> 1000 | F27: =D27*E27 -> 25000 | G27: =일위대가총괄표!I9 -> 14574.7 | H27: =D27*G27 -> 364367.5 | K27: =E27+G27+I27 -> 15574.7 | L27: =F27+H27+J27 -> 389367.5 | M27: 일위4참조
A28: 파상형경질폴리에틸렌전선관 신설 | B28: ELP 80 | C28: M | D28: =수량산출서!E34 -> 20 | E28: =일위대가총괄표!G10 -> 1450 | F28: =D28*E28 -> 29000 | G28: =일위대가총괄표!I10 -> 8103.1 | H28: =D28*G28 -> 162062 | K28: =E28+G28+I28 -> 9553.1 | L28: =F28+H28+J28 -> 191062 | M28: 일위5참조
A29: 노면자동센서KIT 신설 | B29: EP-SMC300S 매립형 | C29: SET | D29: =수량산출서!E36 -> 1 | E29: =일위대가총괄표!G11 -> 1200000 | F29: =D29*E29 -> 1200000 | G29: =일위대가총괄표!I11 -> 808342.5 | H29: =D29*G29 -> 808342.5 | K29: =E29+G29+I29 -> 2008342.5 | L29: =F29+H29+J29 -> 2008342.5 | M29: 일위6참조
A30: 대기자동센서KIT 신설 | B30: NTC-10K 매립형 | C30: SET | D30: =수량산출서!E36 -> 1 | E30: =일위대가총괄표!G12 -> 1300000 | F30: =D30*E30 -> 1300000 | G30: =일위대가총괄표!I12 -> 808342.5 | H30: =D30*G30 -> 808342.5 | K30: =E30+G30+I30 -> 2108342.5 | L30: =F30+H30+J30 -> 2108342.5 | M30: 일위7참조
A31: 무인자동제어반 SMP-2 신설 | B31: =단가비교표!C13 -> 380V 12.92KW SUS304 옥외자립 | C31: 대 | D31: =수량산출서!E38 -> 1 | E31: =일위대가총괄표!G14 -> 2200000 | F31: =D31*E31 -> 2200000 | G31: =일위대가총괄표!I14 -> 1458780.9 | H31: =D31*G31 -> 1458780.9 | K31: =E31+G31+I31 -> 3658780.9 | L31: =F31+H31+J31 -> 3658780.9 | M31: 일위8참조
A32: 접지동봉 신설 | B32: 14￠×1000L | C32: SET | D32: =수량산출서!E39 -> 1 | E32: =일위대가총괄표!G15 -> 6500 | F32: =D32*E32 -> 6500 | G32: =일위대가총괄표!I15 -> 100095.8 | H32: =D32*G32 -> 100095.8 | K32: =E32+G32+I32 -> 106595.8 | L32: =F32+H32+J32 -> 106595.8 | M32: 일위9참조
A33: 판넬기초(BASE) 신설 | B33: 1350×600×350이상(제작) | C33: 개소 | D33: =수량산출서!E40 -> 1 | E33: =일위대가총괄표!G16 -> 650000 | F33: =D33*E33 -> 650000 | G33: =일위대가총괄표!I16 -> 6538.5 | H33: =D33*G33 -> 6538.5 | K33: =E33+G33+I33 -> 656538.5 | L33: =F33+H33+J33 -> 656538.5 | M33: 일위10참조
A34: =A17 -> IoT원격제어시스템 신설 | B34: =B17 -> 절전형스마트시스템 V1.0, S/W포함 | C34: SET | D34: =수량산출서!E41 -> 1 | E34: =일위대가총괄표!G17 -> 6400000 | F34: =D34*E34 -> 6400000 | G34: =일위대가총괄표!I17 -> 1541216.4 | H34: =D34*G34 -> 1541216.4 | K34: =E34+G34+I34 -> 7941216.4 | L34: =F34+H34+J34 -> 7941216.4 | M34: 일위11참조
A35: 도로 홈파기 | B35: =B18 -> W10×D50mm 건식컷팅 | C35: M | D35: =수량산출서!E29 -> 323 | E35: =일위대가총괄표!G18 -> 1138 | F35: =D35*E35 -> 367574 | G35: =일위대가총괄표!I18 -> 4455 | H35: =D35*G35 -> 1438965 | I35: =일위대가총괄표!K18 -> 129 | J35: =D35*I35 -> 41667 | K35: =E35+G35+I35 -> 5722 | L35: =F35+H35+J35 -> 1848206 | M35: 일위12참조
A36: 도로 홈되메우기 | B36: =B19 -> 록하드 도로보수재 25KG/포 | C36: M | D36: =수량산출서!E29 -> 323 | E36: =일위대가총괄표!G19 -> 588 | F36: =D36*E36 -> 189924 | G36: =일위대가총괄표!I19 -> 5600.8 | H36: =D36*G36 -> 1809058.4 | K36: =E36+G36+I36 -> 6188.8 | L36: =F36+H36+J36 -> 1998982.4 | M36: 일위13참조
O58: 18749719 | P58: =#REF!-O58 -> #REF!

Sheet 일위대가총괄표
A1: 일위대가 목록표
A2: =갑지!B6 -> □ 사 업 명 : 동양중학교 진입로 도로열선 관급자재 구매설치
A3: 공 종 | C3: 규 격 | D3: 단위 | E3: 수량 | F3: 세 부 내 역
F4: 재 료 비 | H4: 노 무 비 | J4: 경 비 | L4: 합 계
F5: 단 가 | G5: 금 액 | H5: 단 가 | I5: 금 액 | J5: 단 가 | K5: 금 액 | L5: 단 가 | M5: 금 액
A6: 제1호표 | B6: =일위대가!B6 -> 스노우멜팅케이블 신설 | C6: =일위대가!C6 -> DW40W110S | D6: =일위대가!D6 -> M | E6: 1 | F6: =일위대가!G11 -> 14100 | G6: =E6*F6 -> 14100 | H6: =일위대가!I11 -> 5708.2 | I6: =E6*H6 -> 5708.2 | L6: =F6+H6+J6 -> 19808.2 | M6: =G6+I6+K6 -> 19808.2
A7: 제2호표 | B7: =일위대가!B13 -> COLDLEAD KIT 신설 | C7: =일위대가!C13 -> 방습,절연키트 | D7: =일위대가!D13 -> SET | E7: 1 | F7: =일위대가!G18 -> 65000 | G7: =E7*F7 -> 65000 | H7: =일위대가!I18 -> 3163.2 | I7: =E7*H7 -> 3163.2 | L7: =F7+H7+J7 -> 68163.2 | M7: =G7+I7+K7 -> 68163.2
A8: 제3호표 | B8: =일위대가!B20 -> 난연전력케이블(0.6/1KV) 신설 | C8: F-CV 6㎟/1C | D8: =일위대가!D20 -> M | E8: 1 | F8: =일위대가!G26 -> 1239 | G8: =E8*F8 -> 1239 | H8: =일위대가!I26 -> 1714.3 | I8: =E8*H8 -> 1714.3 | L8: =F8+H8+J8 -> 2953.3 | M8: =G8+I8+K8 -> 2953.3
A9: 제4호표 | B9: =일위대가!B28 -> 간선용전선관 신설 | C9: GW-28C | D9: =일위대가!D28 -> M | E9: 1 | F9: =일위대가!G34 -> 1000 | G9: =E9*F9 -> 1000 | H9: =일위대가!I34 -> 14574.7 | I9: =E9*H9 -> 14574.7 | L9: =F9+H9+J9 -> 15574.7 | M9: =G9+I9+K9 -> 15574.7
A10: 제5호표 | B10: =일위대가!B36 -> 파상형경질폴리에틸렌전선관 신설 | C10: ELP 80 | D10: =일위대가!D36 -> M | E10: 1 | F10: =일위대가!G42 -> 1450 | G10: =E10*F10 -> 1450 | H10: =일위대가!I42 -> 8103.1 | I10: =E10*H10 -> 8103.1 | L10: =F10+H10+J10 -> 9553.1 | M10: =G10+I10+K10 -> 9553.1
A11: 제6호표 | B11: =일위대가!B46 -> 노면자동센서KIT 신설 | C11: =일위대가!C46 -> EP-SMC300S 매립형 | D11: =일위대가!D46 -> SET | E11: 1 | F11: =일위대가!G53 -> 1200000 | G11: =E11*F11 -> 1200000 | H11: =일위대가!I53 -> 808342.5 | I11: =E11*H11 -> 808342.5 | L11: =F11+H11+J11 -> 2008342.5 | M11: =G11+I11+K11 -> 2008342.5
A12: 제7호표 | B12: =일위대가!B55 -> 대기자동센서KIT 신설 | C12: =일위대가!C55 -> NTC-10K 매립형 | D12: =일위대가!D55 -> SET | E12: 1 | F12: =일위대가!G62 -> 1300000 | G12: =E12*F12 -> 1300000 | H12: =일위대가!I62 -> 808342.5 | I12: =E12*H12 -> 808342.5 | L12: =F12+H12+J12 -> 2108342.5 | M12: =G12+I12+K12 -> 2108342.5
A13: 제8호표 | B13: =일위대가!B64 -> 무인자동제어반 SMP-1 신설 | C13: =일위대가!C64 -> 380V 15.60KW SUS304 옥외자립 | D13: =일위대가!D64 -> 대 | E13: 1 | F13: =일위대가!G70 -> 2400000 | G13: =E13*F13 -> 2400000 | H13: =일위대가!I70 -> 1458780.9 | I13: =E13*H13 -> 1458780.9 | L13: =F13+H13+J13 -> 3858780.9 | M13: =G13+I13+K13 -> 3858780.9
A14: 제9호표 | B14: =일위대가!B72 -> 무인자동제어반 SMP-2 신설 | C14: =일위대가!C72 -> 380V 12.92KW SUS304 옥외자립 | D14: 대 | E14: 1 | F14: =일위대가!G78 -> 2200000 | G14: =E14*F14 -> 2200000 | H14: =일위대가!I78 -> 1458780.9 | I14: =E14*H14 -> 1458780.9 | L14: =F14+H14+J14 -> 3658780.9 | M14: =G14+I14+K14 -> 3658780.9
A15: 제10호표 | B15: =일위대가!B86 -> 접지동봉 신설 | C15: =일위대가!C86 -> 14￠×1000L | D15: =일위대가!D86 -> EA | E15: 1 | F15: =일위대가!G92 -> 6500 | G15: =E15*F15 -> 6500 | H15: =일위대가!I92 -> 100095.8 | I15: =E15*H15 -> 100095.8 | L15: =F15+H15+K15 -> 106595.8 | M15: =E15*L15 -> 106595.8
A16: 제11호표 | B16: =일위대가!B94 -> 판넬기초(BASE) 신설 | C16: =일위대가!C94 -> 1350×600×350이상(제작) | D16: =일위대가!D94 -> 개소 | E16: 1 | F16: =일위대가!G99 -> 650000 | G16: =E16*F16 -> 650000 | H16: =일위대가!I99 -> 6538.5 | I16: =E16*H16 -> 6538.5 | L16: =F16+H16+K16 -> 656538.5 | M16: =E16*L16 -> 656538.5
A17: 제12호표 | B17: =일위대가!B101 -> IoT원격제어시스템 신설 | C17: =일위대가!C101 -> 절전형스마트시스템 V1.0, S/W포함 | D17: =일위대가!D101 -> SET | E17: 1 | F17: =일위대가!G109 -> 6400000 | G17: =E17*F17 -> 6400000 | H17: =일위대가!I109 -> 1541216.4 | I17: =E17*H17 -> 1541216.4 | L17: =F17+H17+K17 -> 7941216.4 | M17: =E17*L17 -> 7941216.4
A18: 제13호표 | B18: =일위대가!B111 -> 도로 홈파기(컷팅) | C18: =일위대가!C111 -> W10×D50mm 건식컷팅 | D18: =일위대가!D111 -> M | E18: 1 | F18: =일위대가!G115 -> 1138 | G18: =E18*F18 -> 1138 | H18: =일위대가!I115 -> 4455 | I18: =E18*H18 -> 4455 | J18: =일위대가!K115 -> 129 | K18: =E18*J18 -> 129 | L18: =F18+H18+K18 -> 5722 | M18: =E18*L18 -> 5722
A19: 제14호표 | B19: =일위대가!B126 -> 도로 홈되메우기 | C19: =일위대가!C126 -> 록하드 도로보수재 25KG/포 | D19: =일위대가!D126 -> M | E19: 1 | F19: =일위대가!G133 -> 588 | G19: =E19*F19 -> 588 | H19: =일위대가!I133 -> 5600.8 | I19: =E19*H19 -> 5600.8 | L19: =F19+H19+K19 -> 6188.8 | M19: =E19*L19 -> 6188.8
A20: 제15호표 | B20: =일위대가!B135 -> 공사안내표지판 | C20: =일위대가!C135 -> 대형 | D20: =일위대가!D135 -> EA | E20: 1 | F20: =일위대가!G138 -> 120000 | G20: =E20*F20 -> 120000 | H20: =일위대가!H137 -> 6,000 | I20: =E20*H20 -> 6000 | L20: =F20+H20+K20 -> 126000 | M20: =E20*L20 -> 126000
A21: 제16호표 | B21: =일위대가!B140 -> 교통안내표지판 | C21: =일위대가!C140 -> 소형 | D21: =일위대가!D140 -> EA | E21: 1 | F21: =일위대가!G143 -> 12000 | G21: =E21*F21 -> 12000 | H21: =일위대가!I143 -> 600 | I21: =E21*H21 -> 600 | L21: =F21+H21+K21 -> 12600 | M21: =E21*L21 -> 12600

Sheet 일위대가
A1: 일 위 대 가 | Q1: 일 위 대 가 ( 기 타 )
A2: =갑지!B6 -> □ 사 업 명 : 동양중학교 진입로 도로열선 관급자재 구매설치
A3: 공 종 | C3: 규 격 | D3: 단위 | E3: 수량 | F3: 세 부 내 역 | N3: 비 고 | Q3: 품 명 | R3: 규 격 | S3: 단위 | T3: 수량 | U3: 단가 | V3: 금액
F4: 재 료 비 | H4: 노 무 비 | J4: 경 비 | L4: 합 계
F5: 단 가 | G5: 금 액 | H5: 단 가 | I5: 금 액 | J5: 단 가 | K5: 금 액 | L5: 단 가 | M5: 금 액
A6: 제1호표 | B6: 스노우멜팅케이블 신설 | C6: DW40W110S | D6: M | E6: 1
B7: 가. 재료비 | Q7: 1. 열선 시스템 설치공사 | R7: 스노우멜팅 케이블 外
B8: 스노우멜팅케이블 | C8: DW40W110S | D8: M | E8: 1 | F8: =단가비교표!O5 -> 14100 | G8: =TRUNC(E8*F8,1) -> 14100 | L8: =F8+H8+J8 -> 14100 | M8: =G8+I8+K8 -> 14100 | Q8: 1. 열선 시스템 설치공사 | R8: 스노우멜팅 케이블 外
B9: 나. 노무비 | Q9: COLDLEAD KIT 신설 | R9: 방습,절연키트 | S9: SET | T9: =1/19 -> 0.052631579 | U9: =노임단가!#REF! -> #REF! | V9: =T9*U9 -> #REF!
C10: 플랜트전공 | D10: 인 | E10: ='일위대가 소요공수 산출표'!U7 -> 0.0216 | H10: =노임단가!E14 -> 264269 | I10: =TRUNC(E10*H10,1) -> 5708.2 | L10: =F10+H10+J10 -> 264269 | M10: =G10+I10+K10 -> 5708.2 | Q10: COLDLEAD KIT 신설 | R10: 방습,절연키트 | S10: SET | T10: =1/19 -> 0.052631579 | U10: =노임단가!#REF! -> #REF! | V10: =T10*U10 -> #REF!
B11: 합 계 | G11: =SUM(G7:G10) -> 14100 | I11: =SUM(I7:I10) -> 5708.2 | M11: =G11+I11+K11 -> 19808.2 | Q11: 파상형경질폴리에틸렌전선관 신설 | R11: 후렉시블, 40mm이상 | S11: M | T11: =2/140 -> 0.014285714 | U11: =노임단가!#REF! -> #REF! | V11: =T11*U11 -> #REF!
Q12: 접지동봉 신설 | R12: 14￠×1000L | S12: EA | T12: =1/3 -> 0.33333333 | U12: =노임단가!#REF! -> #REF! | V12: =T12*U12 -> #REF!
A13: 제2호표 | B13: ='일위대가 소요공수 산출표'!B8 -> COLDLEAD KIT 신설 | C13: 방습,절연키트 | D13: SET | E13: 1
B14: 가. 재료비
B15: COLDLEAD KIT | C15: 방습,절연키트 | D15: SET | E15: 1 | F15: =단가비교표!O6 -> 65000 | G15: =TRUNC(E15*F15,1) -> 65000 | L15: =F15+H15+J15 -> 65000 | M15: =G15+I15+K15 -> 65000
B16: 나. 노무비
C17: 저압케이블공 | D17: 인 | E17: ='일위대가 소요공수 산출표'!U11 -> 0.0104 | H17: =노임단가!E7 -> 304156 | I17: =TRUNC(E17*H17,1) -> 3163.2 | L17: =F17+H17+J17 -> 304156 | M17: =G17+I17+K17 -> 3163.2
B18: 합 계 | G18: =SUM(G14:G17) -> 65000 | I18: =SUM(I14:I17) -> 3163.2 | M18: =G18+I18+K18 -> 68163.2
Q19: 접지동봉 신설 | R19: 14￠×1000L | S19: EA | T19: =1/3 -> 0.33333333 | U19: =노임단가!#REF! -> #REF! | V19: =T19*U19 -> #REF!
A20: 제3호표 | B20: 난연전력케이블(0.6/1KV) 신설 | C20: F-CV 6㎟/1C | D20: M | E20: 1
B21: 가. 재료비
B22: 난연전력케이블(0.6/1KV) | C22: F-CV 6㎟/1C | D22: M | E22: 1 | F22: =단가비교표!O7 -> 1239 | G22: =TRUNC(E22*F22,1) -> 1239 | L22: =F22+H22+J22 -> 1239 | M22: =G22+I22+K22 -> 1239
B23: 나. 노무비
C24: 저압케이블공 | D24: 인 | E24: ='일위대가 소요공수 산출표'!U16 -> 0.0036 | H24: =노임단가!E7 -> 304156 | I24: =TRUNC(E24*H24,1) -> 1094.9 | L24: =F24+H24+J24 -> 304156 | M24: =G24+I24+K24 -> 1094.9
C25: 보통인부 | D25: 인 | E25: ='일위대가 소요공수 산출표'!U17 -> 0.0036 | H25: =노임단가!E5 -> 172068 | I25: =TRUNC(E25*H25,1) -> 619.4 | L25: =F25+H25+J25 -> 172068 | M25: =G25+I25+K25 -> 619.4
B26: 합 계 | G26: =SUM(G21:G25) -> 1239 | I26: =SUM(I21:I25) -> 1714.3 | M26: =G26+I26+K26 -> 2953.3
A28: 제4호표 | B28: 간선용전선관 신설 | C28: GW-28C | D28: M | E28: 1 | Q28: 판넬기초(BASE) 신설 | R28: 750×200이상×400 | S28: 개소 | T28: =1/3 -> 0.33333333 | U28: =노임단가!#REF! -> #REF! | V28: =T28*U28 -> #REF!
B29: 가. 재료비 | Q29: 폐기물/잔토처리 | R29: 인력,외주 | S29: 개소 | T29: 1 | U29: =노임단가!#REF! -> #REF! | V29: =T29*U29 -> #REF!
B30: 간선용전선관 | C30: GW-28C | D30: M | E30: 1 | F30: =단가비교표!O8 -> 1000 | G30: =TRUNC(E30*F30,1) -> 1000 | L30: =F30+H30+J30 -> 1000 | M30: =G30+I30+K30 -> 1000 | Q30: 교통신호수 | R30: 200m 미만 | S30: 일 | T30: =6/3 -> 2 | U30: =노임단가!#REF! -> #REF! | V30: =T30*U30 -> #REF!
B31: 나. 노무비
C32: 배전전공 | D32: 인 | E32: ='일위대가 소요공수 산출표'!U22 -> 0.0192 | H32: =노임단가!E6 -> 414968 | I32: =TRUNC(E32*H32,1) -> 7967.3 | L32: =F32+H32+J32 -> 414968 | M32: =G32+I32+K32 -> 7967.3
C33: 보통인부 | D33: 인 | E33: ='일위대가 소요공수 산출표'!U23 -> 0.0384 | H33: =노임단가!E5 -> 172068 | I33: =TRUNC(E33*H33,1) -> 6607.4 | L33: =F33+H33+J33 -> 172068 | M33: =G33+I33+K33 -> 6607.4
B34: 합 계 | G34: =SUM(G29:G33) -> 1000 | I34: =SUM(I29:I33) -> 14574.7 | M34: =G34+I34+K34 -> 15574.7
A36: 제5호표 | B36: 파상형경질폴리에틸렌전선관 신설 | C36: ELP 80 | D36: M | E36: 1 | Q36: 판넬기초(BASE) 신설 | R36: 750×200이상×400 | S36: 개소 | T36: =1/3 -> 0.33333333 | U36: =노임단가!#REF! -> #REF! | V36: =T36*U36 -> #REF!
B37: 가. 재료비 | Q37: 폐기물/잔토처리 | R37: 인력,외주 | S37: 개소 | T37: 1 | U37: =노임단가!#REF! -> #REF! | V37: =T37*U37 -> #REF!
B38: 파상형경질폴리에틸렌전선관 | C38: ELP 80 | D38: M | E38: 1 | F38: =단가비교표!O9 -> 1450 | G38: =TRUNC(E38*F38,1) -> 1450 | L38: =F38+H38+J38 -> 1450 | M38: =G38+I38+K38 -> 1450 | Q38: 교통신호수 | R38: 200m 미만 | S38: 일 | T38: =6/3 -> 2 | U38: =노임단가!#REF! -> #REF! | V38: =T38*U38 -> #REF!
B39: 나. 노무비
C40: 배전전공 | D40: 인 | E40: ='일위대가 소요공수 산출표'!U28 -> 0.0097 | H40: =노임단가!E6 -> 414968 | I40: =TRUNC(E40*H40,1) -> 4025.1 | L40: =F40+H40+J40 -> 414968 | M40: =G40+I40+K40 -> 4025.1
C41: 보통인부 | D41: 인 | E41: ='일위대가 소요공수 산출표'!U26 -> 0.0237 | H41: =노임단가!E5 -> 172068 | I41: =TRUNC(E41*H41,1) -> 4078 | L41: =F41+H41+J41 -> 172068 | M41: =G41+I41+K41 -> 4078
B42: 합 계 | G42: =SUM(G37:G41) -> 1450 | I42: =SUM(I37:I41) -> 8103.1 | M42: =G42+I42+K42 -> 9553.1
...

Sheet 일위대가 소요공수 산출표
A1: 일위대가 소요공수 산출표
A2: =갑지!B6 -> □ 사 업 명 : 동양중학교 진입로 도로열선 관급자재 구매설치
A3: 공 종 | C3: 규 격 | D3: 단위 | E3: 산 출 기 초 | U3: 계 | V3: 비고
A4: 제1호표 | B4: 스노우멜팅케이블 신설 | C4: DW40W110S | D4: m | F4: 기본 | H4: m당 | J4: 단위
C5: 플랜트전공 | D5: 인 | F5: 0.036 | G5: × | H5: 1 | I5: ÷ | J5: 1 | Q5: = | R5: =ROUNDDOWN(F5*H5/J5,5) -> 0.036 | S5: × | T5: 0.6 | U5: =ROUNDDOWN(R5*T5,4) -> 0.0216 | V5: 전 5-33
B6: 노무비 계
C7: 플랜트전공 | D7: 인 | F7: =U5 -> 0.0216 | U7: =SUM(F7:T7) -> 0.0216
A8: 제2호표 | B8: COLDLEAD KIT 신설 | C8: 방습,절연키트 | D8: SET | F8: 기본 | H8: SET당 | J8: 단위
C9: 저압케이블공 | D9: 인 | F9: 0.013 | G9: × | H9: 1 | I9: ÷ | J9: 1 | Q9: = | R9: =ROUNDDOWN(F9*H9/J9,5) -> 0.013 | S9: × | T9: 0.8 | U9: =ROUNDDOWN(R9*T9,4) -> 0.0104 | V9: 전 5-13
B10: 노무비 계
C11: 저압케이블공 | D11: 인 | F11: =U9 -> 0.0104 | U11: =SUM(F11:T11) -> 0.0104
A12: 제3호표 | B12: 난연전력케이블(0.6/1KV) 신설 | C12: F-CV 6㎟/1C | D12: m | F12: 기본 | H12: m당 | I12: ÷ | J12: 단위 | L12: 1심 | N12: 1열
C13: 저압케이블전공 | D13: 인 | F13: 0.0046 | G13: × | H13: 1 | I13: ÷ | J13: 1 | K13: x | L13: 1 | M13: x | N13: 1 | Q13: = | R13: =ROUNDDOWN(F13*H13/J13,5)*L13*N13 -> 0.0046 | S13: × | T13: 0.8 | U13: =ROUNDDOWN(R13*T13,4) -> 0.0036 | V13: 전 4-34
C14: 보통인부 | D14: 인 | F14: 0.0046 | G14: × | H14: 1 | I14: ÷ | J14: 1 | K14: x | L14: 1 | M14: x | N14: 1 | Q14: = | R14: =ROUNDDOWN(F14*H14/J14,5)*L14*N14 -> 0.0046 | S14: × | T14: 0.8 | U14: =ROUNDDOWN(R14*T14,4) -> 0.0036
B15: 노무비 계
C16: 저압케이블전공 | D16: 인 | F16: =U13 -> 0.0036 | U16: =SUM(F16:T16) -> 0.0036
C17: 보통인부 | D17: 인 | F17: =U14 -> 0.0036 | U17: =SUM(F17:T17) -> 0.0036
A18: 제4호표 | B18: 간선용전선관 신설 | C18: GW-28C | D18: m | F18: 기본 | H18: m당 | J18: 단위
C19: 배전전공 | D19: 인 | F19: 0.024 | G19: × | H19: 1 | I19: ÷ | J19: 1 | Q19: = | R19: =ROUNDDOWN(F19*H19/J19,5) -> 0.024 | S19: × | T19: 0.8 | U19: =ROUNDDOWN(R19*T19,4) -> 0.0192 | V19: 전 4-29
C20: 보통인부 | D20: 인 | F20: 0.048 | G20: × | H20: 1 | I20: ÷ | J20: 1 | Q20: = | R20: =ROUNDDOWN(F20*H20/J20,5) -> 0.048 | S20: × | T20: 0.8 | U20: =ROUNDDOWN(R20*T20,4) -> 0.0384
B21: 노무비 계
C22: 배전전공 | D22: 인 | F22: =U19 -> 0.0192 | U22: =SUM(F22:T22) -> 0.0192
C23: 보통인부 | D23: 인 | F23: =U20 -> 0.0384 | U23: =SUM(F23:T23) -> 0.0384
A24: 제5호표 | B24: 파상형경질폴리에틸렌전선관 신설 | C24: ELP 80 | D24: m | F24: 기본 | H24: m당 | J24: 단위
C25: 배전전공 | D25: 인 | F25: 0.0097 | G25: × | H25: 1 | I25: ÷ | J25: 1 | Q25: = | R25: =ROUNDDOWN(F25*H25/J25,5) -> 0.0097 | S25: × | T25: 1 | U25: =ROUNDDOWN(R25*T25,4) -> 0.0097 | V25: 전 4-31
C26: 보통인부 | D26: 인 | F26: 0.0237 | G26: × | H26: 1 | I26: ÷ | J26: 1 | Q26: = | R26: =ROUNDDOWN(F26*H26/J26,5) -> 0.0237 | S26: × | T26: 1 | U26: =ROUNDDOWN(R26*T26,4) -> 0.0237
B27: 노무비 계
C28: 배전전공 | D28: 인 | F28: =U25 -> 0.0097 | U28: =SUM(F28:T28) -> 0.0097
C29: 보통인부 | D29: 인 | F29: =U26 -> 0.0237 | U29: =SUM(F29:T29) -> 0.0237
A30: 제6호표 | B30: 노면자동센서KIT 신설 | C30: EP-SMC300S 매립형 | D30: SET | F30: 기본 | H30: SET당 | J30: 단위
C31: 통신케이블공 | D31: 인 | F31: 1.25 | G31: × | H31: 1 | I31: ÷ | J31: 1 | Q31: = | R31: =ROUNDDOWN(F31*H31/J31,5) -> 1.25 | S31: × | T31: 0.7 | U31: =ROUNDDOWN(R31*T31,4) -> 0.875 | V31: 통 8-6-2
C32: 통신설비공 | D32: 인 | F32: 1.25 | G32: × | H32: 1 | I32: ÷ | J32: 1 | Q32: = | R32: =ROUNDDOWN(F32*H32/J32,5) -> 1.25 | S32: × | T32: 0.7 | U32: =ROUNDDOWN(R32*T32,4) -> 0.875
C33: 보통인부 | D33: 인 | F33: 1.25 | G33: × | H33: 1 | I33: ÷ | J33: 1 | Q33: = | R33: =ROUNDDOWN(F33*H33/J33,5) -> 1.25 | S33: × | T33: 0.7 | U33: =ROUNDDOWN(R33*T33,4) -> 0.875
B34: 노무비 계
C35: 통신케이블공 | D35: 인 | F35: =U31 -> 0.875 | U35: =SUM(F35:T35) -> 0.875
C36: 통신설비공 | D36: 인 | F36: =U32 -> 0.875 | U36: =SUM(F36:T36) -> 0.875
C37: 보통인부 | D37: 인 | F37: =U33 -> 0.875 | U37: =SUM(F37:T37) -> 0.875
A43: 공 종 | C43: 규 격 | D43: 단위 | E43: 산 출 기 초 | U43: 계 | V43: 비고
A44: 제7호표 | B44: 대기자동센서KIT 신설 | C44: NTC-10K 매립형 | D44: SET | F44: 기본 | H44: SET당 | J44: 단위
C45: 통신케이블공 | D45: 인 | F45: 1.25 | G45: × | H45: 1 | I45: ÷ | J45: 1 | Q45: = | R45: =ROUNDDOWN(F45*H45/J45,5) -> 1.25 | S45: × | T45: 0.7 | U45: =ROUNDDOWN(R45*T45,4) -> 0.875 | V45: 통 8-6-2
...

Sheet 단가비교표
A1: 단 가 비 교 표
A2: =갑지!B6 -> □ 사 업 명 : 동양중학교 진입로 도로열선 관급자재 구매설치
A3: NO | B3: 품 명 | C3: 규 격 | D3: 단위 | E3: 가격정보 | G3: 물가자료 | I3: 물가정보 | K3: 거래가격 | M3: 견적단가 | O3: 적용단가 | P3: 비 고
E4: 단 가 | F4: PAGE | G4: 단 가 | H4: PAGE | I4: 단 가 | J4: PAGE | K4: 단 가 | L4: PAGE | M4: 단 가 | N4: PAGE
A5: 1 | B5: 스노우멜팅케이블 | C5: DW40W110S | D5: M | G5: 22000 | H5: 1086 | I5: 30000 | J5: 1182 | M5: 14100 | N5: 에너피아 | O5: =MIN(E5,G5,I5,K5,M5) -> 14100
A6: 2 | B6: COLDLEAD KIT | C6: 방습,절연키트 | D6: SET | G6: 200000 | H6: 1087 | I6: 150000 | J6: 1182 | M6: 65000 | N6: 에너피아 | O6: =MIN(E6,G6,I6,K6,M6) -> 65000
A7: 3 | B7: 난연전력케이블(0.6/1KV) | C7: F-CV 6㎟/1C | D7: M | E7: 1239 | F7: 2026.01 | G7: 1485 | H7: 1075 | I7: 1344 | J7: 1168 | O7: =MIN(E7,G7,I7,K7,M7) -> 1239
A8: 4 | B8: 간선용전선관 | C8: GW-28 | D8: M | G8: 1000 | H8: 1101 | I8: 1265 | J8: 1204 | O8: =MIN(E8,G8,I8,K8,M8) -> 1000
A9: 5 | B9: 파상형경질폴리에틸렌전선관 | C9: ELP 80 | D9: M | G9: 1450 | H9: 1106 | O9: =MIN(E9,G9,I9,K9,M9) -> 1450
A10: 6 | B10: 노면자동센서KIT | C10: EP-SMC300S 매립형 | D10: SET | G10: 1600000 | H10: 1086 | I10: 1500000 | J10: 1182 | M10: 1200000 | N10: 에너피아 | O10: =MIN(E10,G10,I10,K10,M10) -> 1200000
A11: 7 | B11: 대기자동센서KIT | C11: NTC-10K 매립형 | D11: SET | I11: 2000000 | J11: 1182 | M11: 1300000 | N11: 에너피아 | O11: =MIN(E11,G11,I11,K11,M11) -> 1300000
A12: 8 | B12: 무인자동제어반 SMP-1 | C12: 380V 15.6KW SUS304 옥외자립 | D12: 대 | M12: 2400000 | N12: 에너피아 | O12: =MIN(E12,G12,I12,K12,M12) -> 2400000
A13: 9 | B13: 무인자동제어반 SMP-2 | C13: 380V 12.92KW SUS304 옥외자립 | D13: 대 | M13: 2200000 | N13: 에너피아 | O13: =MIN(E13,G13,I13,K13,M13) -> 2200000
A14: 11 | B14: 접지동봉 | C14: Φ14×1000L | D14: EA | G14: 8800 | H14: 1200 | I14: 6500 | J14: 1270 | O14: =MIN(E14,G14,I14,K14,M14) -> 6500
A15: 12 | B15: 판넬기초(BASE) | C15: 1350×600×350이상(제작) | D15: 개소 | M15: 650000 | N15: 에너피아 | O15: =MIN(E15,G15,I15,K15,M15) -> 650000
A16: 13 | B16: IoT원격제어시스템 | C16: 절전형스마트시스템 V1.0, S/W포함 | D16: SET | M16: 6400000 | N16: 에너피아 | O16: =MIN(E16,G16,I16,K16,M16) -> 6400000
A17: 14 | B17: 휘발유 | D17: ℓ | E17: 2008 | F17: 2026.04 | O17: 1625 | P17: 석유공사
A18: 15 | B18: 블레이드 | C18: 14"×3.2mm | D18: EA | G18: 196000 | H18: 1414 | I18: 169800 | J18: 1080 | O18: =MIN(E18,G18,I18,K18,M18) -> 169800
A19: 16 | B19: 물(상수도) | D19: ℓ | G19: 1.27 | H19: 하328(26.1) | I19: 1.27 | J19: 부536(26.1) | O19: =MIN(E19,G19,I19,K19,M19) -> 1.27 | P19: 일반용
A20: 17 | B20: 경 유 | D20: ℓ | E20: 2002 | F20: 2026.04 | O20: 1539 | P20: 석유공사
A21: 18 | B21: 도로보수용아스콘 | C21: 록하드 도로보수재 25KG/포 | D21: 포 | I21: 21000 | J21: 185 | O21: =MIN(E21,G21,I21,K21,M21) -> 21000
A22: 19 | B22: 공사안내표지판 | C22: 대형 | D22: 포 | M22: 120000 | N22: 공통 | O22: =MIN(E22,G22,I22,K22,M22) -> 120000 | P22: 단산
A23: 20 | B23: 교통안내표지판 | C23: 소형 | D23: 포 | M23: 12000 | N23: 공통 | O23: =MIN(E23,G23,I23,K23,M23) -> 12000 | P23: 단산

Sheet 단가산출총괄표_공통
B1: No. EP260428-001
B3: No | C3: 품 명 | D3: 규 격 | E3: 단위 | F3: 합 계 | G3: 노무비 | H3: 재료비 | I3: 경 비 | J3: 비 고 | Z3: 당초합계 | AA3: 당초노무비 | AB3: 당초재료비 | AC3: 당초경비
B4: 1 | C4: 아스팔트 포장절단 | E4: M | F4: =G4+H4+I4 -> 5722 | G4: =단가산출_공통!CY4 -> 4,455 | H4: =단가산출_공통!CZ4 -> 1,138 | I4: =단가산출_공통!DA4 -> 129 | Z4: 2247 | AA4: 1480 | AB4: 706 | AC4: 61
B5: 2 | C5: 공사안내표지판 | D5: 대형 | E5: EA | F5: =G5+H5+I5 -> 126000 | G5: =단가산출_공통!CY77 -> 6,000 | H5: =단가산출_공통!CZ77 -> 120,000 | I5: =단가산출_공통!DA77 -> 0 | J5: (경비) | Z5: 126000 | AA5: 6000 | AB5: 120000
B6: 3 | C6: 교통안내표지판 | D6: 소형 | E6: EA | F6: =G6+H6+I6 -> 12600 | G6: =단가산출_공통!CY94 -> 600 | H6: =단가산출_공통!CZ94 -> 12,000 | I6: =단가산출_공통!DA94 -> 0 | J6: (경비) | Z6: 12600 | AA6: 600 | AB6: 12000

Sheet 단가산출_공통
B1: No. EP260428-001
B3: 산 출 근 거 | C3: 합 계 | D3: 노무비 | E3: 재료비 | F3: 경 비 | CX3: 합 계 | CY3: 노무비 | CZ3: 재료비 | DA3: 경 비
B4: 1.아스팔트 포장절단[M] | CX4: =CX75 -> 5722 | CY4: =CY75 -> 4,455 | CZ4: =CZ75 -> 1,138 | DA4: =DA75 -> 129
D6: ※ | G6: 일당 | L6: 시공량 | S6: : | U6: Qd | X6: = | Z6: =TEXT(160,"#,##0.#######") -> 160. | AC6: m | AD6: / | AE6: 일
G8: 시간당 | N8: 시공량 | U8: : | W8: Q | Y8: = | AA8: Qd | AD8: / | AF8: =TEXT(8,"#,##0.#######") -> 8. | AG8: hr | AJ8: = | AL8: =TEXT(Z6,"#,##0.#######") -> 160. | AP8: / | AR8: =TEXT(AF8,"#,##0.#######") -> 8. | AT8: = | AV8: =TEXT(ROUND(Z6/AF8,2),"#,##0.#######") -> 20. | BC8: m | BD8: / | BE8: hr
D10: 1. | G10: 아스팔트 | P10: 절단
E12: 가 | G12: . | I12: 인건비
G14: 특별인부 | R14: : | T14: =TEXT(노임단가!E10,"#,##0") -> 226,122 | AD14: × | AF14: =TEXT(1,"#,##0.#######") -> 1. | AI14: 인 | AL14: ÷ | AO14: Qd | AR14: = | AT14: =TEXT(T14,"#,##0.#######") -> 226,122. | BB14: × | BD14: =TEXT(AF14,"#,##0.#######") -> 1. | BF14: ÷ | BI14: =TEXT(Z6,"#,##0.#######") -> 160. | BM14: = | BO14: =TEXT(TRUNC(T14*AF14/Z6,1),"#,##0.#######") -> 1,413.2
G16: 보통인부 | R16: : | T16: =TEXT(노임단가!E5,"#,##0") -> 172,068 | AD16: × | AF16: =TEXT(1,"#,##0.#######") -> 1. | AI16: 인 | AL16: ÷ | AO16: Qd | AR16: = | AT16: =TEXT(T16,"#,##0.#######") -> 172,068. | BB16: × | BD16: =TEXT(AF16,"#,##0.#######") -> 1. | BF16: ÷ | BI16: =TEXT(Z6,"#,##0.#######") -> 160. | BM16: = | BO16: =TEXT(TRUNC(T16*AF16/Z6,1),"#,##0.#######") -> 1,075.4
G18: 인부소계 | P18: : | R18: =TEXT(TRUNC(BO14+BO16,1),"#,##0.#######") -> 2,488.6 | CY18: =R18 -> 2,488.6
E20: 나 | G20: . | I20: 커터 | P20: (320~400mm)
G22: 노무비 | N22: : | P22: =TEXT(기계경비총괄표_공통!G4,"#,##0") -> 36,248 | Y22: ÷ | AB22: =TEXT(AV8,"#,##0.#######") -> 20. | AI22: = | AK22: =TEXT(TRUNC(P22/AV8,1),"#,##0.#") -> 1,812.4
G23: 재료비 | N23: : | Q23: =TEXT(기계경비총괄표_공통!H4,"#,##0") -> 10,920 | Z23: ÷ | AC23: =TEXT(AV8,"#,##0.#######") -> 20. | AJ23: = | AL23: =TEXT(TRUNC(Q23/AV8,1),"#,##0.#") -> 546.
G24: 경 | K24: 비 | N24: : | Q24: =TEXT(기계경비총괄표_공통!I4,"#,##0") -> 1,876 | Y24: ÷ | AB24: =TEXT(AV8,"#,##0.#######") -> 20. | AI24: = | AL24: =TEXT(TRUNC(Q24/AV8,1),"#,##0.#") -> 93.8
G25: 소 | K25: 계 | N25: : | AG25: =TEXT(AK22+AL23+AL24,"#,##0.#######") -> 2,452.2 | CX25: =CY25+CZ25+DA25 -> 2452.2 | CY25: =TEXT(AK22,"#,###.0") -> 1,812.4 | CZ25: =TEXT(AL23,"#,###.0") -> 546.0 | DA25: =TEXT(AL24,"#,###.0") -> 93.8
E27: 다 | G27: . | I27: 동력분무기 | V27: (4.85kw)
G29: 노무비 | N29: : | T29: =TEXT(기계경비총괄표_공통!G5,"#,##0") -> 0 | X29: ÷ | AA29: =TEXT(AV8,"#,##0.#######") -> 20. | AH29: × | AJ29: =TEXT(0.5,"#,##0.#######") -> 0.5 | AM29: 대 | AP29: = | AT29: =TEXT(TRUNC(T29/AV8*AJ29,1),"#,##0.#") -> 0.
G30: 재료비 | N30: : | P30: =TEXT(기계경비총괄표_공통!H5,"#,##0") -> 2,535 | X30: ÷ | AA30: =TEXT(AV8,"#,##0.#######") -> 20. | AH30: × | AJ30: =TEXT(0.5,"#,##0.#######") -> 0.5 | AM30: 대 | AP30: = | AR30: =TEXT(TRUNC(P30/AV8*AJ30,1),"#,##0.#") -> 63.3
G31: 경 | K31: 비 | N31: : | R31: =TEXT(기계경비총괄표_공통!I5,"#,##0") -> 244 | X31: ÷ | AA31: =TEXT(AV8,"#,##0.#######") -> 20. | AH31: × | AJ31: =TEXT(0.5,"#,##0.#######") -> 0.5 | AM31: 대 | AP31: = | AS31: =TEXT(TRUNC(R31/AV8*AJ31,1),"#,##0.#") -> 6.1
G32: 소 | K32: 계 | N32: : | AN32: =TEXT(AR30+AS31,"#,##0.#######") -> 69.4 | CX32: =CY32+CZ32+DA32 -> 69.4 | CZ32: =TEXT(AR30,"#,###.0") -> 63.3 | DA32: =TEXT(AS31,"#,###.0") -> 6.1
E34: 라 | G34: . | I34: 소모재료
G36: 블레이드 | Q36: (14"×3.2mm) | AF36: =TEXT(단가비교표!O18,"#,##0.#######") -> 169,800. | AP36: × | AS36: =TEXT(0.27,"#,##0.#######") -> 0.27 | AW36: EA | AZ36: ÷ | BC36: =TEXT(100,"#,##0.#######") -> 100. | BF36: m | BH36: = | BJ36: =TEXT(TRUNC(AF36*AS36/BC36,1),"#,##0.#") -> 458.4 | CX36: =CY36+CZ36+DA36 -> 458.4 | CZ36: =BJ36 -> 458.4
G38: 물(상수도) | T38: 1.27 | AA38: × | AD38: =TEXT(2000,"#,##0.#######") -> 2,000. | AH38: ℓ | AK38: ÷ | AN38: =TEXT(100,"#,##0.#######") -> 100. | AQ38: m | AS38: = | AU38: =TEXT(TRUNC(T38*AD38/AN38,1),"#,##0.#") -> 25.4 | CX38: =CY38+CZ38+DA38 -> 25.4 | CZ38: =AU38 -> 25.4
E40: 마 | G40: . | I40: 소 | L40: 계
H42: 노무비 | O42: : | Q42: =TEXT(CY18,"#,###.##") -> 2,488.6 | W42: + | Y42: =TEXT(CY25,"#,###.##") -> 1,812.4 | AE42: = | AH42: =TEXT(TRUNC(CY18+CY25,1),"#,##0.#") -> 4,301.
H43: 재료비 | O43: : | Q43: =TEXT(CZ25,"#,###.##") -> 546. | W43: + | Y43: =TEXT(CZ32,"#,###.##") -> 63.3 | AD43: + | AF43: =TEXT(CZ36,"#,###.##") -> 458.4 | AL43: + | AN43: =TEXT(CZ38,"#,###.##") -> 25.4 | AS43: = | AV43: =TEXT(TRUNC(CZ25+CZ32+CZ36+CZ38,1),"#,##0.#") -> 1,093.1
H44: 경 | L44: 비 | O44: : | Q44: =TEXT(DA25,"#,###.##") -> 93.8 | T44: + | V44: =TEXT(DA32,"#,###.##") -> 6.1 | Z44: = | AC44: =TEXT(TRUNC(DA25+DA32,1),"#,##0.#") -> 99.9
J45: 계 | O45: : | R45: =TEXT(AH42+AV43+AC44,"#,##0.#######") -> 5,494. | CX45: =CY45+CZ45+DA45 -> 5494 | CY45: =TEXT(AH42,"#,###.0") -> 4,301.0 | CZ45: =TEXT(AV43,"#,###.0") -> 1,093.1 | DA45: =TEXT(AC44,"#,###.0") -> 99.9
D47: 2. | G47: 물운반 | M47: ( | N47: 20 | P47: ℓ소요 | V47: ) | X47: : | Z47: 물탱크 | AI47: (5500ℓ)
G49: L | I49: = | K49: =TEXT(1,"#,##0.#######") -> 1. | N49: km | U49: V | W49: = | Y49: =TEXT(20,"#,##0.#######") -> 20. | AA49: km | AC49: / | AD49: hr | AL49: E | AN49: = | AP49: =TEXT(0.9,"#,##0.#######") -> 0.9
G51: t1 | J51: = | L51: =TEXT(5,"#,##0.#######") -> 5. | M51: 분 | O51: ( | P51: 준비 | T51: ) | Y51: t3 | AB51: = | AD51: =TEXT(10,"#,##0.#######") -> 10. | AF51: 분 | AH51: ( | AI51: 흡입 | AM51: )
G53: t4 | J53: = | L53: =TEXT(5,"#,##0.#######") -> 5. | M53: 분 | O53: ( | P53: 대기 | T53: ) | Y53: t5 | AB53: = | AD53: =TEXT(20,"#,##0.#######") -> 20. | AF53: 분 | AH53: ( | AI53: 살수 | AM53: )
G55: t2 | J55: = | L55: ( | M55: L | O55: / | Q55: V | R55: ) | S55: × | U55: =TEXT(2,"#,##0.#######") -> 2. | V55: × | X55: =TEXT(60,"#,##0.#######") -> 60. | AA55: = | AC55: ( | AD55: =TEXT(K49,"#,##0.#######") -> 1. | AF55: / | AH55: =TEXT(Y49,"#,##0.#######") -> 20. | AJ55: ) | AK55: × | AM55: =TEXT(U55,"#,##0.#######") -> 2. | AN55: × | AP55: =TEXT(X55,"#,##0.#######") -> 60. | AS55: = | AU55: =TEXT(ROUND((K49/Y49)*U55*X55,2),"#,##0.#######") -> 6. | AY55: 분 | BB55: ( | BC55: 운반 | BG55: )
G57: Cm | J57: = | L57: t1 | O57: + | Q57: t2 | T57: + | V57: t3 | Y57: + | AA57: t4 | AD57: + | AF57: t5 | AI57: = | AK57: =TEXT(L51,"#,##0.#######") -> 5. | AM57: + | AO57: =TEXT(AU55,"#,##0.#######") -> 6. | AQ57: + | AS57: =TEXT(AD51,"#,##0.#######") -> 10. | AV57: + | AX57: =TEXT(L53,"#,##0.#######") -> 5. | AZ57: + | BB57: =TEXT(AD53,"#,##0.#######") -> 20. | BE57: = | BG57: =TEXT(ROUND(L51+AU55+AD51+L53+AD53,2),"#,##0.#######") -> 46.
G59: To | J59: = | L59: ( | M59: Cm | O59: - | P59: t3 | R59: ) | T59: / | V59: Cm | Y59: = | AA59: ( | AB59: =TEXT(BG57,"#,##0.#######") -> 46. | AD59: - | AE59: =TEXT(AD51,"#,##0.#######") -> 10. | AG59: ) | AI59: / | AK59: =TEXT(BG57,"#,##0.#######") -> 46. | AN59: = | AP59: =TEXT(ROUND((BG57-AD51)/BG57,2),"#,##0.#######") -> 0.78
L61: =TEXT(60,"#,##0.#######") -> 60. | O61: × | R61: =TEXT(5500,"#,##0.#######") -> 5,500. | X61: × | AA61: E | AI61: =TEXT(L61,"#,##0.#######") -> 60. | AL61: × | AO61: =TEXT(R61,"#,##0.#######") -> 5,500. | AU61: × | AX61: =TEXT(AP49,"#,##0.#######") -> 0.9
G62: Q | I62: = | K62: ─ | M62: ─ | O62: ─ | Q62: ─ | S62: ─ | U62: ─ | W62: ─ | Y62: ─ | AA62: ─ | AC62: ─ | AF62: = | AH62: ─ | AJ62: ─ | AL62: ─ | AN62: ─ | AP62: ─ | AR62: ─ | AT62: ─ | AV62: ─ | AX62: ─ | AZ62: ─ | BC62: = | BE62: =TEXT(ROUND((60*5500*AP49)/(BG57),2),"#,##0.#######") -> 6,456.52 | BP62: ℓ | BR62: / | BS62: hr
Q63: Cm | AQ63: =TEXT(BG57,"#,##0.#######") -> 46.
G65: 노무비 | N65: : | P65: =TEXT(기계경비총괄표_공통!G6,"#,##0") -> 49,778 | Y65: ÷ | AB65: =TEXT(BE62,"#,##0.#######") -> 6,456.52 | AM65: × | AO65: =TEXT(20,"#,##0.#######") -> 20. | AQ65: ℓ | AS65: = | AU65: =TEXT(TRUNC(P65/BE62*AO65,1),"#,##0.#") -> 154.1
G66: 재료비 | N66: : | P66: =TEXT(기계경비총괄표_공통!H6,"#,##0") -> 18,606 | Y66: ÷ | AB66: =TEXT(BE62,"#,##0.#######") -> 6,456.52 | AM66: × | AO66: =TEXT(20,"#,##0.#######") -> 20. | AQ66: ℓ | AS66: × | AU66: To | AX66: = | AZ66: =TEXT(P66,"#,##0.#######") -> 18,606. | BG66: ÷ | BJ66: =TEXT(BE62,"#,##0.#######") -> 6,456.52 | BS66: × | BU66: =TEXT(AO66,"#,##0.#######") -> 20. | BW66: × | BY66: =TEXT(AP59,"#,##0.#######") -> 0.78 | CD66: = | CF66: =TEXT(TRUNC(P66/BE62*AO66*AP59,1),"#,##0.#") -> 44.9
...

Sheet 기계경비총괄표_공통
B1: No. EP260428-001
B3: No | C3: 품 명 | D3: 규 격 | E3: 단위 | F3: 합 계 | G3: 노무비 | H3: 재료비 | I3: 경 비 | Z3: 당초합계 | AA3: 당초노무비 | AB3: 당초재료비 | AC3: 당초경비
B4: 1 | C4: 커 터 | D4: 320~400mm | E4: hr | F4: =G4+H4+I4 -> 49044 | G4: =기계경비_공통!AA4 -> 36248 | H4: =기계경비_공통!AB4 -> 10920 | I4: =기계경비_공통!AC4 -> 1876 | Z4: 46893 | AA4: 34803 | AB4: 10214 | AC4: 1876
B5: 2 | C5: 동력분무기 | D5: 4.85kw | E5: hr | F5: =G5+H5+I5 -> 2779 | G5: =기계경비_공통!AA10 -> 0 | H5: =기계경비_공통!AB10 -> 2535 | I5: =기계경비_공통!AC10 -> 244 | Z5: 2615 | AB5: 2371 | AC5: 244
B6: 3 | C6: 물탱크 | D6: 5500ℓ | E6: hr | F6: =G6+H6+I6 -> 77854 | G6: =기계경비_공통!AA15 -> 49778 | H6: =기계경비_공통!AB15 -> 18606 | I6: =기계경비_공통!AC15 -> 9470 | Z6: 74810 | AA6: 48741 | AB6: 16599 | AC6: 9470

Sheet 기계경비_공통
B1: No. EP260428-001
B3: 명 칭 | C3: 규 격 | D3: 산 출 근 거 | Z3: 합 계 | AA3: 노무비 | AB3: 재료비 | AC3: 경 비 | AD3: 비 고
B4: 1. 커 터 | C4: 320~400mm | Z4: =AA4+AB4+AC4 -> 49044 | AA4: =TRUNC(AA5+AA6+AA7+AA8) -> 36248 | AB4: =TRUNC(AB5+AB6+AB7+AB8) -> 10920 | AC4: =TRUNC(AC5+AC6+AC7+AC8) -> 1876
B5: 손 료 | D5: 2954000 | I5: ￦× | K5: 6354 | N5: × | O5: 10(-7) | Z5: =AA5+AB5+AC5 -> 1876.9 | AC5: =TRUNC(D5*K5*0.0000001,1) -> 1876.9 | AD5: '24年 개정
B6: 주연료 | C6: 휘발유 | D6: 5.6 | H6: ℓ | I6: × | J6: =기계경비적용기준_공통!K7 -> 1625 | Z6: =AA6+AB6+AC6 -> 9100 | AB6: =TRUNC(D6*J6,1) -> 9100
B7: 잡 품 | C7: 주연료의 | D7: 20 | H7: % | I7: × | J7: =AB6 -> 9100 | Z7: =AA7+AB7+AC7 -> 1820 | AB7: =TRUNC(D7/100*J7,1) -> 1820
B8: 일반기계운전사 | D8: 1 | G8: 인 | H8: × | I8: =노임단가!E11 -> 173995 | M8: × | N8: 1/8*16/12*25/20 | Z8: =AA8+AB8+AC8 -> 36248 | AA8: =TRUNC(D8*I8*기계경비적용기준_공통!E21,0) -> 36248
B10: 2. 동력분무기 | C10: 4.85kw | Z10: =AA10+AB10+AC10 -> 2779 | AA10: =TRUNC(AA11+AA12+AA13) -> 0 | AB10: =TRUNC(AB11+AB12+AB13) -> 2535 | AC10: =TRUNC(AC11+AC12+AC13) -> 244
B11: 손 료 | D11: 875000 | I11: ￦× | K11: 2799 | N11: × | O11: 10(-7) | Z11: =AA11+AB11+AC11 -> 244.9 | AC11: =TRUNC(D11*K11*0.0000001,1) -> 244.9 | AD11: '24年 개정
B12: 주연료 | C12: 휘발유 | D12: 1.3 | H12: ℓ | I12: × | J12: =기계경비적용기준_공통!K7 -> 1625 | Z12: =AA12+AB12+AC12 -> 2112.5 | AB12: =TRUNC(D12*J12,1) -> 2112.5
B13: 잡 품 | C13: 주연료의 | D13: 20 | H13: % | I13: × | J13: =AB12 -> 2112.5 | Z13: =AA13+AB13+AC13 -> 422.5 | AB13: =TRUNC(D13/100*J13,1) -> 422.5
B15: 3. 물탱크 | C15: 5500ℓ | Z15: =AA15+AB15+AC15 -> 77854 | AA15: =TRUNC(AA16+AA17+AA18+AA19) -> 49778 | AB15: =TRUNC(AB16+AB17+AB18+AB19) -> 18606 | AC15: =TRUNC(AC16+AC17+AC18+AC19) -> 9470
B16: 손 료 | D16: 44820000 | I16: ￦× | K16: 2113 | N16: × | O16: 10(-7) | Z16: =AA16+AB16+AC16 -> 9470.4 | AC16: =TRUNC(D16*K16*0.0000001,1) -> 9470.4 | AD16: '24年 개정
B17: 주연료 | C17: 경유 | D17: 9.3 | H17: ℓ | I17: × | J17: =기계경비적용기준_공통!K8 -> 1539 | Z17: =AA17+AB17+AC17 -> 14312.7 | AB17: =TRUNC(D17*J17,1) -> 14312.7
B18: 잡 품 | C18: 주연료의 | D18: 30 | H18: % | I18: × | J18: =AB17 -> 14312.7 | Z18: =AA18+AB18+AC18 -> 4293.8 | AB18: =TRUNC(D18/100*J18,1) -> 4293.8
B19: 화물차운전사 | D19: 1 | G19: 인 | H19: × | I19: =노임단가!E12 -> 238936 | M19: × | N19: 1/8*16/12*25/20 | Z19: =AA19+AB19+AC19 -> 49778 | AA19: =TRUNC(D19*I19*기계경비적용기준_공통!E21,0) -> 49778

Sheet 기계경비적용기준_공통
B1: No. EP260428-001
C4: 환 율 (/￦) | G4: 기본재료비
C6: 화 폐 | D6: 환 율 | E6: 비 고 | G6: No | H6: 품 명 | I6: 규 격 | J6: 단위 | K6: 단 가
C7: 달러($) | D7: 1474.8 | E7: 2026.04 | G7: 16 | H7: 휘 발 유 | J7: ℓ | K7: =단가비교표!O17 -> 1625
C8: 엔(100￥) | D8: 924.25 | G8: 19 | H8: 경 유 | J8: ℓ | K8: =단가비교표!O20 -> 1539
C9: 유로(E) | D9: 1727.16
C10: 마르크(M)
C11: 파운드(L) | D11: 1993.99
C18: 노임계수 | G18: 계산결과값 자리수
C20: No | D20: 노임계수 | E20: 계산값
C21: 1 | D21: 1/8*16/12*25/20 | E21: =1/8*16/12*25/20 -> 0.20833333
C22: 2 | D22: 1/8*16/12*25/20*24/15 | E22: =1/8*16/12*25/20*24/15 -> 0.33333333 | G22: 경 비 소수 1 미만 절하
C23: 3 | D23: 1/8*16/12*25/20*12/10 | E23: =1/8*16/12*25/20*12/10 -> 0.25
C24: 4 | D24: 1/8*16/12*25/20*14/12 | E24: =1/8*16/12*25/20*14/12 -> 0.24305556 | G24: 재료비 소수 1 미만 절하
C25: 5 | D25: 1/8*16/12*25/20*24/5 | E25: =1/8*16/12*25/20*24/5 -> 1
G26: 노무비 소수 1 미만 절하

Sheet 수량산출서
A1: 수 량 산 출 서
A2: =갑지!B6 -> □ 사 업 명 : 동양중학교 진입로 도로열선 관급자재 구매설치
A3: 공 종 | B3: 규 격 | C3: 산 출 내 역 | D3: 단 위 | E3: 수 량 | F3: 비 고
A6: A 상단부(차로)
A7: 1 스노우멜팅케이블 신설
A8: 스노우멜팅케이블 | B8: DW40W110S | C8: 130 + 130 + 130 | D8: M | E8: =130*3 -> 390
A9: COLDLEAD KIT | B9: 방습,절연키트 | C9: 3 | D9: SET | E9: =3 -> 3
A10: 2 전력케이블 결선용 간선 신설
A11: 난연전력케이블(0.6/1KV) | B11: F-CV 6㎟/1C | C11: 3 × 2 × 20 | D11: M | E11: =3*2*20 -> 120
A12: 간선용전선관 | B12: GW-28C | C12: 120 ÷ 8 | D12: M | E12: =120/8 -> 15
A13: 파상형경질폴리에틸렌전선관 | B13: ELP 80 | C13: 20 × 1 | D13: M | E13: =20*1 -> 20
A14: 3 무인자동제어반 및 IoT원격제어시스템 신설
A15: 노면자동센서KIT | B15: EP-SMC300S 매립형 | C15: 1개소 × 1 | D15: SET | E15: =1*1 -> 1
A16: 대기자동센서KIT | B16: NTC-10K 매립형 | C16: 1개소 × 1 | D16: SET | E16: =1*1 -> 1
A17: 무인자동제어반 SMP-1 | B17: 380V 15.60KW SUS304 옥외자립 | C17: 1개소 × 1 | D17: 대 | E17: =1*1 -> 1
A18: 접지동봉 | B18: 14￠×1000L | C18: 1개소 × 1 | D18: EA | E18: =1*1 -> 1
A19: 판넬기초(BASE) | B19: 1350×600×350이상(제작) | C19: 1개소 × 1 | D19: EA | E19: =1*1 -> 1
A20: IoT원격제어시스템 | B20: 절전형스마트시스템 V1.0, S/W포함 | C20: 1개소 × 1 | D20: SET | E20: =1*1 -> 1
A21: 4 도로 홈파기(컷팅) 및 되메우기
A22: 도로보수용아스콘 | B22: 록하드 도로보수재 25KG/포 | C22: (0.7kg/m × 390m ÷ 25kg) | D22: 포 | E22: =(0.7*390/25) -> 10.92
A23: 5 교통통제 및 안전관리
A24: 공사안내표지판 | B24: 대형 | C24: 1개소 × 1 | D24: EA | E24: =1*1 -> 1
A25: 교통안내표지판 | B25: 소형 | C25: 1개소 × 1 | D25: EA | E25: =1*1 -> 1
A27: B 하단부(차로+보행로)
A28: 1 스노우멜팅케이블 신설
A29: 스노우멜팅케이블 | B29: DW40W110S | C29: 133 + 114 +76 | D29: M | E29: =133+114+76 -> 323
A30: COLDLEAD KIT | B30: 방습,절연키트 | C30: 3 | D30: SET | E30: 3
A31: 2 전력케이블 결선용 간선 신설
A32: 난연전력케이블(0.6/1KV) | B32: F-CV 6㎟/1C | C32: 3 × 2 × 20 | D32: M | E32: =3*2*20 -> 120
A33: 간선용전선관 | B33: GW-28C | C33: 200 ÷ 8 | D33: M | E33: =200/8 -> 25
A34: 파상형경질폴리에틸렌전선관 | B34: ELP 80 | C34: 20 × 1 | D34: M | E34: =20*1 -> 20
A35: 3 무인자동제어반 및 IoT원격제어시스템 신설
A36: 노면자동센서KIT | B36: EP-SMC300S 매립형 | C36: 1개소 × 1 | D36: SET | E36: =1*1 -> 1
A37: 대기자동센서KIT | B37: NTC-10K 매립형 | C37: 1개소 × 1 | D37: SET | E37: =1*1 -> 1
A38: 무인자동제어반 SMP-2 | B38: 380V 12.92KW SUS304 옥외자립 | C38: 1개소 × 1 | D38: 대 | E38: =1*1 -> 1
A39: 접지동봉 | B39: 14￠×1000L | C39: 1개소 × 1 | D39: EA | E39: =1*1 -> 1
A40: 판넬기초(BASE) | B40: 1350×600×350이상(제작) | C40: 1개소 × 1 | D40: EA | E40: =1*1 -> 1
A41: IoT원격제어시스템 | B41: 절전형스마트시스템 V1.0, S/W포함 | C41: 1개소 × 1 | D41: SET | E41: =1*1 -> 1
A42: 4 도로 홈파기(컷팅) 및 되메우기
A43: 도로보수용아스콘 | B43: 록하드 도로보수재 25KG/포 | C43: (0.7kg/m × 323m ÷ 25kg) | D43: 포 | E43: =(0.7*323/25) -> 9.044

Sheet 노임단가
A1: 노임단가
A2: =갑지!B6 -> □ 사 업 명 : 동양중학교 진입로 도로열선 관급자재 구매설치
A3: NO | B3: 비 목 | C3: 규 격 | D3: 단위 | E3: 적 용 단 가 | F3: 비 고
A4: 1 | B4: 내선전공 | D4: 인 | E4: 273676 | F4: 2026년(상)
A5: 2 | B5: 보통인부 | D5: 인 | E5: 172068 | F5: 2026년(상)
A6: 3 | B6: 배전전공 | D6: 인 | E6: 414968 | F6: 2026년(상)
A7: 4 | B7: 저압케이블전공 | D7: 인 | E7: 304156 | F7: 2026년(상)
A8: 5 | B8: 통신설비공 | D8: 인 | E8: 315528 | F8: 2026년(상)
A9: 6 | B9: 계 장 공 | D9: 인 | E9: 319449 | F9: 2026년(상)
A10: 7 | B10: 특별인부 | D10: 인 | E10: 226122 | F10: 2026년(상)
A11: 8 | B11: 일반기계운전사 | D11: 인 | E11: 173995 | F11: 2026년(상)
A12: 9 | B12: 화물차운전사 | D12: 인 | E12: 238936 | F12: 2026년(상)
A13: 10 | B13: 작업반장 | D13: 인 | E13: 215907 | F13: 2026년(상)
A14: 11 | B14: 플랜트전공 | D14: 인 | E14: 264269 | F14: 2026년(상)
A15: 12 | B15: 통신케이블공 | D15: 인 | E15: 436224 | F15: 2026년(상)
... A22: 19 | B22: 포장공 | D22: 인 | E22: 273308 | F22: 2026년(상)
