Workbook
Name _: #REF!
Name _?ó_ü?Ì?æ: #REF!
Name _____NMB96: #REF!
Name _____SBB1: #REF!
Name _____SBB2: #REF!
Name _____SBB3: #REF!
Name _____SBB4: #REF!
Name _____SBB5: #REF!
Name _____SHH1: #REF!
Name _____SHH2: #REF!
Name _____SHH3: #REF!
Name ____DAN1: #REF!
Name ____DAN10: #REF!
Name ____DAN100: #REF!
Name ____DAN101: #REF!
Name ____DAN102: #REF!
Name ____DAN103: #REF!
Name ____DAN104: #REF!
Name ____DAN105: #REF!
Name ____DAN106: #REF!
Name ____DAN107: #REF!
Name ____DAN108: #REF!
Name ____DAN109: #REF!
Name ____DAN11: #REF!
Name ____DAN110: #REF!
Name ____DAN111: #REF!
Name ____DAN112: #REF!
Name ____DAN113: #REF!
Name ____DAN114: #REF!
Name ____DAN115: #REF!
Name ____DAN116: #REF!
Name ____DAN117: #REF!
Name ____DAN118: #REF!
Name ____DAN119: #REF!
Name ____DAN12: #REF!
Name ____DAN120: #REF!
Name ____DAN121: #REF!
Name ____DAN122: #REF!
Name ____DAN123: #REF!
Name ____DAN124: #REF!
Name ____DAN125: #REF!
Name ____DAN126: #REF!
Name ____DAN127: #REF!
Name ____DAN128: #REF!
Name ____DAN129: #REF!
Name ____DAN13: #REF!
Name ____DAN130: #REF!
Name ____DAN131: #REF!
Name ____DAN132: #REF!
Name ____DAN133: #REF!
Name ____DAN134: #REF!
Name ____DAN135: #REF!
Name ____DAN136: #REF!
Name ____DAN137: #REF!
Name ____DAN138: #REF!
Name ____DAN139: #REF!
Name ____DAN14: #REF!
Name ____DAN140: #REF!
Name ____DAN141: #REF!
Name ____DAN142: #REF!

Sheet 내역서
A1: 내역서
A2: 공 종 명 | B2: 규 격 | C2: 수량 | D2: 단위 | E2: 합 계 | G2: 재 료 비 | I2: 노 무 비 | K2: 경 비 | M2: 비 고
E3: 단 가 | F3: 금 액 | G3: 단 가 | H3: 금 액 | I3: 단 가 | J3: 금 액 | K3: 단 가 | L3: 금 액 | S3: 할 증 | T3: 화폐변환 | U3: OP값 | V3: EQ | W3: LA | X3: MA | Y3: 금액계상
A4: 삼산매립장~여천매립장 간 연결교량 설치공사 | C4: 1 | D4: 식 | O4: A00
A5: Ⅰ 토목공사 | C5: 1 | D5: 식 | P5: 10 | R5: A000
P6: 20 | AA6: MA+ = | AB6: =내역서!H5 -> 0 | AC6: MA = | AD6: =$AB6 -> 0
A7: 1. 직접공사비(13~36개월이하) | C7: 1 | D7: 식 | P7: 30 | Q7: * | R7: F | X7: MA=MA(10,0,10)_x000D_ LA=LA(10,0,10)_x000D_ EQ=EQ(10,0,10)_x000D_ | AA7: LA+ = | AB7: =내역서!J7*0.196 -> 0 | AC7: LA = | AD7: =$AB7 -> 0
A8: 2. 간접노무비 | B8: 직노*19.6% | C8: 1 | D8: 식 | P8: 40 | R8: F | X8: LA = LA(30)*0.196_x000D_ | AA8: EQ+ = | AB8: =(내역서!J7+내역서!J8)*0.0356 -> 0 | AC8: EQ = | AD8: =$AB8 -> 0
A9: 3. 산재보험료 | B9: (직노+간노)*3.56% | C9: 1 | D9: 식 | P9: 50 | R9: F | X9: EQ = (LA(30)+LA(40))*0.03560_x000D_ | AA9: EQ+ = | AB9: =(내역서!J7+내역서!J8)*0.0101 -> 0 | AC9: EQ = | AD9: =$AB9 -> 0
A10: 4. 고용보험료 | B10: (직노+간노)*1.01% | C10: 1 | D10: 식 | P10: 60 | R10: F | X10: EQ = (LA(30)+LA(40))*0.0101_x000D_ | AA10: EQ+ = | AB10: =내역서!J7*0.03595 -> 0 | AC10: EQ = | AD10: =$AB10 -> 0
A11: 5. 건강보험료 | B11: 직노*3.595% | C11: 1 | D11: 식 | P11: 70 | R11: F | X11: EQ = LA(30)*0.03595_x000D_ | AA11: EQ+ = | AB11: =내역서!J7*0.0475 -> 0 | AC11: EQ = | AD11: =$AB11 -> 0
A12: 6. 연금보험료 | B12: 직노*4.75% | C12: 1 | D12: 식 | P12: 80 | R12: F | X12: EQ = LA(30)*0.0475_x000D_ | AA12: EQ+ = | AB12: =내역서!L11*0.1314 -> 0 | AC12: EQ = | AD12: =$AB12 -> 0
A13: 7. 노인장기요양보험료 | B13: 건강보험료x13.14% | C13: 1 | D13: 식 | P13: 90 | R13: F | X13: eq=eq(70)*0.1314_x000D_ | AA13: EQ+ = | AB13: =(내역서!J7+내역서!H7+내역서!L7)*0.004 -> 0 | AC13: EQ = | AD13: =$AB13 -> 0
A14: 8. 건설기계 대여대금 지급보증서 발급금액 | B14: (재+직노+경)*0.40% | C14: 1 | D14: 식 | P14: 100 | R14: F | X14: EQ = (LA(30)+MA(30)+EQ(30))*0.0040_x000D_ | AA14: EQ+ = | AB14: =(내역서!J7+내역서!H7+내역서!H31+내역서!L31)*0.0253+3300000 -> 3300000 | AC14: EQ = | AD14: =$AB14 -> 3300000
A15: 9. 산업안전보건관리비 | B15: (재+직노+도급자관급)*2.53%+기초액 | C15: 1 | D15: 식 | P15: 110 | Q15: * | R15: F | X15: EQ = (LA(30)+MA(30)+MA(270)+EQ(270))*0.0253+3300000_x000D_ | AA15: EQ+ = | AB15: =((내역서!J7+내역서!H7)*0.0253+3300000)*1.2 -> 3960000 | AC15: EQ = | AD15: =$AB15 -> 3960000
B16: ((재+직노)x2.53%+기초액)*1.2 | C16: 1 | D16: 식 | P16: 120 | R16: F | X16: EQ = ((LA(30)+MA(30))*0.0253+3300000)*1.2_x000D_ | AA16: EQ+ = | AB16: =(내역서!J7+내역서!J8+내역서!H5)*0.063 -> 0 | AC16: EQ = | AD16: =$AB16 -> 0
A17: 10. 기타경비 | B17: (직재+노)*6.3% | C17: 1 | D17: 식 | P17: 130 | R17: F | X17: EQ = (LA(30)+LA(40)+MA(10))*0.063_x000D_ | AA17: EQ+ = | AB17: =(내역서!J7+내역서!H7+내역서!L7)*0.008 -> 0 | AC17: EQ = | AD17: =$AB17 -> 0
A18: 11. 환경보전비 | B18: (재+직노+경)*0.8% | C18: 1 | D18: 식 | P18: 140 | R18: F | X18: EQ = (LA(30)+MA(30)+EQ(30))*0.008_x000D_ | AA18: EQ+ = | AB18: =(내역서!J7+내역서!H7+내역서!L7)*0.0008 -> 0 | AC18: EQ = | AD18: =$AB18 -> 0
A19: 12. 건설하도급지급보증수수료 | B19: (재+직노+경)*0.080% | C19: 1 | D19: 식 | P19: 150 | R19: F | X19: EQ = (LA(30)+MA(30)+EQ(30))*0.00080_x000D_ | AA19: EQ+ = | AB19: =내역서!J7*0.023 -> 0 | AC19: EQ = | AD19: =$AB19 -> 0
A20: 13. 퇴직공제부금비 | B20: 직노*2.3% | C20: 1 | D20: 식 | P20: 160 | R20: F | X20: EQ = LA(30)*0.023_x000D_ | AA20: EQ+ = | AB20: =(내역서!J7+내역서!J8)*0.00006 -> 0 | AC20: EQ = | AD20: =$AB20 -> 0
A21: 14. 석면부담금 | B21: (직노+간노)*0.006% | C21: 1 | D21: 식 | P21: 170 | R21: F | X21: EQ = (LA(30)+LA(40))*0.00006_x000D_ | AA21: EQ+ = | AB21: =(내역서!J7+내역서!J8)*0.0009 -> 0 | AC21: EQ = | AD21: =$AB21 -> 0
A22: 15. 임금채권부담금 | B22: (직노+간노)*0.09% | C22: 1 | D22: 식 | P22: 180 | R22: F | X22: EQ = (LA(30)+LA(40))*0.0009_x000D_
A23: ■ 품질관리비 | C23: 1 | D23: 식 | P23: 190 | R23: B100
A24: ■ 안전관리비 | C24: 1 | D24: 식 | P24: 200 | R24: B200 | AA24: MA+ = | AB24: =(내역서!H7+내역서!H8+내역서!H9+내역서!H10+내역서!H11+내역서!H12+내역서!H13+내역서!H14+내역서!H15+내역서!H16+내역서!H17+내역서!H18+내역서!H19+내역서!H20+내역서!H21+내역서!H22+내역서!H23+내역서!H24) -> 0 | AC24: MA = | AD24: =$AB24 -> 0
A25: 합 계 | C25: 1 | D25: 식 | P25: 210 | Q25: * | R25: F | X25: MA = MA(30,0,200)_x000D_ LA = LA(30,0,200)_x000D_ EQ = EQ(30,0,200)-EQ(110)_x000D_ | AA25: EQ+ = | AB25: =(내역서!H25+내역서!J25+내역서!L25)*0.065 -> 0 | AC25: EQ = | AD25: =$AB25 -> 0
A26: 14. 일반관리비 | B26: (재+노+경)*6.5% | C26: 1 | D26: 식 | P26: 220 | R26: F | X26: EQ = (MA(210)+LA(210)+EQ(210))*0.065_x000D_ | AA26: EQ+ = | AB26: =(내역서!H25+내역서!J25+내역서!L25+내역서!L26-내역서!H7)*0.12-422128 -> -422128 | AC26: EQ = | AD26: =$AB26 -> -422128
A27: 15. 이윤 | B27: (노+경+일관)*12%이내 | C27: 1 | D27: 식 | P27: 230 | R27: F | X27: EQ = (MA(210)+LA(210)+EQ(210)+EQ(220)-MA(30))*0.12 -422128 | AA27: MA+ = | AB27: =(내역서!H25+내역서!H26+내역서!H27) -> 0 | AC27: MA = | AD27: =$AB27 -> 0
A28: 공 급 가 액 | C28: 1 | D28: 식 | P28: 240 | Q28: * | R28: F | X28: MA = MA(210,0,230)_x000D_ LA = LA(210,0,230)_x000D_ EQ = EQ(210,0,230)_x000D_ | AA28: EQ+ = | AB28: =(내역서!J28+내역서!H28+내역서!L28)*0.1 -> 0 | AC28: EQ = | AD28: =$AB28 -> 0
A29: 16. 부가가치세 | B29: 공급가액*10% | C29: 1 | D29: 식 | P29: 250 | R29: F | X29: EQ = (LA(240,0,240)+MA(240,0,240)+EQ(240,0,240))*0.1_x000D_ | AA29: MA+ = | AB29: =(내역서!H28+내역서!H29) -> 0 | AC29: MA = | AD29: =$AB29 -> 0
A30: 도급공사비 | C30: 1 | D30: 식 | P30: 260 | Q30: * | R30: F | X30: MA = MA(240,0,250)_x000D_ LA = LA(240,0,250)_x000D_ EQ = EQ(240,0,250)_x000D_ | AA30: LA+ = | AB30: =(내역서!J28+내역서!J29) -> 0 | AC30: LA = | AD30: =$AB30 -> 0
A31: Ⅱ 도급자 관급자재대 | C31: 1 | D31: 식 | P31: 270 | R31: A110 | AA31: MA+ = | AB31: =(내역서!H30+내역서!H31) -> 0 | AC31: MA = | AD31: =$AB31 -> 0
A32: 총 공 사 비 | C32: 1 | D32: 식 | P32: 280 | Q32: * | R32: F | X32: MA = MA(260,0,270)_x000D_ LA = LA(260,0,270)_x000D_ EQ = EQ(260,0,270)_x000D_ | AA32: LA+ = | AB32: =(내역서!J30+내역서!J31) -> 0 | AC32: LA = | AD32: =$AB32 -> 0
P33: 290 | Q33: S | AA33: EQ+ = | AB33: =(내역서!L30+내역서!L31) -> 0 | AC33: EQ = | AD33: =$AB33 -> 0
A34: Ⅰ 토목공사 | C34: 1 | D34: 식 | O34: A000
A35: 1. 보행1교 | C35: 1 | D35: 식 | P35: 10 | R35: A01
A36: 2. 보행2교 | C36: 1 | D36: 식 | P36: 20 | R36: A02
A37: 3. 공사중임시도로공 | C37: 1 | D37: 식 | P37: 30 | R37: A03
A38: 4. 호 안 공 | C38: 1 | D38: 식 | P38: 40 | R38: A04
A39: 5. 부 대 공 | C39: 1 | D39: 식 | P39: 50 | R39: A05
P40: 60 | Q40: S
...
