Workbook
Name _: #REF!
Name _?ó_ü?Ì?æ: #REF!
Name _____NMB96: #REF!
Name _____SBB1: #REF!
Name _____SBB2: #REF!
Name _____SBB3: #REF!
Name _____SBB4: #REF!
Name _____SBB5: #REF!
Name _____SHH1: #REF!
Name _____SHH2: #REF!
Name _____SHH3: #REF!
Name ____DAN1: #REF!
Name ____DAN10: #REF!
Name ____DAN100: #REF!
Name ____DAN101: #REF!
Name ____DAN102: #REF!
Name ____DAN103: #REF!
Name ____DAN104: #REF!
Name ____DAN105: #REF!
Name ____DAN106: #REF!
Name ____DAN107: #REF!
Name ____DAN108: #REF!
Name ____DAN109: #REF!
Name ____DAN11: #REF!
Name ____DAN110: #REF!
Name ____DAN111: #REF!
Name ____DAN112: #REF!
Name ____DAN113: #REF!
Name ____DAN114: #REF!
Name ____DAN115: #REF!
Name ____DAN116: #REF!
Name ____DAN117: #REF!
Name ____DAN118: #REF!
Name ____DAN119: #REF!
Name ____DAN12: #REF!
Name ____DAN120: #REF!
Name ____DAN121: #REF!
Name ____DAN122: #REF!
Name ____DAN123: #REF!
Name ____DAN124: #REF!
Name ____DAN125: #REF!
Name ____DAN126: #REF!
Name ____DAN127: #REF!
Name ____DAN128: #REF!
Name ____DAN129: #REF!
Name ____DAN13: #REF!
Name ____DAN130: #REF!
Name ____DAN131: #REF!
Name ____DAN132: #REF!
Name ____DAN133: #REF!
Name ____DAN134: #REF!
Name ____DAN135: #REF!
Name ____DAN136: #REF!
Name ____DAN137: #REF!
Name ____DAN138: #REF!
Name ____DAN139: #REF!
Name ____DAN14: #REF!
Name ____DAN140: #REF!
Name ____DAN141: #REF!
Name ____DAN142: #REF!

Sheet 내역서
A1: 내역서
A2: 공 종 명 | B2: 규 격 | C2: 수량 | D2: 단위 | E2: 합 계 | G2: 재 료 비 | I2: 노 무 비 | K2: 경 비 | M2: 비 고
E3: 단 가 | F3: 금 액 | G3: 단 가 | H3: 금 액 | I3: 단 가 | J3: 금 액 | K3: 단 가 | L3: 금 액 | S3: 할 증 | T3: 화폐변환 | U3: OP값 | V3: EQ | W3: LA | X3: MA | Y3: 금액계상
A4: 삼산매립장~여천매립장 간 연결교량 설치공사 | C4: 1 | D4: 식 | O4: A00
A5: Ⅰ 토목공사 | C5: 1 | D5: 식 | P5: 10 | R5: A000
P6: 20 | AA6: MA+ = | AB6: =내역서!H5 -> 0 | AC6: MA = | AD6: =$AB6 -> 0
A7: 1. 직접공사비(13~36개월이하) | C7: 1 | D7: 식 | P7: 30 | Q7: * | R7: F | X7: MA=MA(10,0,10)_x000D_ LA=LA(10,0,10)_x000D_ EQ=EQ(10,0,10)_x000D_ | AA7: LA+ = | AB7: =내역서!J7*0.196 -> 0 | AC7: LA = | AD7: =$AB7 -> 0
A8: 2. 간접노무비 | B8: 직노*19.6% | C8: 1 | D8: 식 | P8: 40 | R8: F | X8: LA = LA(30)*0.196_x000D_ | AA8: EQ+ = | AB8: =(내역서!J7+내역서!J8)*0.0356 -> 0 | AC8: EQ = | AD8: =$AB8 -> 0
A9: 3. 산재보험료 | B9: (직노+간노)*3.56% | C9: 1 | D9: 식 | P9: 50 | R9: F | X9: EQ = (LA(30)+LA(40))*0.03560_x000D_ | AA9: EQ+ = | AB9: =(내역서!J7+내역서!J8)*0.0101 -> 0 | AC9: EQ = | AD9: =$AB9 -> 0
A10: 4. 고용보험료 | B10: (직노+간노)*1.01% | C10: 1 | D10: 식 | P10: 60 | R10: F | X10: EQ = (LA(30)+LA(40))*0.0101_x000D_ | AA10: EQ+ = | AB10: =내역서!J7*0.03595 -> 0 | AC10: EQ = | AD10: =$AB10 -> 0
A11: 5. 건강보험료 | B11: 직노*3.595% | C11: 1 | D11: 식 | P11: 70 | R11: F | X11: EQ = LA(30)*0.03595_x000D_ | AA11: EQ+ = | AB11: =내역서!J7*0.0475 -> 0 | AC11: EQ = | AD11: =$AB11 -> 0
A12: 6. 연금보험료 | B12: 직노*4.75% | C12: 1 | D12: 식 | P12: 80 | R12: F | X12: EQ = LA(30)*0.0475_x000D_ | AA12: EQ+ = | AB12: =내역서!L11*0.1314 -> 0 | AC12: EQ = | AD12: =$AB12 -> 0
A13: 7. 노인장기요양보험료 | B13: 건강보험료x13.14% | C13: 1 | D13: 식 | P13: 90 | R13: F | X13: eq=eq(70)*0.1314_x000D_ | AA13: EQ+ = | AB13: =(내역서!J7+내역서!H7+내역서!L7)*0.004 -> 0 | AC13: EQ = | AD13: =$AB13 -> 0
A14: 8. 건설기계 대여대금 지급보증서 발급금액 | B14: (재+직노+경)*0.40% | C14: 1 | D14: 식 | P14: 100 | R14: F | X14: EQ = (LA(30)+MA(30)+EQ(30))*0.0040_x000D_ | AA14: EQ+ = | AB14: =(내역서!J7+내역서!H7+내역서!H31+내역서!L31)*0.0253+3300000 -> 3300000 | AC14: EQ = | AD14: =$AB14 -> 3300000
A15: 9. 산업안전보건관리비 | B15: (재+직노+도급자관급)*2.53%+기초액 | C15: 1 | D15: 식 | P15: 110 | Q15: * | R15: F | X15: EQ = (LA(30)+MA(30)+MA(270)+EQ(270))*0.0253+3300000_x000D_ | AA15: EQ+ = | AB15: =((내역서!J7+내역서!H7)*0.0253+3300000)*1.2 -> 3960000 | AC15: EQ = | AD15: =$AB15 -> 3960000
B16: ((재+직노)x2.53%+기초액)*1.2 | C16: 1 | D16: 식 | P16: 120 | R16: F | X16: EQ = ((LA(30)+MA(30))*0.0253+3300000)*1.2_x000D_ | AA16: EQ+ = | AB16: =(내역서!J7+내역서!J8+내역서!H5)*0.063 -> 0 | AC16: EQ = | AD16: =$AB16 -> 0
A17: 10. 기타경비 | B17: (직재+노)*6.3% | C17: 1 | D17: 식 | P17: 130 | R17: F | X17: EQ = (LA(30)+LA(40)+MA(10))*0.063_x000D_ | AA17: EQ+ = | AB17: =(내역서!J7+내역서!H7+내역서!L7)*0.008 -> 0 | AC17: EQ = | AD17: =$AB17 -> 0
A18: 11. 환경보전비 | B18: (재+직노+경)*0.8% | C18: 1 | D18: 식 | P18: 140 | R18: F | X18: EQ = (LA(30)+MA(30)+EQ(30))*0.008_x000D_ | AA18: EQ+ = | AB18: =(내역서!J7+내역서!H7+내역서!L7)*0.0008 -> 0 | AC18: EQ = | AD18: =$AB18 -> 0
A19: 12. 건설하도급지급보증수수료 | B19: (재+직노+경)*0.080% | C19: 1 | D19: 식 | P19: 150 | R19: F | X19: EQ = (LA(30)+MA(30)+EQ(30))*0.00080_x000D_ | AA19: EQ+ = | AB19: =내역서!J7*0.023 -> 0 | AC19: EQ = | AD19: =$AB19 -> 0
A20: 13. 퇴직공제부금비 | B20: 직노*2.3% | C20: 1 | D20: 식 | P20: 160 | R20: F | X20: EQ = LA(30)*0.023_x000D_ | AA20: EQ+ = | AB20: =(내역서!J7+내역서!J8)*0.00006 -> 0 | AC20: EQ = | AD20: =$AB20 -> 0
A21: 14. 석면부담금 | B21: (직노+간노)*0.006% | C21: 1 | D21: 식 | P21: 170 | R21: F | X21: EQ = (LA(30)+LA(40))*0.00006_x000D_ | AA21: EQ+ = | AB21: =(내역서!J7+내역서!J8)*0.0009 -> 0 | AC21: EQ = | AD21: =$AB21 -> 0
A22: 15. 임금채권부담금 | B22: (직노+간노)*0.09% | C22: 1 | D22: 식 | P22: 180 | R22: F | X22: EQ = (LA(30)+LA(40))*0.0009_x000D_
A23: ■ 품질관리비 | C23: 1 | D23: 식 | P23: 190 | R23: B100
A24: ■ 안전관리비 | C24: 1 | D24: 식 | P24: 200 | R24: B200 | AA24: MA+ = | AB24: =(내역서!H7+내역서!H8+내역서!H9+내역서!H10+내역서!H11+내역서!H12+내역서!H13+내역서!H14+내역서!H15+내역서!H16+내역서!H17+내역서!H18+내역서!H19+내역서!H20+내역서!H21+내역서!H22+내역서!H23+내역서!H24) -> 0 | AC24: MA = | AD24: =$AB24 -> 0
A25: 합 계 | C25: 1 | D25: 식 | P25: 210 | Q25: * | R25: F | X25: MA = MA(30,0,200)_x000D_ LA = LA(30,0,200)_x000D_ EQ = EQ(30,0,200)-EQ(110)_x000D_ | AA25: EQ+ = | AB25: =(내역서!H25+내역서!J25+내역서!L25)*0.065 -> 0 | AC25: EQ = | AD25: =$AB25 -> 0
A26: 14. 일반관리비 | B26: (재+노+경)*6.5% | C26: 1 | D26: 식 | P26: 220 | R26: F | X26: EQ = (MA(210)+LA(210)+EQ(210))*0.065_x000D_ | AA26: EQ+ = | AB26: =(내역서!H25+내역서!J25+내역서!L25+내역서!L26-내역서!H7)*0.12-422128 -> -422128 | AC26: EQ = | AD26: =$AB26 -> -422128
A27: 15. 이윤 | B27: (노+경+일관)*12%이내 | C27: 1 | D27: 식 | P27: 230 | R27: F | X27: EQ = (MA(210)+LA(210)+EQ(210)+EQ(220)-MA(30))*0.12 -422128 | AA27: MA+ = | AB27: =(내역서!H25+내역서!H26+내역서!H27) -> 0 | AC27: MA = | AD27: =$AB27 -> 0
A28: 공 급 가 액 | C28: 1 | D28: 식 | P28: 240 | Q28: * | R28: F | X28: MA = MA(210,0,230)_x000D_ LA = LA(210,0,230)_x000D_ EQ = EQ(210,0,230)_x000D_ | AA28: EQ+ = | AB28: =(내역서!J28+내역서!H28+내역서!L28)*0.1 -> 0 | AC28: EQ = | AD28: =$AB28 -> 0
A29: 16. 부가가치세 | B29: 공급가액*10% | C29: 1 | D29: 식 | P29: 250 | R29: F | X29: EQ = (LA(240,0,240)+MA(240,0,240)+EQ(240,0,240))*0.1_x000D_ | AA29: MA+ = | AB29: =(내역서!H28+내역서!H29) -> 0 | AC29: MA = | AD29: =$AB29 -> 0
A30: 도급공사비 | C30: 1 | D30: 식 | P30: 260 | Q30: * | R30: F | X30: MA = MA(240,0,250)_x000D_ LA = LA(240,0,250)_x000D_ EQ = EQ(240,0,250)_x000D_ | AA30: LA+ = | AB30: =(내역서!J28+내역서!J29) -> 0 | AC30: LA = | AD30: =$AB30 -> 0
A31: Ⅱ 도급자 관급자재대 | C31: 1 | D31: 식 | P31: 270 | R31: A110 | AA31: MA+ = | AB31: =(내역서!H30+내역서!H31) -> 0 | AC31: MA = | AD31: =$AB31 -> 0
A32: 총 공 사 비 | C32: 1 | D32: 식 | P32: 280 | Q32: * | R32: F | X32: MA = MA(260,0,270)_x000D_ LA = LA(260,0,270)_x000D_ EQ = EQ(260,0,270)_x000D_ | AA32: LA+ = | AB32: =(내역서!J30+내역서!J31) -> 0 | AC32: LA = | AD32: =$AB32 -> 0
P33: 290 | Q33: S | AA33: EQ+ = | AB33: =(내역서!L30+내역서!L31) -> 0 | AC33: EQ = | AD33: =$AB33 -> 0
A34: Ⅰ 토목공사 | C34: 1 | D34: 식 | O34: A000
A35: 1. 보행1교 | C35: 1 | D35: 식 | P35: 10 | R35: A01
A36: 2. 보행2교 | C36: 1 | D36: 식 | P36: 20 | R36: A02
A37: 3. 공사중임시도로공 | C37: 1 | D37: 식 | P37: 30 | R37: A03
A38: 4. 호 안 공 | C38: 1 | D38: 식 | P38: 40 | R38: A04
A39: 5. 부 대 공 | C39: 1 | D39: 식 | P39: 50 | R39: A05
P40: 60 | Q40: S
A41: 1. 보행1교 | C41: 1 | D41: 식 | O41: A01 | Z41: =H44+H45+H47+H49+H51+H52+H54+H55+H56+H58+H59+H61+H64+H65+H67+H68+H69+H71+H72+H73+H74+H75+H77+H78+H81+H82+H85+H86+H87+H89+H90+H91+H92+H93+H94+H96+H98 -> 0 | AA41: =J44+J45+J47+J49+J51+J52+J54+J55+J56+J58+J59+J61+J64+J65+J67+J68+J69+J71+J72+J73+J74+J75+J77+J78+J81+J82+J85+J86+J87+J89+J90+J91+J92+J93+J94+J96+J98 -> 0 | AB41: =L44+L45+L47+L49+L51+L52+L54+L55+L56+L58+L59+L61+L64+L65+L67+L68+L69+L71+L72+L73+L74+L75+L77+L78+L81+L82+L85+L86+L87+L89+L90+L91+L92+L93+L94+L96+L98 -> 0
A42: 1 토 공 | P42: 10 | Z42: =H100+H102+H104+H105+H106+H107+H109+H110+H111+H112+H115+H116+H118+H119+H121+H123+H126+H127+H128+H129+H131+H132+H133+H134+H135+H136+H138+H139+H141+H142 -> 0 | AA42: =J100+J102+J104+J105+J106+J107+J109+J110+J111+J112+J115+J116+J118+J119+J121+J123+J126+J127+J128+J129+J131+J132+J133+J134+J135+J136+J138+J139+J141+J142 -> 0 | AB42: =L100+L102+L104+L105+L106+L107+L109+L110+L111+L112+L115+L116+L118+L119+L121+L123+L126+L127+L128+L129+L131+L132+L133+L134+L135+L136+L138+L139+L141+L142 -> 0
A43: 1.01 터파기 | P43: 20 | Z43: =H149+H150+H151+H153+H155+H157+H158+H159+H160+H161+H163+H164+H165+H166+H167+H168+H169+H170+H173+H174+H175+H176+H178+H179+H180+H181+H183+H184+H185+H186 -> 0 | AA43: =J149+J150+J151+J153+J155+J157+J158+J159+J160+J161+J163+J164+J165+J166+J167+J168+J169+J170+J173+J174+J175+J176+J178+J179+J180+J181+J183+J184+J185+J186 -> 0 | AB43: =L149+L150+L151+L153+L155+L157+L158+L159+L160+L161+L163+L164+L165+L166+L167+L168+L169+L170+L173+L174+L175+L176+L178+L179+L180+L181+L183+L184+L185+L186 -> 0
A44: 줄파기 | B44: B=1.0m, H=1.5m | C44: 6 | D44: ㎥ | P44: 30 | R44: SF02500 | T44: F | Z44: =H188+H189+H190+H191+H193+H196+H197+H199+H200+H201+H202+H203+H204+H205+H206+H208+H210+H212+H213+H214+H215+H216+H218+H219+H221+H222+H223 -> 0 | AA44: =J188+J189+J190+J191+J193+J196+J197+J199+J200+J201+J202+J203+J204+J205+J206+J208+J210+J212+J213+J214+J215+J216+J218+J219+J221+J222+J223 -> 0 | AB44: =L188+L189+L190+L191+L193+L196+L197+L199+L200+L201+L202+L203+L204+L205+L206+L208+L210+L212+L213+L214+L215+L216+L218+L219+L221+L222+L223 -> 0
A45: 구조물터파기(혼합토사),용수 | B45: TYPE-3 | C45: 828 | D45: ㎥ | P45: 50 | R45: SC00301 | T45: F
A46: 1.02 되메우기 | P46: 60
A47: 되메우기및다짐 | B47: 소형장비 | C47: 744 | D47: ㎥ | P47: 70 | R47: SA05470 | T47: F
A48: 1.03 물푸기 | P48: 80
A49: 물푸기공 | C49: 534 | D49: HR | P49: 90 | R49: SC04300 | T49: F
A50: 1.04 뒷채움및압성토 | P50: 100
A51: 뒷채움및다짐 | B51: 소형장비 | C51: 110 | D51: ㎥ | P51: 110 | R51: SA054701 | T51: F
A52: 압성토 | B52: 대형장비 | C52: 25 | D52: ㎥ | P52: 120 | R52: SA054601 | T52: F
A53: 1.05 세굴보호공 | P53: 130
A54: 사석운반 및 부설 | C54: 63 | D54: ㎥ | P54: 140 | R54: SD00500 | T54: F
A55: 사석 면고르기 | C55: 40 | D55: ㎡ | P55: 150 | R55: SA06150 | T55: F
A56: 사석 | B56: 0.015~0.03㎥ | C56: 70 | D56: ㎥ | P56: 160 | R56: M1111170120100
A57: 1.06 유용토 | P57: 170
A58: 사토(토사) | B58: 덤프24톤+로더1.72㎥(L=30.0km) | C58: 834 | D58: ㎥ | P58: 180 | R58: SA04800 | T58: F
A59: 순성토(토사) | B59: 덤프24톤+굴삭기1.0㎥(L=30.0km) | C59: 768 | D59: ㎥ | P59: 190 | R59: SA04880 | T59: F
A60: 1.07 슬라임처리 | P60: 200
A61: 슬라임처리 | B61: 부상토 | C61: 159 | D61: ton | P61: 210 | R61: GZZZZ7007
A62: 2 말뚝공사 | P62: 230
A63: 1) 강관말뚝 | P63: 240
A64: 가) 장비조립 및 해체 | B64: 외부반출/반입 | C64: 1 | D64: 회 | P64: 250 | R64: X2C200010100 | T64: F
A65: 나) 장비조립 및 해체 | B65: 작업구간내 이동 | C65: 2 | D65: 회 | P65: 260 | R65: X2C200010200 | T65: F
A66: 2) 말뚝 천공(SDA, T4) | P66: 280
A67: 가) 공삭공(사질토 천공) | C67: 56 | D67: m | P67: 290 | R67: XGT001230 | T67: T
A68: 나) 말뚝박기용천공(토사) | B68: Ø508mm 이하 | C68: 1065 | D68: m | P68: 300 | R68: SF02000 | T68: F
A69: 다) 말뚝박기용천공(연암) | B69: Ø508mm 이하 | C69: 24 | D69: m | P69: 310 | R69: SF02200 | T69: F
A70: 3) 강관말뚝 두부보강 및 정리 | P70: 320
A71: 가) 강관말뚝 두부보강 | B71: Φ508㎜x12t | C71: 24 | D71: 본 | P71: 330 | R71: GZZZZZZB059
A72: 나) 강관말뚝두부정리 | B72: D508 | C72: 24 | D72: 본 | P72: 340 | R72: TO-CJB23100500S | T72: T
A73: 4) 주면고정액 | C73: 88 | D73: m3 | N73: ◈0922 신규 | P73: 360 | R73: K01209035A2 | T73: F
A74: 5) 선단근고액 | C74: 24 | D74: m3 | N74: ◈0922 신규 | P74: 370 | R74: K01209035A1 | T74: F
A75: 6) 강관말뚝(말뚝이음) | B75: Φ508mm | C75: 60 | D75: 개소 | P75: 380 | R75: XZXZA0002101 | T75: F
A76: 7) 재하시험 | P76: 390
A77: 가) 정재하시험 | B77: 반력재하법, 시험하중 200ton이하 | C77: 1 | D77: 회 | P77: 400 | R77: XYH200014600 | T77: T | Y77: E
A78: 나) 말뚝동재하시험 | C78: 2 | D78: 회 | P78: 410 | R78: XYH200014500 | T78: T | Y78: E
A79: 3 교량하부공사 | P79: 430
A80: 1) 콘크리트타설 | P80: 440
A81: 콘크리트타설(펌프차,철근) | B81: S:15cm, TYPE-2 | C81: 164 | D81: ㎥ | P81: 450 | R81: SB01840 | T81: F
A82: 콘크리트타설 | B82: 장비사용, 무근구조물 | C82: 7 | D82: ㎥ | P82: 460 | R82: SB01100 | T82: F
A83: 2) 거푸집 | P83: 470
A84: 가) 거푸집 | P84: 480
A85: 유로폼 조립.해체(벽체) | B85: 복잡-수직고7.0m 이하 | C85: 193 | D85: ㎡ | P85: 520 | R85: SB03900 | T85: F
A86: 유로폼 조립.해체(벽체) | B86: 보통-수직고7.0m 이하 | C86: 51 | D86: ㎡ | P86: 530 | R86: SB03920 | T86: F
A87: 유로폼 조립.해체(벽체) | B87: 간단-수직고7.0m 이하 | C87: 6 | D87: ㎡ | P87: 540 | R87: SB03940 | T87: F
A88: 나) 철제면곡면거푸집 | P88: 550
A89: 철근작업대 | B89: D1.8 * 5.25mh | C89: 1 | D89: 조 | P89: 570 | R89: GZZZZ8000
A90: COLUMN FORM | B90: D1.8 * 6.0mh | C90: 1 | D90: 조 | P90: 580 | R90: GZZZZ8001
A91: COLUMN FORM | B91: 보행1교 P1 기준 | C91: 1 | D91: 조 | P91: 590 | R91: GZZZZ8002
A92: 슬리브 파이프 | B92: φ60 | C92: 1 | D92: 조 | P92: 600 | R92: GZZZZ8003
A93: 강재거푸집 | B93: 코핑 | C93: 23 | D93: m2 | P93: 610 | R93: XUAC01000000 | T93: T
A94: 강재거푸집 | B94: 교각 | C94: 57 | D94: m2 | P94: 620 | R94: XUAC01000010 | T94: T
A95: 3) 시스템비계 | P95: 630
A96: 시스템비계매기 | B96: 10m 이하(3개월) | C96: 216 | D96: m2 | P96: 640 | R96: UAA020007011 | T96: T
A97: 4) 시스템동바리 | P97: 650
A98: 시스템동바리 | B98: 3개월, 10m 이하 | C98: 2 | D98: 공m3 | P98: 660 | R98: XUAA020008010 | T98: F
A99: 5) 가설계단 | P99: 670
A100: 가설계단 | B100: 타워형 | C100: 1 | D100: set | N100: ▶견적_23.02.06 | P100: 680 | R100: JCAA31002201 | T100: T
...
