Workbook
Name _: '[1]충돌 내용'!#REF!
Name _: '[1]충돌 내용'!#REF!
Name _.사급자재대: #REF!
Name __: #REF!
Name __: #REF!
Name __: #REF!
Name ___: #REF!
Name ___: #REF!
Name ____: #REF!
Name ____: #REF!
Name _____: #REF!
Name _____: #REF!
Name ______: #REF!
Name ______: #REF!
Name _______: #REF!
Name _______: #REF!
Name __________: #REF!
Name __________: #REF!
Name _____________0: #REF!
Name _____________0: #REF!
Name _____________11: #REF!
Name _____________11: #REF!
Name _____________12: #REF!
Name _____________12: #REF!
Name __________0: #REF!
Name __________0: #REF!
Name __________11: #REF!
Name __________11: #REF!
Name __________12: #REF!
Name __________12: #REF!
Name _________0: #REF!
Name _________0: #REF!
Name _________10: #REF!
Name _________10: #REF!
Name _________11: #REF!
Name _________11: #REF!
Name _________12: #REF!
Name _________12: #REF!
Name _________A81620: [2]수량이동!#REF!
Name _________A81620: [2]수량이동!#REF!
Name _________SUM1: [3]EP0618!#REF!
Name _________SUM1: [3]EP0618!#REF!
Name _________SUM10: [3]EP0618!#REF!
Name _________SUM10: [3]EP0618!#REF!
Name _________SUM11: [3]EP0618!#REF!
Name _________SUM11: [3]EP0618!#REF!
Name _________SUM12: [3]EP0618!#REF!
Name _________SUM13: [3]EP0618!#REF!
Name _________SUM14: [3]EP0618!#REF!
Name _________SUM15: [3]EP0618!#REF!
Name _________SUM16: [3]EP0618!#REF!
Name _________SUM17: [3]EP0618!#REF!
Name _________SUM18: [3]EP0618!#REF!
Name _________SUM19: [3]EP0618!#REF!
Name _________SUM2: [3]EP0618!#REF!
Name _________SUM3: [3]EP0618!#REF!
Name _________SUM4: [3]EP0618!#REF!
Name _________SUM5: [3]EP0618!#REF!
Name _________SUM6: [3]EP0618!#REF!
Name _________SUM7: [3]EP0618!#REF!

Sheet 전체총괄
A1: 자 동 화 공 사 비 총 괄 표
A2: 진창지구 배수개선사업
A3: 일금 : | C3: =I32 -> 150540000 | E3: 원
D4: 공 종 별 | G4: 광 산 2 배 수 장 | I4: 계 | J4: 비 고
A5: 구 분
A6: 시스템 주요자재 | G6: =주요자재!B4 -> 102228000 | I6: =SUM(G6:G6) -> 102228000 | J6: 제조요율 적용
B7: 재 | C7: 직접 재료비 | G7: =' 시스템설치공사'!J25 -> 2613498 | I7: =SUM(G7:G7) -> 2613498
A8: 순 | B8: 료 | C8: 간접 재료비
B9: 비 | C9: 계 | G9: =+G7 -> 2613498 | I9: =SUM(G9:G9) -> 2613498
B10: 노 | C10: 직접 노무비 | G10: =' 시스템설치공사'!H25 -> 19897207 | I10: =SUM(G10:G10) -> 19897207
B11: 무 | C11: 간접 노무비 | D11: ( | E11: 0.198 | F11: ) | G11: =INT(G10*$E11) -> 3939646 | I11: =SUM(G11:G11) -> 3939646 | J11: 직접노무비*19.8%
A12: 공 | B12: 비 | C12: 계 | G12: =SUM(G10:G11) -> 23836853 | I12: =SUM(G12:G12) -> 23836853
C13: 경 비 | G13: =' 시스템설치공사'!L25 -> 560528 | I13: =SUM(G13:G13) -> 560528
B14: 경 | C14: 산재보험료 | D14: ( | E14: 0.0356 | F14: ) | G14: =INT(G12*$E14) -> 848591 | I14: =SUM(G14:G14) -> 848591 | J14: 노무비*3.56%
C15: 고용보험료 | D15: ( | E15: 0.0101 | F15: ) | G15: =INT(G12*$E15) -> 240752 | I15: =SUM(G15:G15) -> 240752 | J15: 노무비*1.01%
A16: 사 | C16: 건강보험료 | D16: ( | E16: 0.03595 | F16: ) | G16: =INT((G10)*$E16) -> 715304 | I16: =SUM(G16:G16) -> 715304 | J16: 직접노무비*3.595%
C17: 노인장기요양보험료 | D17: ( | E17: 0.1314 | F17: ) | G17: =INT((G16)*$E17) -> 93990 | I17: =SUM(G17:G17) -> 93990 | J17: 건강보험요*13.14%
C18: 연금보험료 | D18: ( | E18: 0.0475 | F18: ) | G18: =INT((G10)*$E18) -> 945117 | I18: =SUM(G18:G18) -> 945117 | J18: 직접노무비*4.75%
C19: 퇴직공제부금비 | D19: ( | E19: 0.023 | F19: ) | G19: =INT((G10)*$E19) -> 457635 | I19: =SUM(G19:G19) -> 457635 | J19: 직접노무비*2.30%
A20: 비 | B20: 비 | C20: 산업안전안전관리비 | D20: ( | E20: 0.0207 | F20: ) | G20: =N28 -> 559165 | I20: =SUM(G20:G20) -> 559165 | J20: (재료비+직접노무비)*1.2*2.07%
C21: 기타 경비 | D21: ( | E21: 0.061 | F21: ) | G21: =INT((G9+G12)*$E21) -> 1613471 | I21: =SUM(G21:G21) -> 1613471 | J21: (재료비+노무비)*7.8%
C22: 석면분담금 | D22: ( | E22: 6e-05 | F22: ) | G22: =G10*E22 -> 1193.8324 | I22: =SUM(G22:G22) -> 1193.8324
C23: 임금채권부담금 | D23: ( | E23: 0.0009 | F23: ) | G23: =G10*E23 -> 17907.486 | I23: =SUM(G23:G23) -> 17907.486
C24: 계 | G24: =SUM(G13:G23) -> 6053654.3 | I24: =SUM(G24:G24) -> 6053654.3
B25: 소 계 | G25: =G9+G12+G24 -> 32504005 | I25: =SUM(G25:G25) -> 32504005 | M25: 안전관리비 | N25: 2.07
A26: 일 반 관 리 비 | D26: ( | E26: 0.08 | F26: ) | G26: =INT(G25*$E26) -> 2600320 | I26: =SUM(G26:G26) -> 2600320 | J26: (재료비+노무비+경비)*6.0% | N26: 5억미만
A27: 계 | G27: =SUM(G25:G26) -> 35104325 | I27: =SUM(G27:G27) -> 35104325 | M27: a. | N27: =INT((($G$9+$G$10)+($G$6/1.1))*2.07%) -> 2389716
A28: 이 윤 | D28: ( | E28: 0.15 | F28: ) | G28: =INT(SUM(G12,G25,G26)*$E28-19000/1.1) -> 8823904 | I28: =SUM(G28:G28) -> 8823904 | J28: (재료비+노무비+일반관리비)*15% | M28: b. | N28: =INT((($G$9+$G$10)*2.07%)*1.2) -> 559165
A29: 계 | G29: =SUM(G27:G28) -> 43928229 | I29: =SUM(G29:G29) -> 43928229 | N29: (재+직노+도급자관급)의2.07%
A30: 부 가 가 치 세 | D30: ( | E30: 0.1 | F30: ) | G30: =G29*E30 -> 4392822.9 | I30: =SUM(G30:G30) -> 4392822.9 | N30: (재+직노)의 2.07% *1.2
A31: 소 계 | G31: =SUM(G29:G30) -> 48321052 | I31: =SUM(G31:G31) -> 48321052
A32: 합 계 | G32: =ROUNDDOWN(G31+G6,-4) -> 150540000 | I32: =SUM(G32:G32) -> 150540000 | L32: 26년, 121,839,000(통신공사+ 배수장 RTU)
L33: 통신공사 | M33: 48313739
L34: 배수장 RTU | M34: 73526000

Sheet 주요자재
A1: 공 사 비 명 세 서
A3: Ⅰ. 시스템 주요자재
A4: 일 금 : | B4: =E26 -> 102228000 | C4: 원
A5: 종 | B5: 재료 또는 | C5: 원 | D5: 단 | E5: 총 액 | F5: 노 무 비 | H5: 재 료 비 | J5: 경 비 | L5: 비
A6: 별 | B6: 치 수 | C6: 수 | D6: 위 | F6: 단 가 | G6: 금 액 | H6: 단 가 | I6: 금 액 | J6: 단 가 | K6: 금 액 | L6: 고
A7: 1. 중앙관리소 주요자재 | C7: 1 | D7: 식 | E7: =I7 -> 7408000 | H7: =중앙합!E24 -> 7408000 | I7: =H7*C7 -> 7408000
A8: 2. 원격제어소 주요자재 | C8: 1 | D8: 식 | E8: =I8 -> 94820000 | H8: =원격소합계!E26 -> 94820000 | I8: =H8*C8 -> 94820000
A26: 계 | E26: =SUM(E7:E25) -> 102228000 | I26: =SUM(I7:I25) -> 102228000

Sheet 중앙합
A1: 공 사 비 명 세 서
A3: 1.중앙관리소 주요자재
A4: 일 금 : | B4: =E24 -> 7408000 | C4: 원
A5: 종 | B5: 재료 또는 | C5: 원 | D5: 단 | E5: 총 액 | F5: 노 무 비 | H5: 재 료 비 | J5: 경 비 | L5: 비
A6: 별 | B6: 치 수 | C6: 수 | D6: 위 | F6: 단 가 | G6: 금 액 | H6: 단 가 | I6: 금 액 | J6: 단 가 | K6: 금 액 | L6: 고
A7: 1-1. 중앙관리소 제조품자재 | C7: 1 | D7: 식 | E7: =I7 -> 6735000 | I7: =중앙제조품!B4 -> 6735000
A11: 계 | E11: =I11 -> 6735000 | I11: =SUM(I7:I8) -> 6735000
A14: 부 가 세 | B14: 0.1 | C14: 1 | D14: 식 | E14: =E24-E11 -> 673000
A24: 합 계 | E24: =INT(E11*1.1/1000)*1000 -> 7408000

Sheet 중앙제조품
A1: 공 사 비 명 세 서
A3: 1-1. 중앙관리소 제조품자재
A4: 일 금 : | B4: =E28 -> 6735000 | C4: 원
A5: 종 | B5: 재료 또는 | C5: 원 | D5: 단 | E5: 총 액 | F5: 노 무 비 | H5: 재 료 비 | J5: 경 비 | L5: 비
A6: 별 | B6: 치 수 | C6: 수 | D6: 위 | F6: 단 가 | G6: 금 액 | H6: 단 가 | I6: 금 액 | J6: 단 가 | K6: 금 액 | L6: 고 | Q6: * 표준운영프로그램 화면구성단가 및 화면수량 산출 기준(2018년)
A7: 가. SYSTEM SOFTWARE
A8: - APPLICATION S/W(KRC-HMI)
A9: 표준 화면 | B9: 지사 연계 필수화면 | C9: 4 | D9: EA | E9: =I9 -> 2144000 | H9: 536000 | I9: =C9*H9 -> 2144000 | M9: 계통도 등 기존 지사 HMI에 각 화면별 신규 시설물 추가
A10: 표준 화면 | B10: 3D 그래픽작업 | C10: 2 | D10: EA | E10: =I10 -> 1792000 | H10: 896000 | I10: =C10*H10 -> 1792000 | M10: 금회 신규 시설물 TM/TC화면 구성
A11: 트렌드 화면 | C11: 0.1 | D11: EA | E11: =I11 -> 65800 | H11: 658000 | I11: =C11*H11 -> 65800
A12: 플랜트 화면 | C12: 1 | D12: EA | E12: =I12 -> 895000 | H12: 895000 | I12: =C12*H12 -> 895000
A13: 레포트 화면 | C13: 1 | D13: EA | E13: =I13 -> 659000 | H13: 659000 | I13: =C13*H13 -> 659000
A15: 본부 표준운영프로그램 연계
A16: 표준화면 | B16: 본부 연계 필수화면 | C16: 2 | D16: EA | H16: 536000 | I16: =C16*H16 -> 1072000 | M16: 본부 필수화면 연계 1면
A17: 표준화면 | B17: TOMS 연계 | C17: 0.2 | D17: EA | H17: 536000 | I17: =C17*H17 -> 107200 | M17: 본부 TOMS 연계
A28: 계 | E28: =I28 -> 6735000 | I28: =SUM(I8:I21) -> 6735000

Sheet 원격소합계
A1: 공 사 비 명 세 서
A3: 2. 원격제어소 주요자재
A4: 일 금 : | B4: =E26 -> 94820000 | C4: 원
A5: 종 | B5: 재료 또는 | C5: 원 | D5: 단 | E5: 총 액 | F5: 노 무 비 | H5: 재 료 비 | J5: 경 비 | L5: 비
A6: 별 | B6: 치 수 | C6: 수 | D6: 위 | F6: 단 가 | G6: 금 액 | H6: 단 가 | I6: 금 액 | J6: 단 가 | K6: 금 액 | L6: 고
A7: 2-1. 원격제어소 제조품자재 | C7: 1 | D7: 식 | E7: =I7+K7 -> 86200000 | I7: =I52 -> 86200000
A12: 계 | E12: =I12+K12 -> 86200000 | I12: =SUM(I7:I9) -> 86200000
A15: 부 가 세 | B15: 0.1 | C15: 1 | D15: 식 | E15: =E12*B15 -> 8620000
A26: 합 계 | E26: =SUM(E12:E15) -> 94820000
A27: 공 사 비 명 세 서
A29: 2-1. 원격제어소 제조품자재
A30: 일 금 : | B30: =E52 -> 86200000 | C30: 원
A31: 종 | B31: 재료 또는 | C31: 원 | D31: 단 | E31: 총 액 | F31: 노 무 비 | H31: 재 료 비 | J31: 경 비 | L31: 비
A32: 별 | B32: 치 수 | C32: 수 | D32: 위 | F32: 단 가 | G32: 금 액 | H32: 단 가 | I32: 금 액 | J32: 단 가 | K32: 금 액 | L32: 고
A33: 가. 원격제어소(RTU) | C33: 1 | D33: 식 | E33: =I33+K33 -> 86200000 | I33: =RTU제조원가!B4 -> 86200000
A52: 합 계 | E52: =I52+K52 -> 86200000 | I52: =SUM(I33:I34) -> 86200000

Sheet RTU제조원가
A1: 주요자재 제조원가 계산서(R.T.U)
A3: 2-1. 원격제어소 제조품자재
A4: 일금: | B4: =G23 -> 86200000 | D4: 원 | J4: [ 단위 : 원 ]
A5: 구 분 공 종 별 | G5: R.T.U | J5: 계
B6: 재 | C6: 직접재료비 | G6: =RTU합!I29 -> 67210000 | J6: =G6 -> 67210000
A7: 순 | B7: 료 | C7: 간접재료비 | D7: ( | E7: 0.0103 | F7: ) | G7: =INT(G6*$E7) -> 692263 | H7: 직.재 x 1.03% | J7: =G7 -> 692263
B8: 비 | C8: 계 | G8: =SUM(G6:G7) -> 67902263 | J8: =G8 -> 67902263
B9: 노 | C9: 산출노무비 | G9: =RTU합!G29 -> 3431000
A10: 공 | B10: 무 | C10: 직접노무비 | D10: ( | E10: 1.2453 | F10: ) | G10: =INT(G9*$E10) -> 4272624 | H10: 산.노 x 124.53% | J10: =G10 -> 4272624
C11: 간접노무비 | D11: ( | E11: 0.3493 | F11: ) | G11: =INT(G10*$E11) -> 1492427 | H11: 직.노 x 34.93% | J11: =G11 -> 1492427
B12: 비 | C12: 계 | G12: =SUM(G10:G11) -> 5765051 | J12: =G12 -> 5765051
A13: 사 | C13: 경 비 | D13: ( | E13: 0.0895 | F13: ) | G13: =INT(G8*$E13) -> 6077252 | H13: 재료비 x 8.95% | J13: =G13 -> 6077252
B14: 경 | C14: 산재보험료 | D14: ( | F14: )
C15: 고용보험료 | D15: ( | F15: )
C16: 안전관리비 | D16: ( | F16: )
A17: 비 | B17: 비 | C17: 기타경비 | D17: ( | F17: )
C18: 계 | G18: =SUM(G13:G17) -> 6077252 | J18: =G18 -> 6077252
A19: 합 계 | G19: =G8+G12+G18 -> 79744566 | J19: =G19 -> 79744566
A20: 일 반 관 리 비 | D20: ( | E20: 0.07 | F20: ) | G20: =INT(G19*$E20) -> 5582119 | H20: 제조원가 x 7.0% | J20: =G20 -> 5582119
A21: 계 | G21: =SUM(G19:G20) -> 85326685 | J21: =G21 -> 85326685
A22: 이 윤 | D22: ( | E22: 0.25 | F22: ) | G22: =G23-G21 -> 873315 | H22: (노+경+일.관) x 25% | J22: =G22 -> 873315
A23: 총 원 가 | G23: =ROUND(((G12+G18+G20)*0.05)+G21,-4) -> 86200000 | J23: =G23 -> 86200000

Sheet RTU합
A1: 공 사 비 명 세 서
A3: 2-1-1. RTU장치
A4: 일 금 : | B4: =E29 -> 70641000 | C4: 원
A5: 종 | B5: 재료 또는 | C5: 원 | D5: 단 | E5: 총 액 | F5: 노 무 비 | H5: 재 료 비 | J5: 경 비 | L5: 비
A6: 별 | B6: 치 수 | C6: 수 | D6: 위 | F6: 단가 | G6: 금 액 | H6: 단가 | I6: 금 액 | J6: 단가 | K6: 금 액 | L6: 고
A7: 가. RTU장치 | C7: 1 | D7: 식 | E7: =SUM(G7,I7) -> 70641000 | G7: =원격소RTU!G26 -> 3431000 | I7: =원격소RTU!I26 -> 67210000
A29: 합 계 | C29: 1 | D29: 식 | E29: =G29+I29 -> 70641000 | G29: =SUM(G7:G24) -> 3431000 | I29: =SUM(I7:I24) -> 67210000

Sheet 원격소RTU
A1: 공 사 비 명 세 서
A3: 가. RTU장치
A4: 일 금 : | B4: =E26 -> 70641000 | C4: 원
A5: 종 | B5: 재료 또는 | C5: 원 | D5: 단 | E5: 총 액 | F5: 노 무 비 | H5: 재 료 비 | J5: 경 비 | L5: 비
A6: 별 | B6: 치 수 | C6: 수 | D6: 위 | F6: 단 가 | G6: 금 액 | H6: 단 가 | I6: 금 액 | J6: 단 가 | K6: 금 액 | L6: 고
A7: 1) MCCB UNIT(전원부) | C7: 1 | D7: 식 | E7: =G7+I7 -> 7612000 | G7: =G52 -> 1513000 | I7: =I52 -> 6099000
A8: 2) REMOTE TERMINAL UNIT(제어부) | C8: 1 | D8: 식 | E8: =G8+I8 -> 41894000 | G8: =G87 -> 467000 | I8: =I87 -> 41427000
A9: =A111 -> 3) 배수문 제어반 | C9: 1 | D9: 식 | E9: =E150 -> 21135000 | G9: =G150 -> 1451000 | I9: =I150 -> 19684000
A26: 합 계 | E26: =G26+I26 -> 70641000 | G26: =SUM(G7:G9) -> 3431000 | I26: =SUM(I7:I9) -> 67210000
A27: 종 | B27: 재료 또는 | C27: 원 | D27: 단 | E27: 총 액 | F27: 노 무 비 | H27: 재 료 비 | J27: 경 비 | L27: 비
A28: 별 | B28: 치 수 | C28: 수 | D28: 위 | F28: 단 가 | G28: 금 액 | H28: 단 가 | I28: 금 액 | J28: 단 가 | K28: 금 액 | L28: 고
A29: 1) MCCB UNIT(전원부)
A30: 큐비클 외함(옥내형) | B30: ST 0.8(W)x1.8(D)x2.5(H) | C30: 1 | D30: 면 | E30: =I30 -> 3461800 | H30: =S42 -> 3461800 | I30: =TRUNC(H30*C30) -> 3461800 | M30: 산출 | P30: W | Q30: D | R30: H
A31: SELECTOR S/W | B31: 자동복귀형 | C31: 1 | D31: 개 | E31: =I31 -> 13500 | H31: 13500 | I31: =TRUNC(H31*C31) -> 13500 | M31: M080546 | N31: 현장/원격 | P31: 0.8 | Q31: 0.6 | R31: 2.1
A32: LAMP | B32: LED TYPE | C32: 9 | D32: 개 | E32: =I32 -> 52200 | H32: 5800 | I32: =TRUNC(H32*C32) -> 52200 | M32: M080446 | P32: 구분 | Q32: 너비 | R32: 높이 | S32: 두께 | T32: 소계 | X32: 2
A33: M.C.C.B | B33: 2P 50AF | C33: 1 | D33: 개 | E33: =I33 -> 36000 | H33: 36000 | I33: =TRUNC(H33*C33) -> 36000 | M33: M081210 | P33: 용적중량: | T33: 613
A34: 자동복귀누전차단기 | B34: 2P 30AF | C34: 2 | D34: 개 | E34: =I34 -> 168000 | H34: 84000 | I34: =TRUNC(H34*C34) -> 168000 | M34: M081261 | P34: 전면: | Q34: =$P$31 -> 0.8 | R34: 2.5 | S34: 3.2 | T34: =Q34*R34*S34 -> 6.4
A35: M.C.C.B | B35: 2P 30AF | C35: 2 | D35: 개 | E35: =I35 -> 48000 | H35: 24000 | I35: =TRUNC(H35*C35) -> 48000 | M35: M081210 | P35: 후면 | Q35: =$P$31 -> 0.8 | R35: 2.5 | S35: 3.2 | T35: =Q35*R35*S35 -> 6.4
A36: E.L.C.B | B36: 2P 30AF | C36: 8 | D36: 개 | E36: =I36 -> 96000 | H36: 12000 | I36: =TRUNC(H36*C36) -> 96000 | M36: M081270 | P36: 측면1 | Q36: 1.8 | R36: 2.5 | S36: 2.3 | T36: =Q36*R36*S36 -> 10.35
A37: 전원용 서지보호기(카운터) | B37: 단상,Class2, In 40kA, Imax 80kA 이상 | C37: 1 | D37: 개 | E37: =I37 -> 1100000 | H37: 1100000 | I37: =TRUNC(H37*C37) -> 1100000 | M37: M061233 | P37: 측면2 | Q37: 1.8 | R37: 2.5 | S37: 2.3 | T37: =Q37*R37*S37 -> 10.35
A38: TERMINAL BLOCK | B38: 30A, 10P | C38: 5 | D38: 개 | E38: =I38 -> 12500 | H38: 2500 | I38: =TRUNC(H38*C38) -> 12500 | M38: M079128 | P38: 상면 | Q38: =$P$31 -> 0.8 | R38: 1.8 | S38: 2.3 | T38: =Q38*R38*S38 -> 3.312
A39: PVC DUCT | B39: 80*60*2m | C39: 8 | D39: 개 | E39: =I39 -> 43200 | H39: 5400 | I39: =TRUNC(H39*C39) -> 43200 | P39: 하면 | Q39: =$P$31 -> 0.8 | R39: 1.8 | S39: 2.3 | T39: =Q39*R39*S39 -> 3.312
A40: F.L | B40: AC 220V, 20W | C40: 2 | D40: 개 | E40: =I40 -> 12192 | H40: 6096 | I40: =TRUNC(H40*C40) -> 12192 | S40: 체적: | T40: =SUM(T34:T39) -> 40.124
A41: VENT FAN | B41: AC 220V | C41: 1 | D41: 개 | E41: =I41 -> 30000 | H41: 30000 | I41: =TRUNC(H41*C41) -> 30000 | M41: M079103 | P41: 중량: | Q41: =T40 -> 40.124 | R41: x 7.93= | S41: =Q41*V42 -> 318.18332 | T41: kg
A42: SPACE HEATER | B42: AC 220V, 100W | C42: 1 | D42: 개 | E42: =I42 -> 13970 | H42: 13970 | I42: =TRUNC(H42*C42) -> 13970 | M42: M079104 | P42: 외함(STS)가격: | Q42: 10880 | R42: 원/KG= | S42: =TRUNC(S41*Q42,-2) -> 3461800 | T42: 원 | U42: 비중 | V42: 7.93 | W42: 74.8592
A43: THERMOSTAT | B43: 250V 0-250℃ | C43: 2 | D43: 개 | E43: =I43 -> 31940 | H43: 15970 | I43: =TRUNC(H43*C43) -> 31940 | M43: M079105
A44: DOOR HANDLE | B44: W/KEY (L) | C44: 2 | D44: 개 | E44: =I44 -> 11380 | H44: 5690 | I44: =TRUNC(H44*C44) -> 11380 | M44: M079080
A45: CABLE | B45: KIV 1.5㎟ | C45: 150 | D45: M | E45: =I45 -> 49050 | H45: 327 | I45: =TRUNC(H45*C45) -> 49050 | M45: M060706
A46: 디지털표시기 | B46: 입력:4~20mA, 4 Digit | C46: 3 | D46: 개 | E46: =I46 -> 450000 | H46: 150000 | I46: =C46*H46 -> 450000 | M46: M079142 | O46: AO
A47: 오뚜기수위계 | B47: 4접점(HH,H,L,LL) | C47: 1 | D47: 개 | E47: =I47 -> 470000 | H47: 470000 | I47: =C47*H47 -> 470000 | M47: M085064 | O47: AO
A48: <제작노무비>
A49: 전기기계조립원 | C49: =원격소RTU근!F22 -> 9.73 | D49: 인 | E49: =G49 -> 1192139 | F49: =VLOOKUP(A49,'2026상반기 노임'!$B$2:$C$48,2,) -> 122522 | G49: =TRUNC(F49*C49) -> 1192139
A50: 전선원 | C50: =원격소RTU근!H22 -> 3.24 | D50: 인 | E50: =G50 -> 321563 | F50: =VLOOKUP(A50,'2026상반기 노임'!$B$2:$C$48,2,) -> 99248 | G50: =TRUNC(F50*C50) -> 321563
A52: 계 | E52: =G52+I52 -> 7612000 | G52: =TRUNC(SUM(G49:G50),-3) -> 1513000 | I52: =TRUNC(SUM(I30:I47),-3) -> 6099000
A53: 종 | B53: 재료 또는 | C53: 원 | D53: 단 | E53: 총 액 | F53: 노 무 비 | H53: 재 료 비 | J53: 경 비 | L53: 비
A54: 별 | B54: 치 수 | C54: 수 | D54: 위 | F54: 단 가 | G54: 금 액 | H54: 단 가 | I54: 금 액 | J54: 단 가 | K54: 금 액 | L54: 고
A55: 2) REMOTE TERMINAL UNIT(제어부)
A56: NOISE FILTER | B56: AC220V, 10A | C56: 1 | D56: 개 | E56: =I56 -> 59400 | H56: 59400 | I56: =TRUNC(H56*C56) -> 59400 | M56: M061200
A57: CONTROL RELAY | B57: 2a2b | C57: 32 | D57: 개 | E57: =I57 -> 438400 | H57: 13700 | I57: =TRUNC(H57*C57) -> 438400 | M57: M080500
A58: 서지보호기 | B58: 신호,통신용 20kA 이상 | C58: 10 | D58: 개 | E58: =I58 -> 2650000 | H58: 265000 | I58: =TRUNC(H58*C58) -> 2650000 | M58: M061235 | U58: 3 | V58: 2
A59: TERMINAL BLOCK | B59: 조립식 20A | C59: 64 | D59: 개 | E59: =I59 -> 160000 | H59: 2500 | I59: =TRUNC(H59*C59) -> 160000 | V59: 3
A60: CPU(PLC) | B60: 84ns/Step, 4,000점 이상 | C60: 1 | D60: 개 | E60: =I60 -> 989000 | H60: 989000 | I60: =TRUNC(H60*C60) -> 989000 | M60: M084918
A61: 기본 BASE | B61: 입출력모듈 12개 장착 | C61: 1 | D61: 개 | E61: =I61 -> 322000 | H61: 322000 | I61: =TRUNC(H61*C61) -> 322000 | M61: M084913 | U61: 8
A62: POWER MODULE | B62: 입력 AC 220V, 출력 DC 5V | C62: 1 | D62: 개 | E62: =I62 -> 188000 | H62: 188000 | I62: =TRUNC(H62*C62) -> 188000 | M62: M084900 | U62: 9
A63: 통신모듈(PLC) | B63: ETHERNET, TCP/IP | C63: 1 | D63: 개 | E63: =I63 -> 1064000 | H63: 1064000 | I63: =TRUNC(H63*C63) -> 1064000 | M63: M084903
A64: 통신모듈(PLC) | B64: RS-232. RS-422 | C64: 1 | D64: 개 | E64: =I64 -> 423000 | H64: 423000 | I64: =TRUNC(H64*C64) -> 423000 | M64: M084904
A65: POWER SUPPLY | B65: DC24V/10A | C65: 1 | D65: 개 | E65: =I65 -> 550000 | H65: 550000 | I65: =TRUNC(H65*C65) -> 550000 | M65: M084821
A66: D/I MODULE | B66: 32P | C66: 2 | D66: 개 | E66: =I66 -> 446000 | H66: 223000 | I66: =TRUNC(H66*C66) -> 446000 | M66: M084906 | R66: 48
A67: D/I MODULE | B67: 16P | C67: 1 | D67: 개 | E67: =I67 -> 135000 | H67: 135000 | I67: =TRUNC(H67*C67) -> 135000 | M67: M084905 | R67: 48
A68: D/O MODULE | B68: 32P | C68: 1 | D68: 개 | E68: =I68 -> 255000 | H68: 255000 | I68: =TRUNC(H68*C68) -> 255000 | M68: M084909
A69: A/I MODULE | B69: 8P | C69: 2 | D69: 개 | E69: =I69 -> 1730000 | H69: 865000 | I69: =TRUNC(H69*C69) -> 1730000 | M69: M084910
A70: RTU SOFTWARE FEE | B70: 통신(RS-232/485/이더넷) | C70: 5 | D70: 개 | E70: =I70 -> 1895000 | H70: 379000 | I70: =TRUNC(H70*C70) -> 1895000 | M70: M084892
A71: RTU SOFTWARE FEE | B71: DI/DO | C71: 97 | D71: 점 | E71: =I71 -> 6111000 | H71: 63000 | I71: =TRUNC(H71*C71) -> 6111000 | M71: M084890 | O71: DI | P71: 68
A72: RTU SOFTWARE FEE | B72: AI/AO | C72: 12 | D72: 점 | E72: =I72 -> 1512000 | H72: 126000 | I72: =TRUNC(H72*C72) -> 1512000 | M72: M084891 | O72: DO | P72: 29
A73: 초음파수위계(분리형) | B73: RANGE 0.3~15m배수장 | C73: 3 | D73: SET | E73: =I73 -> 11400000 | H73: 3800000 | I73: =TRUNC(H73*C73) -> 11400000 | M73: M085052
A74: 초음파수위계(분리형) | B74: RANGE 0.3~15m배수문 | C74: 2 | D74: SET | E74: =I74 -> 7600000 | H74: 3800000 | I74: =TRUNC(H74*C74) -> 7600000 | M74: M085052
A75: 유선 MODEM | B75: 통신업체 제공 | C75: 1 | D75: 개 | E75: =I75 -> 0 | H75: 0 | I75: =C75*H75 -> 0 | O75: AI | P75: 12
A76: VPN | B76: Main memory DDR-Ⅱ 512MB | C76: 1 | D76: 개 | E76: =I76 -> 3500000 | H76: 3500000 | I76: =C76*H76 -> 3500000 | M76: 적용단가 문의 | O76: 통신 | P76: 5
A81: 종 | B81: 재료 또는 | C81: 원 | D81: 단 | E81: 총 액 | F81: 노 무 비 | H81: 재 료 비 | J81: 경 비 | L81: 비
A82: 별 | B82: 치 수 | C82: 수 | D82: 위 | F82: 단 가 | G82: 금 액 | H82: 단 가 | I82: 금 액 | J82: 단 가 | K82: 금 액 | L82: 고
A83: <제작노무비>
A84: 컴퓨터운용사 | C84: =원격소RTU근!F44 -> 0 | D84: 인 | E84: =G84 -> 0 | F84: =VLOOKUP(A84,'2026상반기 노임'!$B$2:$C$48,2,) -> 144458 | G84: =TRUNC(F84*C84) -> 0
A85: 전선원 | C85: =원격소RTU근!H44 -> 4.71 | D85: 인 | E85: =G85 -> 467458 | F85: =VLOOKUP(A85,'2026상반기 노임'!$B$2:$C$48,2,) -> 99248 | G85: =TRUNC(F85*C85) -> 467458 | O85: 배수문 3.7KW X 3 대
A86: 단순노무종사원 | C86: =원격소RTU근!J44 -> 0 | D86: 인 | E86: =G86 -> 0 | F86: =VLOOKUP(A86,'2026상반기 노임'!$B$2:$C$48,2,) -> 90694 | G86: =TRUNC(F86*C86) -> 0 | O86: CCTV 2대 , 내수위계 , 내수위계
A87: 계 | E87: =G87+I87 -> 41894000 | G87: =TRUNC(SUM(G84:G86),-3) -> 467000 | I87: =TRUNC(SUM(I56:I86),-3) -> 41427000
A109: 종 | B109: 재료 또는 | C109: 원 | D109: 단 | E109: 총 액 | F109: 노 무 비 | H109: 재 료 비 | J109: 경 비 | L109: 비
A110: 별 | B110: 치 수 | C110: 수 | D110: 위 | F110: 단 가 | G110: 금 액 | H110: 단 가 | I110: 금 액 | J110: 단 가 | K110: 금 액 | L110: 고
A111: 3) 배수문 제어반
A112: 큐비클 외함(옥외형) | B112: SUS 0.8(W)x0.6(D)x2.1(H) | C112: 1 | D112: 면 | E112: =I112 -> 4759500 | H112: =S124 -> 4759500 | I112: =TRUNC(H112*C112) -> 4759500 | M112: 산출 | P112: W | Q112: D | R112: H
A113: SELECTOR S/W | B113: 자동복귀형 | C113: 1 | D113: 개 | E113: =I113 -> 13500 | H113: =H31 -> 13500 | I113: =TRUNC(H113*C113) -> 13500 | M113: M080545 | P113: 0.8 | Q113: 0.6 | R113: 2.1
A114: LAMP | B114: LED TYPE | C114: 5 | D114: 개 | E114: =I114 -> 29000 | H114: =H32 -> 5800 | I114: =TRUNC(H114*C114) -> 29000 | M114: M080446 | P114: 구분 | Q114: 너비 | R114: 높이 | S114: 두께 | T114: 소계
A115: M.C.C.B | B115: 4P 50AF | C115: 2 | D115: 개 | E115: =I115 -> 72000 | H115: 36000 | I115: =TRUNC(H115*C115) -> 72000 | M115: M081210 | P115: 용적중량: | T115: 613 | X115: 2
A116: 전력량계 | B116: RS485 | C116: 1 | D116: 개 | E116: =I116 -> 350000 | H116: 350000 | I116: =TRUNC(H116*C116) -> 350000 | M116: M081261 | P116: 전면: | Q116: =$P$31 -> 0.8 | R116: =$R$31 -> 2.1 | S116: 3.2 | T116: =Q116*R116*S116 -> 5.376
A117: M.C.C.B | B117: 3P 50AF | C117: 0 | D117: 개 | E117: =I117 -> 0 | H117: 44000 | I117: =TRUNC(H117*C117) -> 0 | M117: M081214 | P117: 후면 | Q117: =$P$31 -> 0.8 | R117: =$R$31 -> 2.1 | S117: 3.2 | T117: =Q117*R117*S117 -> 5.376
A118: E.L.C.B | B118: 2P 30AF | C118: 8 | D118: 개 | E118: =I118 -> 96000 | H118: 12000 | I118: =TRUNC(H118*C118) -> 96000 | M118: M081270 | P118: 측면1 | Q118: =Q113 -> 0.6 | R118: =$R$31 -> 2.1 | S118: 2.3 | T118: =Q118*R118*S118 -> 2.898
A119: 전원용 서지보호기(카운터) | B119: 삼상,Class2, In 40kA, Imax 80kA 이상 | C119: 1 | D119: 개 | E119: =I119 -> 1950000 | H119: 1950000 | I119: =TRUNC(H119*C119) -> 1950000 | M119: M061232 | P119: 측면2 | Q119: =Q113 -> 0.6 | R119: =$R$31 -> 2.1 | S119: 2.3 | T119: =Q119*R119*S119 -> 2.898
A120: TERMINAL BLOCK | B120: 30A, 10P | C120: 6 | D120: 개 | E120: =I120 -> 15000 | H120: =H38 -> 2500 | I120: =TRUNC(H120*C120) -> 15000 | M120: M079128 | P120: 상면 | Q120: =$P$31 -> 0.8 | R120: =Q113 -> 0.6 | S120: 2.3 | T120: =Q120*R120*S120 -> 1.104
A121: PVC DUCT | B121: 80*60*2m | C121: 8 | D121: 개 | E121: =I121 -> 43200 | H121: =H39 -> 5400 | I121: =TRUNC(H121*C121) -> 43200 | P121: 하면 | Q121: =$P$31 -> 0.8 | R121: =Q113 -> 0.6 | S121: 2.3 | T121: =Q121*R121*S121 -> 1.104
A122: F.L | B122: AC 220V, 20W | C122: 2 | D122: 개 | E122: =I122 -> 12192 | H122: =H40 -> 6096 | I122: =TRUNC(H122*C122) -> 12192 | S122: 체적: | T122: =SUM(T116:T121) -> 18.756
A123: VENT FAN | B123: AC 220V | C123: 1 | D123: 개 | E123: =I123 -> 30000 | H123: =H41 -> 30000 | I123: =TRUNC(H123*C123) -> 30000 | M123: M079103 | P123: 중량: | Q123: =T122 -> 18.756 | R123: x 7.93= | S123: =Q123*V124 -> 148.73508 | T123: kg
A124: SPACE HEATER | B124: AC 220V, 100W | C124: 1 | D124: 개 | E124: =I124 -> 13970 | H124: =H42 -> 13970 | I124: =TRUNC(H124*C124) -> 13970 | M124: M079104 | P124: 외함(sus)가격: | Q124: 32000 | R124: 원/KG= | S124: =TRUNC(S123*Q124,-2) -> 4759500 | T124: 원 | U124: 비중 | V124: 7.93 | W124: 74.8592
A125: THERMOSTAT | B125: 250V 0-250℃ | C125: 2 | D125: 개 | E125: =I125 -> 31940 | H125: =H43 -> 15970 | I125: =TRUNC(H125*C125) -> 31940 | M125: M079105
A126: DOOR HANDLE | B126: W/KEY (L) | C126: 2 | D126: 개 | E126: =I126 -> 11380 | H126: =H44 -> 5690 | I126: =TRUNC(H126*C126) -> 11380 | M126: M079080
A127: CABLE | B127: KIV 1.5㎟ | C127: 150 | D127: M | E127: =I127 -> 49050 | H127: =H45 -> 327 | I127: =TRUNC(H127*C127) -> 49050 | M127: M060706
A128: CPU(PLC) | B128: I/O 2000점이상, 128kB | C128: 1 | D128: 개 | E128: =I128 -> 969000 | H128: 969000 | I128: =TRUNC(H128*C128) -> 969000 | M128: M084917
A129: 기본 BASE | B129: 입출력모듈 8개 장착 | C129: 1 | D129: 개 | E129: =I129 -> 253000 | H129: 253000 | I129: =TRUNC(H129*C129) -> 253000 | M129: M084912
A130: POWER MODULE | B130: 입력 AC 220V, 출력 DC 5V | C130: 1 | D130: 개 | E130: =I130 -> 188000 | H130: =H62 -> 188000 | I130: =TRUNC(H130*C130) -> 188000 | M130: M084900
A131: 통신모듈(PLC) | B131: ETHERNET, TCP/IP | C131: 1 | D131: 개 | E131: =I131 -> 1064000 | H131: =H63 -> 1064000 | I131: =TRUNC(H131*C131) -> 1064000 | M131: M084903
A132: 통신모듈(PLC) | B132: RS-232. RS-422 | C132: 1 | D132: 개 | E132: =I132 -> 423000 | H132: =H64 -> 423000 | I132: =TRUNC(H132*C132) -> 423000 | M132: M084904
A133: POWER SUPPLY | B133: DC24V/10A | C133: 1 | D133: 개 | E133: =I133 -> 550000 | H133: =H65 -> 550000 | I133: =TRUNC(H133*C133) -> 550000 | M133: M084821
A134: D/I MODULE | B134: 16P | C134: 2 | D134: 개 | E134: =I134 -> 270000 | H134: 135000 | I134: =TRUNC(H134*C134) -> 270000 | M134: M084905 | R134: 48 | T134: 3
A135: D/O MODULE | B135: 16P | C135: 1 | D135: 개 | E135: =I135 -> 162000 | H135: 162000 | I135: =TRUNC(H135*C135) -> 162000 | M135: M084907
A136: 종 | B136: 재료 또는 | C136: 원 | D136: 단 | E136: 총 액 | F136: 노 무 비 | H136: 재 료 비 | J136: 경 비 | L136: 비
A137: 별 | B137: 치 수 | C137: 수 | D137: 위 | F137: 단 가 | G137: 금 액 | H137: 단 가 | I137: 금 액 | J137: 단 가 | K137: 금 액 | L137: 고
A138: A/I MODULE | B138: 8P | C138: 1 | D138: 개 | E138: =I138 -> 865000 | H138: =H69 -> 865000 | I138: =TRUNC(H138*C138) -> 865000 | M138: M084910
A139: RTU SOFTWARE FEE | B139: 통신(RS-232/485/이더넷) | C139: 1 | D139: 개 | E139: =I139 -> 379000 | H139: 379000 | I139: =TRUNC(H139*C139) -> 379000 | M139: M084892
A140: RTU SOFTWARE FEE | B140: DI/DO | C140: 35 | D140: 점 | E140: =I140 -> 2205000 | H140: 63000 | I140: =TRUNC(H140*C140) -> 2205000 | M140: M084890 | O140: DI | P140: 22
A141: RTU SOFTWARE FEE | B141: AI/AO | C141: 5 | D141: 점 | E141: =I141 -> 630000 | H141: 126000 | I141: =TRUNC(H141*C141) -> 630000 | M141: M084891 | O141: DO | P141: 13
A142: 유선 MODEM | B142: 통신업체 제공 | C142: 1 | D142: 개 | E142: =I142 -> 0 | H142: 0 | I142: =C142*H142 -> 0 | O142: AI | P142: 5
A143: VPN | B143: Main memory DDR-Ⅱ 512MB | C143: 1 | D143: 개 | E143: =I143 -> 3500000 | H143: =H76 -> 3500000 | I143: =C143*H143 -> 3500000 | M143: 적용단가 문의 | O143: 통신 | P143: 1
...

Sheet 원격소RTU근
A1: 가. RTU장치 노무비 산출근거
A3: 종 | B3: 재료 또는 | C3: 원 | D3: 단 | E3: 전기기계조립원 | G3: 전선원 | M3: 비
A4: 별 | B4: 치 수 | C4: 수 | D4: 위 | E4: 인수 | F4: 계 | G4: 인수 | H4: 계 | M4: 고
A5: 1) MCCB UNIT(전원부)
A6: SELECTOR S/W | B6: 2단 | C6: 2 | D6: 개 | E6: 0.2 | F6: =E6*C6 -> 0.4 | M6: 3-34
A7: LAMP | B7: LED TYPE | C7: 5 | D7: 개 | G7: 0.1 | H7: =G7*C7 -> 0.5 | M7: 5-23
A8: M.C.C.B | B8: 2P 50AF | C8: 1 | D8: 개 | G8: =0.26*0.7 -> 0.182 | H8: =G8*C8 -> 0.182 | M8: 5-19
A9: 자동복귀누전차단기 | B9: 2P 30AF | C9: 1 | D9: 개 | G9: =0.19*0.7 -> 0.133 | H9: =G9*C9 -> 0.133 | M9: 5-19
A10: M.C.C.B | B10: 2P 30AF | C10: 2 | D10: 개 | G10: =0.19*0.7 -> 0.133 | H10: =G10*C10 -> 0.266 | M10: 5-19
A11: E.L.C.B | B11: 2P 30AF | C11: 7 | D11: 개 | G11: =0.19*0.7 -> 0.133 | H11: =G11*C11 -> 0.931 | M11: 5-19
A12: ARRESTER | B12: POWER용 | C12: 1 | D12: 개 | G12: 0.11 | H12: =G12*C12 -> 0.11 | M12: 4-24
A13: F.L | B13: AC220V, 10W | C13: 2 | D13: 개 | G13: 0.123 | H13: =G13*C13 -> 0.246 | M13: 5-25
A14: VENT FAN | B14: AC220V | C14: 1 | D14: 개 | G14: 0.48 | H14: =G14*C14 -> 0.48 | M14: 5-22
A15: SPACE HEATER | B15: AC220V, 100W | C15: 1 | D15: 개 | G15: 0.4 | H15: =G15*C15 -> 0.4 | M15: 5-22
A16: THERMOSTAT | B16: 250V 0-250℃ | C16: 1 | D16: 개 | E16: 0.27 | F16: =E16*C16 -> 0.27 | M16: 3-34
A17: CABLE | B17: KIV 1.5㎟ | C17: 150 | D17: M | E17: 0.055 | F17: =E17*C17 -> 8.25 | M17: 3-34
A18: =원격소RTU!A46 -> 디지털표시기 | B18: =원격소RTU!B46 -> 입력:4~20mA, 4 Digit | C18: =원격소RTU!C46 -> 3 | D18: =원격소RTU!D46 -> 개 | E18: 0.27 | F18: =C18*E18 -> 0.81 | M18: 전6-2
A22: 계 | F22: =TRUNC(SUM(F6:F18),2) -> 9.73 | H22: =TRUNC(SUM(H6:H17),2) -> 3.24
A23: 종 | B23: 재료 또는 | C23: 원 | D23: 단 | E23: 컴퓨터H/W기사 | G23: 전선원 | I23: 단순노무종사원 | M23: 비
A24: 별 | B24: 치 수 | C24: 수 | D24: 위 | E24: 인수 | F24: 계 | G24: 인수 | H24: 계 | I24: 인수 | J24: 계 | M24: 고
A25: 2) REMOTE TERMINAL UNIT(제어부)
A26: NOISE FILTER | B26: AC220V, 10A | C26: 1 | D26: 개 | G26: 0.11 | H26: =G26*C26 -> 0.11 | M26: 4-24
A27: POWER SUPPLY | B27: DC24V/10A | C27: 1 | D27: 개 | G27: 0.2 | H27: =G27*C27 -> 0.2 | M27: 3-34
A28: CONTROL RELAY | B28: 2a2b | C28: =원격소RTU!C57 -> 32 | D28: 개 | G28: 0.12 | H28: =G28*C28 -> 3.84 | M28: 5-23
A29: L/ARRESTER | B29: 통신,신호용 | C29: 4 | D29: 개 | G29: 0.14 | H29: =G29*C29 -> 0.56 | M29: 5-45-2
A44: 계 | F44: =TRUNC(SUM(F26:F42),2) -> 0 | H44: =TRUNC(SUM(H26:H42),2) -> 4.71 | J44: =TRUNC(SUM(J26:J42),2) -> 0
A45: 종 | B45: 재료 또는 | C45: 원 | D45: 단 | E45: 전기기계조립원 | G45: 전선원 | M45: 비
A46: 별 | B46: 치 수 | C46: 수 | D46: 위 | E46: 인수 | F46: 계 | G46: 인수 | H46: 계 | M46: 고
A47: =원격소RTU!A111 -> 3) 배수문 제어반
A48: =원격소RTU!A113 -> SELECTOR S/W | B48: 2단 | C48: =원격소RTU!C113 -> 1 | D48: 개 | E48: 0.2 | F48: =E48*C48 -> 0.2 | M48: 3-34
A49: LAMP | B49: LED TYPE | C49: =원격소RTU!C114 -> 5 | D49: 개 | G49: 0.1 | H49: =G49*C49 -> 0.5 | M49: 5-23
A50: =원격소RTU!A115 -> M.C.C.B | B50: =원격소RTU!B115 -> 4P 50AF | C50: 1 | D50: 개 | G50: =0.26*0.7 -> 0.182 | H50: =G50*C50 -> 0.182 | M50: 5-19
A51: =원격소RTU!A116 -> 전력량계 | C51: 1 | D51: 개 | G51: =0.19*0.7 -> 0.133 | H51: =G51*C51 -> 0.133 | M51: 5-19
A52: =원격소RTU!A117 -> M.C.C.B | B52: =원격소RTU!B117 -> 3P 50AF | C52: 1 | D52: 개 | G52: =0.19*0.7 -> 0.133 | H52: =G52*C52 -> 0.133 | M52: 5-19
A53: =원격소RTU!A118 -> E.L.C.B | B53: =원격소RTU!B118 -> 2P 30AF | C53: 1 | D53: 개 | G53: =0.19*0.7 -> 0.133 | H53: =G53*C53 -> 0.133 | M53: 5-19
A54: =원격소RTU!A119 -> 전원용 서지보호기(카운터) | B54: =원격소RTU!B119 -> 삼상,Class2, In 40kA, Imax 80kA 이상 | C54: 1 | D54: 개 | G54: 0.11 | H54: =G54*C54 -> 0.11 | M54: 4-24
A55: F.L | B55: AC220V, 10W | C55: 1 | D55: 개 | G55: 0.123 | H55: =G55*C55 -> 0.123 | M55: 5-25
A56: VENT FAN | B56: AC220V | C56: 1 | D56: 개 | G56: 0.48 | H56: =G56*C56 -> 0.48 | M56: 5-22
A57: SPACE HEATER | B57: AC220V, 100W | C57: 1 | D57: 개 | G57: 0.4 | H57: =G57*C57 -> 0.4 | M57: 5-22
A58: THERMOSTAT | B58: 250V 0-250℃ | C58: 1 | D58: 개 | E58: 0.27 | F58: =E58*C58 -> 0.27 | M58: 3-34
A59: CABLE | B59: KIV 1.5㎟ | C59: 150 | D59: M | E59: 0.055 | F59: =E59*C59 -> 8.25 | M59: 3-34
A60: =원격소RTU!A144 -> 디지털표시기 | B60: =원격소RTU!B144 -> 입력:4~20mA, 4 Digit | C60: =원격소RTU!C144 -> 5 | D60: =원격소RTU!D144 -> 개 | E60: 0.27 | F60: =C60*E60 -> 1.35 | M60: 전6-2
A64: 계 | F64: =TRUNC(SUM(F48:F60),2) -> 10.07 | H64: =TRUNC(SUM(H48:H59),2) -> 2.19

Sheet  시스템설치공사
A1: 공 사 비 명 세 서
A3: II. 시스템 설치일반공사
A4: 일금: | B4: =F25 -> 23071233 | C4: 원
A5: 품 명 | C5: 재료 또는 치수 | D5: 원수 | E5: 단위 | F5: 총 액 | G5: 노 무 비 | I5: 재 료 비 | K5: 경 비 | M5: 비 고
G6: 단 가 | H6: 금 액 | I6: 단 가 | J6: 금 액 | K6: 단 가 | L6: 금 액
A7: 1. 원격제어소 설치공사 | D7: 1 | E7: 식 | F7: =SUM(H7,J7,L7) -> 3287000 | H7: =원격소설치!H25 -> 3238000 | J7: 0 | L7: =원격소설치!L25 -> 49000
A8: 2. 원격제어소 일반공사 | D8: 1 | E8: 식 | F8: =SUM(H8,J8,L8) -> 19784233 | H8: =자동화공사!G36 -> 16659207 | J8: =자동화공사!I36 -> 2613498.4 | L8: =자동화공사!K36 -> 511528
A25: 합 계 | F25: =SUM(H25:L25) -> 23071233 | H25: =INT(SUM(H7:H24)) -> 19897207 | J25: =INT(SUM(J7:J24)) -> 2613498 | L25: =INT(SUM(L7:L24)) -> 560528

Sheet 원격소설치
A1: 공 사 비 명 세 서
A3: 1. 원격제어소 설치공사
A4: 일금 | B4: =F25 -> 3287000 | C4: 원
A5: 종 별 | C5: 재료 또는 치수 | D5: 원수 | E5: 단위 | F5: 총 액 | G5: 노 무 비 | I5: 재 료 비 | K5: 경 비 | M5: 비 고
G6: 단 가 | H6: 금 액 | I6: 단 가 | J6: 금 액 | K6: 단 가 | L6: 금 액
A7: 진창 배수장 | D7: 1 | E7: 식 | F7: =SUM(H7,J7,L7) -> 2066000 | H7: =H50 -> 2029000 | L7: =L50 -> 37000
A8: =A51 -> 배수문제어반 설치 | D8: 1 | E8: 식 | F8: =SUM(H8,J8,L8) -> 1221000 | H8: =H75 -> 1209000 | L8: =L75 -> 12000
A25: 합 계 | F25: =SUM(F7:F19) -> 3287000 | H25: =SUM(H7:H19) -> 3238000 | L25: =SUM(L7:L19) -> 49000
A26: 원격소(RTU) 설치노무비
A28: 종 별 | C28: 재료 또는 치수 | D28: 원수 | E28: 단위 | F28: 총 액 | G28: 노 무 비 | I28: 재 료 비 | K28: 경 비 | M28: 비 고
G29: 단 가 | H29: 금 액 | I29: 단 가 | J29: 금 액 | K29: 단 가 | L29: 금 액
A30: 1)RTU설치공사비
A31: 내선전공 | D31: =원격소설치근!F25 -> 2.9 | E31: 인 | F31: =H31 -> 793660 | G31: =VLOOKUP(A31,'2026상반기 노임'!$B$2:$C$48,2,) -> 273676 | H31: =TRUNC(G31*D31) -> 793660
A32: 통신관련산업기사 | D32: =원격소설치근!H25 -> 1.2 | E32: 인 | F32: =H32 -> 365410 | G32: =VLOOKUP(A32,'2026상반기 노임'!$B$2:$C$48,2,) -> 304509 | H32: =TRUNC(G32*D32) -> 365410
A33: 통신설비공 | D33: =원격소설치근!J25 -> 0.5 | E33: 인 | F33: =H33 -> 157764 | G33: =VLOOKUP(A33,'2026상반기 노임'!$B$2:$C$48,2,) -> 315528 | H33: =TRUNC(G33*D33) -> 157764
A34: 보통인부 | D34: =원격소설치근!L25 -> 1.4 | E34: 인 | F34: =H34 -> 240895 | G34: =VLOOKUP(A34,'2026상반기 노임'!$B$2:$C$48,2,) -> 172068 | H34: =TRUNC(G34*D34) -> 240895
A35: H/W 시험사 | D35: =원격소설치근!N25 -> 1.2 | E35: 인 | F35: =H35 -> 471708 | G35: =VLOOKUP(A35,'2026상반기 노임'!$B$2:$C$48,2,) -> 393090 | H35: =TRUNC(G35*D35) -> 471708
A37: <경 비>
A38: - 공구손료 | C38: 직접노무비의 3% | D38: 1 | E38: 식 | L38: =TRUNC(SUM(H32:H35)*3%) -> 37073
A50: 계 | F50: =SUM(H50,J50,L50) -> 2066000 | H50: =TRUNC(SUM(H31:H38),-3) -> 2029000 | L50: =TRUNC(L38,-3) -> 37000
A51: 배수문제어반 설치
A53: 종 별 | C53: 재료 또는 치수 | D53: 원수 | E53: 단위 | F53: 총 액 | G53: 노 무 비 | I53: 재 료 비 | K53: 경 비 | M53: 비 고
G54: 단 가 | H54: 금 액 | I54: 단 가 | J54: 금 액 | K54: 단 가 | L54: 금 액
A55: 1)RTU설치공사비
A56: 내선전공 | D56: =원격소설치근!F50 -> 2.9 | E56: 인 | F56: =H56 -> 793660 | G56: =VLOOKUP(A56,'2026상반기 노임'!$B$2:$C$48,2,) -> 273676 | H56: =TRUNC(G56*D56) -> 793660
A57: 통신관련산업기사 | D57: =원격소설치근!H50 -> 0.3 | E57: 인 | F57: =H57 -> 91352 | G57: =VLOOKUP(A57,'2026상반기 노임'!$B$2:$C$48,2,) -> 304509 | H57: =TRUNC(G57*D57) -> 91352
A58: 통신설비공 | D58: =원격소설치근!J50 -> 0 | E58: 인 | F58: =H58 -> 0 | G58: =VLOOKUP(A58,'2026상반기 노임'!$B$2:$C$48,2,) -> 315528 | H58: =TRUNC(G58*D58) -> 0
A59: 보통인부 | D59: =원격소설치근!L50 -> 1.2 | E59: 인 | F59: =H59 -> 206481 | G59: =VLOOKUP(A59,'2026상반기 노임'!$B$2:$C$48,2,) -> 172068 | H59: =TRUNC(G59*D59) -> 206481
A60: H/W 시험사 | D60: =원격소설치근!N50 -> 0.3 | E60: 인 | F60: =H60 -> 117927 | G60: =VLOOKUP(A60,'2026상반기 노임'!$B$2:$C$48,2,) -> 393090 | H60: =TRUNC(G60*D60) -> 117927
A62: <경 비>
A63: - 공구손료 | C63: 직접노무비의 3% | D63: 1 | E63: 식 | L63: =TRUNC(SUM(H57:H60)*3%) -> 12472
A75: 계 | F75: =SUM(H75,J75,L75) -> 1221000 | H75: =TRUNC(SUM(H56:H63),-3) -> 1209000 | L75: =TRUNC(L63,-3) -> 12000

Sheet 원격소설치근
A1: 원격소(RTU) 설치공사 노무비 산출근거
A3: 종 별 | B3: 재료 또는 | C3: 원 수 | D3: 단 위 | E3: 내선전공 | G3: 통신관련산업기사 | I3: 통신설비공 | K3: 보통인부 | M3: H/W시험사 | O3: 비 고
B4: 치 수 | E4: 인 수 | F4: 계 | G4: 인 수 | H4: 계 | I4: 인 수 | J4: 계 | K4: 인 수 | L4: 계 | M4: 인 수 | N4: 계
A5: 1) RTU 설치공사비
A6: - 설치작업 | B6: 카드(모듈)삽입 및 점검 | C6: =SUM(원격소RTU!C63,원격소RTU!C64,원격소RTU!C66,원격소RTU!C67,원격소RTU!C68,원격소RTU!C69,원격소RTU!C60,원격소RTU!C62) -> 10 | D6: 모듈 | I6: 0.05 | J6: =TRUNC(C6*I6,1) -> 0.5 | K6: 0.02 | L6: =TRUNC(K6*C6,1) -> 0.2 | O6: 통8-4-7-5
A7: - 송수신 상태 조정 및 시험 | C7: 1 | D7: 개소 | G7: 0.6 | H7: =TRUNC(C7*G7,1) -> 0.6 | M7: 0.6 | N7: =TRUNC(M7*C7,1) -> 0.6 | O7: 통8-4-7-5
A8: - 종합점검 및 시험 | B8: 전원부 동작상태 점검 | C8: 1 | D8: 개소 | G8: 0.35 | H8: =TRUNC(C8*G8,1) -> 0.3 | M8: 0.35 | N8: =TRUNC(M8*C8,1) -> 0.3 | O8: 통8-4-7-5
B9: 포인트연동(감시)시험 | C9: =SUM(원격소RTU!P71,원격소RTU!P75) -> 80 | D9: 포인트 | G9: 0.003 | H9: =TRUNC(C9*G9,1) -> 0.2 | M9: 0.003 | N9: =TRUNC(M9*C9,1) -> 0.2 | O9: 통8-4-7-5
B10: 포인트연동(제어)시험 | C10: =SUM(원격소RTU!P72) -> 29 | D10: 포인트 | G10: 0.004 | H10: =TRUNC(C10*G10,1) -> 0.1 | M10: 0.004 | N10: =TRUNC(M10*C10,1) -> 0.1 | O10: 통8-4-7-5
A11: - 원격소 설치 | B11: 자립형 | C11: 1 | D11: 면 | E11: 2.9 | F11: =TRUNC(C11*E11,3) -> 2.9 | K11: 1.2 | L11: =TRUNC(K11*C11,1) -> 1.2 | O11: 전3-34
A25: 합 계 | F25: =SUM(F6:F11) -> 2.9 | H25: =SUM(H6:H11) -> 1.2 | J25: =SUM(J6:J11) -> 0.5 | L25: =SUM(L6:L11) -> 1.4 | N25: =SUM(N6:N11) -> 1.2
A26: 종 별 | B26: 재료 또는 | C26: 원 수 | D26: 단 위 | E26: 내선전공 | G26: 통신관련산업기사 | I26: 통신설비공 | K26: 보통인부 | M26: H/W시험사 | O26: 비 고
B27: 치 수 | E27: 인 수 | F27: 계 | G27: 인 수 | H27: 계 | I27: 인 수 | J27: 계 | K27: 인 수 | L27: 계 | M27: 인 수 | N27: 계
A28: 3) 배수문제어반 설치
A29: - 설치작업 | B29: 카드(모듈)삽입 및 점검 | C29: =SUM(원격소RTU!C128,원격소RTU!C130,원격소RTU!C131,원격소RTU!C132,원격소RTU!C134,원격소RTU!C135,원격소RTU!C138) -> 8 | D29: 모듈 | I29: 0.05 | J29: =TRUNC(C29*I29,1) -> 0.4 | K29: 0.02 | L29: =TRUNC(K29*C29,1) -> 0.1 | O29: 통8-4-7-5
A30: - 송수신 상태 조정 및 시험 | C30: 1 | D30: 개소 | G30: 0.6 | H30: =TRUNC(C30*G30,1) -> 0.6 | M30: 0.6 | N30: =TRUNC(M30*C30,1) -> 0.6 | O30: 통8-4-7-5
A31: - 종합점검 및 시험 | B31: 전원부 동작상태 점검 | C31: 1 | D31: 개소 | G31: 0.35 | H31: =TRUNC(C31*G31,1) -> 0.3 | M31: 0.35 | N31: =TRUNC(M31*C31,1) -> 0.3 | O31: 통8-4-7-5
B32: 포인트연동(감시)시험 | C32: =SUM(원격소RTU!P140,원격소RTU!P142) -> 27 | D32: 포인트 | G32: 0.003 | H32: =TRUNC(C32*G32,1) -> 0 | M32: 0.003 | N32: =TRUNC(M32*C32,1) -> 0 | O32: 통8-4-7-5
B33: 포인트연동(제어)시험 | C33: =SUM(원격소RTU!P141) -> 13 | D33: 포인트 | G33: 0.004 | H33: =TRUNC(C33*G33,1) -> 0 | M33: 0.004 | N33: =TRUNC(M33*C33,1) -> 0 | O33: 통8-4-7-5
A34: - 원격소 설치 | B34: 자립형 | C34: 1 | D34: 면 | E34: 2.9 | F34: =TRUNC(C34*E34,3) -> 2.9 | K34: 1.2 | L34: =TRUNC(K34*C34,1) -> 1.2 | O34: 전3-34
A50: 합 계 | F50: =SUM(F31:F34) -> 2.9 | H50: =SUM(H31:H34) -> 0.3 | J50: =SUM(J31:J34) -> 0 | L50: =SUM(L31:L34) -> 1.2 | N50: =SUM(N31:N34) -> 0.3

Sheet 원격소기성품
E1: 공 사 비 명 세 서
A3: 2. CCTV 설치공사
A4: 일금 | B4: =E37 -> 30791951 | C4: 원
A5: 종 별 | B5: 재료 또는 | C5: 원 | D5: 단 | E5: 총 액 | F5: 노 무 비 | H5: 재 료 비 | J5: 경 비 | L5: 비고
B6: 치 수 | C6: 수 | D6: 위 | E6: 금 액 | F6: 단 가 | G6: 금 액 | H6: 단 가 | I6: 금 액 | J6: 단 가 | K6: 금 액
A7: 메가픽셀 스피드 돔 카메라 | B7: 200만화소 이상, 36배 광학줌, 하우징일체 | C7: 3 | D7: EA | E7: =I7 -> 9000000 | H7: 3000000 | I7: =INT(C7*H7) -> 9000000 | M7: M085066
A8: 카메라 BRACKET | B8: STS, 2T | C8: 3 | D8: EA | E8: =I8 -> 300000 | H8: 100000 | I8: =INT(C8*H8) -> 300000
A9: CCTV POLE PANEL | B9: STS. 2.0t (W)600*(H)700*(D)500, 이중단열판 | C9: 3 | D9: EA | E9: =I9 -> 3600000 | H9: 1200000 | I9: =INT(C9*H9) -> 3600000 | M9: M085072
A10: CCTV 촬영안내판 | B10: 컬러강판, 500*400 | C10: 3 | D10: EA | E10: =I10 -> 156000 | H10: 52000 | I10: =INT(C10*H10) -> 156000 | M10: M081276
A11: 서지흡수기 | B11: 전원용 Class2, 1상2선, 40kA이상 | C11: 3 | D11: EA | E11: =I11 -> 3000000 | H11: 1000000 | I11: =INT(C11*H11) -> 3000000
A12: 서지흡수기 | B12: 통신(이더넷용) 20kA이상 | C12: 3 | D12: EA | E12: =I12 -> 1050000 | H12: 350000 | I12: =INT(C12*H12) -> 1050000
A13: 자동복귀 누전차단기 | B13: 220V 2P 30AF | C13: 3 | D13: EA | E13: =I13 -> 252000 | H13: 84000 | I13: =INT(C13*H13) -> 252000
A14: 중앙감시시스템 | B14: 현장저장장치(4TB), 모니터, 스위치허브(24P), 전원공급기 | C14: 1 | D14: EA | E14: =I14 -> 8872820 | H14: 8872820 | I14: =INT(C14*H14) -> 8872820 | M14: 23600651
A15: 시스템장비용랙 | B15: 19", 27U, D:750mm | C15: 1 | D15: EA | E15: =I15 -> 1081800 | H15: 1081800 | I15: =INT(C15*H15) -> 1081800 | M15: 24253170
A17: 계 | B17: <재 료 비> | E17: =I17 -> 27312620 | I17: =SUM(I7:I15) -> 27312620
E23: 공 사 비 명 세 서
A25: 종 별 | B25: 재료 또는 | C25: 원 | D25: 단 | E25: 총 액 | F25: 노 무 비 | H25: 재 료 비 | J25: 경 비 | L25: 비고
B26: 치 수 | C26: 수 | D26: 위 | E26: 금 액 | F26: 단 가 | G26: 금 액 | H26: 단 가 | I26: 금 액 | J26: 단 가 | K26: 금 액
A27: <노 무 비>
A28: 통신관련산업기사 | C28: =원격소기성품근!H25 -> 3.6 | D28: 인 | E28: =G28 -> 1096232 | F28: =VLOOKUP(A28,'2026상반기 노임'!$B$2:$C$48,2,) -> 304509 | G28: =INT(C28*F28) -> 1096232
A29: 통신설비공 | C29: =원격소기성품근!J25 -> 5.37 | D29: 인 | E29: =G29 -> 1694385 | F29: =VLOOKUP(A29,'2026상반기 노임'!$B$2:$C$48,2,) -> 315528 | G29: =INT(C29*F29) -> 1694385
A30: 통신내선공 | C30: =원격소기성품근!L25 -> 0.72 | D30: 인 | E30: =G30 -> 205113 | F30: =VLOOKUP(A30,'2026상반기 노임'!$B$2:$C$48,2,) -> 284880 | G30: =INT(C30*F30) -> 205113
A31: 보통인부 | C31: =원격소기성품근!N25 -> 0.96 | D31: 인 | E31: =G31 -> 165185 | F31: =VLOOKUP(A31,'2026상반기 노임'!$B$2:$C$48,2,) -> 172068 | G31: =INT(C31*F31) -> 165185
A32: 특별인부 | C32: =원격소기성품근!P25 -> 0.96 | D32: 인 | E32: =G32 -> 217077 | F32: =VLOOKUP(A32,'2026상반기 노임'!$B$2:$C$48,2,) -> 226122 | G32: =INT(C32*F32) -> 217077
A33: 계 | E33: =G33 -> 3377992 | G33: =SUM(G28:G32) -> 3377992
A35: 공구손료 | B35: 직접노무비*3% | C35: 1 | D35: 식 | K35: =INT(G33*3%) -> 101339
A37: 합 계 | E37: =G37+I37+K37 -> 30791951 | G37: =TRUNC(G33,0) -> 3377992 | I37: =TRUNC(I17,0) -> 27312620 | K37: =TRUNC(K35,0) -> 101339

Sheet 원격소기성품근
A1: CCTV설치공사 노무비 산출근거
A3: 종 | B3: 재료또는 | C3: 원 | D3: 단 | E3: 통신외선공 | G3: 통신산업기사 | I3: 통신설비공 | K3: 통신내선공 | M3: 보통인부 | O3: 특별인부 | Q3: 비
A4: 별 | B4: 치 수 | C4: 수 | D4: 위 | E4: 인수 | F4: 계 | G4: 인수 | H4: 계 | I4: 인수 | J4: 계 | K4: 인수 | L4: 계 | M4: 인수 | N4: 계 | O4: 인수 | P4: 계 | Q4: 고
A5: =원격소기성품!A7 -> 메가픽셀 스피드 돔 카메라 | B5: =원격소기성품!B7 -> 200만화소 이상, 36배 광학줌, 하우징일체 | C5: =원격소기성품!C7 -> 3 | D5: =원격소기성품!D7 -> EA | G5: 0.18 | H5: =TRUNC($C5*G5,3) -> 0.54 | I5: 0.32 | J5: =TRUNC($C5*I5,3) -> 0.96 | O5: 0.32 | P5: =TRUNC($C5*O5,3) -> 0.96 | Q5: 통9-2-1-1
A6: =원격소기성품!A8 -> 카메라 BRACKET | B6: =원격소기성품!B8 -> STS, 2T | C6: =원격소기성품!C8 -> 3 | D6: =원격소기성품!D8 -> EA | I6: 0.23 | J6: =TRUNC($C6*I6,3) -> 0.69 | M6: 0.23 | N6: =TRUNC($C6*M6,3) -> 0.69 | Q6: 통9-2-1-1
A7: =원격소기성품!A9 -> CCTV POLE PANEL | B7: =원격소기성품!B9 -> STS. 2.0t (W)600*(H)700*(D)500, 이중단열판 | C7: =원격소기성품!C9 -> 3 | D7: =원격소기성품!D9 -> EA | K7: 0.24 | L7: =TRUNC($C7*K7,3) -> 0.72 | Q7: 전5-45-2
A8: =원격소기성품!A10 -> CCTV 촬영안내판 | B8: =원격소기성품!B10 -> 컬러강판, 500*400 | C8: =원격소기성품!C10 -> 3 | D8: =원격소기성품!D10 -> EA | I8: 0.09 | J8: =TRUNC($C8*I8,3) -> 0.27 | M8: 0.09 | N8: =TRUNC($C8*M8,3) -> 0.27 | Q8: 통9-2-1-1
A9: CCTV 시험 | B9: 작동시험 | C9: 3 | D9: EA | G9: 1.02 | H9: =TRUNC($C9*G9,3) -> 3.06 | I9: 1.15 | J9: =TRUNC($C9*I9,3) -> 3.45 | Q9: 통9-2-1-1
A25: 계 | F25: =TRUNC(SUM(F5:F9),2) -> 0 | H25: =TRUNC(SUM(H5:H9),2) -> 3.6 | J25: =TRUNC(SUM(J5:J9),2) -> 5.37 | L25: =TRUNC(SUM(L5:L9),2) -> 0.72 | N25: =TRUNC(SUM(N5:N9),2) -> 0.96 | P25: =TRUNC(SUM(P5:P9),2) -> 0.96

Sheet 2026상반기 노임
B1: 26년 상반기
B2: 보통인부 | C2: 172068 | I2: =VLOOKUP(B2,Sheet1!$A$1:$D$91,4,) -> 172068 | J2: 138290 | K2: =C2-J2 -> 33778
B3: 특별인부 | C3: 226122 | I3: =VLOOKUP(B3,Sheet1!$A$1:$D$91,4,) -> 226122 | J3: 187435 | K3: =C3-J3 -> 38687
B4: 비계공 | C4: 281939 | I4: =VLOOKUP(B4,Sheet1!$A$1:$D$91,4,) -> 281939 | J4: 234297 | K4: =C4-J4 -> 47642
B5: 형틀목공 | C5: 275790 | I5: =VLOOKUP(B5,Sheet1!$A$1:$D$91,4,) -> 275790 | J5: 215964 | K5: =C5-J5 -> 59826
B6: 철근공 | C6: 268187 | I6: =VLOOKUP(B6,Sheet1!$A$1:$D$91,4,) -> 268187 | J6: 219392 | K6: =C6-J6 -> 48795
B7: 철공 | C7: 239808 | I7: =VLOOKUP(B7,Sheet1!$A$1:$D$91,4,) -> 239808 | J7: 192968 | K7: =C7-J7 -> 46840
B8: 용접공 | C8: 282536 | I8: =VLOOKUP(B8,Sheet1!$A$1:$D$91,4,) -> 282536 | J8: 223094 | K8: =C8-J8 -> 59442
B9: 콘크리트공 | C9: 273540 | I9: =VLOOKUP(B9,Sheet1!$A$1:$D$91,4,) -> 273540 | J9: 216409 | K9: =C9-J9 -> 57131
B10: 보링공 | C10: 232562 | I10: =VLOOKUP(B10,Sheet1!$A$1:$D$91,4,) -> 232562 | J10: 174955 | K10: =C10-J10 -> 57607
B11: 착암공 | C11: 222306 | I11: =VLOOKUP(B11,Sheet1!$A$1:$D$91,4,) -> 222306 | J11: 156731 | K11: =C11-J11 -> 65575
B12: 건축목공 | C12: 277642 | I12: =VLOOKUP(B12,Sheet1!$A$1:$D$91,4,) -> 277642 | J12: 210176 | K12: =C12-J12 -> 67466
B13: 창호공 | C13: 247188 | I13: =VLOOKUP(B13,Sheet1!$A$1:$D$91,4,) -> 247188 | J13: 199185 | K13: =C13-J13 -> 48003
... B41: 변전전공 | C41: 485075 | I41: =VLOOKUP(B41,Sheet1!$A$1:$D$91,4,) -> #N/A | J41: 338501 | K41: =C41-J41 -> 146574
B42: 제조부문
B43: 부품조립원 | C43: 105323 | J43: 79162
B44: 전기기계조립원 | C44: 122522 | J44: 90540
B45: 중기계조립원 | C45: 121894 | J45: 103605
B46: 전선원 | C46: 99248 | J46: 97446
B47: 단순노무종사원 | C47: 90694 | J47: 79552
B48: 컴퓨터운용사 | C48: 144458 | J48: 102294

Sheet Sheet1
A1: 작업반장 | B1: 일반공사 직종 | C1: 인 | D1: 215907
A2: 보통인부 | B2: 일반공사 직종 | C2: 인 | D2: 172068
A3: 특별인부 | B3: 일반공사 직종 | C3: 인 | D3: 226122
A4: 조력공 | B4: 일반공사 직종 | C4: 인 | D4: 179028
A5: 제도사 | B5: 일반공사 직종 | C5: 인 | D5: 237324
A6: 비계공 | B6: 일반공사 직종 | C6: 인 | D6: 281939
A7: 형틀목공 | B7: 일반공사 직종 | C7: 인 | D7: 275790
A8: 철근공 | B8: 일반공사 직종 | C8: 인 | D8: 268187
A9: 철공 | B9: 일반공사 직종 | C9: 인 | D9: 239808
A10: 철판공 | B10: 일반공사 직종 | C10: 인 | D10: 221481
A11: 철골공 | B11: 일반공사 직종 | C11: 인 | D11: 252641
A12: 용접공 | B12: 일반공사 직종 | C12: 인 | D12: 282536
... A91: 석면해체공 | B91: 일반공사 직종 | C91: 인 | D91: 204181

Sheet 자동화공사
A1: 3. 원격제어소 일반공사 | E1: 공 사 비 명 세 서
A3: 일 금 : | B3: =E36 -> 19784233 | C3: 원
A4: 종 | B4: 재료 또는 | C4: 원 | D4: 단 | E4: 총 액 | F4: 노 무 비 | H4: 재 료 비 | J4: 경 비 | L4: 비
A5: 별 | B5: 치 수 | C5: 수 | D5: 위 | E5: 금 액 | F5: 단 가 | G5: 금 액 | H5: 단 가 | I5: 금 액 | J5: 단 가 | K5: 금 액 | L5: 고
A6: =[54]자동화수량산출!A3 -> 파상형 전선관 | B6: =[54]자동화수량산출!B3 -> ELP Φ30 | C6: =자동화수량산출!J9 -> 230 | D6: =[54]자동화수량산출!C3 -> M | E6: =I6 -> 82800 | H6: 360 | I6: =INT(C6*H6) -> 82800 | J6: 0.288 | K6: =(C6*J6) -> 66.24 | L6: kg | N6: 13유통6월P967
A7: =[54]자동화수량산출!A11 -> 강제 전선관 | B7: =[54]자동화수량산출!B11 -> ST 22C | C7: =자동화수량산출!J17 -> 59 | D7: =[54]자동화수량산출!C11 -> M | E7: =I7 -> 215940 | H7: 3660 | I7: =INT(C7*H7) -> 215940 | J7: 1.37 | K7: =(C7*J7) -> 80.83 | L7: kg
A8: =[54]자동화수량산출!A18 -> 전력케이블 | B8: =[54]자동화수량산출!B18 -> 0.6/1kV F-CV 2.5㎟×2C | C8: =자동화수량산출!J25 -> 139 | D8: =[54]자동화수량산출!C18 -> M | E8: =I8 -> 235883 | H8: 1697 | I8: =INT(C8*H8) -> 235883 | J8: 0.153 | K8: =(C8*J8) -> 21.267 | L8: kg
A9: =[54]자동화수량산출!A26 -> UTP 케이블 | B9: =[54]자동화수량산출!B26 -> UTP CAT 6 - 4Pir | C9: =자동화수량산출!J36 -> 175 | D9: =[54]자동화수량산출!C26 -> M | E9: =I9 -> 239750 | H9: 1370 | I9: =INT(C9*H9) -> 239750 | J9: 0.162 | K9: =(C9*J9) -> 28.35 | L9: kg
A10: =[54]자동화수량산출!A37 -> 제어케이블 | B10: =[54]자동화수량산출!B37 -> 0.6/1kV F-CVV-SB 1.5㎟×30C | C10: =자동화수량산출!J42 -> 44 | D10: =[54]자동화수량산출!C37 -> M | E10: =I10 -> 508332 | H10: 11553 | I10: =INT(C10*H10) -> 508332 | J10: 1.018 | K10: =(C10*J10) -> 44.792 | L10: kg
A11: =[54]자동화수량산출!A43 -> 제어케이블 | B11: =[54]자동화수량산출!B43 -> 0.6/1kV F-CVV-SB 1.5㎟×10C | C11: =자동화수량산출!J47 -> 148 | D11: =[54]자동화수량산출!C43 -> M | E11: =I11 -> 730380 | H11: 4935 | I11: =INT(C11*H11) -> 730380 | J11: 0.431 | K11: =(C11*J11) -> 63.788 | L11: kg
A12: =[54]자동화수량산출!A48 -> 제어케이블 | B12: =[54]자동화수량산출!B48 -> 0.6/1kV F-CVV-SB 1.5㎟×5C | C12: =자동화수량산출!J52 -> 131 | D12: =[54]자동화수량산출!C48 -> M | E12: =I12 -> 385140 | H12: 2940 | I12: =INT(C12*H12) -> 385140 | J12: 0.263 | K12: =(C12*J12) -> 34.453 | L12: kg
A13: =[54]자동화수량산출!A53 -> 접지선 | B13: =[54]자동화수량산출!B53 -> F-GV 2.5㎟ | C13: =자동화수량산출!J53 -> 139 | D13: =[54]자동화수량산출!C53 -> M | E13: =I13 -> 120096 | H13: 864 | I13: =INT(C13*H13) -> 120096 | J13: 0.069 | K13: =(C13*J13) -> 9.591 | L13: kg
A18: 소 계 | E18: =I18 -> 2518321 | I18: =SUM(I6:I17) -> 2518321 | K18: =INT(SUM(K6:K17)) -> 349 | L18: kg
A21: 전선관 부속품 | B21: 배관자재*15% | C21: 1 | D21: 식 | E21: =I21 -> 44811 | I21: =INT(SUM(I6:I7)*0.15) -> 44811 | K21: =INT(SUM(K6)*0.15) -> 9 | L21: kg
A22: 잡 재 | B22: 배관,배선자재*2% | C22: 1 | D22: 식 | E22: =I22 -> 50366.42 | I22: =INT(SUM(I6:I7,I8:I13))*0.02 -> 50366.42 | K22: =INT(SUM(K6:K7,K8:K13))*0.02 -> 6.98 | L22: kg
A23: 계 | B23: <재 료 비> | E23: =I23 -> 2613498.4 | I23: =SUM(I18:I22) -> 2613498.4 | K23: =SUM(K18:K22) -> 364.98 | L23: kg
A24: <직접노무비>
A25: 노무비 | B25: 통신케이블공 | C25: =자동화수량산출!J54 -> 28.35 | D25: 인 | E25: =G25 -> 12366950 | F25: ='2026상반기 노임'!C32 -> 436224 | G25: =INT(C25*F25) -> 12366950
A26: 노무비 | B26: 통신외선공 | C26: =자동화수량산출!J55 -> 9.28 | D26: 인 | E26: =G26 -> 3794981 | F26: ='2026상반기 노임'!C31 -> 408942 | G26: =INT(C26*F26) -> 3794981
A27: 노무비 | B27: 보통인부 | C27: =자동화수량산출!J56 -> 2.89 | D27: 인 | E27: =G27 -> 497276 | F27: ='2026상반기 노임'!C2 -> 172068 | G27: =INT(C27*F27) -> 497276
A28: 계 | E28: =G28 -> 16659207 | G28: =SUM(G25:G27) -> 16659207
A30: <경 비>
A31: 운 반 비 | C31: =K23 -> 364.98 | D31: KG | E31: =K31 -> 11752 | J31: 32.2 | K31: =INT(C31*J31) -> 11752
A32: 공구손료 | B32: 직접노무비*3% | C32: 1 | D32: 식 | E32: =K32 -> 499776 | K32: =INT(G28*0.03) -> 499776
A33: 계 | E33: =K33 -> 511528 | K33: =SUM(K31:K32) -> 511528
A36: 합 계 | E36: =G36+I36+K36 -> 19784233 | G36: =G28 -> 16659207 | I36: =I23 -> 2613498.4 | K36: =+K33 -> 511528

Sheet 자동화수량산출
A1: 품 명 | B1: 규 격 | C1: 단위 | D1: 산 출 수 량 | H1: 소 계 | I1: 할증 | J1: 합 계 | K1: 공량 | L1: 공량합계 | M1: 품셈 | N1: 전공
A2: =[54]자동화!A1 -> 3. 원격제어소 일반공사
A3: 파상형 전선관 | B3: ELP Φ30 | C3: M | E3: 통신인입
E4: 55+5 | F4: = | G4: 60
C5: M | E5: CCTV RACK ~ CCTV#2 : 전원, DATA
E6: (45+1)*2 | F6: = | G6: 92
C7: M | E7: CCTV RACK ~ CCTV#3
E8: (35+1)*2 | F8: = | G8: 72
E9: =SUM(G4:G8) -> 224 | H9: 224 | I9: 0.03 | J9: =ROUNDDOWN((H9*(I9+1)),0) -> 230 | K9: =0.007*0.9 -> 0.0063 | L9: =ROUNDDOWN(J9*K9,2) -> 1.44 | M9: 통신 2-1-3 | N9: 통신외선공
K10: =0.014*0.9 -> 0.0126 | L10: =ROUNDDOWN(J9*K10,2) -> 2.89 | M10: 통신 2-1-3 | N10: 보통인부
A11: 강제 전선관 | B11: ST 22C | C11: M | E11: RCS-N1 ~ POS : DATA
E12: 15+1 | F12: = | G12: 16
C13: M | E13: CCTV RACK ~ CCTV#1 : 전원
E14: 15+4 | F14: = | G14: 19
C15: M | E15: CCTV RACK ~ CCTV#1 : DATA
E16: =E14 -> 15+4 | F16: = | G16: 19
E17: =SUM(G12:G16) -> 54 | H17: =54 -> 54 | I17: 0.1 | J17: =ROUNDDOWN((H17*(I17+1)),0) -> 59 | K17: 0.11 | L17: =ROUNDDOWN(J17*K17,2) -> 6.49 | M17: 통신 3-1-1 | N17: 통신외선공
A18: 전력케이블 | B18: 0.6/1kV F-CV 2.5㎟×2C | C18: M | E18: CCTV RACK ~ CCTV#1 : 전원
E19: 19+1+1 | F19: = | G19: 21
C21: M | E21: CCTV RACK ~ CCTV#2 : 전원
E22: 46+(10+6) | F22: = | G22: 62
C23: M | E23: CCTV RACK ~ CCTV#3 : 전원
E24: 36+(10+6) | F24: = | G24: 52
E25: =SUM(G19:G24) -> 135 | H25: 135 | I25: 0.03 | J25: =ROUNDDOWN((H25*(I25+1)),0) -> 139 | K25: =0.023*1.4 -> 0.0322 | L25: =ROUNDDOWN(J25*(K25),2) -> 4.47 | M25: 통신 4-6-1 | N25: 통신케이블공
A26: UTP 케이블 | B26: UTP CAT 6 - 4Pir | C26: M | E26: =E11 -> RCS-N1 ~ POS : DATA
E27: ="(배관("&G12&")+(1+1))*2" -> (배관(16)+(1+1))*2 | F27: = | G27: 32
C28: M | E28: RCS-N1 ~ CCTV RACK : DATA
E29: 1+(1+1) | F29: = | G29: 3
C30: M | E30: CCTV RACK ~ CCTV#1 : DATA
E31: =E19 -> 19+1+1 | F31: = | G31: 21
C32: M | E32: CCTV RACK ~ CCTV#2 : DATA
E33: =E22 -> 46+(10+6) | F33: = | G33: 62
C34: M | E34: CCTV RACK ~ CCTV#3 : DATA
E35: =E24 -> 36+(10+6) | F35: = | G35: 52
E36: =SUM(G27:G35) -> 170 | H36: 170 | I36: 0.03 | J36: =ROUNDDOWN((H36*(I36+1)),0) -> 175 | K36: =0.015*0.9 -> 0.0135 | L36: =ROUNDDOWN(J36*K36,2) -> 2.36 | M36: 통신 4-3-1 | N36: 통신케이블공
A37: 제어케이블 | B37: 0.6/1kV F-CVV-SB 1.5㎟×30C | C37: M | E37: MOP-101 ~ RCS-01 : DATA
E38: 2+(4+4) | F38: = | G38: 10
C40: M | E40: LV-N1 ~ RCS-01 : DATA
E41: 2+(10+9+8+2+2) | F41: = | G41: 33
E42: =SUM(G38:G41) -> 43 | H42: 43 | I42: 0.03 | J42: =ROUNDDOWN((H42*(I42+1)),0) -> 44 | K42: =0.086*1.2 -> 0.1032 | L42: =ROUNDDOWN(J42*K42,2) -> 4.54 | M42: 통신 4-4-1 | N42: 통신케이블공
A43: 제어케이블 | B43: 0.6/1kV F-CVV-SB 1.5㎟×10C | C43: M | E43: TR-N1~N3 ~ RCS-N1 : DATA
E44: (10+2+2)+(9+2+2)+(10+2+2) | F44: = | G44: 82
C45: M | E45: HV-N1~N4 ~ RCS-N1 : DATA
E46: =(10+11+12+13)+(2+2)*4 -> 62 | F46: = | G46: 62
E47: =SUM(G44:G46) -> 144 | H47: 144 | I47: 0.03 | J47: =ROUNDDOWN((H47*(I47+1)),0) -> 148 | K47: =0.043*1.2 -> 0.0516 | L47: =ROUNDDOWN(J47*K47,2) -> 7.63 | M47: 통신 4-4-1 | N47: 통신케이블공
A48: 제어케이블 | B48: 0.6/1kV F-CVV-SB 1.5㎟×5C | C48: M | E48: EHV-N1(MAIN VCB) ~ RCS-01 : DATA
E49: 20+(2+2) | F49: = | G49: 24
C50: M | E50: EHV-N3(MAIN VCB) ~ RCS-N1 : DATA
E51: 10+(2+2) | F51: = | G51: 104
E52: =SUM(G49:G51) -> 128 | H52: 128 | I52: 0.03 | J52: =ROUNDDOWN((H52*(I52+1)),0) -> 131 | K52: =0.029*1.2 -> 0.0348 | L52: =ROUNDDOWN(J52*K52,2) -> 4.55 | M52: 통신 4-6-1 | N52: 통신케이블공
A53: 접지선 | B53: F-GV 2.5㎟ | C53: M | E53: =H25 -> 135 | H53: 135 | I53: 0.03 | J53: =ROUNDDOWN((H53*(I53+1)),0) -> 139 | K53: 0.01 | L53: =ROUNDDOWN(H53*K53,2) -> 1.35 | M53: 통신 11-5-1 | N53: 통신외선공
A54: 노무비 | B54: 통신케이블공 | C54: 인 | E54: =SUMIF(N$3:N$53,B54,L$3:L$53) -> 23.55 | H54: 28.35 | J54: =ROUNDDOWN((H54*(I54+1)),2) -> 28.35
A55: 노무비 | B55: 통신외선공 | C55: 인 | E55: =SUMIF(N$3:N$53,B55,L$3:L$53) -> 9.28 | H55: 9.28 | J55: =ROUNDDOWN((H55*(I55+1)),2) -> 9.28
A56: 노무비 | B56: 보통인부 | C56: 인 | E56: =SUMIF(N$3:N$53,B56,L$3:L$53) -> 2.89 | H56: 2.89 | J56: =ROUNDDOWN((H56*(I56+1)),2) -> 2.89
