Workbook
Name _: [1]예가표!#REF!
Name _: [1]예가표!#REF!
Name __: [1]예가표!#REF!
Name __: [1]예가표!#REF!
Name ____: [1]예가표!#REF!
Name ____: [1]예가표!#REF!
Name ____SUM1: [2]EP0618!#REF!
Name ____SUM1: [2]EP0618!#REF!
Name ____SUM10: [2]EP0618!#REF!
Name ____SUM10: [2]EP0618!#REF!
Name ____SUM11: [2]EP0618!#REF!
Name ____SUM11: [2]EP0618!#REF!
Name ____SUM12: [2]EP0618!#REF!
Name ____SUM12: [2]EP0618!#REF!
Name ____SUM13: [2]EP0618!#REF!
Name ____SUM13: [2]EP0618!#REF!
Name ____SUM14: [2]EP0618!#REF!
Name ____SUM14: [2]EP0618!#REF!
Name ____SUM15: [2]EP0618!#REF!
Name ____SUM15: [2]EP0618!#REF!
Name ____SUM16: [2]EP0618!#REF!
Name ____SUM16: [2]EP0618!#REF!
Name ____SUM17: [2]EP0618!#REF!
Name ____SUM17: [2]EP0618!#REF!
Name ____SUM18: [2]EP0618!#REF!
Name ____SUM18: [2]EP0618!#REF!
Name ____SUM19: [2]EP0618!#REF!
Name ____SUM19: [2]EP0618!#REF!
Name ____SUM2: [2]EP0618!#REF!
Name ____SUM2: [2]EP0618!#REF!
Name ____SUM3: [2]EP0618!#REF!
Name ____SUM3: [2]EP0618!#REF!
Name ____SUM4: [2]EP0618!#REF!
Name ____SUM4: [2]EP0618!#REF!
Name ____SUM5: [2]EP0618!#REF!
Name ____SUM5: [2]EP0618!#REF!
Name ____SUM6: [2]EP0618!#REF!
Name ____SUM6: [2]EP0618!#REF!
Name ____SUM7: [2]EP0618!#REF!
Name ____SUM7: [2]EP0618!#REF!
Name ____SUM8: [2]EP0618!#REF!
Name ____SUM8: [2]EP0618!#REF!
Name ____SUM9: [2]EP0618!#REF!
Name ____SUM9: [2]EP0618!#REF!
Name __SUM1: [2]EP0618!#REF!
Name __SUM1: [2]EP0618!#REF!
Name __SUM10: [2]EP0618!#REF!
Name __SUM10: [2]EP0618!#REF!
Name __SUM11: [2]EP0618!#REF!
Name __SUM11: [2]EP0618!#REF!
Name __SUM12: [2]EP0618!#REF!
Name __SUM12: [2]EP0618!#REF!
Name __SUM13: [2]EP0618!#REF!
Name __SUM13: [2]EP0618!#REF!
Name __SUM14: [2]EP0618!#REF!
Name __SUM14: [2]EP0618!#REF!
Name __SUM15: [2]EP0618!#REF!
Name __SUM15: [2]EP0618!#REF!
Name __SUM16: [2]EP0618!#REF!
Name __SUM16: [2]EP0618!#REF!

Sheet 표지
A3: 공 사 비 내 역 서
A5: 공사명 : 안평초등학교 급식실 및 학생식당 증축공사(소방)
A9: 2026. 06.
A13: 서울특별시동부교육지원청
A18: 일 위 대 가
A20: 공사명 : 안평초등학교 급식실 및 학생식당 증축공사(소방)
A24: 2026. 06.
A28: 서울특별시동부교육지원청
A33: 노 임 산 출 서
A35: 공사명 : 안평초등학교 급식실 및 학생식당 증축공사(소방)
A39: 2026. 06.
A43: 서울특별시동부교육지원청
... A73: 서울특별시동부교육지원청

Sheet 원가
A1: 원 가 계 산 서
A2: 공사명: | C2: 안평초등학교 급식실 및 학생식당 증축 소방공사
A3: 비 목 | C3: 구 분 | D3: 소방전기 | E3: 소방기계 | F3: 합계 | G3: 구 성 비
B4: 재 료 비 | C4: 직 접 재 료 비 | D4: =총괄표!I29 -> 3502641 | E4: =총괄표!P31 -> 15561880 | F4: =SUM(D4:E4) -> 19064521
C5: 간 접 재 료 비
A6: 순 | C6: ( 소 계 ) | D6: =SUM(D4:D5) -> 3502641 | E6: =SUM(E4:E5) -> 15561880 | F6: =SUM(D6:E6) -> 19064521
B7: 노 무 비 | C7: 직 접 노 무 비 | D7: =총괄표!L29 -> 13679410 | F7: =SUM(D7:E7) -> 13679410
C8: 간 접 노 무 비 | D8: =INT(D$7*I8) -> 2393896 | E8: =INT(E$7*I8) -> 0 | F8: =SUM(D8:E8) -> 2393896 | G8: 직접노무비 | H8: x | I8: 0.175
C9: ( 소 계 ) | D9: =SUM(D7:D8) -> 16073306 | E9: =SUM(E7:E8) -> 0 | F9: =SUM(D9:E9) -> 16073306
C10: 기 계 경 비 | F10: =SUM(D10:E10) -> 0
A11: 공 | C11: 산 재 보 험 료 | D11: =INT(D$9*I11) -> 572209 | E11: =INT(E$9*I11) -> 0 | F11: =SUM(D11:E11) -> 572209 | G11: 노무비 | H11: x | I11: 0.0356
C12: 고 용 보 험 료 | D12: =INT(D$9*I12) -> 162340 | E12: =INT(E$9*I12) -> 0 | F12: =SUM(D12:E12) -> 162340 | G12: 노무비 | H12: x | I12: 0.0101
B13: 경 | C13: 건 강 보 험 료 | D13: =INT(D$7*I13) -> 491774 | E13: =INT(E$7*I13) -> 0 | F13: =SUM(D13:E13) -> 491774 | G13: 직접노무비 | H13: x | I13: 0.03595
C14: 연 금 보 험 료 | D14: =INT(D$7*I14) -> 649771 | E14: =INT(E$7*I14) -> 0 | F14: =SUM(D14:E14) -> 649771 | G14: 직접노무비 | H14: x | I14: 0.0475
C15: 노인장기요양보험료 | D15: =INT(D$13*I15) -> 64619 | E15: =INT(E$13*I15) -> 0 | F15: =SUM(D15:E15) -> 64619 | G15: 건강보험료 | H15: x | I15: 0.1314
A16: 사 | C16: 퇴직공제부금비 | D16: =INT(D$7*I16) -> 0 | E16: =INT(E$7*I16) -> 0 | F16: =SUM(D16:E16) -> 0 | G16: 직접노무비 | H16: x | I16: 0
C17: 산업안전보건관리비 | D17: =INT(SUM(D$6,D$7)*I17) -> 534361 | E17: =INT(SUM(E$6,E$7)*I17) -> 483974 | F17: =SUM(D17:E17) -> 1018335 | G17: (재료+직노) | H17: x | I17: 0.0311
C18: 기 타 경 비 | D18: =INT(SUM(D$6,D$9)*I18) -> 978797 | E18: =INT(SUM(E$6,E$9)*I18) -> 778094 | F18: =SUM(D18:E18) -> 1756891 | G18: (재료+노무) | H18: x | I18: 0.05
C19: 석 면 분 담 금 | D19: =INT(D$9*I19) -> 964 | F19: =SUM(D19:E19) -> 964 | G19: 노무비 | H19: x | I19: 6e-05
B20: 비 | C20: 임금채권부담금 | D20: =INT(D$9*I20) -> 14465 | F20: =SUM(D20:E20) -> 14465 | G20: 노무비 | H20: x | I20: 0.0009
A21: 비 | C21: 환 경 보 전 비
C23: ( 소 계 ) | D23: =SUM(D10:D22) -> 3469300 | E23: =SUM(E10:E22)+1 -> 1262069 | F23: =SUM(D23:E23) -> 4731369
A24: 일 반 관 리 비 | D24: =INT(SUM(D$6,D$9,D$23)*I24) -> 1843619 | E24: =INT(SUM(E$6,E$9,E$23)*I24) -> 1345915 | F24: =SUM(D24:E24) -> 3189534 | G24: (재료+노무+경비) | H24: x | I24: 0.08
A25: 이 윤 | D25: =INT(SUM(D$9,D$23,D$24)*I25) -> 3207933 | E25: =INT(SUM(E$9,E$23,E$24)*I25) -> 391197 | F25: =SUM(D25:E25) -> 3599130 | G25: (노무비+경비+일관) | H25: x | I25: 0.15
A26: ( 총 원 가 ) | D26: =TRUNC(SUM(D$6,D$9,D$23,D$24,D$25),-3) -> 28096000 | E26: =TRUNC(SUM(E$6,E$9,E$23,E$24,E$25),-3) -> 18561000 | F26: =SUM(D26:E26) -> 46657000 | G26: 천원미만절사
A27: 손해배상 책임보험 | D27: =MAX(10000,INT(D$26*I27)) -> 102269 | E27: =INT(E$26*I27) -> 67562 | F27: =SUM(D27:E27) -> 169831 | G27: 총원가 | H27: x | I27: 0.00364
A28: 부 가 가 치 세 | D28: =INT((D26+D27)*I28) -> 2819826 | E28: =INT((E26+E27)*I28) -> 1862856 | F28: =SUM(D28:E28) -> 4682682 | G28: (총원가+손해배상보험) | H28: x | I28: 0.1
A29: ( 합 계 ) | D29: =TRUNC(SUM(D26:D28),-3) -> 31018000 | E29: =TRUNC(SUM(E26:E28),-3) -> 20491000 | F29: =SUM(D29:E29) -> 51509000 | G29: 천원미만절사

Sheet 총괄표
A1: 총줄수-> | B1: 29 | D1: [ 안평초등학교급식실및학생식당증축공사(소방) ] | AA1: 연속견적가로형식
A2: 번호 | B2: 공종코드 | C2: … | D2: 공 종 명 | E2: 규격 | F2: 단위 | G2: 수량 | H2: 재료비 | J2: 노무비 | M2: 경비 | P2: 계 | Q2: 비고
H3: 단가 | I3: 금액 | J3: 수량 | K3: 단가 | L3: 금액 | M3: 단가 | N3: 금액 | O3: 단가
B4: 공종줄 | D4: 안평초등학교급식실및학생식당증축공사(소방)
B5: 01 | D5: 1.자탐설비공사 | F5: 식 | G5: 1 | H5: ='내역서(전·소)'!I55 -> 2911563 | I5: =G5*H5 -> 2911563 | K5: ='내역서(전·소)'!L55 -> 11747258 | L5: =G5*K5 -> 11747258 | M5: ='내역서(전·소)'!N55 -> 0 | N5: =G5*M5 -> 0 | O5: =IF((H5+K5+M5)=0, "", (H5+K5+M5)) -> 14658821 | P5: =SUM(I5,L5,N5) -> 14658821
B6: 02 | D6: 2.유도등설비공사 | F6: 식 | G6: 1 | H6: ='내역서(전·소)'!I81 -> 591078 | I6: =G6*H6 -> 591078 | K6: ='내역서(전·소)'!L81 -> 1932152 | L6: =G6*K6 -> 1932152 | M6: ='내역서(전·소)'!N81 -> 0 | N6: =G6*M6 -> 0 | O6: =IF((H6+K6+M6)=0, "", (H6+K6+M6)) -> 2523230 | P6: =SUM(I6,L6,N6) -> 2523230
C29: Total | D29: ( 합 계 ) | I29: =TRUNC(SUM(I4:I28)) -> 3502641 | L29: =TRUNC(SUM(L4:L28)) -> 13679410 | N29: =TRUNC(SUM(N4:N28)) -> 0 | P29: =TRUNC(SUM(P4:P28)) -> 17182051
B30: 공종줄 | D30: 안평초등학교급식실및학생식당증축공사(소방)
B31: 01 | D31: 1.소화기구설치공사 | F31: 식 | G31: 1 | H31: ='공종별집계표(기·소)'!F5 -> 15561880 | I31: =G31*H31 -> 15561880 | L31: =G31*K31 -> 0 | M31: ='내역서(전·소)'!N81 -> 0 | N31: =G31*M31 -> 0 | O31: =IF((H31+K31+M31)=0, "", (H31+K31+M31)) -> 15561880 | P31: =SUM(I31,L31,N31) -> 15561880
C55: Total | D55: ( 합 계 ) | I55: =TRUNC(SUM(I30:I54)) -> 15561880 | L55: =TRUNC(SUM(L30:L54)) -> 0 | N55: =TRUNC(SUM(N30:N54)) -> 0 | P55: =TRUNC(SUM(P30:P54)) -> 15561880

Sheet 공종별집계표(기·소)
A1: 공 종 별 집 계 표
A2: [ 서울안평초등학교 급식실 및 학생식당 증축공사(소방) ]
A3: 품 명 | B3: 규 격 | C3: 단위 | D3: 수량 | E3: 재 료 비 | G3: 노 무 비 | I3: 경 비 | K3: 합 계 | M3: 비 고 | N3: 공종코드 | O3: 변수 | P3: 상위공종 | Q3: 공종구분 | R3: 공종레벨 | S3: 공종소계 | T3: 원가계산서 연결금액
E4: 단 가 | F4: 금 액 | G4: 단 가 | H4: 금 액 | I4: 단 가 | J4: 금 액 | K4: 단 가 | L4: 금 액
A5: 01 서울안평초등학교 급식실 및 학생식당 증축공사(소방) | D5: 1 | E5: =F6 -> 15561880 | F5: =E5*D5 -> 15561880 | G5: =H6 -> 0 | H5: =G5*D5 -> 0 | I5: =J6 -> 0 | J5: =I5*D5 -> 0 | K5: =E5+G5+I5 -> 15561880 | L5: =F5+H5+J5 -> 15561880 | N5: 01 | R5: 1
A6: 0101 기계소방공사 | D6: 1 | E6: =F7 -> 15561880 | F6: =E6*D6 -> 15561880 | G6: =H7 -> 0 | H6: =G6*D6 -> 0 | I6: =J7 -> 0 | J6: =I6*D6 -> 0 | K6: =E6+G6+I6 -> 15561880 | L6: =F6+H6+J6 -> 15561880 | N6: 0101 | P6: 01 | R6: 2
A7: 010101 소화기구설치공사 | D7: 1 | E7: ='내역서(기·소)'!F27 -> 15561880 | F7: =E7*D7 -> 15561880 | G7: ='내역서(기·소)'!H27 -> 0 | H7: =G7*D7 -> 0 | I7: ='내역서(기·소)'!J27 -> 0 | J7: =I7*D7 -> 0 | K7: =E7+G7+I7 -> 15561880 | L7: =F7+H7+J7 -> 15561880 | N7: 010101 | P7: 0101 | R7: 3
A27: [ 합 계 ] | F27: =F5 -> 15561880 | H27: =H5 -> 0 | J27: =J5 -> 0 | L27: =L5 -> 15561880

Sheet 내역서(전·소)
A1: 총줄수-> | B1: 81 | D1: [ 안평초등학교급식실및학생식당증축공사(소방) ] | W1: 노임 계산 정보 | AA1: 부속재 및 손료
A2: 번호 | B2: 공종코드 | C2: 코드 | D2: 명 칭 | E2: 규 격 | F2: 단위 | G2: 수량 | H2: 재료비 | J2: 노무비 | M2: 경비 | P2: 계 | Q2: 비고 | W2: 노임계 | X2: 전체(%) | Y2: 공종별(%) | Z2: 노임 소수 | AA2: CD배관재 | AB2: 일반배관재 | AC2: 소모재 | AD2: 자재계 | AE2: 노임계
H3: 단가 | I3: 금액 | J3: 수량 | K3: 단가 | L3: 금액 | M3: 단가 | N3: 금액 | O3: 단가 | AD3: =IF(옵션!$C$11 =0, "1", 옵션!$C$11) -> 1 | AE3: =IF(옵션!$C$12 =0, "1", 옵션!$C$12) -> 1
B4: 공종줄 | D4: 1.자탐설비공사
A5: 59750337003 | B5: 01 | C5: 3913170610034834 | D5: 강제전선관 | E5: 아연도 28 mm | F5: M | G5: 94 | H5: =합산자재!H4 -> 4012 | I5: =TRUNC(G5*H5) -> 377128 | J5: 85 | K5: =합산자재!I4 -> 0 | L5: =TRUNC(G5*K5) -> 0 | M5: =합산자재!J4 -> 0 | N5: =TRUNC(G5*M5) -> 0 | O5: =IF((H5+K5+M5)=0, "", (H5+K5+M5)) -> 4012 | P5: =SUM(I5,L5,N5) -> 377128 | AB5: =I5 -> 377128 | AC5: =G5*H5 -> 377128
A6: 59750337004 | B6: 01 | C6: 3913170610034835 | D6: 강제전선관 | E6: 아연도 36 mm | F6: M | G6: 48 | H6: =합산자재!H5 -> 5134 | I6: =TRUNC(G6*H6) -> 246432 | J6: 44 | K6: =합산자재!I5 -> 0 | L6: =TRUNC(G6*K6) -> 0 | M6: =합산자재!J5 -> 0 | N6: =TRUNC(G6*M6) -> 0 | O6: =IF((H6+K6+M6)=0, "", (H6+K6+M6)) -> 5134 | P6: =SUM(I6,L6,N6) -> 246432 | AB6: =I6 -> 246432 | AC6: =G6*H6 -> 246432
A7: 59753097002 | B7: 01 | C7: 3913170610035664 | D7: 합성수지제 가요전선관 | E7: CD(난연성) 16㎜ | F7: M | G7: 32 | H7: =합산자재!H6 -> 170 | I7: =TRUNC(G7*H7) -> 5440 | J7: 29 | K7: =합산자재!I6 -> 0 | L7: =TRUNC(G7*K7) -> 0 | M7: =합산자재!J6 -> 0 | N7: =TRUNC(G7*M7) -> 0 | O7: =IF((H7+K7+M7)=0, "", (H7+K7+M7)) -> 170 | P7: =SUM(I7,L7,N7) -> 5440 | AA7: =I7 -> 5440 | AC7: =G7*H7 -> 5440
A8: 59753017003 | B8: 01 | C8: 3913170620174410 | D8: 1종금속제가요전선관 | E8: 16 mm 일반-비방수 | F8: M | G8: 158 | H8: =합산자재!H7 -> 445 | I8: =TRUNC(G8*H8) -> 70310 | J8: 143.5 | K8: =합산자재!I7 -> 0 | L8: =TRUNC(G8*K8) -> 0 | M8: =합산자재!J7 -> 0 | N8: =TRUNC(G8*M8) -> 0 | O8: =IF((H8+K8+M8)=0, "", (H8+K8+M8)) -> 445 | P8: =SUM(I8,L8,N8) -> 70310 | AB8: =I8 -> 70310 | AC8: =G8*H8 -> 70310
A9: A0600000000 | B9: 01 | C9: RENT000000000001 | D9: [ 배관 부속재 ] | E9: CD 전선관의 40 % | F9: 식 | G9: 1 | H9: =TRUNC(AA9*옵션!$B$32/100) -> 2176 | I9: =TRUNC(G9*H9) -> 2176 | J9: 1 | L9: =TRUNC(G9*K9) -> 0 | N9: =TRUNC(G9*M9) -> 0 | O9: =IF((H9+K9+M9)=0, "", (H9+K9+M9)) -> 2176 | P9: =SUM(I9,L9,N9) -> 2176 | AA9: =TRUNC(SUM(AA4:AA8)) -> 5440
A10: A0500000000 | B10: 01 | C10: RENT000000000002 | D10: [ 배관 부속재 ] | E10: 전선관의 15 % | F10: 식 | G10: 1 | H10: =TRUNC(AB10*옵션!$B$31/100) -> 104080 | I10: =TRUNC(G10*H10) -> 104080 | J10: 1 | L10: =TRUNC(G10*K10) -> 0 | N10: =TRUNC(G10*M10) -> 0 | O10: =IF((H10+K10+M10)=0, "", (H10+K10+M10)) -> 104080 | P10: =SUM(I10,L10,N10) -> 104080 | AB10: =TRUNC(SUM(AB4:AB9)) -> 693870
A11: 59753017043 | B11: 01 | C11: 3913170620174434 | D11: 1종금속제가요전선관 | E11: 커넥터, 16 mm 일반-비방수 | F11: 개 | G11: 78 | H11: =합산자재!H8 -> 340 | I11: =TRUNC(G11*H11) -> 26520 | J11: 78 | K11: =합산자재!I8 -> 0 | L11: =TRUNC(G11*K11) -> 0 | M11: =합산자재!J8 -> 0 | N11: =TRUNC(G11*M11) -> 0 | O11: =IF((H11+K11+M11)=0, "", (H11+K11+M11)) -> 340 | P11: =SUM(I11,L11,N11) -> 26520
A12: 59759017061 | B12: 01 | C12: 3913170820176475 | D12: 강재전선관용 부품 | E12: 노말밴드, 아연도 28 mm | F12: 개 | G12: 10 | H12: =합산자재!H9 -> 3108 | I12: =TRUNC(G12*H12) -> 31080 | J12: 10 | K12: =합산자재!I9 -> 0 | L12: =TRUNC(G12*K12) -> 0 | M12: =합산자재!J9 -> 0 | N12: =TRUNC(G12*M12) -> 0 | O12: =IF((H12+K12+M12)=0, "", (H12+K12+M12)) -> 3108 | P12: =SUM(I12,L12,N12) -> 31080
A13: 59759017062 | B13: 01 | C13: 3913170820176476 | D13: 강재전선관용 부품 | E13: 노말밴드, 아연도 36 mm | F13: 개 | G13: 2 | H13: =합산자재!H10 -> 3739 | I13: =TRUNC(G13*H13) -> 7478 | J13: 2 | K13: =합산자재!I10 -> 0 | L13: =TRUNC(G13*K13) -> 0 | M13: =합산자재!J10 -> 0 | N13: =TRUNC(G13*M13) -> 0 | O13: =IF((H13+K13+M13)=0, "", (H13+K13+M13)) -> 3739 | P13: =SUM(I13,L13,N13) -> 7478
A14: 59753767011 | B14: 01 | C14: 3912130810035750 | D14: 아우트렛박스 | E14: 8각 54㎜ | F14: 개 | G14: 25 | H14: =합산자재!H11 -> 638 | I14: =TRUNC(G14*H14) -> 15950 | J14: 25 | K14: =합산자재!I11 -> 0 | L14: =TRUNC(G14*K14) -> 0 | M14: =합산자재!J11 -> 0 | N14: =TRUNC(G14*M14) -> 0 | O14: =IF((H14+K14+M14)=0, "", (H14+K14+M14)) -> 638 | P14: =SUM(I14,L14,N14) -> 15950
A15: 59753777111 | B15: 01 | C15: 3912130610035781 | D15: 스위치박스 | E15: 2 개용 54 mm | F15: 개 | G15: 3 | H15: =합산자재!H12 -> 726 | I15: =TRUNC(G15*H15) -> 2178 | J15: 3 | K15: =합산자재!I12 -> 0 | L15: =TRUNC(G15*K15) -> 0 | M15: =합산자재!J12 -> 0 | N15: =TRUNC(G15*M15) -> 0 | O15: =IF((H15+K15+M15)=0, "", (H15+K15+M15)) -> 726 | P15: =SUM(I15,L15,N15) -> 2178
A16: 59753767201 | B16: 01 | C16: 3912130820174710 | D16: 아우트렛박스 커버 | E16: 8각, 평형 | F16: 개 | G16: 21 | H16: =합산자재!H13 -> 218 | I16: =TRUNC(G16*H16) -> 4578 | J16: 21 | K16: =합산자재!I13 -> 0 | L16: =TRUNC(G16*K16) -> 0 | M16: =합산자재!J13 -> 0 | N16: =TRUNC(G16*M16) -> 0 | O16: =IF((H16+K16+M16)=0, "", (H16+K16+M16)) -> 218 | P16: =SUM(I16,L16,N16) -> 4578
A17: 59753857071 | B17: 01 | C17: 3912130310035800 | D17: 풀박스 | E17: 200×200×150 | F17: 개 | G17: 1 | H17: =합산자재!H14 -> 4760 | I17: =TRUNC(G17*H17) -> 4760 | J17: 1 | K17: =합산자재!I14 -> 0 | L17: =TRUNC(G17*K17) -> 0 | M17: =합산자재!J14 -> 0 | N17: =TRUNC(G17*M17) -> 0 | O17: =IF((H17+K17+M17)=0, "", (H17+K17+M17)) -> 4760 | P17: =SUM(I17,L17,N17) -> 4760
A18: 59755087411 | B18: 01 | C18: 3913170520475412 | D18: 덕트형 케이블트레이부속 | E18: COVER, W 200 | F18: 개 | G18: 3 | I18: =TRUNC(G18*H18) -> 0 | J18: 3 | K18: =합산자재!I15 -> 0 | L18: =TRUNC(G18*K18) -> 0 | M18: =합산자재!J15 -> 0 | N18: =TRUNC(G18*M18) -> 0 | O18: =IF((H18+K18+M18)=0, "", (H18+K18+M18)) | P18: =SUM(I18,L18,N18) -> 0 | Q18: 철거재사용
A19: 59751477027 | B19: 01 | C19: 3913171220173815 | D19: 전선덕트 | E19: 알루미늄 70x40 mm | F19: M | G19: 2 | H19: =합산자재!H16 -> 13241 | I19: =TRUNC(G19*H19) -> 26482 | J19: 1.5 | K19: =합산자재!I16 -> 0 | L19: =TRUNC(G19*K19) -> 0 | M19: =합산자재!J16 -> 0 | N19: =TRUNC(G19*M19) -> 0 | O19: =IF((H19+K19+M19)=0, "", (H19+K19+M19)) -> 13241 | P19: =SUM(I19,L19,N19) -> 26482
A20: 59751477027 | B20: 01 | C20: 3913171220173815 | D20: 전선덕트 | E20: 알루미늄 70x40 mm | F20: M | G20: 1.5 | I20: =TRUNC(G20*H20) -> 0 | J20: 1.5 | K20: =합산자재!I16 -> 0 | L20: =TRUNC(G20*K20) -> 0 | M20: =합산자재!J16 -> 0 | N20: =TRUNC(G20*M20) -> 0 | O20: =IF((H20+K20+M20)=0, "", (H20+K20+M20)) | P20: =SUM(I20,L20,N20) -> 0 | Q20: 철거자재
A21: MM481669623 | B21: 01 | C21: 2612162922076726 | D21: 450/750V 저독성난연절연전선 | E21: HFIX 1.38mm(1.5㎟) | F21: M | G21: 759 | H21: =합산자재!H21 -> 356 | I21: =TRUNC(G21*H21) -> 270204 | J21: 690 | K21: =합산자재!I21 -> 0 | L21: =TRUNC(G21*K21) -> 0 | M21: =합산자재!J21 -> 0 | N21: =TRUNC(G21*M21) -> 0 | O21: =IF((H21+K21+M21)=0, "", (H21+K21+M21)) -> 356 | P21: =SUM(I21,L21,N21) -> 270204 | AC21: =G21*H21 -> 270204
A22: MM995068231 | B22: 01 | C22: InMastDBNonCode | D22: 소방용내열전선(F-FR-8) | E22: 2C×2.5㎟(1.78mm)단선 | F22: M | G22: 80 | H22: =합산자재!H23 -> 2262 | I22: =TRUNC(G22*H22) -> 180960 | J22: 76.5 | K22: =합산자재!I23 -> 0 | L22: =TRUNC(G22*K22) -> 0 | M22: =합산자재!J23 -> 0 | N22: =TRUNC(G22*M22) -> 0 | O22: =IF((H22+K22+M22)=0, "", (H22+K22+M22)) -> 2262 | P22: =SUM(I22,L22,N22) -> 180960 | AC22: =G22*H22 -> 180960
A23: E1450117252 | B23: 01 | C23: 2612164020694095 | D23: 소방용내열전선(F-FR-8) | E23: 6C×2.5㎟(1.78mm)단선 | F23: M | G23: 19 | H23: =합산자재!H24 -> 5820 | I23: =TRUNC(G23*H23) -> 110580 | J23: 18 | K23: =합산자재!I24 -> 0 | L23: =TRUNC(G23*K23) -> 0 | M23: =합산자재!J24 -> 0 | N23: =TRUNC(G23*M23) -> 0 | O23: =IF((H23+K23+M23)=0, "", (H23+K23+M23)) -> 5820 | P23: =SUM(I23,L23,N23) -> 110580 | AC23: =G23*H23 -> 110580
A24: E1450117352 | B24: 01 | C24: 2612164020694107 | D24: 소방용내열전선(F-FR-8) | E24: 8C×2.5㎟(1.78mm)단선 | F24: M | G24: 54 | H24: =합산자재!H25 -> 7164 | I24: =TRUNC(G24*H24) -> 386856 | J24: 51.5 | K24: =합산자재!I25 -> 0 | L24: =TRUNC(G24*K24) -> 0 | M24: =합산자재!J25 -> 0 | N24: =TRUNC(G24*M24) -> 0 | O24: =IF((H24+K24+M24)=0, "", (H24+K24+M24)) -> 7164 | P24: =SUM(I24,L24,N24) -> 386856 | AC24: =G24*H24 -> 386856
A25: 63500197001 | B25: 01 | C25: 4619150120192512 | D25: 화재감지기 | E25: 열감지기,차동식스포트형 | F25: 개 | G25: 19 | H25: =합산자재!H26 -> 4089 | I25: =TRUNC(G25*H25) -> 77691 | J25: 19 | K25: =합산자재!I26 -> 0 | L25: =TRUNC(G25*K25) -> 0 | M25: =합산자재!J26 -> 0 | N25: =TRUNC(G25*M25) -> 0 | O25: =IF((H25+K25+M25)=0, "", (H25+K25+M25)) -> 4089 | P25: =SUM(I25,L25,N25) -> 77691
A26: 63500197004 | B26: 01 | C26: 4619150120192515 | D26: 화재감지기 | E26: 열감지기,정온식스포트형 | F26: 개 | G26: 6 | H26: =합산자재!H27 -> 3735 | I26: =TRUNC(G26*H26) -> 22410 | J26: 6 | K26: =합산자재!I27 -> 0 | L26: =TRUNC(G26*K26) -> 0 | M26: =합산자재!J27 -> 0 | N26: =TRUNC(G26*M26) -> 0 | O26: =IF((H26+K26+M26)=0, "", (H26+K26+M26)) -> 3735 | P26: =SUM(I26,L26,N26) -> 22410
A27: 63500207012 | B27: 01 | C27: 4619150520935783 | D27: 수동발신기셋트 | E27: 단독형(SUS) | F27: 개 | G27: 3 | H27: =합산자재!H29 -> 5000 | I27: =TRUNC(G27*H27) -> 15000 | J27: 3 | K27: =합산자재!I29 -> 0 | L27: =TRUNC(G27*K27) -> 0 | M27: =합산자재!J29 -> 0 | N27: =TRUNC(G27*M27) -> 0 | O27: =IF((H27+K27+M27)=0, "", (H27+K27+M27)) -> 5000 | P27: =SUM(I27,L27,N27) -> 15000
A28: 63500207012 | B28: 01 | C28: 4619150520935783 | D28: 수동발신기셋트 | E28: 단독형(SUS) | F28: 개 | G28: 2 | I28: =TRUNC(G28*H28) -> 0 | J28: 2 | K28: =합산자재!I29 -> 0 | L28: =TRUNC(G28*K28) -> 0 | M28: =합산자재!J29 -> 0 | N28: =TRUNC(G28*M28) -> 0 | O28: =IF((H28+K28+M28)=0, "", (H28+K28+M28)) | P28: =SUM(I28,L28,N28) -> 0 | Q28: 철거자재
A29: MM317275398 | B29: 01 | C29: 4619150520689684 | D29: 시각경보기 | F29: 개 | G29: 3 | H29: =합산자재!H30 -> 29284 | I29: =TRUNC(G29*H29) -> 87852 | J29: 3 | K29: =합산자재!I30 -> 0 | L29: =TRUNC(G29*K29) -> 0 | M29: =합산자재!J30 -> 0 | N29: =TRUNC(G29*M29) -> 0 | O29: =IF((H29+K29+M29)=0, "", (H29+K29+M29)) -> 29284 | P29: =SUM(I29,L29,N29) -> 87852
A30: 39321650767 | B30: 01 | C30: 3912110321650767 | D30: 배전함 | E30: 시각경보기전원반 15A | F30: 개 | G30: 1 | H30: =합산자재!H31 -> 292535 | I30: =TRUNC(G30*H30) -> 292535 | J30: 1 | K30: =합산자재!I31 -> 0 | L30: =TRUNC(G30*K30) -> 0 | M30: =합산자재!J31 -> 0 | N30: =TRUNC(G30*M30) -> 0 | O30: =IF((H30+K30+M30)=0, "", (H30+K30+M30)) -> 292535 | P30: =SUM(I30,L30,N30) -> 292535
A31: 53100327067 | B31: 01 | C31: InMastDBNonCode | D31: 내진앵커 | E31: M10×L95mm | F31: 개 | G31: 4 | H31: =합산자재!H34 -> 2200 | I31: =TRUNC(G31*H31) -> 8800 | J31: 4 | K31: =합산자재!I34 -> 0 | L31: =TRUNC(G31*K31) -> 0 | M31: =합산자재!J34 -> 0 | N31: =TRUNC(G31*M31) -> 0 | O31: =IF((H31+K31+M31)=0, "", (H31+K31+M31)) -> 2200 | P31: =SUM(I31,L31,N31) -> 8800
A32: 56950120028 | B32: 01 | C32: EAA110130000 | D32: 파이프행가 | E32: 28C | F32: 개소 | G32: 56 | H32: ='일대목차(전·소)'!I5 -> 1742 | I32: =TRUNC(G32*H32) -> 97552 | J32: 56 | K32: ='일대목차(전·소)'!L5 -> 14778 | L32: =TRUNC(G32*K32) -> 827568 | M32: ='일대목차(전·소)'!N5 -> 0 | N32: =TRUNC(G32*M32) -> 0 | O32: =IF((H32+K32+M32)=0, "", (H32+K32+M32)) -> 16520 | P32: =SUM(I32,L32,N32) -> 925120 | Q32: EAA110130000 | AE32: =L32 -> 827568
A33: 56950120036 | B33: 01 | C33: EAA110140000 | D33: 파이프행가 | E33: 36C | F33: 개소 | G33: 29 | H33: ='일대목차(전·소)'!I6 -> 1764 | I33: =TRUNC(G33*H33) -> 51156 | J33: 29 | K33: ='일대목차(전·소)'!L6 -> 14778 | L33: =TRUNC(G33*K33) -> 428562 | M33: ='일대목차(전·소)'!N6 -> 0 | N33: =TRUNC(G33*M33) -> 0 | O33: =IF((H33+K33+M33)=0, "", (H33+K33+M33)) -> 16542 | P33: =SUM(I33,L33,N33) -> 479718 | Q33: EAA110140000 | AE33: =L33 -> 428562
A34: A0100000000 | B34: 01 | C34: RENT000000000003 | D34: [ 소모 잡자재 ] | E34: 전선, 전선관의 2 % | F34: 식 | G34: 1 | H34: =IF(TRUNC((AD34+AC34)/$AD$3)*$AD$3-AD34 <0, AC34, TRUNC((AD34+AC34)/$AD$3)*$AD$3-AD34) -> 32958 | I34: =H34 -> 32958 | J34: 1 | L34: =TRUNC(G34*K34) -> 0 | N34: =TRUNC(G34*M34) -> 0 | O34: =IF((H34+K34+M34)=0, "", (H34+K34+M34)) -> 32958 | P34: =SUM(I34,L34,N34) -> 32958 | AC34: =TRUNC(TRUNC(SUM(AC4:AC33))*옵션!$B$33/100) -> 32958 | AD34: =TRUNC(SUM(I4:I33))+TRUNC(SUM(N4:N33)) -> 2526188
A35: 56900017016 | B35: 01 | C35: L001010101000075 | D35: 노 무 비 | E35: 내선전공 | F35: 인 | G35: ='노임근거(전·소)'!G26 -> 35 | H35: =합산자재!H35 -> 0 | I35: =TRUNC(G35*H35) -> 0 | J35: ='노임근거(전·소)'!G26 -> 35 | K35: =합산자재!I35 -> 273676 | L35: =TRUNC(G35*K35) -> 9578660 | M35: =합산자재!J35 -> 0 | N35: =TRUNC(G35*M35) -> 0 | O35: =IF((H35+K35+M35)=0, "", (H35+K35+M35)) -> 273676 | P35: =SUM(I35,L35,N35) -> 9578660 | AE35: =L35 -> 9578660
A36: 56900017076 | B36: 01 | C36: L001010101000078 | D36: 노 무 비 | E36: 저압케이블전공 | F36: 인 | G36: ='노임근거(전·소)'!G27 -> 3 | H36: =합산자재!H36 -> 0 | I36: =TRUNC(G36*H36) -> 0 | J36: ='노임근거(전·소)'!G27 -> 3 | K36: =합산자재!I36 -> 304156 | L36: =TRUNC(G36*K36) -> 912468 | M36: =합산자재!J36 -> 0 | N36: =TRUNC(G36*M36) -> 0 | O36: =IF((H36+K36+M36)=0, "", (H36+K36+M36)) -> 304156 | P36: =SUM(I36,L36,N36) -> 912468 | AE36: =L36 -> 912468
A37: A0300000000 | B37: 01 | C37: RENT000000000006 | D37: [ 공 구 손 료 ] | E37: 노무비의 3 % | F37: 식 | G37: 1 | H37: =IF(TRUNC((AD38+AC38)/$AE$3)*$AE$3-AD38 <0, AC38, TRUNC((AD38+AC38)/$AE$3)*$AE$3-AD38) -> 352417 | I37: =H37 -> 352417 | J37: 1 | L37: =TRUNC(G37*K37) -> 0 | N37: =TRUNC(G37*M37) -> 0 | O37: =IF((H37+K37+M37)=0, "", (H37+K37+M37)) -> 352417 | P37: =SUM(I37,L37,N37) -> 352417
AC38: =TRUNC(AE38*옵션!$B$36/100) -> 352417 | AD38: =TRUNC(SUM(L4:L36)) -> 11747258 | AE38: =TRUNC(SUM(AE4:AE37)) -> 11747258
B55: 합계줄 | D55: ( 합 계 ) | I55: =TRUNC(SUM(I4:I54)) -> 2911563 | L55: =TRUNC(SUM(L4:L54)) -> 11747258 | N55: =TRUNC(SUM(N4:N54)) -> 0 | O55: =IF((H55+K55+M55)=0, "", (H55+K55+M55)) | P55: =TRUNC(SUM(P4:P54)) -> 14658821
B56: 공종줄 | D56: 2.유도등설비공사
...

Sheet 내역서(기·소)
A1: [ 서울안평초등학교 급식실 및 학생식당 증축공사(소방) ]
A2: 품 명 | B2: 규 격 | C2: 단위 | D2: 수량 | E2: 재 료 비 | G2: 노 무 비 | I2: 경 비 | K2: 합 계 | M2: 비 고 | N2: 품목코드 | O2: 변수 | P2: 설정 | Q2: 공종코드 | R2: 일위 | S2: 단산 | T2: 자재 | U2: 손료적용 | V2: 손료저장 | W2: 적용율 | X2: JUK1 | Y2: JUK2 | Z2: JUK3 | AA2: JUK4 | AB2: JUK5 | AC2: JUK6 | AD2: JUK7 | AE2: JUK8 | AF2: JUK9 | AG2: JUK10 | AH2: JUK11 | AI2: JUK12 | AJ2: JUK13 | AK2: JUK14 | AL2: JUK15 | AM2: JUK16 | AN2: JUK17 | AO2: JUK18 | AP2: JUK19 | AQ2: JUK20 | AR2: 자재구분 | AS2: 공종구분 | AT2: 공종레벨 | AU2: 공종+자재 | AV2: 고유번호
E3: 단 가 | F3: 금 액 | G3: 단 가 | H3: 금 액 | I3: 단 가 | J3: 금 액 | K3: 단 가 | L3: 금 액
A4: 010101 소화기구설치공사 | Q4: 010101
A5: 분말소화기(ABC) | B5: ABC 3.3KG | C5: EA | D5: 8 | E5: =TRUNC('단가대비표(기·소)'!O5,0) -> 22110 | F5: =TRUNC(E5*D5, 0) -> 176880 | G5: =TRUNC('단가대비표(기·소)'!P5,0) -> 0 | H5: =TRUNC(G5*D5, 0) -> 0 | I5: =TRUNC('단가대비표(기·소)'!V5,0) -> 0 | J5: =TRUNC(I5*D5, 0) -> 0 | K5: =TRUNC(E5+G5+I5, 0) -> 22110 | L5: =TRUNC(F5+H5+J5, 0) -> 176880 | N5: 5584029769B6F96A36048E9074B7 | R5: F | S5: F | T5: T | AU5: 0101015584029769B6F96A36048E9074B7 | AV5: 258
A6: 자동확산소화기 | B6: 3.0KG | C6: EA | D6: 6 | E6: =TRUNC('단가대비표(기·소)'!O6,0) -> 27000 | F6: =TRUNC(E6*D6, 0) -> 162000 | G6: =TRUNC('단가대비표(기·소)'!P6,0) -> 0 | H6: =TRUNC(G6*D6, 0) -> 0 | I6: =TRUNC('단가대비표(기·소)'!V6,0) -> 0 | J6: =TRUNC(I6*D6, 0) -> 0 | K6: =TRUNC(E6+G6+I6, 0) -> 27000 | L6: =TRUNC(F6+H6+J6, 0) -> 162000 | N6: 5584029769B6F96A36048E906AA7 | R6: F | S6: F | T6: T | AU6: 0101015584029769B6F96A36048E906AA7 | AV6: 259
A7: 주방화재용소화기(K급) | B7: 4.0L | C7: EA | D7: 2 | E7: =TRUNC('단가대비표(기·소)'!O7,0) -> 104000 | F7: =TRUNC(E7*D7, 0) -> 208000 | G7: =TRUNC('단가대비표(기·소)'!P7,0) -> 0 | H7: =TRUNC(G7*D7, 0) -> 0 | I7: =TRUNC('단가대비표(기·소)'!V7,0) -> 0 | J7: =TRUNC(I7*D7, 0) -> 0 | K7: =TRUNC(E7+G7+I7, 0) -> 104000 | L7: =TRUNC(F7+H7+J7, 0) -> 208000 | N7: 5584029769B6F96A36048E861EE7 | R7: F | S7: F | T7: T | AU7: 0101015584029769B6F96A36048E861EE7 | AV7: 260
A8: 상업용 주방자동소화장치 | B8: 2BT | C8: SET | D8: 3 | E8: =TRUNC('단가대비표(기·소)'!O8,0) -> 5000000 | F8: =TRUNC(E8*D8, 0) -> 15000000 | G8: =TRUNC('단가대비표(기·소)'!P8,0) -> 0 | H8: =TRUNC(G8*D8, 0) -> 0 | I8: =TRUNC('단가대비표(기·소)'!V8,0) -> 0 | J8: =TRUNC(I8*D8, 0) -> 0 | K8: =TRUNC(E8+G8+I8, 0) -> 5000000 | L8: =TRUNC(F8+H8+J8, 0) -> 15000000 | N8: 5584029769B6F96A36048E861E97 | R8: F | S8: F | T8: T | AU8: 0101015584029769B6F96A36048E861E97 | AV8: 261
A9: 소화기받침대 | C9: EA | D9: 10 | E9: =TRUNC('단가대비표(기·소)'!O9,0) -> 1500 | F9: =TRUNC(E9*D9, 0) -> 15000 | G9: =TRUNC('단가대비표(기·소)'!P9,0) -> 0 | H9: =TRUNC(G9*D9, 0) -> 0 | I9: =TRUNC('단가대비표(기·소)'!V9,0) -> 0 | J9: =TRUNC(I9*D9, 0) -> 0 | K9: =TRUNC(E9+G9+I9, 0) -> 1500 | L9: =TRUNC(F9+H9+J9, 0) -> 15000 | N9: 5584029769B6EF62AAAD83091C57 | R9: F | S9: F | T9: T | AU9: 0101015584029769B6EF62AAAD83091C57 | AV9: 263
A27: [ 합 계 ] | F27: =SUM(F5:F26) -> 15561880 | H27: =SUM(H5:H26) -> 0 | J27: =SUM(J5:J26) -> 0 | L27: =SUM(L5:L26) -> 15561880 | N27: TOTAL

Sheet 일대목차(전·소)
B1: 29 | C1: [ 안평초등학교급식실및학생식당증축공사(소방) ] - 일위대가목차
A2: 번호 | B2: … | C2: 코드 | D2: 명 칭 | E2: 규 격 | F2: 단위 | G2: 수량 | H2: 재료비 | J2: 노무비 | M2: 경비 | O2: 계 | P2: 계 | Q2: 비고
H3: 단가 | I3: 금액 | J3: 수량 | K3: 단가 | L3: 금액 | M3: 단가 | N3: 금액 | O3: 단가
A4: 56931750118 | B4: E56931750118 | C4: E56931750118 | D4: 유도등 철거 | E4: 표시등(유도등) | F4: 개 | H4: ='일위대가(전·소)'!I6 -> 0 | I4: =H4 -> 0 | K4: ='일위대가(전·소)'!L6 -> 16420 | L4: =K4 -> 16420 | M4: ='일위대가(전·소)'!N6 -> 0 | N4: =M4 -> 0 | O4: =IF((H4+K4+M4)=0, "", (H4+K4+M4)) -> 16420 | P4: =SUM(I4,L4,N4) -> 16420
A5: 56950120028 | B5: EAA110130000 | C5: EAA110130000 | D5: 파이프행가 | E5: 28C | F5: 개소 | H5: ='일위대가(전·소)'!I15 -> 1742 | I5: =H5 -> 1742 | K5: ='일위대가(전·소)'!L15 -> 14778 | L5: =K5 -> 14778 | M5: ='일위대가(전·소)'!N15 -> 0 | N5: =M5 -> 0 | O5: =IF((H5+K5+M5)=0, "", (H5+K5+M5)) -> 16520 | P5: =SUM(I5,L5,N5) -> 16520
A6: 56950120036 | B6: EAA110140000 | C6: EAA110140000 | D6: 파이프행가 | E6: 36C | F6: 개소 | H6: ='일위대가(전·소)'!I24 -> 1764 | I6: =H6 -> 1764 | K6: ='일위대가(전·소)'!L24 -> 14778 | L6: =K6 -> 14778 | M6: ='일위대가(전·소)'!N24 -> 0 | N6: =M6 -> 0 | O6: =IF((H6+K6+M6)=0, "", (H6+K6+M6)) -> 16542 | P6: =SUM(I6,L6,N6) -> 16542

Sheet 일위대가(전·소)
B1: 29 | D1: [ 안평초등학교급식실및학생식당증축공사(소방) ] - 일위대가표 | W1: 노임 계산 정보 | AA1: 부속재 및 손료
A2: 번호 | B2: 목차코드 | C2: 코드 | D2: 명 칭 | E2: 규 격 | F2: 단위 | G2: 수량 | H2: 재료비 | J2: 노무비 | M2: 경비 | P2: 계 | Q2: 비고 | W2: 노임계 | X2: 전체(%) | Y2: 공종별(%) | Z2: 노임 소수 | AA2: CD배관재 | AB2: 일반배관재 | AC2: 소모재 | AD2: 자재계 | AE2: 노임계
H3: 단가 | I3: 금액 | J3: 수량 | K3: 단가 | L3: 금액 | M3: 단가 | N3: 금액 | O3: 단가 | AD3: 1 | AE3: 1
A4: 56931750118 | B4: 일목줄 | C4: E56931750118 | D4: [E56931750118] 유도등 철거 표시등(유도등) [개] | P4: =IF(SUM(I4,L4,N4)<>0,TRUNC(SUM(I4,L4,N4),1),"")
A5: 56900017016 | B5: E56931750118 | C5: L001010101000075 | D5: 노 무 비 | E5: 내선전공 | F5: 인 | G5: ='일위노임(전·소)'!G6 -> 0.06 | H5: =합산자재!H35 -> 0 | I5: =IF(G5*H5<>0, TRUNC(G5*H5, 1), "") | J5: 0.06 | K5: =합산자재!I35 -> 273676 | L5: =IF(G5*K5<>0, TRUNC(G5*K5, 1), "") -> 16420.5 | M5: =합산자재!J35 -> 0 | N5: =IF(G5*M5<>0, TRUNC(G5*M5, 1), "") | O5: =IF((H5+K5+M5)=0, "", (H5+K5+M5)) -> 273676 | P5: =IF(SUM(I5,L5,N5)<>0,TRUNC(SUM(I5,L5,N5),1),"") -> 16420.5 | AE5: =L5 -> 16420.5
B6: 합계줄 | D6: ( 합 계 ) | I6: =TRUNC(SUM(I4:I5)) -> 0 | L6: =TRUNC(SUM(L4:L5)) -> 16420 | N6: =TRUNC(SUM(N4:N5)) -> 0 | O6: =IF((H6+K6+M6)=0, "", (H6+K6+M6)) | P6: =IF(SUM(I6,L6,N6)<>0,TRUNC(SUM(I6,L6,N6),1),"") -> 16420 | AE6: =TRUNC(SUM(AE4:AE5)) -> 16420
P7: =IF(SUM(I7,L7,N7)<>0,TRUNC(SUM(I7,L7,N7),1),"")
A8: 56950120028 | B8: 일목줄 | C8: EAA110130000 | D8: [EAA110130000] 파이프행가 28C [개소] | P8: =IF(SUM(I8,L8,N8)<>0,TRUNC(SUM(I8,L8,N8),1),"")
A9: 59759017113 | B9: EAA110130000 | C9: 3913170810036359 | D9: 강재전선관용 부품 | E9: 파이프행거, 28 C | F9: 개 | G9: 1 | H9: =합산자재!H17 -> 348 | I9: =IF(G9*H9<>0, TRUNC(G9*H9, 1), "") -> 348 | J9: 1 | K9: =합산자재!I17 -> 0 | L9: =IF(G9*K9<>0, TRUNC(G9*K9, 1), "") | M9: =합산자재!J17 -> 0 | N9: =IF(G9*M9<>0, TRUNC(G9*M9, 1), "") | O9: =IF((H9+K9+M9)=0, "", (H9+K9+M9)) -> 348 | P9: =IF(SUM(I9,L9,N9)<>0,TRUNC(SUM(I9,L9,N9),1),"") -> 348
A10: 53060327011 | B10: EAA110130000 | C10: 3116169820135160 | D10: 행거볼트 | E10: ∮9×1000㎜ | F10: 개 | G10: 1 | H10: =합산자재!H20 -> 1226 | I10: =IF(G10*H10<>0, TRUNC(G10*H10, 1), "") -> 1226 | J10: 1 | K10: =합산자재!I20 -> 0 | L10: =IF(G10*K10<>0, TRUNC(G10*K10, 1), "") | M10: =합산자재!J20 -> 0 | N10: =IF(G10*M10<>0, TRUNC(G10*M10, 1), "") | O10: =IF((H10+K10+M10)=0, "", (H10+K10+M10)) -> 1226 | P10: =IF(SUM(I10,L10,N10)<>0,TRUNC(SUM(I10,L10,N10),1),"") -> 1226
A11: 53060807023 | B11: EAA110130000 | C11: 3116210220135776 | D11: 스트롱앵커 | E11: M10(3/8") | F11: 개 | G11: 1 | H11: =합산자재!H19 -> 100 | I11: =IF(G11*H11<>0, TRUNC(G11*H11, 1), "") -> 100 | J11: 1 | K11: =합산자재!I19 -> 0 | L11: =IF(G11*K11<>0, TRUNC(G11*K11, 1), "") | M11: =합산자재!J19 -> 0 | N11: =IF(G11*M11<>0, TRUNC(G11*M11, 1), "") | O11: =IF((H11+K11+M11)=0, "", (H11+K11+M11)) -> 100 | P11: =IF(SUM(I11,L11,N11)<>0,TRUNC(SUM(I11,L11,N11),1),"") -> 100
A12: 53100028501 | B12: EAA110130000 | C12: 3116172710023970 | D12: 6각너트 | E12: 철, M10(3/8") | F12: 개 | G12: 2 | H12: =합산자재!H32 -> 25 | I12: =IF(G12*H12<>0, TRUNC(G12*H12, 1), "") -> 50 | J12: 2 | K12: =합산자재!I32 -> 0 | L12: =IF(G12*K12<>0, TRUNC(G12*K12, 1), "") | M12: =합산자재!J32 -> 0 | N12: =IF(G12*M12<>0, TRUNC(G12*M12, 1), "") | O12: =IF((H12+K12+M12)=0, "", (H12+K12+M12)) -> 25 | P12: =IF(SUM(I12,L12,N12)<>0,TRUNC(SUM(I12,L12,N12),1),"") -> 50
A13: 53100327011 | B13: EAA110130000 | C13: 3116181120136196 | D13: 스프링와샤 | E13: 용융아연도, 호칭경10 | F13: 개 | G13: 2 | H13: =합산자재!H33 -> 9 | I13: =IF(G13*H13<>0, TRUNC(G13*H13, 1), "") -> 18 | J13: 2 | K13: =합산자재!I33 -> 0 | L13: =IF(G13*K13<>0, TRUNC(G13*K13, 1), "") | M13: =합산자재!J33 -> 0 | N13: =IF(G13*M13<>0, TRUNC(G13*M13, 1), "") | O13: =IF((H13+K13+M13)=0, "", (H13+K13+M13)) -> 9 | P13: =IF(SUM(I13,L13,N13)<>0,TRUNC(SUM(I13,L13,N13),1),"") -> 18
A14: 56900017016 | B14: EAA110130000 | C14: L001010101000075 | D14: 노 무 비 | E14: 내선전공 | F14: 인 | G14: ='일위노임(전·소)'!G9 -> 0.054 | H14: =합산자재!H35 -> 0 | I14: =IF(G14*H14<>0, TRUNC(G14*H14, 1), "") | J14: 0.054 | K14: =합산자재!I35 -> 273676 | L14: =IF(G14*K14<>0, TRUNC(G14*K14, 1), "") -> 14778.5 | M14: =합산자재!J35 -> 0 | N14: =IF(G14*M14<>0, TRUNC(G14*M14, 1), "") | O14: =IF((H14+K14+M14)=0, "", (H14+K14+M14)) -> 273676 | P14: =IF(SUM(I14,L14,N14)<>0,TRUNC(SUM(I14,L14,N14),1),"") -> 14778.5 | AE14: =L14 -> 14778.5
B15: 합계줄 | D15: ( 합 계 ) | I15: =TRUNC(SUM(I8:I14)) -> 1742 | L15: =TRUNC(SUM(L8:L14)) -> 14778 | N15: =TRUNC(SUM(N8:N14)) -> 0 | O15: =IF((H15+K15+M15)=0, "", (H15+K15+M15)) | P15: =IF(SUM(I15,L15,N15)<>0,TRUNC(SUM(I15,L15,N15),1),"") -> 16520 | AE15: =TRUNC(SUM(AE8:AE14)) -> 14778
P16: =IF(SUM(I16,L16,N16)<>0,TRUNC(SUM(I16,L16,N16),1),"")
A17: 56950120036 | B17: 일목줄 | C17: EAA110140000 | D17: [EAA110140000] 파이프행가 36C [개소] | P17: =IF(SUM(I17,L17,N17)<>0,TRUNC(SUM(I17,L17,N17),1),"")
A18: 59759017114 | B18: EAA110140000 | C18: 3913170810036360 | D18: 강재전선관용 부품 | E18: 파이프행거, 36 C | F18: 개 | G18: 1 | H18: =합산자재!H18 -> 370 | I18: =IF(G18*H18<>0, TRUNC(G18*H18, 1), "") -> 370 | J18: 1 | K18: =합산자재!I18 -> 0 | L18: =IF(G18*K18<>0, TRUNC(G18*K18, 1), "") | M18: =합산자재!J18 -> 0 | N18: =IF(G18*M18<>0, TRUNC(G18*M18, 1), "") | O18: =IF((H18+K18+M18)=0, "", (H18+K18+M18)) -> 370 | P18: =IF(SUM(I18,L18,N18)<>0,TRUNC(SUM(I18,L18,N18),1),"") -> 370
A19: 53060327011 | B19: EAA110140000 | C19: 3116169820135160 | D19: 행거볼트 | E19: ∮9×1000㎜ | F19: 개 | G19: 1 | H19: =합산자재!H20 -> 1226 | I19: =IF(G19*H19<>0, TRUNC(G19*H19, 1), "") -> 1226 | J19: 1 | K19: =합산자재!I20 -> 0 | L19: =IF(G19*K19<>0, TRUNC(G19*K19, 1), "") | M19: =합산자재!J20 -> 0 | N19: =IF(G19*M19<>0, TRUNC(G19*M19, 1), "") | O19: =IF((H19+K19+M19)=0, "", (H19+K19+M19)) -> 1226 | P19: =IF(SUM(I19,L19,N19)<>0,TRUNC(SUM(I19,L19,N19),1),"") -> 1226
A20: 53060807023 | B20: EAA110140000 | C20: 3116210220135776 | D20: 스트롱앵커 | E20: M10(3/8") | F20: 개 | G20: 1 | H20: =합산자재!H19 -> 100 | I20: =IF(G20*H20<>0, TRUNC(G20*H20, 1), "") -> 100 | J20: 1 | K20: =합산자재!I19 -> 0 | L20: =IF(G20*K20<>0, TRUNC(G20*K20, 1), "") | M20: =합산자재!J19 -> 0 | N20: =IF(G20*M20<>0, TRUNC(G20*M20, 1), "") | O20: =IF((H20+K20+M20)=0, "", (H20+K20+M20)) -> 100 | P20: =IF(SUM(I20,L20,N20)<>0,TRUNC(SUM(I20,L20,N20),1),"") -> 100
A21: 53100028501 | B21: EAA110140000 | C21: 3116172710023970 | D21: 6각너트 | E21: 철, M10(3/8") | F21: 개 | G21: 2 | H21: =합산자재!H32 -> 25 | I21: =IF(G21*H21<>0, TRUNC(G21*H21, 1), "") -> 50 | J21: 2 | K21: =합산자재!I32 -> 0 | L21: =IF(G21*K21<>0, TRUNC(G21*K21, 1), "") | M21: =합산자재!J32 -> 0 | N21: =IF(G21*M21<>0, TRUNC(G21*M21, 1), "") | O21: =IF((H21+K21+M21)=0, "", (H21+K21+M21)) -> 25 | P21: =IF(SUM(I21,L21,N21)<>0,TRUNC(SUM(I21,L21,N21),1),"") -> 50
A22: 53100327011 | B22: EAA110140000 | C22: 3116181120136196 | D22: 스프링와샤 | E22: 용융아연도, 호칭경10 | F22: 개 | G22: 2 | H22: =합산자재!H33 -> 9 | I22: =IF(G22*H22<>0, TRUNC(G22*H22, 1), "") -> 18 | J22: 2 | K22: =합산자재!I33 -> 0 | L22: =IF(G22*K22<>0, TRUNC(G22*K22, 1), "") | M22: =합산자재!J33 -> 0 | N22: =IF(G22*M22<>0, TRUNC(G22*M22, 1), "") | O22: =IF((H22+K22+M22)=0, "", (H22+K22+M22)) -> 9 | P22: =IF(SUM(I22,L22,N22)<>0,TRUNC(SUM(I22,L22,N22),1),"") -> 18
A23: 56900017016 | B23: EAA110140000 | C23: L001010101000075 | D23: 노 무 비 | E23: 내선전공 | F23: 인 | G23: ='일위노임(전·소)'!G12 -> 0.054 | H23: =합산자재!H35 -> 0 | I23: =IF(G23*H23<>0, TRUNC(G23*H23, 1), "") | J23: 0.054 | K23: =합산자재!I35 -> 273676 | L23: =IF(G23*K23<>0, TRUNC(G23*K23, 1), "") -> 14778.5 | M23: =합산자재!J35 -> 0 | N23: =IF(G23*M23<>0, TRUNC(G23*M23, 1), "") | O23: =IF((H23+K23+M23)=0, "", (H23+K23+M23)) -> 273676 | P23: =IF(SUM(I23,L23,N23)<>0,TRUNC(SUM(I23,L23,N23),1),"") -> 14778.5 | AE23: =L23 -> 14778.5
B24: 합계줄 | D24: ( 합 계 ) | I24: =TRUNC(SUM(I17:I23)) -> 1764 | L24: =TRUNC(SUM(L17:L23)) -> 14778 | N24: =TRUNC(SUM(N17:N23)) -> 0 | O24: =IF((H24+K24+M24)=0, "", (H24+K24+M24)) | P24: =IF(SUM(I24,L24,N24)<>0,TRUNC(SUM(I24,L24,N24),1),"") -> 16542 | AE24: =TRUNC(SUM(AE17:AE23)) -> 14778
P25: =IF(SUM(I25,L25,N25)<>0,TRUNC(SUM(I25,L25,N25),1),"")
P26: =IF(SUM(I26,L26,N26)<>0,TRUNC(SUM(I26,L26,N26),1),"")
P27: =IF(SUM(I27,L27,N27)<>0,TRUNC(SUM(I27,L27,N27),1),"")
P28: =IF(SUM(I28,L28,N28)<>0,TRUNC(SUM(I28,L28,N28),1),"")
P29: =IF(SUM(I29,L29,N29)<>0,TRUNC(SUM(I29,L29,N29),1),"")

Sheet 노임근거(전·소)
B1: 55 | D1: [ 안평초등학교급식실및학생식당증축공사(소방) ] - 노임 산출근거(202601-노임) | AA1: 내선전공 | AB1: 저압케이블전공
A2: 번호 | B2: 공종코드 | C2: 코드 | D2: 명 칭 | E2: 규 격 | F2: 단위 | G2: 수량 | K2: 코드 | L2: 공량산출 | P2: 단 위 단 가 산 출 | S2: 품셈근거 | T2: 비고
G3: 결정수량 | H3: 할증 | I3: 산출수량 | J3: 재할% | L3: 명칭 | M3: 품셈 | N3: 할증% | O3: 공량 | P3: 단가 | Q3: 단위단가 | R3: 단위계
B4: 공종줄 | D4: 1.자탐설비공사
B5: 01 | C5: 3913170610034834 | D5: 강제전선관 | E5: 아연도 28 mm | F5: M | G5: ='내역서(전·소)'!G5 -> 94 | H5: =IF(I5<>0, G5-I5, "") -> 9 | I5: ='내역서(전·소)'!J5 -> 85 | J5: 10 | K5: 56900017016 | L5: 내선전공 | M5: 0.14 | N5: 60 | O5: =IF(I5*M5=0, "", I5*M5*(N5/100)) -> 7.14 | Q5: =TRUNC(P5*M5*N5/100) -> 0 | S5: 전기5-1 | AA5: =O5 -> 7.14
B6: 01 | C6: 3913170610034835 | D6: 강제전선관 | E6: 아연도 36 mm | F6: M | G6: ='내역서(전·소)'!G6 -> 48 | H6: =IF(I6<>0, G6-I6, "") -> 4 | I6: ='내역서(전·소)'!J6 -> 44 | J6: 10 | K6: 56900017016 | L6: 내선전공 | M6: 0.2 | N6: 60 | O6: =IF(I6*M6=0, "", I6*M6*(N6/100)) -> 5.28 | Q6: =TRUNC(P6*M6*N6/100) -> 0 | S6: 전기5-1 | AA6: =O6 -> 5.28
B7: 01 | C7: 3913170610035664 | D7: 합성수지제 가요전선관 | E7: CD(난연성) 16㎜ | F7: M | G7: ='내역서(전·소)'!G7 -> 32 | H7: =IF(I7<>0, G7-I7, "") -> 3 | I7: ='내역서(전·소)'!J7 -> 29 | J7: 10 | K7: 56900017016 | L7: 내선전공 | M7: 0.05 | N7: 72 | O7: =IF(I7*M7=0, "", I7*M7*(N7/100)) -> 1.044 | Q7: =TRUNC(P7*M7*N7/100) -> 0 | S7: 전기5-1 | AA7: =O7 -> 1.044
B8: 01 | C8: 3913170620174410 | D8: 1종금속제가요전선관 | E8: 16 mm 일반-비방수 | F8: M | G8: ='내역서(전·소)'!G8 -> 158 | H8: =IF(I8<>0, G8-I8, "") -> 14.5 | I8: ='내역서(전·소)'!J8 -> 143.5 | J8: 10 | K8: 56900017016 | L8: 내선전공 | M8: 0.044 | N8: 60 | O8: =IF(I8*M8=0, "", I8*M8*(N8/100)) -> 3.7884 | Q8: =TRUNC(P8*M8*N8/100) -> 0 | S8: 전기5-1 | AA8: =O8 -> 3.7884
B9: 01 | C9: 3912130810035750 | D9: 아우트렛박스 | E9: 8각 54㎜ | F9: 개 | G9: ='내역서(전·소)'!G14 -> 25 | H9: =IF(I9<>0, G9-I9, "") -> 0 | I9: ='내역서(전·소)'!J14 -> 25 | K9: 56900017016 | L9: 내선전공 | M9: 0.12 | N9: 90 | O9: =IF(I9*M9=0, "", I9*M9*(N9/100)) -> 2.7 | Q9: =TRUNC(P9*M9*N9/100) -> 0 | S9: 전기5-3 | AA9: =O9 -> 2.7
B10: 01 | C10: 3912130610035781 | D10: 스위치박스 | E10: 2 개용 54 mm | F10: 개 | G10: ='내역서(전·소)'!G15 -> 3 | H10: =IF(I10<>0, G10-I10, "") -> 0 | I10: ='내역서(전·소)'!J15 -> 3 | K10: 56900017016 | L10: 내선전공 | M10: 0.2 | N10: 90 | O10: =IF(I10*M10=0, "", I10*M10*(N10/100)) -> 0.54 | Q10: =TRUNC(P10*M10*N10/100) -> 0 | S10: 전기5-3 | AA10: =O10 -> 0.54
B11: 01 | C11: 3912130310035800 | D11: 풀박스 | E11: 200×200×150 | F11: 개 | G11: ='내역서(전·소)'!G17 -> 1 | H11: =IF(I11<>0, G11-I11, "") -> 0 | I11: ='내역서(전·소)'!J17 -> 1 | K11: 56900017016 | L11: 내선전공 | M11: 0.22 | N11: 90 | O11: =IF(I11*M11=0, "", I11*M11*(N11/100)) -> 0.198 | Q11: =TRUNC(P11*M11*N11/100) -> 0 | S11: 전기5-4 | AA11: =O11 -> 0.198
B12: 01 | C12: 3913170520475412 | D12: 덕트형 케이블트레이부속 | E12: COVER, W 200 | F12: 개 | G12: ='내역서(전·소)'!G18 -> 3 | H12: =IF(I12<>0, G12-I12, "") -> 0 | I12: ='내역서(전·소)'!J18 -> 3 | J12: 5 | K12: 56900017016 | L12: 내선전공 | M12: 0.046 | N12: 150 | O12: =IF(I12*M12=0, "", I12*M12*(N12/100)) -> 0.207 | Q12: =TRUNC(P12*M12*N12/100) -> 0 | S12: 전기5-8 | T12: 철거재사용 | AA12: =O12 -> 0.207
B13: 01 | C13: 3913171220173815 | D13: 전선덕트 | E13: 알루미늄 70x40 mm | F13: M | G13: ='내역서(전·소)'!G19 -> 2 | H13: =IF(I13<>0, G13-I13, "") -> 0.5 | I13: ='내역서(전·소)'!J19 -> 1.5 | J13: 5 | K13: 56900017016 | L13: 내선전공 | M13: 0.14 | N13: 100 | O13: =IF(I13*M13=0, "", I13*M13*(N13/100)) -> 0.21 | Q13: =TRUNC(P13*M13*N13/100) -> 0 | S13: 전기5-7 | AA13: =O13 -> 0.21
B14: 01 | C14: 3913171220173815 | D14: 전선덕트 | E14: 알루미늄 70x40 mm | F14: M | G14: ='내역서(전·소)'!G20 -> 1.5 | H14: =IF(I14<>0, G14-I14, "") -> 0 | I14: ='내역서(전·소)'!J20 -> 1.5 | J14: 5 | K14: 56900017016 | L14: 내선전공 | M14: 0.14 | N14: 30 | O14: =IF(I14*M14=0, "", I14*M14*(N14/100)) -> 0.063 | Q14: =TRUNC(P14*M14*N14/100) -> 0 | S14: 전기5-7 | T14: 철거자재 | AA14: =O14 -> 0.063
B15: 01 | C15: 2612162922076726 | D15: 450/750V 저독성난연절연전선 | E15: HFIX 1.38mm(1.5㎟) | F15: M | G15: ='내역서(전·소)'!G21 -> 759 | H15: =IF(I15<>0, G15-I15, "") -> 69 | I15: ='내역서(전·소)'!J21 -> 690 | J15: 10 | K15: 56900017016 | L15: 내선전공 | M15: 0.01 | N15: 100 | O15: =IF(I15*M15=0, "", I15*M15*(N15/100)) -> 6.9 | Q15: =TRUNC(P15*M15*N15/100) -> 0 | S15: 전기5-10 | AA15: =O15 -> 6.9
B16: 01 | C16: InMastDBNonCode | D16: 소방용내열전선(F-FR-8) | E16: 2C×2.5㎟(1.78mm)단선 | F16: M | G16: ='내역서(전·소)'!G22 -> 80 | H16: =IF(I16<>0, G16-I16, "") -> 3.5 | I16: ='내역서(전·소)'!J22 -> 76.5 | J16: 5 | K16: 56900017076 | L16: 저압케이블전공 | M16: 0.014 | N16: 80 | O16: =IF(I16*M16=0, "", I16*M16*(N16/100)) -> 0.8568 | Q16: =TRUNC(P16*M16*N16/100) -> 0 | S16: 전기5-13 | AB16: =O16 -> 0.8568
B17: 01 | C17: 2612164020694095 | D17: 소방용내열전선(F-FR-8) | E17: 6C×2.5㎟(1.78mm)단선 | F17: M | G17: ='내역서(전·소)'!G23 -> 19 | H17: =IF(I17<>0, G17-I17, "") -> 1 | I17: ='내역서(전·소)'!J23 -> 18 | J17: 5 | K17: 56900017076 | L17: 저압케이블전공 | M17: 0.035 | N17: 80 | O17: =IF(I17*M17=0, "", I17*M17*(N17/100)) -> 0.504 | Q17: =TRUNC(P17*M17*N17/100) -> 0 | S17: 전기5-13 | AB17: =O17 -> 0.504
B18: 01 | C18: 2612164020694107 | D18: 소방용내열전선(F-FR-8) | E18: 8C×2.5㎟(1.78mm)단선 | F18: M | G18: ='내역서(전·소)'!G24 -> 54 | H18: =IF(I18<>0, G18-I18, "") -> 2.5 | I18: ='내역서(전·소)'!J24 -> 51.5 | J18: 5 | K18: 56900017076 | L18: 저압케이블전공 | M18: 0.042 | N18: 80 | O18: =IF(I18*M18=0, "", I18*M18*(N18/100)) -> 1.7304 | Q18: =TRUNC(P18*M18*N18/100) -> 0 | S18: 전기5-13 | AB18: =O18 -> 1.7304
B19: 01 | C19: 4619150120192512 | D19: 화재감지기 | E19: 열감지기,차동식스포트형 | F19: 개 | G19: ='내역서(전·소)'!G25 -> 19 | H19: =IF(I19<>0, G19-I19, "") -> 0 | I19: ='내역서(전·소)'!J25 -> 19 | K19: 56900017016 | L19: 내선전공 | M19: 0.13 | N19: 80 | O19: =IF(I19*M19=0, "", I19*M19*(N19/100)) -> 1.976 | Q19: =TRUNC(P19*M19*N19/100) -> 0 | S19: 전기10-2-1 | AA19: =O19 -> 1.976
B20: 01 | C20: 4619150120192515 | D20: 화재감지기 | E20: 열감지기,정온식스포트형 | F20: 개 | G20: ='내역서(전·소)'!G26 -> 6 | H20: =IF(I20<>0, G20-I20, "") -> 0 | I20: ='내역서(전·소)'!J26 -> 6 | K20: 56900017016 | L20: 내선전공 | M20: 0.13 | N20: 80 | O20: =IF(I20*M20=0, "", I20*M20*(N20/100)) -> 0.624 | Q20: =TRUNC(P20*M20*N20/100) -> 0 | S20: 전기10-2-1 | AA20: =O20 -> 0.624
B21: 01 | C21: 4619150520935783 | D21: 수동발신기셋트 | E21: 단독형(SUS) | F21: 개 | G21: ='내역서(전·소)'!G27 -> 3 | H21: =IF(I21<>0, G21-I21, "") -> 0 | I21: ='내역서(전·소)'!J27 -> 3 | K21: 56900017016 | L21: 내선전공 | M21: 1.31 | N21: 80 | O21: =IF(I21*M21=0, "", I21*M21*(N21/100)) -> 3.144 | Q21: =TRUNC(P21*M21*N21/100) -> 0 | S21: 전기(5-4)+(10-2-5) | AA21: =O21 -> 3.144
B22: 01 | C22: 4619150520935783 | D22: 수동발신기셋트 | E22: 단독형(SUS) | F22: 개 | G22: ='내역서(전·소)'!G28 -> 2 | H22: =IF(I22<>0, G22-I22, "") -> 0 | I22: ='내역서(전·소)'!J28 -> 2 | K22: 56900017016 | L22: 내선전공 | M22: 1.31 | N22: 30 | O22: =IF(I22*M22=0, "", I22*M22*(N22/100)) -> 0.786 | Q22: =TRUNC(P22*M22*N22/100) -> 0 | S22: 전기(5-4)+(10-2-5) | T22: 철거자재 | AA22: =O22 -> 0.786
B23: 01 | C23: 4619150520689684 | D23: 시각경보기 | F23: 개 | G23: ='내역서(전·소)'!G29 -> 3 | H23: =IF(I23<>0, G23-I23, "") -> 0 | I23: ='내역서(전·소)'!J29 -> 3 | K23: 56900017016 | L23: 내선전공 | M23: 0.09 | N23: 100 | O23: =IF(I23*M23=0, "", I23*M23*(N23/100)) -> 0.27 | Q23: =TRUNC(P23*M23*N23/100) -> 0 | S23: 전기10-2-12 | AA23: =O23 -> 0.27
B24: 01 | C24: 3912110321650767 | D24: 배전함 | E24: 시각경보기전원반 15A | F24: 개 | G24: ='내역서(전·소)'!G30 -> 1 | H24: =IF(I24<>0, G24-I24, "") -> 0 | I24: ='내역서(전·소)'!J30 -> 1 | K24: 56900017016 | L24: 내선전공 | M24: 0.13 | N24: 100 | O24: =IF(I24*M24=0, "", I24*M24*(N24/100)) -> 0.13 | Q24: =TRUNC(P24*M24*N24/100) -> 0 | S24: 전기10-2-13 | AA24: =O24 -> 0.13
B25: 01 | C25: InMastDBNonCode | D25: 내진앵커 | E25: M10×L95mm | F25: 개 | G25: ='내역서(전·소)'!G31 -> 4 | H25: =IF(I25<>0, G25-I25, "") -> 0 | I25: ='내역서(전·소)'!J31 -> 4 | K25: 56900017016 | L25: 내선전공 | M25: 0.036 | N25: 100 | O25: =IF(I25*M25=0, "", I25*M25*(N25/100)) -> 0.144 | Q25: =TRUNC(P25*M25*N25/100) -> 0 | S25: 전기5-29 | AA25: =O25 -> 0.144
B26: 01 | C26: L001010101000075 | D26: 노 무 비 | E26: 내선전공 | F26: 인 | G26: =IF(H26*I26/100 <1, TRUNC(H26*I26/100, 3), TRUNC(H26*I26/100, J26)) -> 35 | H26: =(옵션!$B$12*옵션!$B$41)/100 -> 100 | I26: =SUM(AA5:AA25) -> 35.1444 | J26: =옵션!$C$41 -> 0 | O26: =IF(I26*M26=0, "", I26*M26*(N26/100)) | Q26: =TRUNC(P26*M26*N26/100) -> 0 | Z26: 노임계 | AA26: =SUM(AA5:AA25) -> 35.1444 | AB26: =SUM(AB5:AB25) -> 3.0912
B27: 01 | C27: L001010101000078 | D27: 노 무 비 | E27: 저압케이블전공 | F27: 인 | G27: =IF(H27*I27/100 <1, TRUNC(H27*I27/100, 3), TRUNC(H27*I27/100, J27)) -> 3 | H27: =(옵션!$B$12*옵션!$B$41)/100 -> 100 | I27: =SUM(AB5:AB25) -> 3.0912 | J27: =옵션!$C$41 -> 0 | O27: =IF(I27*M27=0, "", I27*M27*(N27/100)) | Q27: =TRUNC(P27*M27*N27/100) -> 0
B30: 공종줄 | D30: 2.유도등설비공사
B31: 02 | C31: 3913170610035664 | D31: 합성수지제 가요전선관 | E31: CD(난연성) 16㎜ | F31: M | G31: ='내역서(전·소)'!G57 -> 52 | H31: =IF(I31<>0, G31-I31, "") -> 5 | I31: ='내역서(전·소)'!J57 -> 47 | J31: 10 | K31: 56900017016 | L31: 내선전공 | M31: 0.05 | N31: 72 | O31: =IF(I31*M31=0, "", I31*M31*(N31/100)) -> 1.692 | Q31: =TRUNC(P31*M31*N31/100) -> 0 | S31: 전기5-1 | AA31: =O31 -> 1.692
B32: 02 | C32: 3913170620174410 | D32: 1종금속제가요전선관 | E32: 16 mm 일반-비방수 | F32: M | G32: ='내역서(전·소)'!G58 -> 26 | H32: =IF(I32<>0, G32-I32, "") -> 2 | I32: ='내역서(전·소)'!J58 -> 24 | J32: 10 | K32: 56900017016 | L32: 내선전공 | M32: 0.044 | N32: 90 | O32: =IF(I32*M32=0, "", I32*M32*(N32/100)) -> 0.9504 | Q32: =TRUNC(P32*M32*N32/100) -> 0 | S32: 전기5-1 | AA32: =O32 -> 0.9504
B33: 02 | C33: 3912130610035781 | D33: 스위치박스 | E33: 2 개용 54 mm | F33: 개 | G33: ='내역서(전·소)'!G62 -> 9 | H33: =IF(I33<>0, G33-I33, "") -> 0 | I33: ='내역서(전·소)'!J62 -> 9 | K33: 56900017016 | L33: 내선전공 | M33: 0.2 | N33: 90 | O33: =IF(I33*M33=0, "", I33*M33*(N33/100)) -> 1.62 | Q33: =TRUNC(P33*M33*N33/100) -> 0 | S33: 전기5-3 | AA33: =O33 -> 1.62
B34: 02 | C34: 2612162922076727 | D34: 450/750V 저독성난연절연전선 | E34: HFIX 1.78mm(2.5㎟) | F34: M | G34: ='내역서(전·소)'!G63 -> 156 | H34: =IF(I34<>0, G34-I34, "") -> 14 | I34: ='내역서(전·소)'!J63 -> 142 | J34: 10 | K34: 56900017016 | L34: 내선전공 | M34: 0.01 | N34: 100 | O34: =IF(I34*M34=0, "", I34*M34*(N34/100)) -> 1.42 | Q34: =TRUNC(P34*M34*N34/100) -> 0 | S34: 전기5-10 | AA34: =O34 -> 1.42
B35: 02 | C35: 3911170821650755 | D35: 피난구유도등(고휘도) | E35: 소형(단면), 60분용 | F35: 개 | G35: ='내역서(전·소)'!G64 -> 9 | H35: =IF(I35<>0, G35-I35, "") -> 0 | I35: ='내역서(전·소)'!J64 -> 9 | K35: 56900017016 | L35: 내선전공 | M35: 0.2 | N35: 100 | O35: =IF(I35*M35=0, "", I35*M35*(N35/100)) -> 1.8 | Q35: =TRUNC(P35*M35*N35/100) -> 0 | S35: 전기10-3-1 | AA35: =O35 -> 1.8
B36: 02 | C36: L001010101000075 | D36: 노 무 비 | E36: 내선전공 | F36: 인 | G36: =IF(H36*I36/100 <1, TRUNC(H36*I36/100, 3), TRUNC(H36*I36/100, J36)) -> 7 | H36: =(옵션!$B$12*옵션!$B$42)/100 -> 100 | I36: =SUM(AA31:AA35) -> 7.4824 | J36: =옵션!$C$42 -> 0 | O36: =IF(I36*M36=0, "", I36*M36*(N36/100)) | Q36: =TRUNC(P36*M36*N36/100) -> 0 | Z36: 노임계 | AA36: =SUM(AA31:AA35) -> 7.4824

Sheet 일위노임(전·소)
B1: 29 | D1: [ 안평초등학교급식실및학생식당증축공사(소방) ] - 일위노임 산출근거(202601-노임) | AA1: 내선전공
A2: 번호 | B2: 공종코드 | C2: 코드 | D2: 명 칭 | E2: 규 격 | F2: 단위 | G2: 수량 | K2: 코드 | L2: 공량산출 | P2: 단 위 단 가 산 출 | S2: 품셈근거 | T2: 비고
G3: 결정수량 | H3: 할증 | I3: 산출수량 | J3: 재할% | L3: 명칭 | M3: 품셈 | N3: 할증% | O3: 공량 | P3: 단가 | Q3: 단위단가 | R3: 단위계
B4: 공종줄 | D4: [ E56931750118 ] 유도등 철거 표시등(유도등) [개]
B5: 800 | C5: 391115ZZ701Z0001 | D5: 품셈 산출근거 | E5: 표시등(유도등) | F5: 식 | G5: 1 | H5: =IF(I5<>0, G5-I5, "") -> 0 | I5: 1 | K5: 56900017016 | L5: 내선전공 | M5: 0.2 | N5: 30 | O5: =IF(I5*M5=0, "", I5*M5*(N5/100)) -> 0.06 | Q5: =TRUNC(P5*M5*N5/100) -> 0 | S5: 전기10-3-1 | AA5: =O5 -> 0.06
B6: 800 | C6: L001010101000075 | D6: 노 무 비 | E6: 내선전공 | F6: 인 | G6: =IF(H6*I6/100 <1, TRUNC(H6*I6/100, 옵션!$E$13), TRUNC(H6*I6/100, 옵션!$E$13)) -> 0.06 | H6: =옵션!$B$13 -> 100 | I6: =SUM(AA5:AA5) -> 0.06 | O6: =IF(I6*M6=0, "", I6*M6*(N6/100)) | Q6: =TRUNC(P6*M6*N6/100) -> 0 | Z6: 노임계 | AA6: =SUM(AA5:AA5) -> 0.06
B7: 공종줄 | D7: [ EAA110130000 ] 파이프행가 28C [개소]
B8: 800 | C8: 3116210220135776 | D8: 스트롱앵커 | E8: M10(3/8") | F8: 개 | G8: 1 | H8: =IF(I8<>0, G8-I8, "") -> 0 | I8: 1 | K8: 56900017016 | L8: 내선전공 | M8: 0.036 | N8: 150 | O8: =IF(I8*M8=0, "", I8*M8*(N8/100)) -> 0.054 | Q8: =TRUNC(P8*M8*N8/100) -> 0 | S8: 전기5-29 | AA8: =O8 -> 0.054
B9: 800 | C9: L001010101000075 | D9: 노 무 비 | E9: 내선전공 | F9: 인 | G9: =IF(H9*I9/100 <1, TRUNC(H9*I9/100, 옵션!$E$13), TRUNC(H9*I9/100, 옵션!$E$13)) -> 0.054 | H9: =옵션!$B$13 -> 100 | I9: =SUM(AA8:AA8) -> 0.054 | O9: =IF(I9*M9=0, "", I9*M9*(N9/100)) | Q9: =TRUNC(P9*M9*N9/100) -> 0 | Z9: 노임계 | AA9: =SUM(AA8:AA8) -> 0.054
B10: 공종줄 | D10: [ EAA110140000 ] 파이프행가 36C [개소]
B11: 800 | C11: 3116210220135776 | D11: 스트롱앵커 | E11: M10(3/8") | F11: 개 | G11: 1 | H11: =IF(I11<>0, G11-I11, "") -> 0 | I11: 1 | K11: 56900017016 | L11: 내선전공 | M11: 0.036 | N11: 150 | O11: =IF(I11*M11=0, "", I11*M11*(N11/100)) -> 0.054 | Q11: =TRUNC(P11*M11*N11/100) -> 0 | S11: 전기5-29 | AA11: =O11 -> 0.054
B12: 800 | C12: L001010101000075 | D12: 노 무 비 | E12: 내선전공 | F12: 인 | G12: =IF(H12*I12/100 <1, TRUNC(H12*I12/100, 옵션!$E$13), TRUNC(H12*I12/100, 옵션!$E$13)) -> 0.054 | H12: =옵션!$B$13 -> 100 | I12: =SUM(AA11:AA11) -> 0.054 | O12: =IF(I12*M12=0, "", I12*M12*(N12/100)) | Q12: =TRUNC(P12*M12*N12/100) -> 0 | Z12: 노임계 | AA12: =SUM(AA11:AA11) -> 0.054

Sheet 합산자재
B1: 55 | C1: [ 안평초등학교급식실및학생식당증축공사(소방) ] - 합산자재목록
A2: 번호 | B2: … | C2: 코드 | D2: 명 칭 | E2: 규 격 | F2: 단위 | G2: 수량 | H2: 재료비 | I2: 노무비 | J2: 경비 | K2: 지급비 | L2: 계 | M2: 비고
B4: 59750337003 | C4: 3913170610034834 | D4: 강제전선관 | E4: 아연도 28 mm | F4: M | G4: 94 | H4: =ROUNDDOWN('단가조사(전·소)'!G4*옵션!$D$11, 0) -> 4012 | L4: =SUM(H4,I4,J4) -> 4012
B5: 59750337004 | C5: 3913170610034835 | D5: 강제전선관 | E5: 아연도 36 mm | F5: M | G5: 48 | H5: =ROUNDDOWN('단가조사(전·소)'!G5*옵션!$D$11, 0) -> 5134 | L5: =SUM(H5,I5,J5) -> 5134
B6: 59753097002 | C6: 3913170610035664 | D6: 합성수지제 가요전선관 | E6: CD(난연성) 16㎜ | F6: M | G6: 84 | H6: =ROUNDDOWN('단가조사(전·소)'!G6*옵션!$D$11, 0) -> 170 | L6: =SUM(H6,I6,J6) -> 170
B7: 59753017003 | C7: 3913170620174410 | D7: 1종금속제가요전선관 | E7: 16 mm 일반-비방수 | F7: M | G7: 184 | H7: =ROUNDDOWN('단가조사(전·소)'!G7*옵션!$D$11, 0) -> 445 | L7: =SUM(H7,I7,J7) -> 445
B8: 59753017043 | C8: 3913170620174434 | D8: 1종금속제가요전선관 | E8: 커넥터, 16 mm 일반-비방수 | F8: 개 | G8: 86 | H8: =ROUNDDOWN('단가조사(전·소)'!G8*옵션!$D$11, 0) -> 340 | L8: =SUM(H8,I8,J8) -> 340
B9: 59759017061 | C9: 3913170820176475 | D9: 강재전선관용 부품 | E9: 노말밴드, 아연도 28 mm | F9: 개 | G9: 10 | H9: =ROUNDDOWN('단가조사(전·소)'!G9*옵션!$D$11, 0) -> 3108 | L9: =SUM(H9,I9,J9) -> 3108
B10: 59759017062 | C10: 3913170820176476 | D10: 강재전선관용 부품 | E10: 노말밴드, 아연도 36 mm | F10: 개 | G10: 2 | H10: =ROUNDDOWN('단가조사(전·소)'!G10*옵션!$D$11, 0) -> 3739 | L10: =SUM(H10,I10,J10) -> 3739
B11: 59753767011 | C11: 3912130810035750 | D11: 아우트렛박스 | E11: 8각 54㎜ | F11: 개 | G11: 25 | H11: =ROUNDDOWN('단가조사(전·소)'!G11*옵션!$D$11, 0) -> 638 | L11: =SUM(H11,I11,J11) -> 638
B12: 59753777111 | C12: 3912130610035781 | D12: 스위치박스 | E12: 2 개용 54 mm | F12: 개 | G12: 12 | H12: =ROUNDDOWN('단가조사(전·소)'!G12*옵션!$D$11, 0) -> 726 | L12: =SUM(H12,I12,J12) -> 726
B13: 59753767201 | C13: 3912130820174710 | D13: 아우트렛박스 커버 | E13: 8각, 평형 | F13: 개 | G13: 21 | H13: =ROUNDDOWN('단가조사(전·소)'!G13*옵션!$D$11, 0) -> 218 | L13: =SUM(H13,I13,J13) -> 218
B14: 59753857071 | C14: 3912130310035800 | D14: 풀박스 | E14: 200×200×150 | F14: 개 | G14: 1 | H14: =ROUNDDOWN('단가조사(전·소)'!G14*옵션!$D$11, 0) -> 4760 | L14: =SUM(H14,I14,J14) -> 4760
B15: 59755087411 | C15: 3913170520475412 | D15: 덕트형 케이블트레이부속 | E15: COVER, W 200 | F15: 개 | G15: 3 | H15: =ROUNDDOWN('단가조사(전·소)'!G15*옵션!$D$11, 0) -> 8400 | L15: =SUM(H15,I15,J15) -> 8400
... B29: 63500207012 | C29: 4619150520935783 | D29: 수동발신기셋트 | E29: 단독형(SUS) | F29: 개 | G29: 5 | H29: =ROUNDDOWN('단가조사(전·소)'!G29*옵션!$D$11, 0) -> 5000 | L29: =SUM(H29,I29,J29) -> 5000
B30: MM317275398 | C30: 4619150520689684 | D30: 시각경보기 | F30: 개 | G30: 3 | H30: =ROUNDDOWN('단가조사(전·소)'!G30*옵션!$D$11, 0) -> 29284 | L30: =SUM(H30,I30,J30) -> 29284
B31: 39321650767 | C31: 3912110321650767 | D31: 배전함 | E31: 시각경보기전원반 15A | F31: 개 | G31: 1 | H31: =ROUNDDOWN('단가조사(전·소)'!G31*옵션!$D$11, 0) -> 292535 | L31: =SUM(H31,I31,J31) -> 292535
B32: 53100028501 | C32: 3116172710023970 | D32: 6각너트 | E32: 철, M10(3/8") | F32: 개 | G32: 170 | H32: =ROUNDDOWN('단가조사(전·소)'!G32*옵션!$D$11, 0) -> 25 | L32: =SUM(H32,I32,J32) -> 25
B33: 53100327011 | C33: 3116181120136196 | D33: 스프링와샤 | E33: 용융아연도, 호칭경10 | F33: 개 | G33: 170 | H33: =ROUNDDOWN('단가조사(전·소)'!G33*옵션!$D$11, 0) -> 9 | L33: =SUM(H33,I33,J33) -> 9
B34: 53100327067 | C34: InMastDBNonCode | D34: 내진앵커 | E34: M10×L95mm | F34: 개 | G34: 4 | H34: =ROUNDDOWN('단가조사(전·소)'!G34*옵션!$D$11, 0) -> 2200 | L34: =SUM(H34,I34,J34) -> 2200
B35: 56900017016 | C35: L001010101000075 | D35: 노 무 비 | E35: 내선전공 | F35: 인 | G35: 55.65 | I35: =ROUNDDOWN('단가조사(전·소)'!G35, 0) -> 273676 | L35: =SUM(H35,I35,J35) -> 273676
B36: 56900017076 | C36: L001010101000078 | D36: 노 무 비 | E36: 저압케이블전공 | F36: 인 | G36: 3 | I36: =ROUNDDOWN('단가조사(전·소)'!G36, 0) -> 304156 | L36: =SUM(H36,I36,J36) -> 304156

Sheet 단가조사(전·소)
B1: 63 | D1: [ 안평초등학교급식실및학생식당증축공사(소방) ] - 단가조사서(1/6단가:2026년06월)
A2: 번호 | B2: 공종코드 | C2: 코드 | D2: 명 칭 | E2: 규 격 | F2: 단위 | G2: 적용단가 | H2: 시설단가 | J2: 거래가격 | L2: 물가정보 | N2: 물가자료 | P2: 조사단가1 | R2: 조사단가2 | T2: 비고
H3: 단가 | I3: 코드 | J3: 단가 | K3: PAGE | L3: 단가 | M3: PAGE | N3: 단가 | O3: PAGE | P3: 단가 | Q3: PAGE | R3: 단가 | S3: PAGE
C4: 3913170610034834 | D4: 강제전선관 | E4: 아연도 28 mm | F4: M | G4: 4012 | H4: 4012 | J4: 4720 | K4: 1029 | L4: 5709 | M4: I-1202 | N4: 5500 | O4: 1101
C5: 3913170610034835 | D5: 강제전선관 | E5: 아연도 36 mm | F5: M | G5: 5134 | H5: 5134 | J5: 6040 | K5: 1029 | L5: 7306 | M5: I-1202 | N5: 6900 | O5: 1101
C6: 3913170610035664 | D6: 합성수지제 가요전선관 | E6: CD(난연성) 16㎜ | F6: M | G6: 170 | H6: 170 | J6: 360 | K6: 1025 | L6: 275 | M6: I-1204 | N6: 200 | O6: 1104
C7: 3913170620174410 | D7: 1종금속제가요전선관 | E7: 16 mm 일반-비방수 | F7: M | G7: 445 | H7: 445 | J7: 1200
C8: 3913170620174434 | D8: 1종금속제가요전선관 | E8: 커넥터, 16 mm 일반-비방수 | F8: 개 | G8: 340 | H8: 407 | J8: 990 | L8: 520 | M8: 인터넷 | N8: 340 | O8: 1101
C9: 3913170820176475 | D9: 강재전선관용 부품 | E9: 노말밴드, 아연도 28 mm | F9: 개 | G9: 3108 | H9: 3108 | J9: 3500 | K9: 1029 | L9: 4031 | M9: I-1203 | N9: 4500 | O9: 1101
C10: 3913170820176476 | D10: 강재전선관용 부품 | E10: 노말밴드, 아연도 36 mm | F10: 개 | G10: 3739 | H10: 3739 | J10: 4930 | K10: 1029 | L10: 5412 | M10: I-1203 | N10: 5400 | O10: 1101
C11: 3912130810035750 | D11: 아우트렛박스 | E11: 8각 54㎜ | F11: 개 | G11: 638 | H11: 638 | J11: 800 | K11: 1028 | L11: 845 | M11: I-1207 | N11: 790 | O11: 1105
C12: 3912130610035781 | D12: 스위치박스 | E12: 2 개용 54 mm | F12: 개 | G12: 726 | H12: 839 | J12: 1000 | K12: 1028 | L12: 726 | M12: I-1207 | N12: 920 | O12: 1105
C13: 3912130820174710 | D13: 아우트렛박스 커버 | E13: 8각, 평형 | F13: 개 | G13: 218 | H13: 218 | J13: 400 | K13: 1028 | L13: 343 | M13: I-1207 | N13: 290 | O13: 1105
C14: 3912130310035800 | D14: 풀박스 | E14: 200×200×150 | F14: 개 | G14: 4760 | H14: 4760 | J14: 13750 | K14: 1028 | L14: 5600 | M14: I-1207 | N14: 6600 | O14: 1105
C15: 3913170520475412 | D15: 덕트형 케이블트레이부속 | E15: COVER, W 200 | F15: 개 | G15: 8400 | J15: 8400 | N15: 15750 | O15: 1115
C16: 3913171220173815 | D16: 전선덕트 | E16: 알루미늄 70x40 mm | F16: M | G16: 13241 | H16: 13241 | J16: 20000 | K16: 1031 | L16: 30000 | M16: I-1206 | N16: 18900 | O16: 1099
C17: 3913170810036359 | D17: 강재전선관용 부품 | E17: 파이프행거, 28 C | F17: 개 | G17: 348 | H17: 348 | J17: 410 | K17: 1029 | L17: 782 | M17: I-1203 | N17: 680 | O17: 1101
C18: 3913170810036360 | D18: 강재전선관용 부품 | E18: 파이프행거, 36 C | F18: 개 | G18: 370 | H18: 370 | J18: 420 | K18: 1029 | L18: 828 | M18: I-1203 | N18: 720 | O18: 1101
C19: 3116210220135776 | D19: 스트롱앵커 | E19: M10(3/8") | F19: 개 | G19: 100 | H19: 100 | N19: 120 | O19: 93
C20: 3116169820135160 | D20: 행거볼트 | E20: ∮9×1000㎜ | F20: 개 | G20: 1226 | L20: 1226 | M20: I-43
C21: 2612162922076726 | D21: 450/750V 저독성난연절연전선 | E21: HFIX 1.38mm(1.5㎟) | F21: M | G21: 356 | H21: 356 | J21: 456 | K21: 993 | L21: 587 | M21: I-1165 | N21: 441 | O21: 1074
C22: 2612162922076727 | D22: 450/750V 저독성난연절연전선 | E22: HFIX 1.78mm(2.5㎟) | F22: M | G22: 544 | H22: 544 | J22: 693 | K22: 993 | L22: 966 | M22: I-1165 | N22: 641 | O22: 1074
C23: InMastDBNonCode | D23: 소방용내열전선(F-FR-8) | E23: 2C×2.5㎟(1.78mm)단선 | F23: M | G23: 2262 | P23: 2262 | Q23: 견적가
C24: 2612164020694095 | D24: 소방용내열전선(F-FR-8) | E24: 6C×2.5㎟(1.78mm)단선 | F24: M | G24: 5820 | P24: 5820 | Q24: 견적가
C25: 2612164020694107 | D25: 소방용내열전선(F-FR-8) | E25: 8C×2.5㎟(1.78mm)단선 | F25: M | G25: 7164 | P25: 7164 | Q25: 견적가
C26: 4619150120192512 | D26: 화재감지기 | E26: 열감지기,차동식스포트형 | F26: 개 | G26: 4089 | H26: 4089 | J26: 5000 | K26: 1194 | L26: 5000 | M26: I-1389 | N26: 5000 | O26: 966
C27: 4619150120192515 | D27: 화재감지기 | E27: 열감지기,정온식스포트형 | F27: 개 | G27: 3735 | H27: 3735 | J27: 5000 | K27: 1194 | L27: 5000 | M27: I-1389 | N27: 5000 | O27: 966
C28: 3911170821650755 | D28: 피난구유도등(고휘도) | E28: 소형(단면), 60분용 | F28: 개 | G28: 45690 | H28: 45690 | J28: 125000 | K28: 1194 | L28: 100000 | M28: I-1389 | N28: 100000 | O28: 966
C29: 4619150520935783 | D29: 수동발신기셋트 | E29: 단독형(SUS) | F29: 개 | G29: 5000 | J29: 5000 | K29: 1194 | L29: 65000 | M29: I-1393 | N29: 73500 | O29: 965
C30: 4619150520689684 | D30: 시각경보기 | F30: 개 | G30: 29284 | H30: 29284 | J30: 40000 | K30: 1194 | L30: 60000 | M30: I-1394 | N30: 40000 | O30: 966
C31: 3912110321650767 | D31: 배전함 | E31: 시각경보기전원반 15A | F31: 개 | G31: 292535 | H31: 292535 | N31: 500000 | O31: 966
C32: 3116172710023970 | D32: 6각너트 | E32: 철, M10(3/8") | F32: 개 | G32: 25 | L32: 29 | M32: 39 | N32: 25 | O32: 50
C33: 3116181120136196 | D33: 스프링와샤 | E33: 용융아연도, 호칭경10 | F33: 개 | G33: 9 | L33: 9 | M33: 43 | N33: 9 | O33: 51
C34: InMastDBNonCode | D34: 내진앵커 | E34: M10×L95mm | F34: 개 | G34: 2200 | P34: 2200 | Q34: 인터넷
C35: L001010101000075 | D35: 노 무 비 | E35: 내선전공 | F35: 인 | G35: 273676
C36: L001010101000078 | D36: 노 무 비 | E36: 저압케이블전공 | F36: 인 | G36: 304156

Sheet 옵션
B1: 재료비 | C1: 노무비 | D1: 경비 | F1: 계
A2: 총 급 액 | B2: =총괄표!I29 -> 3502641 | C2: =총괄표!L29 -> 13679410 | D2: =총괄표!N29 -> 0 | F2: =SUM(B2,C2,D2) -> 17182051
A3: 관급 자재비 | F3: =SUM(B3,C3,D3) -> 0 | H3: 금액조정이 안되나요?
H6: 이지테크에서 변환할 때 2번 옵션을 지정하여 다시 해보세요
H9: 시트를 삭제할 때 에러가 뜨면 1번 옵션으로 하면 됩니다.
B10: 적용율(%) | C10: 끝자리 | D10: 적용율(%)/100 | E10: 일위대가소수
A11: 전체자재 적용율(%)(공종/일위대가) | B11: 100 | C11: 1 | D11: =$B$11/100 -> 1
A12: 전체노임 적용율(%)(공종) | B12: 100 | C12: 1 | D12: =$B$12/100 -> 1 | E12: 2 | H12: 2번 옵션으로 변환했을 때에는 결과값이 다를 수 있습니다.
A13: 전체노임 적용율(%)(일위대가) | B13: 100 | C13: 1 | D13: =$B$13/100 -> 1 | E13: 5
A20: *(그룹별 자재 단가 추가 할증)* | B20: 적용율(%) | D20: 적용율(%)/100
A21: Cable(CAB) 할증(%) | B21: =B11 -> 100 | D21: =$B$21/100 -> 1
A22: Wire (WIR) 할증(%) | B22: =B11 -> 100 | D22: =$B$22/100 -> 1
A23: Pipe (PIP) 할증(%) | B23: =B11 -> 100 | D23: =$B$23/100 -> 1
A24: 제 4그룹 할증(%) | B24: =B11 -> 100 | D24: =$B$24/100 -> 1
A25: 제 5그룹 할증(%) | B25: =B11 -> 100 | D25: =$B$25/100 -> 1
A30: *(그룹별 노임 추가 할증)* | B30: 적용율(%) | C30: 자동부속재(전기) | D30: 자동부속재(통신)
A31: 배관부속재(%) | B31: 15 | C31: 15 | D31: 20
A32: CD관부속재(%) | B32: 40 | C32: 40 | D32: 40
A33: 소모잡자재(%) | B33: 2 | H33: 본 파일은 이지테크에서 2번 옵션으로 만들었습니다.
A34: 방폭할증(%)
A35: 고소할증(%) | B35: 2
A36: 공구손료(%) | B36: 3
A40: *(공종별 노임 적용율(%))* | B40: 적용율(%) | C40: 소수자릿수
A41: 1.자탐설비공사 | B41: 100 | C41: 0
A42: 2.유도등설비공사 | B42: 100 | C42: 0

Sheet 단가대비표(기·소)
A1: 단 가 대 비 표
A2: [ 서울안평초등학교 급식실 및 학생식당 증축공사(소방) ]
A3: 코 드 | B3: 품 명 | C3: 규격 | D3: 단위 | E3: 재 료 비 | P3: 노 무 비 | Q3: 경 비 | W3: 번 호 | X3: 비 고 | Y3: 품목구분 | Z3: 노임구분 | AA3: 자재구분
E4: 조달청가격 | F4: PAGE | G4: 거래가격 | H4: PAGE | I4: 유통물가 | J4: PAGE | K4: 물가정보 | L4: PAGE | M4: 조사가격 | N4: PAGE | O4: 적용단가 | Q4: 조달청가격 | R4: 거래가격 | S4: 유통물가 | T4: 물가정보 | U4: 조사가격 | V4: 적용단가
A5: 5584029769B6F96A36048E9074B7 | B5: 분말소화기(ABC) | C5: ABC 3.3KG | D5: EA | E5: 22110 | G5: 28800 | H5: 1185 | I5: 26000 | J5: 751 | K5: 0 | M5: 0 | O5: =SMALL(E5:M5,COUNTIF(E5:M5,0)+1) -> 22110 | P5: 0 | Q5: 0 | R5: 0 | S5: 0 | T5: 0 | U5: 0 | V5: 0 | W5: 자재 1
A6: 5584029769B6F96A36048E906AA7 | B6: 자동확산소화기 | C6: 3.0KG | D6: EA | E6: 0 | G6: 0 | I6: 27000 | J6: 751 | K6: 0 | M6: 0 | O6: =SMALL(E6:M6,COUNTIF(E6:M6,0)+1) -> 27000 | P6: 0 | Q6: 0 | R6: 0 | S6: 0 | T6: 0 | U6: 0 | V6: 0 | W6: 자재 2
A7: 5584029769B6F96A36048E861EE7 | B7: 주방화재용소화기(K급) | C7: 4.0L | D7: EA | E7: 0 | G7: 0 | I7: 0 | K7: 104000 | L7: 1366 | M7: 0 | O7: =SMALL(E7:M7,COUNTIF(E7:M7,0)+1) -> 104000 | P7: 0 | Q7: 0 | R7: 0 | S7: 0 | T7: 0 | U7: 0 | V7: 0 | W7: 자재 3
A8: 5584029769B6F96A36048E861E97 | B8: 상업용 주방자동소화장치 | C8: 2BT | D8: SET | E8: 0 | G8: 0 | I8: 0 | K8: 0 | M8: 5000000 | O8: =SMALL(E8:M8,COUNTIF(E8:M8,0)+1) -> 5000000 | P8: 0 | Q8: 0 | R8: 0 | S8: 0 | T8: 0 | U8: 0 | V8: 0 | W8: 자재 4
A9: 5584029769B6EF62AAAD83091C57 | B9: 소화기받침대 | C9: 3.3KG | D9: EA | E9: 0 | G9: 3000 | H9: 1188 | I9: 1500 | J9: 751 | K9: 0 | M9: 0 | O9: =SMALL(E9:M9,COUNTIF(E9:M9,0)+1) -> 1500 | P9: 0 | Q9: 0 | R9: 0 | S9: 0 | T9: 0 | U9: 0 | V9: 0 | W9: 자재 5
