Workbook

Sheet 표지 
A3: 국립경국대학교 학생회관 및 체육관 조도 개선 공사
A12: 2026
D20: 목 차
D23: 설계설명서
D25: 설계예산서
D27: 내역서
D29: 관급자재내역서
D31: 일위대가표
D33: 단가대비표
D35: 수 량 산 출 서

Sheet 설계설명서
A3: ='표지 '!A3:L3 -> 국립경국대학교 학생회관 및 체육관 조도 개선 공사
A6: 설 계 설 명 서
A12: ='표지 '!A12 -> 2026

Sheet 예산서표지
A3: ='표지 '!A3:L3 -> 국립경국대학교 학생회관 및 체육관 조도 개선 공사
A6: 설 계 예 산 서
A12: ='표지 '!A12 -> 2026

Sheet 설계서용지 
C1: 설 계 서 용 지 ( 갑 지 )
A6: 과 장 | C6: 담 당 | F6: 검산자 | H6: 설계자 | J6: 2026 년 월 일 설계
B11: 2026 년
A15: ='표지 '!A3:L3 -> 국립경국대학교 학생회관 및 체육관 조도 개선 공사
B19: 공사 개요 : | C19: 1. | D19: 학생회관 전등설비공사
C20: 2. | D20: 체육관 전등설비공사
C26: 총 공사비 : | D26: =" 일금"&NUMBERSTRING(I26,1)&"원" -> 일금영원 | I26: =F31 -> 0
A29: 내 역 | C29: 도급예정액 | F29: ='원가계산 '!E29 -> 0
C30: 도급자관급자재대 | F30: ='원가계산 '!E30 -> 0
C31: 계 | F31: =F29+F30 -> 0

Sheet 원가계산 
B1: 공 사 원 가 계 산 서
B2: 공사명 : | D2: ='설계서용지 '!A15 -> 국립경국대학교 학생회관 및 체육관 조도 개선 공사 | J2: 전체공사비 | K2: 금 액 | M2: =K8 -> 0 | N2: 간접노무비,기타경비 요율근거(직접비)
B3: 비 목 | E3: 금 액 | F3: 구 성 비 | H3: 비 고 | J3: 재 료 비 | K3: =E4 -> 0 | M3: =K3+K4+K6 -> 0 | N3: 안전관리비 요율근거금액(재(도관급포함)+직노)
B4: 순 공 사 원 가 | C4: 재료비 | D4: 직 접 재 료 비 | E4: =공종별집계표!F5 -> 0 | J4: 노 무 비 | K4: =E8 -> 0 | M4: =E7+E10+E22 -> 0 | N4: 일반관리비,이윤근거금액(추정가격)
D5: 간 접 재 료 비 | J5: 경비 | K5: =E11 -> 0 | M5: =M4+K6+E28 -> 0 | N5: 고용보험료,퇴직공제부금비 요율근거(추정금액)
D6: 작업실,부산물등(△) | J6: 도급자관급자재 | K6: =E30 -> 0 | M6: ▶추정가격 = 부가가치세와 관급재료(시가환산액) 제외
D7: 소 계 | E7: =TRUNC(E4+E6,0) -> 0 | J7: 관급자관급자재 | M7: ▶추정금액 = 추정가격+도급자관급(시가환산액)+부가세
C8: 노무비 | D8: 직 접 노 무 비 | E8: =공종별집계표!H5 -> 0 | J8: 직접비 총계 | K8: =K3+K4+K5 -> 0 | M8: ▶공사금액 = 도급금액+도급자관급금액
A9: 0.175 | D9: 간 접 노 무 비 | E9: =TRUNC(E8*($A$9),0) -> 0 | F9: 직접노무비의 | G9: =A9 -> 0.175 | J9: 관급비 총계
D10: 소 계 | E10: =TRUNC(E8+E9,0) -> 0 | J10: 합 계 | K10: =K8+K9 -> 0
C11: 경 비 | D11: 기 계 경 비 | E11: =공종별집계표!J5 -> 0 | J11: [산업안전보건관리비](관급자관급 금액은 산업안전관리비와는 해당사항이없음)
A12: 0.0356 | D12: 산 재 보 험 료 | E12: =TRUNC(E10*($A$12),0) -> 0 | F12: 노무비의 | G12: =A12 -> 0.0356 | J12: - 도급자관급자재가 없는 경우: (재료비+직접노무비)×적용율
A13: 0.0101 | D13: 고 용 보 험 료 | E13: =TRUNC(E10*($A$13),0) -> 0 | F13: 노무비의 | G13: =A13 -> 0.0101 | J13: - 도급자관급자재가 있는 경우: 아래“a”와“b”비교하여 적은 금액적용
A14: 0.03595 | D14: 건 강 보 험 료 | E14: =TRUNC(E8*($A$14),0) -> 0 | F14: 직접노무비의 | G14: =A14 -> 0.03595 | J14: a. (재료비+직접노무비)×적용율×1.2 | N14: =INT((((K3+K4)*A17)))*1.2 -> 0
A15: 0.0475 | D15: 연 금 보 험 료 | E15: =TRUNC(E8*($A$15),0) -> 0 | F15: 직접노무비의 | G15: =A15 -> 0.0475 | J15: b. (재료비+직접노무비+도급자관급자재금액)×적용율 | N15: =INT((((K3+K4+K6/1.1)*A17))) -> 0
A16: 0.1314 | D16: 노인장기요양보험료 | E16: =TRUNC((E14)*($A$16),0) -> 0 | F16: (건강보험료)의 | G16: =A16 -> 0.1314
A17: 0.0207 | D17: 산업안전보건관리비 | E17: =TRUNC((((($E$4+$E$8))*($A17)))*1.2) -> 0 | F17: (직접재료비+직노)의 | G17: =A17 -> 0.0207 | H17: *1.2
A18: 0.023 | D18: 퇴직공제부금비 | E18: =TRUNC((E8)*($A$18)) -> 0 | F18: (직노)의 | G18: =A18 -> 0.023
A19: 0.05 | D19: 기 타 경 비 | E19: =TRUNC((E7+E10)*($A$19),0) -> 0 | F19: (재료비+노무비)의 | G19: =A19 -> 0.05
A20: 6e-05 | D20: 석 면 분 담 금 | E20: =TRUNC(E10*($A$20),0) -> 0 | F20: 노무비의 | G20: =A20 -> 6e-05
A21: 0.0009 | D21: 임 금 채 권 부 담 금 | E21: =TRUNC(E10*($A$21),0) -> 0 | F21: 노무비의 | G21: =A21 -> 0.0009
D22: 소 계 | E22: =SUM(E11:E21) -> 0
B23: 합 계 | E23: =TRUNC(E7+E10+E22,0) -> 0
A24: 0.08 | B24: 일반관리비 | E24: =TRUNC((E23)*($A$24),0) -> 0 | F24: 합계의 | G24: =A24 -> 0.08
A25: 0.15 | B25: 이윤 | F25: (노무비+경비+일반관리비)의 | G25: =A25 -> 0.15
A26: 0.0026477 | B26: 전기공사손해배상공제 | F26: (합계+일반관리비+이윤+도급관급/1.1)의 | G26: =A26 -> 0.0026477
B27: 총원가
A28: 0.1 | B28: 부가가치세 | F28: 총원가의 | G28: 0.1
B29: 도급예정액
B30: 도급자관급자재대
B31: 총공사비

Sheet 내역표지
A3: ='표지 '!A3:L3 -> 국립경국대학교 학생회관 및 체육관 조도 개선 공사
A6: 내 역 서
A12: ='표지 '!A12 -> 2026

Sheet 공종별집계표
A1: 공 종 별 집 계 표
A2: [ 국립경국대학교 학생회관 및 체육관 조도 개선 공사 ]
A3: 품 명 | B3: 규 격 | C3: 단위 | D3: 수량 | E3: 재 료 비 | G3: 노 무 비 | I3: 경 비 | K3: 합 계 | M3: 비 고 | N3: 공종코드 | O3: 변수 | P3: 상위공종 | Q3: 공종구분 | R3: 공종레벨 | S3: 공종소계 | T3: 원가계산서 연결금액
E4: 단 가 | F4: 금 액 | G4: 단 가 | H4: 금 액 | I4: 단 가 | J4: 금 액 | K4: 단 가 | L4: 금 액
A5: 01 국립경국대학교 학생회관 및 체육관 조도 개선 공사 | D5: 1 | E5: =F6+F7 -> 0 | F5: =E5*D5 -> 0 | G5: =H6+H7 -> 0 | H5: =G5*D5 -> 0 | I5: =J6+J7 -> 0 | J5: =I5*D5 -> 0 | K5: =E5+G5+I5 -> 0 | L5: =F5+H5+J5 -> 0 | N5: 01 | R5: 1
A6: 0101 학생회관 전등설비공사 | D6: 1 | E6: =공종별내역서!F50 -> 0 | F6: =E6*D6 -> 0 | G6: =공종별내역서!H50 -> 0 | H6: =G6*D6 -> 0 | I6: =공종별내역서!J50 -> 0 | J6: =I6*D6 -> 0 | K6: =E6+G6+I6 -> 0 | L6: =F6+H6+J6 -> 0 | N6: 0101 | P6: 01 | R6: 2
A7: 0102 체육관 전등설비공사 | D7: 1 | E7: =공종별내역서!F73 -> 0 | F7: =E7*D7 -> 0 | G7: =공종별내역서!H73 -> 0 | H7: =G7*D7 -> 0 | I7: =공종별내역서!J73 -> 0 | J7: =I7*D7 -> 0 | K7: =E7+G7+I7 -> 0 | L7: =F7+H7+J7 -> 0 | N7: 0102 | P7: 01 | R7: 2
N8: 0103 | Q8: 3 | R8: 2 | T8: =L8*1 -> 0
N9: 010301 | P9: 0103 | R9: 3
A27: [ 합 계 ] | F27: =F5 -> 0 | H27: =H5 -> 0 | J27: =J5 -> 0 | L27: =L5 -> 0

Sheet 공종별내역서
A1: 공 종 별 내 역 서
A2: [ 국립경국대학교 학생회관 및 체육관 조도 개선 공사 ]
A3: 품 명 | B3: 규 격 | C3: 단위 | D3: 수량 | E3: 재 료 비 | G3: 노 무 비 | I3: 경 비 | K3: 합 계 | M3: 비 고 | N3: 품목코드 | O3: 변수 | P3: 설정 | Q3: 공종코드 | R3: 일위 | S3: 단산 | T3: 자재 | U3: 손료적용 | V3: 손료저장 | W3: 적용율 | X3: JUK1 | Y3: JUK2 | Z3: JUK3 | AA3: JUK4 | AB3: JUK5 | AC3: JUK6 | AD3: JUK7 | AE3: JUK8 | AF3: JUK9 | AG3: JUK10 | AH3: JUK11 | AI3: JUK12 | AJ3: JUK13 | AK3: JUK14 | AL3: JUK15 | AM3: JUK16 | AN3: JUK17 | AO3: JUK18 | AP3: JUK19 | AQ3: JUK20 | AR3: 자재구분 | AS3: 공종구분 | AT3: 공종레벨 | AU3: 공종+자재 | AV3: 고유번호
E4: 단 가 | F4: 금 액 | G4: 단 가 | H4: 금 액 | I4: 단 가 | J4: 금 액 | K4: 단 가 | L4: 금 액
A5: 0101 학생회관 전등설비공사 | Q5: 0101
A6: 등기구 "A" TYPE | B6: LED 40W 평판등 (M바) 300x1200 | C6: 개 | D6: 514 | N6: 53BD73CD2F4BEA6D30CC9F21E2EDDB | Q6: 0101 | R6: T | S6: F | T6: F | AU6: 010153BD73CD2F4BEA6D30CC9F21E2EDDB | AV6: 3
A7: 등기구 "C" TYPE | B7: LED 40W 직부등 (C바) 300x1200 | C7: 개 | D7: 13 | N7: 53BD73CD2F4BEA6D30CC9F21E38FC3 | Q7: 0101 | R7: T | S7: F | T7: F | AU7: 010153BD73CD2F4BEA6D30CC9F21E38FC3 | AV7: 4
A8: 등기구 "E" TYPE | B8: LED 40W 방습등 | C8: 개 | D8: 2 | N8: 53BD73CD2F4BEA6D30CC9F21E38FC0 | Q8: 0101 | R8: T | S8: F | T8: F | AU8: 010153BD73CD2F4BEA6D30CC9F21E38FC0 | AV8: 5
A9: 등기구 "F" TYPE | B9: LED 40W 평판등 (C바) 600x600 | C9: 개 | D9: 33 | N9: 53BD73CD2F4BEA6D30CC9F21E2EDDE | Q9: 0101 | R9: T | S9: F | T9: F | AU9: 010153BD73CD2F4BEA6D30CC9F21E2EDDE | AV9: 6
A10: 등기구 "G" TYPE | B10: LED 25W 평판등 (M바) 300x600 | C10: 개 | D10: 5 | N10: 53BD73CD2F4BEA6D30CC9F21E2EC32 | Q10: 0101 | R10: T | S10: F | T10: F | AU10: 010153BD73CD2F4BEA6D30CC9F21E2EC32 | AV10: 7
A11: 등기구 "I" TYPE | B11: LED 40W 레이스웨이등 | C11: 개 | D11: 7 | N11: 53BD73CD2F4BEA6D30CC9F21E38FC1 | Q11: 0101 | R11: T | S11: F | T11: F | AU11: 010153BD73CD2F4BEA6D30CC9F21E38FC1 | AV11: 8
A12: 등기구 "N" TYPE | B12: LED 10W 다운라이트 6" | C12: 개 | D12: 222 | N12: 53BD73CD2F4BEA6D30CC9F21E38A43 | Q12: 0101 | R12: T | S12: F | T12: F | AU12: 010153BD73CD2F4BEA6D30CC9F21E38A43 | AV12: 9
A13: 등기구 "O" TYPE | B13: LED 30W 다운라이트 8" | C13: 개 | D13: 8 | N13: 53BD73CD2F4BEA6D30CC9F21E38892 | Q13: 0101 | R13: T | S13: F | T13: F | AU13: 010153BD73CD2F4BEA6D30CC9F21E38892 | AV13: 11
A14: 등기구 "P" TYPE | B14: LED 10W COB | C14: 개 | D14: 8 | N14: 53BD73CD2F4BEA6D30CC9F21E38A42 | Q14: 0101 | R14: T | S14: F | T14: F | AU14: 010153BD73CD2F4BEA6D30CC9F21E38A42 | AV14: 10
A15: 등기구 "Q" TYPE | B15: LED 15W 센서등 | C15: 개 | D15: 26 | N15: 53BD73CD2F4BEA6D30CC9F21E38A45 | Q15: 0101 | R15: T | S15: F | T15: F | AU15: 010153BD73CD2F4BEA6D30CC9F21E38A45 | AV15: 12
A16: 등기구 "R" TYPE | B16: LED 15W 원형직부등 | C16: 개 | D16: 8 | N16: 53BD73CD2F4BEA6D30CC9F21E38A44 | Q16: 0101 | R16: T | S16: F | T16: F | AU16: 010153BD73CD2F4BEA6D30CC9F21E38A44 | AV16: 13
A17: 등기구 "S" TYPE | B17: LED 12W 벽부등 | C17: 개 | D17: 8 | N17: 53BD73CD2F4BEA6D30CC9F21E38A47 | Q17: 0101 | R17: T | S17: F | T17: F | AU17: 010153BD73CD2F4BEA6D30CC9F21E38A47 | AV17: 14
... A31: 등기구 (철거) | B31: LED 6W/2 비상조명등 | C31: 개 | D31: 33 | N31: 53BD73CD2F4BEA6D30CC9F20DE470C | Q31: 0101 | R31: T | S31: F | T31: F | AU31: 010153BD73CD2F4BEA6D30CC9F20DE470C | AV31: 28
Q32: 0101
Q33: 0101
Q34: 0101
Q35: 0101
Q36: 0101
Q37: 0101
Q38: 0101
Q39: 0101
Q40: 0101
Q41: 0101
Q42: 0101
Q43: 0101
... Q49: 0101
A50: [ 합 계 ] | N50: TOTAL
A51: 0102 체육관 전등설비공사 | Q51: 0102
A52: 등기구 "A" TYPE | B52: LED 40W 평판등 (M바) 300x1200 | C52: 개 | D52: 198 | N52: 53BD73CD2F4BEA6D30CC9F21E2EDDB | Q52: 0102 | R52: T | S52: F | T52: F | AU52: 010253BD73CD2F4BEA6D30CC9F21E2EDDB | AV52: 139
A53: 등기구 "G" TYPE | B53: LED 25W 평판등 (M바) 300x600 | C53: 개 | D53: 78 | N53: 53BD73CD2F4BEA6D30CC9F21E2EC32 | Q53: 0102 | R53: T | S53: F | T53: F | AU53: 010253BD73CD2F4BEA6D30CC9F21E2EC32 | AV53: 140
A54: 등기구 "H" TYPE | B54: LED 25W 직부등 300x600 | C54: 개 | D54: 6 | N54: 53BD73CD2F4BEA6D30CC9F21E389BB | Q54: 0102 | R54: T | S54: F | T54: F | AU54: 010253BD73CD2F4BEA6D30CC9F21E389BB | AV54: 141
A55: 등기구 "I" TYPE | B55: LED 40W 레이스웨이등 | C55: 개 | D55: 44 | N55: 53BD73CD2F4BEA6D30CC9F21E38FC1 | Q55: 0102 | R55: T | S55: F | T55: F | AU55: 010253BD73CD2F4BEA6D30CC9F21E38FC1 | AV55: 142
A56: 등기구 "N" TYPE | B56: LED 10W 다운라이트 6" | C56: 개 | D56: 86 | N56: 53BD73CD2F4BEA6D30CC9F21E38A43 | Q56: 0102 | R56: T | S56: F | T56: F | AU56: 010253BD73CD2F4BEA6D30CC9F21E38A43 | AV56: 143
A57: 등기구 "Q" TYPE | B57: LED 15W 센서등 | C57: 개 | D57: 3 | N57: 53BD73CD2F4BEA6D30CC9F21E38A45 | Q57: 0102 | R57: T | S57: F | T57: F | AU57: 010253BD73CD2F4BEA6D30CC9F21E38A45 | AV57: 144
A58: 등기구 "R" TYPE | B58: LED 15W 원형직부등 | C58: 개 | D58: 31 | N58: 53BD73CD2F4BEA6D30CC9F21E38A44 | Q58: 0102 | R58: T | S58: F | T58: F | AU58: 010253BD73CD2F4BEA6D30CC9F21E38A44 | AV58: 145
...

Sheet 관급표지
A3: ='표지 '!A3:L3 -> 국립경국대학교 학생회관 및 체육관 조도 개선 공사
A6: 관 급 자 재 내 역 서
A12: ='표지 '!A12 -> 2026

Sheet 관급집계
A1: 관 급 자 재 집 계 표
A2: [ 국립경국대학교 학생회관 및 체육관 조도 개선 공사 ]
A3: 품 명 | B3: 규 격 | C3: 단위 | D3: 수량 | E3: 재 료 비 | G3: 노 무 비 | I3: 경 비 | K3: 합 계 | M3: 비 고 | N3: 공종코드 | O3: 변수 | P3: 상위공종 | Q3: 공종구분 | R3: 공종레벨 | S3: 공종소계 | T3: 원가계산서 연결금액
E4: 단 가 | F4: 금 액 | G4: 단 가 | H4: 금 액 | I4: 단 가 | J4: 금 액 | K4: 단 가 | L4: 금 액
A5: 01 국립경국대학교 학생회관 및 체육관 조도 개선 공사 | D5: 1 | E5: =F6 -> 99576000 | F5: =E5*D5 -> 99576000 | G5: =H6 -> 0 | H5: =G5*D5 -> 0 | I5: =J6 -> 0 | J5: =I5*D5 -> 0 | K5: =E5+G5+I5 -> 99576000 | L5: =F5+H5+J5 -> 99576000 | N5: 01 | R5: 1
A6: 0103 관급자재비 | D6: 1 | E6: =F7 -> 99576000 | F6: =E6*D6 -> 99576000 | G6: =H7 -> 0 | H6: =G6*D6 -> 0 | I6: =J7 -> 0 | J6: =I6*D6 -> 0 | K6: =E6+G6+I6 -> 99576000 | L6: =F6+H6+J6 -> 99576000 | N6: 0103 | Q6: 3 | R6: 2 | T6: =L6*1 -> 99576000
A7: 010301 LED조명기구 구매 | D7: 1 | E7: =관급내역서!F27 -> 99576000 | F7: =E7*D7 -> 99576000 | G7: =관급내역서!H27 -> 0 | H7: =G7*D7 -> 0 | I7: =관급내역서!J27 -> 0 | J7: =I7*D7 -> 0 | K7: =E7+G7+I7 -> 99576000 | L7: =F7+H7+J7 -> 99576000 | N7: 010301 | P7: 0103 | R7: 3
A27: [ 합 계 ] | F27: =F5 -> 99576000 | H27: =H5 -> 0 | J27: =J5 -> 0 | L27: =L5 -> 99576000

Sheet 관급내역서
A1: 관 급 자 재 내 역 서
A2: [ 국립경국대학교 학생회관 및 체육관 조도 개선 공사 ]
A3: 품 명 | B3: 규 격 | C3: 단위 | D3: 수량 | E3: 재 료 비 | G3: 노 무 비 | I3: 경 비 | K3: 합 계 | M3: 비 고 | N3: 품목코드 | O3: 변수 | P3: 설정 | Q3: 공종코드 | R3: 일위 | S3: 단산 | T3: 자재 | U3: 손료적용 | V3: 손료저장 | W3: 적용율 | X3: JUK1 | Y3: JUK2 | Z3: JUK3 | AA3: JUK4 | AB3: JUK5 | AC3: JUK6 | AD3: JUK7 | AE3: JUK8 | AF3: JUK9 | AG3: JUK10 | AH3: JUK11 | AI3: JUK12 | AJ3: JUK13 | AK3: JUK14 | AL3: JUK15 | AM3: JUK16 | AN3: JUK17 | AO3: JUK18 | AP3: JUK19 | AQ3: JUK20 | AR3: 자재구분 | AS3: 공종구분 | AT3: 공종레벨 | AU3: 공종+자재 | AV3: 고유번호
E4: 단 가 | F4: 금 액 | G4: 단 가 | H4: 금 액 | I4: 단 가 | J4: 금 액 | K4: 단 가 | L4: 금 액
A5: 010301 LED조명기구 구매 | B5: 관급자재비 | Q5: 010301
A6: 등기구 "A" TYPE | B6: LED 40W 평판등 (M바) 300x1200 | C6: EA | D6: 712 | E6: =TRUNC(단가대비표!O5,0) -> 90000 | F6: =TRUNC(E6*D6, 0) -> 64080000 | G6: =TRUNC(단가대비표!P5,0) -> 0 | H6: =TRUNC(G6*D6, 0) -> 0 | I6: =TRUNC(단가대비표!V5,0) -> 0 | J6: =TRUNC(I6*D6, 0) -> 0 | K6: =TRUNC(E6+G6+I6, 0) -> 90000 | L6: =TRUNC(F6+H6+J6, 0) -> 64080000 | N6: 54DF23332F4EE8646B5598A641A49570F3BAAF | Q6: 010301 | R6: F | S6: F | T6: T | AU6: 01030154DF23332F4EE8646B5598A641A49570F3BAAF | AV6: 157
A7: 등기구 "C" TYPE | B7: LED 40W 직부등 (C바) 300x1200 | C7: EA | D7: 13 | E7: =TRUNC(단가대비표!O6,0) -> 90000 | F7: =TRUNC(E7*D7, 0) -> 1170000 | G7: =TRUNC(단가대비표!P6,0) -> 0 | H7: =TRUNC(G7*D7, 0) -> 0 | I7: =TRUNC(단가대비표!V6,0) -> 0 | J7: =TRUNC(I7*D7, 0) -> 0 | K7: =TRUNC(E7+G7+I7, 0) -> 90000 | L7: =TRUNC(F7+H7+J7, 0) -> 1170000 | N7: 54DF23332F4EE8646B5598A641A49570F3BAAD | Q7: 010301 | R7: F | S7: F | T7: T | AU7: 01030154DF23332F4EE8646B5598A641A49570F3BAAD | AV7: 158
A8: 등기구 "E" TYPE | B8: LED 40W 방습등 | C8: EA | D8: 2 | E8: =TRUNC(단가대비표!O7,0) -> 110000 | F8: =TRUNC(E8*D8, 0) -> 220000 | G8: =TRUNC(단가대비표!P7,0) -> 0 | H8: =TRUNC(G8*D8, 0) -> 0 | I8: =TRUNC(단가대비표!V7,0) -> 0 | J8: =TRUNC(I8*D8, 0) -> 0 | K8: =TRUNC(E8+G8+I8, 0) -> 110000 | L8: =TRUNC(F8+H8+J8, 0) -> 220000 | N8: 54DF23332F4EE8646B5598A641A49570F3BAAB | Q8: 010301 | R8: F | S8: F | T8: T | AU8: 01030154DF23332F4EE8646B5598A641A49570F3BAAB | AV8: 159
A9: 등기구 "F" TYPE | B9: LED 40W 평판등 (C바) 600x600 | C9: EA | D9: 33 | E9: =TRUNC(단가대비표!O8,0) -> 94000 | F9: =TRUNC(E9*D9, 0) -> 3102000 | G9: =TRUNC(단가대비표!P8,0) -> 0 | H9: =TRUNC(G9*D9, 0) -> 0 | I9: =TRUNC(단가대비표!V8,0) -> 0 | J9: =TRUNC(I9*D9, 0) -> 0 | K9: =TRUNC(E9+G9+I9, 0) -> 94000 | L9: =TRUNC(F9+H9+J9, 0) -> 3102000 | N9: 54DF23332F4EE8646B5598A641A49570F3BAAA | Q9: 010301 | R9: F | S9: F | T9: T | AU9: 01030154DF23332F4EE8646B5598A641A49570F3BAAA | AV9: 160
A10: 등기구 "G" TYPE | B10: LED 25W 평판등 (M바) 300x600 | C10: EA | D10: 83 | E10: =TRUNC(단가대비표!O9,0) -> 72000 | F10: =TRUNC(E10*D10, 0) -> 5976000 | G10: =TRUNC(단가대비표!P9,0) -> 0 | H10: =TRUNC(G10*D10, 0) -> 0 | I10: =TRUNC(단가대비표!V9,0) -> 0 | J10: =TRUNC(I10*D10, 0) -> 0 | K10: =TRUNC(E10+G10+I10, 0) -> 72000 | L10: =TRUNC(F10+H10+J10, 0) -> 5976000 | N10: 54DF23332F4EE8646B5598A641A49570F3BAA9 | Q10: 010301 | R10: F | S10: F | T10: T | AU10: 01030154DF23332F4EE8646B5598A641A49570F3BAA9 | AV10: 161
A11: 등기구 "H" TYPE | B11: LED 25W 직부등 300x600 | C11: EA | D11: 6 | E11: =TRUNC(단가대비표!O10,0) -> 72000 | F11: =TRUNC(E11*D11, 0) -> 432000 | G11: =TRUNC(단가대비표!P10,0) -> 0 | H11: =TRUNC(G11*D11, 0) -> 0 | I11: =TRUNC(단가대비표!V10,0) -> 0 | J11: =TRUNC(I11*D11, 0) -> 0 | K11: =TRUNC(E11+G11+I11, 0) -> 72000 | L11: =TRUNC(F11+H11+J11, 0) -> 432000 | N11: 54DF23332F4EE8646B5598A641A49570F3BAA8 | Q11: 010301 | R11: F | S11: F | T11: T | AU11: 01030154DF23332F4EE8646B5598A641A49570F3BAA8 | AV11: 162
A12: 등기구 "I" TYPE | B12: LED 40W 레이스웨이등 | C12: EA | D12: 51 | E12: =TRUNC(단가대비표!O11,0) -> 88000 | F12: =TRUNC(E12*D12, 0) -> 4488000 | G12: =TRUNC(단가대비표!P11,0) -> 0 | H12: =TRUNC(G12*D12, 0) -> 0 | I12: =TRUNC(단가대비표!V11,0) -> 0 | J12: =TRUNC(I12*D12, 0) -> 0 | K12: =TRUNC(E12+G12+I12, 0) -> 88000 | L12: =TRUNC(F12+H12+J12, 0) -> 4488000 | N12: 54DF23332F4EE8646B5598A641A49570F3BAA7 | Q12: 010301 | R12: F | S12: F | T12: T | AU12: 01030154DF23332F4EE8646B5598A641A49570F3BAA7 | AV12: 163
A13: 등기구 "N" TYPE | B13: LED 10W 다운라이트 6" | C13: EA | D13: 308 | E13: =TRUNC(단가대비표!O12,0) -> 28000 | F13: =TRUNC(E13*D13, 0) -> 8624000 | G13: =TRUNC(단가대비표!P12,0) -> 0 | H13: =TRUNC(G13*D13, 0) -> 0 | I13: =TRUNC(단가대비표!V12,0) -> 0 | J13: =TRUNC(I13*D13, 0) -> 0 | K13: =TRUNC(E13+G13+I13, 0) -> 28000 | L13: =TRUNC(F13+H13+J13, 0) -> 8624000 | N13: 54DF23332F4EE8646B5598A641A49570F3BBB5 | Q13: 010301 | R13: F | S13: F | T13: T | AU13: 01030154DF23332F4EE8646B5598A641A49570F3BBB5 | AV13: 164
A14: 등기구 "O" TYPE | B14: LED 30W 다운라이트 8" | C14: EA | D14: 8 | E14: =TRUNC(단가대비표!O13,0) -> 65000 | F14: =TRUNC(E14*D14, 0) -> 520000 | G14: =TRUNC(단가대비표!P13,0) -> 0 | H14: =TRUNC(G14*D14, 0) -> 0 | I14: =TRUNC(단가대비표!V13,0) -> 0 | J14: =TRUNC(I14*D14, 0) -> 0 | K14: =TRUNC(E14+G14+I14, 0) -> 65000 | L14: =TRUNC(F14+H14+J14, 0) -> 520000 | N14: 54DF23332F4EE8646B5598A641A49570F3BBB2 | Q14: 010301 | R14: F | S14: F | T14: T | AU14: 01030154DF23332F4EE8646B5598A641A49570F3BBB2 | AV14: 165
A15: 등기구 "P" TYPE | B15: LED 10W COB | C15: EA | D15: 8 | E15: =TRUNC(단가대비표!O14,0) -> 48000 | F15: =TRUNC(E15*D15, 0) -> 384000 | G15: =TRUNC(단가대비표!P14,0) -> 0 | H15: =TRUNC(G15*D15, 0) -> 0 | I15: =TRUNC(단가대비표!V14,0) -> 0 | J15: =TRUNC(I15*D15, 0) -> 0 | K15: =TRUNC(E15+G15+I15, 0) -> 48000 | L15: =TRUNC(F15+H15+J15, 0) -> 384000 | N15: 54DF23332F4EE8646B5598A641A49570F3BBB3 | Q15: 010301 | R15: F | S15: F | T15: T | AU15: 01030154DF23332F4EE8646B5598A641A49570F3BBB3 | AV15: 166
A16: 등기구 "Q" TYPE | B16: LED 15W 센서등 | C16: EA | D16: 29 | E16: =TRUNC(단가대비표!O15,0) -> 45000 | F16: =TRUNC(E16*D16, 0) -> 1305000 | G16: =TRUNC(단가대비표!P15,0) -> 0 | H16: =TRUNC(G16*D16, 0) -> 0 | I16: =TRUNC(단가대비표!V15,0) -> 0 | J16: =TRUNC(I16*D16, 0) -> 0 | K16: =TRUNC(E16+G16+I16, 0) -> 45000 | L16: =TRUNC(F16+H16+J16, 0) -> 1305000 | N16: 54DF23332F4EE8646B5598A641A49570F3BBB0 | Q16: 010301 | R16: F | S16: F | T16: T | AU16: 01030154DF23332F4EE8646B5598A641A49570F3BBB0 | AV16: 167
A17: 등기구 "R" TYPE | B17: LED 15W 원형직부등 | C17: EA | D17: 39 | E17: =TRUNC(단가대비표!O16,0) -> 35000 | F17: =TRUNC(E17*D17, 0) -> 1365000 | G17: =TRUNC(단가대비표!P16,0) -> 0 | H17: =TRUNC(G17*D17, 0) -> 0 | I17: =TRUNC(단가대비표!V16,0) -> 0 | J17: =TRUNC(I17*D17, 0) -> 0 | K17: =TRUNC(E17+G17+I17, 0) -> 35000 | L17: =TRUNC(F17+H17+J17, 0) -> 1365000 | N17: 54DF23332F4EE8646B5598A641A49570F3BBB1 | Q17: 010301 | R17: F | S17: F | T17: T | AU17: 01030154DF23332F4EE8646B5598A641A49570F3BBB1 | AV17: 168
... A19: 등기구 "T" TYPE | B19: LED 6W/2 비상조명등 | C19: EA | D19: 33 | E19: =TRUNC(단가대비표!O18,0) -> 220000 | F19: =TRUNC(E19*D19, 0) -> 7260000 | G19: =TRUNC(단가대비표!P18,0) -> 0 | H19: =TRUNC(G19*D19, 0) -> 0 | I19: =TRUNC(단가대비표!V18,0) -> 0 | J19: =TRUNC(I19*D19, 0) -> 0 | K19: =TRUNC(E19+G19+I19, 0) -> 220000 | L19: =TRUNC(F19+H19+J19, 0) -> 7260000 | N19: 54DF23332F4EE8646B5598A641A49570F3BBBF | Q19: 010301 | R19: F | S19: F | T19: T | AU19: 01030154DF23332F4EE8646B5598A641A49570F3BBBF | AV19: 170
Q20: 010301
Q21: 010301
Q22: 010301
Q23: 010301
Q24: 010301
Q25: 010301
Q26: 010301
A27: [ 합 계 ] | F27: =SUMIF(Q6:Q26,"010301",F6:F26) -> 99576000 | H27: =SUMIF(Q6:Q26,"010301",H6:H26) -> 0 | J27: =SUMIF(Q6:Q26,"010301",J6:J26) -> 0 | L27: =SUMIF(Q6:Q26,"010301",L6:L26) -> 99576000 | N27: TOTAL

Sheet 일위표지
A3: ='표지 '!A3:L3 -> 국립경국대학교 학생회관 및 체육관 조도 개선 공사
A6: 일 위 대 가 표
A12: ='표지 '!A12 -> 2026

Sheet 일위대가목록
B1: 일 위 대 가 목 록
B2: [ 국립경국대학교 학생회관 및 체육관 조도 개선 공사 ]
A3: 코 드 | B3: 품 명 | C3: 규 격 | D3: 단위 | E3: 재 료 비 | F3: 노 무 비 | G3: 경 비 | H3: 합 계 | I3: 번 호 | J3: 비 고 | K3: 노임계수 | L3: 할증 | M3: 품셈개요 | N3: 장비일위
A4: 53BD73CD2F4BEA6D30CC9F21E38A43 | B4: 등기구 "N" TYPE | C4: LED 10W 다운라이트 6" | D4: 개 | E4: =일위대가!F9 -> 916 | F4: =일위대가!H9 -> 30542 | G4: =일위대가!J9 -> 0 | H4: =E4+F4+G4 -> 31458 | I4: 호표 1 | M4: 전기 5-25-3.8
A5: 53BD73CD2F4BEA6D30CC9F21E38A42 | B5: 등기구 "P" TYPE | C5: LED 10W COB | D5: 개 | E5: =일위대가!F15 -> 916 | F5: =일위대가!H15 -> 30542 | G5: =일위대가!J15 -> 0 | H5: =E5+F5+G5 -> 31458 | I5: 호표 2 | M5: 전기 5-25-3.8
A6: 53BD73CD2F4BEA6D30CC9F21E38A45 | B6: 등기구 "Q" TYPE | C6: LED 15W 센서등 | D6: 개 | E6: =일위대가!F21 -> 691 | F6: =일위대가!H21 -> 23043 | G6: =일위대가!J21 -> 0 | H6: =E6+F6+G6 -> 23734 | I6: 호표 3 | M6: 전기 5-25-3.8
A7: 53BD73CD2F4BEA6D30CC9F21E38A44 | B7: 등기구 "R" TYPE | C7: LED 15W 원형직부등 | D7: 개 | E7: =일위대가!F27 -> 691 | F7: =일위대가!H27 -> 23043 | G7: =일위대가!J27 -> 0 | H7: =E7+F7+G7 -> 23734 | I7: 호표 4 | M7: 전기 5-25-3.8
A8: 53BD73CD2F4BEA6D30CC9F21E38A47 | B8: 등기구 "S" TYPE | C8: LED 12W 벽부등 | D8: 개 | E8: =일위대가!F33 -> 691 | F8: =일위대가!H33 -> 23043 | G8: =일위대가!J33 -> 0 | H8: =E8+F8+G8 -> 23734 | I8: 호표 5 | M8: 전기 5-25-3.8
A9: 53BD73CD2F4BEA6D30CC9F21E38A46 | B9: 등기구 "T" TYPE | C9: LED 6W/2 비상조명등 | D9: 개 | E9: =일위대가!F39 -> 691 | F9: =일위대가!H39 -> 23043 | G9: =일위대가!J39 -> 0 | H9: =E9+F9+G9 -> 23734 | I9: 호표 6 | M9: 전기 5-25-3.8
A10: 53BD73CD2F4BEA6D30CC9F21E389BB | B10: 등기구 "H" TYPE | C10: LED 25W 직부등 300x600 | D10: 개 | E10: =일위대가!F45 -> 816 | F10: =일위대가!H45 -> 27203 | G10: =일위대가!J45 -> 0 | H10: =E10+F10+G10 -> 28019 | I10: 호표 7 | M10: 전기 5-25-3.8
A11: 53BD73CD2F4BEA6D30CC9F21E38892 | B11: 등기구 "O" TYPE | C11: LED 30W 다운라이트 8" | D11: 개 | E11: =일위대가!F51 -> 1229 | F11: =일위대가!H51 -> 40996 | G11: =일위대가!J51 -> 0 | H11: =E11+F11+G11 -> 42225 | I11: 호표 8 | M11: 전기 5-25-3.8
A12: 53BD73CD2F4BEA6D30CC9F21E38FC3 | B12: 등기구 "C" TYPE | C12: LED 40W 직부등 (C바) 300x1200 | D12: 개 | E12: =일위대가!F57 -> 1306 | F12: =일위대가!H57 -> 43541 | G12: =일위대가!J57 -> 0 | H12: =E12+F12+G12 -> 44847 | I12: 호표 9 | M12: 전기 5-25-3.8
A13: 53BD73CD2F4BEA6D30CC9F21E38FC0 | B13: 등기구 "E" TYPE | C13: LED 40W 방습등 | D13: 개 | E13: =일위대가!F63 -> 1306 | F13: =일위대가!H63 -> 43541 | G13: =일위대가!J63 -> 0 | H13: =E13+F13+G13 -> 44847 | I13: 호표 10 | M13: 전기 5-25-3.8
A14: 53BD73CD2F4BEA6D30CC9F21E38FC1 | B14: 등기구 "I" TYPE | C14: LED 40W 레이스웨이등 | D14: 개 | E14: =일위대가!F69 -> 1306 | F14: =일위대가!H69 -> 43541 | G14: =일위대가!J69 -> 0 | H14: =E14+F14+G14 -> 44847 | I14: 호표 11 | M14: 전기 5-25-3.8
A15: 53BD73CD2F4BEA6D30CC9F21E2EC32 | B15: 등기구 "G" TYPE | C15: LED 25W 평판등 (M바) 300x600 | D15: 개 | E15: =일위대가!F75 -> 1430 | F15: =일위대가!H75 -> 47674 | G15: =일위대가!J75 -> 0 | H15: =E15+F15+G15 -> 49104 | I15: 호표 12 | M15: 전기 5-25-3.8
A16: 53BD73CD2F4BEA6D30CC9F21E2EDDB | B16: 등기구 "A" TYPE | C16: LED 40W 평판등 (M바) 300x1200 | D16: 개 | E16: =일위대가!F81 -> 1555 | F16: =일위대가!H81 -> 51834 | G16: =일위대가!J81 -> 0 | H16: =E16+F16+G16 -> 53389 | I16: 호표 13 | M16: 전기 5-25-3.8
A17: 53BD73CD2F4BEA6D30CC9F21E2EDDE | B17: 등기구 "F" TYPE | C17: LED 40W 평판등 (C바) 600x600 | D17: 개 | E17: =일위대가!F87 -> 1555 | F17: =일위대가!H87 -> 51834 | G17: =일위대가!J87 -> 0 | H17: =E17+F17+G17 -> 53389 | I17: 호표 14 | M17: 전기 5-25-3.8
A18: 53BD73CD2F4BEA6D30CC9F20DDA9FE | B18: 등기구 (철거) | C18: LED 40W 평판등 (M바) 300x1200 | D18: 개 | E18: =일위대가!F93 -> 466 | F18: =일위대가!H93 -> 15544 | G18: =일위대가!J93 -> 0 | H18: =E18+F18+G18 -> 16010 | I18: 호표 15 | M18: 전기 5-25-3.7.8
A19: 53BD73CD2F4BEA6D30CC9F20DDA9FB | B19: 등기구 (철거) | C19: LED 40W 평판등 (C바) 600x600 | D19: 개 | E19: =일위대가!F99 -> 466 | F19: =일위대가!H99 -> 15544 | G19: =일위대가!J99 -> 0 | H19: =E19+F19+G19 -> 16010 | I19: 호표 16 | M19: 전기 5-25-3.7.8
A20: 53BD73CD2F4BEA6D30CC9F20DDA9FA | B20: 등기구 (철거) | C20: LED 25W 평판등 (M바) 300x600 | D20: 개 | E20: =일위대가!F105 -> 429 | F20: =일위대가!H105 -> 14313 | G20: =일위대가!J105 -> 0 | H20: =E20+F20+G20 -> 14742 | I20: 호표 17 | M20: 전기 5-25-3.7.8
A21: 53BD73CD2F4BEA6D30CC9F20DDA9F9 | B21: 등기구 (철거) | C21: LED 40W 직부등 (C바) 300x1200 | D21: 개 | E21: =일위대가!F111 -> 391 | F21: =일위대가!H111 -> 13054 | G21: =일위대가!J111 -> 0 | H21: =E21+F21+G21 -> 13445 | I21: 호표 18 | M21: 전기 5-25-3.7.8
A22: 53BD73CD2F4BEA6D30CC9F20DDA9F8 | B22: 등기구 (철거) | C22: LED 25W 직부등 300x600 | D22: 개 | E22: =일위대가!F117 -> 244 | F22: =일위대가!H117 -> 8155 | G22: =일위대가!J117 -> 0 | H22: =E22+F22+G22 -> 8399 | I22: 호표 19 | M22: 전기 5-25-3.7.8
A23: 53BD73CD2F4BEA6D30CC9F20DE4665 | B23: 등기구 (철거) | C23: LED 40W 방습등 | D23: 개 | E23: =일위대가!F123 -> 391 | F23: =일위대가!H123 -> 13054 | G23: =일위대가!J123 -> 0 | H23: =E23+F23+G23 -> 13445 | I23: 호표 20 | M23: 전기 5-25-3.7.8
A24: 53BD73CD2F4BEA6D30CC9F20DE4664 | B24: 등기구 (철거) | C24: LED 40W 레이스웨이등 | D24: 개 | E24: =일위대가!F129 -> 391 | F24: =일위대가!H129 -> 13054 | G24: =일위대가!J129 -> 0 | H24: =E24+F24+G24 -> 13445 | I24: 호표 21 | M24: 전기 5-25-3.7.8
A25: 53BD73CD2F4BEA6D30CC9F20DE4666 | B25: 등기구 (철거) | C25: LED 10W 다운라이트 6" | D25: 개 | E25: =일위대가!F135 -> 275 | F25: =일위대가!H135 -> 9168 | G25: =일위대가!J135 -> 0 | H25: =E25+F25+G25 -> 9443 | I25: 호표 22 | M25: 전기 5-25-3.7.8
A26: 53BD73CD2F4BEA6D30CC9F20DE4661 | B26: 등기구 (철거) | C26: LED 30W 다운라이트 8" | D26: 개 | E26: =일위대가!F141 -> 368 | F26: =일위대가!H141 -> 12288 | G26: =일위대가!J141 -> 0 | H26: =E26+F26+G26 -> 12656 | I26: 호표 23 | M26: 전기 5-25-3.7.8
A27: 53BD73CD2F4BEA6D30CC9F20DE4663 | B27: 등기구 (철거) | C27: LED 10W COB | D27: 개 | E27: =일위대가!F147 -> 275 | F27: =일위대가!H147 -> 9168 | G27: =일위대가!J147 -> 0 | H27: =E27+F27+G27 -> 9443 | I27: 호표 24 | M27: 전기 5-25-3.7.8
A28: 53BD73CD2F4BEA6D30CC9F20DE4662 | B28: 등기구 (철거) | C28: LED 15W 센서등 | D28: 개 | E28: =일위대가!F153 -> 207 | F28: =일위대가!H153 -> 6924 | G28: =일위대가!J153 -> 0 | H28: =E28+F28+G28 -> 7131 | I28: 호표 25 | M28: 전기 5-25-3.7.8
A29: 53BD73CD2F4BEA6D30CC9F20DE466D | B29: 등기구 (철거) | C29: LED 15W 원형직부등 | D29: 개 | E29: =일위대가!F159 -> 207 | F29: =일위대가!H159 -> 6924 | G29: =일위대가!J159 -> 0 | H29: =E29+F29+G29 -> 7131 | I29: 호표 26 | M29: 전기 5-25-3.7.8
A30: 53BD73CD2F4BEA6D30CC9F20DE466C | B30: 등기구 (철거) | C30: LED 12W 벽부등 | D30: 개 | E30: =일위대가!F165 -> 207 | F30: =일위대가!H165 -> 6924 | G30: =일위대가!J165 -> 0 | H30: =E30+F30+G30 -> 7131 | I30: 호표 27 | M30: 전기 5-25-3.7.8
A31: 53BD73CD2F4BEA6D30CC9F20DE470C | B31: 등기구 (철거) | C31: LED 6W/2 비상조명등 | D31: 개 | E31: =일위대가!F171 -> 207 | F31: =일위대가!H171 -> 6924 | G31: =일위대가!J171 -> 0 | H31: =E31+F31+G31 -> 7131 | I31: 호표 28 | M31: 전기 5-25-3.7.8

Sheet 일위대가
A1: 일 위 대 가
A2: [ 국립경국대학교 학생회관 및 체육관 조도 개선 공사 ]
A3: 품 명 | B3: 규 격 | C3: 단위 | D3: 수량 | E3: 재 료 비 | G3: 노 무 비 | I3: 경 비 | K3: 합 계 | M3: 비 고 | N3: 일위대가 | O3: 품목코드 | P3: 일위 | Q3: 단산 | R3: 자재 | S3: 손료적용 | T3: 손료저장 | U3: 적용율 | V3: JUK1 | W3: JUK2 | X3: JUK3 | Y3: JUK4 | Z3: JUK5 | AA3: JUK6 | AB3: JUK7 | AC3: JUK8 | AD3: JUK9 | AE3: JUK10 | AF3: JUK11 | AG3: JUK12 | AH3: JUK13 | AI3: JUK14 | AJ3: JUK15 | AK3: JUK16 | AL3: JUK17 | AM3: JUK18 | AN3: JUK19 | AO3: JUK20 | AP3: 할증적용 | AQ3: 할증저장 | AR3: 할증율 | AS3: HAL1 | AT3: HAL2 | AU3: HAL3 | AV3: 자재구분 | AW3: 일위대가+자재 | AX3: 장비일위 | AY3: 설정 | AZ3: 할증체크
E4: 단 가 | F4: 금 액 | G4: 단 가 | H4: 금 액 | I4: 단 가 | J4: 금 액 | K4: 단 가 | L4: 금 액
A5: 등기구 "N" TYPE LED 10W 다운라이트 6" 개 전기 5-25-3.8 ( 호표 1 ) | N5: 53BD73CD2F4BEA6D30CC9F21E38A43
A6: 등기구 "N" TYPE | B6: LED 10W 다운라이트 6" | C6: EA | D6: 1 | M6: 관급자재 | O6: 54DF23332F4EE8646B5598A641A49570F3BBB5 | P6: F | Q6: F | R6: T | AV6: 2 | AW6: 53BD73CD2F4BEA6D30CC9F21E38A4354DF23332F4EE8646B5598A641A49570F3BBB5
A7: 내선전공 | B7: 일반공사 직종 | C7: 인 | D7: =공량산출근거서_일위대가!K6 -> 0.1116 | E7: =단가대비표!O33 -> 0 | F7: =TRUNC(E7*D7,1) -> 0 | G7: =단가대비표!P33 -> 273676 | H7: =TRUNC(G7*D7,1) -> 30542.2 | I7: =단가대비표!V33 -> 0 | J7: =TRUNC(I7*D7,1) -> 0 | K7: =TRUNC(E7+G7+I7,1) -> 273676 | L7: =TRUNC(F7+H7+J7,1) -> 30542.2 | N7: 53BD73CD2F4BEA6D30CC9F21E38A43 | O7: 532453BF224A4C614F839A00DC5A45D535EA46 | P7: F | Q7: F | R7: T | V7: 1 | AW7: 53BD73CD2F4BEA6D30CC9F21E38A43532453BF224A4C614F839A00DC5A45D535EA46
A8: 공구손료 | B8: 인력품의 3% | C8: 식 | D8: 1 | E8: =TRUNC(SUMIF(V6:V8, RIGHTB(O8, 1), H6:H8)*U8, 2) -> 916.26 | F8: =TRUNC(E8*D8,1) -> 916.2 | G8: 0 | H8: =TRUNC(G8*D8,1) -> 0 | I8: 0 | J8: =TRUNC(I8*D8,1) -> 0 | K8: =TRUNC(E8+G8+I8,1) -> 916.2 | L8: =TRUNC(F8+H8+J8,1) -> 916.2 | N8: 53BD73CD2F4BEA6D30CC9F21E38A43 | O8: 52E8A3E42E41AC6D6E2891194DED001 | P8: F | Q8: F | R8: F | S8: 1 | T8: 0 | U8: 0.03 | AW8: 53BD73CD2F4BEA6D30CC9F21E38A4352E8A3E42E41AC6D6E2891194DED001
A9: [ 합 계 ] | F9: =TRUNC(SUMIF(N6:N8, N5, F6:F8),0) -> 916 | H9: =TRUNC(SUMIF(N6:N8, N5, H6:H8),0) -> 30542 | J9: =TRUNC(SUMIF(N6:N8, N5, J6:J8),0) -> 0 | L9: =F9+H9+J9 -> 31458 | N9: TOTAL | O9: TOTAL
A11: 등기구 "P" TYPE LED 10W COB 개 전기 5-25-3.8 ( 호표 2 ) | N11: 53BD73CD2F4BEA6D30CC9F21E38A42
A12: 등기구 "P" TYPE | B12: LED 10W COB | C12: EA | D12: 1 | M12: 관급자재 | O12: 54DF23332F4EE8646B5598A641A49570F3BBB3 | P12: F | Q12: F | R12: T | AV12: 2 | AW12: 53BD73CD2F4BEA6D30CC9F21E38A4254DF23332F4EE8646B5598A641A49570F3BBB3
A13: 내선전공 | B13: 일반공사 직종 | C13: 인 | D13: =공량산출근거서_일위대가!K9 -> 0.1116 | E13: =단가대비표!O33 -> 0 | F13: =TRUNC(E13*D13,1) -> 0 | G13: =단가대비표!P33 -> 273676 | H13: =TRUNC(G13*D13,1) -> 30542.2 | I13: =단가대비표!V33 -> 0 | J13: =TRUNC(I13*D13,1) -> 0 | K13: =TRUNC(E13+G13+I13,1) -> 273676 | L13: =TRUNC(F13+H13+J13,1) -> 30542.2 | N13: 53BD73CD2F4BEA6D30CC9F21E38A42 | O13: 532453BF224A4C614F839A00DC5A45D535EA46 | P13: F | Q13: F | R13: T | V13: 1 | AW13: 53BD73CD2F4BEA6D30CC9F21E38A42532453BF224A4C614F839A00DC5A45D535EA46
A14: 공구손료 | B14: 인력품의 3% | C14: 식 | D14: 1 | E14: =TRUNC(SUMIF(V12:V14, RIGHTB(O14, 1), H12:H14)*U14, 2) -> 916.26 | F14: =TRUNC(E14*D14,1) -> 916.2 | G14: 0 | H14: =TRUNC(G14*D14,1) -> 0 | I14: 0 | J14: =TRUNC(I14*D14,1) -> 0 | K14: =TRUNC(E14+G14+I14,1) -> 916.2 | L14: =TRUNC(F14+H14+J14,1) -> 916.2 | N14: 53BD73CD2F4BEA6D30CC9F21E38A42 | O14: 52E8A3E42E41AC6D6E2891194DED001 | P14: F | Q14: F | R14: F | S14: 1 | T14: 0 | U14: 0.03 | AW14: 53BD73CD2F4BEA6D30CC9F21E38A4252E8A3E42E41AC6D6E2891194DED001
A15: [ 합 계 ] | F15: =TRUNC(SUMIF(N12:N14, N11, F12:F14),0) -> 916 | H15: =TRUNC(SUMIF(N12:N14, N11, H12:H14),0) -> 30542 | J15: =TRUNC(SUMIF(N12:N14, N11, J12:J14),0) -> 0 | L15: =F15+H15+J15 -> 31458 | N15: TOTAL | O15: TOTAL
A17: 등기구 "Q" TYPE LED 15W 센서등 개 전기 5-25-3.8 ( 호표 3 ) | N17: 53BD73CD2F4BEA6D30CC9F21E38A45
A18: 등기구 "Q" TYPE | B18: LED 15W 센서등 | C18: EA | D18: 1 | M18: 관급자재 | O18: 54DF23332F4EE8646B5598A641A49570F3BBB0 | P18: F | Q18: F | R18: T | AV18: 2 | AW18: 53BD73CD2F4BEA6D30CC9F21E38A4554DF23332F4EE8646B5598A641A49570F3BBB0
A19: 내선전공 | B19: 일반공사 직종 | C19: 인 | D19: =공량산출근거서_일위대가!K12 -> 0.0842 | E19: =단가대비표!O33 -> 0 | F19: =TRUNC(E19*D19,1) -> 0 | G19: =단가대비표!P33 -> 273676 | H19: =TRUNC(G19*D19,1) -> 23043.5 | I19: =단가대비표!V33 -> 0 | J19: =TRUNC(I19*D19,1) -> 0 | K19: =TRUNC(E19+G19+I19,1) -> 273676 | L19: =TRUNC(F19+H19+J19,1) -> 23043.5 | N19: 53BD73CD2F4BEA6D30CC9F21E38A45 | O19: 532453BF224A4C614F839A00DC5A45D535EA46 | P19: F | Q19: F | R19: T | V19: 1 | AW19: 53BD73CD2F4BEA6D30CC9F21E38A45532453BF224A4C614F839A00DC5A45D535EA46
A20: 공구손료 | B20: 인력품의 3% | C20: 식 | D20: 1 | E20: =TRUNC(SUMIF(V18:V20, RIGHTB(O20, 1), H18:H20)*U20, 2) -> 691.3 | F20: =TRUNC(E20*D20,1) -> 691.3 | G20: 0 | H20: =TRUNC(G20*D20,1) -> 0 | I20: 0 | J20: =TRUNC(I20*D20,1) -> 0 | K20: =TRUNC(E20+G20+I20,1) -> 691.3 | L20: =TRUNC(F20+H20+J20,1) -> 691.3 | N20: 53BD73CD2F4BEA6D30CC9F21E38A45 | O20: 52E8A3E42E41AC6D6E2891194DED001 | P20: F | Q20: F | R20: F | S20: 1 | T20: 0 | U20: 0.03 | AW20: 53BD73CD2F4BEA6D30CC9F21E38A4552E8A3E42E41AC6D6E2891194DED001
A21: [ 합 계 ] | F21: =TRUNC(SUMIF(N18:N20, N17, F18:F20),0) -> 691 | H21: =TRUNC(SUMIF(N18:N20, N17, H18:H20),0) -> 23043 | J21: =TRUNC(SUMIF(N18:N20, N17, J18:J20),0) -> 0 | L21: =F21+H21+J21 -> 23734 | N21: TOTAL | O21: TOTAL
A23: 등기구 "R" TYPE LED 15W 원형직부등 개 전기 5-25-3.8 ( 호표 4 ) | N23: 53BD73CD2F4BEA6D30CC9F21E38A44
A24: 등기구 "R" TYPE | B24: LED 15W 원형직부등 | C24: EA | D24: 1 | M24: 관급자재 | O24: 54DF23332F4EE8646B5598A641A49570F3BBB1 | P24: F | Q24: F | R24: T | AV24: 2 | AW24: 53BD73CD2F4BEA6D30CC9F21E38A4454DF23332F4EE8646B5598A641A49570F3BBB1
A25: 내선전공 | B25: 일반공사 직종 | C25: 인 | D25: =공량산출근거서_일위대가!K15 -> 0.0842 | E25: =단가대비표!O33 -> 0 | F25: =TRUNC(E25*D25,1) -> 0 | G25: =단가대비표!P33 -> 273676 | H25: =TRUNC(G25*D25,1) -> 23043.5 | I25: =단가대비표!V33 -> 0 | J25: =TRUNC(I25*D25,1) -> 0 | K25: =TRUNC(E25+G25+I25,1) -> 273676 | L25: =TRUNC(F25+H25+J25,1) -> 23043.5 | N25: 53BD73CD2F4BEA6D30CC9F21E38A44 | O25: 532453BF224A4C614F839A00DC5A45D535EA46 | P25: F | Q25: F | R25: T | V25: 1 | AW25: 53BD73CD2F4BEA6D30CC9F21E38A44532453BF224A4C614F839A00DC5A45D535EA46
A26: 공구손료 | B26: 인력품의 3% | C26: 식 | D26: 1 | E26: =TRUNC(SUMIF(V24:V26, RIGHTB(O26, 1), H24:H26)*U26, 2) -> 691.3 | F26: =TRUNC(E26*D26,1) -> 691.3 | G26: 0 | H26: =TRUNC(G26*D26,1) -> 0 | I26: 0 | J26: =TRUNC(I26*D26,1) -> 0 | K26: =TRUNC(E26+G26+I26,1) -> 691.3 | L26: =TRUNC(F26+H26+J26,1) -> 691.3 | N26: 53BD73CD2F4BEA6D30CC9F21E38A44 | O26: 52E8A3E42E41AC6D6E2891194DED001 | P26: F | Q26: F | R26: F | S26: 1 | T26: 0 | U26: 0.03 | AW26: 53BD73CD2F4BEA6D30CC9F21E38A4452E8A3E42E41AC6D6E2891194DED001
A27: [ 합 계 ] | F27: =TRUNC(SUMIF(N24:N26, N23, F24:F26),0) -> 691 | H27: =TRUNC(SUMIF(N24:N26, N23, H24:H26),0) -> 23043 | J27: =TRUNC(SUMIF(N24:N26, N23, J24:J26),0) -> 0 | L27: =F27+H27+J27 -> 23734 | N27: TOTAL | O27: TOTAL
A29: 등기구 "S" TYPE LED 12W 벽부등 개 전기 5-25-3.8 ( 호표 5 ) | N29: 53BD73CD2F4BEA6D30CC9F21E38A47
A30: 등기구 "S" TYPE | B30: LED 12W 벽부등 | C30: EA | D30: 1 | M30: 관급자재 | O30: 54DF23332F4EE8646B5598A641A49570F3BBBE | P30: F | Q30: F | R30: T | AV30: 2 | AW30: 53BD73CD2F4BEA6D30CC9F21E38A4754DF23332F4EE8646B5598A641A49570F3BBBE
A31: 내선전공 | B31: 일반공사 직종 | C31: 인 | D31: =공량산출근거서_일위대가!K18 -> 0.0842 | E31: =단가대비표!O33 -> 0 | F31: =TRUNC(E31*D31,1) -> 0 | G31: =단가대비표!P33 -> 273676 | H31: =TRUNC(G31*D31,1) -> 23043.5 | I31: =단가대비표!V33 -> 0 | J31: =TRUNC(I31*D31,1) -> 0 | K31: =TRUNC(E31+G31+I31,1) -> 273676 | L31: =TRUNC(F31+H31+J31,1) -> 23043.5 | N31: 53BD73CD2F4BEA6D30CC9F21E38A47 | O31: 532453BF224A4C614F839A00DC5A45D535EA46 | P31: F | Q31: F | R31: T | V31: 1 | AW31: 53BD73CD2F4BEA6D30CC9F21E38A47532453BF224A4C614F839A00DC5A45D535EA46
A32: 공구손료 | B32: 인력품의 3% | C32: 식 | D32: 1 | E32: =TRUNC(SUMIF(V30:V32, RIGHTB(O32, 1), H30:H32)*U32, 2) -> 691.3 | F32: =TRUNC(E32*D32,1) -> 691.3 | G32: 0 | H32: =TRUNC(G32*D32,1) -> 0 | I32: 0 | J32: =TRUNC(I32*D32,1) -> 0 | K32: =TRUNC(E32+G32+I32,1) -> 691.3 | L32: =TRUNC(F32+H32+J32,1) -> 691.3 | N32: 53BD73CD2F4BEA6D30CC9F21E38A47 | O32: 52E8A3E42E41AC6D6E2891194DED001 | P32: F | Q32: F | R32: F | S32: 1 | T32: 0 | U32: 0.03 | AW32: 53BD73CD2F4BEA6D30CC9F21E38A4752E8A3E42E41AC6D6E2891194DED001
A33: [ 합 계 ] | F33: =TRUNC(SUMIF(N30:N32, N29, F30:F32),0) -> 691 | H33: =TRUNC(SUMIF(N30:N32, N29, H30:H32),0) -> 23043 | J33: =TRUNC(SUMIF(N30:N32, N29, J30:J32),0) -> 0 | L33: =F33+H33+J33 -> 23734 | N33: TOTAL | O33: TOTAL
A35: 등기구 "T" TYPE LED 6W/2 비상조명등 개 전기 5-25-3.8 ( 호표 6 ) | N35: 53BD73CD2F4BEA6D30CC9F21E38A46
A36: 등기구 "T" TYPE | B36: LED 6W/2 비상조명등 | C36: EA | D36: 1 | M36: 관급자재 | O36: 54DF23332F4EE8646B5598A641A49570F3BBBF | P36: F | Q36: F | R36: T | AV36: 2 | AW36: 53BD73CD2F4BEA6D30CC9F21E38A4654DF23332F4EE8646B5598A641A49570F3BBBF
A37: 내선전공 | B37: 일반공사 직종 | C37: 인 | D37: =공량산출근거서_일위대가!K21 -> 0.0842 | E37: =단가대비표!O33 -> 0 | F37: =TRUNC(E37*D37,1) -> 0 | G37: =단가대비표!P33 -> 273676 | H37: =TRUNC(G37*D37,1) -> 23043.5 | I37: =단가대비표!V33 -> 0 | J37: =TRUNC(I37*D37,1) -> 0 | K37: =TRUNC(E37+G37+I37,1) -> 273676 | L37: =TRUNC(F37+H37+J37,1) -> 23043.5 | N37: 53BD73CD2F4BEA6D30CC9F21E38A46 | O37: 532453BF224A4C614F839A00DC5A45D535EA46 | P37: F | Q37: F | R37: T | V37: 1 | AW37: 53BD73CD2F4BEA6D30CC9F21E38A46532453BF224A4C614F839A00DC5A45D535EA46
A38: 공구손료 | B38: 인력품의 3% | C38: 식 | D38: 1 | E38: =TRUNC(SUMIF(V36:V38, RIGHTB(O38, 1), H36:H38)*U38, 2) -> 691.3 | F38: =TRUNC(E38*D38,1) -> 691.3 | G38: 0 | H38: =TRUNC(G38*D38,1) -> 0 | I38: 0 | J38: =TRUNC(I38*D38,1) -> 0 | K38: =TRUNC(E38+G38+I38,1) -> 691.3 | L38: =TRUNC(F38+H38+J38,1) -> 691.3 | N38: 53BD73CD2F4BEA6D30CC9F21E38A46 | O38: 52E8A3E42E41AC6D6E2891194DED001 | P38: F | Q38: F | R38: F | S38: 1 | T38: 0 | U38: 0.03 | AW38: 53BD73CD2F4BEA6D30CC9F21E38A4652E8A3E42E41AC6D6E2891194DED001
A39: [ 합 계 ] | F39: =TRUNC(SUMIF(N36:N38, N35, F36:F38),0) -> 691 | H39: =TRUNC(SUMIF(N36:N38, N35, H36:H38),0) -> 23043 | J39: =TRUNC(SUMIF(N36:N38, N35, J36:J38),0) -> 0 | L39: =F39+H39+J39 -> 23734 | N39: TOTAL | O39: TOTAL
A41: 등기구 "H" TYPE LED 25W 직부등 300x600 개 전기 5-25-3.8 ( 호표 7 ) | N41: 53BD73CD2F4BEA6D30CC9F21E389BB
A42: 등기구 "H" TYPE | B42: LED 25W 직부등 300x600 | C42: EA | D42: 1 | M42: 관급자재 | O42: 54DF23332F4EE8646B5598A641A49570F3BAA8 | P42: F | Q42: F | R42: T | AV42: 2 | AW42: 53BD73CD2F4BEA6D30CC9F21E389BB54DF23332F4EE8646B5598A641A49570F3BAA8
A43: 내선전공 | B43: 일반공사 직종 | C43: 인 | D43: =공량산출근거서_일위대가!K24 -> 0.0994 | E43: =단가대비표!O33 -> 0 | F43: =TRUNC(E43*D43,1) -> 0 | G43: =단가대비표!P33 -> 273676 | H43: =TRUNC(G43*D43,1) -> 27203.3 | I43: =단가대비표!V33 -> 0 | J43: =TRUNC(I43*D43,1) -> 0 | K43: =TRUNC(E43+G43+I43,1) -> 273676 | L43: =TRUNC(F43+H43+J43,1) -> 27203.3 | N43: 53BD73CD2F4BEA6D30CC9F21E389BB | O43: 532453BF224A4C614F839A00DC5A45D535EA46 | P43: F | Q43: F | R43: T | V43: 1 | AW43: 53BD73CD2F4BEA6D30CC9F21E389BB532453BF224A4C614F839A00DC5A45D535EA46
A44: 공구손료 | B44: 인력품의 3% | C44: 식 | D44: 1 | E44: =TRUNC(SUMIF(V42:V44, RIGHTB(O44, 1), H42:H44)*U44, 2) -> 816.09 | F44: =TRUNC(E44*D44,1) -> 816 | G44: 0 | H44: =TRUNC(G44*D44,1) -> 0 | I44: 0 | J44: =TRUNC(I44*D44,1) -> 0 | K44: =TRUNC(E44+G44+I44,1) -> 816 | L44: =TRUNC(F44+H44+J44,1) -> 816 | N44: 53BD73CD2F4BEA6D30CC9F21E389BB | O44: 52E8A3E42E41AC6D6E2891194DED001 | P44: F | Q44: F | R44: F | S44: 1 | T44: 0 | U44: 0.03 | AW44: 53BD73CD2F4BEA6D30CC9F21E389BB52E8A3E42E41AC6D6E2891194DED001
A45: [ 합 계 ] | F45: =TRUNC(SUMIF(N42:N44, N41, F42:F44),0) -> 816 | H45: =TRUNC(SUMIF(N42:N44, N41, H42:H44),0) -> 27203 | J45: =TRUNC(SUMIF(N42:N44, N41, J42:J44),0) -> 0 | L45: =F45+H45+J45 -> 28019 | N45: TOTAL | O45: TOTAL
A47: 등기구 "O" TYPE LED 30W 다운라이트 8" 개 전기 5-25-3.8 ( 호표 8 ) | N47: 53BD73CD2F4BEA6D30CC9F21E38892
...

Sheet 공량산출근거서_일위대가
A1: 공 량 산 출 근 거 서
A2: [ 국립경국대학교 학생회관 및 체육관 조도 개선 공사 ]
A3: 코 드 | B3: 품 명 | C3: 규 격 | D3: 단위 | E3: 품 셈 목 록 | F3: 수 량 | G3: 할증 | H3: 노임할증-1 | I3: 노임할증-2 | J3: 노임할증-3 | K3: 내역수량 | L3: 직 종 명 | M3: 공 량 | N3: 계 | O3: 번 호 | P3: 비 고 | T3: 일위대가목록+자재 | V3: 내선전공 | W3: 일반공사 직종
B4: 등기구 "N" TYPE LED 10W 다운라이트 6" 개 (호표 1)
A5: 54DF23332F4EE8646B5598A641A49570F3BBB5 | B5: 등기구 "N" TYPE | C5: LED 10W 다운라이트 6" | D5: EA | E5: 전기품셈 5-25-3.8 | F5: 1 | G5: 0 | H5: -10 | K5: 1 | L5: 내선전공 | M5: =0.124*(H5+100)/100*(I5+100)/100*(J5+100)/100 -> 0.1116 | N5: =F5*M5 -> 0.1116 | O5: 노임 1 | Q5: 53BD73CD2F4BEA6D30CC9F21E38A43 | R5: 532453BF224A4C614F839A00DC5A45D535EA46 | S5: 0.124 | T5: 53BD73CD2F4BEA6D30CC9F21E38A4354DF23332F4EE8646B5598A641A49570F3BBB5 | V5: =N5 -> 0.1116
A6: 532453BF224A4C614F839A00DC5A45D535EA46 | B6: 내선전공 | C6: 일반공사 직종 | D6: 인 | F6: =SUM(V5:V5) -> 0.1116 | K6: =IF(ROUND(F6*공량설정_일위대가!B2/100, 공량설정_일위대가!C3) = 0, ROUND(F6*공량설정_일위대가!B2/100, 5), ROUND(F6*공량설정_일위대가!B2/100, 공량설정_일위대가!C3)) -> 0.1116 | O6: 노임 1 | Q6: 53BD73CD2F4BEA6D30CC9F21E38A43 | T6: 53BD73CD2F4BEA6D30CC9F21E38A43532453BF224A4C614F839A00DC5A45D535EA46
B7: 등기구 "P" TYPE LED 10W COB 개 (호표 2)
A8: 54DF23332F4EE8646B5598A641A49570F3BBB3 | B8: 등기구 "P" TYPE | C8: LED 10W COB | D8: EA | E8: 전기품셈 5-25-3.8 | F8: 1 | G8: 0 | H8: -10 | K8: 1 | L8: 내선전공 | M8: =0.124*(H8+100)/100*(I8+100)/100*(J8+100)/100 -> 0.1116 | N8: =F8*M8 -> 0.1116 | O8: 노임 1 | Q8: 53BD73CD2F4BEA6D30CC9F21E38A42 | R8: 532453BF224A4C614F839A00DC5A45D535EA46 | S8: 0.124 | T8: 53BD73CD2F4BEA6D30CC9F21E38A4254DF23332F4EE8646B5598A641A49570F3BBB3 | V8: =N8 -> 0.1116
A9: 532453BF224A4C614F839A00DC5A45D535EA46 | B9: 내선전공 | C9: 일반공사 직종 | D9: 인 | F9: =SUM(V8:V8) -> 0.1116 | K9: =IF(ROUND(F9*공량설정_일위대가!B4/100, 공량설정_일위대가!C5) = 0, ROUND(F9*공량설정_일위대가!B4/100, 5), ROUND(F9*공량설정_일위대가!B4/100, 공량설정_일위대가!C5)) -> 0.1116 | O9: 노임 1 | Q9: 53BD73CD2F4BEA6D30CC9F21E38A42 | T9: 53BD73CD2F4BEA6D30CC9F21E38A42532453BF224A4C614F839A00DC5A45D535EA46
B10: 등기구 "Q" TYPE LED 15W 센서등 개 (호표 3)
A11: 54DF23332F4EE8646B5598A641A49570F3BBB0 | B11: 등기구 "Q" TYPE | C11: LED 15W 센서등 | D11: EA | E11: 전기품셈 5-25-3.8 | F11: 1 | G11: 0 | H11: -10 | K11: 1 | L11: 내선전공 | M11: =0.0936*(H11+100)/100*(I11+100)/100*(J11+100)/100 -> 0.08424 | N11: =F11*M11 -> 0.08424 | O11: 노임 1 | Q11: 53BD73CD2F4BEA6D30CC9F21E38A45 | R11: 532453BF224A4C614F839A00DC5A45D535EA46 | S11: 0.0936 | T11: 53BD73CD2F4BEA6D30CC9F21E38A4554DF23332F4EE8646B5598A641A49570F3BBB0 | V11: =N11 -> 0.08424
A12: 532453BF224A4C614F839A00DC5A45D535EA46 | B12: 내선전공 | C12: 일반공사 직종 | D12: 인 | F12: =SUM(V11:V11) -> 0.08424 | K12: =IF(ROUND(F12*공량설정_일위대가!B6/100, 공량설정_일위대가!C7) = 0, ROUND(F12*공량설정_일위대가!B6/100, 5), ROUND(F12*공량설정_일위대가!B6/100, 공량설정_일위대가!C7)) -> 0.0842 | O12: 노임 1 | Q12: 53BD73CD2F4BEA6D30CC9F21E38A45 | T12: 53BD73CD2F4BEA6D30CC9F21E38A45532453BF224A4C614F839A00DC5A45D535EA46
B13: 등기구 "R" TYPE LED 15W 원형직부등 개 (호표 4)
A14: 54DF23332F4EE8646B5598A641A49570F3BBB1 | B14: 등기구 "R" TYPE | C14: LED 15W 원형직부등 | D14: EA | E14: 전기품셈 5-25-3.8 | F14: 1 | G14: 0 | H14: -10 | K14: 1 | L14: 내선전공 | M14: =0.0936*(H14+100)/100*(I14+100)/100*(J14+100)/100 -> 0.08424 | N14: =F14*M14 -> 0.08424 | O14: 노임 1 | Q14: 53BD73CD2F4BEA6D30CC9F21E38A44 | R14: 532453BF224A4C614F839A00DC5A45D535EA46 | S14: 0.0936 | T14: 53BD73CD2F4BEA6D30CC9F21E38A4454DF23332F4EE8646B5598A641A49570F3BBB1 | V14: =N14 -> 0.08424
A15: 532453BF224A4C614F839A00DC5A45D535EA46 | B15: 내선전공 | C15: 일반공사 직종 | D15: 인 | F15: =SUM(V14:V14) -> 0.08424 | K15: =IF(ROUND(F15*공량설정_일위대가!B8/100, 공량설정_일위대가!C9) = 0, ROUND(F15*공량설정_일위대가!B8/100, 5), ROUND(F15*공량설정_일위대가!B8/100, 공량설정_일위대가!C9)) -> 0.0842 | O15: 노임 1 | Q15: 53BD73CD2F4BEA6D30CC9F21E38A44 | T15: 53BD73CD2F4BEA6D30CC9F21E38A44532453BF224A4C614F839A00DC5A45D535EA46
B16: 등기구 "S" TYPE LED 12W 벽부등 개 (호표 5)
A17: 54DF23332F4EE8646B5598A641A49570F3BBBE | B17: 등기구 "S" TYPE | C17: LED 12W 벽부등 | D17: EA | E17: 전기품셈 5-25-3.8 | F17: 1 | G17: 0 | H17: -10 | K17: 1 | L17: 내선전공 | M17: =0.0936*(H17+100)/100*(I17+100)/100*(J17+100)/100 -> 0.08424 | N17: =F17*M17 -> 0.08424 | O17: 노임 1 | Q17: 53BD73CD2F4BEA6D30CC9F21E38A47 | R17: 532453BF224A4C614F839A00DC5A45D535EA46 | S17: 0.0936 | T17: 53BD73CD2F4BEA6D30CC9F21E38A4754DF23332F4EE8646B5598A641A49570F3BBBE | V17: =N17 -> 0.08424
A18: 532453BF224A4C614F839A00DC5A45D535EA46 | B18: 내선전공 | C18: 일반공사 직종 | D18: 인 | F18: =SUM(V17:V17) -> 0.08424 | K18: =IF(ROUND(F18*공량설정_일위대가!B10/100, 공량설정_일위대가!C11) = 0, ROUND(F18*공량설정_일위대가!B10/100, 5), ROUND(F18*공량설정_일위대가!B10/100, 공량설정_일위대가!C11)) -> 0.0842 | O18: 노임 1 | Q18: 53BD73CD2F4BEA6D30CC9F21E38A47 | T18: 53BD73CD2F4BEA6D30CC9F21E38A47532453BF224A4C614F839A00DC5A45D535EA46
B19: 등기구 "T" TYPE LED 6W/2 비상조명등 개 (호표 6)
A20: 54DF23332F4EE8646B5598A641A49570F3BBBF | B20: 등기구 "T" TYPE | C20: LED 6W/2 비상조명등 | D20: EA | E20: 전기품셈 5-25-3.8 | F20: 1 | G20: 0 | H20: -10 | K20: 1 | L20: 내선전공 | M20: =0.0936*(H20+100)/100*(I20+100)/100*(J20+100)/100 -> 0.08424 | N20: =F20*M20 -> 0.08424 | O20: 노임 1 | Q20: 53BD73CD2F4BEA6D30CC9F21E38A46 | R20: 532453BF224A4C614F839A00DC5A45D535EA46 | S20: 0.0936 | T20: 53BD73CD2F4BEA6D30CC9F21E38A4654DF23332F4EE8646B5598A641A49570F3BBBF | V20: =N20 -> 0.08424
A21: 532453BF224A4C614F839A00DC5A45D535EA46 | B21: 내선전공 | C21: 일반공사 직종 | D21: 인 | F21: =SUM(V20:V20) -> 0.08424 | K21: =IF(ROUND(F21*공량설정_일위대가!B12/100, 공량설정_일위대가!C13) = 0, ROUND(F21*공량설정_일위대가!B12/100, 5), ROUND(F21*공량설정_일위대가!B12/100, 공량설정_일위대가!C13)) -> 0.0842 | O21: 노임 1 | Q21: 53BD73CD2F4BEA6D30CC9F21E38A46 | T21: 53BD73CD2F4BEA6D30CC9F21E38A46532453BF224A4C614F839A00DC5A45D535EA46
B22: 등기구 "H" TYPE LED 25W 직부등 300x600 개 (호표 7)
A23: 54DF23332F4EE8646B5598A641A49570F3BAA8 | B23: 등기구 "H" TYPE | C23: LED 25W 직부등 300x600 | D23: EA | E23: 전기품셈 5-25-3.8 | F23: 1 | G23: 0 | H23: -10 | K23: 1 | L23: 내선전공 | M23: =0.1104*(H23+100)/100*(I23+100)/100*(J23+100)/100 -> 0.09936 | N23: =F23*M23 -> 0.09936 | O23: 노임 1 | Q23: 53BD73CD2F4BEA6D30CC9F21E389BB | R23: 532453BF224A4C614F839A00DC5A45D535EA46 | S23: 0.1104 | T23: 53BD73CD2F4BEA6D30CC9F21E389BB54DF23332F4EE8646B5598A641A49570F3BAA8 | V23: =N23 -> 0.09936
A24: 532453BF224A4C614F839A00DC5A45D535EA46 | B24: 내선전공 | C24: 일반공사 직종 | D24: 인 | F24: =SUM(V23:V23) -> 0.09936 | K24: =IF(ROUND(F24*공량설정_일위대가!B14/100, 공량설정_일위대가!C15) = 0, ROUND(F24*공량설정_일위대가!B14/100, 5), ROUND(F24*공량설정_일위대가!B14/100, 공량설정_일위대가!C15)) -> 0.0994 | O24: 노임 1 | Q24: 53BD73CD2F4BEA6D30CC9F21E389BB | T24: 53BD73CD2F4BEA6D30CC9F21E389BB532453BF224A4C614F839A00DC5A45D535EA46
B25: 등기구 "O" TYPE LED 30W 다운라이트 8" 개 (호표 8)
A26: 54DF23332F4EE8646B5598A641A49570F3BBB2 | B26: 등기구 "O" TYPE | C26: LED 30W 다운라이트 8" | D26: EA | E26: 전기품셈 5-25-3.8 | F26: 1 | G26: 0 | H26: -10 | K26: 1 | L26: 내선전공 | M26: =0.1664*(H26+100)/100*(I26+100)/100*(J26+100)/100 -> 0.14976 | N26: =F26*M26 -> 0.14976 | O26: 노임 1 | Q26: 53BD73CD2F4BEA6D30CC9F21E38892 | R26: 532453BF224A4C614F839A00DC5A45D535EA46 | S26: 0.1664 | T26: 53BD73CD2F4BEA6D30CC9F21E3889254DF23332F4EE8646B5598A641A49570F3BBB2 | V26: =N26 -> 0.14976
A27: 532453BF224A4C614F839A00DC5A45D535EA46 | B27: 내선전공 | C27: 일반공사 직종 | D27: 인 | F27: =SUM(V26:V26) -> 0.14976 | K27: =IF(ROUND(F27*공량설정_일위대가!B16/100, 공량설정_일위대가!C17) = 0, ROUND(F27*공량설정_일위대가!B16/100, 5), ROUND(F27*공량설정_일위대가!B16/100, 공량설정_일위대가!C17)) -> 0.1498 | O27: 노임 1 | Q27: 53BD73CD2F4BEA6D30CC9F21E38892 | T27: 53BD73CD2F4BEA6D30CC9F21E38892532453BF224A4C614F839A00DC5A45D535EA46
B28: 등기구 "C" TYPE LED 40W 직부등 (C바) 300x1200 개 (호표 9)
A29: 54DF23332F4EE8646B5598A641A49570F3BAAD | B29: 등기구 "C" TYPE | C29: LED 40W 직부등 (C바) 300x1200 | D29: EA | E29: 전기품셈 5-25-3.8 | F29: 1 | G29: 0 | H29: -10 | K29: 1 | L29: 내선전공 | M29: =0.1768*(H29+100)/100*(I29+100)/100*(J29+100)/100 -> 0.15912 | N29: =F29*M29 -> 0.15912 | O29: 노임 1 | Q29: 53BD73CD2F4BEA6D30CC9F21E38FC3 | R29: 532453BF224A4C614F839A00DC5A45D535EA46 | S29: 0.1768 | T29: 53BD73CD2F4BEA6D30CC9F21E38FC354DF23332F4EE8646B5598A641A49570F3BAAD | V29: =N29 -> 0.15912
A30: 532453BF224A4C614F839A00DC5A45D535EA46 | B30: 내선전공 | C30: 일반공사 직종 | D30: 인 | F30: =SUM(V29:V29) -> 0.15912 | K30: =IF(ROUND(F30*공량설정_일위대가!B18/100, 공량설정_일위대가!C19) = 0, ROUND(F30*공량설정_일위대가!B18/100, 5), ROUND(F30*공량설정_일위대가!B18/100, 공량설정_일위대가!C19)) -> 0.1591 | O30: 노임 1 | Q30: 53BD73CD2F4BEA6D30CC9F21E38FC3 | T30: 53BD73CD2F4BEA6D30CC9F21E38FC3532453BF224A4C614F839A00DC5A45D535EA46
B31: 등기구 "E" TYPE LED 40W 방습등 개 (호표 10)
A32: 54DF23332F4EE8646B5598A641A49570F3BAAB | B32: 등기구 "E" TYPE | C32: LED 40W 방습등 | D32: EA | E32: 전기품셈 5-25-3.7 | F32: 1 | G32: 0 | H32: -10 | K32: 1 | L32: 내선전공 | M32: =0.1768*(H32+100)/100*(I32+100)/100*(J32+100)/100 -> 0.15912 | N32: =F32*M32 -> 0.15912 | O32: 노임 1 | Q32: 53BD73CD2F4BEA6D30CC9F21E38FC0 | R32: 532453BF224A4C614F839A00DC5A45D535EA46 | S32: 0.1768 | T32: 53BD73CD2F4BEA6D30CC9F21E38FC054DF23332F4EE8646B5598A641A49570F3BAAB | V32: =N32 -> 0.15912
A33: 532453BF224A4C614F839A00DC5A45D535EA46 | B33: 내선전공 | C33: 일반공사 직종 | D33: 인 | F33: =SUM(V32:V32) -> 0.15912 | K33: =IF(ROUND(F33*공량설정_일위대가!B20/100, 공량설정_일위대가!C21) = 0, ROUND(F33*공량설정_일위대가!B20/100, 5), ROUND(F33*공량설정_일위대가!B20/100, 공량설정_일위대가!C21)) -> 0.1591 | O33: 노임 1 | Q33: 53BD73CD2F4BEA6D30CC9F21E38FC0 | T33: 53BD73CD2F4BEA6D30CC9F21E38FC0532453BF224A4C614F839A00DC5A45D535EA46
B34: 등기구 "I" TYPE LED 40W 레이스웨이등 개 (호표 11)
A35: 54DF23332F4EE8646B5598A641A49570F3BAA7 | B35: 등기구 "I" TYPE | C35: LED 40W 레이스웨이등 | D35: EA | E35: 전기품셈 5-25-3.8 | F35: 1 | G35: 0 | H35: -10 | K35: 1 | L35: 내선전공 | M35: =0.1768*(H35+100)/100*(I35+100)/100*(J35+100)/100 -> 0.15912 | N35: =F35*M35 -> 0.15912 | O35: 노임 1 | Q35: 53BD73CD2F4BEA6D30CC9F21E38FC1 | R35: 532453BF224A4C614F839A00DC5A45D535EA46 | S35: 0.1768 | T35: 53BD73CD2F4BEA6D30CC9F21E38FC154DF23332F4EE8646B5598A641A49570F3BAA7 | V35: =N35 -> 0.15912
A36: 532453BF224A4C614F839A00DC5A45D535EA46 | B36: 내선전공 | C36: 일반공사 직종 | D36: 인 | F36: =SUM(V35:V35) -> 0.15912 | K36: =IF(ROUND(F36*공량설정_일위대가!B22/100, 공량설정_일위대가!C23) = 0, ROUND(F36*공량설정_일위대가!B22/100, 5), ROUND(F36*공량설정_일위대가!B22/100, 공량설정_일위대가!C23)) -> 0.1591 | O36: 노임 1 | Q36: 53BD73CD2F4BEA6D30CC9F21E38FC1 | T36: 53BD73CD2F4BEA6D30CC9F21E38FC1532453BF224A4C614F839A00DC5A45D535EA46
B37: 등기구 "G" TYPE LED 25W 평판등 (M바) 300x600 개 (호표 12)
A38: 54DF23332F4EE8646B5598A641A49570F3BAA9 | B38: 등기구 "G" TYPE | C38: LED 25W 평판등 (M바) 300x600 | D38: EA | E38: 전기품셈 5-25-3.7 | F38: 1 | G38: 0 | H38: -10 | K38: 1 | L38: 내선전공 | M38: =0.1936*(H38+100)/100*(I38+100)/100*(J38+100)/100 -> 0.17424 | N38: =F38*M38 -> 0.17424 | O38: 노임 1 | Q38: 53BD73CD2F4BEA6D30CC9F21E2EC32 | R38: 532453BF224A4C614F839A00DC5A45D535EA46 | S38: 0.1936 | T38: 53BD73CD2F4BEA6D30CC9F21E2EC3254DF23332F4EE8646B5598A641A49570F3BAA9 | V38: =N38 -> 0.17424
A39: 532453BF224A4C614F839A00DC5A45D535EA46 | B39: 내선전공 | C39: 일반공사 직종 | D39: 인 | F39: =SUM(V38:V38) -> 0.17424 | K39: =IF(ROUND(F39*공량설정_일위대가!B24/100, 공량설정_일위대가!C25) = 0, ROUND(F39*공량설정_일위대가!B24/100, 5), ROUND(F39*공량설정_일위대가!B24/100, 공량설정_일위대가!C25)) -> 0.1742 | O39: 노임 1 | Q39: 53BD73CD2F4BEA6D30CC9F21E2EC32 | T39: 53BD73CD2F4BEA6D30CC9F21E2EC32532453BF224A4C614F839A00DC5A45D535EA46
B40: 등기구 "A" TYPE LED 40W 평판등 (M바) 300x1200 개 (호표 13)
...

Sheet 단가표지
A3: ='표지 '!A3:L3 -> 국립경국대학교 학생회관 및 체육관 조도 개선 공사
A6: 단 가 대 비 표
A12: ='표지 '!A12 -> 2026

Sheet 단가대비표
A1: 단 가 대 비 표
A2: [ 국립경국대학교 학생회관 및 체육관 조도 개선 공사 ]
A3: 코 드 | B3: 품 명 | C3: 규격 | D3: 단위 | E3: 재 료 비 | P3: 노 무 비 | Q3: 경 비 | W3: 번 호 | X3: 비 고 | Y3: 품목구분 | Z3: 노임구분 | AA3: 소수점처리 | AB3: 자재구분
E4: 조달청가격 | F4: PAGE | G4: 물가자료 | H4: PAGE | I4: 물가정보 | J4: PAGE | K4: 조사가격1 | L4: PAGE | M4: 조사가격2 | N4: PAGE | O4: 적용단가 | Q4: 조달청가격 | R4: 물가자료 | S4: 물가정보 | T4: 조사가격1 | U4: 조사가격2 | V4: 적용단가
A5: 39111551000Z0900 | B5: 등기구 "A" TYPE | C5: LED 40W 평판등 (M바) 300x1200 | D5: EA | E5: 0 | G5: 0 | I5: 90000 | J5: 견적1 | K5: 98000 | L5: 견적2 | M5: 100000 | N5: 견적3 | O5: =SMALL(E5:M5,COUNTIF(E5:M5,0)+1) -> 90000 | P5: 0 | Q5: 0 | R5: 0 | S5: 0 | T5: 0 | U5: 0 | V5: 0 | W5: 자재 1 | AB5: 2
A6: 39111551000Z0902 | B6: 등기구 "C" TYPE | C6: LED 40W 직부등 (C바) 300x1200 | D6: EA | E6: 0 | G6: 0 | I6: 90000 | J6: 견적1 | K6: 108000 | L6: 견적2 | M6: 175000 | N6: 견적3 | O6: =SMALL(E6:M6,COUNTIF(E6:M6,0)+1) -> 90000 | P6: 0 | Q6: 0 | R6: 0 | S6: 0 | T6: 0 | U6: 0 | V6: 0 | W6: 자재 2 | AB6: 2
A7: 39111551000Z0904 | B7: 등기구 "E" TYPE | C7: LED 40W 방습등 | D7: EA | E7: 0 | G7: 0 | I7: 110000 | J7: 견적1 | K7: 120000 | L7: 견적2 | M7: 150000 | N7: 견적3 | O7: =SMALL(E7:M7,COUNTIF(E7:M7,0)+1) -> 110000 | P7: 0 | Q7: 0 | R7: 0 | S7: 0 | T7: 0 | U7: 0 | V7: 0 | W7: 자재 3 | AB7: 2
A8: 39111551000Z0905 | B8: 등기구 "F" TYPE | C8: LED 40W 평판등 (C바) 600x600 | D8: EA | E8: 0 | G8: 0 | I8: 94000 | J8: 견적1 | K8: 98000 | L8: 견적2 | M8: 95000 | N8: 견적3 | O8: =SMALL(E8:M8,COUNTIF(E8:M8,0)+1) -> 94000 | P8: 0 | Q8: 0 | R8: 0 | S8: 0 | T8: 0 | U8: 0 | V8: 0 | W8: 자재 4 | AB8: 2
A9: 39111551000Z0906 | B9: 등기구 "G" TYPE | C9: LED 25W 평판등 (M바) 300x600 | D9: EA | E9: 0 | G9: 0 | I9: 72000 | J9: 견적1 | K9: 78000 | L9: 견적2 | M9: 80000 | N9: 견적3 | O9: =SMALL(E9:M9,COUNTIF(E9:M9,0)+1) -> 72000 | P9: 0 | Q9: 0 | R9: 0 | S9: 0 | T9: 0 | U9: 0 | V9: 0 | W9: 자재 5 | AB9: 2
A10: 39111551000Z0907 | B10: 등기구 "H" TYPE | C10: LED 25W 직부등 300x600 | D10: EA | E10: 0 | G10: 0 | I10: 72000 | J10: 견적1 | K10: 78000 | L10: 견적2 | M10: 80000 | N10: 견적3 | O10: =SMALL(E10:M10,COUNTIF(E10:M10,0)+1) -> 72000 | P10: 0 | Q10: 0 | R10: 0 | S10: 0 | T10: 0 | U10: 0 | V10: 0 | W10: 자재 6 | AB10: 2
A11: 39111551000Z0908 | B11: 등기구 "I" TYPE | C11: LED 40W 레이스웨이등 | D11: EA | E11: 0 | G11: 0 | I11: 88000 | J11: 견적1 | K11: 99000 | L11: 견적2 | M11: 95000 | N11: 견적3 | O11: =SMALL(E11:M11,COUNTIF(E11:M11,0)+1) -> 88000 | P11: 0 | Q11: 0 | R11: 0 | S11: 0 | T11: 0 | U11: 0 | V11: 0 | W11: 자재 7 | AB11: 2
A12: 39111551000Z0913 | B12: 등기구 "N" TYPE | C12: LED 10W 다운라이트 6" | D12: EA | E12: 0 | G12: 0 | I12: 28000 | J12: 견적1 | K12: 39000 | L12: 견적2 | M12: 40000 | N12: 견적3 | O12: =SMALL(E12:M12,COUNTIF(E12:M12,0)+1) -> 28000 | P12: 0 | Q12: 0 | R12: 0 | S12: 0 | T12: 0 | U12: 0 | V12: 0 | W12: 자재 8 | AB12: 2
A13: 39111551000Z0914 | B13: 등기구 "O" TYPE | C13: LED 30W 다운라이트 8" | D13: EA | E13: 0 | G13: 0 | I13: 65000 | J13: 견적1 | K13: 85000 | L13: 견적2 | M13: 66000 | N13: 견적3 | O13: =SMALL(E13:M13,COUNTIF(E13:M13,0)+1) -> 65000 | P13: 0 | Q13: 0 | R13: 0 | S13: 0 | T13: 0 | U13: 0 | V13: 0 | W13: 자재 9 | AB13: 2
A14: 39111551000Z0915 | B14: 등기구 "P" TYPE | C14: LED 10W COB | D14: EA | E14: 0 | G14: 0 | I14: 48000 | J14: 견적1 | K14: 49000 | L14: 견적2 | M14: 77000 | N14: 견적3 | O14: =SMALL(E14:M14,COUNTIF(E14:M14,0)+1) -> 48000 | P14: 0 | Q14: 0 | R14: 0 | S14: 0 | T14: 0 | U14: 0 | V14: 0 | W14: 자재 10 | AB14: 2
A15: 39111551000Z0916 | B15: 등기구 "Q" TYPE | C15: LED 15W 센서등 | D15: EA | E15: 0 | G15: 0 | I15: 45000 | J15: 견적1 | K15: 45000 | L15: 견적2 | M15: 50000 | N15: 견적3 | O15: =SMALL(E15:M15,COUNTIF(E15:M15,0)+1) -> 45000 | P15: 0 | Q15: 0 | R15: 0 | S15: 0 | T15: 0 | U15: 0 | V15: 0 | W15: 자재 11 | AB15: 2
A16: 39111551000Z0917 | B16: 등기구 "R" TYPE | C16: LED 15W 원형직부등 | D16: EA | E16: 0 | G16: 0 | I16: 35000 | J16: 견적1 | K16: 38000 | L16: 견적2 | M16: 40000 | N16: 견적3 | O16: =SMALL(E16:M16,COUNTIF(E16:M16,0)+1) -> 35000 | P16: 0 | Q16: 0 | R16: 0 | S16: 0 | T16: 0 | U16: 0 | V16: 0 | W16: 자재 12 | AB16: 2
... A18: 39111551000Z0919 | B18: 등기구 "T" TYPE | C18: LED 6W/2 비상조명등 | D18: EA | E18: 0 | G18: 0 | I18: 220000 | J18: 견적1 | K18: 220000 | L18: 견적2 | M18: 220000 | N18: 견적3 | O18: =SMALL(E18:M18,COUNTIF(E18:M18,0)+1) -> 220000 | P18: 0 | Q18: 0 | R18: 0 | S18: 0 | T18: 0 | U18: 0 | V18: 0 | W18: 자재 14 | AB18: 2
A19: 39111551000Z5171 | B19: 등기구 (철거) | C19: LED 40W 평판등 (M바) 300x1200 | D19: EA | E19: 0 | G19: 0 | I19: 0 | K19: 0 | M19: 0 | O19: 0 | P19: 0 | Q19: 0 | R19: 0 | S19: 0 | T19: 0 | U19: 0 | V19: 0 | W19: 자재 15
A20: 39111551000Z5175 | B20: 등기구 (철거) | C20: LED 40W 평판등 (C바) 600x600 | D20: EA | E20: 0 | G20: 0 | I20: 0 | K20: 0 | M20: 0 | O20: 0 | P20: 0 | Q20: 0 | R20: 0 | S20: 0 | T20: 0 | U20: 0 | V20: 0 | W20: 자재 16
A21: 39111551000Z5176 | B21: 등기구 (철거) | C21: LED 25W 평판등 (M바) 300x600 | D21: EA | E21: 0 | G21: 0 | I21: 0 | K21: 0 | M21: 0 | O21: 0 | P21: 0 | Q21: 0 | R21: 0 | S21: 0 | T21: 0 | U21: 0 | V21: 0 | W21: 자재 17
A22: 39111551000Z5180 | B22: 등기구 (철거) | C22: LED 40W 직부등 (C바) 300x1200 | D22: EA | E22: 0 | G22: 0 | I22: 0 | K22: 0 | M22: 0 | O22: 0 | P22: 0 | Q22: 0 | R22: 0 | S22: 0 | T22: 0 | U22: 0 | V22: 0 | W22: 자재 18
A23: 39111551000Z5185 | B23: 등기구 (철거) | C23: LED 25W 직부등 300x600 | D23: EA | E23: 0 | G23: 0 | I23: 0 | K23: 0 | M23: 0 | O23: 0 | P23: 0 | Q23: 0 | R23: 0 | S23: 0 | T23: 0 | U23: 0 | V23: 0 | W23: 자재 19
A24: 39111551000Z5200 | B24: 등기구 (철거) | C24: LED 40W 방습등 | D24: EA | E24: 0 | G24: 0 | I24: 0 | K24: 0 | M24: 0 | O24: 0 | P24: 0 | Q24: 0 | R24: 0 | S24: 0 | T24: 0 | U24: 0 | V24: 0 | W24: 자재 20
A25: 39111551000Z5205 | B25: 등기구 (철거) | C25: LED 40W 레이스웨이등 | D25: EA | E25: 0 | G25: 0 | I25: 0 | K25: 0 | M25: 0 | O25: 0 | P25: 0 | Q25: 0 | R25: 0 | S25: 0 | T25: 0 | U25: 0 | V25: 0 | W25: 자재 21
A26: 39111551000Z5210 | B26: 등기구 (철거) | C26: LED 10W 다운라이트 6" | D26: EA | E26: 0 | G26: 0 | I26: 0 | K26: 0 | M26: 0 | O26: 0 | P26: 0 | Q26: 0 | R26: 0 | S26: 0 | T26: 0 | U26: 0 | V26: 0 | W26: 자재 22
A27: 39111551000Z5211 | B27: 등기구 (철거) | C27: LED 30W 다운라이트 8" | D27: EA | E27: 0 | G27: 0 | I27: 0 | K27: 0 | M27: 0 | O27: 0 | P27: 0 | Q27: 0 | R27: 0 | S27: 0 | T27: 0 | U27: 0 | V27: 0 | W27: 자재 23
A28: 39111551000Z5220 | B28: 등기구 (철거) | C28: LED 10W COB | D28: EA | E28: 0 | G28: 0 | I28: 0 | K28: 0 | M28: 0 | O28: 0 | P28: 0 | Q28: 0 | R28: 0 | S28: 0 | T28: 0 | U28: 0 | V28: 0 | W28: 자재 24
A29: 39111551000Z5230 | B29: 등기구 (철거) | C29: LED 15W 센서등 | D29: EA | E29: 0 | G29: 0 | I29: 0 | K29: 0 | M29: 0 | O29: 0 | P29: 0 | Q29: 0 | R29: 0 | S29: 0 | T29: 0 | U29: 0 | V29: 0 | W29: 자재 25
A30: 39111551000Z5235 | B30: 등기구 (철거) | C30: LED 15W 원형직부등 | D30: EA | E30: 0 | G30: 0 | I30: 0 | K30: 0 | M30: 0 | O30: 0 | P30: 0 | Q30: 0 | R30: 0 | S30: 0 | T30: 0 | U30: 0 | V30: 0 | W30: 자재 26
... A32: 39111551000Z5270 | B32: 등기구 (철거) | C32: LED 6W/2 비상조명등 | D32: EA | E32: 0 | G32: 0 | I32: 0 | K32: 0 | M32: 0 | O32: 0 | P32: 0 | Q32: 0 | R32: 0 | S32: 0 | T32: 0 | U32: 0 | V32: 0 | W32: 자재 28
A33: L001010101000075 | B33: 내선전공 | C33: 일반공사 직종 | D33: 인 | E33: 0 | G33: 0 | I33: 0 | K33: 0 | M33: 0 | O33: 0 | P33: 273676 | Q33: 0 | R33: 0 | S33: 0 | T33: 0 | U33: 0 | V33: 0 | W33: 노임 1 | Y33: B

Sheet 수량표지(별도첨부)
A3: ='표지 '!A3:L3 -> 국립경국대학교 학생회관 및 체육관 조도 개선 공사
A6: 수 량 산 출 서
A12: ='표지 '!A12 -> 2026

Sheet Sheet1

Sheet 공량산출근거서
A1: 공 량 산 출 근 거 서
A2: [ 국립경국대학교 학생회관 및 체육관 조도 개선 공사 ]
A3: 코 드 | B3: 품 명 | C3: 규 격 | D3: 단위 | E3: 품 셈 목 록 | F3: 수 량 | G3: 할증 | H3: 노임할증-1 | I3: 노임할증-2 | J3: 노임할증-3 | K3: 내역수량 | L3: 직 종 명 | M3: 공 량 | N3: 계 | O3: 번 호 | P3: 비 고 | T3: 공종+자재 | V3: 내선전공
B4: 01 학생회관 전등설비공사
B5: 02 체육관 전등설비공사
B6: 03 관급자재비
B7: 03 관급자재비 - 01 LED조명기구 구매
A8: 54DF23332F4EE8646B5598A641A49570F3BAAF | B8: 등기구 "A" TYPE | C8: LED 40W 평판등 (M바) 300x1200 | D8: EA | E8: 전기품셈 5-25-3.8 | F8: 712 | G8: 0 | K8: 712 | L8: 내선전공 | M8: =0.263*(H8+100)/100*(I8+100)/100*(J8+100)/100 -> 0.263 | N8: =F8*M8 -> 187.256 | O8: 노임 1 | Q8: 010301 | R8: 532453BF224A4C614F839A00DC5A45D535EA46 | S8: 0.263 | T8: 01030154DF23332F4EE8646B5598A641A49570F3BAAF | V8: =N8 -> 187.256
A9: 54DF23332F4EE8646B5598A641A49570F3BAAD | B9: 등기구 "C" TYPE | C9: LED 40W 직부등 (C바) 300x1200 | D9: EA | E9: 전기품셈 5-25-3.8 | F9: 13 | G9: 0 | K9: 13 | L9: 내선전공 | M9: =0.221*(H9+100)/100*(I9+100)/100*(J9+100)/100 -> 0.221 | N9: =F9*M9 -> 2.873 | O9: 노임 1 | Q9: 010301 | R9: 532453BF224A4C614F839A00DC5A45D535EA46 | S9: 0.221 | T9: 01030154DF23332F4EE8646B5598A641A49570F3BAAD | V9: =N9 -> 2.873
A10: 54DF23332F4EE8646B5598A641A49570F3BAAB | B10: 등기구 "E" TYPE | C10: LED 40W 방습등 | D10: EA | E10: 전기품셈 5-25-3.7 | F10: 2 | G10: 0 | K10: 2 | L10: 내선전공 | M10: =0.221*(H10+100)/100*(I10+100)/100*(J10+100)/100 -> 0.221 | N10: =F10*M10 -> 0.442 | O10: 노임 1 | Q10: 010301 | R10: 532453BF224A4C614F839A00DC5A45D535EA46 | S10: 0.221 | T10: 01030154DF23332F4EE8646B5598A641A49570F3BAAB | V10: =N10 -> 0.442
A11: 54DF23332F4EE8646B5598A641A49570F3BAAA | B11: 등기구 "F" TYPE | C11: LED 40W 평판등 (C바) 600x600 | D11: EA | E11: 전기품셈 5-25-3.8 | F11: 33 | G11: 0 | K11: 33 | L11: 내선전공 | M11: =0.263*(H11+100)/100*(I11+100)/100*(J11+100)/100 -> 0.263 | N11: =F11*M11 -> 8.679 | O11: 노임 1 | Q11: 010301 | R11: 532453BF224A4C614F839A00DC5A45D535EA46 | S11: 0.263 | T11: 01030154DF23332F4EE8646B5598A641A49570F3BAAA | V11: =N11 -> 8.679
A12: 54DF23332F4EE8646B5598A641A49570F3BAA9 | B12: 등기구 "G" TYPE | C12: LED 25W 평판등 (M바) 300x600 | D12: EA | E12: 전기품셈 5-25-3.7 | F12: 83 | G12: 0 | K12: 83 | L12: 내선전공 | M12: =0.242*(H12+100)/100*(I12+100)/100*(J12+100)/100 -> 0.242 | N12: =F12*M12 -> 20.086 | O12: 노임 1 | Q12: 010301 | R12: 532453BF224A4C614F839A00DC5A45D535EA46 | S12: 0.242 | T12: 01030154DF23332F4EE8646B5598A641A49570F3BAA9 | V12: =N12 -> 20.086
A13: 54DF23332F4EE8646B5598A641A49570F3BAA8 | B13: 등기구 "H" TYPE | C13: LED 25W 직부등 300x600 | D13: EA | E13: 전기품셈 5-25-3.8 | F13: 6 | G13: 0 | K13: 6 | L13: 내선전공 | M13: =0.138*(H13+100)/100*(I13+100)/100*(J13+100)/100 -> 0.138 | N13: =F13*M13 -> 0.828 | O13: 노임 1 | Q13: 010301 | R13: 532453BF224A4C614F839A00DC5A45D535EA46 | S13: 0.138 | T13: 01030154DF23332F4EE8646B5598A641A49570F3BAA8 | V13: =N13 -> 0.828
A14: 54DF23332F4EE8646B5598A641A49570F3BAA7 | B14: 등기구 "I" TYPE | C14: LED 40W 레이스웨이등 | D14: EA | E14: 전기품셈 5-25-3.8 | F14: 51 | G14: 0 | K14: 51 | L14: 내선전공 | M14: =0.221*(H14+100)/100*(I14+100)/100*(J14+100)/100 -> 0.221 | N14: =F14*M14 -> 11.271 | O14: 노임 1 | Q14: 010301 | R14: 532453BF224A4C614F839A00DC5A45D535EA46 | S14: 0.221 | T14: 01030154DF23332F4EE8646B5598A641A49570F3BAA7 | V14: =N14 -> 11.271
A15: 54DF23332F4EE8646B5598A641A49570F3BBB5 | B15: 등기구 "N" TYPE | C15: LED 10W 다운라이트 6" | D15: EA | E15: 전기품셈 5-25-3.8 | F15: 308 | G15: 0 | K15: 308 | L15: 내선전공 | M15: =0.155*(H15+100)/100*(I15+100)/100*(J15+100)/100 -> 0.155 | N15: =F15*M15 -> 47.74 | O15: 노임 1 | Q15: 010301 | R15: 532453BF224A4C614F839A00DC5A45D535EA46 | S15: 0.155 | T15: 01030154DF23332F4EE8646B5598A641A49570F3BBB5 | V15: =N15 -> 47.74
A16: 54DF23332F4EE8646B5598A641A49570F3BBB2 | B16: 등기구 "O" TYPE | C16: LED 30W 다운라이트 8" | D16: EA | E16: 전기품셈 5-25-3.8 | F16: 8 | G16: 0 | K16: 8 | L16: 내선전공 | M16: =0.208*(H16+100)/100*(I16+100)/100*(J16+100)/100 -> 0.208 | N16: =F16*M16 -> 1.664 | O16: 노임 1 | Q16: 010301 | R16: 532453BF224A4C614F839A00DC5A45D535EA46 | S16: 0.208 | T16: 01030154DF23332F4EE8646B5598A641A49570F3BBB2 | V16: =N16 -> 1.664
A17: 54DF23332F4EE8646B5598A641A49570F3BBB3 | B17: 등기구 "P" TYPE | C17: LED 10W COB | D17: EA | E17: 전기품셈 5-25-3.8 | F17: 8 | G17: 0 | K17: 8 | L17: 내선전공 | M17: =0.155*(H17+100)/100*(I17+100)/100*(J17+100)/100 -> 0.155 | N17: =F17*M17 -> 1.24 | O17: 노임 1 | Q17: 010301 | R17: 532453BF224A4C614F839A00DC5A45D535EA46 | S17: 0.155 | T17: 01030154DF23332F4EE8646B5598A641A49570F3BBB3 | V17: =N17 -> 1.24
A18: 54DF23332F4EE8646B5598A641A49570F3BBB0 | B18: 등기구 "Q" TYPE | C18: LED 15W 센서등 | D18: EA | E18: 전기품셈 5-25-3.8 | F18: 29 | G18: 0 | K18: 29 | L18: 내선전공 | M18: =0.117*(H18+100)/100*(I18+100)/100*(J18+100)/100 -> 0.117 | N18: =F18*M18 -> 3.393 | O18: 노임 1 | Q18: 010301 | R18: 532453BF224A4C614F839A00DC5A45D535EA46 | S18: 0.117 | T18: 01030154DF23332F4EE8646B5598A641A49570F3BBB0 | V18: =N18 -> 3.393
A19: 54DF23332F4EE8646B5598A641A49570F3BBB1 | B19: 등기구 "R" TYPE | C19: LED 15W 원형직부등 | D19: EA | E19: 전기품셈 5-25-3.8 | F19: 39 | G19: 0 | K19: 39 | L19: 내선전공 | M19: =0.117*(H19+100)/100*(I19+100)/100*(J19+100)/100 -> 0.117 | N19: =F19*M19 -> 4.563 | O19: 노임 1 | Q19: 010301 | R19: 532453BF224A4C614F839A00DC5A45D535EA46 | S19: 0.117 | T19: 01030154DF23332F4EE8646B5598A641A49570F3BBB1 | V19: =N19 -> 4.563
A20: 54DF23332F4EE8646B5598A641A49570F3BBBE | B20: 등기구 "S" TYPE | C20: LED 12W 벽부등 | D20: EA | E20: 전기품셈 5-25-3.8 | F20: 10 | G20: 0 | K20: 10 | L20: 내선전공 | M20: =0.117*(H20+100)/100*(I20+100)/100*(J20+100)/100 -> 0.117 | N20: =F20*M20 -> 1.17 | O20: 노임 1 | Q20: 010301 | R20: 532453BF224A4C614F839A00DC5A45D535EA46 | S20: 0.117 | T20: 01030154DF23332F4EE8646B5598A641A49570F3BBBE | V20: =N20 -> 1.17
