Workbook

Sheet 총괄설계내역서
A1: 총 괄 설 계 내 역 서 | H1: STmate | Q1: STmate
A2: 용역명 : 김포시 통진레코파크 증설사업(3단계) 건설폐기물처리용역(폐콘크리트) | H2: =MID(CELL("filename",$A$1),FIND("]",CELL("filename",$A$1))+1,LEN(CELL("filename",$A$1))) -> 총괄설계내역서
A3: 공 종 | B3: 명 칭 | C3: 규 격 | D3: 합 계 | E3: 노 무 비 | F3: 재 료 비 | G3: 경 비 | H3: _x0007_`JTYP|0_x0005_`ACTL|F_x0005_`
A4: 가. | B4: 폐기물 처리비 | D4: =설계내역서!G5 -> 0 | E4: =설계내역서!I5 -> 0 | F4: =설계내역서!K5 -> 0 | G4: =설계내역서!M5 -> 0 | Q4: =HYPERLINK("#"&설계내역서!O2&"!A"&ROW(설계내역서!A5),"내역 →") -> 내역 →
A5: 나. | B5: 공급가액 | D5: =D4 -> 0 | E5: =설계내역서!I8 -> 0
A6: 다. | B6: 부가가치세 | D6: =D5*0.1 -> 0 | E6: 공급가액 x 10%
A7: 라. | B7: 절삭금액(만원이하) | E7: =설계내역서!I13 -> 0
A8: 마. | B8: 도급공사비 | D8: =D5+D6-D7 -> 0 | H8: _x0007_`DTP|400_x0005_`QTY1|1_x0005_`BDC|_x0005_`SRE|TA-F_x0005_` | I8: 0 | M8: 0 | N8: 0 | O8: 0 | P8: 0

Sheet 설계내역서
A1: 설 계 내 역 서 | O1: STmate | AC1: STmate
A2: 용역명 : 김포시 통진레코파크 증설사업(3단계) 건설폐기물처리용역(폐콘크리트) | O2: =MID(CELL("filename",$A$1),FIND("]",CELL("filename",$A$1))+1,LEN(CELL("filename",$A$1))) -> 설계내역서
A3: 공 종 | B3: 명 칭 | C3: 규 격 | D3: 수 량 | E3: 단위 | F3: 합 계 | H3: 노 무 비 | J3: 재 료 비 | L3: 경 비 | N3: 비 고
F4: 단 가 | G4: 금 액 | H4: 단 가 | I4: 금 액 | J4: 단 가 | K4: 금 액 | L4: 단 가 | M4: 금 액
A5: □ | B5: 폐기물 처리비 | F5: 0 | G5: =SUMIF(Q6:Q12,P5,G6:G12) -> 0 | H5: 0 | I5: =SUMIF(Q6:Q12,P5,I6:I12) -> 0 | J5: 0 | K5: =SUMIF(Q6:Q12,P5,K6:K12) -> 0 | L5: 0 | M5: =SUMIF(Q6:Q12,P5,M6:M12) -> 0 | O5: ="_x0007_`COD|E7_x0005_`QTY1|1_x0005_`EXI|0_x0005_`ITT|0_x0005_`END|"&ROW(M13)&"_x0005_`" -> _x0007_`COD|E7_x0005_`QTY1|1_x0005_`EXI|0_x0005_`ITT|0_x0005_`END|13_x0005_` | P5: E7_1 | Q5: E10_1
A6: 1 | B6: 하수처리시설 | F6: 0 | G6: =SUMIF(Q7:Q8,P6,G7:G8) -> 0 | H6: 0 | I6: =SUMIF(Q7:Q8,P6,I7:I8) -> 0 | J6: 0 | K6: =SUMIF(Q7:Q8,P6,K7:K8) -> 0 | L6: 0 | M6: =SUMIF(Q7:Q8,P6,M7:M8) -> 0 | O6: ="_x0007_`COD|E6_x0005_`QTY1|1_x0005_`EXI|0_x0005_`ITT|0_x0005_`END|"&ROW(M9)&"_x0005_`" -> _x0007_`COD|E6_x0005_`QTY1|1_x0005_`EXI|0_x0005_`ITT|0_x0005_`END|9_x0005_` | P6: E6_1 | Q6: E7_1
B7: 폐기물 처리비 | C7: 콘크리트 | D7: 697.68 | E7: Ton | F7: =J7+H7+L7 -> 0 | G7: =K7+I7+M7 -> 0 | H7: 0 | I7: =ROUNDDOWN(H7*D7,0) -> 0 | J7: 0 | K7: =ROUNDDOWN(J7*D7,0) -> 0 | L7: =경비목록표!E5 -> 0 | M7: =ROUNDDOWN(L7*D7,0) -> 0 | N7: S00034 | O7: _x0007_`COD|S00034_x0005_`QTY1|1_x0005_`EXI|0_x0005_`IPR|1_x0005_`BLA|F_x0005_` | P7: S00034_1 | Q7: E6_1 | R7: 1_6_01 | AC7: =HYPERLINK("#"&경비목록표!G2&"!A"&ROW(경비목록표!A5),"S00034 →") -> S00034 →
B8: 건설폐기물 운반비 | C8: L=30Km이내 | D8: 697.68 | E8: Ton | F8: =J8+H8+L8 -> 0 | G8: =K8+I8+M8 -> 0 | H8: 0 | I8: =ROUNDDOWN(H8*D8,0) -> 0 | J8: 0 | K8: =ROUNDDOWN(J8*D8,0) -> 0 | L8: =경비목록표!E4 -> 0 | M8: =ROUNDDOWN(L8*D8,0) -> 0 | N8: S00035 | O8: _x0007_`COD|S00035_x0005_`QTY1|1_x0005_`EXI|0_x0005_`IPR|1_x0005_`BLA|F_x0005_` | P8: S00035_1 | Q8: E6_1 | R8: 1_6_01 | AC8: =HYPERLINK("#"&경비목록표!G2&"!A"&ROW(경비목록표!A4),"S00035 →") -> S00035 →
F9: 0 | O9: _x0007_`COD|_x0005_`QTY1|1_x0005_`EXI|1_x0005_`ITT|0_x0005_` | P9: CMT_1 | Q9: E7_1
O10: ="_x0007_`COD|E6_x0005_`QTY1|1_x0005_`EXI|0_x0005_`ITT|0_x0005_`END|"&ROW(M13)&"_x0005_`" -> _x0007_`COD|E6_x0005_`QTY1|1_x0005_`EXI|0_x0005_`ITT|0_x0005_`END|13_x0005_` | P10: E6_1 | Q10: E7_1
O11: _x0007_`COD|S00034_x0005_`QTY1|1_x0005_`EXI|0_x0005_`IPR|0_x0005_`BLA|F_x0005_` | P11: S00034_1 | Q11: E6_1 | AC11: =HYPERLINK("#"&경비목록표!G2&"!A"&ROW(경비목록표!A5),"S00034 →") -> S00034 →
O12: _x0007_`COD|S00035_x0005_`QTY1|1_x0005_`EXI|0_x0005_`IPR|1_x0005_`BLA|F_x0005_` | P12: S00035_1 | Q12: E6_1 | R12: 1_6_01 | AC12: =HYPERLINK("#"&경비목록표!G2&"!A"&ROW(경비목록표!A4),"S00035 →") -> S00035 →
G13: =SUMIF(Q5:Q12,"E10_1",G5:G12) -> 0 | I13: =SUMIF(Q5:Q12,"E10_1",I5:I12) -> 0 | K13: =SUMIF(Q5:Q12,"E10_1",K5:K12) -> 0 | M13: =SUMIF(Q5:Q12,"E10_1",M5:M12) -> 0

Sheet 경비목록표
A1: 경비 목록표 | G1: STmate | H1: STmate
A2: 용역명 : 김포시 통진레코파크 증설사업(3단계) 건설폐기물처리용역(폐콘크리트) | G2: =MID(CELL("filename",$A$1),FIND("]",CELL("filename",$A$1))+1,LEN(CELL("filename",$A$1))) -> 경비목록표
A3: 호표 | B3: 명 칭 | C3: 규 격 | D3: 단위 | E3: 단 가 | F3: 비 고
A4: 1 | B4: 건설폐기물 운반비 | C4: L=30Km이내 | D4: Ton | F4: S00035 | G4: _x0007_`COD|S00035_x0005_`QTY1|1_x0005_`BQC|_x0005_`EQC|_x0005_`JDC|_x0005_`WQC|_x0005_`EDT|_x0005_`
A5: 2 | B5: 폐기물 처리비 | C5: 콘크리트 | D5: Ton | F5: S00034 | G5: _x0007_`COD|S00034_x0005_`QTY1|1_x0005_`BQC|물자151_x0005_`EQC|_x0005_`JDC|_x0005_`WQC|_x0005_`EDT|_x0005_`

Sheet 〓 INITIAL 〓
B2: ※※ 현재 Sheet를 수정 또는 삭제하지 마십시요[수정/삭제시 STmate 데이타로 변환할 수 없습니다] ※※
B4: [Sheet정보] | C4: =ISERROR(SUM(C6:X15,C18:X23)) -> TRUE | D4: =ROW(C24) -> 24
B5: 목차 | C5: Sheet | D5: FPos | E5: ITNAME | F5: NAME | G5: SIZE | H5: QTY | I5: UNIT | J5: SPOS | K5: EPOS | L5: TAMT | M5: TAMOUNT | N5: MAMT | O5: MAMOUNT | P5: LAMT | Q5: LAMOUNT | R5: SAMT | S5: SAMOUNT | T5: AAMT | U5: AAMOUNT | V5: NAMT | W5: NAMOUNT | X5: INFO
B6: 1. 재료비목록표
B7: 2. 노무비목록표
B8: 3. 경비목록표 | C8: =IF(D8="","경비목록표",MID(D8,FIND("]",D8)+1,LEN(D8))) -> 경비목록표 | D8: =CELL("filename",경비목록표!A1) -> C:\Users\owner\Desktop\0.ING\김포 통진 건폐용역3개\3.폐콘크리트 처리용역\[2. 폐기물 내역서(폐콘크리트).xlsx]경비목록표 | F8: =HYPERLINK("#"&C8&"!"&CHAR(COLUMN(경비목록표!B1)+64)&3,COLUMN(경비목록표!B1)) -> 2 | G8: =HYPERLINK("#"&C8&"!"&CHAR(COLUMN(경비목록표!C1)+64)&3,COLUMN(경비목록표!C1)) -> 3 | I8: =HYPERLINK("#"&C8&"!"&CHAR(COLUMN(경비목록표!D1)+64)&3,COLUMN(경비목록표!D1)) -> 4 | J8: =HYPERLINK("#"&C8&"!A"&ROW(경비목록표!A4),ROW(경비목록표!A4)) -> 4 | K8: =HYPERLINK("#"&C8&"!A"&ROW(경비목록표!#REF!),ROW(경비목록표!#REF!)) -> #REF! | L8: =HYPERLINK("#"&C8&"!"&CHAR(COLUMN(경비목록표!E1)+64)&3,COLUMN(경비목록표!E1)) -> 5 | X8: =HYPERLINK("#"&C8&"!"&CHAR(COLUMN(경비목록표!G1)+64)&3,COLUMN(경비목록표!G1)) -> 7
B9: 4. 일식목록표
B10: 5. 환율 및 기초자료
B11: 6. 중기목록표
B12: 7. 실적단가표
B13: 8. 일위대가목록표
B14: 9. 산출근거목록표
B15: 10. 자재단가대비표
B16: 11. 내역서 | C16: =IF(D16="","설계내역서",MID(D16,FIND("]",D16)+1,LEN(D16))) -> 설계내역서 | D16: =CELL("filename",설계내역서!A1) -> C:\Users\owner\Desktop\0.ING\김포 통진 건폐용역3개\3.폐콘크리트 처리용역\[2. 폐기물 내역서(폐콘크리트).xlsx]설계내역서 | E16: =HYPERLINK("#"&C16&"!"&CHAR(COLUMN(설계내역서!A1)+64)&4,COLUMN(설계내역서!A1)) -> 1 | F16: =HYPERLINK("#"&C16&"!"&CHAR(COLUMN(설계내역서!B1)+64)&4,COLUMN(설계내역서!B1)) -> 2 | G16: =HYPERLINK("#"&C16&"!"&CHAR(COLUMN(설계내역서!C1)+64)&4,COLUMN(설계내역서!C1)) -> 3 | H16: =HYPERLINK("#"&C16&"!"&CHAR(COLUMN(설계내역서!D1)+64)&4,COLUMN(설계내역서!D1)) -> 4 | I16: =HYPERLINK("#"&C16&"!"&CHAR(COLUMN(설계내역서!E1)+64)&4,COLUMN(설계내역서!E1)) -> 5 | J16: =HYPERLINK("#"&C16&"!A"&ROW(설계내역서!A5),ROW(설계내역서!A5)) -> 5 | K16: =HYPERLINK("#"&C16&"!A"&ROW(설계내역서!A20),ROW(설계내역서!A20)) -> 20 | L16: =HYPERLINK("#"&C16&"!"&CHAR(COLUMN(설계내역서!H1)+64)&4,COLUMN(설계내역서!H1)) -> 8 | M16: =HYPERLINK("#"&C16&"!"&CHAR(COLUMN(설계내역서!I1)+64)&4,COLUMN(설계내역서!I1)) -> 9 | N16: =HYPERLINK("#"&C16&"!"&CHAR(COLUMN(설계내역서!L1)+64)&4,COLUMN(설계내역서!L1)) -> 12 | O16: =HYPERLINK("#"&C16&"!"&CHAR(COLUMN(설계내역서!M1)+64)&4,COLUMN(설계내역서!M1)) -> 13 | P16: =HYPERLINK("#"&C16&"!"&CHAR(COLUMN(설계내역서!J1)+64)&4,COLUMN(설계내역서!J1)) -> 10 | Q16: =HYPERLINK("#"&C16&"!"&CHAR(COLUMN(설계내역서!K1)+64)&4,COLUMN(설계내역서!K1)) -> 11 | R16: =HYPERLINK("#"&C16&"!"&CHAR(COLUMN(설계내역서!N1)+64)&4,COLUMN(설계내역서!N1)) -> 14 | S16: =HYPERLINK("#"&C16&"!"&CHAR(COLUMN(설계내역서!O1)+64)&4,COLUMN(설계내역서!O1)) -> 15 | X16: =HYPERLINK("#"&C16&"!"&CHAR(COLUMN(설계내역서!O1)+64)&4,COLUMN(설계내역서!O1)) -> 15
B17: 12. 총괄내역서 | C17: =IF(D17="","총괄설계내역서",MID(D17,FIND("]",D17)+1,LEN(D17))) -> 총괄설계내역서 | D17: =CELL("filename",총괄설계내역서!A1) -> C:\Users\owner\Desktop\0.ING\김포 통진 건폐용역3개\3.폐콘크리트 처리용역\[2. 폐기물 내역서(폐콘크리트).xlsx]총괄설계내역서 | E17: =HYPERLINK("#"&C17&"!"&CHAR(COLUMN(총괄설계내역서!A1)+64)&3,COLUMN(총괄설계내역서!A1)) -> 1 | F17: =HYPERLINK("#"&C17&"!"&CHAR(COLUMN(총괄설계내역서!B1)+64)&3,COLUMN(총괄설계내역서!B1)) -> 2 | G17: =HYPERLINK("#"&C17&"!"&CHAR(COLUMN(총괄설계내역서!C1)+64)&3,COLUMN(총괄설계내역서!C1)) -> 3 | I17: =HYPERLINK("#"&C17&"!"&CHAR(COLUMN(총괄설계내역서!E1)+64)&3,COLUMN(총괄설계내역서!E1)) -> 5 | J17: =HYPERLINK("#"&C17&"!A"&ROW(총괄설계내역서!A4),ROW(총괄설계내역서!A4)) -> 4 | K17: =HYPERLINK("#"&C17&"!A"&ROW(총괄설계내역서!#REF!),ROW(총괄설계내역서!#REF!)) -> #REF! | L17: =HYPERLINK("#"&C17&"!"&CHAR(COLUMN(총괄설계내역서!D1)+64)&3,COLUMN(총괄설계내역서!D1)) -> 4 | M17: =HYPERLINK("#"&C17&"!"&CHAR(COLUMN(총괄설계내역서!I1)+64)&3,COLUMN(총괄설계내역서!I1)) -> 9 | N17: =HYPERLINK("#"&C17&"!"&CHAR(COLUMN(총괄설계내역서!M1)+64)&3,COLUMN(총괄설계내역서!M1)) -> 13 | O17: =HYPERLINK("#"&C17&"!"&CHAR(COLUMN(총괄설계내역서!N1)+64)&3,COLUMN(총괄설계내역서!N1)) -> 14 | P17: =HYPERLINK("#"&C17&"!"&CHAR(COLUMN(총괄설계내역서!O1)+64)&3,COLUMN(총괄설계내역서!O1)) -> 15 | Q17: =HYPERLINK("#"&C17&"!"&CHAR(COLUMN(총괄설계내역서!P1)+64)&3,COLUMN(총괄설계내역서!P1)) -> 16 | X17: =HYPERLINK("#"&C17&"!"&CHAR(COLUMN(총괄설계내역서!H1)+64)&3,COLUMN(총괄설계내역서!H1)) -> 8
B18: 13. 중기사용료
B19: 14. 일위대가표
B20: 15. 단가산출근거
B21: 16.
B22: 17.
B23: 18. 표준시장목록표
B24: [공사정보] | D24: =ROW(C33) -> 33
B25: M_VER | C25: 25.02
B26: PNAME | C26: 통진레코파크 증설사업(3단계:폐기물 처리비)
B27: PCLAS | C27: 0
B28: SCLAS | C28: 0
B29: K_ORD | C29: 0
B30: PRIPR | C30: True
B31: ACTYP | C31: 1
B32: ACTOP | C32: 2
B33: [초기값] | D33: =ROW(C52) -> 52
B34: P_ORD | C34: 1 | D34: 1 | E34: 0 | F34: 0 | G34: 0 | H34: 0
B35: EXNM_ | C35: 1466 | D35: 1466 | E35: 1466 | F35: 1466 | G35: 1 | H35: 1 | I35: 931 | J35: 931
B36: EXRNM | C36: True
B37: RXNM_ | C37: 1/8*16/12*25/20 | D37: 25/20 * 16/12 * 1/8 | F37: 1/8*16/12*25/20*12/10 | G37: 1/8*16/12*25/20*24/5
B38: COND_ | C38: L00019L00020L00021
B39: KCDNM | C39: 1
B40: JCDNM | C40: 1
B41: ECDNM | C41: 0
B42: ACDNM | C42: 1
B43: BPNNM | C43: 1
B44: ZCDNM | C44: 2
B45: CHGNM | C45: True
B46: CHBNM | C46: True
B47: CHNNM | C47: True
B48: CUTNM | C48: True
B49: OPTNM | C49: SML
B50: S_JDA | C50: True
B51: SUBNM
B52: [인쇄정보] | D52: =ROW(C75) -> 75
B53: BMSTR | C53: 재 료 비 | D53: 노 무 비 | E53: 경 비 | F53: 합 계
B54: BMKNM | C54: TLMS
B55: JEMNM | C55: 123456
B56: JMKN1 | C56: 조 달 청 | D56: 가.정
B57: JMKN2 | C57: 물가자료 | D57: 물.자
B58: JMKN3 | C58: 물가정보 | D58: 물.정
B59: JMKN4 | C59: 견적단가 | D59: 견적
B60: JMKN5 | C60: 견적단가2 | D60: 견적2
B61: JMKN6 | C61: 적용 단가
B62: CAP_CODE | C62: 코드번호
B63: CAP_NO | C63: 호표
B64: CAP_IBRD | C64: 분류번호
B65: CAP_EQCOD | C65: 시설코드
B66: CAP_ITNUM | C66: 공 종
B67: CAP_NAME | C67: 명 칭
B68: CAP_SIZE | C68: 규 격
B69: CAP_QTY | C69: 수 량
B70: CAP_SUNIT | C70: 단위
B71: CAP_AMT | C71: 단 가
B72: CAP_PAGE | C72: 페이지
... B74: CAP_BIGO | C74: 비 고
B75: [PREPARE] | D75: =ROW(C79) -> 79
B76: PREP_VER | C76: w25.02
B77: PREP_COP | C77: (주)건화 수도사업본부 #02
B78: PREP_DATE | C78: 2025-02-22
B79: [.끝.]
