Workbook

Sheet 원가계산서(통신)
A1: 원 가 계 산 서
A2: ="공사명 : "&#REF! -> #REF!
A3: 비 목 | D3: 구 성 비 (%) | H3: 합 계 | I3: 비고
A4: 순 공 사 원 가 | B4: 재료비 | C4: 직 접 재 료 비 | H4: =+ROUNDDOWN('총괄내역서(통신)'!F5,-1) -> 0 | I4: 10원 미만 절사
C5: 간 접 재 료 비 | H5: 0
C6: 작 업 부 산 물 | H6: 0
C7: 소 계 | H7: =INT(H4+H5+H6) -> 0 | I7: 10원 미만 절사
B8: 노무비 | C8: 직 접 노 무 비 | H8: =+ROUNDDOWN('총괄내역서(통신)'!H5,-1) -> 0 | I8: 10원 미만 절사
C9: 간 접 노 무 비 | D9: [직 접 노 무 비] | E9: × | F9: 0.191 | H9: =ROUNDDOWN(INT($H$8*F9),-1) -> 0 | I9: 10원 미만 절사
C10: 소 계 | H10: =INT(H8+H9) -> 0
B11: 경 비 | C11: 산 출 경 비 | H11: =+'총괄내역서(통신)'!J5 -> 0
C12: 산 재 보 험 료 | D12: [ 노 무 비 ] | E12: × | F12: 0.0356 | H12: =ROUNDDOWN(INT($H$10*F12),-1) -> 0 | I12: 10원 미만 절사
C13: 고 용 보 험 료 | D13: [ 노 무 비 ] | E13: × | F13: 0.0101 | H13: =ROUNDDOWN(INT($H$10*F13),-1) -> 0 | I13: 10원 미만 절사
C14: 건 강 보 험 료 | D14: [직 접 노 무 비] | E14: × | F14: 0.03595 | H14: =ROUNDDOWN(INT($H$8*F14),-1) -> 0 | I14: 1개월미만 공사 제외
C15: 연 금 보 험 료 | D15: [직 접 노 무 비] | E15: × | F15: 0.0475 | H15: =ROUNDDOWN(INT($H$8*F15),-1) -> 0 | I15: =I14 -> 1개월미만 공사 제외
C16: 퇴 직 공 제 부 금 | D16: [직 접 노 무 비] | E16: × | F16: 0.023 | I16: 1억 미만 제외
C17: 노인장기요양보험료 | D17: [건강보험료] | E17: × | F17: 0.1314 | H17: =ROUNDDOWN(INT(H14)*F17,-1) -> 0 | I17: =I15 -> 1개월미만 공사 제외
C18: 산업안전보건관리비 | D18: [재료비+직접노무비+도급자관급] | E18: × | F18: 0.0207 | H18: =ROUNDDOWN(TRUNC((H7+H8/1.1)*F18, 0),-1) -> 0 | I18: 10원 미만 절사
C19: 환 경 보 전 비 | D19: [재료비+직접노무비+기계경비] | E19: × | F19: 0.003 | H19: =INT(($H$7+$H$8)*F19) -> 0
C20: 기 타 경 비 | D20: [재료비+노무비] | E20: × | F20: 0.055 | H20: =ROUNDDOWN(INT((H7+H10)*F20),-1) -> 0 | I20: 10원 미만 절사
C21: 석 면 분 담 금 | D21: [ 노 무 비 ] | E21: × | F21: 6e-05 | H21: =ROUNDDOWN(INT($H$10*F21),-1) -> 0 | I21: 10원 미만 절사
C22: 임 금 채 권 부 담 금 | D22: [ 노 무 비 ] | E22: × | F22: 0.0009 | H22: =ROUNDDOWN(INT($H$10*F22),-1) -> 0 | I22: 10원 미만 절사
C23: 소 계 | H23: =INT(H12+H13+H14+H15+H17+H20+H11+H18+H19+H16+H21+H22) -> 0
B24: 계 | D24: [재료비+노무비+경비] | H24: =H7+H10+H23 -> 0
A25: 일 반 관 리 비 | D25: [재료비+노무비+경비] | E25: × | F25: 0.08 | H25: =INT(H24*F25) -> 0 | I25: 10원 미만 절사
A26: 이 윤 | D26: [노무비+경비+일반관리비] | E26: × | F26: 0.15 | I26: 10원 미만 절사 | J26: 절사 | K26: 17170
A27: 공 급 가 액 | D27: [순공사비+일반관리비+이윤] | I27: 10원 미만 절사
A28: 부 가 가 치 세 | D28: [공 급 가 액] | E28: × | F28: 0.1 | I28: 10원 미만 절사
A29: 도 급 예 정 액 | D29: [공급가액+부가가치세] | K29: 0.9 | L29: =+H29*K29 -> 0
A30: 총 공 사 비 | H30: =+H29 -> 0

Sheet 총괄내역서(통신)
A1: 내 역 서
A2: [ 2026년 상반기 주민참여예산사업 (통신) ]
A3: 품 목 | B3: 규 격 | C3: 단위 | D3: 수량 | E3: 재 료 비 | G3: 노 무 비 | I3: 경 비 | K3: 합 계 | M3: 비 고
E4: 단 가 | F4: 금 액 | G4: 단 가 | H4: 금 액 | I4: 단 가 | J4: 금 액 | K4: 단 가 | L4: 금 액
A5: 2026년 상반기 BIT 철거 및 재설치 3-1 | C5: 식 | D5: 1
A6: BIT 철거 | C6: 식 | D6: 1
A7: 정류장 안내단말기 철거 | B7: 단말기 철거 (재사용 80%) | C7: 대 | D7: =[18]수량산출서!E19+[18]수량산출서!F19 -> 11
A8: 네트워크 카메라 철거 | B8: 네트워크(IP)카메라-일반형 (재사용 80%) | C8: 대 | D8: =[18]수량산출서!G19 -> 11
A9: 무선 AP 철거 | B9: 단독형-AP (재설치 80%) | C9: 대 | D9: =[18]수량산출서!H19 -> 6
A10: 광케이블 국내성단 | B10: 12코어이하 | C10: 코어당 | D10: =[18]수량산출서!I19 -> 24
A13: BIT 재설치 | D13: 1
A14: 정류장 안내단말기 재설치 | B14: 단말기 재설치 | C14: 대 | D14: =[18]수량산출서!J19+[18]수량산출서!K19 -> 11
A15: 네트워크 카메라 재설치 | B15: 네트워크(IP)카메라-일반형 | C15: 대 | D15: =[18]수량산출서!L19 -> 11
A16: 무선 AP 재설치 | B16: 단독형-AP | C16: 대 | D16: =[18]수량산출서!M19 -> 6
A17: 광케이블 국내성단 | B17: 12코어이하 | C17: 코어당 | D17: =[18]수량산출서!N19 -> 24
A18: 광케이블 시험 및 측정 | B18: 최종시험 | C18: 코어당 | D18: =D17 -> 24

Sheet 일위대가(기초단위)
A1: 일 위 대 가
A2: 공 종 | B2: 규 격 | C2: 단위 | D2: 수량 | E2: 합 계 | G2: 재 료 비 | I2: 노 무 비 | K2: 경 비 | M2: 비고
E3: 단 가 | F3: 금액 | G3: 단가 | H3: 금액 | I3: 단가 | J3: 금액 | K3: 단가 | L3: 금액
A4: 잡철물 제작 및 설치비 (ton당) - 간단
A5: 용접봉 | B5: 3.2mm | C5: kg | D5: 18.48 | E5: =G5+I5+K5 -> #REF! | F5: =D5*E5 -> #REF! | G5: =#REF! -> #REF! | H5: =D5*G5 -> #REF! | J5: =D5*I5 -> 0 | L5: =D5*K5 -> 0 | M5: 단가조사서
A6: 산 소 | B6: 6000L | C6: L | D6: 6300 | E6: =G6+I6+K6 -> #REF! | F6: =D6*E6 -> #REF! | G6: =#REF! -> #REF! | H6: =D6*G6 -> #REF! | J6: =D6*I6 -> 0 | L6: =D6*K6 -> 0 | M6: 단가조사서
A7: 아세틸렌 | B7: 0.98 | C7: kg | D7: 2.8 | E7: =G7+I7+K7 -> #REF! | F7: =D7*E7 -> #REF! | G7: =#REF! -> #REF! | H7: =D7*G7 -> #REF! | J7: =D7*I7 -> 0 | L7: =D7*K7 -> 0 | M7: 단가조사서
A8: 철공 | C8: 인 | D8: 27.65 | E8: =G8+I8+K8 -> #REF! | F8: =D8*E8 -> #REF! | H8: =D8*G8 -> 0 | I8: =#REF! -> #REF! | J8: =D8*I8 -> #REF! | L8: =D8*K8 -> 0
A9: 비계공 | C9: 인 | D9: 4.71 | E9: =G9+I9+K9 -> #REF! | F9: =D9*E9 -> #REF! | H9: =D9*G9 -> 0 | I9: =#REF! -> #REF! | J9: =D9*I9 -> #REF! | L9: =D9*K9 -> 0
A10: 보통인부 | C10: 인 | D10: 0.66 | E10: =G10+I10+K10 -> #REF! | F10: =D10*E10 -> #REF! | H10: =D10*G10 -> 0 | I10: =#REF! -> #REF! | J10: =D10*I10 -> #REF! | L10: =D10*K10 -> 0
A11: 용접공 | C11: 인 | D11: 2.6 | E11: =G11+I11+K11 -> #REF! | F11: =D11*E11 -> #REF! | H11: =D11*G11 -> 0 | I11: =#REF! -> #REF! | J11: =D11*I11 -> #REF! | L11: =D11*K11 -> 0
A12: 특별인부 | C12: 인 | D12: 0.74 | E12: =G12+I12+K12 -> #REF! | F12: =D12*E12 -> #REF! | H12: =D12*G12 -> 0 | I12: =#REF! -> #REF! | J12: =D12*I12 -> #REF! | L12: =D12*K12 -> 0
A13: 용접기 손료 | B13: 500 Amp(교류) | C13: 시간 | D13: 20.83 | E13: =G13+I13+K13 -> 124 | F13: =D13*E13 -> 2582.92 | H13: =D13*G13 -> 0 | J13: =D13*I13 -> 0 | K13: 124 | L13: =D13*K13 -> 2582.92
A14: 전력소요량(겨울) | B14: 고압300kw미만 | C14: kWh | D14: 126 | E14: =G14+I14+K14 -> 54 | F14: =D14*E14 -> 6804 | H14: =D14*G14 -> 0 | J14: =D14*I14 -> 0 | K14: 54 | L14: =D14*K14 -> 6804
A15: 공구손료 | B15: 인건비의 3% | C15: 식 | D15: 1 | E15: =G15+I15+K15 -> #REF! | F15: =D15*E15 -> #REF! | H15: =D15*G15 -> 0 | J15: =D15*I15 -> 0 | K15: =J16*0.03 -> #REF! | L15: =D15*K15 -> #REF!
A16: 소 계 | F16: =INT(SUM(H16+J16+L16)) -> #REF! | H16: =INT(SUM(H5:H15)) -> #REF! | J16: =INT(SUM(J5:J15)) -> #REF! | L16: =INT(SUM(L5:L15)) -> #REF!
A18: 바탕만들기(목재면,㎡당)
A19: 오일퍼티 | C19: kg | D19: 0.03 | E19: =G19+I19+K19 -> #REF! | F19: =D19*E19 -> #REF! | G19: =#REF! -> #REF! | H19: =D19*G19 -> #REF! | J19: =D19*I19 -> 0 | L19: =D19*K19 -> 0 | M19: 단가조서
A20: 연마지 | B20: #180 | C20: 매 | D20: 0.15 | E20: =G20+I20+K20 -> #REF! | F20: =D20*E20 -> #REF! | G20: =#REF! -> #REF! | H20: =D20*G20 -> #REF! | J20: =D20*I20 -> 0 | L20: =D20*K20 -> 0 | M20: 단가조서
A21: 도장공 | C21: 인 | D21: 0.01 | E21: =G21+I21+K21 -> #REF! | F21: =D21*E21 -> #REF! | H21: =D21*G21 -> 0 | I21: =#REF! -> #REF! | J21: =D21*I21 -> #REF! | L21: =D21*K21 -> 0
A22: 기구손료 | B22: 인건비의 2% | C22: 식 | D22: 1 | E22: =G22+I22+K22 -> #REF! | F22: =D22*E22 -> #REF! | H22: =D22*G22 -> 0 | J22: =D22*I22 -> 0 | K22: =J23*0.03 -> #REF! | L22: =D22*K22 -> #REF!
A23: 소 계 | F23: =INT(SUM(H23+J23+L23)) -> #REF! | H23: =INT(SUM(H19:H22)) -> #REF! | J23: =INT(SUM(J19:J22)) -> #REF! | L23: =INT(SUM(L19:L22)) -> #REF!
A24: 바탕만들기(철재면,㎡당)
A25: 연마지 | B25: #180 | C25: 매 | D25: 0.25 | E25: =G25+I25+K25 -> #REF! | F25: =D25*E25 -> #REF! | G25: =#REF! -> #REF! | H25: =D25*G25 -> #REF! | J25: =D25*I25 -> 0 | L25: =D25*K25 -> 0 | M25: 단가조서
A26: 도장공 | C26: 인 | D26: 0.015 | E26: =G26+I26+K26 -> #REF! | F26: =D26*E26 -> #REF! | H26: =D26*G26 -> 0 | I26: =#REF! -> #REF! | J26: =D26*I26 -> #REF! | L26: =D26*K26 -> 0
A27: 기구손료 | B27: 인건비의 2% | C27: 식 | D27: 1 | E27: =G27+I27+K27 -> #REF! | F27: =D27*E27 -> #REF! | H27: =D27*G27 -> 0 | J27: =D27*I27 -> 0 | K27: =J28*0.03 -> #REF! | L27: =D27*K27 -> #REF!
A28: 소 계 | F28: =INT(SUM(H28+J28+L28)) -> #REF! | H28: =INT(SUM(H25:H27)) -> #REF! | J28: =INT(SUM(J25:J27)) -> #REF! | L28: =INT(SUM(L25:L27)) -> #REF!
A30: 바니시 칠(목재면 2회,㎡당)
A31: 바니시 | C31: L | D31: 0.108 | E31: =G31+I31+K31 -> #REF! | F31: =D31*E31 -> #REF! | G31: =ROUND(#REF!,0) -> #REF! | H31: =D31*G31 -> #REF! | J31: =D31*I31 -> 0 | L31: =D31*K31 -> 0 | M31: 단가조서
A32: 신너 | C32: L | D32: 0.006 | E32: =G32+I32+K32 -> #REF! | F32: =D32*E32 -> #REF! | G32: =ROUND(#REF!,0) -> #REF! | H32: =D32*G32 -> #REF! | J32: =D32*I32 -> 0 | L32: =D32*K32 -> 0 | M32: 단가조서
A33: 연마지 | C33: 매 | D33: 0.17 | E33: =G33+I33+K33 -> #REF! | F33: =D33*E33 -> #REF! | G33: =#REF! -> #REF! | H33: =D33*G33 -> #REF! | J33: =D33*I33 -> 0 | L33: =D33*K33 -> 0 | M33: 단가조서
A34: 도장공 | C34: 인 | D34: 0.048 | E34: =G34+I34+K34 -> #REF! | F34: =D34*E34 -> #REF! | H34: =D34*G34 -> 0 | I34: =#REF! -> #REF! | J34: =D34*I34 -> #REF! | L34: =D34*K34 -> 0
A35: 기구손료 | B35: 인건비의 2% | C35: 식 | D35: 1 | E35: =G35+I35+K35 -> #REF! | F35: =D35*E35 -> #REF! | H35: =D35*G35 -> 0 | J35: =D35*I35 -> 0 | K35: =J36*0.02 -> #REF! | L35: =D35*K35 -> #REF!
A36: 소 계 | F36: =INT(SUM(H36+J36+L36)) -> #REF! | H36: =INT(SUM(H31:H35)) -> #REF! | J36: =INT(SUM(J31:J35)) -> #REF! | L36: =INT(SUM(L31:L35)) -> #REF!
A38: 조합 유성페인트 칠(철재면 2회,㎡당)
A39: 조합페인트 | C39: L | D39: 0.166 | E39: =G39+I39+K39 -> #REF! | F39: =D39*E39 -> #REF! | G39: =#REF! -> #REF! | H39: =D39*G39 -> #REF! | J39: =D39*I39 -> 0 | L39: =D39*K39 -> 0 | M39: 단가조서
A40: 신너 | C40: L | D40: 0.008 | E40: =G40+I40+K40 -> #REF! | F40: =D40*E40 -> #REF! | G40: =#REF! -> #REF! | H40: =D40*G40 -> #REF! | J40: =D40*I40 -> 0 | L40: =D40*K40 -> 0 | M40: 단가조서
A41: 퍼티 | C41: kg | D41: 0.08 | E41: =G41+I41+K41 -> #REF! | F41: =D41*E41 -> #REF! | G41: =#REF! -> #REF! | H41: =D41*G41 -> #REF! | J41: =D41*I41 -> 0 | L41: =D41*K41 -> 0 | M41: 단가조서
A42: 연마지 | C42: 매 | D42: 0.1 | E42: =G42+I42+K42 -> #REF! | F42: =D42*E42 -> #REF! | G42: =#REF! -> #REF! | H42: =D42*G42 -> #REF! | J42: =D42*I42 -> 0 | L42: =D42*K42 -> 0 | M42: 단가조서
A43: 도장공 | C43: 인 | D43: 0.035 | E43: =G43+I43+K43 -> #REF! | F43: =D43*E43 -> #REF! | H43: =D43*G43 -> 0 | I43: =#REF! -> #REF! | J43: =D43*I43 -> #REF! | L43: =D43*K43 -> 0
A44: 소모재료비 | B44: 주재료비의 5% | C44: 식 | D44: 1 | E44: =G44+I44+K44 -> #REF! | F44: =D44*E44 -> #REF! | G44: =(H39+H40)*0.05 -> #REF! | H44: =D44*G44 -> #REF! | J44: =D44*I44 -> 0 | L44: =D44*K44 -> 0
A45: 기구손료 | B45: 인건비의 2% | C45: 식 | D45: 1 | E45: =G45+I45+K45 -> #REF! | F45: =D45*E45 -> #REF! | H45: =D45*G45 -> 0 | J45: =D45*I45 -> 0 | K45: =J47*0.02 -> #REF! | L45: =D45*K45 -> #REF!
A47: 소 계 | F47: =INT(SUM(H47+J47+L47)) -> #REF! | H47: =INT(SUM(H39:H45)) -> #REF! | J47: =INT(SUM(J39:J45)) -> #REF! | L47: =INT(SUM(L39:L45)) -> #REF!
A48: 폴리카보네이트 지붕잇기(㎡당)
A49: 폴리카보네이트 | B49: 6MM,단판 | C49: ㎡ | D49: 1.1 | E49: =G49+I49+K49 -> #REF! | F49: =D49*E49 -> #REF! | G49: =#REF! -> #REF! | H49: =D49*G49 -> #REF! | J49: =D49*I49 -> 0 | L49: =D49*K49 -> 0 | M49: 단가조서
A50: 창호공 | C50: 인 | D50: 0.17 | E50: =G50+I50+K50 -> #REF! | F50: =D50*E50 -> #REF! | H50: =D50*G50 -> 0 | I50: =#REF! -> #REF! | J50: =D50*I50 -> #REF! | L50: =D50*K50 -> 0
A51: 보통인부 | C51: 인 | D51: 0.2 | E51: =G51+I51+K51 -> #REF! | F51: =D51*E51 -> #REF! | H51: =D51*G51 -> 0 | I51: =#REF! -> #REF! | J51: =D51*I51 -> #REF! | L51: =D51*K51 -> 0
A52: 잡재료 | B52: 주재료비의 5% | C52: 식 | D52: 1 | E52: =G52+I52+K52 -> #REF! | F52: =D52*E52 -> #REF! | G52: =H49*0.05 -> #REF! | H52: =D52*G52 -> #REF!
A53: 공구손료 | B53: 인건비의 2% | C53: 식 | D53: 1 | E53: =G53+I53+K53 -> #REF! | F53: =D53*E53 -> #REF! | H53: =D53*G53 -> 0 | J53: =D53*I53 -> 0 | K53: =J54*0.02 -> #REF! | L53: =D53*K53 -> #REF!
A54: 소 계 | F54: =INT(SUM(H54+J54+L54)) -> #REF! | H54: =INT(SUM(H49:H53)) -> #REF! | J54: =INT(SUM(J49:J53)) -> #REF! | L54: =INT(SUM(L49:L53)) -> #REF!
A55: 강재 창호 달기(외여닫이,짝당)
A56: 강제창호달기 | B56: 외여닫이문 | C56: 짝당 | D56: 1 | E56: =G56+I56+K56 -> 106569 | F56: =D56*E56 -> 106569 | H56: =D56*G56 -> 0 | I56: 106569 | J56: =D56*I56 -> 106569 | L56: =D56*K56 -> 0 | M56: 물가정보(부)P121
A57: 소 계 | F57: =INT(SUM(H57+J57+L57)) -> 106569 | H57: =INT(SUM(H56:H56)) -> 0 | J57: =INT(SUM(J56:J56)) -> 106569 | L57: =INT(SUM(L56:L56)) -> 0
A58: 창호 철물 달기(개소당)
A59: 알루미늄창호달기 | B59: 여미닫이문 | C59: 개소당 | D59: 1 | E59: =G59+I59+K59 -> 106569 | F59: =D59*E59 -> 106569 | H59: =D59*G59 -> 0 | I59: 106569 | J59: =D59*I59 -> 106569 | L59: =D59*K59 -> 0 | M59: 물가정보(부)P121
A60: 소 계 | F60: =INT(SUM(H60+J60+L60)) -> 106569 | H60: =INT(SUM(H59:H59)) -> 0 | J60: =INT(SUM(J59:J59)) -> 106569 | L60: =INT(SUM(L59:L59)) -> 0
A62: 제9호표 :유리끼우기(판유리,㎡당) | M62: 표준품셈P969
A63: 유리공 | B63: 10MM 미만 | C63: 인 | D63: 0.33 | E63: =G63+I63+K63 -> 32824 | F63: =D63*E63 -> 10831.92 | H63: =D63*G63 -> 0 | I63: 32824 | J63: =D63*I63 -> 10831.92 | L63: =D63*K63 -> 0 | M63: 물가정보(부)P118
A64: 소 계 | F64: =SUM(F63:F63) -> 10831.92 | H64: =INT(SUM(H63:H63)) -> 0 | J64: =INT(SUM(J63:J63)) -> 10831 | L64: =INT(SUM(L63:L63)) -> 0
A65: 철골재 철거(TON당) | M65: 표준품셈P632
A66: 용접공 | C66: 인 | D66: 2.2 | E66: =G66+I66+K66 -> #REF! | F66: =D66*E66 -> #REF! | H66: =D66*G66 -> 0 | I66: =#REF! -> #REF! | J66: =D66*I66 -> #REF! | L66: =D66*K66 -> 0
A67: 보통인부 | C67: 인 | D67: 1 | E67: =G67+I67+K67 -> #REF! | F67: =D67*E67 -> #REF! | H67: =D67*G67 -> 0 | I67: =#REF! -> #REF! | J67: =D67*I67 -> #REF! | L67: =D67*K67 -> 0
A68: 보통인부(뒷정리) | C68: 인 | D68: 0.2 | E68: =G68+I68+K68 -> #REF! | F68: =D68*E68 -> #REF! | H68: =D68*G68 -> 0 | I68: =#REF! -> #REF! | J68: =D68*I68 -> #REF! | L68: =D68*K68 -> 0
A69: 산소 | C69: 병 | D69: 0.7 | E69: =G69+I69+K69 -> #REF! | F69: =D69*E69 -> #REF! | G69: =#REF! -> #REF! | H69: =D69*G69 -> #REF! | J69: =D69*I69 -> 0 | L69: =D69*K69 -> 0 | M69: 단가조서
A70: 아세틸렌 | C70: KG | D70: 2.5 | E70: =G70+I70+K70 -> #REF! | F70: =D70*E70 -> #REF! | G70: =#REF! -> #REF! | H70: =D70*G70 -> #REF! | J70: =D70*I70 -> 0 | L70: =D70*K70 -> 0 | M70: 단가조서
A71: 소 계 | F71: =INT(SUM(H71+J71+L71)) -> #REF! | H71: =INT(SUM(H66:H70)) -> #REF! | J71: =INT(SUM(J66:J70)) -> #REF! | L71: =INT(SUM(L66:L70)) -> 0
A72: 승강장 청소(물청소포함)-㎡당 | M72: 물가자료(부)P124
A73: 고압물세척 | C73: ㎥ | D73: 1 | G73: 190 | H73: =G73*D73 -> 190 | I73: 853 | J73: =I73*D73 -> 853 | K73: 43 | L73: =K73*D73 -> 43
A74: 세제 | C74: kg | D74: 0.1 | E74: =G74+I74+K74 -> #REF! | F74: =D74*E74 -> #REF! | G74: =#REF! -> #REF! | H74: =G74*D74 -> #REF! | J74: =I74*D74 -> 0 | L74: =K74*D74 -> 0 | M74: 단가조서
A75: 잡재료비 | B75: 재료비의 3% | C75: 식 | D75: 0.03 | E75: =G75+I75+K75 -> #REF! | F75: =D75*E75 -> #REF! | G75: =SUM(H73:H74) -> #REF! | H75: =G75*D75 -> #REF! | J75: =I75*D75 -> 0 | L75: =K75*D75 -> 0
A76: 인건비 | B76: 그라인딩 | C76: 인 | D76: 1 | E76: =G76+I76+K76 -> 2542 | F76: =D76*E76 -> 2542 | H76: =G76*D76 -> 0 | I76: 2542 | J76: =I76*D76 -> 2542 | L76: =K76*D76 -> 0
A77: 인건비 | B77: 도장공 | C77: 인 | D77: 1 | E77: =G77+I77+K77 -> 5279.2 | F77: =D77*E77 -> 5279.2 | H77: =G77*D77 -> 0 | I77: 5279.2 | J77: =I77*D77 -> 5279.2 | L77: =K77*D77 -> 0
A78: 소 계 | F78: =INT(SUM(H78+J78+L78)) -> #REF! | H78: =INT(SUM(H73:H77)) -> #REF! | J78: =INT(SUM(J73:J77)) -> 8674 | L78: =INT(SUM(L73:L77)) -> 43
A79: 창호 자물쇠 달기(개당) - 자재미포함 | M79: 건품17-3
A80: 자물쇠 | C80: 개 | D80: 1 | E80: =G80+I80+K80 -> 0 | F80: =D80*E80 -> 0 | H80: =G80*D80 -> 0 | J80: =I80*D80 -> 0 | L80: =K80*D80 -> 0 | M80: 지급자재
A81: 경첩 | C81: 개 | D81: 1 | E81: =G81+I81+K81 -> #REF! | F81: =D81*E81 -> #REF! | G81: =#REF! -> #REF! | H81: =G81*D81 -> #REF! | J81: =I81*D81 -> 0 | L81: =K81*D81 -> 0 | M81: 단가조서
A82: 잡재료비 | B82: 재료비의 3% | C82: 식 | D82: 0.03 | E82: =G82+I82+K82 -> #REF! | F82: =D82*E82 -> #REF! | G82: =SUM(H80:H81) -> #REF! | H82: =G82*D82 -> #REF! | J82: =I82*D82 -> 0 | L82: =K82*D82 -> 0
A83: 자물쇠달기 | B83: 창호공(=샷시공) | C83: 인 | D83: 0.12 | E83: =G83+I83+K83 -> #REF! | F83: =D83*E83 -> #REF! | H83: =D83*G83 -> 0 | I83: =#REF! -> #REF! | J83: =D83*I83 -> #REF! | L83: =D83*K83 -> 0 | M83: 물가정보(부)P117
B84: 보통인부 | C84: 인 | D84: 0.02 | E84: =G84+I84+K84 -> #REF! | F84: =D84*E84 -> #REF! | H84: =D84*G84 -> 0 | I84: =#REF! -> #REF! | J84: =D84*I84 -> #REF! | L84: =D84*K84 -> 0
A85: 공구손료 | B85: 인력품의 3% | C85: 식 | D85: 0.03 | E85: =G85+I85+K85 -> #REF! | F85: =D85*E85 -> #REF! | H85: =D85*G85 -> 0 | J85: =D85*I85 -> 0 | K85: =J86 -> #REF! | L85: =D85*K85 -> #REF!
A86: 소 계 | F86: =INT(SUM(H86+J86+L86)) -> #REF! | H86: =INT(SUM(H80:H84)) -> #REF! | J86: =INT(SUM(J80:J85)) -> #REF! | L86: =INT(SUM(L80:L85)) -> #REF!
A87: 소형고압블럭 재사용 설치 (자재 포함) - ㎡ | M87: 토목12-3-3-1
A88: 소형고압블럭 | B88: t=4~6㎝ | C88: m2 | D88: 1 | E88: =G88+I88+K88 -> #REF! | F88: =D88*E88 -> #REF! | G88: =#REF! -> #REF! | H88: =INT(G88*D88) -> #REF! | J88: =I88*D88 -> 0 | L88: =INT(K88*D88) -> 0
A89: 모래 | B89: t=4㎝ | C89: ㎡ | D89: =4.4/100 -> 0.044 | E89: =G89+I89+K89 -> #REF! | F89: =D89*E89 -> #REF! | G89: =#REF! -> #REF! | H89: =INT(G89*D89) -> #REF! | J89: =I89*D89 -> 0 | L89: =INT(K89*D89) -> 0
A90: 잡재료비 | B90: 인력품의 5% | C90: 식 | D90: 0.05 | E90: =G90+I90+K90 -> #REF! | F90: =D90*E90 -> #REF! | G90: =SUM(H88:H89) -> #REF! | H90: =INT(G90*D90) -> #REF! | I90: 0 | J90: =I90*D90 -> 0 | K90: =J87+J88 -> 0 | L90: =INT(K90*D90) -> 0
A91: 보도용 블록 포장 | B91: 특별인부 | C91: 인 | D91: =2/100 -> 0.02 | E91: =G91+I91+K91 -> #REF! | F91: =D91*E91 -> #REF! | G91: 0 | H91: =INT(G91*D91) -> 0 | I91: =#REF! -> #REF! | J91: =I91*D91 -> #REF! | L91: =INT(K91*D91) -> 0
B92: 보통인부 | C92: 인 | D92: =4/100 -> 0.04 | E92: =G92+I92+K92 -> #REF! | F92: =D92*E92 -> #REF! | G92: 0 | H92: =INT(G92*D92) -> 0 | I92: =#REF! -> #REF! | J92: =I92*D92 -> #REF! | L92: =INT(K92*D92) -> 0
A93: 다짐 | B93: 플레이트콤팩트,1.5ton | C93: hr | D93: =10/100 -> 0.1 | E93: =G93+I93+K93 -> #REF! | F93: =D93*E93 -> #REF! | G93: ='일위대가(기초단위2)'!F106 -> #REF! | H93: =INT(G93*D93) -> #REF! | I93: ='일위대가(기초단위2)'!H106 -> #REF! | J93: =I93*D93 -> #REF! | K93: ='일위대가(기초단위2)'!J106 -> 5935 | L93: =INT(K93*D93) -> 593
A94: 공구손료 | B94: 인력품의 3% | C94: 식 | D94: 0.03 | E94: =G94+I94+K94 -> #REF! | F94: =D94*E94 -> #REF! | G94: 0 | H94: =INT(G94*D94) -> 0 | I94: 0 | J94: =I94*D94 -> 0 | K94: =J91+J92 -> #REF! | L94: =INT(K94*D94) -> #REF!
H95: =SUM(H88:H94) -> #REF! | J95: =SUM(J88:J94) -> #REF! | L95: =SUM(L88:L94) -> #REF!
A96: 소 계 | F96: =INT(SUM(H96+J96+L96)) -> #REF! | H96: =H95 -> #REF! | J96: =J95 -> #REF! | L96: =L95 -> #REF!
A97: 소형고압블럭 해체 (유용목적)
A98: 설치의 50% | C98: 식 | D98: 0.5 | E98: =G98+I98+K98 -> #REF! | F98: =D98*E98 -> #REF! | I98: =J96 -> #REF! | J98: =I98*D98 -> #REF! | K98: =L96 -> #REF! | L98: =INT(K98*D98) -> #REF!
A99: 소 계 | E99: =G99+I99+K99 -> 0 | F99: =D99*E99 -> 0 | H99: =SUM(H97:H98) -> 0 | J99: =SUM(J97:J98) -> #REF! | L99: =SUM(L97:L98) -> #REF!
A100: 유리세척 --- ㎡당
A101: 보통인부 | C101: 0.01 | D101: 인 | E101: =G101+I101+K101 -> #REF! | I101: =#REF! -> #REF! | J101: =C101*I101 -> #REF! | L101: =C101*K101 -> 0
A102: 넝 마 | B102: 면90%이상 | C102: 0.01 | D102: kg | E102: =G102+I102+K102 -> #REF! | G102: =#REF! -> #REF! | H102: =C102*G102 -> #REF!
A103: 세제 | C103: 0.01 | D103: ml | E103: =G103+I103+K103 -> #REF! | G103: =#REF! -> #REF! | H103: =C103*G103 -> #REF!
A104: 소 계 | H104: =SUM(H101:H103) -> #REF! | J104: =SUM(J101:J103) -> #REF! | L104: =SUM(L101:L103) -> 0
A107: 수밀코킹 --- ㎡당
...

Sheet 일위대가(기초단위2)
A1: 단 위 내 역 서
A3: 명 칭 | B3: 규 격 | C3: 수 량 | D3: 단위 | E3: 재 료 비 | G3: 노 무 비 | I3: 경 비 | K3: 비 고 (2011년 건설품셈적용)
E4: 단 가 | F4: 금 액 | G4: 단 가 | H4: 금 액 | I4: 단 가 | J4: 금 액
A5: #101 합판거푸집 (M2) 1회 사용기준 | K5: (건품6-3-2)
A6: 합판 | B6: 고재발생 | C6: 1.03 | D6: ㎡ | E6: =#REF! -> #REF! | F6: =ROUND((C6*E6),1) -> #REF! | K6: 단가조사서
A7: 각재 | B7: 고재발생 | C7: 0.038 | D7: ㎥ | E7: =#REF! -> #REF! | F7: =ROUND((C7*E7),1) -> #REF! | K7: 단가조사서
A8: 철선 | B8: #8,T=4MM | C8: 0.29 | D8: ㎏ | E8: =#REF! -> #REF! | F8: =ROUND((C8*E8),1) -> #REF! | K8: 단가조사서
A9: 못 | B9: N=50MM | C9: 0.2 | D9: ㎏ | E9: =#REF! -> #REF! | F9: =ROUND((C9*E9),1) -> #REF! | K9: 단가조사서
A10: 박리제 | B10: 중유(합판거푸집용) | C10: 0.19 | D10: ℓ | E10: =#REF! -> #REF! | F10: =ROUND((C10*E10),1) -> #REF! | K10: 단가조사서
A11: 형틀목공 | C11: 0.3 | D11: 인 | G11: =#REF! -> #REF! | H11: =ROUND((C11*G11),1) -> #REF!
A12: 보통인부 | C12: 0.25 | D12: 인 | G12: =#REF! -> #REF! | H12: =ROUND((C12*G12),1) -> #REF!
A13: 계 | F13: =ROUND((SUM(F6:F12)),0) -> #REF! | H13: =SUM(H11:H12) -> #REF!
A14: 6회사용 | B14: 재료34.7% | F14: =INT(F13*34.7%) -> #REF! | H14: =INT(H13*32%) -> #REF!
B15: 노무32%기준
A17: #102 ASP CUTTING (M당) | K17: <건12-3-1-2>
A18: 브레이드 | B18: T=3.2MM,도로용 | C18: 0.0027 | D18: 개 | E18: =#REF! -> #REF! | F18: =ROUND((C18*E18),1) -> #REF! | K18: 단가조사서
A19: 물 | C19: 20 | D19: ℓ | E19: =#REF!/1000 -> #REF! | F19: =ROUND((C19*E19),1) -> #REF! | K19: 물가정보부록181
A20: 보통인부 | C20: 0.0075 | D20: 인 | F20: =ROUND((C20*E20),1) -> 0 | G20: =#REF! -> #REF! | H20: =ROUND((C20*G20),1) -> #REF!
A21: 컷터기 | B21: 시간당30M | C21: 0.0333 | D21: Hr | E21: =$F$132 -> #REF! | F21: =ROUND((C21*E21),1) -> #REF! | G21: =$H$132 -> #REF! | H21: =ROUND((C21*G21),1) -> #REF! | I21: =$J$132 -> 1460 | J21: =ROUND((C21*I21),1) -> 48.6 | K21: #201(건품11-32)
A22: 계 | F22: =INT(SUM(F18:F21)) -> #REF! | H22: =INT(SUM(H18:H21)) -> #REF! | J22: =INT(SUM(J18:J21)) -> 48
A24: #103 CON CUTTING (M당) | K24: <건12-3-2-3>
A25: 브레이드 | B25: T=3.2MM | C25: 0.0031 | D25: 개 | E25: =$E$18 -> #REF! | F25: =ROUND((C25*E25),1) -> #REF!
A26: 물 | C26: 30 | D26: ℓ | E26: =190/1000 -> 0.19 | F26: =ROUND((C26*E26),1) -> 5.7
A27: 보통인부 | C27: 0.0086 | D27: 인 | F27: =ROUND((C27*E27),1) -> 0 | G27: =#REF! -> #REF! | H27: =ROUND((C27*G27),1) -> #REF!
A28: 컷터기 | B28: 시간당30M | C28: 0.0333 | D28: Hr | E28: =$F$132 -> #REF! | F28: =ROUND((C28*E28),1) -> #REF! | G28: =$H$132 -> #REF! | H28: =ROUND((C28*G28),1) -> #REF! | I28: =$J$132 -> 1460 | J28: =ROUND((C28*I28),1) -> 48.6 | K28: #201(건품11-32)
A29: 계 | F29: =INT(SUM(F25:F28)) -> #REF! | H29: =INT(SUM(H25:H28)) -> #REF! | J29: =INT(SUM(J25:J28)) -> 48
A30: #104 인력터파기 (0-1M, ㎥당) | K30: (건품3-1-3)
A31: 보통인부 | C31: 0.324 | D31: 인 | G31: =#REF! -> #REF! | H31: =ROUND((C31*G31),1) -> #REF!
A32: 계 | H32: =INT(SUM(H31)) -> #REF!
A33: #105 인력터파기 (1-2M, ㎥당) | K33: <건3-1-3>
A34: 보통인부 | C34: 0.43 | D34: 인 | G34: =#REF! -> #REF! | H34: =ROUND((C34*G34),1) -> #REF!
A35: 계 | H35: =INT(SUM(H34)) -> #REF!
A36: #105-1 터파기 (인력30%, 기계 70%, 1-2M, ㎥당) | K36: <건3-1-2>
A37: 인력터파기(30%) | B37: 1-2m, 보통토사 | C37: 0.3 | D37: ㎥ | F37: =ROUND((C37*E37),1) -> 0 | G37: =$H$35 -> #REF! | H37: =ROUND((C37*G37),1) -> #REF! | J37: =ROUND((C37*I37),1) -> 0 | K37: #105(건품3-1-3)
A38: 유압식 백호우(70%) | B38: 0.4㎥ | C38: 0.7 | D38: ㎥ | E38: =$F$235 -> #REF! | F38: =ROUND((C38*E38),1) -> #REF! | G38: =$H$235 -> #REF! | H38: =ROUND((C38*G38),1) -> #REF! | I38: =$J$235 -> 22085 | J38: =ROUND((C38*I38),1) -> 15459.5 | K38: #301(건품11-3-5)
A39: 계 | F39: =INT(SUM(F37:F38)) -> #REF! | H39: =INT(SUM(H37:H38)) -> #REF! | J39: =INT(SUM(J37:J38)) -> 15459
A40: #106 되메우기 (㎥당) | K40: (건품3-1-3-⑧)
A41: 보통인부 | C41: 0.1 | D41: 인 | G41: =#REF! -> #REF! | H41: =ROUND((C41*G41),1) -> #REF!
A42: 모래 | C42: 1 | D42: ㎥ | E42: =#REF! -> #REF! | F42: =ROUND((C42*E42),1) -> #REF! | K42: 단가조사거
A43: 계 | F43: =INT(SUM(F41:F42)) -> #REF! | H43: =INT(SUM(H41:H42)) -> #REF!
A44: #106-1 되메우고 다짐 (인력30%, 기계 70%, ㎥당) | K44: <건3-1-나-5>
A45: 인력터파기(30%) | B45: 1-2m, 보통토사 | C45: 0.3 | D45: ㎥ | G45: =$H$35 -> #REF! | H45: =ROUND((C45*G45),1) -> #REF! | J45: =ROUND((C45*I45),1) -> 0 | K45: #105(건품3-1-3)
A46: 유압식 백호우(70%) | B46: 0.4㎥ | C46: 0.7 | D46: ㎥ | E46: =$F$235 -> #REF! | F46: =ROUND((C46*E46),1) -> #REF! | G46: =$H$235 -> #REF! | H46: =ROUND((C46*G46),1) -> #REF! | I46: =$J$235 -> 22085 | J46: =ROUND((C46*I46),1) -> 15459.5 | K46: #301(건품11-3-5)
A47: 보통인부 | C47: 0.1 | D47: 인 | G47: =#REF! -> #REF! | H47: =ROUND((C47*G47),1) -> #REF!
A48: 모래 | B48: 강모래,왕사 | C48: 1 | D48: ㎥ | E48: =$E$42 -> #REF! | F48: =ROUND((C48*E48),1) -> #REF!
A49: 계 | F49: =INT(SUM(F45:F48)) -> #REF! | H49: =INT(SUM(H45:H48)) -> #REF! | J49: =INT(SUM(J45:J48)) -> 15459
A50: #107 잔토정리 (㎥당) | K50: (건품3-1-3-⑨)
A51: 보통인부 | C51: 0.2 | D51: 인 | G51: =#REF! -> #REF! | H51: =ROUND((C51*G51),1) -> #REF!
A52: 계 | F52: =INT(SUM(F51:F51)) -> 0 | H52: =INT(SUM(H51:H51)) -> #REF!
A53: #108 잔토처리 (㎥당) | K53: (건품3-1-3-④)
A54: 잔토운반(2.5T) | B54: 20㎞기준 | C54: 0.3236 | D54: 인 | E54: =$F$138 -> #REF! | F54: =ROUND((C54*E54),1) -> #REF! | G54: =$H$138 -> #REF! | H54: =ROUND((C54*G54),1) -> #REF! | I54: =$J$138 -> 4795 | J54: =ROUND((C54*I54),1) -> 1551.7 | K54: #202
A55: 반입수수료 | B55: 톤당85,400원 | C55: 1 | D55: 식 | F55: =ROUND((C55*E55),1) -> 0 | I55: =INT(2.5*85400/100) -> 2135 | J55: =ROUND((C55*I55),1) -> 2135
A56: 계 | F56: =INT(SUM(F54:F55)) -> #REF! | H56: =INT(SUM(H54:H55)) -> #REF! | J56: =INT(SUM(J54:J55)) -> 3686
A57: #109 CON타설 (무근CON, ㎥당) B매합 40mm굵은골재 | K57: (건품6-1)
A58: 시멘트 | C58: 323 | D58: ㎏ | E58: =#REF! -> #REF! | F58: =ROUND((C58*E58),1) -> #REF! | K58: 단가조사서
A59: 모래 | C59: 0.48 | D59: ㎥ | E59: =#REF! -> #REF! | F59: =ROUND((C59*E59),1) -> #REF! | K59: 단가조사서
A60: 자갈 | C60: 0.65 | D60: ㎥ | E60: =#REF! -> #REF! | F60: =ROUND((C60*E60),1) -> #REF! | K60: 단가조사서
A61: 콘크리트공 | C61: 0.85 | D61: 인 | F61: =ROUND((C61*E61),1) -> 0 | G61: =#REF! -> #REF! | H61: =ROUND((C61*G61),1) -> #REF!
A62: 보통인부 | C62: 0.82 | D62: 인 | F62: =ROUND((C62*E62),1) -> 0 | G62: =#REF! -> #REF! | H62: =ROUND((C62*G62),1) -> #REF!
A63: 계 | F63: =INT(SUM(F58:F62)) -> #REF! | H63: =INT(SUM(H58:H62)) -> #REF!
A64: #110 아스팔트 포장파괴 (㎥당) | K64: <건12-25-2>
A65: 특별인부 | C65: 1.52 | D65: 인 | G65: =#REF! -> #REF! | H65: =ROUND((C65*G65),1) -> #REF!
A66: 계 | H66: =INT(SUM(H65)) -> #REF!
A67: #110-1 아스팔트 포장파괴 (인력20%, 기계80%, ㎥당)
A68: 아스팔트 포장파괴 | B68: 인력 | C68: 0.2 | D68: ㎥ | F68: =ROUND((C68*E68),1) -> 0 | G68: =$H$66 -> #REF! | H68: =ROUND((C68*G68),1) -> #REF! | J68: =ROUND((C68*I68),1) -> 0
A69: 유압식 백호우 | B69: 0.7㎥ | C69: 0.2717 | D69: 시간 | E69: =$F$235 -> #REF! | F69: =ROUND((C69*E69),1) -> #REF! | G69: =$H$235 -> #REF! | H69: =ROUND((C69*G69),1) -> #REF! | I69: =$J$235 -> 22085 | J69: =ROUND((C69*I69),1) -> 6000.5 | K69: #301(건품11-3)
A70: 대형 브레이커 | B70: 0.7㎥ | C70: 0.2717 | D70: 시간 | F70: =ROUND((C70*E70),1) -> 0 | H70: =ROUND((C70*G70),1) -> 0 | I70: =$J$238 -> 2671 | J70: =ROUND((C70*I70),1) -> 725.7 | K70: #302(건품11-6)
A71: 계 | F71: =INT(SUM(F68:F70)) -> #REF! | H71: =INT(SUM(H68:H70)) -> #REF! | J71: =INT(SUM(J68:J70)) -> 6726
A72: #111 콘크리트 포장파괴 (㎥당)
A73: 특별인부 | C73: 1.8 | D73: 인 | G73: =#REF! -> #REF! | H73: =ROUND((C73*G73),1) -> #REF!
A74: 계 | H74: =INT(SUM(H73)) -> #REF!
A75: #112 보도블럭 깔기 (㎡당)
A76: 콘크리트블럭 | B76: 0.3*0.3*0.06 | C76: 11 | D76: 개 | E76: =#REF! -> #REF! | F76: =ROUND((C76*E76),1) -> #REF! | H76: =ROUND((C76*G76),1) -> 0 | J76: =ROUND((C76*I76),1) -> 0 | K76: 단가조서
A77: 줄눈 | B77: 모래 | C77: 0.002 | D77: ㎥ | E77: =$E$59 -> #REF! | F77: =ROUND((C77*E77),1) -> #REF! | J77: =ROUND((C77*I77),1) -> 0 | K77: 단가조서
A78: 특별인부 | C78: 0.036 | D78: 인 | G78: =#REF! -> #REF! | H78: =ROUND((C78*G78),1) -> #REF!
A79: 보통인부 | C79: 0.047 | D79: 인 | F79: =ROUND((C79*E79),1) -> 0 | G79: =#REF! -> #REF! | H79: =ROUND((C79*G79),1) -> #REF!
A80: 계 | F80: =INT(SUM(F76:F79)) -> #REF! | H80: =INT(SUM(H76:H79)) -> #REF! | J80: =INT(SUM(J76:J79)) -> 0
A81: #113 보도블럭 철거 (㎡당)
A82: 보통인부 | C82: 0.035 | D82: 인 | F82: =ROUND((C82*E82),1) -> 0 | G82: =#REF! -> #REF! | H82: =ROUND((C82*G82),1) -> #REF!
A83: 계 | F83: =INT(SUM(F82:F82)) -> 0 | H83: =INT(SUM(H82:H82)) -> #REF!
A84: #114 안전표지 지주 및 기초 철거 (1본당) | J84: =C84*I84 -> 0
A85: 보통인부 | B85: 철거 | C85: 0.176 | D85: 인 | F85: =C85*E85 -> 0 | G85: =#REF! -> #REF! | H85: =C85*G85 -> #REF! | J85: =C85*I85 -> 0 | K85: 건품12-5-1-1
A86: 소 계 | H86: =INT(SUM(H85)) -> #REF!
A87: #115 안전표지판 교체 (매당) | K87: 건품12-5-1-1
A88: 보통인부 | B88: 교체 | C88: 0.33 | D88: 인 | G88: =#REF! -> #REF! | H88: =G88*C88 -> #REF!
A89: 소 계 | H89: =INT(SUM(H88:H88)) -> #REF!
A90: #116 시선유도시설 철거 | J90: =C90*I90 -> 0 | K90: 건품12-28-3-5
A91: 보통인부 | B91: 철거 | C91: 0.05 | D91: 인 | F91: =C91*E91 -> 0 | G91: =#REF! -> #REF! | H91: =C91*G91 -> #REF! | J91: =C91*I91 -> 0
A92: 소 계 | H92: =INT(SUM(H91)) -> #REF!
A93: #117 시선유도시설 구조물 취부(흙매설용) | K93: 건품12-6-1-5
A94: 보통인부 | B94: 설치 | C94: 0.11 | D94: 인 | G94: =#REF! -> #REF! | H94: =G94*C94 -> #REF!
B95: 철거 | C95: 0.04 | D95: 인 | G95: =#REF! -> #REF! | H95: =G95*C95 -> #REF! | J95: =C95*I95 -> 0
A96: 소 계 | H96: =INT(SUM(H94:H95)) -> #REF!
A97: #118 표지병 제거 | K97: 건품12-6-1-3
A98: 보통인부 | B98: 구조물 취부 | C98: 0.05 | D98: 인 | G98: =#REF! -> #REF! | H98: =G98*C98 -> #REF!
A99: 소 계 | F99: =SUM(F91:F98) -> 0 | H99: =INT(SUM(H98)) -> #REF!
A100: #114 아스콘 포설 (t=15㎝), a(100㎡당)
A101: 포설공 | C101: =2.1*2 -> 4.2 | D101: 인 | G101: =#REF! -> #REF! | H101: =ROUND((C101*G101),1) -> #REF! | K101: 건품12-13-1
A102: 보통인부 | C102: 0.4 | D102: 인 | G102: =#REF! -> #REF! | H102: =ROUND((C102*G102),1) -> #REF!
A103: 계 | H103: =INT(SUM(H101:H102)) -> #REF!
...
