Workbook

Sheet 원가계산서(통신)
A1: 원 가 계 산 서
A2: ="공사명 : "&#REF! -> #REF!
A3: 비 목 | D3: 구 성 비 (%) | H3: 합 계 | I3: 비고
A4: 순 공 사 원 가 | B4: 재료비 | C4: 직 접 재 료 비 | H4: =+ROUNDDOWN('총괄내역서(통신)'!F5,-1) -> 0 | I4: 10원 미만 절사
C5: 간 접 재 료 비 | H5: 0
C6: 작 업 부 산 물 | H6: 0
C7: 소 계 | H7: =INT(H4+H5+H6) -> 0 | I7: 10원 미만 절사
B8: 노무비 | C8: 직 접 노 무 비 | H8: =+ROUNDDOWN('총괄내역서(통신)'!H5,-1) -> 0 | I8: 10원 미만 절사
C9: 간 접 노 무 비 | D9: [직 접 노 무 비] | E9: × | F9: 0.191 | H9: =ROUNDDOWN(INT($H$8*F9),-1) -> 0 | I9: 10원 미만 절사
C10: 소 계 | H10: =INT(H8+H9) -> 0
B11: 경 비 | C11: 산 출 경 비 | H11: =+'총괄내역서(통신)'!J5 -> 0
C12: 산 재 보 험 료 | D12: [ 노 무 비 ] | E12: × | F12: 0.0356 | H12: =ROUNDDOWN(INT($H$10*F12),-1) -> 0 | I12: 10원 미만 절사
C13: 고 용 보 험 료 | D13: [ 노 무 비 ] | E13: × | F13: 0.0101 | H13: =ROUNDDOWN(INT($H$10*F13),-1) -> 0 | I13: 10원 미만 절사
C14: 건 강 보 험 료 | D14: [직 접 노 무 비] | E14: × | F14: 0.03595 | H14: =ROUNDDOWN(INT($H$8*F14),-1) -> 0 | I14: 1개월미만 공사 제외
C15: 연 금 보 험 료 | D15: [직 접 노 무 비] | E15: × | F15: 0.0475 | H15: =ROUNDDOWN(INT($H$8*F15),-1) -> 0 | I15: =I14 -> 1개월미만 공사 제외
C16: 퇴 직 공 제 부 금 | D16: [직 접 노 무 비] | E16: × | F16: 0.023 | I16: 1억 미만 제외
C17: 노인장기요양보험료 | D17: [건강보험료] | E17: × | F17: 0.1314 | H17: =ROUNDDOWN(INT(H14)*F17,-1) -> 0 | I17: =I15 -> 1개월미만 공사 제외
C18: 산업안전보건관리비 | D18: [재료비+직접노무비+도급자관급] | E18: × | F18: 0.0207 | H18: =ROUNDDOWN(TRUNC((H7+H8/1.1)*F18, 0),-1) -> 0 | I18: 10원 미만 절사
C19: 환 경 보 전 비 | D19: [재료비+직접노무비+기계경비] | E19: × | F19: 0.003 | H19: =INT(($H$7+$H$8)*F19) -> 0
C20: 기 타 경 비 | D20: [재료비+노무비] | E20: × | F20: 0.055 | H20: =ROUNDDOWN(INT((H7+H10)*F20),-1) -> 0 | I20: 10원 미만 절사
C21: 석 면 분 담 금 | D21: [ 노 무 비 ] | E21: × | F21: 6e-05 | H21: =ROUNDDOWN(INT($H$10*F21),-1) -> 0 | I21: 10원 미만 절사
C22: 임 금 채 권 부 담 금 | D22: [ 노 무 비 ] | E22: × | F22: 0.0009 | H22: =ROUNDDOWN(INT($H$10*F22),-1) -> 0 | I22: 10원 미만 절사
C23: 소 계 | H23: =INT(H12+H13+H14+H15+H17+H20+H11+H18+H19+H16+H21+H22) -> 0
B24: 계 | D24: [재료비+노무비+경비] | H24: =H7+H10+H23 -> 0
A25: 일 반 관 리 비 | D25: [재료비+노무비+경비] | E25: × | F25: 0.08 | H25: =INT(H24*F25) -> 0 | I25: 10원 미만 절사
A26: 이 윤 | D26: [노무비+경비+일반관리비] | E26: × | F26: 0.15 | I26: 10원 미만 절사 | J26: 절사 | K26: 17170
A27: 공 급 가 액 | D27: [순공사비+일반관리비+이윤] | I27: 10원 미만 절사
A28: 부 가 가 치 세 | D28: [공 급 가 액] | E28: × | F28: 0.1 | I28: 10원 미만 절사
A29: 도 급 예 정 액 | D29: [공급가액+부가가치세] | K29: 0.9 | L29: =+H29*K29 -> 0
A30: 총 공 사 비 | H30: =+H29 -> 0

Sheet 총괄내역서(통신)
A1: 내 역 서
A2: [ 2026년 상반기 주민참여예산사업 (통신) ]
A3: 품 목 | B3: 규 격 | C3: 단위 | D3: 수량 | E3: 재 료 비 | G3: 노 무 비 | I3: 경 비 | K3: 합 계 | M3: 비 고
E4: 단 가 | F4: 금 액 | G4: 단 가 | H4: 금 액 | I4: 단 가 | J4: 금 액 | K4: 단 가 | L4: 금 액
A5: 2026년 상반기 BIT 철거 및 재설치 3-1 | C5: 식 | D5: 1
A6: BIT 철거 | C6: 식 | D6: 1
A7: 정류장 안내단말기 철거 | B7: 단말기 철거 (재사용 80%) | C7: 대 | D7: =[18]수량산출서!E19+[18]수량산출서!F19 -> 11
A8: 네트워크 카메라 철거 | B8: 네트워크(IP)카메라-일반형 (재사용 80%) | C8: 대 | D8: =[18]수량산출서!G19 -> 11
A9: 무선 AP 철거 | B9: 단독형-AP (재설치 80%) | C9: 대 | D9: =[18]수량산출서!H19 -> 6
A10: 광케이블 국내성단 | B10: 12코어이하 | C10: 코어당 | D10: =[18]수량산출서!I19 -> 24
A13: BIT 재설치 | D13: 1
A14: 정류장 안내단말기 재설치 | B14: 단말기 재설치 | C14: 대 | D14: =[18]수량산출서!J19+[18]수량산출서!K19 -> 11
A15: 네트워크 카메라 재설치 | B15: 네트워크(IP)카메라-일반형 | C15: 대 | D15: =[18]수량산출서!L19 -> 11
A16: 무선 AP 재설치 | B16: 단독형-AP | C16: 대 | D16: =[18]수량산출서!M19 -> 6
A17: 광케이블 국내성단 | B17: 12코어이하 | C17: 코어당 | D17: =[18]수량산출서!N19 -> 24
A18: 광케이블 시험 및 측정 | B18: 최종시험 | C18: 코어당 | D18: =D17 -> 24

Sheet 일위대가(기초단위)
A1: 일 위 대 가
A2: 공 종 | B2: 규 격 | C2: 단위 | D2: 수량 | E2: 합 계 | G2: 재 료 비 | I2: 노 무 비 | K2: 경 비 | M2: 비고
E3: 단 가 | F3: 금액 | G3: 단가 | H3: 금액 | I3: 단가 | J3: 금액 | K3: 단가 | L3: 금액
A4: 잡철물 제작 및 설치비 (ton당) - 간단
A5: 용접봉 | B5: 3.2mm | C5: kg | D5: 18.48 | E5: =G5+I5+K5 -> #REF! | F5: =D5*E5 -> #REF! | G5: =#REF! -> #REF! | H5: =D5*G5 -> #REF! | J5: =D5*I5 -> 0 | L5: =D5*K5 -> 0 | M5: 단가조사서
A6: 산 소 | B6: 6000L | C6: L | D6: 6300 | E6: =G6+I6+K6 -> #REF! | F6: =D6*E6 -> #REF! | G6: =#REF! -> #REF! | H6: =D6*G6 -> #REF! | J6: =D6*I6 -> 0 | L6: =D6*K6 -> 0 | M6: 단가조사서
A7: 아세틸렌 | B7: 0.98 | C7: kg | D7: 2.8 | E7: =G7+I7+K7 -> #REF! | F7: =D7*E7 -> #REF! | G7: =#REF! -> #REF! | H7: =D7*G7 -> #REF! | J7: =D7*I7 -> 0 | L7: =D7*K7 -> 0 | M7: 단가조사서
A8: 철공 | C8: 인 | D8: 27.65 | E8: =G8+I8+K8 -> #REF! | F8: =D8*E8 -> #REF! | H8: =D8*G8 -> 0 | I8: =#REF! -> #REF! | J8: =D8*I8 -> #REF! | L8: =D8*K8 -> 0
A9: 비계공 | C9: 인 | D9: 4.71 | E9: =G9+I9+K9 -> #REF! | F9: =D9*E9 -> #REF! | H9: =D9*G9 -> 0 | I9: =#REF! -> #REF! | J9: =D9*I9 -> #REF! | L9: =D9*K9 -> 0
A10: 보통인부 | C10: 인 | D10: 0.66 | E10: =G10+I10+K10 -> #REF! | F10: =D10*E10 -> #REF! | H10: =D10*G10 -> 0 | I10: =#REF! -> #REF! | J10: =D10*I10 -> #REF! | L10: =D10*K10 -> 0
A11: 용접공 | C11: 인 | D11: 2.6 | E11: =G11+I11+K11 -> #REF! | F11: =D11*E11 -> #REF! | H11: =D11*G11 -> 0 | I11: =#REF! -> #REF! | J11: =D11*I11 -> #REF! | L11: =D11*K11 -> 0
A12: 특별인부 | C12: 인 | D12: 0.74 | E12: =G12+I12+K12 -> #REF! | F12: =D12*E12 -> #REF! | H12: =D12*G12 -> 0 | I12: =#REF! -> #REF! | J12: =D12*I12 -> #REF! | L12: =D12*K12 -> 0
A13: 용접기 손료 | B13: 500 Amp(교류) | C13: 시간 | D13: 20.83 | E13: =G13+I13+K13 -> 124 | F13: =D13*E13 -> 2582.92 | H13: =D13*G13 -> 0 | J13: =D13*I13 -> 0 | K13: 124 | L13: =D13*K13 -> 2582.92
A14: 전력소요량(겨울) | B14: 고압300kw미만 | C14: kWh | D14: 126 | E14: =G14+I14+K14 -> 54 | F14: =D14*E14 -> 6804 | H14: =D14*G14 -> 0 | J14: =D14*I14 -> 0 | K14: 54 | L14: =D14*K14 -> 6804
A15: 공구손료 | B15: 인건비의 3% | C15: 식 | D15: 1 | E15: =G15+I15+K15 -> #REF! | F15: =D15*E15 -> #REF! | H15: =D15*G15 -> 0 | J15: =D15*I15 -> 0 | K15: =J16*0.03 -> #REF! | L15: =D15*K15 -> #REF!
A16: 소 계 | F16: =INT(SUM(H16+J16+L16)) -> #REF! | H16: =INT(SUM(H5:H15)) -> #REF! | J16: =INT(SUM(J5:J15)) -> #REF! | L16: =INT(SUM(L5:L15)) -> #REF!
A18: 바탕만들기(목재면,㎡당)
A19: 오일퍼티 | C19: kg | D19: 0.03 | E19: =G19+I19+K19 -> #REF! | F19: =D19*E19 -> #REF! | G19: =#REF! -> #REF! | H19: =D19*G19 -> #REF! | J19: =D19*I19 -> 0 | L19: =D19*K19 -> 0 | M19: 단가조서
A20: 연마지 | B20: #180 | C20: 매 | D20: 0.15 | E20: =G20+I20+K20 -> #REF! | F20: =D20*E20 -> #REF! | G20: =#REF! -> #REF! | H20: =D20*G20 -> #REF! | J20: =D20*I20 -> 0 | L20: =D20*K20 -> 0 | M20: 단가조서
A21: 도장공 | C21: 인 | D21: 0.01 | E21: =G21+I21+K21 -> #REF! | F21: =D21*E21 -> #REF! | H21: =D21*G21 -> 0 | I21: =#REF! -> #REF! | J21: =D21*I21 -> #REF! | L21: =D21*K21 -> 0
A22: 기구손료 | B22: 인건비의 2% | C22: 식 | D22: 1 | E22: =G22+I22+K22 -> #REF! | F22: =D22*E22 -> #REF! | H22: =D22*G22 -> 0 | J22: =D22*I22 -> 0 | K22: =J23*0.03 -> #REF! | L22: =D22*K22 -> #REF!
A23: 소 계 | F23: =INT(SUM(H23+J23+L23)) -> #REF! | H23: =INT(SUM(H19:H22)) -> #REF! | J23: =INT(SUM(J19:J22)) -> #REF! | L23: =INT(SUM(L19:L22)) -> #REF!
A24: 바탕만들기(철재면,㎡당)
A25: 연마지 | B25: #180 | C25: 매 | D25: 0.25 | E25: =G25+I25+K25 -> #REF! | F25: =D25*E25 -> #REF! | G25: =#REF! -> #REF! | H25: =D25*G25 -> #REF! | J25: =D25*I25 -> 0 | L25: =D25*K25 -> 0 | M25: 단가조서
A26: 도장공 | C26: 인 | D26: 0.015 | E26: =G26+I26+K26 -> #REF! | F26: =D26*E26 -> #REF! | H26: =D26*G26 -> 0 | I26: =#REF! -> #REF! | J26: =D26*I26 -> #REF! | L26: =D26*K26 -> 0
A27: 기구손료 | B27: 인건비의 2% | C27: 식 | D27: 1 | E27: =G27+I27+K27 -> #REF! | F27: =D27*E27 -> #REF! | H27: =D27*G27 -> 0 | J27: =D27*I27 -> 0 | K27: =J28*0.03 -> #REF! | L27: =D27*K27 -> #REF!
A28: 소 계 | F28: =INT(SUM(H28+J28+L28)) -> #REF! | H28: =INT(SUM(H25:H27)) -> #REF! | J28: =INT(SUM(J25:J27)) -> #REF! | L28: =INT(SUM(L25:L27)) -> #REF!
A30: 바니시 칠(목재면 2회,㎡당)
A31: 바니시 | C31: L | D31: 0.108 | E31: =G31+I31+K31 -> #REF! | F31: =D31*E31 -> #REF! | G31: =ROUND(#REF!,0) -> #REF! | H31: =D31*G31 -> #REF! | J31: =D31*I31 -> 0 | L31: =D31*K31 -> 0 | M31: 단가조서
A32: 신너 | C32: L | D32: 0.006 | E32: =G32+I32+K32 -> #REF! | F32: =D32*E32 -> #REF! | G32: =ROUND(#REF!,0) -> #REF! | H32: =D32*G32 -> #REF! | J32: =D32*I32 -> 0 | L32: =D32*K32 -> 0 | M32: 단가조서
A33: 연마지 | C33: 매 | D33: 0.17 | E33: =G33+I33+K33 -> #REF! | F33: =D33*E33 -> #REF! | G33: =#REF! -> #REF! | H33: =D33*G33 -> #REF! | J33: =D33*I33 -> 0 | L33: =D33*K33 -> 0 | M33: 단가조서
A34: 도장공 | C34: 인 | D34: 0.048 | E34: =G34+I34+K34 -> #REF! | F34: =D34*E34 -> #REF! | H34: =D34*G34 -> 0 | I34: =#REF! -> #REF! | J34: =D34*I34 -> #REF! | L34: =D34*K34 -> 0
A35: 기구손료 | B35: 인건비의 2% | C35: 식 | D35: 1 | E35: =G35+I35+K35 -> #REF! | F35: =D35*E35 -> #REF! | H35: =D35*G35 -> 0 | J35: =D35*I35 -> 0 | K35: =J36*0.02 -> #REF! | L35: =D35*K35 -> #REF!
A36: 소 계 | F36: =INT(SUM(H36+J36+L36)) -> #REF! | H36: =INT(SUM(H31:H35)) -> #REF! | J36: =INT(SUM(J31:J35)) -> #REF! | L36: =INT(SUM(L31:L35)) -> #REF!
A38: 조합 유성페인트 칠(철재면 2회,㎡당)
A39: 조합페인트 | C39: L | D39: 0.166 | E39: =G39+I39+K39 -> #REF! | F39: =D39*E39 -> #REF! | G39: =#REF! -> #REF! | H39: =D39*G39 -> #REF! | J39: =D39*I39 -> 0 | L39: =D39*K39 -> 0 | M39: 단가조서
A40: 신너 | C40: L | D40: 0.008 | E40: =G40+I40+K40 -> #REF! | F40: =D40*E40 -> #REF! | G40: =#REF! -> #REF! | H40: =D40*G40 -> #REF! | J40: =D40*I40 -> 0 | L40: =D40*K40 -> 0 | M40: 단가조서
A41: 퍼티 | C41: kg | D41: 0.08 | E41: =G41+I41+K41 -> #REF! | F41: =D41*E41 -> #REF! | G41: =#REF! -> #REF! | H41: =D41*G41 -> #REF! | J41: =D41*I41 -> 0 | L41: =D41*K41 -> 0 | M41: 단가조서
A42: 연마지 | C42: 매 | D42: 0.1 | E42: =G42+I42+K42 -> #REF! | F42: =D42*E42 -> #REF! | G42: =#REF! -> #REF! | H42: =D42*G42 -> #REF! | J42: =D42*I42 -> 0 | L42: =D42*K42 -> 0 | M42: 단가조서
A43: 도장공 | C43: 인 | D43: 0.035 | E43: =G43+I43+K43 -> #REF! | F43: =D43*E43 -> #REF! | H43: =D43*G43 -> 0 | I43: =#REF! -> #REF! | J43: =D43*I43 -> #REF! | L43: =D43*K43 -> 0
...

Sheet 일위대가(기초단위2)
A1: 단 위 내 역 서
A3: 명 칭 | B3: 규 격 | C3: 수 량 | D3: 단위 | E3: 재 료 비 | G3: 노 무 비 | I3: 경 비 | K3: 비 고 (2011년 건설품셈적용)
E4: 단 가 | F4: 금 액 | G4: 단 가 | H4: 금 액 | I4: 단 가 | J4: 금 액
A5: #101 합판거푸집 (M2) 1회 사용기준 | K5: (건품6-3-2)
A6: 합판 | B6: 고재발생 | C6: 1.03 | D6: ㎡ | E6: =#REF! -> #REF! | F6: =ROUND((C6*E6),1) -> #REF! | K6: 단가조사서
A7: 각재 | B7: 고재발생 | C7: 0.038 | D7: ㎥ | E7: =#REF! -> #REF! | F7: =ROUND((C7*E7),1) -> #REF! | K7: 단가조사서
A8: 철선 | B8: #8,T=4MM | C8: 0.29 | D8: ㎏ | E8: =#REF! -> #REF! | F8: =ROUND((C8*E8),1) -> #REF! | K8: 단가조사서
A9: 못 | B9: N=50MM | C9: 0.2 | D9: ㎏ | E9: =#REF! -> #REF! | F9: =ROUND((C9*E9),1) -> #REF! | K9: 단가조사서
A10: 박리제 | B10: 중유(합판거푸집용) | C10: 0.19 | D10: ℓ | E10: =#REF! -> #REF! | F10: =ROUND((C10*E10),1) -> #REF! | K10: 단가조사서
A11: 형틀목공 | C11: 0.3 | D11: 인 | G11: =#REF! -> #REF! | H11: =ROUND((C11*G11),1) -> #REF!
A12: 보통인부 | C12: 0.25 | D12: 인 | G12: =#REF! -> #REF! | H12: =ROUND((C12*G12),1) -> #REF!
A13: 계 | F13: =ROUND((SUM(F6:F12)),0) -> #REF! | H13: =SUM(H11:H12) -> #REF!
A14: 6회사용 | B14: 재료34.7% | F14: =INT(F13*34.7%) -> #REF! | H14: =INT(H13*32%) -> #REF!
B15: 노무32%기준
A17: #102 ASP CUTTING (M당) | K17: <건12-3-1-2>
A18: 브레이드 | B18: T=3.2MM,도로용 | C18: 0.0027 | D18: 개 | E18: =#REF! -> #REF! | F18: =ROUND((C18*E18),1) -> #REF! | K18: 단가조사서
A19: 물 | C19: 20 | D19: ℓ | E19: =#REF!/1000 -> #REF! | F19: =ROUND((C19*E19),1) -> #REF! | K19: 물가정보부록181
A20: 보통인부 | C20: 0.0075 | D20: 인 | F20: =ROUND((C20*E20),1) -> 0 | G20: =#REF! -> #REF! | H20: =ROUND((C20*G20),1) -> #REF!
A21: 컷터기 | B21: 시간당30M | C21: 0.0333 | D21: Hr | E21: =$F$132 -> #REF! | F21: =ROUND((C21*E21),1) -> #REF! | G21: =$H$132 -> #REF! | H21: =ROUND((C21*G21),1) -> #REF! | I21: =$J$132 -> 1460 | J21: =ROUND((C21*I21),1) -> 48.6 | K21: #201(건품11-32)
A22: 계 | F22: =INT(SUM(F18:F21)) -> #REF! | H22: =INT(SUM(H18:H21)) -> #REF! | J22: =INT(SUM(J18:J21)) -> 48
A24: #103 CON CUTTING (M당) | K24: <건12-3-2-3>
A25: 브레이드 | B25: T=3.2MM | C25: 0.0031 | D25: 개 | E25: =$E$18 -> #REF! | F25: =ROUND((C25*E25),1) -> #REF!
A26: 물 | C26: 30 | D26: ℓ | E26: =190/1000 -> 0.19 | F26: =ROUND((C26*E26),1) -> 5.7
A27: 보통인부 | C27: 0.0086 | D27: 인 | F27: =ROUND((C27*E27),1) -> 0 | G27: =#REF! -> #REF! | H27: =ROUND((C27*G27),1) -> #REF!
A28: 컷터기 | B28: 시간당30M | C28: 0.0333 | D28: Hr | E28: =$F$132 -> #REF! | F28: =ROUND((C28*E28),1) -> #REF! | G28: =$H$132 -> #REF! | H28: =ROUND((C28*G28),1) -> #REF! | I28: =$J$132 -> 1460 | J28: =ROUND((C28*I28),1) -> 48.6 | K28: #201(건품11-32)
A29: 계 | F29: =INT(SUM(F25:F28)) -> #REF! | H29: =INT(SUM(H25:H28)) -> #REF! | J29: =INT(SUM(J25:J28)) -> 48
A30: #104 인력터파기 (0-1M, ㎥당) | K30: (건품3-1-3)
A31: 보통인부 | C31: 0.324 | D31: 인 | G31: =#REF! -> #REF! | H31: =ROUND((C31*G31),1) -> #REF!
A32: 계 | H32: =INT(SUM(H31)) -> #REF!
A33: #105 인력터파기 (1-2M, ㎥당) | K33: <건3-1-3>
A34: 보통인부 | C34: 0.43 | D34: 인 | G34: =#REF! -> #REF! | H34: =ROUND((C34*G34),1) -> #REF!
A35: 계 | H35: =INT(SUM(H34)) -> #REF!
A36: #105-1 터파기 (인력30%, 기계 70%, 1-2M, ㎥당) | K36: <건3-1-2>
A37: 인력터파기(30%) | B37: 1-2m, 보통토사 | C37: 0.3 | D37: ㎥ | F37: =ROUND((C37*E37),1) -> 0 | G37: =$H$35 -> #REF! | H37: =ROUND((C37*G37),1) -> #REF! | J37: =ROUND((C37*I37),1) -> 0 | K37: #105(건품3-1-3)
A38: 유압식 백호우(70%) | B38: 0.4㎥ | C38: 0.7 | D38: ㎥ | E38: =$F$235 -> #REF! | F38: =ROUND((C38*E38),1) -> #REF! | G38: =$H$235 -> #REF! | H38: =ROUND((C38*G38),1) -> #REF! | I38: =$J$235 -> 22085 | J38: =ROUND((C38*I38),1) -> 15459.5 | K38: #301(건품11-3-5)
A39: 계 | F39: =INT(SUM(F37:F38)) -> #REF! | H39: =INT(SUM(H37:H38)) -> #REF! | J39: =INT(SUM(J37:J38)) -> 15459
A40: #106 되메우기 (㎥당) | K40: (건품3-1-3-⑧)
A41: 보통인부 | C41: 0.1 | D41: 인 | G41: =#REF! -> #REF! | H41: =ROUND((C41*G41),1) -> #REF!
A42: 모래 | C42: 1 | D42: ㎥ | E42: =#REF! -> #REF! | F42: =ROUND((C42*E42),1) -> #REF! | K42: 단가조사거
A43: 계 | F43: =INT(SUM(F41:F42)) -> #REF! | H43: =INT(SUM(H41:H42)) -> #REF!
...
