Workbook

Sheet 갑지 
B2: 설 계 내 역 서
B3: =원가계산서!A2 -> 건명: 슬러지2처리장 잉여슬러지 저류조(B호기) 청소용역
B4: 구분 | D4: 금 액 | F4: 비 고
B5: 총 사업비 | D5: =D8 -> 0 | E5: ="(금"&NUMBERSTRING(원가계산서!E35,1)&"원)" -> (금영원)
B6: 도급비 | C6: 공 급 가 액 | D6: =원가계산서!E27 -> 0 | E6: ="(금"&NUMBERSTRING(원가계산서!E27,1)&"원)" -> (금영원)
C7: 부가가치세 | D7: =원가계산서!E28 -> 0 | E7: ="(금"&NUMBERSTRING(원가계산서!E28,1)&"원)" -> (금영원)
C8: 계 | D8: =원가계산서!E29 -> 0 | E8: ="(금"&NUMBERSTRING(원가계산서!E29,1)&"원)" -> (금영원)
B11: ◎ 사업개요
B12: 잉여슬러지 저류조(B호기) 1개소 청소
C20: .

Sheet 원가계산서
A1: 공 사 원 가 계 산 서
A2: 건명: 슬러지2처리장 잉여슬러지 저류조(B호기) 청소용역
A3: 구 분 비 목 | E3: 금 액(원) | F3: 구성비(%) | G3: 구 성 비 | H3: 비고 | N3: 2023년 건축 산업환경설비공사 원가계산 제비율 적용
A4: 순 공 사 원 가 | B4: 재료비 | C4: 직 접 재 료 비 | E4: =내역서!H5 -> 0 | F4: =E4/$E$36 -> #DIV/0! | J4: 산업설비(건축), 일반건설(을)(기계장치공사) 적용
C5: 간접재료비 | F5: =E5/$E$36 -> #DIV/0!
C6: 소 계 | E6: =SUM(E4:E4) -> 0 | F6: =E6/$E$36 -> #DIV/0!
B7: 노무비 | C7: 직 접 인 건 비 | E7: =내역서!J5 -> 0 | F7: =E7/$E$36 -> #DIV/0!
C8: 간 접 인 건 비 | E8: =INT(E7*G8%) -> 0 | F8: =E8/$E$36 -> #DIV/0! | G8: 12.6
C9: 소 계 | E9: =SUM(E7:E8) -> 0 | F9: =E9/$E$36 -> #DIV/0!
B10: 제경비 | C10: 기 계 경 비 | F10: =E10/$E$36 -> #DIV/0!
C11: 보험료 | D11: 산 재 보 험 료 | E11: =INT(E9*G11%) -> 0 | F11: =E11/$E$36 -> #DIV/0! | G11: 3.56 | H11: 모든공사적용 | J11: 모든 건설공사에 적용(고용노동부 고시 제2021-95호, 산업재해보상보험법 시행령 제2조)
D12: 고 용 보 험 료 | E12: =INT(E9*G12%) -> 0 | F12: =E12/$E$36 -> #DIV/0! | G12: 1.01 | H12: 모든공사적용 | J12: 모든 건설공사에 적용
D13: 건 강 보 험 료 | F13: =E13/$E$36 -> #DIV/0! | G13: 3.545 | H13: 1개월이상반영 (공기50일) | I13: 설치공사 1개월 이내는 제외 | J13: 공사기간 1개월(30일) 이상 모든 공사에 반영, 법정정산과목
D14: 연 금 보 험 료 | F14: =E14/$E$36 -> #DIV/0! | G14: 4.5 | H14: 1개월이상반영 (공기50일) | I14: 설치공사 1개월 이내는 제외 | J14: 공사기간 1개월(30일) 이상 모든 공사에 반영, 법정정산과목
D15: 노인 장기 요양 보 험 료 | F15: =E15/$E$36 -> #DIV/0! | G15: 12.81 | H15: 1개월이상반영 (공기50일) | I15: 설치공사 1개월 이내는 제외 | J15: 공사기간 1개월(30일) 이상 모든 공사에 반영, 법정정산과목 | P15: 도급자관급포함
C16: 퇴직공제부금비 | F16: =E16/$E$36 -> #DIV/0! | G16: 2.3 | I16: 추정금액 1억 이상 건설공사 적용 | J16: 추정금액 3억원이상 건설공사 | P16: =(E6+E7+R17)*1.85% -> 0 | Q16: (재+직노+도급자관급) | T16: 당초금액
C17: 산업안전 보건 관 리 비 | E17: =P17 -> 0 | F17: =E17/$E$36 -> #DIV/0! | G17: (재+직노)*1.85%+기초액 | J17: 공사금액(도급금액+관급금액) 4천만원이상 건설공사, 건설업 산업안전보건관리비 계상 및 사용기준(고용노동부 고시) 적용 정산 | P17: =((E6+E7)*2.93%) -> 0 | Q17: (1.85%)*1.22 | T17: 359928000
C18: 환 경 보 전 비 | F18: =E18/$E$36 -> #DIV/0! | G18: 0.3 | J18: 환경관리비의 산출기준 및 관리에 관한 지침 국토부 고시 제2018-528호(2018.8.30.)
C19: 기타경비 | E19: =INT((E6+E9)*G19%) -> 0 | F19: =E19/$E$36 -> #DIV/0! | G19: 5.2
C20: 소 계 | E20: =SUM(E10:E19) -> 0 | F20: =E20/$E$36 -> #DIV/0!
B21: 계 | E21: =SUM(E6,E9,E20) -> 0 | F21: =E21/$E$36 -> #DIV/0!
A22: 일 반 관 리 비 | E22: =INT(E21*G22%) -> 0 | F22: =E22/$E$36 -> #DIV/0! | G22: 6
A23: 이 윤 | E23: =INT((E9+E20+E22)*G23%) -> 0 | F23: =E23/$E$36 -> #DIV/0! | G23: 15
A24: 관급기자재 | F24: =E24/$E$36 -> #DIV/0!
A25: 고재처리 | F25: =E25/$E$31 -> #DIV/0!
A26: 폐기물처리 | F26: =E26/$E$36 -> #DIV/0!
A27: 공급가액 | E27: =ROUNDDOWN(SUM(E21:E26),-4) -> 0 | F27: =E27/$E$36 -> #DIV/0!
A28: 부 가 가 치 세 | E28: =INT((E27)*10%) -> 0 | F28: =E28/$E$36 -> #DIV/0! | G28: 총원가×10%
A29: 계(도급비) | E29: =ROUNDDOWN(E27+E28,0) -> 0 | F29: =E29/$E$36 -> #DIV/0! | G29: 총원가 + 부가가치세
A30: 조달수수료 | F30: =E30/$E$36 -> #DIV/0! | G30: 1억까지1.07%, 1억초과~10억까지0.76%, 10억초과~100억 0.48% | H30: 1억까지1.07%, 1억초과~10억까지0.76%, 10억초과~100억 0.48%
A31: 합계 | E31: =E29+E30 -> 0 | F31: =E31/$E$36 -> #DIV/0!
A32: 관급자재비 | F32: =E32/$E$36 -> #DIV/0!
A33: 관급자재조달수수료 | F33: =E33/$E$36 -> #DIV/0! | G33: 0.0054 | H33: 0.0054
A34: 합계 | E34: =E32+E33 -> 0 | F34: =E34/$E$36 -> #DIV/0!
A35: 총사업비 | E35: =E32+E29 -> 0 | F35: =E35/$E$36 -> #DIV/0! | G35: 조달수수료 제외 금액(계(도급비)+관급자재비) | H35: 조달수수료 제외 금액(계(도급비)+관급자재비)
A36: 총합계 | E36: =E31+E34 -> 0 | F36: =E36/$E$36 -> #DIV/0! | G36: 총사업비+조달수수료 | H36: 총사업비+조달수수료

Sheet 물량산출서
B1: 물 량 산 출 서
B2: =원가계산서!A2 -> 건명: 슬러지2처리장 잉여슬러지 저류조(B호기) 청소용역
A4: 번호 | B4: 품 명 | C4: 규 격 | D4: 단 위 | E4: 수 량 | F4: 도면 번호 (ISO. DWG SHEET NO.) 및 산출내역 | M4: 합 계 | N4: 비고
F5: RNT16-MM0000 | M5: 수량
B6: 1. 저류조 청소
B7: 잉여슬러지 저류조 | C7: 지름16.61m, 깊이4.4m | D7: 개소 | N7: ㎡
B14: 합 계 | M14: =SUM(M7:M13) -> 0 | N14: ㎡

Sheet 내역서
A1: 내 역 서
A2: =원가계산서!A2 -> 건명: 슬러지2처리장 잉여슬러지 저류조(B호기) 청소용역
A3: 품 명 | B3: 규 격 | C3: 단위 | D3: 수량 | E3: 합 계 | G3: 재 료 비 | I3: 노 무 비 | K3: 경 비 | M3: 비 고 | N3: 품목코드 | O3: 변수 | P3: 설정 | Q3: 공종코드 | R3: 일위 | S3: 단산 | T3: 자 재 | U3: 손료적용 | V3: 손료저장 | W3: 적용율 | X3: JUK1 | Y3: JUK2 | Z3: JUK3 | AA3: JUK4 | AB3: JUK5 | AC3: JUK6 | AD3: JUK7 | AE3: JUK8 | AF3: JUK9 | AG3: JUK10 | AH3: JUK11 | AI3: JUK12 | AJ3: JUK13 | AK3: JUK14 | AL3: JUK15 | AM3: JUK16 | AN3: JUK17 | AO3: JUK18 | AP3: JUK19 | AQ3: JUK20 | AR3: 자재구분 | AS3: 공종구분 | AT3: 공종레벨 | AU3: 공종+자재 | AV3: 고유번호
E4: 단 가 | F4: 금 액 | G4: 단 가 | H4: 금 액 | I4: 단 가 | J4: 금 액 | K4: 단 가 | L4: 금 액
A5: 1. 저류조 청소
A6: =일위대가!C5 -> 저류조 청소 | B6: =물량산출서!C7 -> 지름16.61m, 깊이4.4m | C6: ㎡
A7: 일반펌프설치 | B7: 7.5㎾이하 | C7: 대당
A8: 일반펌프해체 | B8: 7.5㎾이하 | C8: 대당
A9: 트럭탑재형크레인 | B9: 5ton(0.5일 2회) | C9: 일
A17: 소 계 | F17: =F5 -> 0 | H17: =H5 -> 0 | J17: =J5 -> 0

Sheet 물품기자재내역
A1: 물품 기자재 내역서
A2: =원가계산서!A2 -> 건명: 슬러지2처리장 잉여슬러지 저류조(B호기) 청소용역
A3: 연번 | B3: 품 명 | C3: 규격 | D3: 단위 | E3: 수량 | F3: 단가(원) | G3: 금액(원) | H3: 비고
A4: 1 | B4: =물량산출서!#REF! -> #REF! | C4: =물량산출서!#REF! -> #REF! | D4: =물량산출서!#REF! -> #REF! | E4: =물량산출서!#REF! -> #REF! | F4: =#REF! -> #REF! | G4: =INT(E4*F4) -> #REF! | P4: =G4*1.1 -> #REF!
A5: 2 | B5: =물량산출서!#REF! -> #REF! | C5: =물량산출서!#REF! -> #REF! | D5: =물량산출서!#REF! -> #REF! | E5: =물량산출서!#REF! -> #REF! | F5: =#REF! -> #REF! | G5: =INT(E5*F5) -> #REF!
A8: 4 | B8: 계(물품 기자재) | G8: =SUM(G4:G5) -> #REF!

Sheet 중기단가목록
A1: 중 기 단 가 목 록
A2: [ 홍천군 홍천분뇨처리시설 대수선사업 실시설계용역(기계분야) ]
A3: 코 드 | B3: 품 명 | C3: 규 격 | D3: 단위 | E3: 재 료 비 | F3: 노 무 비 | G3: 경 비 | H3: 합 계 | I3: 번 호 | J3: 비 고 | K3: START

Sheet 중기단가산출서
A1: 중 기 단 가 산 출 서
A2: [ 홍천군 홍천분뇨처리시설 대수선사업 실시설계용역(기계분야) ]
A3: 산 출 내 역 | B3: 재 료 비 | C3: 노 무 비 | D3: 경 비 | E3: 합 계 | F3: 비 고 | G3: START | H3: 코드 | I3: 품명 | J3: 규격 | K3: 단위 | L3: 수량
A4: ( )
A6: 총 계 | E6: 0

Sheet 관급자재내역
A1: 관급 기자재 내역서
A2: =원가계산서!A2 -> 건명: 슬러지2처리장 잉여슬러지 저류조(B호기) 청소용역
A3: 연번 | B3: 품 명 | C3: 규격 | D3: 단위 | E3: 수량 | F3: 단가(원) | G3: 금액(원) | H3: 비고
A4: 1 | B4: =물량산출서!#REF! -> #REF! | C4: =물량산출서!#REF! -> #REF! | D4: =물량산출서!#REF! -> #REF! | E4: =물량산출서!#REF! -> #REF! | F4: 650000000 | G4: =E4*F4 -> #REF! | H4: 물품식별번호:24171429
C5: (방진가대, 2차전기공사포함)
A6: 2 | B6: 조달수수료 | C6: 1억까지 0.54% | D6: 식 | E6: 1 | F6: 3510000 | G6: =E6*F6 -> 3510000 | H6: 조달 수수료 산출표
A12: 4 | B12: 계(관급 기자재) | G12: =SUM(G4:G10) -> #REF! | H12: 조달수수료 포함

Sheet  공사설정 
A1: 이 Sheet는 수정하지 마십시요
A2: 공사구분 | B2: C
A3: 확정내역 | B3: 원내역
A4: 자재단가적용 | B4: 5
A5: 경비단가적용 | B5: 5
A6: 품목코드형식 | B6: XXXX-XXXXXXXXXXXXX
A7: 내역금액소수점처리 | B7: C | C7: 1
A8: 일위대가내역소수점처리 | B8: C | C8: 2
A9: 단가명 | B9: 물가정보 | C9: 물가자료 | D9: 견적가1 | E9: 견적가2 | F9: 견적가3 | G9: TTTTT
A10: 환율 | B10: 0 | C10: 0 | D10: 0
A11: 시간당작업량 | B11: R | C11: 3
A12: 1회 사이클시간 | B12: R | C12: 3
A13: 시간당 작업사이클 | B13: R | C13: 2
A14: 일반변수 | B14: C | C14: 5
A15: 시간당 노임산출 계수 | B15: A | C15: 1/8*16/12*25/20 | D15: 1/8*16/12*25/20 | E15: 1/8*16/12*25/20 | F15: 1
A16: 재료비 할증 계수 | B16: 0 | C16: 0
A17: 노무비 할증 계수 | B17: 0 | C17: 0 | D17: 0 | E17: 0 | F17: 0 | G17: 0 | H17: 0 | I17: 0 | J17: 0 | K17: 0 | L17: 0 | M17: 0
A18: 경비 할증 계수 | B18: 0 | C18: 0
A19: 내역,일위대가 품명,규격,단위 따로적용
A21: 코드 | B21: 공종구분명 | C21: 원가비목코드
A22: 1 | B22: 작 업 부 산 물 | C22: A3
A23: 2 | B23: 운 반 비 | C23: C1
A24: 3 | B24: 관 급 자 재 비 | C24: DJ
A25: 4 | B25: 사 급 자 재 비 | C25: D3
A26: 5 | B26: 외 자 재
A27: 6 | B27: ...
A28: 7 | B28: ...
A29: 8 | B29: ...
A30: 9 | B30: ...

Sheet Sheet1

Sheet 일위대가
B1: 일 위 대 가
A2: 건명: 난지물재생센터 원심농축기 A호기 철거공사
B3: 호표 | C3: 품 명 | D3: 규 격 | E3: 단위 | F3: 수량 | G3: 합 계 | I3: 재 료 비 | K3: 노 무 비 | M3: 경 비 | O3: 비 고
G4: 단 가 | H4: 금 액 | I4: 단 가 | J4: 금 액 | K4: 단 가 | L4: 금 액 | M4: 단 가 | N4: 금 액 | Q4: *탱크청소
A5: PUMP11 | B5: 1 | C5: 저류조 청소 | E5: =물량산출서!N7 -> ㎡ | S5: 20% 가산 | T5: 비고
A6: LAB088 | C6: =#REF! -> #REF! | D6: 탱크청소, 오물제거(물) | E6: 인 | Q6: 떠내기 | R6: 0.03 | S6: =R6*120% -> 0.036 | T6: Clean Out Door가 없는 탱크로 떠내기 및 오물제거에 20% 가산
B8: 2 | C8: 일반펌프설치 | D8: 7.5㎾이하 (대당) | E8: 대당 | Q8: 오물제거 | R8: 0.07 | S8: =R8*120% -> 0.084 | T8: Clean Out Door가 없는 탱크로 떠내기 및 오물제거에 20% 가산
C9: 기계설비공 | E9: 인
C10: 보통인부 | E10: 인
C11: 공구손료 | D11: 인건비의 3% | Q11: 녹제거 | R11: 0.02
A12: LAB088 | B12: 2 | C12: 일반펌프해체 | D12: 7.5㎾이하 (대당) | E12: 대당 | Q12: 닦아내기 | R12: 0.01
A13: LAB074 | C13: 기계설비공 | E13: 인 | Q13: 합계 | R13: =S6+S8+R12 -> 0.13
A14: LAB088 | C14: 보통인부 | E14: 인
B15: 3 | C15: 트럭탑재형크레인 | D15: 5ton | E15: 일
A16: LAB074
A17: LAB074 | R17: Clean Out Door가 없는 탱크로
A19: PUMP11
A20: LAB088
A21: LAB088
A22: LAB074
A23: LAB074
A24: LAB088
A26: LAB074
A27: LAB074
A29: PUMP11
A30: LAB088
A31: LAB088
A32: LAB088
... A65: LAB074

Sheet 관급자재단가대비표

Sheet 조달수수료산출
A1: [조 달 수 수 료]
A3: ※ 조달수수료 산출금액 :
A4: - 3자단가계약 요율 : 0.54%(10억원 까지 적용)
A5: - 적용기준(납품금액) = [(650,000,000 * 1대) = 650,000,000원]
A6: - 조달수수료 산출 = 650,000,000 * 0.54% = 3,510,000원
