Workbook

Sheet 공종별집계표
A1: 공 종 별 집 계 표
A2: [ 중방지구 배수개선사업 자동화공사 ]
A3: 품 명 | B3: 규 격 | C3: 단위 | D3: 수량 | E3: 재 료 비 | G3: 노 무 비 | I3: 경 비 | K3: 합 계 | M3: 비 고 | N3: 공종코드 | O3: 변수 | P3: 상위공종 | Q3: 공종구분 | R3: 공종레벨 | S3: 공종소계 | T3: 원가계산서 연결금액
E4: 단 가 | F4: 금 액 | G4: 단 가 | H4: 금 액 | I4: 단 가 | J4: 금 액 | K4: 단 가 | L4: 금 액
A5: 중방지구 배수개선사업 자동화공사 | D5: 1 | F5: =E5*D5 -> 0 | H5: =G5*D5 -> 0 | J5: =I5*D5 -> 0 | K5: =E5+G5+I5 -> 0 | L5: =F5+H5+J5 -> 0 | N5: 01 | R5: 1
A6: A. 관급자관급자재 | D6: 1 | E6: =ROUNDDOWN(F7, -3) -> 12401000 | F6: =E6*D6 -> 12401000 | G6: =ROUNDDOWN(H7, -3) -> 0 | H6: =G6*D6 -> 0 | I6: =ROUNDDOWN(J7, -3) -> 0 | J6: =I6*D6 -> 0 | K6: =E6+G6+I6 -> 12401000 | L6: =F6+H6+J6 -> 12401000 | M6: 천원이하 절사 | N6: 0101 | Q6: 4 | R6: 2 | T6: =L6*1 -> 12401000
A7: [권양기] | D7: 1 | E7: =F8 -> 12401639 | F7: =E7*D7 -> 12401639 | G7: =H8 -> 0 | H7: =G7*D7 -> 0 | I7: =J8 -> 0 | J7: =I7*D7 -> 0 | K7: =E7+G7+I7 -> 12401639 | L7: =F7+H7+J7 -> 12401639 | N7: 010103 | P7: 0101 | R7: 3
A8: 3. CCTV 설비 | D8: 1 | E8: =공종별내역서!F25 -> 12401639 | F8: =E8*D8 -> 12401639 | G8: =공종별내역서!H25 -> 0 | H8: =G8*D8 -> 0 | I8: =공종별내역서!J25 -> 0 | J8: =I8*D8 -> 0 | K8: =E8+G8+I8 -> 12401639 | L8: =F8+H8+J8 -> 12401639 | N8: 01010303 | P8: 010103 | R8: 4
A9: B. 통신 납입금 | D9: 1 | E9: =F10 -> #REF! | F9: =E9*D9 -> #REF! | G9: =H10 -> #REF! | H9: =G9*D9 -> #REF! | I9: =J10 -> #REF! | J9: =I9*D9 -> #REF! | K9: =E9+G9+I9 -> #REF! | L9: =F9+H9+J9 -> #REF! | N9: 0102 | Q9: 6 | R9: 2 | T9: =L9*1 -> #REF!
A10: [권양기] | D10: 1 | E10: =F11 -> #REF! | F10: =E10*D10 -> #REF! | G10: =H11 -> #REF! | H10: =G10*D10 -> #REF! | I10: =J11 -> #REF! | J10: =I10*D10 -> #REF! | K10: =E10+G10+I10 -> #REF! | L10: =F10+H10+J10 -> #REF! | N10: 010202 | P10: 0102 | R10: 3
A11: 1. 통신납입금 | D11: 1 | E11: =공종별내역서!#REF! -> #REF! | F11: =E11*D11 -> #REF! | G11: =공종별내역서!#REF! -> #REF! | H11: =G11*D11 -> #REF! | I11: =공종별내역서!#REF! -> #REF! | J11: =I11*D11 -> #REF! | K11: =E11+G11+I11 -> #REF! | L11: =F11+H11+J11 -> #REF! | N11: 01020201 | P11: 010202 | R11: 4
A12: [ 합 계 ] | F12: =F5 -> 0 | H12: =H5 -> 0 | J12: =J5 -> 0 | L12: =L5 -> 0

Sheet 공종별내역서
A1: [ 중방지구 배수개선사업 자동화공사 ]
A2: 품 명 | B2: 규 격 | C2: 단위 | D2: 수량 | E2: 재 료 비 | G2: 노 무 비 | I2: 경 비 | K2: 합 계 | M2: 비 고 | N2: 품목코드 | O2: 변수 | P2: 설정 | Q2: 공종코드 | R2: 일위 | S2: 단산 | T2: 자재 | U2: 손료적용 | V2: 손료저장 | W2: 적용율 | X2: JUK1 | Y2: JUK2 | Z2: JUK3 | AA2: JUK4 | AB2: JUK5 | AC2: JUK6 | AD2: JUK7 | AE2: JUK8 | AF2: JUK9 | AG2: JUK10 | AH2: JUK11 | AI2: JUK12 | AJ2: JUK13 | AK2: JUK14 | AL2: JUK15 | AM2: JUK16 | AN2: JUK17 | AO2: JUK18 | AP2: JUK19 | AQ2: JUK20 | AR2: 자재구분 | AS2: 공종구분 | AT2: 공종레벨 | AU2: 공종+자재 | AV2: 고유번호
E3: 단 가 | F3: 금 액 | G3: 단 가 | H3: 금 액 | I3: 단 가 | J3: 금 액 | K3: 단 가 | L3: 금 액
A4: 3. CCTV 설비 | B4: A. 관급자관급자재 [권양기] | Q4: 01010303
A5: 메가픽셀 스피드 돔 카메라(IR) | B5: 200만화소 이상, 0Lux(IR LED on시), 36배 광학줌이상, 하우징일체 | C5: 대 | D5: 1 | E5: =TRUNC(단가대비표!O44,0) -> 5500000 | F5: =TRUNC(E5*D5, 0) -> 5500000 | G5: =TRUNC(단가대비표!P44,0) -> 0 | H5: =TRUNC(G5*D5, 0) -> 0 | I5: =TRUNC(단가대비표!V44,0) -> 0 | J5: =TRUNC(I5*D5, 0) -> 0 | K5: =TRUNC(E5+G5+I5, 0) -> 5500000 | L5: =TRUNC(F5+H5+J5, 0) -> 5500000 | N5: 5FEEC5B7D82E174557BD07673F342A12B5C2FB | Q5: 01010303 | R5: F | S5: F | T5: T | X5: 1 | AU5: 010103035FEEC5B7D82E174557BD07673F342A12B5C2FB | AV5: 2151
A6: 카메라 설치-POLE상부 | B6: 카메라설치 폴 상부(스피드돔형) | C6: 대 | D6: 1 | E6: =TRUNC(일위대가목록!E6,0) -> 209798 | F6: =TRUNC(E6*D6, 0) -> 209798 | G6: =TRUNC(일위대가목록!F6,0) -> 0 | H6: =TRUNC(G6*D6, 0) -> 0 | I6: =TRUNC(일위대가목록!G6,0) -> 0 | J6: =TRUNC(I6*D6, 0) -> 0 | K6: =TRUNC(E6+G6+I6, 0) -> 209798 | L6: =TRUNC(F6+H6+J6, 0) -> 209798 | M6: 호표 3 | N6: 58EAE5C87C2A17BD423E05B1185ABD | Q6: 01010303 | R6: T | S6: F | T6: F | X6: 1 | AU6: 0101030358EAE5C87C2A17BD423E05B1185ABD | AV6: 2152
A7: CCTV용 암대 설치 | B7: CCTV용 암대 설치(POLE상부, L=1m) | C7: EA | D7: 1 | E7: =TRUNC(일위대가목록!E14,0) -> 385573 | F7: =TRUNC(E7*D7, 0) -> 385573 | G7: =TRUNC(일위대가목록!F14,0) -> 0 | H7: =TRUNC(G7*D7, 0) -> 0 | I7: =TRUNC(일위대가목록!G14,0) -> 0 | J7: =TRUNC(I7*D7, 0) -> 0 | K7: =TRUNC(E7+G7+I7, 0) -> 385573 | L7: =TRUNC(F7+H7+J7, 0) -> 385573 | M7: 호표 11 | N7: 58EAE5C87C2A17BD423E05B11DD1AE | Q7: 01010303 | R7: T | S7: F | T7: F | X7: 1 | AU7: 0101030358EAE5C87C2A17BD423E05B11DD1AE | AV7: 2153
A8: 카메라 시험 | B8: 송.수신 제어신호 및 영상Level 조정 | C8: SET | D8: 1 | E8: =TRUNC(일위대가목록!E11,0) -> 365975 | F8: =TRUNC(E8*D8, 0) -> 365975 | G8: =TRUNC(일위대가목록!F11,0) -> 0 | H8: =TRUNC(G8*D8, 0) -> 0 | I8: =TRUNC(일위대가목록!G11,0) -> 0 | J8: =TRUNC(I8*D8, 0) -> 0 | K8: =TRUNC(E8+G8+I8, 0) -> 365975 | L8: =TRUNC(F8+H8+J8, 0) -> 365975 | M8: 호표 8 | N8: 58EAE5C87C2A17BD423E05B1197747 | Q8: 01010303 | R8: T | S8: F | T8: F | X8: 1 | AU8: 0101030358EAE5C87C2A17BD423E05B1197747 | AV8: 2154
A9: 카메라 시험 | B9: 카메라 시험(종합) | C9: 대 | D9: 1 | E9: =TRUNC(일위대가목록!E13,0) -> 37697 | F9: =TRUNC(E9*D9, 0) -> 37697 | G9: =TRUNC(일위대가목록!F13,0) -> 0 | H9: =TRUNC(G9*D9, 0) -> 0 | I9: =TRUNC(일위대가목록!G13,0) -> 0 | J9: =TRUNC(I9*D9, 0) -> 0 | K9: =TRUNC(E9+G9+I9, 0) -> 37697 | L9: =TRUNC(F9+H9+J9, 0) -> 37697 | M9: 호표 10 | N9: 58EAE5C87C2A17BD423E05B119774D | Q9: 01010303 | R9: T | S9: F | T9: F | X9: 1 | AU9: 0101030358EAE5C87C2A17BD423E05B119774D | AV9: 2155
A10: CCTV POLE 설치 | B10: CCTV POLE STS 2.0t, Φ152, H=4m(피뢰침 포함) | C10: 기 | D10: 1 | E10: =TRUNC(일위대가목록!E10,0) -> 1431638 | F10: =TRUNC(E10*D10, 0) -> 1431638 | G10: =TRUNC(일위대가목록!F10,0) -> 0 | H10: =TRUNC(G10*D10, 0) -> 0 | I10: =TRUNC(일위대가목록!G10,0) -> 0 | J10: =TRUNC(I10*D10, 0) -> 0 | K10: =TRUNC(E10+G10+I10, 0) -> 1431638 | L10: =TRUNC(F10+H10+J10, 0) -> 1431638 | M10: 호표 7 | N10: 58EAE5C87C2A17BD423E05B1197864 | Q10: 01010303 | R10: T | S10: F | T10: F | X10: 1 | AU10: 0101030358EAE5C87C2A17BD423E05B1197864 | AV10: 2157
A11: CCTV제어함체(STS) 설치-POLE부착 | B11: 옥외형CCTV 제어함체(ELB, 콘센트,DC아답터 포함) | C11: 면 | D11: 1 | E11: =TRUNC(일위대가목록!E9,0) -> 920507 | F11: =TRUNC(E11*D11, 0) -> 920507 | G11: =TRUNC(일위대가목록!F9,0) -> 0 | H11: =TRUNC(G11*D11, 0) -> 0 | I11: =TRUNC(일위대가목록!G9,0) -> 0 | J11: =TRUNC(I11*D11, 0) -> 0 | K11: =TRUNC(E11+G11+I11, 0) -> 920507 | L11: =TRUNC(F11+H11+J11, 0) -> 920507 | M11: 호표 6 | N11: 58EAE5C87C2A17BD423E05B1197EF5 | Q11: 01010303 | R11: T | S11: F | T11: F | X11: 1 | AU11: 0101030358EAE5C87C2A17BD423E05B1197EF5 | AV11: 2158
A12: 서지보호기(SPD) | B12: CCTV용 서지보호기(전원) | C12: 개 | D12: 1 | E12: =TRUNC(일위대가목록!E4,0) -> 1518861 | F12: =TRUNC(E12*D12, 0) -> 1518861 | G12: =TRUNC(일위대가목록!F4,0) -> 0 | H12: =TRUNC(G12*D12, 0) -> 0 | I12: =TRUNC(일위대가목록!G4,0) -> 0 | J12: =TRUNC(I12*D12, 0) -> 0 | K12: =TRUNC(E12+G12+I12, 0) -> 1518861 | L12: =TRUNC(F12+H12+J12, 0) -> 1518861 | M12: 호표 1 | N12: 58EAE5C87E25179B5EDB0A6F0D6669 | Q12: 01010303 | R12: T | S12: F | T12: F | X12: 1 | AU12: 0101030358EAE5C87E25179B5EDB0A6F0D6669 | AV12: 2159
A13: 서지보호기(SPD) | B13: CCTV용 서지보호기(통신,영상) | C13: 개 | D13: 1 | E13: =TRUNC(일위대가목록!E5,0) -> 390169 | F13: =TRUNC(E13*D13, 0) -> 390169 | G13: =TRUNC(일위대가목록!F5,0) -> 0 | H13: =TRUNC(G13*D13, 0) -> 0 | I13: =TRUNC(일위대가목록!G5,0) -> 0 | J13: =TRUNC(I13*D13, 0) -> 0 | K13: =TRUNC(E13+G13+I13, 0) -> 390169 | L13: =TRUNC(F13+H13+J13, 0) -> 390169 | M13: 호표 2 | N13: 58EAE5C87E25179B5EDB0A6F0D6668 | Q13: 01010303 | R13: T | S13: F | T13: F | X13: 1 | AU13: 0101030358EAE5C87E25179B5EDB0A6F0D6668 | AV13: 2160
A14: CCTV 촬영경고판 | B14: CCTV 촬영경고판(500W x400H) | C14: EA | D14: 1 | E14: =TRUNC(단가대비표!O49,0) -> 123000 | F14: =TRUNC(E14*D14, 0) -> 123000 | G14: =TRUNC(단가대비표!P49,0) -> 0 | H14: =TRUNC(G14*D14, 0) -> 0 | I14: =TRUNC(단가대비표!V49,0) -> 0 | J14: =TRUNC(I14*D14, 0) -> 0 | K14: =TRUNC(E14+G14+I14, 0) -> 123000 | L14: =TRUNC(F14+H14+J14, 0) -> 123000 | N14: 5FEEC5B7D82E174557BD07673F342A12B16789 | Q14: 01010303 | R14: F | S14: F | T14: T | X14: 1 | AU14: 010103035FEEC5B7D82E174557BD07673F342A12B16789 | AV14: 2161
A15: VMS License | B15: VMS 라이선스(본부용) | C15: 개소 | D15: 1 | E15: =TRUNC(단가대비표!O50,0) -> 391000 | F15: =TRUNC(E15*D15, 0) -> 391000 | G15: =TRUNC(단가대비표!P50,0) -> 0 | H15: =TRUNC(G15*D15, 0) -> 0 | I15: =TRUNC(단가대비표!V50,0) -> 0 | J15: =TRUNC(I15*D15, 0) -> 0 | K15: =TRUNC(E15+G15+I15, 0) -> 391000 | L15: =TRUNC(F15+H15+J15, 0) -> 391000 | N15: 5FEEC5B7D82E174557BD07673F342A12B20E76 | Q15: 01010303 | R15: F | S15: F | T15: T | X15: 1 | AU15: 010103035FEEC5B7D82E174557BD07673F342A12B20E76 | AV15: 2163
A16: 소 계 | E16: 0 | F16: =SUM(F5:F15) -> 11274218 | G16: 0 | H16: =SUM(H5:H15) -> 0 | I16: 0 | J16: =SUM(J5:J15) -> 0 | L16: =SUM(L5:L15) -> 11274218 | N16: 591C55DA4720174F19C50AC533B2 | R16: F | S16: F | T16: F | AU16: 01010303591C55DA4720174F19C50AC533B2 | AV16: 2164
A17: 부가가치세 | B17: 소계의 10% | C17: 식 | D17: 1 | E17: =ROUNDDOWN(SUMIF(X5:X17, RIGHTB(N17, 1), F5:F17)*W17, 0) -> 1127421 | F17: =TRUNC(E17*D17, 0) -> 1127421 | G17: 0 | H17: =TRUNC(G17*D17, 0) -> 0 | I17: 0 | J17: =TRUNC(I17*D17, 0) -> 0 | K17: =TRUNC(E17+G17+I17, 0) -> 1127421 | L17: =TRUNC(F17+H17+J17, 0) -> 1127421 | N17: 59BF25E4582A170D5D9D07AA3713001 | Q17: 01010303 | R17: F | S17: F | T17: F | U17: 0 | V17: 0 | W17: 0.1 | AU17: 0101030359BF25E4582A170D5D9D07AA3713001 | AV17: 2165
A25: [ 합 계 ] | F25: =SUM(F5:F24) -F16 -> 12401639 | H25: =SUM(H5:H24) -H16 -> 0 | J25: =SUM(J5:J24) -J16 -> 0 | L25: =SUM(L5:L24) -L16 -> 12401639 | N25: TOTAL

Sheet 일위대가목록
A1: 일 위 대 가 목 록
A2: [ 중방지구 배수개선사업 자동화공사 ]
A3: 코 드 | B3: 품 명 | C3: 규 격 | D3: 단위 | E3: 재 료 비 | F3: 노 무 비 | G3: 경 비 | H3: 합 계 | I3: 번 호 | J3: 비 고 | K3: 노임계수 | L3: 할증 | M3: 품셈개요 | N3: 장비일위
A4: 58EAE5C87E25179B5EDB0A6F0D6669 | B4: 서지보호기(SPD) | C4: CCTV용(전원) | D4: 개 | E4: =일위대가!F9 -> 1518861 | F4: =일위대가!H9 -> 0 | G4: =일위대가!J9 -> 0 | H4: =E4+F4+G4 -> 1518861 | I4: 호표 1 | M4: 통신 11-6-2
A5: 58EAE5C87E25179B5EDB0A6F0D6668 | B5: 서지보호기(SPD) | C5: CCTV용(통신,영상) | D5: 개 | E5: =일위대가!F16 -> 390169 | F5: =일위대가!H16 -> 0 | G5: =일위대가!J16 -> 0 | H5: =E5+F5+G5 -> 390169 | I5: 호표 2 | M5: 통신 11-6-2
A6: 58EAE5C87C2A17BD423E05B1185ABD | B6: 카메라 설치-POLE상부 | C6: 스피드돔형 | D6: 대 | E6: =일위대가!F23 -> 209798 | F6: =일위대가!H23 -> 0 | G6: =일위대가!J23 -> 0 | H6: =E6+F6+G6 -> 209798 | I6: 호표 3 | M6: 통신 9-2-1-1
A7: 58EAE5C87C2A17BD423E05B1185AB9 | B7: 카메라 설치-벽부 | C7: 스피드돔형 | D7: 대 | E7: =일위대가!F30 -> 174831 | F7: =일위대가!H30 -> 0 | G7: =일위대가!J30 -> 0 | H7: =E7+F7+G7 -> 174831 | I7: 호표 4 | M7: 통신 9-2-1-1
A8: 58EAE5C87C2A17BD423E05B1185E18 | B8: 브라켓 설치 | C8: 벽부형 | D8: 대 | E8: =일위대가!F38 -> 233412 | F8: =일위대가!H38 -> 0 | G8: =일위대가!J38 -> 0 | H8: =E8+F8+G8 -> 233412 | I8: 호표 5 | M8: 통신 9-2-1-1
A9: 58EAE5C87C2A17BD423E05B1197EF5 | B9: CCTV제어함체(STS) 설치-POLE부착 | C9: 옥외형(ELB, 콘센트,DC아답터 포함) | D9: 면 | E9: =일위대가!F45 -> 920507 | F9: =일위대가!H45 -> 0 | G9: =일위대가!J45 -> 0 | H9: =E9+F9+G9 -> 920507 | I9: 호표 6 | M9: 통신 3-2-1
A10: 58EAE5C87C2A17BD423E05B1197864 | B10: CCTV POLE 설치 | C10: STS 2.0t, Φ152, H=4m(피뢰침 포함) | D10: 기 | E10: =일위대가!F53 -> 1431638 | F10: =일위대가!H53 -> 0 | G10: =일위대가!J53 -> 0 | H10: =E10+F10+G10 -> 1431638 | I10: 호표 7 | M10: 통신 9-2-1-1
A11: 58EAE5C87C2A17BD423E05B1197747 | B11: 카메라 시험 | C11: 송.수신 제어신호 및 영상Level 조정 | D11: SET | E11: =일위대가!F60 -> 365975 | F11: =일위대가!H60 -> 0 | G11: =일위대가!J60 -> 0 | H11: =E11+F11+G11 -> 365975 | I11: 호표 8 | M11: 통신 9-2-1-1
A12: 58EAE5C87C2A17BD423E05B1197746 | B12: CCTV시스템 개량 | C12: 영상Level 조정 및 시험 | D12: SET | E12: =일위대가!F67 -> 479068 | F12: =일위대가!H67 -> 0 | G12: =일위대가!J67 -> 0 | H12: =E12+F12+G12 -> 479068 | I12: 호표 9 | M12: 통신 9-2-1-1
A13: 58EAE5C87C2A17BD423E05B119774D | B13: 카메라 시험 | C13: 종합 | D13: 대 | E13: =일위대가!F74 -> 37697 | F13: =일위대가!H74 -> 0 | G13: =일위대가!J74 -> 0 | H13: =E13+F13+G13 -> 37697 | I13: 호표 10 | M13: 통신 9-2-1-1
A14: 58EAE5C87C2A17BD423E05B11DD1AE | B14: CCTV용 암대 설치 | C14: POLE상부, L=1m | D14: EA | E14: =일위대가!F82 -> 385573 | F14: =일위대가!H82 -> 0 | G14: =일위대가!J82 -> 0 | H14: =E14+F14+G14 -> 385573 | I14: 호표 11 | M14: 통신 9-1-10
A15: 58EAE5C8722A178AB9C300495B9E6C | B15: VPN 설치 | C15: 원격제어소용 | D15: 대 | E15: =일위대가!F90 -> 3833253 | F15: =일위대가!H90 -> 0 | G15: =일위대가!J90 -> 0 | H15: =E15+F15+G15 -> 3833253 | I15: 호표 12 | M15: 통신 8-1-5
A16: 58EAE5C8722A178AB9C300495B9B9B | B16: 유무선공유기 설치 | C16: 4PORT | D16: 대 | E16: =일위대가!F98 -> 287658 | F16: =일위대가!H98 -> 0 | G16: =일위대가!J98 -> 0 | H16: =E16+F16+G16 -> 287658 | I16: 호표 13 | M16: 통신 8-1-1
A17: 58EAE5C8722A178A9ECA04FBF77011 | B17: 수위계 설치 | C17: 센서+브라켓(시험포함) | D17: 대 | E17: =일위대가!F105 -> 234930 | F17: =일위대가!H105 -> 0 | G17: =일위대가!J105 -> 0 | H17: =E17+F17+G17 -> 234930 | I17: 호표 14 | M17: 통신 9-3-2-1
A18: 58EAE5C8722A178A9ECA04FBF545E8 | B18: 현장감시제어설비 설치 | C18: RTU반 설치 | D18: 면 | E18: =일위대가!F111 -> 4917 | F18: =일위대가!H111 -> 163909 | G18: =일위대가!J111 -> 0 | H18: =E18+F18+G18 -> 168826 | I18: 호표 15 | M18: 통신 9-3-1
A19: 58EAE5C8722A178A9ECA04FBF546F3 | B19: 현장감시제어설비 설치 | C19: Bay건립 및 카드 설치 | D19: 면 | E19: =일위대가!F118 -> 13974 | F19: =일위대가!H118 -> 465804 | G19: =일위대가!J118 -> 0 | H19: =E19+F19+G19 -> 479778 | I19: 호표 16 | M19: 통신 9-3-1
A20: 58EAE5C8722A178A9ECA04FBF5479A | B20: 현장감시제어설비 설치 | C20: 케이블 접속 | D20: 10점당 | E20: =일위대가!F124 -> 2611 | F20: =일위대가!H124 -> 87064 | G20: =일위대가!J124 -> 0 | H20: =E20+F20+G20 -> 89675 | I20: 호표 17 | M20: 통신 9-3-1
A21: 58EAE5C8722A178A9ECA04FBF5406B | B21: 현장감시제어설비 설치 | C21: 시험 | D21: 카드 | E21: =일위대가!F129 -> 178 | F21: =일위대가!H129 -> 5942 | G21: =일위대가!J129 -> 0 | H21: =E21+F21+G21 -> 6120 | I21: 호표 18 | M21: 통신 9-3-1
A22: 58EB9522532817734F830D3134CE75 | B22: 원격제어반 설치비 | C22: 권양기 | D22: 면 | E22: =일위대가!F138 -> 1050144 | F22: =일위대가!H138 -> 0 | G22: =일위대가!J138 -> 0 | H22: =E22+F22+G22 -> 1050144 | I22: 호표 19
A23: 58EB9522532817734F830D3134CE72 | B23: 원격제어반 운반비 | C23: 하차비 포함 | D23: 식 | E23: =일위대가!F144 -> 24378 | F23: =일위대가!H144 -> 0 | G23: =일위대가!J144 -> 0 | H23: =E23+F23+G23 -> 24378 | I23: 호표 20
A24: 58EB9522532817734F830D3134CE73 | B24: MCC & RTU 옥외자립형 | C24: 전원부 | D24: 면 | E24: =일위대가!F203 -> 14491739 | F24: =일위대가!H203 -> 2858479 | G24: =일위대가!J203 -> 0 | H24: =E24+F24+G24 -> 17350218 | I24: 호표 21
A25: 58EB9522532817734F830D3134CE70 | B25: MCC & RTU 옥외자립형 | C25: 제어부 | D25: 면 | E25: =일위대가!F228 -> 7900940 | F25: =일위대가!H228 -> 1474906 | G25: =일위대가!J228 -> 0 | H25: =E25+F25+G25 -> 9375846 | I25: 호표 22
A26: 58EB9522532817734F830D3134CE71 | B26: MCC & RTU (제작율 적용) | C26: 옥외자립형, 800(W)x1,800(H)x600(D) | D26: 면 | E26: =일위대가!F241 -> 37049775 | F26: =일위대가!H241 -> 0 | G26: =일위대가!J241 -> 0 | H26: =E26+F26+G26 -> 37049775 | I26: 호표 23

Sheet 일위대가
A1: [ 중방지구 배수개선사업 자동화공사 ]
A2: 품 명 | B2: 규 격 | C2: 단위 | D2: 수량 | E2: 재 료 비 | G2: 노 무 비 | I2: 경 비 | K2: 합 계 | M2: 비 고 | N2: 일위대가 | O2: 품목코드 | P2: 일위 | Q2: 단산 | R2: 자재 | S2: 손료적용 | T2: 손료저장 | U2: 적용율 | V2: JUK1 | W2: JUK2 | X2: JUK3 | Y2: JUK4 | Z2: JUK5 | AA2: JUK6 | AB2: JUK7 | AC2: JUK8 | AD2: JUK9 | AE2: JUK10 | AF2: JUK11 | AG2: JUK12 | AH2: JUK13 | AI2: JUK14 | AJ2: JUK15 | AK2: JUK16 | AL2: JUK17 | AM2: JUK18 | AN2: JUK19 | AO2: JUK20 | AP2: 할증적용 | AQ2: 할증저장 | AR2: 할증율 | AS2: HAL1 | AT2: HAL2 | AU2: HAL3 | AV2: 자재구분 | AW2: 일위대가+자재 | AX2: 장비일위 | AY2: 설정
E3: 단 가 | F3: 금 액 | G3: 단 가 | H3: 금 액 | I3: 단 가 | J3: 금 액 | K3: 단 가 | L3: 금 액
A4: 서지보호기(SPD) CCTV용(전원) 개 통신 11-6-2 ( 호표 1 ) | N4: 58EAE5C87E25179B5EDB0A6F0D6669
A5: 서지보호기(카운터)1상2선-통신 | B5: 전원용 Class2, In 20kA이상, Imax 40kA이상 | C5: SET | D5: 1 | E5: =단가대비표!O69 -> 1450000 | F5: =TRUNC(E5*D5,1) -> 1450000 | G5: =단가대비표!P69 -> 0 | H5: =TRUNC(G5*D5,1) -> 0 | I5: =단가대비표!V69 -> 0 | J5: =TRUNC(I5*D5,1) -> 0 | K5: =TRUNC(E5+G5+I5,1) -> 1450000 | L5: =TRUNC(F5+H5+J5,1) -> 1450000 | M5: 금액제외 | O5: 586855B5D02317EBDDB20C2EF5D4105FC96F7B | P5: F | Q5: F | R5: T | W5: 2 | AW5: 58EAE5C87E25179B5EDB0A6F0D6669586855B5D02317EBDDB20C2EF5D4105FC96F7B | AY5: -
A6: 통신내선공 | B6: 일반공사 직종 | C6: 인 | D6: =공량산출근거서_일위대가!K54 -> 0.24 | E6: =단가대비표!O54 -> 0 | F6: =TRUNC(E6*D6,1) -> 0 | G6: =단가대비표!P54 -> 278565 | H6: =TRUNC(G6*D6,1) -> 66855.6 | I6: =단가대비표!V54 -> 0 | J6: =TRUNC(I6*D6,1) -> 0 | K6: =TRUNC(E6+G6+I6,1) -> 278565 | L6: =TRUNC(F6+H6+J6,1) -> 66855.6 | M6: 금액제외 | O6: 587AC55C7E2D17FFB80D0A8EDD93243FDF93A7 | P6: F | Q6: F | R6: T | V6: 1 | W6: 2 | AW6: 58EAE5C87E25179B5EDB0A6F0D6669587AC55C7E2D17FFB80D0A8EDD93243FDF93A7 | AY6: -
A7: 공구손료 | B7: 인력품의 3% | C7: 식 | D7: 1 | E7: =TRUNC(SUMIF(V5:V8, RIGHTB(O7, 1), H5:H8)*U7, 2) -> 2005.66 | F7: =TRUNC(E7*D7,1) -> 2005.6 | G7: 0 | H7: =TRUNC(G7*D7,1) -> 0 | I7: 0 | J7: =TRUNC(I7*D7,1) -> 0 | K7: =TRUNC(E7+G7+I7,1) -> 2005.6 | L7: =TRUNC(F7+H7+J7,1) -> 2005.6 | M7: 금액제외 | O7: 59BF25E4582A170D5D9D07AA3713001 | P7: F | Q7: F | R7: F | S7: 1 | T7: 0 | U7: 0.03 | W7: 2 | AW7: 58EAE5C87E25179B5EDB0A6F0D666959BF25E4582A170D5D9D07AA3710002 | AY7: -
A8: 총 계 | B8: 합계의 100% | C8: 식 | D8: 1 | E8: =TRUNC(SUMIF(W5:W8, RIGHTB(O8, 1), L5:L8)*U8, 2) -> 1518861.2 | F8: =TRUNC(E8*D8,1) -> 1518861.2 | G8: 0 | H8: =TRUNC(G8*D8,1) -> 0 | I8: 0 | J8: =TRUNC(I8*D8,1) -> 0 | K8: =TRUNC(E8+G8+I8,1) -> 1518861.2 | L8: =TRUNC(F8+H8+J8,1) -> 1518861.2 | N8: 58EAE5C87E25179B5EDB0A6F0D6669 | O8: 59BF25E4582A170D5D9D07AA3710002 | P8: F | Q8: F | R8: F | S8: 3 | T8: 0 | U8: 1 | AW8: 58EAE5C87E25179B5EDB0A6F0D666959BF25E4582A170D5D9D07AA3711003
A9: [ 합 계 ] | F9: =TRUNC(SUMIF(N5:N8, N4, F5:F8),0) -> 1518861 | H9: =TRUNC(SUMIF(N5:N8, N4, H5:H8),0) -> 0 | J9: =TRUNC(SUMIF(N5:N8, N4, J5:J8),0) -> 0 | L9: =F9+H9+J9 -> 1518861 | N9: TOTAL | O9: TOTAL
A11: 서지보호기(SPD) CCTV용(통신,영상) 개 통신 11-6-2 ( 호표 2 ) | N11: 58EAE5C87E25179B5EDB0A6F0D6668
A12: 서지보호기(카운터)-통신 | B12: CCTV용(통신,영상) 20kA이상 | C12: 개 | D12: 1 | E12: =단가대비표!O72 -> 350000 | F12: =TRUNC(E12*D12,1) -> 350000 | G12: =단가대비표!P72 -> 0 | H12: =TRUNC(G12*D12,1) -> 0 | I12: =단가대비표!V72 -> 0 | J12: =TRUNC(I12*D12,1) -> 0 | K12: =TRUNC(E12+G12+I12,1) -> 350000 | L12: =TRUNC(F12+H12+J12,1) -> 350000 | M12: 금액제외 | O12: 586855B5D02317EBA0430A652B8D99B0D3B5E3 | P12: F | Q12: F | R12: T | W12: 2 | AW12: 58EAE5C87E25179B5EDB0A6F0D6668586855B5D02317EBA0430A652B8D99B0D3B5E3 | AY12: -
A13: 통신내선공 | B13: 일반공사 직종 | C13: 인 | D13: =공량산출근거서_일위대가!K57 -> 0.14 | E13: =단가대비표!O54 -> 0 | F13: =TRUNC(E13*D13,1) -> 0 | G13: =단가대비표!P54 -> 278565 | H13: =TRUNC(G13*D13,1) -> 38999.1 | I13: =단가대비표!V54 -> 0 | J13: =TRUNC(I13*D13,1) -> 0 | K13: =TRUNC(E13+G13+I13,1) -> 278565 | L13: =TRUNC(F13+H13+J13,1) -> 38999.1 | M13: 금액제외 | O13: 587AC55C7E2D17FFB80D0A8EDD93243FDF93A7 | P13: F | Q13: F | R13: T | V13: 1 | W13: 2 | AW13: 58EAE5C87E25179B5EDB0A6F0D6668587AC55C7E2D17FFB80D0A8EDD93243FDF93A7 | AY13: -
A14: 공구손료 | B14: 인력품의 3% | C14: 식 | D14: 1 | E14: =TRUNC(SUMIF(V12:V15, RIGHTB(O14, 1), H12:H15)*U14, 2) -> 1169.97 | F14: =TRUNC(E14*D14,1) -> 1169.9 | G14: 0 | H14: =TRUNC(G14*D14,1) -> 0 | I14: 0 | J14: =TRUNC(I14*D14,1) -> 0 | K14: =TRUNC(E14+G14+I14,1) -> 1169.9 | L14: =TRUNC(F14+H14+J14,1) -> 1169.9 | M14: 금액제외 | O14: 59BF25E4582A170D5D9D07AA3713001 | P14: F | Q14: F | R14: F | S14: 1 | T14: 0 | U14: 0.03 | W14: 2 | AW14: 58EAE5C87E25179B5EDB0A6F0D666859BF25E4582A170D5D9D07AA3710002 | AY14: -
A15: 총 계 | B15: 합계의 100% | C15: 식 | D15: 1 | E15: =TRUNC(SUMIF(W12:W15, RIGHTB(O15, 1), L12:L15)*U15, 2) -> 390169 | F15: =TRUNC(E15*D15,1) -> 390169 | G15: 0 | H15: =TRUNC(G15*D15,1) -> 0 | I15: 0 | J15: =TRUNC(I15*D15,1) -> 0 | K15: =TRUNC(E15+G15+I15,1) -> 390169 | L15: =TRUNC(F15+H15+J15,1) -> 390169 | N15: 58EAE5C87E25179B5EDB0A6F0D6668 | O15: 59BF25E4582A170D5D9D07AA3710002 | P15: F | Q15: F | R15: F | S15: 3 | T15: 0 | U15: 1 | AW15: 58EAE5C87E25179B5EDB0A6F0D666859BF25E4582A170D5D9D07AA3711003
A16: [ 합 계 ] | F16: =TRUNC(SUMIF(N12:N15, N11, F12:F15),0) -> 390169 | H16: =TRUNC(SUMIF(N12:N15, N11, H12:H15),0) -> 0 | J16: =TRUNC(SUMIF(N12:N15, N11, J12:J15),0) -> 0 | L16: =F16+H16+J16 -> 390169 | N16: TOTAL | O16: TOTAL
A18: 카메라 설치-POLE상부 스피드돔형 대 통신 9-2-1-1 ( 호표 3 ) | N18: 58EAE5C87C2A17BD423E05B1185ABD
A19: 통신설비공 | B19: 일반공사 직종 | C19: 인 | D19: 0.384 | E19: =단가대비표!O55 -> 0 | F19: =TRUNC(E19*D19,1) -> 0 | G19: =단가대비표!P55 -> 308930 | H19: =TRUNC(G19*D19,1) -> 118629.1 | I19: =단가대비표!V55 -> 0 | J19: =TRUNC(I19*D19,1) -> 0 | K19: =TRUNC(E19+G19+I19,1) -> 308930 | L19: =TRUNC(F19+H19+J19,1) -> 118629.1 | M19: 금액제외 | O19: 587AC55C7E2D17FFB80D0A8EDD93243FDF93A6 | P19: F | Q19: F | R19: T | V19: 1 | W19: 2 | AW19: 58EAE5C87C2A17BD423E05B1185ABD587AC55C7E2D17FFB80D0A8EDD93243FDF93A6 | AY19: -
A20: 특별인부 | B20: 일반공사 직종 | C20: 인 | D20: 0.384 | E20: =단가대비표!O53 -> 0 | F20: =TRUNC(E20*D20,1) -> 0 | G20: =단가대비표!P53 -> 221506 | H20: =TRUNC(G20*D20,1) -> 85058.3 | I20: =단가대비표!V53 -> 0 | J20: =TRUNC(I20*D20,1) -> 0 | K20: =TRUNC(E20+G20+I20,1) -> 221506 | L20: =TRUNC(F20+H20+J20,1) -> 85058.3 | M20: 금액제외 | O20: 587AC55C7E2D17FFB80D0A8EDD93243FDF9BF4 | P20: F | Q20: F | R20: T | V20: 1 | W20: 2 | AW20: 58EAE5C87C2A17BD423E05B1185ABD587AC55C7E2D17FFB80D0A8EDD93243FDF9BF4 | AY20: -
A21: 공구손료 | B21: 인력품의 3% | C21: 식 | D21: 1 | E21: =TRUNC(SUMIF(V19:V22, RIGHTB(O21, 1), H19:H22)*U21, 2) -> 6110.62 | F21: =TRUNC(E21*D21,1) -> 6110.6 | G21: 0 | H21: =TRUNC(G21*D21,1) -> 0 | I21: 0 | J21: =TRUNC(I21*D21,1) -> 0 | K21: =TRUNC(E21+G21+I21,1) -> 6110.6 | L21: =TRUNC(F21+H21+J21,1) -> 6110.6 | M21: 금액제외 | O21: 59BF25E4582A170D5D9D07AA3713001 | P21: F | Q21: F | R21: F | S21: 1 | T21: 0 | U21: 0.03 | W21: 2 | AW21: 58EAE5C87C2A17BD423E05B1185ABD59BF25E4582A170D5D9D07AA3710002 | AY21: -
A22: 총 계 | B22: 합계의 100% | C22: 식 | D22: 1 | E22: =TRUNC(SUMIF(W19:W22, RIGHTB(O22, 1), L19:L22)*U22, 2) -> 209798 | F22: =TRUNC(E22*D22,1) -> 209798 | G22: 0 | H22: =TRUNC(G22*D22,1) -> 0 | I22: 0 | J22: =TRUNC(I22*D22,1) -> 0 | K22: =TRUNC(E22+G22+I22,1) -> 209798 | L22: =TRUNC(F22+H22+J22,1) -> 209798 | N22: 58EAE5C87C2A17BD423E05B1185ABD | O22: 59BF25E4582A170D5D9D07AA3710002 | P22: F | Q22: F | R22: F | S22: 3 | T22: 0 | U22: 1 | AW22: 58EAE5C87C2A17BD423E05B1185ABD59BF25E4582A170D5D9D07AA3713001
A23: [ 합 계 ] | F23: =TRUNC(SUMIF(N19:N22, N18, F19:F22),0) -> 209798 | H23: =TRUNC(SUMIF(N19:N22, N18, H19:H22),0) -> 0 | J23: =TRUNC(SUMIF(N19:N22, N18, J19:J22),0) -> 0 | L23: =F23+H23+J23 -> 209798 | N23: TOTAL | O23: TOTAL
A25: 카메라 설치-벽부 스피드돔형 대 통신 9-2-1-1 ( 호표 4 ) | N25: 58EAE5C87C2A17BD423E05B1185AB9
A26: 통신설비공 | B26: 일반공사 직종 | C26: 인 | D26: 0.32 | E26: =단가대비표!O55 -> 0 | F26: =TRUNC(E26*D26,1) -> 0 | G26: =단가대비표!P55 -> 308930 | H26: =TRUNC(G26*D26,1) -> 98857.6 | I26: =단가대비표!V55 -> 0 | J26: =TRUNC(I26*D26,1) -> 0 | K26: =TRUNC(E26+G26+I26,1) -> 308930 | L26: =TRUNC(F26+H26+J26,1) -> 98857.6 | M26: 금액제외 | O26: 587AC55C7E2D17FFB80D0A8EDD93243FDF93A6 | P26: F | Q26: F | R26: T | V26: 1 | W26: 2 | AW26: 58EAE5C87C2A17BD423E05B1185AB9587AC55C7E2D17FFB80D0A8EDD93243FDF93A6 | AY26: -
A27: 특별인부 | B27: 일반공사 직종 | C27: 인 | D27: 0.32 | E27: =단가대비표!O53 -> 0 | F27: =TRUNC(E27*D27,1) -> 0 | G27: =단가대비표!P53 -> 221506 | H27: =TRUNC(G27*D27,1) -> 70881.9 | I27: =단가대비표!V53 -> 0 | J27: =TRUNC(I27*D27,1) -> 0 | K27: =TRUNC(E27+G27+I27,1) -> 221506 | L27: =TRUNC(F27+H27+J27,1) -> 70881.9 | M27: 금액제외 | O27: 587AC55C7E2D17FFB80D0A8EDD93243FDF9BF4 | P27: F | Q27: F | R27: T | V27: 1 | W27: 2 | AW27: 58EAE5C87C2A17BD423E05B1185AB9587AC55C7E2D17FFB80D0A8EDD93243FDF9BF4 | AY27: -
A28: 공구손료 | B28: 인력품의 3% | C28: 식 | D28: 1 | E28: =TRUNC(SUMIF(V26:V29, RIGHTB(O28, 1), H26:H29)*U28, 2) -> 5092.18 | F28: =TRUNC(E28*D28,1) -> 5092.1 | G28: 0 | H28: =TRUNC(G28*D28,1) -> 0 | I28: 0 | J28: =TRUNC(I28*D28,1) -> 0 | K28: =TRUNC(E28+G28+I28,1) -> 5092.1 | L28: =TRUNC(F28+H28+J28,1) -> 5092.1 | M28: 금액제외 | O28: 59BF25E4582A170D5D9D07AA3713001 | P28: F | Q28: F | R28: F | S28: 1 | T28: 0 | U28: 0.03 | W28: 2 | AW28: 58EAE5C87C2A17BD423E05B1185AB959BF25E4582A170D5D9D07AA3710002 | AY28: -
A29: 총 계 | B29: 합계의 100% | C29: 식 | D29: 1 | E29: =TRUNC(SUMIF(W26:W29, RIGHTB(O29, 1), L26:L29)*U29, 2) -> 174831.6 | F29: =TRUNC(E29*D29,1) -> 174831.6 | G29: 0 | H29: =TRUNC(G29*D29,1) -> 0 | I29: 0 | J29: =TRUNC(I29*D29,1) -> 0 | K29: =TRUNC(E29+G29+I29,1) -> 174831.6 | L29: =TRUNC(F29+H29+J29,1) -> 174831.6 | N29: 58EAE5C87C2A17BD423E05B1185AB9 | O29: 59BF25E4582A170D5D9D07AA3710002 | P29: F | Q29: F | R29: F | S29: 3 | T29: 0 | U29: 1 | AW29: 58EAE5C87C2A17BD423E05B1185AB959BF25E4582A170D5D9D07AA3713001
A30: [ 합 계 ] | F30: =TRUNC(SUMIF(N26:N29, N25, F26:F29),0) -> 174831 | H30: =TRUNC(SUMIF(N26:N29, N25, H26:H29),0) -> 0 | J30: =TRUNC(SUMIF(N26:N29, N25, J26:J29),0) -> 0 | L30: =F30+H30+J30 -> 174831 | N30: TOTAL | O30: TOTAL
A32: 브라켓 설치 벽부형 대 통신 9-2-1-1 ( 호표 5 ) | N32: 58EAE5C87C2A17BD423E05B1185E18
A33: DOME CAMERA BRACKET | B33: 천정형/벽부형 | C33: 개 | D33: 1 | E33: =단가대비표!O45 -> 120000 | F33: =TRUNC(E33*D33,1) -> 120000 | G33: =단가대비표!P45 -> 0 | H33: =TRUNC(G33*D33,1) -> 0 | I33: =단가대비표!V45 -> 0 | J33: =TRUNC(I33*D33,1) -> 0 | K33: =TRUNC(E33+G33+I33,1) -> 120000 | L33: =TRUNC(F33+H33+J33,1) -> 120000 | M33: 금액제외 | O33: 5FEEC5B7D82E174557BD07673F342A12B6E8FE | P33: F | Q33: F | R33: T | W33: 2 | AW33: 58EAE5C87C2A17BD423E05B1185E185FEEC5B7D82E174557BD07673F342A12B6E8FE | AY33: -
A34: 통신설비공 | B34: 일반공사 직종 | C34: 인 | D34: =공량산출근거서_일위대가!K62 -> 0.23 | E34: =단가대비표!O55 -> 0 | F34: =TRUNC(E34*D34,1) -> 0 | G34: =단가대비표!P55 -> 308930 | H34: =TRUNC(G34*D34,1) -> 71053.9 | I34: =단가대비표!V55 -> 0 | J34: =TRUNC(I34*D34,1) -> 0 | K34: =TRUNC(E34+G34+I34,1) -> 308930 | L34: =TRUNC(F34+H34+J34,1) -> 71053.9 | M34: 금액제외 | O34: 587AC55C7E2D17FFB80D0A8EDD93243FDF93A6 | P34: F | Q34: F | R34: T | V34: 1 | W34: 2 | AW34: 58EAE5C87C2A17BD423E05B1185E18587AC55C7E2D17FFB80D0A8EDD93243FDF93A6 | AY34: -
A35: 보통인부 | B35: 일반공사 직종 | C35: 인 | D35: =공량산출근거서_일위대가!K61 -> 0.23 | E35: =단가대비표!O52 -> 0 | F35: =TRUNC(E35*D35,1) -> 0 | G35: =단가대비표!P52 -> 169804 | H35: =TRUNC(G35*D35,1) -> 39054.9 | I35: =단가대비표!V52 -> 0 | J35: =TRUNC(I35*D35,1) -> 0 | K35: =TRUNC(E35+G35+I35,1) -> 169804 | L35: =TRUNC(F35+H35+J35,1) -> 39054.9 | M35: 금액제외 | O35: 587AC55C7E2D17FFB80D0A8EDD93243FDF9BF5 | P35: F | Q35: F | R35: T | V35: 1 | W35: 2 | AW35: 58EAE5C87C2A17BD423E05B1185E18587AC55C7E2D17FFB80D0A8EDD93243FDF9BF5 | AY35: -
A36: 공구손료 | B36: 인력품의 3% | C36: 식 | D36: 1 | E36: =TRUNC(SUMIF(V33:V37, RIGHTB(O36, 1), H33:H37)*U36, 2) -> 3303.26 | F36: =TRUNC(E36*D36,1) -> 3303.2 | G36: 0 | H36: =TRUNC(G36*D36,1) -> 0 | I36: 0 | J36: =TRUNC(I36*D36,1) -> 0 | K36: =TRUNC(E36+G36+I36,1) -> 3303.2 | L36: =TRUNC(F36+H36+J36,1) -> 3303.2 | M36: 금액제외 | O36: 59BF25E4582A170D5D9D07AA3713001 | P36: F | Q36: F | R36: F | S36: 1 | T36: 0 | U36: 0.03 | W36: 2 | AW36: 58EAE5C87C2A17BD423E05B1185E1859BF25E4582A170D5D9D07AA3710002 | AY36: -
A37: 총 계 | B37: 합계의 100% | C37: 식 | D37: 1 | E37: =TRUNC(SUMIF(W33:W37, RIGHTB(O37, 1), L33:L37)*U37, 2) -> 233412 | F37: =TRUNC(E37*D37,1) -> 233412 | G37: 0 | H37: =TRUNC(G37*D37,1) -> 0 | I37: 0 | J37: =TRUNC(I37*D37,1) -> 0 | K37: =TRUNC(E37+G37+I37,1) -> 233412 | L37: =TRUNC(F37+H37+J37,1) -> 233412 | N37: 58EAE5C87C2A17BD423E05B1185E18 | O37: 59BF25E4582A170D5D9D07AA3710002 | P37: F | Q37: F | R37: F | S37: 3 | T37: 0 | U37: 1 | AW37: 58EAE5C87C2A17BD423E05B1185E1859BF25E4582A170D5D9D07AA3713001
A38: [ 합 계 ] | F38: =TRUNC(SUMIF(N33:N37, N32, F33:F37),0) -> 233412 | H38: =TRUNC(SUMIF(N33:N37, N32, H33:H37),0) -> 0 | J38: =TRUNC(SUMIF(N33:N37, N32, J33:J37),0) -> 0 | L38: =F38+H38+J38 -> 233412 | N38: TOTAL | O38: TOTAL
A40: CCTV제어함체(STS) 설치-POLE부착 옥외형(ELB, 콘센트,DC아답터 포함) 면 통신 3-2-1 ( 호표 6 ) | N40: 58EAE5C87C2A17BD423E05B1197EF5
A41: CCTV POLE PANEL(ELB,콘센트,DC아답터 포함) | B41: STS. 2.0t (W)300*(H)400*(D)300, POLE결속식 | C41: 면 | D41: 1 | E41: =단가대비표!O46 -> 800000 | F41: =TRUNC(E41*D41,1) -> 800000 | G41: =단가대비표!P46 -> 0 | H41: =TRUNC(G41*D41,1) -> 0 | I41: =단가대비표!V46 -> 0 | J41: =TRUNC(I41*D41,1) -> 0 | K41: =TRUNC(E41+G41+I41,1) -> 800000 | L41: =TRUNC(F41+H41+J41,1) -> 800000 | M41: 금액제외 | O41: 5FEEC5B7D82E174557BD07673F342A12B04838 | P41: F | Q41: F | R41: T | W41: 2 | AW41: 58EAE5C87C2A17BD423E05B1197EF55FEEC5B7D82E174557BD07673F342A12B04838 | AY41: -
A42: 통신내선공 | B42: 일반공사 직종 | C42: 인 | D42: =공량산출근거서_일위대가!K65 -> 0.42 | E42: =단가대비표!O54 -> 0 | F42: =TRUNC(E42*D42,1) -> 0 | G42: =단가대비표!P54 -> 278565 | H42: =TRUNC(G42*D42,1) -> 116997.3 | I42: =단가대비표!V54 -> 0 | J42: =TRUNC(I42*D42,1) -> 0 | K42: =TRUNC(E42+G42+I42,1) -> 278565 | L42: =TRUNC(F42+H42+J42,1) -> 116997.3 | M42: 금액제외 | O42: 587AC55C7E2D17FFB80D0A8EDD93243FDF93A7 | P42: F | Q42: F | R42: T | V42: 1 | W42: 2 | AW42: 58EAE5C87C2A17BD423E05B1197EF5587AC55C7E2D17FFB80D0A8EDD93243FDF93A7 | AY42: -
A43: 공구손료 | B43: 인력품의 3% | C43: 식 | D43: 1 | E43: =TRUNC(SUMIF(V41:V44, RIGHTB(O43, 1), H41:H44)*U43, 2) -> 3509.91 | F43: =TRUNC(E43*D43,1) -> 3509.9 | G43: 0 | H43: =TRUNC(G43*D43,1) -> 0 | I43: 0 | J43: =TRUNC(I43*D43,1) -> 0 | K43: =TRUNC(E43+G43+I43,1) -> 3509.9 | L43: =TRUNC(F43+H43+J43,1) -> 3509.9 | M43: 금액제외 | O43: 59BF25E4582A170D5D9D07AA3713001 | P43: F | Q43: F | R43: F | S43: 1 | T43: 0 | U43: 0.03 | W43: 2 | AW43: 58EAE5C87C2A17BD423E05B1197EF559BF25E4582A170D5D9D07AA3710002 | AY43: -
A44: 총 계 | B44: 합계의 100% | C44: 식 | D44: 1 | E44: =TRUNC(SUMIF(W41:W44, RIGHTB(O44, 1), L41:L44)*U44, 2) -> 920507.2 | F44: =TRUNC(E44*D44,1) -> 920507.2 | G44: 0 | H44: =TRUNC(G44*D44,1) -> 0 | I44: 0 | J44: =TRUNC(I44*D44,1) -> 0 | K44: =TRUNC(E44+G44+I44,1) -> 920507.2 | L44: =TRUNC(F44+H44+J44,1) -> 920507.2 | N44: 58EAE5C87C2A17BD423E05B1197EF5 | O44: 59BF25E4582A170D5D9D07AA3710002 | P44: F | Q44: F | R44: F | S44: 3 | T44: 0 | U44: 1 | AW44: 58EAE5C87C2A17BD423E05B1197EF559BF25E4582A170D5D9D07AA3713001
A45: [ 합 계 ] | F45: =TRUNC(SUMIF(N41:N44, N40, F41:F44),0) -> 920507 | H45: =TRUNC(SUMIF(N41:N44, N40, H41:H44),0) -> 0 | J45: =TRUNC(SUMIF(N41:N44, N40, J41:J44),0) -> 0 | L45: =F45+H45+J45 -> 920507 | N45: TOTAL | O45: TOTAL
A47: CCTV POLE 설치 STS 2.0t, Φ152, H=4m(피뢰침 포함) 기 통신 9-2-1-1 ( 호표 7 ) | N47: 58EAE5C87C2A17BD423E05B1197864
A48: CCTV CAMERA POLE | B48: STS 2.0t, Φ152, H=4m(피뢰침 포함) | C48: 기 | D48: 1 | E48: =단가대비표!O47 -> 1125000 | F48: =TRUNC(E48*D48,1) -> 1125000 | G48: =단가대비표!P47 -> 0 | H48: =TRUNC(G48*D48,1) -> 0 | I48: =단가대비표!V47 -> 0 | J48: =TRUNC(I48*D48,1) -> 0 | K48: =TRUNC(E48+G48+I48,1) -> 1125000 | L48: =TRUNC(F48+H48+J48,1) -> 1125000 | M48: 금액제외 | O48: 5FEEC5B7D82E174557BD07673F342A12B1678B | P48: F | Q48: F | R48: T | W48: 2 | AW48: 58EAE5C87C2A17BD423E05B11978645FEEC5B7D82E174557BD07673F342A12B1678B | AY48: -
A49: 통신외선공 | B49: 일반공사 직종 | C49: 인 | D49: =공량산출근거서_일위대가!K70 -> 0.5 | E49: =단가대비표!O56 -> 0 | F49: =TRUNC(E49*D49,1) -> 0 | G49: =단가대비표!P56 -> 405235 | H49: =TRUNC(G49*D49,1) -> 202617.5 | I49: =단가대비표!V56 -> 0 | J49: =TRUNC(I49*D49,1) -> 0 | K49: =TRUNC(E49+G49+I49,1) -> 405235 | L49: =TRUNC(F49+H49+J49,1) -> 202617.5 | M49: 금액제외 | O49: 587AC55C7E2D17FFB80D0A8EDD93243FDF93A9 | P49: F | Q49: F | R49: T | V49: 1 | W49: 2 | AW49: 58EAE5C87C2A17BD423E05B1197864587AC55C7E2D17FFB80D0A8EDD93243FDF93A9 | AY49: -
A50: 보통인부 | B50: 일반공사 직종 | C50: 인 | D50: =공량산출근거서_일위대가!K69 -> 0.56 | E50: =단가대비표!O52 -> 0 | F50: =TRUNC(E50*D50,1) -> 0 | G50: =단가대비표!P52 -> 169804 | H50: =TRUNC(G50*D50,1) -> 95090.2 | I50: =단가대비표!V52 -> 0 | J50: =TRUNC(I50*D50,1) -> 0 | K50: =TRUNC(E50+G50+I50,1) -> 169804 | L50: =TRUNC(F50+H50+J50,1) -> 95090.2 | M50: 금액제외 | O50: 587AC55C7E2D17FFB80D0A8EDD93243FDF9BF5 | P50: F | Q50: F | R50: T | V50: 1 | W50: 2 | AW50: 58EAE5C87C2A17BD423E05B1197864587AC55C7E2D17FFB80D0A8EDD93243FDF9BF5 | AY50: -
A51: 공구손료 | B51: 인력품의 3% | C51: 식 | D51: 1 | E51: =TRUNC(SUMIF(V48:V52, RIGHTB(O51, 1), H48:H52)*U51, 2) -> 8931.23 | F51: =TRUNC(E51*D51,1) -> 8931.2 | G51: 0 | H51: =TRUNC(G51*D51,1) -> 0 | I51: 0 | J51: =TRUNC(I51*D51,1) -> 0 | K51: =TRUNC(E51+G51+I51,1) -> 8931.2 | L51: =TRUNC(F51+H51+J51,1) -> 8931.2 | M51: 금액제외 | O51: 59BF25E4582A170D5D9D07AA3713001 | P51: F | Q51: F | R51: F | S51: 1 | T51: 0 | U51: 0.03 | W51: 2 | AW51: 58EAE5C87C2A17BD423E05B119786459BF25E4582A170D5D9D07AA3711003 | AY51: -
A52: 총 계 | B52: 합계의 100% | C52: 식 | D52: 1 | E52: =TRUNC(SUMIF(W48:W52, RIGHTB(O52, 1), L48:L52)*U52, 2) -> 1431638.9 | F52: =TRUNC(E52*D52,1) -> 1431638.9 | G52: 0 | H52: =TRUNC(G52*D52,1) -> 0 | I52: 0 | J52: =TRUNC(I52*D52,1) -> 0 | K52: =TRUNC(E52+G52+I52,1) -> 1431638.9 | L52: =TRUNC(F52+H52+J52,1) -> 1431638.9 | N52: 58EAE5C87C2A17BD423E05B1197864 | O52: 59BF25E4582A170D5D9D07AA3710002 | P52: F | Q52: F | R52: F | S52: 3 | T52: 0 | U52: 1 | AW52: 58EAE5C87C2A17BD423E05B119786459BF25E4582A170D5D9D07AA3710002
A53: [ 합 계 ] | F53: =TRUNC(SUMIF(N48:N52, N47, F48:F52),0) -> 1431638 | H53: =TRUNC(SUMIF(N48:N52, N47, H48:H52),0) -> 0 | J53: =TRUNC(SUMIF(N48:N52, N47, J48:J52),0) -> 0 | L53: =F53+H53+J53 -> 1431638 | N53: TOTAL | O53: TOTAL
A55: 카메라 시험 송.수신 제어신호 및 영상Level 조정 SET 통신 9-2-1-1 ( 호표 8 ) | N55: 58EAE5C87C2A17BD423E05B1197747
A56: 통신관련산업기사 | B56: 기타 직종 | C56: 인 | D56: 0.52 | E56: =단가대비표!O60 -> 0 | F56: =TRUNC(E56*D56,1) -> 0 | G56: =단가대비표!P60 -> 297137 | H56: =TRUNC(G56*D56,1) -> 154511.2 | I56: =단가대비표!V60 -> 0 | J56: =TRUNC(I56*D56,1) -> 0 | K56: =TRUNC(E56+G56+I56,1) -> 297137 | L56: =TRUNC(F56+H56+J56,1) -> 154511.2 | M56: 금액제외 | O56: 587AC55C7E2D17FFB80D0E69AD648539CEFF47 | P56: F | Q56: F | R56: T | V56: 1 | W56: 2 | AW56: 58EAE5C87C2A17BD423E05B1197747587AC55C7E2D17FFB80D0E69AD648539CEFF47 | AY56: -
A57: 통신설비공 | B57: 일반공사 직종 | C57: 인 | D57: 0.65 | E57: =단가대비표!O55 -> 0 | F57: =TRUNC(E57*D57,1) -> 0 | G57: =단가대비표!P55 -> 308930 | H57: =TRUNC(G57*D57,1) -> 200804.5 | I57: =단가대비표!V55 -> 0 | J57: =TRUNC(I57*D57,1) -> 0 | K57: =TRUNC(E57+G57+I57,1) -> 308930 | L57: =TRUNC(F57+H57+J57,1) -> 200804.5 | M57: 금액제외 | O57: 587AC55C7E2D17FFB80D0A8EDD93243FDF93A6 | P57: F | Q57: F | R57: T | V57: 1 | W57: 2 | AW57: 58EAE5C87C2A17BD423E05B1197747587AC55C7E2D17FFB80D0A8EDD93243FDF93A6 | AY57: -
A58: 공구손료 | B58: 인력품의 3% | C58: 식 | D58: 1 | E58: =TRUNC(SUMIF(V56:V59, RIGHTB(O58, 1), H56:H59)*U58, 2) -> 10659.47 | F58: =TRUNC(E58*D58,1) -> 10659.4 | G58: 0 | H58: =TRUNC(G58*D58,1) -> 0 | I58: 0 | J58: =TRUNC(I58*D58,1) -> 0 | K58: =TRUNC(E58+G58+I58,1) -> 10659.4 | L58: =TRUNC(F58+H58+J58,1) -> 10659.4 | M58: 금액제외 | O58: 59BF25E4582A170D5D9D07AA3713001 | P58: F | Q58: F | R58: F | S58: 1 | T58: 0 | U58: 0.03 | W58: 2 | AW58: 58EAE5C87C2A17BD423E05B119774759BF25E4582A170D5D9D07AA3710002 | AY58: -
A59: 총 계 | B59: 합계의 100% | C59: 식 | D59: 1 | E59: =TRUNC(SUMIF(W56:W59, RIGHTB(O59, 1), L56:L59)*U59, 2) -> 365975.1 | F59: =TRUNC(E59*D59,1) -> 365975.1 | G59: 0 | H59: =TRUNC(G59*D59,1) -> 0 | I59: 0 | J59: =TRUNC(I59*D59,1) -> 0 | K59: =TRUNC(E59+G59+I59,1) -> 365975.1 | L59: =TRUNC(F59+H59+J59,1) -> 365975.1 | N59: 58EAE5C87C2A17BD423E05B1197747 | O59: 59BF25E4582A170D5D9D07AA3710002 | P59: F | Q59: F | R59: F | S59: 3 | T59: 0 | U59: 1 | AW59: 58EAE5C87C2A17BD423E05B119774759BF25E4582A170D5D9D07AA3713001
A60: [ 합 계 ] | F60: =TRUNC(SUMIF(N56:N59, N55, F56:F59),0) -> 365975 | H60: =TRUNC(SUMIF(N56:N59, N55, H56:H59),0) -> 0 | J60: =TRUNC(SUMIF(N56:N59, N55, J56:J59),0) -> 0 | L60: =F60+H60+J60 -> 365975 | N60: TOTAL | O60: TOTAL
A62: CCTV시스템 개량 영상Level 조정 및 시험 SET 통신 9-2-1-1 ( 호표 9 ) | N62: 58EAE5C87C2A17BD423E05B1197746
A63: 통신관련산업기사 | B63: 기타 직종 | C63: 인 | D63: 0.64 | E63: =단가대비표!O60 -> 0 | F63: =TRUNC(E63*D63,1) -> 0 | G63: =단가대비표!P60 -> 297137 | H63: =TRUNC(G63*D63,1) -> 190167.6 | I63: =단가대비표!V60 -> 0 | J63: =TRUNC(I63*D63,1) -> 0 | K63: =TRUNC(E63+G63+I63,1) -> 297137 | L63: =TRUNC(F63+H63+J63,1) -> 190167.6 | M63: 금액제외 | O63: 587AC55C7E2D17FFB80D0E69AD648539CEFF47 | P63: F | Q63: F | R63: T | V63: 1 | W63: 2 | AW63: 58EAE5C87C2A17BD423E05B1197746587AC55C7E2D17FFB80D0E69AD648539CEFF47 | AY63: -
A64: 통신설비공 | B64: 일반공사 직종 | C64: 인 | D64: 0.89 | E64: =단가대비표!O55 -> 0 | F64: =TRUNC(E64*D64,1) -> 0 | G64: =단가대비표!P55 -> 308930 | H64: =TRUNC(G64*D64,1) -> 274947.7 | I64: =단가대비표!V55 -> 0 | J64: =TRUNC(I64*D64,1) -> 0 | K64: =TRUNC(E64+G64+I64,1) -> 308930 | L64: =TRUNC(F64+H64+J64,1) -> 274947.7 | M64: 금액제외 | O64: 587AC55C7E2D17FFB80D0A8EDD93243FDF93A6 | P64: F | Q64: F | R64: T | V64: 1 | W64: 2 | AW64: 58EAE5C87C2A17BD423E05B1197746587AC55C7E2D17FFB80D0A8EDD93243FDF93A6 | AY64: -
A65: 공구손료 | B65: 인력품의 3% | C65: 식 | D65: 1 | E65: =TRUNC(SUMIF(V63:V66, RIGHTB(O65, 1), H63:H66)*U65, 2) -> 13953.45 | F65: =TRUNC(E65*D65,1) -> 13953.4 | G65: 0 | H65: =TRUNC(G65*D65,1) -> 0 | I65: 0 | J65: =TRUNC(I65*D65,1) -> 0 | K65: =TRUNC(E65+G65+I65,1) -> 13953.4 | L65: =TRUNC(F65+H65+J65,1) -> 13953.4 | M65: 금액제외 | O65: 59BF25E4582A170D5D9D07AA3713001 | P65: F | Q65: F | R65: F | S65: 1 | T65: 0 | U65: 0.03 | W65: 2 | AW65: 58EAE5C87C2A17BD423E05B119774659BF25E4582A170D5D9D07AA3710002 | AY65: -
A66: 총 계 | B66: 합계의 100% | C66: 식 | D66: 1 | E66: =TRUNC(SUMIF(W63:W66, RIGHTB(O66, 1), L63:L66)*U66, 2) -> 479068.7 | F66: =TRUNC(E66*D66,1) -> 479068.7 | G66: 0 | H66: =TRUNC(G66*D66,1) -> 0 | I66: 0 | J66: =TRUNC(I66*D66,1) -> 0 | K66: =TRUNC(E66+G66+I66,1) -> 479068.7 | L66: =TRUNC(F66+H66+J66,1) -> 479068.7 | N66: 58EAE5C87C2A17BD423E05B1197746 | O66: 59BF25E4582A170D5D9D07AA3710002 | P66: F | Q66: F | R66: F | S66: 3 | T66: 0 | U66: 1 | AW66: 58EAE5C87C2A17BD423E05B119774659BF25E4582A170D5D9D07AA3713001
A67: [ 합 계 ] | F67: =TRUNC(SUMIF(N63:N66, N62, F63:F66),0) -> 479068 | H67: =TRUNC(SUMIF(N63:N66, N62, H63:H66),0) -> 0 | J67: =TRUNC(SUMIF(N63:N66, N62, J63:J66),0) -> 0 | L67: =F67+H67+J67 -> 479068 | N67: TOTAL | O67: TOTAL
A69: 카메라 시험 종합 대 통신 9-2-1-1 ( 호표 10 ) | N69: 58EAE5C87C2A17BD423E05B119774D
A70: 통신관련산업기사 | B70: 기타 직종 | C70: 인 | D70: 0.04 | E70: =단가대비표!O60 -> 0 | F70: =TRUNC(E70*D70,1) -> 0 | G70: =단가대비표!P60 -> 297137 | H70: =TRUNC(G70*D70,1) -> 11885.4 | I70: =단가대비표!V60 -> 0 | J70: =TRUNC(I70*D70,1) -> 0 | K70: =TRUNC(E70+G70+I70,1) -> 297137 | L70: =TRUNC(F70+H70+J70,1) -> 11885.4 | M70: 금액제외 | O70: 587AC55C7E2D17FFB80D0E69AD648539CEFF47 | P70: F | Q70: F | R70: T | V70: 1 | W70: 2 | AW70: 58EAE5C87C2A17BD423E05B119774D587AC55C7E2D17FFB80D0E69AD648539CEFF47 | AY70: -
A71: 통신설비공 | B71: 일반공사 직종 | C71: 인 | D71: 0.08 | E71: =단가대비표!O55 -> 0 | F71: =TRUNC(E71*D71,1) -> 0 | G71: =단가대비표!P55 -> 308930 | H71: =TRUNC(G71*D71,1) -> 24714.4 | I71: =단가대비표!V55 -> 0 | J71: =TRUNC(I71*D71,1) -> 0 | K71: =TRUNC(E71+G71+I71,1) -> 308930 | L71: =TRUNC(F71+H71+J71,1) -> 24714.4 | M71: 금액제외 | O71: 587AC55C7E2D17FFB80D0A8EDD93243FDF93A6 | P71: F | Q71: F | R71: T | V71: 1 | W71: 2 | AW71: 58EAE5C87C2A17BD423E05B119774D587AC55C7E2D17FFB80D0A8EDD93243FDF93A6 | AY71: -
A72: 공구손료 | B72: 인력품의 3% | C72: 식 | D72: 1 | E72: =TRUNC(SUMIF(V70:V73, RIGHTB(O72, 1), H70:H73)*U72, 2) -> 1097.99 | F72: =TRUNC(E72*D72,1) -> 1097.9 | G72: 0 | H72: =TRUNC(G72*D72,1) -> 0 | I72: 0 | J72: =TRUNC(I72*D72,1) -> 0 | K72: =TRUNC(E72+G72+I72,1) -> 1097.9 | L72: =TRUNC(F72+H72+J72,1) -> 1097.9 | M72: 금액제외 | O72: 59BF25E4582A170D5D9D07AA3713001 | P72: F | Q72: F | R72: F | S72: 1 | T72: 0 | U72: 0.03 | W72: 2 | AW72: 58EAE5C87C2A17BD423E05B119774D59BF25E4582A170D5D9D07AA3710002 | AY72: -
A73: 총 계 | B73: 합계의 100% | C73: 식 | D73: 1 | E73: =TRUNC(SUMIF(W70:W73, RIGHTB(O73, 1), L70:L73)*U73, 2) -> 37697.7 | F73: =TRUNC(E73*D73,1) -> 37697.7 | G73: 0 | H73: =TRUNC(G73*D73,1) -> 0 | I73: 0 | J73: =TRUNC(I73*D73,1) -> 0 | K73: =TRUNC(E73+G73+I73,1) -> 37697.7 | L73: =TRUNC(F73+H73+J73,1) -> 37697.7 | N73: 58EAE5C87C2A17BD423E05B119774D | O73: 59BF25E4582A170D5D9D07AA3710002 | P73: F | Q73: F | R73: F | S73: 3 | T73: 0 | U73: 1 | AW73: 58EAE5C87C2A17BD423E05B119774D59BF25E4582A170D5D9D07AA3713001
A74: [ 합 계 ] | F74: =TRUNC(SUMIF(N70:N73, N69, F70:F73),0) -> 37697 | H74: =TRUNC(SUMIF(N70:N73, N69, H70:H73),0) -> 0 | J74: =TRUNC(SUMIF(N70:N73, N69, J70:J73),0) -> 0 | L74: =F74+H74+J74 -> 37697 | N74: TOTAL | O74: TOTAL
A76: CCTV용 암대 설치 POLE상부, L=1m EA 통신 9-1-10 ( 호표 11 ) | N76: 58EAE5C87C2A17BD423E05B11DD1AE
A77: CCTV용 POLE 암대 | B77: L=1.0m | C77: EA | D77: 1 | E77: =단가대비표!O48 -> 179000 | F77: =TRUNC(E77*D77,1) -> 179000 | G77: =단가대비표!P48 -> 0 | H77: =TRUNC(G77*D77,1) -> 0 | I77: =단가대비표!V48 -> 0 | J77: =TRUNC(I77*D77,1) -> 0 | K77: =TRUNC(E77+G77+I77,1) -> 179000 | L77: =TRUNC(F77+H77+J77,1) -> 179000 | M77: 금액제외 | O77: 5FEEC5B7D82E174557BD07673F342A12B1678A | P77: F | Q77: F | R77: T | W77: 2 | AW77: 58EAE5C87C2A17BD423E05B11DD1AE5FEEC5B7D82E174557BD07673F342A12B1678A | AY77: -
A78: 통신외선공 | B78: 일반공사 직종 | C78: 인 | D78: =공량산출근거서_일위대가!K75 -> 0.32 | E78: =단가대비표!O56 -> 0 | F78: =TRUNC(E78*D78,1) -> 0 | G78: =단가대비표!P56 -> 405235 | H78: =TRUNC(G78*D78,1) -> 129675.2 | I78: =단가대비표!V56 -> 0 | J78: =TRUNC(I78*D78,1) -> 0 | K78: =TRUNC(E78+G78+I78,1) -> 405235 | L78: =TRUNC(F78+H78+J78,1) -> 129675.2 | M78: 금액제외 | O78: 587AC55C7E2D17FFB80D0A8EDD93243FDF93A9 | P78: F | Q78: F | R78: T | V78: 1 | W78: 2 | AW78: 58EAE5C87C2A17BD423E05B11DD1AE587AC55C7E2D17FFB80D0A8EDD93243FDF93A9 | AY78: -
A79: 특별인부 | B79: 일반공사 직종 | C79: 인 | D79: =공량산출근거서_일위대가!K74 -> 0.32 | E79: =단가대비표!O53 -> 0 | F79: =TRUNC(E79*D79,1) -> 0 | G79: =단가대비표!P53 -> 221506 | H79: =TRUNC(G79*D79,1) -> 70881.9 | I79: =단가대비표!V53 -> 0 | J79: =TRUNC(I79*D79,1) -> 0 | K79: =TRUNC(E79+G79+I79,1) -> 221506 | L79: =TRUNC(F79+H79+J79,1) -> 70881.9 | M79: 금액제외 | O79: 587AC55C7E2D17FFB80D0A8EDD93243FDF9BF4 | P79: F | Q79: F | R79: T | V79: 1 | W79: 2 | AW79: 58EAE5C87C2A17BD423E05B11DD1AE587AC55C7E2D17FFB80D0A8EDD93243FDF9BF4 | AY79: -
A80: 공구손료 | B80: 인력품의 3% | C80: 식 | D80: 1 | E80: =TRUNC(SUMIF(V77:V81, RIGHTB(O80, 1), H77:H81)*U80, 2) -> 6016.71 | F80: =TRUNC(E80*D80,1) -> 6016.7 | G80: 0 | H80: =TRUNC(G80*D80,1) -> 0 | I80: 0 | J80: =TRUNC(I80*D80,1) -> 0 | K80: =TRUNC(E80+G80+I80,1) -> 6016.7 | L80: =TRUNC(F80+H80+J80,1) -> 6016.7 | M80: 금액제외 | O80: 59BF25E4582A170D5D9D07AA3713001 | P80: F | Q80: F | R80: F | S80: 1 | T80: 0 | U80: 0.03 | W80: 2 | AW80: 58EAE5C87C2A17BD423E05B11DD1AE59BF25E4582A170D5D9D07AA3711003 | AY80: -
A81: 총 계 | B81: 합계의 100% | C81: 식 | D81: 1 | E81: =TRUNC(SUMIF(W77:W81, RIGHTB(O81, 1), L77:L81)*U81, 2) -> 385573.8 | F81: =TRUNC(E81*D81,1) -> 385573.8 | G81: 0 | H81: =TRUNC(G81*D81,1) -> 0 | I81: 0 | J81: =TRUNC(I81*D81,1) -> 0 | K81: =TRUNC(E81+G81+I81,1) -> 385573.8 | L81: =TRUNC(F81+H81+J81,1) -> 385573.8 | N81: 58EAE5C87C2A17BD423E05B11DD1AE | O81: 59BF25E4582A170D5D9D07AA3710002 | P81: F | Q81: F | R81: F | S81: 3 | T81: 0 | U81: 1 | AW81: 58EAE5C87C2A17BD423E05B11DD1AE59BF25E4582A170D5D9D07AA3710002
A82: [ 합 계 ] | F82: =TRUNC(SUMIF(N77:N81, N76, F77:F81),0) -> 385573 | H82: =TRUNC(SUMIF(N77:N81, N76, H77:H81),0) -> 0 | J82: =TRUNC(SUMIF(N77:N81, N76, J77:J81),0) -> 0 | L82: =F82+H82+J82 -> 385573 | N82: TOTAL | O82: TOTAL
A84: VPN 설치 원격제어소용 대 통신 8-1-5 ( 호표 12 ) | N84: 58EAE5C8722A178AB9C300495B9E6C
A85: VPN | B85: 영상, 데이터용 | C85: 대 | D85: 1 | E85: =단가대비표!O40 -> 3500000 | F85: =TRUNC(E85*D85,1) -> 3500000 | G85: =단가대비표!P40 -> 0 | H85: =TRUNC(G85*D85,1) -> 0 | I85: =단가대비표!V40 -> 0 | J85: =TRUNC(I85*D85,1) -> 0 | K85: =TRUNC(E85+G85+I85,1) -> 3500000 | L85: =TRUNC(F85+H85+J85,1) -> 3500000 | M85: 금액제외 | O85: 5FFF657E192717FEC4C1020C39467E7AE4213D | P85: F | Q85: F | R85: T | W85: 2 | AW85: 58EAE5C8722A178AB9C300495B9E6C5FFF657E192717FEC4C1020C39467E7AE4213D | AY85: -
A86: S/W시험사 | B86: 광전자 직종 | C86: 인 | D86: =공량산출근거서_일위대가!K80 -> 0.39 | E86: =단가대비표!O59 -> 0 | F86: =TRUNC(E86*D86,1) -> 0 | G86: =단가대비표!P59 -> 445000 | H86: =TRUNC(G86*D86,1) -> 173550 | I86: =단가대비표!V59 -> 0 | J86: =TRUNC(I86*D86,1) -> 0 | K86: =TRUNC(E86+G86+I86,1) -> 445000 | L86: =TRUNC(F86+H86+J86,1) -> 173550 | M86: 금액제외 | O86: 587AC55C7E2D17FFB80D09E878C7DFE2583FCF | P86: F | Q86: F | R86: T | V86: 1 | W86: 2 | AW86: 58EAE5C8722A178AB9C300495B9E6C587AC55C7E2D17FFB80D09E878C7DFE2583FCF | AY86: -
A87: H/W시험사 | B87: 광전자 직종 | C87: 인 | D87: =공량산출근거서_일위대가!K79 -> 0.39 | E87: =단가대비표!O58 -> 0 | F87: =TRUNC(E87*D87,1) -> 0 | G87: =단가대비표!P58 -> 384609 | H87: =TRUNC(G87*D87,1) -> 149997.5 | I87: =단가대비표!V58 -> 0 | J87: =TRUNC(I87*D87,1) -> 0 | K87: =TRUNC(E87+G87+I87,1) -> 384609 | L87: =TRUNC(F87+H87+J87,1) -> 149997.5 | M87: 금액제외 | O87: 587AC55C7E2D17FFB80D09E878C7DFE2583FC8 | P87: F | Q87: F | R87: T | V87: 1 | W87: 2 | AW87: 58EAE5C8722A178AB9C300495B9E6C587AC55C7E2D17FFB80D09E878C7DFE2583FC8 | AY87: -
A88: 공구손료 | B88: 인력품의 3% | C88: 식 | D88: 1 | E88: =TRUNC(SUMIF(V85:V89, RIGHTB(O88, 1), H85:H89)*U88, 2) -> 9706.42 | F88: =TRUNC(E88*D88,1) -> 9706.4 | G88: 0 | H88: =TRUNC(G88*D88,1) -> 0 | I88: 0 | J88: =TRUNC(I88*D88,1) -> 0 | K88: =TRUNC(E88+G88+I88,1) -> 9706.4 | L88: =TRUNC(F88+H88+J88,1) -> 9706.4 | M88: 금액제외 | O88: 59BF25E4582A170D5D9D07AA3713001 | P88: F | Q88: F | R88: F | S88: 1 | T88: 0 | U88: 0.03 | W88: 2 | AW88: 58EAE5C8722A178AB9C300495B9E6C59BF25E4582A170D5D9D07AA3711003 | AY88: -
A89: 총 계 | B89: 합계의 100% | C89: 식 | D89: 1 | E89: =TRUNC(SUMIF(W85:W89, RIGHTB(O89, 1), L85:L89)*U89, 2) -> 3833253.9 | F89: =TRUNC(E89*D89,1) -> 3833253.9 | G89: 0 | H89: =TRUNC(G89*D89,1) -> 0 | I89: 0 | J89: =TRUNC(I89*D89,1) -> 0 | K89: =TRUNC(E89+G89+I89,1) -> 3833253.9 | L89: =TRUNC(F89+H89+J89,1) -> 3833253.9 | N89: 58EAE5C8722A178AB9C300495B9E6C | O89: 59BF25E4582A170D5D9D07AA3710002 | P89: F | Q89: F | R89: F | S89: 3 | T89: 0 | U89: 1 | AW89: 58EAE5C8722A178AB9C300495B9E6C59BF25E4582A170D5D9D07AA3710002
A90: [ 합 계 ] | F90: =TRUNC(SUMIF(N85:N89, N84, F85:F89),0) -> 3833253 | H90: =TRUNC(SUMIF(N85:N89, N84, H85:H89),0) -> 0 | J90: =TRUNC(SUMIF(N85:N89, N84, J85:J89),0) -> 0 | L90: =F90+H90+J90 -> 3833253 | N90: TOTAL | O90: TOTAL
A92: 유무선공유기 설치 4PORT 대 통신 8-1-1 ( 호표 13 ) | N92: 58EAE5C8722A178AB9C300495B9B9B
A93: 유무선공유기 | B93: 4PORT | C93: 대 | D93: 1 | E93: =단가대비표!O41 -> 35500 | F93: =TRUNC(E93*D93,1) -> 35500 | G93: =단가대비표!P41 -> 0 | H93: =TRUNC(G93*D93,1) -> 0 | I93: =단가대비표!V41 -> 0 | J93: =TRUNC(I93*D93,1) -> 0 | K93: =TRUNC(E93+G93+I93,1) -> 35500 | L93: =TRUNC(F93+H93+J93,1) -> 35500 | M93: 금액제외 | O93: 5FFF657E192717FEC4C1020C39467E7AE42138 | P93: F | Q93: F | R93: T | W93: 2 | AW93: 58EAE5C8722A178AB9C300495B9B9B5FFF657E192717FEC4C1020C39467E7AE42138 | AY93: -
A94: S/W시험사 | B94: 광전자 직종 | C94: 인 | D94: =공량산출근거서_일위대가!K85 -> 0.36 | E94: =단가대비표!O59 -> 0 | F94: =TRUNC(E94*D94,1) -> 0 | G94: =단가대비표!P59 -> 445000 | H94: =TRUNC(G94*D94,1) -> 160200 | I94: =단가대비표!V59 -> 0 | J94: =TRUNC(I94*D94,1) -> 0 | K94: =TRUNC(E94+G94+I94,1) -> 445000 | L94: =TRUNC(F94+H94+J94,1) -> 160200 | M94: 금액제외 | O94: 587AC55C7E2D17FFB80D09E878C7DFE2583FCF | P94: F | Q94: F | R94: T | V94: 1 | W94: 2 | AW94: 58EAE5C8722A178AB9C300495B9B9B587AC55C7E2D17FFB80D09E878C7DFE2583FCF | AY94: -
A95: H/W시험사 | B95: 광전자 직종 | C95: 인 | D95: =공량산출근거서_일위대가!K84 -> 0.22 | E95: =단가대비표!O58 -> 0 | F95: =TRUNC(E95*D95,1) -> 0 | G95: =단가대비표!P58 -> 384609 | H95: =TRUNC(G95*D95,1) -> 84613.9 | I95: =단가대비표!V58 -> 0 | J95: =TRUNC(I95*D95,1) -> 0 | K95: =TRUNC(E95+G95+I95,1) -> 384609 | L95: =TRUNC(F95+H95+J95,1) -> 84613.9 | M95: 금액제외 | O95: 587AC55C7E2D17FFB80D09E878C7DFE2583FC8 | P95: F | Q95: F | R95: T | V95: 1 | W95: 2 | AW95: 58EAE5C8722A178AB9C300495B9B9B587AC55C7E2D17FFB80D09E878C7DFE2583FC8 | AY95: -
A96: 공구손료 | B96: 인력품의 3% | C96: 식 | D96: 1 | E96: =TRUNC(SUMIF(V93:V97, RIGHTB(O96, 1), H93:H97)*U96, 2) -> 7344.41 | F96: =TRUNC(E96*D96,1) -> 7344.4 | G96: 0 | H96: =TRUNC(G96*D96,1) -> 0 | I96: 0 | J96: =TRUNC(I96*D96,1) -> 0 | K96: =TRUNC(E96+G96+I96,1) -> 7344.4 | L96: =TRUNC(F96+H96+J96,1) -> 7344.4 | M96: 금액제외 | O96: 59BF25E4582A170D5D9D07AA3713001 | P96: F | Q96: F | R96: F | S96: 1 | T96: 0 | U96: 0.03 | W96: 2 | AW96: 58EAE5C8722A178AB9C300495B9B9B59BF25E4582A170D5D9D07AA3711003 | AY96: -
A97: 총 계 | B97: 합계의 100% | C97: 식 | D97: 1 | E97: =TRUNC(SUMIF(W93:W97, RIGHTB(O97, 1), L93:L97)*U97, 2) -> 287658.3 | F97: =TRUNC(E97*D97,1) -> 287658.3 | G97: 0 | H97: =TRUNC(G97*D97,1) -> 0 | I97: 0 | J97: =TRUNC(I97*D97,1) -> 0 | K97: =TRUNC(E97+G97+I97,1) -> 287658.3 | L97: =TRUNC(F97+H97+J97,1) -> 287658.3 | N97: 58EAE5C8722A178AB9C300495B9B9B | O97: 59BF25E4582A170D5D9D07AA3710002 | P97: F | Q97: F | R97: F | S97: 3 | T97: 0 | U97: 1 | AW97: 58EAE5C8722A178AB9C300495B9B9B59BF25E4582A170D5D9D07AA3716004
A98: [ 합 계 ] | F98: =TRUNC(SUMIF(N93:N97, N92, F93:F97),0) -> 287658 | H98: =TRUNC(SUMIF(N93:N97, N92, H93:H97),0) -> 0 | J98: =TRUNC(SUMIF(N93:N97, N92, J93:J97),0) -> 0 | L98: =F98+H98+J98 -> 287658 | N98: TOTAL | O98: TOTAL
A100: 수위계 설치 센서+브라켓(시험포함) 대 통신 9-3-2-1 ( 호표 14 ) | N100: 58EAE5C8722A178A9ECA04FBF77011
A101: 통신설비공 | B101: 일반공사 직종 | C101: 인 | D101: 0.43 | E101: =단가대비표!O55 -> 0 | F101: =TRUNC(E101*D101,1) -> 0 | G101: =단가대비표!P55 -> 308930 | H101: =TRUNC(G101*D101,1) -> 132839.9 | I101: =단가대비표!V55 -> 0 | J101: =TRUNC(I101*D101,1) -> 0 | K101: =TRUNC(E101+G101+I101,1) -> 308930 | L101: =TRUNC(F101+H101+J101,1) -> 132839.9 | M101: 금액제외 | O101: 587AC55C7E2D17FFB80D0A8EDD93243FDF93A6 | P101: F | Q101: F | R101: T | V101: 1 | W101: 2 | AW101: 58EAE5C8722A178A9ECA04FBF77011587AC55C7E2D17FFB80D0A8EDD93243FDF93A6 | AY101: -
A102: 특별인부 | B102: 일반공사 직종 | C102: 인 | D102: 0.43 | E102: =단가대비표!O53 -> 0 | F102: =TRUNC(E102*D102,1) -> 0 | G102: =단가대비표!P53 -> 221506 | H102: =TRUNC(G102*D102,1) -> 95247.5 | I102: =단가대비표!V53 -> 0 | J102: =TRUNC(I102*D102,1) -> 0 | K102: =TRUNC(E102+G102+I102,1) -> 221506 | L102: =TRUNC(F102+H102+J102,1) -> 95247.5 | M102: 금액제외 | O102: 587AC55C7E2D17FFB80D0A8EDD93243FDF9BF4 | P102: F | Q102: F | R102: T | V102: 1 | W102: 2 | AW102: 58EAE5C8722A178A9ECA04FBF77011587AC55C7E2D17FFB80D0A8EDD93243FDF9BF4 | AY102: -
A103: 공구손료 | B103: 인력품의 3% | C103: 식 | D103: 1 | E103: =TRUNC(SUMIF(V101:V104, RIGHTB(O103, 1), H101:H104)*U103, 2) -> 6842.62 | F103: =TRUNC(E103*D103,1) -> 6842.6 | G103: 0 | H103: =TRUNC(G103*D103,1) -> 0 | I103: 0 | J103: =TRUNC(I103*D103,1) -> 0 | K103: =TRUNC(E103+G103+I103,1) -> 6842.6 | L103: =TRUNC(F103+H103+J103,1) -> 6842.6 | M103: 금액제외 | O103: 59BF25E4582A170D5D9D07AA3713001 | P103: F | Q103: F | R103: F | S103: 1 | T103: 0 | U103: 0.03 | W103: 2 | AW103: 58EAE5C8722A178A9ECA04FBF7701159BF25E4582A170D5D9D07AA3710002 | AY103: -
A104: 총 계 | B104: 합계의 100% | C104: 식 | D104: 1 | E104: =TRUNC(SUMIF(W101:W104, RIGHTB(O104, 1), L101:L104)*U104, 2) -> 234930 | F104: =TRUNC(E104*D104,1) -> 234930 | G104: 0 | H104: =TRUNC(G104*D104,1) -> 0 | I104: 0 | J104: =TRUNC(I104*D104,1) -> 0 | K104: =TRUNC(E104+G104+I104,1) -> 234930 | L104: =TRUNC(F104+H104+J104,1) -> 234930 | N104: 58EAE5C8722A178A9ECA04FBF77011 | O104: 59BF25E4582A170D5D9D07AA3710002 | P104: F | Q104: F | R104: F | S104: 3 | T104: 0 | U104: 1 | AW104: 58EAE5C8722A178A9ECA04FBF7701159BF25E4582A170D5D9D07AA3713001
A105: [ 합 계 ] | F105: =TRUNC(SUMIF(N101:N104, N100, F101:F104),0) -> 234930 | H105: =TRUNC(SUMIF(N101:N104, N100, H101:H104),0) -> 0 | J105: =TRUNC(SUMIF(N101:N104, N100, J101:J104),0) -> 0 | L105: =F105+H105+J105 -> 234930 | N105: TOTAL | O105: TOTAL
A107: 현장감시제어설비 설치 RTU반 설치 면 통신 9-3-1 ( 호표 15 ) | N107: 58EAE5C8722A178A9ECA04FBF545E8
A108: 통신설비공 | B108: 일반공사 직종 | C108: 인 | D108: 0.38 | E108: =단가대비표!O55 -> 0 | F108: =TRUNC(E108*D108,1) -> 0 | G108: =단가대비표!P55 -> 308930 | H108: =TRUNC(G108*D108,1) -> 117393.4 | I108: =단가대비표!V55 -> 0 | J108: =TRUNC(I108*D108,1) -> 0 | K108: =TRUNC(E108+G108+I108,1) -> 308930 | L108: =TRUNC(F108+H108+J108,1) -> 117393.4 | N108: 58EAE5C8722A178A9ECA04FBF545E8 | O108: 587AC55C7E2D17FFB80D0A8EDD93243FDF93A6 | P108: F | Q108: F | R108: T | V108: 1 | AW108: 58EAE5C8722A178A9ECA04FBF545E8587AC55C7E2D17FFB80D0A8EDD93243FDF93A6
A109: 특별인부 | B109: 일반공사 직종 | C109: 인 | D109: 0.21 | E109: =단가대비표!O53 -> 0 | F109: =TRUNC(E109*D109,1) -> 0 | G109: =단가대비표!P53 -> 221506 | H109: =TRUNC(G109*D109,1) -> 46516.2 | I109: =단가대비표!V53 -> 0 | J109: =TRUNC(I109*D109,1) -> 0 | K109: =TRUNC(E109+G109+I109,1) -> 221506 | L109: =TRUNC(F109+H109+J109,1) -> 46516.2 | N109: 58EAE5C8722A178A9ECA04FBF545E8 | O109: 587AC55C7E2D17FFB80D0A8EDD93243FDF9BF4 | P109: F | Q109: F | R109: T | V109: 1 | AW109: 58EAE5C8722A178A9ECA04FBF545E8587AC55C7E2D17FFB80D0A8EDD93243FDF9BF4
A110: 공구손료 | B110: 인력품의 3% | C110: 식 | D110: 1 | E110: =TRUNC(SUMIF(V108:V110, RIGHTB(O110, 1), H108:H110)*U110, 2) -> 4917.28 | F110: =TRUNC(E110*D110,1) -> 4917.2 | G110: 0 | H110: =TRUNC(G110*D110,1) -> 0 | I110: 0 | J110: =TRUNC(I110*D110,1) -> 0 | K110: =TRUNC(E110+G110+I110,1) -> 4917.2 | L110: =TRUNC(F110+H110+J110,1) -> 4917.2 | N110: 58EAE5C8722A178A9ECA04FBF545E8 | O110: 59BF25E4582A170D5D9D07AA3713001 | P110: F | Q110: F | R110: F | S110: 1 | T110: 0 | U110: 0.03 | AW110: 58EAE5C8722A178A9ECA04FBF545E859BF25E4582A170D5D9D07AA3710002
A111: [ 합 계 ] | F111: =TRUNC(SUMIF(N108:N110, N107, F108:F110),0) -> 4917 | H111: =TRUNC(SUMIF(N108:N110, N107, H108:H110),0) -> 163909 | J111: =TRUNC(SUMIF(N108:N110, N107, J108:J110),0) -> 0 | L111: =F111+H111+J111 -> 168826 | N111: TOTAL | O111: TOTAL
A113: 현장감시제어설비 설치 Bay건립 및 카드 설치 면 통신 9-3-1 ( 호표 16 ) | N113: 58EAE5C8722A178A9ECA04FBF546F3
A114: 통신설비공 | B114: 일반공사 직종 | C114: 인 | D114: 0.59 | E114: =단가대비표!O55 -> 0 | F114: =TRUNC(E114*D114,1) -> 0 | G114: =단가대비표!P55 -> 308930 | H114: =TRUNC(G114*D114,1) -> 182268.7 | I114: =단가대비표!V55 -> 0 | J114: =TRUNC(I114*D114,1) -> 0 | K114: =TRUNC(E114+G114+I114,1) -> 308930 | L114: =TRUNC(F114+H114+J114,1) -> 182268.7 | N114: 58EAE5C8722A178A9ECA04FBF546F3 | O114: 587AC55C7E2D17FFB80D0A8EDD93243FDF93A6 | P114: F | Q114: F | R114: T | V114: 1 | AW114: 58EAE5C8722A178A9ECA04FBF546F3587AC55C7E2D17FFB80D0A8EDD93243FDF93A6
A115: 통신케이블공 | B115: 일반공사 직종 | C115: 인 | D115: 0.46 | E115: =단가대비표!O57 -> 0 | F115: =TRUNC(E115*D115,1) -> 0 | G115: =단가대비표!P57 -> 433400 | H115: =TRUNC(G115*D115,1) -> 199364 | I115: =단가대비표!V57 -> 0 | J115: =TRUNC(I115*D115,1) -> 0 | K115: =TRUNC(E115+G115+I115,1) -> 433400 | L115: =TRUNC(F115+H115+J115,1) -> 199364 | N115: 58EAE5C8722A178A9ECA04FBF546F3 | O115: 587AC55C7E2D17FFB80D0A8EDD93243FDF93A8 | P115: F | Q115: F | R115: T | V115: 1 | AW115: 58EAE5C8722A178A9ECA04FBF546F3587AC55C7E2D17FFB80D0A8EDD93243FDF93A8
...

Sheet 공량산출근거서_일위대가
A1: 공 량 산 출 근 거 서
A2: [ 중방지구 배수개선사업 자동화공사 ]
A3: 코 드 | B3: 품 명 | C3: 규 격 | D3: 단위 | E3: 품 셈 목 록 | F3: 수 량 | G3: 할증 | H3: 노임할증-1 | I3: 노임할증-2 | J3: 노임할증-3 | K3: 내역수량 | L3: 직 종 명 | M3: 공 량 | N3: 계 | O3: 번 호 | P3: 비 고 | T3: 일위대가목록+자재 | V3: 전선원 | W3: 제조부문 | X3: 전기기계조립원 | Y3: H/W시험사 | Z3: 광전자 직종 | AA3: S/W시험사 | AB3: 통신내선공 | AC3: 일반공사 직종 | AD3: 보통인부 | AE3: 통신설비공 | AF3: 통신외선공 | AG3: 특별인부
A4: MCC & RTU-1 옥외자립형 전원부 면 (호표 21)
A5: 5F84F545F82E176487A90530BBCCB46D846731 | B5: 리미트 스위치 | C5: 배전반용 | D5: 개 | E5: 전기5-23(나) | F5: 2 | G5: 0 | K5: 2 | L5: 전선원 | M5: =0.1*(H5+100)/100*(I5+100)/100*(J5+100)/100 -> 0.1 | N5: =F5*M5 -> 0.2 | O5: 노임 11 | P5: 0.1*1 | Q5: 58EB9522532817734F830D3134CE73 | R5: 587AC55C7E2D17FF9D2603F0987433F56C3C96 | S5: 0.1 | T5: 58EB9522532817734F830D3134CE735F84F545F82E176487A90530BBCCB46D846731 | V5: =N5 -> 0.2
A6: 586855B4C32A1738354106CCF8037C50D66E8A | B6: 전등 (배전반용) | C6: 삼파장 전구형, AC 220V 20W | D6: 개 | E6: 전기5-25 | F6: 2 | G6: 0 | K6: 2 | L6: 전선원 | M6: =0.18*(H6+100)/100*(I6+100)/100*(J6+100)/100 -> 0.18 | N6: =F6*M6 -> 0.36 | O6: 노임 11 | P6: 0.18*1 | Q6: 58EB9522532817734F830D3134CE73 | R6: 587AC55C7E2D17FF9D2603F0987433F56C3C96 | S6: 0.18 | T6: 58EB9522532817734F830D3134CE73586855B4C32A1738354106CCF8037C50D66E8A | V6: =N6 -> 0.36
A7: 586855B5D02317EBDD970F59BEE39E128F5D32 | B7: 서지보호기(카운터)3상4선 | C7: 전원용 Class2, In 20kA이상, Imax 40kA이상 | D7: SET | E7: 전기5-45-2 | F7: 1 | G7: 0 | K7: 1 | L7: 전선원 | M7: =0.24*(H7+100)/100*(I7+100)/100*(J7+100)/100 -> 0.24 | N7: =F7*M7 -> 0.24 | O7: 노임 11 | P7: 0.24*1 | Q7: 58EB9522532817734F830D3134CE73 | R7: 587AC55C7E2D17FF9D2603F0987433F56C3C96 | S7: 0.24 | T7: 58EB9522532817734F830D3134CE73586855B5D02317EBDD970F59BEE39E128F5D32 | V7: =N7 -> 0.24
A8: 586855B5D02317EBDDB20C2EF5D4105FCB1C30 | B8: 서지보호기(카운터)1상2선 | C8: 전원용 Class2, In 20kA이상, Imax 40kA이상 | D8: SET | E8: 전기5-45-2 | F8: 1 | G8: 0 | K8: 1 | L8: 전선원 | M8: =0.24*(H8+100)/100*(I8+100)/100*(J8+100)/100 -> 0.24 | N8: =F8*M8 -> 0.24 | O8: 노임 11 | P8: 0.24*1 | Q8: 58EB9522532817734F830D3134CE73 | R8: 587AC55C7E2D17FF9D2603F0987433F56C3C96 | S8: 0.24 | T8: 58EB9522532817734F830D3134CE73586855B5D02317EBDDB20C2EF5D4105FCB1C30 | V8: =N8 -> 0.24
A9: 586855B5D02317EBDD1209E19B361CB5B57C0E | B9: 서지보호기(카운터) | C9: 통신(이더넷용) 20kA이상 | D9: 개 | E9: 전기5-45-2 | F9: 2 | G9: 0 | K9: 2 | L9: 전선원 | M9: =0.14*(H9+100)/100*(I9+100)/100*(J9+100)/100 -> 0.14 | N9: =F9*M9 -> 0.28 | O9: 노임 11 | P9: 0.14*1 | Q9: 58EB9522532817734F830D3134CE73 | R9: 587AC55C7E2D17FF9D2603F0987433F56C3C96 | S9: 0.14 | T9: 58EB9522532817734F830D3134CE73586855B5D02317EBDD1209E19B361CB5B57C0E | V9: =N9 -> 0.28
A10: 586855B5D02317EBDD0002D73147D607717769 | B10: 서지보호기(카운터) | C10: 신호용 5V/24V, 4~20mA, 20kA이상 | D10: 개 | E10: 전기5-45-2 | F10: 5 | G10: 0 | K10: 5 | L10: 전선원 | M10: =0.14*(H10+100)/100*(I10+100)/100*(J10+100)/100 -> 0.14 | N10: =F10*M10 -> 0.7 | O10: 노임 11 | P10: 0.14*1 | Q10: 58EB9522532817734F830D3134CE73 | R10: 587AC55C7E2D17FF9D2603F0987433F56C3C96 | S10: 0.14 | T10: 58EB9522532817734F830D3134CE73586855B5D02317EBDD0002D73147D607717769 | V10: =N10 -> 0.7
A11: 586855B5D02317EBA0430A652B8D99B0D3B689 | B11: 서지보호기(카운터) | C11: CCTV용(통신,영상) 20kA이상 | D11: 개 | E11: 통신11-6-2 | F11: 1 | G11: 0 | K11: 1 | L11: 전선원 | M11: =0.14*(H11+100)/100*(I11+100)/100*(J11+100)/100 -> 0.14 | N11: =F11*M11 -> 0.14 | O11: 노임 11 | P11: 0.14*1 | Q11: 58EB9522532817734F830D3134CE73 | R11: 587AC55C7E2D17FF9D2603F0987433F56C3C96 | S11: 0.14 | T11: 58EB9522532817734F830D3134CE73586855B5D02317EBA0430A652B8D99B0D3B689 | V11: =N11 -> 0.14
A12: 5FFF454E532217772DA000DBA365BC9F211605 | B12: 교류전류계 | C12: (배전반매입)광각도 | D12: 개 | E12: 전기3-34 | F12: 1 | G12: 0 | K12: 1 | L12: 전기기계조립원 | M12: =0.54*(H12+100)/100*(I12+100)/100*(J12+100)/100 -> 0.54 | N12: =F12*M12 -> 0.54 | O12: 노임 10 | P12: 0.27*2 | Q12: 58EB9522532817734F830D3134CE73 | R12: 587AC55C7E2D17FF9D2603F0987433F56C3E45 | S12: 0.54 | T12: 58EB9522532817734F830D3134CE735FFF454E532217772DA000DBA365BC9F211605 | X12: =N12 -> 0.54
A13: 5FFF454E532217772DA000DBA365BC9F211601 | B13: 교류전압계 | C13: (배전반매입)광각도 | D13: 개 | E13: 전기3-34 | F13: 1 | G13: 0 | K13: 1 | L13: 전기기계조립원 | M13: =0.54*(H13+100)/100*(I13+100)/100*(J13+100)/100 -> 0.54 | N13: =F13*M13 -> 0.54 | O13: 노임 10 | P13: 0.27*2 | Q13: 58EB9522532817734F830D3134CE73 | R13: 587AC55C7E2D17FF9D2603F0987433F56C3E45 | S13: 0.54 | T13: 58EB9522532817734F830D3134CE735FFF454E532217772DA000DBA365BC9F211601 | X13: =N13 -> 0.54
A14: 586855BB7A22174D6D1F054061A37B3B131567 | B14: 전압절환스위치 | C14: VS(250V10A3P3W) | D14: 개 | E14: 전기3-34 | F14: 1 | G14: 0 | K14: 1 | L14: 전기기계조립원 | M14: =0.2*(H14+100)/100*(I14+100)/100*(J14+100)/100 -> 0.2 | N14: =F14*M14 -> 0.2 | O14: 노임 10 | P14: 0.2*1 | Q14: 58EB9522532817734F830D3134CE73 | R14: 587AC55C7E2D17FF9D2603F0987433F56C3E45 | S14: 0.2 | T14: 58EB9522532817734F830D3134CE73586855BB7A22174D6D1F054061A37B3B131567 | X14: =N14 -> 0.2
A15: 586855BB7A22174D9A5504C0C26F93B26151D7 | B15: 전류전환스위치 | C15: AS(250V10A3P3W) | D15: 개 | E15: 전기3-34 | F15: 1 | G15: 0 | K15: 1 | L15: 전기기계조립원 | M15: =0.2*(H15+100)/100*(I15+100)/100*(J15+100)/100 -> 0.2 | N15: =F15*M15 -> 0.2 | O15: 노임 10 | P15: 0.2*1 | Q15: 58EB9522532817734F830D3134CE73 | R15: 587AC55C7E2D17FF9D2603F0987433F56C3E45 | S15: 0.2 | T15: 58EB9522532817734F830D3134CE73586855BB7A22174D9A5504C0C26F93B26151D7 | X15: =N15 -> 0.2
A16: 5F84F545F82E176487BA05016A7E2079C61CEB | B16: 디지탈집중표시장치 | C16: A,V,KW,PF,F,KWH,RS-485 | D16: 대 | E16: 전기3-34 | F16: 1 | G16: 0 | K16: 1 | L16: 전기기계조립원 | M16: =0.76*(H16+100)/100*(I16+100)/100*(J16+100)/100 -> 0.76 | N16: =F16*M16 -> 0.76 | O16: 노임 10 | P16: 0.76*1 | Q16: 58EB9522532817734F830D3134CE73 | R16: 587AC55C7E2D17FF9D2603F0987433F56C3E45 | S16: 0.76 | T16: 58EB9522532817734F830D3134CE735F84F545F82E176487BA05016A7E2079C61CEB | X16: =N16 -> 0.76
A17: 5F84F545F82E1764DFF60B7B79BA4A2200D257 | B17: 계기용변류기(C.T)환형 | C17: 600V 5VA -/5A | D17: 대 | E17: 전기3-34 | F17: 3 | G17: 0 | K17: 3 | L17: 전선원 | M17: =0.4*(H17+100)/100*(I17+100)/100*(J17+100)/100 -> 0.4 | N17: =F17*M17 -> 1.2 | O17: 노임 11 | P17: 0.34*1.18 | Q17: 58EB9522532817734F830D3134CE73 | R17: 587AC55C7E2D17FF9D2603F0987433F56C3C96 | S17: 0.4 | T17: 58EB9522532817734F830D3134CE735F84F545F82E1764DFF60B7B79BA4A2200D257 | V17: =N17 -> 1.2
A18: 5F84F545F82E1764BCE90C022A8E08BBF53524 | B18: 배선용차단기(MCCB) | C18: 표준형 460V 4P 50AF | D18: 개 | E18: 전기 5-19 | F18: 2 | G18: 0 | K18: 2 | L18: 전선원 | M18: =0.338*(H18+100)/100*(I18+100)/100*(J18+100)/100 -> 0.338 | N18: =F18*M18 -> 0.676 | O18: 노임 11 | P18: 0.338*1 | Q18: 58EB9522532817734F830D3134CE73 | R18: 587AC55C7E2D17FF9D2603F0987433F56C3C96 | S18: 0.338 | T18: 58EB9522532817734F830D3134CE735F84F545F82E1764BCE90C022A8E08BBF53524 | V18: =N18 -> 0.676
A19: 5F84F545F82E1764BCE90C022A8E08BBF426FF | B19: 배선용차단기(MCCB) | C19: 표준형 460V 2P 50AF | D19: 개 | E19: 전기 5-19 | F19: 1 | G19: 0 | K19: 1 | L19: 전선원 | M19: =0.182*(H19+100)/100*(I19+100)/100*(J19+100)/100 -> 0.182 | N19: =F19*M19 -> 0.182 | O19: 노임 11 | P19: 0.182*1 | Q19: 58EB9522532817734F830D3134CE73 | R19: 587AC55C7E2D17FF9D2603F0987433F56C3C96 | S19: 0.182 | T19: 58EB9522532817734F830D3134CE735F84F545F82E1764BCE90C022A8E08BBF426FF | V19: =N19 -> 0.182
A20: 5F84F545F82E1764BCE90C022A8E08BBF426FE | B20: 배선용차단기(MCCB) | C20: 표준형 460V 2P 30AF | D20: 개 | E20: 전기 5-19 | F20: 5 | G20: 0 | K20: 5 | L20: 전선원 | M20: =0.133*(H20+100)/100*(I20+100)/100*(J20+100)/100 -> 0.133 | N20: =F20*M20 -> 0.665 | O20: 노임 11 | P20: 0.133*1 | Q20: 58EB9522532817734F830D3134CE73 | R20: 587AC55C7E2D17FF9D2603F0987433F56C3C96 | S20: 0.133 | T20: 58EB9522532817734F830D3134CE735F84F545F82E1764BCE90C022A8E08BBF426FE | V20: =N20 -> 0.665
A21: 5F84F545F82E1764BCE90ECC819DF62C215C17 | B21: 누전차단기(ELCB) | C21: 표준형 460V 3P 30AF | D21: 개 | E21: 전기 5-19 | F21: 1 | G21: 0 | K21: 3 | L21: 전선원 | M21: =0.19*(H21+100)/100*(I21+100)/100*(J21+100)/100 -> 0.19 | N21: =F21*M21 -> 0.19 | O21: 노임 11 | P21: 0.19*1 | Q21: 58EB9522532817734F830D3134CE73 | R21: 587AC55C7E2D17FF9D2603F0987433F56C3C96 | S21: 0.19 | T21: 58EB9522532817734F830D3134CE735F84F545F82E1764BCE90ECC819DF62C215C17 | V21: =N21 -> 0.19
A22: 5F84F545F82E1764BCE90ECC819DF62C215EC4 | B22: 누전차단기(ELCB) | C22: 분전반형, 2P 30AF | D22: 개 | E22: 전기 5-19 | F22: 7 | G22: 0 | K22: 7 | L22: 전선원 | M22: =0.133*(H22+100)/100*(I22+100)/100*(J22+100)/100 -> 0.133 | N22: =F22*M22 -> 0.931 | O22: 노임 11 | P22: 0.133*1 | Q22: 58EB9522532817734F830D3134CE73 | R22: 587AC55C7E2D17FF9D2603F0987433F56C3C96 | S22: 0.133 | T22: 58EB9522532817734F830D3134CE735F84F545F82E1764BCE90ECC819DF62C215EC4 | V22: =N22 -> 0.931
A23: 5F84F545F82E1764BCE90ECC819DF62C215FD2 | B23: 자동복귀 누전차단기 | C23: 220V 2P 30AF | D23: 개 | E23: 전기 5-19 | F23: 1 | G23: 0 | K23: 1 | L23: 전선원 | M23: =0.133*(H23+100)/100*(I23+100)/100*(J23+100)/100 -> 0.133 | N23: =F23*M23 -> 0.133 | O23: 노임 11 | P23: 0.133*1 | Q23: 58EB9522532817734F830D3134CE73 | R23: 587AC55C7E2D17FF9D2603F0987433F56C3C96 | S23: 0.133 | T23: 58EB9522532817734F830D3134CE735F84F545F82E1764BCE90ECC819DF62C215FD2 | V23: =N23 -> 0.133
A24: 5F84F545F82E1764878E07547372A9FB918EE1 | B24: 전자접촉기(개방형)AC용 | C24: (220/380V)2.7/4kW | D24: 개 | E24: 전기5-19 | F24: 1 | G24: 0 | K24: 7 | L24: 전선원 | M24: =0.3*(H24+100)/100*(I24+100)/100*(J24+100)/100 -> 0.3 | N24: =F24*M24 -> 0.3 | O24: 노임 11 | P24: 0.3*1 | Q24: 58EB9522532817734F830D3134CE73 | R24: 587AC55C7E2D17FF9D2603F0987433F56C3C96 | S24: 0.3 | T24: 58EB9522532817734F830D3134CE735F84F545F82E1764878E07547372A9FB918EE1 | V24: =N24 -> 0.3
A25: 5F84F545F82E1764878E0E87BCDCEB4214B0C9 | B25: 전자식과전류계전기(EOCR)-4E | C25: 디지털표시부부착, 4~20mA 출력 | D25: 개 | E25: 전기3-34 | F25: 1 | G25: 0 | K25: 3 | L25: 전기기계조립원 | M25: =0.54*(H25+100)/100*(I25+100)/100*(J25+100)/100 -> 0.54 | N25: =F25*M25 -> 0.54 | O25: 노임 10 | P25: 0.18*3 | Q25: 58EB9522532817734F830D3134CE73 | R25: 587AC55C7E2D17FF9D2603F0987433F56C3E45 | S25: 0.54 | T25: 58EB9522532817734F830D3134CE735F84F545F82E1764878E0E87BCDCEB4214B0C9 | X25: =N25 -> 0.54
A26: 5F84F545F82E1764DFDB08195DA7C3922E44FA | B26: 콘덴서 (저압) | C26: (3P 380V/440V) 10㎌ | D26: 대 | E26: 전기5-40 | F26: 1 | G26: 0 | K26: 3 | L26: 전기기계조립원 | M26: =0.0728*(H26+100)/100*(I26+100)/100*(J26+100)/100 -> 0.0728 | N26: =F26*M26 -> 0.0728 | O26: 노임 10 | P26: 0.0728*1 | Q26: 58EB9522532817734F830D3134CE73 | R26: 587AC55C7E2D17FF9D2603F0987433F56C3E45 | S26: 0.0728 | T26: 58EB9522532817734F830D3134CE735F84F545F82E1764DFDB08195DA7C3922E44FA | X26: =N26 -> 0.0728
A27: 586855B4C32A17387CF30EBFA3BDB4AFF170A9 | B27: 디지털표시기 | C27: 입력:4~20mA, 4 Digit, 출력단자 | D27: 개 | E27: 전기3-34 | F27: 2 | G27: 0 | K27: 5 | L27: 전기기계조립원 | M27: =0.36*(H27+100)/100*(I27+100)/100*(J27+100)/100 -> 0.36 | N27: =F27*M27 -> 0.72 | O27: 노임 10 | P27: 0.36*1 | Q27: 58EB9522532817734F830D3134CE73 | R27: 587AC55C7E2D17FF9D2603F0987433F56C3E45 | S27: 0.36 | T27: 58EB9522532817734F830D3134CE73586855B4C32A17387CF30EBFA3BDB4AFF170A9 | X27: =N27 -> 0.72
A28: 586855B4C32A17387CC60AC0EB91FBEDC07800 | B28: 신호분배기 | C28: 1채널 입력, 2채널 출력:4~20mA | D28: 개 | E28: 전기3-34 | F28: 2 | G28: 0 | K28: 5 | L28: 전기기계조립원 | M28: =0.18*(H28+100)/100*(I28+100)/100*(J28+100)/100 -> 0.18 | N28: =F28*M28 -> 0.36 | O28: 노임 10 | P28: 0.18*1 | Q28: 58EB9522532817734F830D3134CE73 | R28: 587AC55C7E2D17FF9D2603F0987433F56C3E45 | S28: 0.18 | T28: 58EB9522532817734F830D3134CE73586855B4C32A17387CC60AC0EB91FBEDC07800 | X28: =N28 -> 0.36
A29: 586855B4C32A17387CD7013203B325D2B694DE | B29: 신호변환기 | C29: 입력:싱크로신호, 출력:4~20mA | D29: 개 | E29: 전기3-34 | F29: 2 | G29: 0 | K29: 3 | L29: 전기기계조립원 | M29: =0.18*(H29+100)/100*(I29+100)/100*(J29+100)/100 -> 0.18 | N29: =F29*M29 -> 0.36 | O29: 노임 10 | P29: 0.18*1 | Q29: 58EB9522532817734F830D3134CE73 | R29: 587AC55C7E2D17FF9D2603F0987433F56C3E45 | S29: 0.18 | T29: 58EB9522532817734F830D3134CE73586855B4C32A17387CD7013203B325D2B694DE | X29: =N29 -> 0.36
A30: 5F84F545F82E176487BA01A7C0D1D1B0D89697 | B30: 자동복귀형 셀렉터스위치 | C30: 현장_원방 | D30: 개 | E30: 전기5-23(나) | F30: 1 | G30: 0 | K30: 1 | L30: 전선원 | M30: =0.085*(H30+100)/100*(I30+100)/100*(J30+100)/100 -> 0.085 | N30: =F30*M30 -> 0.085 | O30: 노임 11 | P30: 0.085*1 | Q30: 58EB9522532817734F830D3134CE73 | R30: 587AC55C7E2D17FF9D2603F0987433F56C3C96 | S30: 0.085 | T30: 58EB9522532817734F830D3134CE735F84F545F82E176487BA01A7C0D1D1B0D89697 | V30: =N30 -> 0.085
A31: 5F84F545F82E176487BA01A7C0D1D1B0D897A4 | B31: 셀렉터 스위치 | C31: 수동_자동 | D31: 개 | E31: 전기5-23(나) | F31: 1 | G31: 0 | K31: 1 | L31: 전선원 | M31: =0.085*(H31+100)/100*(I31+100)/100*(J31+100)/100 -> 0.085 | N31: =F31*M31 -> 0.085 | O31: 노임 11 | P31: 0.085*1 | Q31: 58EB9522532817734F830D3134CE73 | R31: 587AC55C7E2D17FF9D2603F0987433F56C3C96 | S31: 0.085 | T31: 58EB9522532817734F830D3134CE735F84F545F82E176487BA01A7C0D1D1B0D897A4 | V31: =N31 -> 0.085
A32: 5F84F545F82E176487BA009C7328292C40E595 | B32: 푸쉬버튼 스위치(LED) | C32: D25A110V/220V(조광형) | D32: 개 | E32: 전기5-23(나) | F32: 8 | G32: 0 | K32: 14 | L32: 전선원 | M32: =0.065*(H32+100)/100*(I32+100)/100*(J32+100)/100 -> 0.065 | N32: =F32*M32 -> 0.52 | O32: 노임 11 | P32: 0.065*1 | Q32: 58EB9522532817734F830D3134CE73 | R32: 587AC55C7E2D17FF9D2603F0987433F56C3C96 | S32: 0.065 | T32: 58EB9522532817734F830D3134CE735F84F545F82E176487BA009C7328292C40E595 | V32: =N32 -> 0.52
A33: 5F84F545F82E1764879F011E042E9BC5C4126F | B33: FAULT LAMP | C33: SQUARE 난연성 | D33: 개 | E33: 전기5-23(나) | F33: 4 | G33: 0 | K33: 12 | L33: 전선원 | M33: =0.1*(H33+100)/100*(I33+100)/100*(J33+100)/100 -> 0.1 | N33: =F33*M33 -> 0.4 | O33: 노임 11 | P33: 0.065*1.54 | Q33: 58EB9522532817734F830D3134CE73 | R33: 587AC55C7E2D17FF9D2603F0987433F56C3C96 | S33: 0.1 | T33: 58EB9522532817734F830D3134CE735F84F545F82E1764879F011E042E9BC5C4126F | V33: =N33 -> 0.4
A34: 586855BB7A2217224DBB0217D1C0D51AAD7287 | B34: 보조릴레이 | C34: 2A,2B(AC용) | D34: 개 | E34: 전기3-34 | F34: 2 | G34: 0 | K34: 2 | L34: 전기기계조립원 | M34: =0.18*(H34+100)/100*(I34+100)/100*(J34+100)/100 -> 0.18 | N34: =F34*M34 -> 0.36 | O34: 노임 10 | P34: 0.18*1 | Q34: 58EB9522532817734F830D3134CE73 | R34: 587AC55C7E2D17FF9D2603F0987433F56C3E45 | S34: 0.18 | T34: 58EB9522532817734F830D3134CE73586855BB7A2217224DBB0217D1C0D51AAD7287 | X34: =N34 -> 0.36
A35: 586855BB7A2217224DAA0CCC43A9F7C21710FB | B35: 보조릴레이 | C35: 4A,4B(AC용) | D35: 개 | E35: 전기3-34 | F35: 7 | G35: 0 | K35: 14 | L35: 전기기계조립원 | M35: =0.18*(H35+100)/100*(I35+100)/100*(J35+100)/100 -> 0.18 | N35: =F35*M35 -> 1.26 | O35: 노임 10 | P35: 0.18*1 | Q35: 58EB9522532817734F830D3134CE73 | R35: 587AC55C7E2D17FF9D2603F0987433F56C3E45 | S35: 0.18 | T35: 58EB9522532817734F830D3134CE73586855BB7A2217224DAA0CCC43A9F7C21710FB | X35: =N35 -> 1.26
A36: 586855B4C32A1738356C0467CB6391747C8FB1 | B36: SPACE HEATER | C36: AC 220V 100W | D36: 개 | E36: 전기5-22 | F36: 1 | G36: 0 | K36: 2 | L36: 전선원 | M36: =0.4*(H36+100)/100*(I36+100)/100*(J36+100)/100 -> 0.4 | N36: =F36*M36 -> 0.4 | O36: 노임 11 | P36: 0.4*1 | Q36: 58EB9522532817734F830D3134CE73 | R36: 587AC55C7E2D17FF9D2603F0987433F56C3C96 | S36: 0.4 | T36: 58EB9522532817734F830D3134CE73586855B4C32A1738356C0467CB6391747C8FB1 | V36: =N36 -> 0.4
A37: 586855B4C32A1738357E0B7194F4A86ED7D543 | B37: THERMOSTAT | C37: AC 220V 0~250℃ | D37: 개 | E37: 전기5-22 | F37: 1 | G37: 0 | K37: 1 | L37: 전선원 | M37: =0.4*(H37+100)/100*(I37+100)/100*(J37+100)/100 -> 0.4 | N37: =F37*M37 -> 0.4 | O37: 노임 11 | P37: 0.4*1 | Q37: 58EB9522532817734F830D3134CE73 | R37: 587AC55C7E2D17FF9D2603F0987433F56C3C96 | S37: 0.4 | T37: 58EB9522532817734F830D3134CE73586855B4C32A1738357E0B7194F4A86ED7D543 | V37: =N37 -> 0.4
A38: 5F84F545F82E1764901608B5CF27D4F13226EE | B38: 노출형 콘센트 | C38: 2구, 15A, 250V, 분전반용 | D38: 개 | E38: 전기품셈 5-23 | F38: 1 | G38: 0 | K38: 1 | L38: 전선원 | M38: =0.065*(H38+100)/100*(I38+100)/100*(J38+100)/100 -> 0.065 | N38: =F38*M38 -> 0.065 | O38: 노임 11 | P38: 0.065*1 | Q38: 58EB9522532817734F830D3134CE73 | R38: 587AC55C7E2D17FF9D2603F0987433F56C3C96 | S38: 0.065 | T38: 58EB9522532817734F830D3134CE735F84F545F82E1764901608B5CF27D4F13226EE | V38: =N38 -> 0.065
A39: 586855B4C32A17383514026E5F7BEF3AAAE391 | B39: FAN | C39: AC 220V 150mm | D39: 개 | E39: 전기5-22 | F39: 1 | G39: 0 | K39: 2 | L39: 전선원 | M39: =0.48*(H39+100)/100*(I39+100)/100*(J39+100)/100 -> 0.48 | N39: =F39*M39 -> 0.48 | O39: 노임 11 | P39: 0.48*1 | Q39: 58EB9522532817734F830D3134CE73 | R39: 587AC55C7E2D17FF9D2603F0987433F56C3C96 | S39: 0.48 | T39: 58EB9522532817734F830D3134CE73586855B4C32A17383514026E5F7BEF3AAAE391 | V39: =N39 -> 0.48
A40: 5FFF35A9922C17CAEA0C037F3E0E90307A13DB | B40: 부저 | C40: D65 AC110V/220V | D40: 개 | E40: 전기5-22 | F40: 1 | G40: 0 | K40: 1 | L40: 전선원 | M40: =0.08*(H40+100)/100*(I40+100)/100*(J40+100)/100 -> 0.08 | N40: =F40*M40 -> 0.08 | O40: 노임 11 | P40: 0.08*1 | Q40: 58EB9522532817734F830D3134CE73 | R40: 587AC55C7E2D17FF9D2603F0987433F56C3C96 | S40: 0.08 | T40: 58EB9522532817734F830D3134CE735FFF35A9922C17CAEA0C037F3E0E90307A13DB | V40: =N40 -> 0.08
A41: 5F96B542522117DA6C4506629A44AB42E7CC9C | B41: 기기용 비닐절연전선 | C41: 450/700V KIV 2.5㎟(0.04kg) | D41: m | E41: 전기3-34 | F41: 200 | G41: 0 | K41: 200 | L41: 전기기계조립원 | M41: =0.055*(H41+100)/100*(I41+100)/100*(J41+100)/100 -> 0.055 | N41: =F41*M41 -> 11 | O41: 노임 10 | P41: 0.055*1 | Q41: 58EB9522532817734F830D3134CE73 | R41: 587AC55C7E2D17FF9D2603F0987433F56C3E45 | S41: 0.055 | T41: 58EB9522532817734F830D3134CE735F96B542522117DA6C4506629A44AB42E7CC9C | X41: =N41 -> 11
A42: 587AC55C7E2D17FF9D2603F0987433F56C3E45 | B42: 전기기계조립원 | C42: 제조부문 | D42: 인 | F42: =SUM(X5:X41) -> 16.9128 | K42: =TRUNC(F42*공량설정_일위대가!B19/100, 공량설정_일위대가!C20) -> 16.912 | O42: 노임 10 | Q42: 58EB9522532817734F830D3134CE73 | T42: 58EB9522532817734F830D3134CE73587AC55C7E2D17FF9D2603F0987433F56C3E45
A43: 587AC55C7E2D17FF9D2603F0987433F56C3C96 | B43: 전선원 | C43: 제조부문 | D43: 인 | F43: =SUM(V5:V41) -> 8.952 | K43: =TRUNC(F43*공량설정_일위대가!B19/100, 공량설정_일위대가!C21) -> 8.952 | O43: 노임 11 | Q43: 58EB9522532817734F830D3134CE73 | T43: 58EB9522532817734F830D3134CE73587AC55C7E2D17FF9D2603F0987433F56C3C96
A44: MCC & RTU-1 옥외자립형 제어부 면 (호표 22)
A45: 5FFF657E192717FEC4C1020C39467E7AE42139 | B45: 스위치 허브 | C45: 8PORT | D45: 대 | E45: 통신8-1-1 | F45: 1 | G45: 0 | K45: 1 | L45: H/W시험사 | M45: =0.22*(H45+100)/100*(I45+100)/100*(J45+100)/100 -> 0.22 | N45: =F45*M45 -> 0.22 | O45: 노임 7 | P45: 0.22*1 | Q45: 58EB9522532817734F830D3134CE70 | R45: 587AC55C7E2D17FFB80D09E878C7DFE2583FC8 | S45: 0.22 | T45: 58EB9522532817734F830D3134CE705FFF657E192717FEC4C1020C39467E7AE42139 | Y45: =N45 -> 0.22
L46: S/W시험사 | M46: =0.36*(H45+100)/100*(I45+100)/100*(J45+100)/100 -> 0.36 | N46: =F45*M46 -> 0.36 | O46: 노임 8 | P46: 0.36*1 | Q46: 58EB9522532817734F830D3134CE70 | R46: 587AC55C7E2D17FFB80D09E878C7DFE2583FCF | S46: 0.36 | T46: 58EB9522532817734F830D3134CE705FFF657E192717FEC4C1020C39467E7AE42139 | AA46: =N46 -> 0.36
A47: 586855BB7A2217224DAA0CCC43A9F7C21710FB | B47: 보조릴레이 | C47: 4A,4B(AC용) | D47: 개 | E47: 전기3-34 | F47: 22 | G47: 0 | K47: 39 | L47: 전기기계조립원 | M47: =0.18*(H47+100)/100*(I47+100)/100*(J47+100)/100 -> 0.18 | N47: =F47*M47 -> 3.96 | O47: 노임 10 | P47: 0.18*1 | Q47: 58EB9522532817734F830D3134CE70 | R47: 587AC55C7E2D17FF9D2603F0987433F56C3E45 | S47: 0.18 | T47: 58EB9522532817734F830D3134CE70586855BB7A2217224DAA0CCC43A9F7C21710FB | X47: =N47 -> 3.96
A48: 5F96B542522117DA6C4506629A44AB42E7CC9C | B48: 기기용 비닐절연전선 | C48: 450/700V KIV 2.5㎟(0.04kg) | D48: m | E48: 전기3-34 | F48: 120 | G48: 0 | K48: 120 | L48: 전기기계조립원 | M48: =0.055*(H48+100)/100*(I48+100)/100*(J48+100)/100 -> 0.055 | N48: =F48*M48 -> 6.6 | O48: 노임 10 | P48: 0.055*1 | Q48: 58EB9522532817734F830D3134CE70 | R48: 587AC55C7E2D17FF9D2603F0987433F56C3E45 | S48: 0.055 | T48: 58EB9522532817734F830D3134CE705F96B542522117DA6C4506629A44AB42E7CC9C | X48: =N48 -> 6.6
A49: 587AC55C7E2D17FFB80D09E878C7DFE2583FC8 | B49: H/W시험사 | C49: 광전자 직종 | D49: 인 | F49: =SUM(Y45:Y48) -> 0.22 | K49: =TRUNC(F49*공량설정_일위대가!B22/100, 공량설정_일위대가!C23) -> 0.22 | O49: 노임 7 | Q49: 58EB9522532817734F830D3134CE70 | T49: 58EB9522532817734F830D3134CE70587AC55C7E2D17FFB80D09E878C7DFE2583FC8
A50: 587AC55C7E2D17FFB80D09E878C7DFE2583FCF | B50: S/W시험사 | C50: 광전자 직종 | D50: 인 | F50: =SUM(AA45:AA48) -> 0.36 | K50: =TRUNC(F50*공량설정_일위대가!B22/100, 공량설정_일위대가!C24) -> 0.36 | O50: 노임 8 | Q50: 58EB9522532817734F830D3134CE70 | T50: 58EB9522532817734F830D3134CE70587AC55C7E2D17FFB80D09E878C7DFE2583FCF
A51: 587AC55C7E2D17FF9D2603F0987433F56C3E45 | B51: 전기기계조립원 | C51: 제조부문 | D51: 인 | F51: =SUM(X45:X48) -> 10.56 | K51: =TRUNC(F51*공량설정_일위대가!B22/100, 공량설정_일위대가!C25) -> 10.56 | O51: 노임 10 | Q51: 58EB9522532817734F830D3134CE70 | T51: 58EB9522532817734F830D3134CE70587AC55C7E2D17FF9D2603F0987433F56C3E45
A52: 서지보호기(SPD) CCTV용(전원) 개 (호표 1)
A53: 586855B5D02317EBDDB20C2EF5D4105FC96F7B | B53: 서지보호기(카운터)1상2선-통신 | C53: 전원용 Class2, In 20kA이상, Imax 40kA이상 | D53: SET | E53: 통신11-6-2 | F53: 1 | G53: 0 | K53: 1 | L53: 통신내선공 | M53: =0.24*(H53+100)/100*(I53+100)/100*(J53+100)/100 -> 0.24 | N53: =F53*M53 -> 0.24 | O53: 노임 3 | P53: 0.24*1 | Q53: 58EAE5C87E25179B5EDB0A6F0D6669 | R53: 587AC55C7E2D17FFB80D0A8EDD93243FDF93A7 | S53: 0.24 | T53: 58EAE5C87E25179B5EDB0A6F0D6669586855B5D02317EBDDB20C2EF5D4105FC96F7B | AB53: =N53 -> 0.24
A54: 587AC55C7E2D17FFB80D0A8EDD93243FDF93A7 | B54: 통신내선공 | C54: 일반공사 직종 | D54: 인 | F54: =SUM(AB53:AB53) -> 0.24 | K54: =TRUNC(F54*공량설정_일위대가!B28/100, 공량설정_일위대가!C29) -> 0.24 | O54: 노임 3 | Q54: 58EAE5C87E25179B5EDB0A6F0D6669 | T54: 58EAE5C87E25179B5EDB0A6F0D6669587AC55C7E2D17FFB80D0A8EDD93243FDF93A7
A55: 서지보호기(SPD) CCTV용(통신,영상) 개 (호표 2)
A56: 586855B5D02317EBA0430A652B8D99B0D3B5E3 | B56: 서지보호기(카운터)-통신 | C56: CCTV용(통신,영상) 20kA이상 | D56: 개 | E56: 통신11-6-2 | F56: 1 | G56: 0 | K56: 1 | L56: 통신내선공 | M56: =0.14*(H56+100)/100*(I56+100)/100*(J56+100)/100 -> 0.14 | N56: =F56*M56 -> 0.14 | O56: 노임 3 | P56: 0.14*1 | Q56: 58EAE5C87E25179B5EDB0A6F0D6668 | R56: 587AC55C7E2D17FFB80D0A8EDD93243FDF93A7 | S56: 0.14 | T56: 58EAE5C87E25179B5EDB0A6F0D6668586855B5D02317EBA0430A652B8D99B0D3B5E3 | AB56: =N56 -> 0.14
A57: 587AC55C7E2D17FFB80D0A8EDD93243FDF93A7 | B57: 통신내선공 | C57: 일반공사 직종 | D57: 인 | F57: =SUM(AB56:AB56) -> 0.14 | K57: =TRUNC(F57*공량설정_일위대가!B30/100, 공량설정_일위대가!C31) -> 0.14 | O57: 노임 3 | Q57: 58EAE5C87E25179B5EDB0A6F0D6668 | T57: 58EAE5C87E25179B5EDB0A6F0D6668587AC55C7E2D17FFB80D0A8EDD93243FDF93A7
A58: 브라켓 설치 벽부형 대 (호표 5)
A59: 5FEEC5B7D82E174557BD07673F342A12B6E8FE | B59: DOME CAMERA BRACKET | C59: 천정형/벽부형 | D59: 개 | E59: 통신9-2-1-1 | F59: 1 | G59: 0 | K59: 1 | L59: 보통인부 | M59: =0.23*(H59+100)/100*(I59+100)/100*(J59+100)/100 -> 0.23 | N59: =F59*M59 -> 0.23 | O59: 노임 1 | P59: 0.23*1 | Q59: 58EAE5C87C2A17BD423E05B1185E18 | R59: 587AC55C7E2D17FFB80D0A8EDD93243FDF9BF5 | S59: 0.23 | T59: 58EAE5C87C2A17BD423E05B1185E185FEEC5B7D82E174557BD07673F342A12B6E8FE | AD59: =N59 -> 0.23
L60: 통신설비공 | M60: =0.23*(H59+100)/100*(I59+100)/100*(J59+100)/100 -> 0.23 | N60: =F59*M60 -> 0.23 | O60: 노임 4 | P60: 0.23*1 | Q60: 58EAE5C87C2A17BD423E05B1185E18 | R60: 587AC55C7E2D17FFB80D0A8EDD93243FDF93A6 | S60: 0.23 | T60: 58EAE5C87C2A17BD423E05B1185E185FEEC5B7D82E174557BD07673F342A12B6E8FE | AE60: =N60 -> 0.23
A61: 587AC55C7E2D17FFB80D0A8EDD93243FDF9BF5 | B61: 보통인부 | C61: 일반공사 직종 | D61: 인 | F61: =SUM(AD59:AD60) -> 0.23 | K61: =TRUNC(F61*공량설정_일위대가!B38/100, 공량설정_일위대가!C40) -> 0.23 | O61: 노임 1 | Q61: 58EAE5C87C2A17BD423E05B1185E18 | T61: 58EAE5C87C2A17BD423E05B1185E18587AC55C7E2D17FFB80D0A8EDD93243FDF9BF5
A62: 587AC55C7E2D17FFB80D0A8EDD93243FDF93A6 | B62: 통신설비공 | C62: 일반공사 직종 | D62: 인 | F62: =SUM(AE59:AE60) -> 0.23 | K62: =TRUNC(F62*공량설정_일위대가!B38/100, 공량설정_일위대가!C39) -> 0.23 | O62: 노임 4 | Q62: 58EAE5C87C2A17BD423E05B1185E18 | T62: 58EAE5C87C2A17BD423E05B1185E18587AC55C7E2D17FFB80D0A8EDD93243FDF93A6
A63: CCTV제어함체(STS) 설치-POLE부착 옥외형(ELB, 콘센트,DC아답터 포함) 면 (호표 6)
A64: 5FEEC5B7D82E174557BD07673F342A12B04838 | B64: CCTV POLE PANEL(ELB,콘센트,DC아답터 포함) | C64: STS. 2.0t (W)300*(H)400*(D)300, POLE결속식 | D64: 면 | E64: 통신3-2-1 | F64: 1 | G64: 0 | K64: 1 | L64: 통신내선공 | M64: =0.42*(H64+100)/100*(I64+100)/100*(J64+100)/100 -> 0.42 | N64: =F64*M64 -> 0.42 | O64: 노임 3 | P64: 0.42*1 | Q64: 58EAE5C87C2A17BD423E05B1197EF5 | R64: 587AC55C7E2D17FFB80D0A8EDD93243FDF93A7 | S64: 0.42 | T64: 58EAE5C87C2A17BD423E05B1197EF55FEEC5B7D82E174557BD07673F342A12B04838 | AB64: =N64 -> 0.42
A65: 587AC55C7E2D17FFB80D0A8EDD93243FDF93A7 | B65: 통신내선공 | C65: 일반공사 직종 | D65: 인 | F65: =SUM(AB64:AB64) -> 0.42 | K65: =TRUNC(F65*공량설정_일위대가!B41/100, 공량설정_일위대가!C42) -> 0.42 | O65: 노임 3 | Q65: 58EAE5C87C2A17BD423E05B1197EF5 | T65: 58EAE5C87C2A17BD423E05B1197EF5587AC55C7E2D17FFB80D0A8EDD93243FDF93A7
A66: CCTV POLE 설치 STS 2.0t, Φ152, H=4m(피뢰침 포함) 기 (호표 7)
A67: 5FEEC5B7D82E174557BD07673F342A12B1678B | B67: CCTV CAMERA POLE | C67: STS 2.0t, Φ152, H=4m(피뢰침 포함) | D67: 기 | E67: 통신9-2-1-3 | F67: 1 | G67: 0 | K67: 1 | L67: 보통인부 | M67: =0.56*(H67+100)/100*(I67+100)/100*(J67+100)/100 -> 0.56 | N67: =F67*M67 -> 0.56 | O67: 노임 1 | P67: 0.56*1 | Q67: 58EAE5C87C2A17BD423E05B1197864 | R67: 587AC55C7E2D17FFB80D0A8EDD93243FDF9BF5 | S67: 0.56 | T67: 58EAE5C87C2A17BD423E05B11978645FEEC5B7D82E174557BD07673F342A12B1678B | AD67: =N67 -> 0.56
L68: 통신외선공 | M68: =0.5*(H67+100)/100*(I67+100)/100*(J67+100)/100 -> 0.5 | N68: =F67*M68 -> 0.5 | O68: 노임 5 | P68: 0.5*1 | Q68: 58EAE5C87C2A17BD423E05B1197864 | R68: 587AC55C7E2D17FFB80D0A8EDD93243FDF93A9 | S68: 0.5 | T68: 58EAE5C87C2A17BD423E05B11978645FEEC5B7D82E174557BD07673F342A12B1678B | AF68: =N68 -> 0.5
A69: 587AC55C7E2D17FFB80D0A8EDD93243FDF9BF5 | B69: 보통인부 | C69: 일반공사 직종 | D69: 인 | F69: =SUM(AD67:AD68) -> 0.56 | K69: =TRUNC(F69*공량설정_일위대가!B43/100, 공량설정_일위대가!C45) -> 0.56 | O69: 노임 1 | Q69: 58EAE5C87C2A17BD423E05B1197864 | T69: 58EAE5C87C2A17BD423E05B1197864587AC55C7E2D17FFB80D0A8EDD93243FDF9BF5
A70: 587AC55C7E2D17FFB80D0A8EDD93243FDF93A9 | B70: 통신외선공 | C70: 일반공사 직종 | D70: 인 | F70: =SUM(AF67:AF68) -> 0.5 | K70: =TRUNC(F70*공량설정_일위대가!B43/100, 공량설정_일위대가!C44) -> 0.5 | O70: 노임 5 | Q70: 58EAE5C87C2A17BD423E05B1197864 | T70: 58EAE5C87C2A17BD423E05B1197864587AC55C7E2D17FFB80D0A8EDD93243FDF93A9
A71: CCTV용 암대 설치 POLE상부, L=1m EA (호표 11)
A72: 5FEEC5B7D82E174557BD07673F342A12B1678A | B72: CCTV용 POLE 암대 | C72: L=1.0m | D72: EA | E72: 통신9-1-10 | F72: 1 | G72: 0 | K72: 1 | L72: 특별인부 | M72: =0.32*(H72+100)/100*(I72+100)/100*(J72+100)/100 -> 0.32 | N72: =F72*M72 -> 0.32 | O72: 노임 2 | P72: 0.32*1 | Q72: 58EAE5C87C2A17BD423E05B11DD1AE | R72: 587AC55C7E2D17FFB80D0A8EDD93243FDF9BF4 | S72: 0.32 | T72: 58EAE5C87C2A17BD423E05B11DD1AE5FEEC5B7D82E174557BD07673F342A12B1678A | AG72: =N72 -> 0.32
L73: 통신외선공 | M73: =0.32*(H72+100)/100*(I72+100)/100*(J72+100)/100 -> 0.32 | N73: =F72*M73 -> 0.32 | O73: 노임 5 | P73: 0.32*1 | Q73: 58EAE5C87C2A17BD423E05B11DD1AE | R73: 587AC55C7E2D17FFB80D0A8EDD93243FDF93A9 | S73: 0.32 | T73: 58EAE5C87C2A17BD423E05B11DD1AE5FEEC5B7D82E174557BD07673F342A12B1678A | AF73: =N73 -> 0.32
A74: 587AC55C7E2D17FFB80D0A8EDD93243FDF9BF4 | B74: 특별인부 | C74: 일반공사 직종 | D74: 인 | F74: =SUM(AG72:AG73) -> 0.32 | K74: =TRUNC(F74*공량설정_일위대가!B55/100, 공량설정_일위대가!C57) -> 0.32 | O74: 노임 2 | Q74: 58EAE5C87C2A17BD423E05B11DD1AE | T74: 58EAE5C87C2A17BD423E05B11DD1AE587AC55C7E2D17FFB80D0A8EDD93243FDF9BF4
A75: 587AC55C7E2D17FFB80D0A8EDD93243FDF93A9 | B75: 통신외선공 | C75: 일반공사 직종 | D75: 인 | F75: =SUM(AF72:AF73) -> 0.32 | K75: =TRUNC(F75*공량설정_일위대가!B55/100, 공량설정_일위대가!C56) -> 0.32 | O75: 노임 5 | Q75: 58EAE5C87C2A17BD423E05B11DD1AE | T75: 58EAE5C87C2A17BD423E05B11DD1AE587AC55C7E2D17FFB80D0A8EDD93243FDF93A9
A76: VPN 설치 원격제어소용 대 (호표 12)
A77: 5FFF657E192717FEC4C1020C39467E7AE4213D | B77: VPN | C77: 영상, 데이터용 | D77: 대 | E77: 통신8-1-5 | F77: 1 | G77: 0 | K77: 1 | L77: H/W시험사 | M77: =0.39*(H77+100)/100*(I77+100)/100*(J77+100)/100 -> 0.39 | N77: =F77*M77 -> 0.39 | O77: 노임 7 | P77: 0.39*1 | Q77: 58EAE5C8722A178AB9C300495B9E6C | R77: 587AC55C7E2D17FFB80D09E878C7DFE2583FC8 | S77: 0.39 | T77: 58EAE5C8722A178AB9C300495B9E6C5FFF657E192717FEC4C1020C39467E7AE4213D | Y77: =N77 -> 0.39
L78: S/W시험사 | M78: =0.39*(H77+100)/100*(I77+100)/100*(J77+100)/100 -> 0.39 | N78: =F77*M78 -> 0.39 | O78: 노임 8 | P78: 0.39*1 | Q78: 58EAE5C8722A178AB9C300495B9E6C | R78: 587AC55C7E2D17FFB80D09E878C7DFE2583FCF | S78: 0.39 | T78: 58EAE5C8722A178AB9C300495B9E6C5FFF657E192717FEC4C1020C39467E7AE4213D | AA78: =N78 -> 0.39
A79: 587AC55C7E2D17FFB80D09E878C7DFE2583FC8 | B79: H/W시험사 | C79: 광전자 직종 | D79: 인 | F79: =SUM(Y77:Y78) -> 0.39 | K79: =TRUNC(F79*공량설정_일위대가!B58/100, 공량설정_일위대가!C60) -> 0.39 | O79: 노임 7 | Q79: 58EAE5C8722A178AB9C300495B9E6C | T79: 58EAE5C8722A178AB9C300495B9E6C587AC55C7E2D17FFB80D09E878C7DFE2583FC8
A80: 587AC55C7E2D17FFB80D09E878C7DFE2583FCF | B80: S/W시험사 | C80: 광전자 직종 | D80: 인 | F80: =SUM(AA77:AA78) -> 0.39 | K80: =TRUNC(F80*공량설정_일위대가!B58/100, 공량설정_일위대가!C59) -> 0.39 | O80: 노임 8 | Q80: 58EAE5C8722A178AB9C300495B9E6C | T80: 58EAE5C8722A178AB9C300495B9E6C587AC55C7E2D17FFB80D09E878C7DFE2583FCF
A81: 유무선공유기 설치 4PORT 대 (호표 13)
A82: 5FFF657E192717FEC4C1020C39467E7AE42138 | B82: 유무선공유기 | C82: 4PORT | D82: 대 | E82: 통신8-1-1 | F82: 1 | G82: 0 | K82: 1 | L82: H/W시험사 | M82: =0.22*(H82+100)/100*(I82+100)/100*(J82+100)/100 -> 0.22 | N82: =F82*M82 -> 0.22 | O82: 노임 7 | P82: 0.22*1 | Q82: 58EAE5C8722A178AB9C300495B9B9B | R82: 587AC55C7E2D17FFB80D09E878C7DFE2583FC8 | S82: 0.22 | T82: 58EAE5C8722A178AB9C300495B9B9B5FFF657E192717FEC4C1020C39467E7AE42138 | Y82: =N82 -> 0.22
L83: S/W시험사 | M83: =0.36*(H82+100)/100*(I82+100)/100*(J82+100)/100 -> 0.36 | N83: =F82*M83 -> 0.36 | O83: 노임 8 | P83: 0.36*1 | Q83: 58EAE5C8722A178AB9C300495B9B9B | R83: 587AC55C7E2D17FFB80D09E878C7DFE2583FCF | S83: 0.36 | T83: 58EAE5C8722A178AB9C300495B9B9B5FFF657E192717FEC4C1020C39467E7AE42138 | AA83: =N83 -> 0.36
A84: 587AC55C7E2D17FFB80D09E878C7DFE2583FC8 | B84: H/W시험사 | C84: 광전자 직종 | D84: 인 | F84: =SUM(Y82:Y83) -> 0.22 | K84: =TRUNC(F84*공량설정_일위대가!B61/100, 공량설정_일위대가!C63) -> 0.22 | O84: 노임 7 | Q84: 58EAE5C8722A178AB9C300495B9B9B | T84: 58EAE5C8722A178AB9C300495B9B9B587AC55C7E2D17FFB80D09E878C7DFE2583FC8
A85: 587AC55C7E2D17FFB80D09E878C7DFE2583FCF | B85: S/W시험사 | C85: 광전자 직종 | D85: 인 | F85: =SUM(AA82:AA83) -> 0.36 | K85: =TRUNC(F85*공량설정_일위대가!B61/100, 공량설정_일위대가!C62) -> 0.36 | O85: 노임 8 | Q85: 58EAE5C8722A178AB9C300495B9B9B | T85: 58EAE5C8722A178AB9C300495B9B9B587AC55C7E2D17FFB80D09E878C7DFE2583FCF

Sheet 단가대비표
A1: 단 가 대 비 표
A2: [ 중방지구 배수개선사업 자동화공사 ]
A3: 코 드 | B3: 품 명 | C3: 규격 | D3: 단위 | E3: 재 료 비 | P3: 노 무 비 | Q3: 경 비 | W3: 번 호 | X3: 비 고 | Y3: 품목구분 | Z3: 노임구분 | AA3: 소수점처리 | AB3: 자재구분
E4: 농어촌공사 | F4: PAGE | G4: 거래가격 | H4: PAGE | I4: 유통물가 | J4: PAGE | K4: 물가자료 | L4: PAGE | M4: 조사가격 | N4: PAGE | O4: 적용단가 | Q4: 농어촌공사 | R4: 거래가격 | S4: 유통물가 | T4: 물가자료 | U4: 조사가격 | V4: 적용단가
A5: 5F96B542522117DA6C4506629A44AB42E7CC9C | B5: 기기용 비닐절연전선 | C5: 450/700V KIV 2.5㎟(0.04kg) | D5: m | E5: 507 | F5: M060707 | O5: =SMALL(E5:M5,COUNTIF(E5:M5,0)+1) -> 507 | P5: 0 | Q5: 0 | R5: 0 | S5: 0 | T5: 0 | U5: 0 | V5: 0 | W5: 자재 1
A6: 5F84F545F82E1764DFDB0D9F31E39A2094D1EB | B6: 무정전전원장치(현장설치도) | C6: 1Ø 3㎸A;BACKUPTIME 30분 | D6: 대 | E6: 2970000 | F6: M085027 | M6: 0 | O6: =SMALL(E6:M6,COUNTIF(E6:M6,0)+1) -> 2970000 | P6: 0 | Q6: 0 | R6: 0 | S6: 0 | T6: 0 | U6: 0 | V6: 0 | W6: 자재 2
A7: 5F84F545F82E1764DFDB08195DA7C3922E44FA | B7: 콘덴서 (저압) | C7: (3P 380V/440V) 20㎌ | D7: 대 | E7: 16100 | F7: M081052 | O7: =SMALL(E7:M7,COUNTIF(E7:M7,0)+1) -> 16100 | P7: 0 | Q7: 0 | R7: 0 | S7: 0 | T7: 0 | U7: 0 | V7: 0 | W7: 자재 3
A8: 5F84F545F82E1764DFF60B7B79BA4A2200D257 | B8: 계기용변류기(C.T)환형 | C8: 600V 5VA -/5A | D8: 대 | E8: 19000 | F8: M080631 | G8: 0 | M8: 0 | O8: =SMALL(E8:M8,COUNTIF(E8:M8,0)+1) -> 19000 | P8: 0 | Q8: 0 | R8: 0 | S8: 0 | T8: 0 | U8: 0 | V8: 0 | W8: 자재 4
A9: 5F84F545F82E1764CD580FFC4251E1F0C56F09 | B9: DOOR HANDLE (배전반용) | C9: W/KEY(L) | D9: 개 | E9: 5690 | F9: M079080 | G9: 0 | I9: 0 | K9: 0 | M9: 0 | O9: =SMALL(E9:M9,COUNTIF(E9:M9,0)+1) -> 5690 | P9: 0 | Q9: 0 | R9: 0 | S9: 0 | T9: 0 | U9: 0 | V9: 0 | W9: 자재 5
A10: 5F84F545F82E1764CD580FFC4251E1F0C56F07 | B10: DOOR HANDLE (배전반용) | C10: PUSH TURN W/KEY(S) | D10: 면 | E10: 2500 | F10: M079084 | G10: 0 | I10: 0 | K10: 0 | M10: 0 | O10: =SMALL(E10:M10,COUNTIF(E10:M10,0)+1) -> 2500 | P10: 0 | Q10: 0 | R10: 0 | S10: 0 | T10: 0 | U10: 0 | V10: 0 | W10: 자재 6
A11: 5F84F545F82E1764CD580FFC4251E1F0C56088 | B11: NAME PLATE | C11: 아크릴(L) | D11: 개 | E11: 5690 | F11: M079101 | G11: 0 | I11: 0 | K11: 0 | M11: 0 | O11: =SMALL(E11:M11,COUNTIF(E11:M11,0)+1) -> 5690 | P11: 0 | Q11: 0 | R11: 0 | S11: 0 | T11: 0 | U11: 0 | V11: 0 | W11: 자재 7
A12: 5F84F545F82E1764CD580FFC4251E1F0C56089 | B12: NAME PLATE | C12: 아크릴(M) | D12: 면 | E12: 4000 | G12: 0 | I12: 0 | K12: 0 | M12: 0 | O12: =SMALL(E12:M12,COUNTIF(E12:M12,0)+1) -> 4000 | P12: 0 | Q12: 0 | R12: 0 | S12: 0 | T12: 0 | U12: 0 | V12: 0 | W12: 자재 8
A13: 5F84F545F82E1764CD580FFC4251E1F0C5608E | B13: NAME PLATE | C13: 아크릴(S) | D13: 개 | E13: 2000 | F13: M079100 | G13: 0 | I13: 0 | K13: 0 | M13: 0 | O13: =SMALL(E13:M13,COUNTIF(E13:M13,0)+1) -> 2000 | P13: 0 | Q13: 0 | R13: 0 | S13: 0 | T13: 0 | U13: 0 | V13: 0 | W13: 자재 9
A14: 5F84F545F82E1764CD580FFC4251E1F0C56195 | B14: DOOR HANDLE (배전반용) | C14: PUSH TURN W/KEY(L) | D14: 개 | E14: 2500 | F14: M079082 | G14: 0 | I14: 0 | K14: 0 | M14: 0 | O14: =SMALL(E14:M14,COUNTIF(E14:M14,0)+1) -> 2500 | P14: 0 | Q14: 0 | R14: 0 | S14: 0 | T14: 0 | U14: 0 | V14: 0 | W14: 자재 10
A15: 5F84F545F82E1764901608B5CF27D4F132231F | B15: 멀티탭 | C15: 멀티콘센트 5구 | D15: 개 | E15: 0 | G15: 21200 | H15: 1101 | I15: 0 | K15: 12000 | L15: 1214 | M15: 17000 | N15: 1615 | O15: =SMALL(E15:M15,COUNTIF(E15:M15,0)+1) -> 12000 | P15: 0 | Q15: 0 | R15: 0 | S15: 0 | T15: 0 | U15: 0 | V15: 0 | W15: 자재 11
A16: 5F84F545F82E1764901608B5CF27D4F13226EE | B16: 노출형 콘센트 | C16: 2구, 15A, 250V, 분전반용 | D16: 개 | E16: 2567 | F16: M081500 | O16: =SMALL(E16:M16,COUNTIF(E16:M16,0)+1) -> 2567 | P16: 0 | Q16: 0 | R16: 0 | S16: 0 | T16: 0 | U16: 0 | V16: 0 | W16: 자재 12
A17: 5F84F545F82E17649004073492F7AC623B53C2 | B17: 단자대 | C17: 2P 30A | D17: 개 | E17: 0 | G17: 0 | I17: 340 | J17: 886 | K17: 0 | M17: 340 | N17: 1245 | O17: =SMALL(E17:M17,COUNTIF(E17:M17,0)+1) -> 340 | P17: 0 | Q17: 0 | R17: 0 | S17: 0 | T17: 0 | U17: 0 | V17: 0 | W17: 자재 13
A18: 5F84F545F82E17649004073492F7AC623B523D | B18: 단자대 | C18: 3P 20A | D18: 개 | E18: 0 | G18: 0 | I18: 800 | J18: 886 | K18: 0 | M18: 800 | N18: 1245 | O18: =SMALL(E18:M18,COUNTIF(E18:M18,0)+1) -> 800 | P18: 0 | Q18: 0 | R18: 0 | S18: 0 | T18: 0 | U18: 0 | V18: 0 | W18: 자재 14
A19: 5F84F545F82E17649004073492F7AC623AB5B2 | B19: 단자대 | C19: 4P 60A | D19: 개 | E19: 0 | G19: 0 | I19: 3050 | J19: 886 | K19: 0 | M19: 3050 | N19: 1245 | O19: =SMALL(E19:M19,COUNTIF(E19:M19,0)+1) -> 3050 | P19: 0 | Q19: 0 | R19: 0 | S19: 0 | T19: 0 | U19: 0 | V19: 0 | W19: 자재 15
A20: 5F84F545F82E17649004073492F7AC623AB497 | B20: 단자대 | C20: 10P 30A | D20: 개 | E20: 2500 | F20: M079128 | O20: =SMALL(E20:M20,COUNTIF(E20:M20,0)+1) -> 2500 | P20: 0 | Q20: 0 | R20: 0 | S20: 0 | T20: 0 | U20: 0 | V20: 0 | W20: 자재 16
A21: 5F84F545F82E17649004073492F7AC623AB765 | B21: 단자대 | C21: 15P 20A | D21: 개 | E21: 0 | G21: 0 | I21: 2600 | J21: 884 | K21: 0 | M21: 2600 | N21: 1245 | O21: =SMALL(E21:M21,COUNTIF(E21:M21,0)+1) -> 2600 | P21: 0 | Q21: 0 | R21: 0 | S21: 0 | T21: 0 | U21: 0 | V21: 0 | W21: 자재 17
A22: 5F84F545F82E17649004073492F7AC623AB2E5 | B22: 찬넬 | C22: 1M | D22: 개 | E22: 0 | G22: 0 | I22: 0 | K22: 0 | M22: 2620 | N22: 1245 | O22: =SMALL(E22:M22,COUNTIF(E22:M22,0)+1) -> 2620 | P22: 0 | Q22: 0 | R22: 0 | S22: 0 | T22: 0 | U22: 0 | V22: 0 | W22: 자재 18
A23: 5F84F545F82E176487A90530BBCCB46D846731 | B23: 리미트 스위치 | C23: 배전반용 | D23: 개 | E23: 3300 | F23: M079153 | G23: 0 | I23: 0 | K23: 0 | M23: 0 | O23: =SMALL(E23:M23,COUNTIF(E23:M23,0)+1) -> 3300 | P23: 0 | Q23: 0 | R23: 0 | S23: 0 | T23: 0 | U23: 0 | V23: 0 | W23: 자재 19
A24: 5F84F545F82E176487BA009C7328292C40E595 | B24: 푸쉬버튼 스위치(LED) | C24: D25A110V/220V(조광형) | D24: 개 | E24: 6500 | F24: M080447 | G24: 0 | I24: 0 | O24: =SMALL(E24:M24,COUNTIF(E24:M24,0)+1) -> 6500 | P24: 0 | Q24: 0 | R24: 0 | S24: 0 | T24: 0 | U24: 0 | V24: 0 | W24: 자재 20
A25: 5F84F545F82E176487BA01A7C0D1D1B0D89697 | B25: 자동복귀형 셀렉터스위치 | C25: 현장_원방 | D25: 개 | E25: 0 | G25: 3300 | H25: 1089 | I25: 0 | K25: 3300 | L25: 1210 | M25: 3300 | N25: 1296 | O25: =SMALL(E25:M25,COUNTIF(E25:M25,0)+1) -> 3300 | P25: 0 | Q25: 0 | R25: 0 | S25: 0 | T25: 0 | U25: 0 | V25: 0 | W25: 자재 21
A26: 5F84F545F82E176487BA01A7C0D1D1B0D897A4 | B26: 셀렉터 스위치 | C26: 수동_자동 | D26: 개 | E26: 2100 | F26: M080545 | G26: 2100 | H26: 1089 | I26: 0 | K26: 2100 | L26: 1210 | M26: 2100 | N26: 1296 | O26: =SMALL(E26:M26,COUNTIF(E26:M26,0)+1) -> 2100 | P26: 0 | Q26: 0 | R26: 0 | S26: 0 | T26: 0 | U26: 0 | V26: 0 | W26: 자재 22
A27: 5F84F545F82E176487BA05016A7E2079C61CEB | B27: 디지탈집중표시장치 | C27: A,V,KW,PF,F,KWH,RS-485 | D27: 대 | E27: 0 | G27: 793000 | H27: 1090 | I27: 0 | K27: 793000 | L27: 1194 | M27: 793000 | N27: 1294 | O27: =SMALL(E27:M27,COUNTIF(E27:M27,0)+1) -> 793000 | P27: 0 | Q27: 0 | R27: 0 | S27: 0 | T27: 0 | U27: 0 | V27: 0 | W27: 자재 23
A28: 5F84F545F82E1764878E0E87BCDCEB4214B0C9 | B28: 전자식과전류계전기(EOCR)-4E | C28: 디지털표시부부착, 4~20mA 출력 | D28: 개 | E28: 199000 | F28: M080282 | O28: =SMALL(E28:M28,COUNTIF(E28:M28,0)+1) -> 199000 | P28: 0 | Q28: 0 | R28: 0 | S28: 0 | T28: 0 | U28: 0 | V28: 0 | W28: 자재 24
A29: 5F84F545F82E1764878E07547372A9FB918EE1 | B29: 전자접촉기(개방형)AC용 | C29: (220/380V)2.7/4kW | D29: 개 | E29: 12900 | F29: M081120 | O29: =SMALL(E29:M29,COUNTIF(E29:M29,0)+1) -> 12900 | P29: 0 | Q29: 0 | R29: 0 | S29: 0 | T29: 0 | U29: 0 | V29: 0 | W29: 자재 25
A30: 5F84F545F82E1764879F011E042E9BC5C4126B | B30: 신호등(LED) | C30: D25, AC 110/220V | D30: 개 | E30: 5800 | F30: M080446 | O30: =SMALL(E30:M30,COUNTIF(E30:M30,0)+1) -> 5800 | P30: 0 | Q30: 0 | R30: 0 | S30: 0 | T30: 0 | U30: 0 | V30: 0 | W30: 자재 26
A31: 5F84F545F82E1764879F011E042E9BC5C4126F | B31: FAULT LAMP | C31: SQUARE 난연성 | D31: 개 | E31: 0 | G31: 7300 | H31: 1089 | I31: 0 | K31: 6500 | L31: 1210 | M31: 6500 | N31: 1296 | O31: =SMALL(E31:M31,COUNTIF(E31:M31,0)+1) -> 6500 | P31: 0 | Q31: 0 | R31: 0 | S31: 0 | T31: 0 | U31: 0 | V31: 0 | W31: 자재 27
A32: 5F84F545F82E1764BCE90ECC819DF62C215C17 | B32: 누전차단기(ELCB) | C32: 표준형 460V 3P 30AF | D32: 개 | E32: 56500 | F32: M081272 | O32: =SMALL(E32:M32,COUNTIF(E32:M32,0)+1) -> 56500 | P32: 0 | Q32: 0 | R32: 0 | S32: 0 | T32: 0 | U32: 0 | V32: 0 | W32: 자재 28
A33: 5F84F545F82E1764BCE90ECC819DF62C215EC4 | B33: 누전차단기(ELCB) | C33: 분전반형, 2P 30AF | D33: 개 | E33: 12000 | F33: M081270 | O33: =SMALL(E33:M33,COUNTIF(E33:M33,0)+1) -> 12000 | P33: 0 | Q33: 0 | R33: 0 | S33: 0 | T33: 0 | U33: 0 | V33: 0 | W33: 자재 29
A34: 5F84F545F82E1764BCE90ECC819DF62C215FD2 | B34: 자동복귀 누전차단기 | C34: 220V 2P 30AF | D34: 개 | E34: 84000 | F34: M081261 | O34: =SMALL(E34:M34,COUNTIF(E34:M34,0)+1) -> 84000 | P34: 0 | Q34: 0 | R34: 0 | S34: 0 | T34: 0 | U34: 0 | V34: 0 | W34: 자재 30
A35: 5F84F545F82E1764BCE90C022A8E08BBF426FE | B35: 배선용차단기(MCCB) | C35: 표준형 460V 2P 30AF | D35: 개 | E35: 24000 | F35: M081210 | O35: =SMALL(E35:M35,COUNTIF(E35:M35,0)+1) -> 24000 | P35: 0 | Q35: 0 | R35: 0 | S35: 0 | T35: 0 | U35: 0 | V35: 0 | W35: 자재 31
A36: 5F84F545F82E1764BCE90C022A8E08BBF426FF | B36: 배선용차단기(MCCB) | C36: 표준형 460V 2P 50AF | D36: 개 | E36: 36000 | F36: M081211 | O36: =SMALL(E36:M36,COUNTIF(E36:M36,0)+1) -> 36000 | P36: 0 | Q36: 0 | R36: 0 | S36: 0 | T36: 0 | U36: 0 | V36: 0 | W36: 자재 32
A37: 5F84F545F82E1764BCE90C022A8E08BBF53524 | B37: 배선용차단기(MCCB) | C37: 표준형 460V 4P 50AF | D37: 개 | E37: 55000 | F37: M081219 | O37: =SMALL(E37:M37,COUNTIF(E37:M37,0)+1) -> 55000 | P37: 0 | Q37: 0 | R37: 0 | S37: 0 | T37: 0 | U37: 0 | V37: 0 | W37: 자재 33
A38: 5FFF454E532217772DA000DBA365BC9F211605 | B38: 교류전류계 | C38: (배전반매입)광각도 | D38: 개 | E38: 48000 | F38: M080251 | O38: =SMALL(E38:M38,COUNTIF(E38:M38,0)+1) -> 48000 | P38: 0 | Q38: 0 | R38: 0 | S38: 0 | T38: 0 | U38: 0 | V38: 0 | W38: 자재 34
A39: 5FFF454E532217772DA000DBA365BC9F211601 | B39: 교류전압계 | C39: (배전반매입)광각도 | D39: 개 | E39: 48000 | F39: M080246 | O39: =SMALL(E39:M39,COUNTIF(E39:M39,0)+1) -> 48000 | P39: 0 | Q39: 0 | R39: 0 | S39: 0 | T39: 0 | U39: 0 | V39: 0 | W39: 자재 35
A40: 5FFF657E192717FEC4C1020C39467E7AE4213D | B40: VPN | C40: 영상, 데이터용 | D40: 대 | E40: 3500000 | G40: 0 | I40: 0 | K40: 0 | M40: 0 | O40: =SMALL(E40:M40,COUNTIF(E40:M40,0)+1) -> 3500000 | P40: 0 | Q40: 0 | R40: 0 | S40: 0 | T40: 0 | U40: 0 | V40: 0 | W40: 자재 36
A41: 5FFF657E192717FEC4C1020C39467E7AE42138 | B41: 유무선공유기 | C41: 4PORT | D41: 대 | E41: 0 | G41: 37000 | H41: 1395 | I41: 37500 | J41: 1267 | K41: 0 | M41: 35500 | N41: 1370 | O41: =SMALL(E41:M41,COUNTIF(E41:M41,0)+1) -> 35500 | P41: 0 | Q41: 0 | R41: 0 | S41: 0 | T41: 0 | U41: 0 | V41: 0 | W41: 자재 37
A42: 5FFF657E192717FEC4C1020C39467E7AE42139 | B42: 스위치 허브 | C42: 8PORT | D42: 대 | E42: 0 | G42: 98000 | H42: 1395 | I42: 102300 | J42: 1267 | K42: 0 | M42: 80900 | N42: 1370 | O42: =SMALL(E42:M42,COUNTIF(E42:M42,0)+1) -> 80900 | P42: 0 | Q42: 0 | R42: 0 | S42: 0 | T42: 0 | U42: 0 | V42: 0 | W42: 자재 38
A43: 5FFF35A9922C17CAEA0C037F3E0E90307A13DB | B43: 부저 | C43: D65 AC110V/220V | D43: 개 | E43: 3800 | F43: M080540 | O43: =SMALL(E43:M43,COUNTIF(E43:M43,0)+1) -> 3800 | P43: 0 | Q43: 0 | R43: 0 | S43: 0 | T43: 0 | U43: 0 | V43: 0 | W43: 자재 39
A44: 5FEEC5B7D82E174557BD07673F342A12B5C2FB | B44: 메가픽셀 스피드 돔 카메라(IR) | C44: 200만화소 이상, 0Lux(IR LED on시), 36배 광학줌이상, 하우징일체 | D44: 대 | E44: 5500000 | F44: M085067 | O44: =SMALL(E44:M44,COUNTIF(E44:M44,0)+1) -> 5500000 | P44: 0 | Q44: 0 | R44: 0 | S44: 0 | T44: 0 | U44: 0 | V44: 0 | W44: 자재 40
A45: 5FEEC5B7D82E174557BD07673F342A12B6E8FE | B45: DOME CAMERA BRACKET | C45: 천정형/벽부형 | D45: 개 | E45: 0 | G45: 120000 | H45: 1183 | I45: 145000 | J45: 1111 | K45: 0 | M45: 150000 | N45: 1460 | O45: =SMALL(E45:M45,COUNTIF(E45:M45,0)+1) -> 120000 | P45: 0 | Q45: 0 | R45: 0 | S45: 0 | T45: 0 | U45: 0 | V45: 0 | W45: 자재 41
A46: 5FEEC5B7D82E174557BD07673F342A12B04838 | B46: CCTV POLE PANEL(ELB,콘센트,DC아답터 포함) | C46: STS. 2.0t (W)300*(H)400*(D)300, POLE결속식 | D46: 면 | E46: 800000 | F46: M085071 | G46: 0 | I46: 0 | K46: 800000 | L46: 1268 | M46: 0 | O46: =SMALL(E46:M46,COUNTIF(E46:M46,0)+1) -> 800000 | P46: 0 | Q46: 0 | R46: 0 | S46: 0 | T46: 0 | U46: 0 | V46: 0 | W46: 자재 42
A47: 5FEEC5B7D82E174557BD07673F342A12B1678B | B47: CCTV CAMERA POLE | C47: STS 2.0t, Φ152, H=4m(피뢰침 포함) | D47: 기 | E47: 1125000 | F47: M085070 | O47: =SMALL(E47:M47,COUNTIF(E47:M47,0)+1) -> 1125000 | P47: 0 | Q47: 0 | R47: 0 | S47: 0 | T47: 0 | U47: 0 | V47: 0 | W47: 자재 43
A48: 5FEEC5B7D82E174557BD07673F342A12B1678A | B48: CCTV용 POLE 암대 | C48: L=1.0m | D48: EA | E48: 0 | G48: 179000 | H48: 1177 | I48: 0 | K48: 0 | M48: 0 | O48: =SMALL(E48:M48,COUNTIF(E48:M48,0)+1) -> 179000 | P48: 0 | Q48: 0 | R48: 0 | S48: 0 | T48: 0 | U48: 0 | V48: 0 | W48: 자재 44
A49: 5FEEC5B7D82E174557BD07673F342A12B16789 | B49: CCTV 촬영경고판 | C49: 500W x400H | D49: EA | E49: 0 | G49: 123000 | H49: 1177 | I49: 0 | K49: 330000 | L49: 1279 | M49: 150000 | N49: 1460 | O49: =SMALL(E49:M49,COUNTIF(E49:M49,0)+1) -> 123000 | P49: 0 | Q49: 0 | R49: 0 | S49: 0 | T49: 0 | U49: 0 | V49: 0 | W49: 자재 45
A50: 5FEEC5B7D82E174557BD07673F342A12B20E76 | B50: VMS License | C50: 본부용 | D50: 개소 | E50: 0 | G50: 0 | I50: 0 | K50: 0 | M50: 391000 | O50: =SMALL(E50:M50,COUNTIF(E50:M50,0)+1) -> 391000 | P50: 0 | Q50: 0 | R50: 0 | S50: 0 | T50: 0 | U50: 0 | V50: 0 | W50: 자재 46
A51: 5800957FA62417DBE5FF0C455226D8423A3EA8 | B51: 기본시설부담금 - 저압5kW까지 | C51: 저압, 가공공급 | D51: 식 | E51: 0 | G51: 0 | I51: 0 | K51: 0 | M51: 0 | O51: 0 | P51: 0 | Q51: 246000 | R51: 0 | S51: 0 | T51: 0 | U51: 0 | V51: =SMALL(Q51:U51,COUNTIF(Q51:U51,0)+1) -> 246000 | W51: 자재 47
A52: 587AC55C7E2D17FFB80D0A8EDD93243FDF9BF5 | B52: 보통인부 | C52: 일반공사 직종 | D52: 인 | E52: 0 | G52: 0 | I52: 0 | K52: 0 | M52: 0 | O52: 0 | P52: 169804 | Q52: 0 | R52: 0 | S52: 0 | T52: 0 | U52: 0 | V52: 0 | W52: 노임 1 | Y52: B
A53: 587AC55C7E2D17FFB80D0A8EDD93243FDF9BF4 | B53: 특별인부 | C53: 일반공사 직종 | D53: 인 | E53: 0 | G53: 0 | I53: 0 | K53: 0 | M53: 0 | O53: 0 | P53: 221506 | Q53: 0 | R53: 0 | S53: 0 | T53: 0 | U53: 0 | V53: 0 | W53: 노임 2 | Y53: B
A54: 587AC55C7E2D17FFB80D0A8EDD93243FDF93A7 | B54: 통신내선공 | C54: 일반공사 직종 | D54: 인 | E54: 0 | G54: 0 | I54: 0 | K54: 0 | M54: 0 | O54: 0 | P54: 278565 | Q54: 0 | R54: 0 | S54: 0 | T54: 0 | U54: 0 | V54: 0 | W54: 노임 3 | Y54: B
A55: 587AC55C7E2D17FFB80D0A8EDD93243FDF93A6 | B55: 통신설비공 | C55: 일반공사 직종 | D55: 인 | E55: 0 | G55: 0 | I55: 0 | K55: 0 | M55: 0 | O55: 0 | P55: 308930 | Q55: 0 | R55: 0 | S55: 0 | T55: 0 | U55: 0 | V55: 0 | W55: 노임 4 | Y55: B
A56: 587AC55C7E2D17FFB80D0A8EDD93243FDF93A9 | B56: 통신외선공 | C56: 일반공사 직종 | D56: 인 | E56: 0 | G56: 0 | I56: 0 | K56: 0 | M56: 0 | O56: 0 | P56: 405235 | Q56: 0 | R56: 0 | S56: 0 | T56: 0 | U56: 0 | V56: 0 | W56: 노임 5 | Y56: B
A57: 587AC55C7E2D17FFB80D0A8EDD93243FDF93A8 | B57: 통신케이블공 | C57: 일반공사 직종 | D57: 인 | E57: 0 | G57: 0 | I57: 0 | K57: 0 | M57: 0 | O57: 0 | P57: 433400 | Q57: 0 | R57: 0 | S57: 0 | T57: 0 | U57: 0 | V57: 0 | W57: 노임 6 | Y57: B
A58: 587AC55C7E2D17FFB80D09E878C7DFE2583FC8 | B58: H/W시험사 | C58: 광전자 직종 | D58: 인 | E58: 0 | G58: 0 | I58: 0 | K58: 0 | M58: 0 | O58: 0 | P58: 384609 | Q58: 0 | R58: 0 | S58: 0 | T58: 0 | U58: 0 | V58: 0 | W58: 노임 7 | Y58: B
A59: 587AC55C7E2D17FFB80D09E878C7DFE2583FCF | B59: S/W시험사 | C59: 광전자 직종 | D59: 인 | E59: 0 | G59: 0 | I59: 0 | K59: 0 | M59: 0 | O59: 0 | P59: 445000 | Q59: 0 | R59: 0 | S59: 0 | T59: 0 | U59: 0 | V59: 0 | W59: 노임 8 | Y59: B
A60: 587AC55C7E2D17FFB80D0E69AD648539CEFF47 | B60: 통신관련산업기사 | C60: 기타 직종 | D60: 인 | E60: 0 | G60: 0 | I60: 0 | K60: 0 | M60: 0 | O60: 0 | P60: 297137 | Q60: 0 | R60: 0 | S60: 0 | T60: 0 | U60: 0 | V60: 0 | W60: 노임 9 | Y60: B
A61: 587AC55C7E2D17FF9D2603F0987433F56C3E45 | B61: 전기기계조립원 | C61: 제조부문 | D61: 인 | E61: 0 | G61: 0 | I61: 0 | K61: 0 | M61: 0 | O61: 0 | P61: 116486 | Q61: 0 | R61: 0 | S61: 0 | T61: 0 | U61: 0 | V61: 0 | W61: 노임 10 | X61: 중소기업중앙회 | Y61: B
A62: 587AC55C7E2D17FF9D2603F0987433F56C3C96 | B62: 전선원 | C62: 제조부문 | D62: 인 | E62: 0 | G62: 0 | I62: 0 | K62: 0 | M62: 0 | O62: 0 | P62: 99248 | Q62: 0 | R62: 0 | S62: 0 | T62: 0 | U62: 0 | V62: 0 | W62: 노임 11 | X62: 중소기업중앙회 | Y62: B
A63: 586855B32525177125540702E9E7B68F176531 | B63: 하차비 | C63: TON당 요금 | D63: TON | E63: 0 | G63: 0 | I63: 0 | K63: 0 | M63: 0 | O63: 0 | P63: 0 | Q63: 2056 | R63: 0 | S63: 0 | T63: 0 | U63: 0 | V63: =SMALL(Q63:U63,COUNTIF(Q63:U63,0)+1) -> 2056 | W63: 자재 48
A64: 586855B32525177125540702E9E7B68F15B64D | B64: 운반비(자동차):충남도청->현장 | C64: TON당 요금(거리:100kM) | D64: TON | E64: 0 | G64: 0 | I64: 0 | K64: 0 | M64: 0 | O64: 0 | P64: 0 | Q64: 46700 | R64: 0 | S64: 0 | T64: 0 | U64: 0 | V64: =SMALL(Q64:U64,COUNTIF(Q64:U64,0)+1) -> 46700 | W64: 자재 49
A65: 586855B5D02317EBEFF602190C56B2ED19508A | B65: NOISE FILTER | D65: 개 | E65: 59400 | F65: M061200 | G65: 0 | I65: 0 | K65: 0 | M65: 0 | O65: =SMALL(E65:M65,COUNTIF(E65:M65,0)+1) -> 59400 | P65: 0 | Q65: 0 | R65: 0 | S65: 0 | T65: 0 | U65: 0 | V65: 0 | W65: 자재 50
A66: 586855B5D02317EBDD970F59BEE39E128F5D32 | B66: 서지보호기(카운터)3상4선 | C66: 전원용 Class2, In 20kA이상, Imax 40kA이상 | D66: SET | E66: 1700000 | F66: M061231 | G66: 0 | I66: 0 | K66: 0 | M66: 0 | O66: =SMALL(E66:M66,COUNTIF(E66:M66,0)+1) -> 1700000 | P66: 0 | Q66: 0 | R66: 0 | S66: 0 | T66: 0 | U66: 0 | V66: 0 | W66: 자재 51
A67: 586855B5D02317EBDDA0062B1DB5D534D8945C | B67: 서지보호기(카운터)3상4선 | C67: 전원용 Class2, In 40kA이상, Imax 80kA이상 | D67: SET | E67: 1950000 | F67: M061232 | G67: 0 | I67: 0 | K67: 0 | M67: 0 | O67: =SMALL(E67:M67,COUNTIF(E67:M67,0)+1) -> 1950000 | P67: 0 | Q67: 0 | R67: 0 | S67: 0 | T67: 0 | U67: 0 | V67: 0 | W67: 자재 52
A68: 586855B5D02317EBDDB20C2EF5D4105FCB1C30 | B68: 서지보호기(카운터)1상2선 | C68: 전원용 Class2, In 20kA이상, Imax 40kA이상 | D68: SET | E68: 1100000 | F68: M061233 | G68: 0 | I68: 0 | K68: 0 | M68: 0 | O68: =SMALL(E68:M68,COUNTIF(E68:M68,0)+1) -> 1100000 | P68: 0 | Q68: 0 | R68: 0 | S68: 0 | T68: 0 | U68: 0 | V68: 0 | W68: 자재 53
A69: 586855B5D02317EBDDB20C2EF5D4105FC96F7B | B69: 서지보호기(카운터)1상2선 | C69: 전원용 Class2, In 20kA이상, Imax 80kA이상 | D69: SET | E69: 1450000 | F69: M061234 | G69: 0 | I69: 0 | K69: 0 | M69: 0 | O69: =SMALL(E69:M69,COUNTIF(E69:M69,0)+1) -> 1450000 | P69: 0 | Q69: 0 | R69: 0 | S69: 0 | T69: 0 | U69: 0 | V69: 0 | W69: 자재 54
A70: 586855B5D02317EBDD0002D73147D607717769 | B70: 서지보호기(카운터) | C70: 신호용 5V/24V, 4~20mA, 20kA이상 | D70: 개 | E70: 350000 | F70: M061238 | G70: 0 | I70: 0 | K70: 350000 | L70: 1205 | M70: 0 | O70: =SMALL(E70:M70,COUNTIF(E70:M70,0)+1) -> 350000 | P70: 0 | Q70: 0 | R70: 0 | S70: 0 | T70: 0 | U70: 0 | V70: 0 | W70: 자재 55
A71: 586855B5D02317EBDD1209E19B361CB5B57C0E | B71: 서지보호기(카운터) | C71: 통신(이더넷용) 20kA이상 | D71: 개 | E71: 385000 | F71: M061239 | G71: 0 | I71: 0 | K71: 0 | M71: 0 | O71: =SMALL(E71:M71,COUNTIF(E71:M71,0)+1) -> 385000 | P71: 0 | Q71: 0 | R71: 0 | S71: 0 | T71: 0 | U71: 0 | V71: 0 | W71: 자재 56
A72: 586855B5D02317EBA0430A652B8D99B0D3B5E3 | B72: 서지보호기(카운터)-통신 | C72: CCTV용(통신,영상) 20kA이상 | D72: 개 | E72: 350000 | F72: M061238 | G72: 0 | I72: 0 | K72: 350000 | L72: 1205 | M72: 0 | O72: =SMALL(E72:M72,COUNTIF(E72:M72,0)+1) -> 350000 | P72: 0 | Q72: 0 | R72: 0 | S72: 0 | T72: 0 | U72: 0 | V72: 0 | W72: 자재 57
A73: 586855B5D02317EBA0430A652B8D99B0D3B689 | B73: 서지보호기(카운터) | C73: CCTV용(통신,영상) 20kA이상 | D73: 개 | E73: 350000 | F73: M061238 | G73: 0 | I73: 0 | K73: 350000 | L73: 1205 | M73: 0 | O73: =SMALL(E73:M73,COUNTIF(E73:M73,0)+1) -> 350000 | P73: 0 | Q73: 0 | R73: 0 | S73: 0 | T73: 0 | U73: 0 | V73: 0 | W73: 자재 58
A74: 586855B4C32A172F827408399E8C818E77EC0C | B74: 옥외형 현장반 | C74: STS 0.65(W)x0.4(D)x0.6(H) | D74: 면 | E74: 900000 | F74: M079042 | G74: 0 | I74: 0 | K74: 0 | M74: 0 | O74: =SMALL(E74:M74,COUNTIF(E74:M74,0)+1) -> 900000 | P74: 0 | Q74: 0 | R74: 0 | S74: 0 | T74: 0 | U74: 0 | V74: 0 | W74: 자재 59
A75: 586855B4C32A172F820108432C55BF2C67E148 | B75: 옥외형 현장반 지지대 | C75: STS 0.2(W)x0.2(D)x1.0(H) | D75: 면 | E75: 437000 | F75: M079045 | G75: 0 | I75: 0 | K75: 0 | M75: 0 | O75: =SMALL(E75:M75,COUNTIF(E75:M75,0)+1) -> 437000 | P75: 0 | Q75: 0 | R75: 0 | S75: 0 | T75: 0 | U75: 0 | V75: 0 | W75: 자재 60
A76: 586855B4C32A172FAD3305903E2D9E6867EA7A | B76: 옥외형 조작반 (자립형) | C76: STS 0.8(W)x0.6(D)x1.8(H) | D76: 면 | E76: 2200000 | F76: M079061 | G76: 0 | I76: 0 | K76: 0 | M76: 0 | O76: =SMALL(E76:M76,COUNTIF(E76:M76,0)+1) -> 2200000 | P76: 0 | Q76: 0 | R76: 0 | S76: 0 | T76: 0 | U76: 0 | V76: 0 | W76: 자재 61
A77: 586855B4C32A172FAD3305903E2D9E6866C1A3 | B77: 옥내형 조작반 (자립형) | C77: STS 0.7(W)x0.6(D)x1.85(H) | D77: 면 | E77: 2200000 | F77: M079061 | G77: 0 | I77: 0 | K77: 0 | M77: 0 | O77: =SMALL(E77:M77,COUNTIF(E77:M77,0)+1) -> 2200000 | P77: 0 | Q77: 0 | R77: 0 | S77: 0 | T77: 0 | U77: 0 | V77: 0 | W77: 자재 62
A78: 586855B4C32A172F44F40B2033A9A6C1746CE3 | B78: DOOR STOPPER | C78: STS | D78: 개 | E78: 7500 | F78: M079085 | G78: 0 | I78: 0 | K78: 0 | M78: 0 | O78: =SMALL(E78:M78,COUNTIF(E78:M78,0)+1) -> 7500 | P78: 0 | Q78: 0 | R78: 0 | S78: 0 | T78: 0 | U78: 0 | V78: 0 | W78: 자재 63
A79: 586855B4C32A172F55860BF35E3226097CF9C4 | B79: P-COVER | C79: STS 0.8(W)x1.7(H) | D79: 개 | E79: 325971 | G79: 0 | I79: 0 | K79: 0 | M79: 0 | O79: =SMALL(E79:M79,COUNTIF(E79:M79,0)+1) -> 325971 | P79: 0 | Q79: 0 | R79: 0 | S79: 0 | T79: 0 | U79: 0 | V79: 0 | W79: 자재 64
A80: 586855B4C32A1738350B0B9BDAA63F5AE3230A | B80: DIAZED FUSE | C80: 25A W/HOLDER | D80: 개 | E80: 2800 | F80: M079102 | G80: 0 | I80: 0 | K80: 0 | M80: 0 | O80: =SMALL(E80:M80,COUNTIF(E80:M80,0)+1) -> 2800 | P80: 0 | Q80: 0 | R80: 0 | S80: 0 | T80: 0 | U80: 0 | V80: 0 | W80: 자재 65
A81: 586855B4C32A17383514026E5F7BEF3AAAE391 | B81: FAN | C81: AC 220V 150mm | D81: 개 | E81: 28000 | F81: M079103 | G81: 0 | I81: 0 | K81: 0 | M81: 0 | O81: =SMALL(E81:M81,COUNTIF(E81:M81,0)+1) -> 28000 | P81: 0 | Q81: 0 | R81: 0 | S81: 0 | T81: 0 | U81: 0 | V81: 0 | W81: 자재 66
A82: 586855B4C32A1738356C0467CB6391747C8FB1 | B82: SPACE HEATER | C82: AC 220V 100W | D82: 개 | E82: 13970 | F82: M079104 | G82: 0 | I82: 0 | K82: 0 | M82: 0 | O82: =SMALL(E82:M82,COUNTIF(E82:M82,0)+1) -> 13970 | P82: 0 | Q82: 0 | R82: 0 | S82: 0 | T82: 0 | U82: 0 | V82: 0 | W82: 자재 67
A83: 586855B4C32A1738357E0B7194F4A86ED7D543 | B83: THERMOSTAT | C83: AC 220V 0~250℃ | D83: 개 | E83: 15970 | F83: M079105 | G83: 0 | I83: 0 | K83: 0 | M83: 0 | O83: =SMALL(E83:M83,COUNTIF(E83:M83,0)+1) -> 15970 | P83: 0 | Q83: 0 | R83: 0 | S83: 0 | T83: 0 | U83: 0 | V83: 0 | W83: 자재 68
A84: 586855B4C32A1738354106CCF8037C50D66E8A | B84: 전등 (배전반용) | C84: 삼파장 전구형, AC 220V 20W | D84: 개 | E84: 4000 | F84: M079106 | G84: 0 | I84: 0 | K84: 0 | M84: 0 | O84: =SMALL(E84:M84,COUNTIF(E84:M84,0)+1) -> 4000 | P84: 0 | Q84: 0 | R84: 0 | S84: 0 | T84: 0 | U84: 0 | V84: 0 | W84: 자재 69
A85: 586855B4C32A17381A2C0042605D016FD5CB75 | B85: PVC DUCT | C85: 30 x 40 x 2m, W/COVER | D85: 개 | E85: 3600 | F85: M079126 | G85: 0 | I85: 0 | K85: 0 | M85: 0 | O85: =SMALL(E85:M85,COUNTIF(E85:M85,0)+1) -> 3600 | P85: 0 | Q85: 0 | R85: 0 | S85: 0 | T85: 0 | U85: 0 | V85: 0 | W85: 자재 70
A86: 586855B4C32A17381A3E0645D76D031701E40F | B86: PVC DUCT | C86: 40 x 60 x 2m, W/COVER | D86: 개 | E86: 4680 | F86: M079127 | G86: 0 | I86: 0 | K86: 0 | M86: 0 | O86: =SMALL(E86:M86,COUNTIF(E86:M86,0)+1) -> 4680 | P86: 0 | Q86: 0 | R86: 0 | S86: 0 | T86: 0 | U86: 0 | V86: 0 | W86: 자재 71
A87: 586855B4C32A17387CD7013203B325D2B694DE | B87: 신호변환기 | C87: 입력:싱크로신호, 출력:4~20mA | D87: 개 | E87: 155000 | F87: M079140 | G87: 0 | I87: 0 | K87: 0 | M87: 0 | O87: =SMALL(E87:M87,COUNTIF(E87:M87,0)+1) -> 155000 | P87: 0 | Q87: 0 | R87: 0 | S87: 0 | T87: 0 | U87: 0 | V87: 0 | W87: 자재 72
A88: 586855B4C32A17387CC60AC0EB91FBEDC07800 | B88: 신호분배기 | C88: 1채널 입력, 2채널 출력:4~20mA | D88: 개 | E88: 155000 | F88: M079141 | G88: 0 | I88: 0 | K88: 0 | M88: 0 | O88: =SMALL(E88:M88,COUNTIF(E88:M88,0)+1) -> 155000 | P88: 0 | Q88: 0 | R88: 0 | S88: 0 | T88: 0 | U88: 0 | V88: 0 | W88: 자재 73
A89: 586855B4C32A17387CF30EBFA3BDB4AFF170A9 | B89: 디지털표시기 | C89: 입력:4~20mA, 4 Digit, 출력단자 | D89: 개 | E89: 98000 | F89: M079142 | G89: 0 | I89: 0 | K89: 0 | M89: 0 | O89: =SMALL(E89:M89,COUNTIF(E89:M89,0)+1) -> 98000 | P89: 0 | Q89: 0 | R89: 0 | S89: 0 | T89: 0 | U89: 0 | V89: 0 | W89: 자재 74
A90: 586855BB7A22174D6D1F054061A37B3B131567 | B90: 전압절환스위치 | C90: VS(250V10A3P3W) | D90: 개 | E90: 12090 | F90: M080370 | G90: 12090 | H90: 1057 | I90: 0 | K90: 0 | M90: 8000 | N90: 362(2) | O90: =SMALL(E90:M90,COUNTIF(E90:M90,0)+1) -> 8000 | P90: 0 | Q90: 0 | R90: 0 | S90: 0 | T90: 0 | U90: 0 | V90: 0 | W90: 자재 75
A91: 586855BB7A22174D9A5504C0C26F93B26151D7 | B91: 전류전환스위치 | C91: AS(250V10A3P3W) | D91: 개 | E91: 12090 | F91: M080380 | G91: 12090 | H91: 1057 | I91: 0 | K91: 0 | M91: 8000 | N91: 362(2) | O91: =SMALL(E91:M91,COUNTIF(E91:M91,0)+1) -> 8000 | P91: 0 | Q91: 0 | R91: 0 | S91: 0 | T91: 0 | U91: 0 | V91: 0 | W91: 자재 76
A92: 586855BB7A2217224DBB0217D1C0D51AAD7287 | B92: 보조릴레이 | C92: 2A,2B(AC용) | D92: 개 | E92: 12000 | F92: M080500 | G92: 0 | I92: 0 | K92: 0 | M92: 0 | O92: =SMALL(E92:M92,COUNTIF(E92:M92,0)+1) -> 12000 | P92: 0 | Q92: 0 | R92: 0 | S92: 0 | T92: 0 | U92: 0 | V92: 0 | W92: 자재 77
A93: 586855BB7A2217224DAA0CCC43A9F7C21710FB | B93: 보조릴레이 | C93: 4A,4B(AC용) | D93: 개 | E93: 18000 | F93: M080501 | G93: 0 | I93: 0 | K93: 0 | M93: 0 | O93: =SMALL(E93:M93,COUNTIF(E93:M93,0)+1) -> 18000 | P93: 0 | Q93: 0 | R93: 0 | S93: 0 | T93: 0 | U93: 0 | V93: 0 | W93: 자재 78
A94: 586855BB7A2217224DAA0CCC43A9F7C21710FA | B94: ET(접지) | C94: 5CCT | D94: 개 | E94: 0 | G94: 0 | I94: 0 | K94: 0 | M94: 5000 | O94: =SMALL(E94:M94,COUNTIF(E94:M94,0)+1) -> 5000 | P94: 0 | Q94: 0 | R94: 0 | S94: 0 | T94: 0 | U94: 0 | V94: 0 | W94: 자재 79
A95: 586855BB7E28175695D2062645A89F41ECF669 | B95: KRC-HMI SOFTWARE FEE | C95: 표준화면 구성 | D95: 화면 | E95: 557000 | F95: M084738 | G95: 0 | I95: 0 | K95: 0 | M95: 0 | O95: =SMALL(E95:M95,COUNTIF(E95:M95,0)+1) -> 557000 | P95: 0 | Q95: 0 | R95: 0 | S95: 0 | T95: 0 | U95: 0 | V95: 0 | W95: 자재 80
A96: 586855BB7E28175695D2062645A89F43994B00 | B96: TOMS 연계(본사-지사간) | C96: 표준화면 구성 | D96: 화면 | E96: 424400 | F96: M084744 | G96: 0 | I96: 0 | K96: 0 | M96: 0 | O96: =SMALL(E96:M96,COUNTIF(E96:M96,0)+1) -> 424400 | P96: 0 | Q96: 0 | R96: 0 | S96: 0 | T96: 0 | U96: 0 | V96: 0 | W96: 자재 81
A97: 586855BB7E28175695C10F359460FA5A980EB0 | B97: KRC-HMI SOFTWARE FEE | C97: 트렌드화면 구성 | D97: 화면 | E97: 683000 | F97: M084739 | G97: 0 | I97: 0 | K97: 0 | M97: 0 | O97: =SMALL(E97:M97,COUNTIF(E97:M97,0)+1) -> 683000 | P97: 0 | Q97: 0 | R97: 0 | S97: 0 | T97: 0 | U97: 0 | V97: 0 | W97: 자재 82
A98: 586855BB7E281756ED6C0287759CE7736180A5 | B98: KRC-HMI SOFTWARE FEE | C98: 레포트화면 구성 | D98: 화면 | E98: 684000 | F98: M084741 | G98: 0 | I98: 0 | K98: 0 | M98: 0 | O98: =SMALL(E98:M98,COUNTIF(E98:M98,0)+1) -> 684000 | P98: 0 | Q98: 0 | R98: 0 | S98: 0 | T98: 0 | U98: 0 | V98: 0 | W98: 자재 83
A99: 586855BB7E2817AE9A180671398440C21FA60A | B99: POWER SUPPLY | C99: DC 12V / 5V | D99: 개 | E99: 650000 | F99: M084820 | G99: 0 | I99: 0 | K99: 0 | M99: 0 | O99: =SMALL(E99:M99,COUNTIF(E99:M99,0)+1) -> 650000 | P99: 0 | Q99: 0 | R99: 0 | S99: 0 | T99: 0 | U99: 0 | V99: 0 | W99: 자재 84
A100: 586855BB7E2817AE9A0F0FBF72A534E8A02722 | B100: POWER SUPPLY | C100: DC 24V 10A | D100: 개 | E100: 550000 | F100: M084821 | G100: 0 | I100: 0 | K100: 0 | M100: 0 | O100: =SMALL(E100:M100,COUNTIF(E100:M100,0)+1) -> 550000 | P100: 0 | Q100: 0 | R100: 0 | S100: 0 | T100: 0 | U100: 0 | V100: 0 | W100: 자재 85
...

Sheet 공량설정_일위대가
A1: 일위대가 | B1: 적용율(%) | C1: 소수점이하자릿수 | D1: 일위대가 코드
A2: 수위계유니트함-옥외자립형 650(W)x600/1000(H)x400(D) (호표 19) | B2: 100 | D2: 58EBB50DD12617DB15360F77C46290
A3: 전기기계조립원 | C3: 2 | D3: 58EBB50DD12617DB15360F77C46290587AC55C7E2D17FF9D2603F0987433F56C3E45
A4: 전선원 | C4: 3 | D4: 58EBB50DD12617DB15360F77C46290587AC55C7E2D17FF9D2603F0987433F56C3C96
A5: 수위계유니트함 (제작율 적용) 옥외자립형, 650(W)x600/1000(H)x400(D) (호표 20) | B5: 100 | D5: 58EBB50DD12617DB15360F77C46291
A6: 수위계유니트함 설치비 하차비 포함 (호표 21) | B6: 100 | D6: 58EBB50DD12617DB15360F77C46293
A7: 통신설비공 | C7: 2 | D7: 58EBB50DD12617DB15360F77C46293587AC55C7E2D17FFB80D0A8EDD93243FDF93A6
A8: 특별인부 | C8: 2 | D8: 58EBB50DD12617DB15360F77C46293587AC55C7E2D17FFB80D0A8EDD93243FDF9BF4
A9: RTU-1 옥내자립형(STS) 전원부 (호표 22) | B9: 100 | D9: 58EB9522532817734F830D3134CE76
A10: 전기기계조립원 | C10: 2 | D10: 58EB9522532817734F830D3134CE76587AC55C7E2D17FF9D2603F0987433F56C3E45
A11: 전선원 | C11: 3 | D11: 58EB9522532817734F830D3134CE76587AC55C7E2D17FF9D2603F0987433F56C3C96
A12: RTU-1 옥내자립형(STS) 제어부 (호표 23) | B12: 100 | D12: 58EB9522532817734F830D3134CE77
A13: H/W시험사 | C13: 2 | D13: 58EB9522532817734F830D3134CE77587AC55C7E2D17FFB80D09E878C7DFE2583FC8
A14: S/W시험사 | C14: 2 | D14: 58EB9522532817734F830D3134CE77587AC55C7E2D17FFB80D09E878C7DFE2583FCF
A15: 전기기계조립원 | C15: 2 | D15: 58EB9522532817734F830D3134CE77587AC55C7E2D17FF9D2603F0987433F56C3E45
A16: RTU-1 (제작율 적용) 옥내자립형(STS), 700(W)x1,850(H)x600(D) (호표 24) | B16: 100 | D16: 58EB9522532817734F830D3134CE74
A17: 원격제어반 설치비 옥남배수갑문 (호표 25) | B17: 100 | D17: 58EB9522532817734F830D3134CE75
A18: 원격제어반 운반비 하차비 포함 (호표 26) | B18: 100 | D18: 58EB9522532817734F830D3134CE72
A19: MCC & RTU-1 옥외자립형 전원부 (호표 27) | B19: 100 | D19: 58EB9522532817734F830D3134CE73
A20: 전기기계조립원 | C20: 3 | D20: 58EB9522532817734F830D3134CE73587AC55C7E2D17FF9D2603F0987433F56C3E45
A21: 전선원 | C21: 3 | D21: 58EB9522532817734F830D3134CE73587AC55C7E2D17FF9D2603F0987433F56C3C96
A22: MCC & RTU-1 옥외자립형 제어부 (호표 28) | B22: 100 | D22: 58EB9522532817734F830D3134CE70
A23: H/W시험사 | C23: 2 | D23: 58EB9522532817734F830D3134CE70587AC55C7E2D17FFB80D09E878C7DFE2583FC8
A24: S/W시험사 | C24: 2 | D24: 58EB9522532817734F830D3134CE70587AC55C7E2D17FFB80D09E878C7DFE2583FCF
A25: 전기기계조립원 | C25: 2 | D25: 58EB9522532817734F830D3134CE70587AC55C7E2D17FF9D2603F0987433F56C3E45
A26: MCC & RTU-1 (제작율 적용) 옥외자립형, 800(W)x1,800(H)x600(D) (호표 29) | B26: 100 | D26: 58EB9522532817734F830D3134CE71
A27: 원격제어반 설치비 배수문 (호표 30) | B27: 100 | D27: 58EB9522532817734F830D3134CE7E
A28: 서지보호기(SPD) CCTV용(전원) (호표 1) | B28: 100 | D28: 58EAE5C87E25179B5EDB0A6F0D6669
A29: 통신내선공 | C29: 2 | D29: 58EAE5C87E25179B5EDB0A6F0D6669587AC55C7E2D17FFB80D0A8EDD93243FDF93A7
A30: 서지보호기(SPD) CCTV용(통신,영상) (호표 2) | B30: 100 | D30: 58EAE5C87E25179B5EDB0A6F0D6668
A31: 통신내선공 | C31: 2 | D31: 58EAE5C87E25179B5EDB0A6F0D6668587AC55C7E2D17FFB80D0A8EDD93243FDF93A7
A32: 카메라 설치-POLE상부 스피드돔형 (호표 3) | B32: 100 | D32: 58EAE5C87C2A17BD423E05B1185ABD
A33: 통신설비공 | C33: 3 | D33: 58EAE5C87C2A17BD423E05B1185ABD587AC55C7E2D17FFB80D0A8EDD93243FDF93A6
A34: 특별인부 | C34: 3 | D34: 58EAE5C87C2A17BD423E05B1185ABD587AC55C7E2D17FFB80D0A8EDD93243FDF9BF4
A35: 카메라 설치-벽부 스피드돔형 (호표 4) | B35: 100 | D35: 58EAE5C87C2A17BD423E05B1185AB9
A36: 통신설비공 | C36: 2 | D36: 58EAE5C87C2A17BD423E05B1185AB9587AC55C7E2D17FFB80D0A8EDD93243FDF93A6
A37: 특별인부 | C37: 2 | D37: 58EAE5C87C2A17BD423E05B1185AB9587AC55C7E2D17FFB80D0A8EDD93243FDF9BF4
A38: 브라켓 설치 벽부형 (호표 5) | B38: 100 | D38: 58EAE5C87C2A17BD423E05B1185E18
A39: 통신설비공 | C39: 2 | D39: 58EAE5C87C2A17BD423E05B1185E18587AC55C7E2D17FFB80D0A8EDD93243FDF93A6
A40: 보통인부 | C40: 2 | D40: 58EAE5C87C2A17BD423E05B1185E18587AC55C7E2D17FFB80D0A8EDD93243FDF9BF5
A41: CCTV제어함체(STS) 설치-POLE부착 옥외형(ELB, 콘센트,DC아답터 포함) (호표 6) | B41: 100 | D41: 58EAE5C87C2A17BD423E05B1197EF5
A42: 통신내선공 | C42: 2 | D42: 58EAE5C87C2A17BD423E05B1197EF5587AC55C7E2D17FFB80D0A8EDD93243FDF93A7
A43: CCTV POLE 설치 STS 2.0t, Φ152, H=4m(피뢰침 포함) (호표 7) | B43: 100 | D43: 58EAE5C87C2A17BD423E05B1197864
A44: 통신외선공 | C44: 1 | D44: 58EAE5C87C2A17BD423E05B1197864587AC55C7E2D17FFB80D0A8EDD93243FDF93A9
A45: 보통인부 | C45: 2 | D45: 58EAE5C87C2A17BD423E05B1197864587AC55C7E2D17FFB80D0A8EDD93243FDF9BF5
A46: 카메라 시험 송.수신 제어신호 및 영상Level 조정 (호표 8) | B46: 100 | D46: 58EAE5C87C2A17BD423E05B1197747
A47: 통신관련산업기사 | C47: 2 | D47: 58EAE5C87C2A17BD423E05B1197747587AC55C7E2D17FFB80D0E69AD648539CEFF47
A48: 통신설비공 | C48: 2 | D48: 58EAE5C87C2A17BD423E05B1197747587AC55C7E2D17FFB80D0A8EDD93243FDF93A6
A49: CCTV시스템 개량 영상Level 조정 및 시험 (호표 9) | B49: 100 | D49: 58EAE5C87C2A17BD423E05B1197746
A50: 통신관련산업기사 | C50: 2 | D50: 58EAE5C87C2A17BD423E05B1197746587AC55C7E2D17FFB80D0E69AD648539CEFF47
A51: 통신설비공 | C51: 2 | D51: 58EAE5C87C2A17BD423E05B1197746587AC55C7E2D17FFB80D0A8EDD93243FDF93A6
A52: 카메라 시험 종합 (호표 10) | B52: 100 | D52: 58EAE5C87C2A17BD423E05B119774D
A53: 통신관련산업기사 | C53: 2 | D53: 58EAE5C87C2A17BD423E05B119774D587AC55C7E2D17FFB80D0E69AD648539CEFF47
A54: 통신설비공 | C54: 2 | D54: 58EAE5C87C2A17BD423E05B119774D587AC55C7E2D17FFB80D0A8EDD93243FDF93A6
A55: CCTV용 암대 설치 POLE상부, L=1m (호표 11) | B55: 100 | D55: 58EAE5C87C2A17BD423E05B11DD1AE
A56: 통신외선공 | C56: 2 | D56: 58EAE5C87C2A17BD423E05B11DD1AE587AC55C7E2D17FFB80D0A8EDD93243FDF93A9
A57: 특별인부 | C57: 2 | D57: 58EAE5C87C2A17BD423E05B11DD1AE587AC55C7E2D17FFB80D0A8EDD93243FDF9BF4
A58: VPN 설치 원격제어소용 (호표 12) | B58: 100 | D58: 58EAE5C8722A178AB9C300495B9E6C
A59: S/W시험사 | C59: 2 | D59: 58EAE5C8722A178AB9C300495B9E6C587AC55C7E2D17FFB80D09E878C7DFE2583FCF
A60: H/W시험사 | C60: 2 | D60: 58EAE5C8722A178AB9C300495B9E6C587AC55C7E2D17FFB80D09E878C7DFE2583FC8
A61: 유무선공유기 설치 4PORT (호표 13) | B61: 100 | D61: 58EAE5C8722A178AB9C300495B9B9B
A62: S/W시험사 | C62: 2 | D62: 58EAE5C8722A178AB9C300495B9B9B587AC55C7E2D17FFB80D09E878C7DFE2583FCF
A63: H/W시험사 | C63: 2 | D63: 58EAE5C8722A178AB9C300495B9B9B587AC55C7E2D17FFB80D09E878C7DFE2583FC8
A64: 수위계 설치 센서+브라켓(시험포함) (호표 14) | B64: 100 | D64: 58EAE5C8722A178A9ECA04FBF77011
A65: 통신설비공 | C65: 2 | D65: 58EAE5C8722A178A9ECA04FBF77011587AC55C7E2D17FFB80D0A8EDD93243FDF93A6
A66: 특별인부 | C66: 2 | D66: 58EAE5C8722A178A9ECA04FBF77011587AC55C7E2D17FFB80D0A8EDD93243FDF9BF4
A67: 현장감시제어설비 설치 RTU반 설치 (호표 15) | B67: 100 | D67: 58EAE5C8722A178A9ECA04FBF545E8
A68: 통신설비공 | C68: 2 | D68: 58EAE5C8722A178A9ECA04FBF545E8587AC55C7E2D17FFB80D0A8EDD93243FDF93A6
A69: 특별인부 | C69: 2 | D69: 58EAE5C8722A178A9ECA04FBF545E8587AC55C7E2D17FFB80D0A8EDD93243FDF9BF4
A70: 현장감시제어설비 설치 Bay건립 및 카드 설치 (호표 16) | B70: 100 | D70: 58EAE5C8722A178A9ECA04FBF546F3
A71: 통신설비공 | C71: 2 | D71: 58EAE5C8722A178A9ECA04FBF546F3587AC55C7E2D17FFB80D0A8EDD93243FDF93A6
A72: 통신케이블공 | C72: 2 | D72: 58EAE5C8722A178A9ECA04FBF546F3587AC55C7E2D17FFB80D0A8EDD93243FDF93A8
A73: 특별인부 | C73: 2 | D73: 58EAE5C8722A178A9ECA04FBF546F3587AC55C7E2D17FFB80D0A8EDD93243FDF9BF4
A74: 현장감시제어설비 설치 케이블 접속 (호표 17) | B74: 100 | D74: 58EAE5C8722A178A9ECA04FBF5479A
A75: 통신케이블공 | C75: 2 | D75: 58EAE5C8722A178A9ECA04FBF5479A587AC55C7E2D17FFB80D0A8EDD93243FDF93A8
A76: 특별인부 | C76: 2 | D76: 58EAE5C8722A178A9ECA04FBF5479A587AC55C7E2D17FFB80D0A8EDD93243FDF9BF4
A77: 현장감시제어설비 설치 시험 (호표 18) | B77: 100 | D77: 58EAE5C8722A178A9ECA04FBF5406B
A78: 통신관련산업기사 | C78: 2 | D78: 58EAE5C8722A178A9ECA04FBF5406B587AC55C7E2D17FFB80D0E69AD648539CEFF47

Sheet  공사설정 
A1: 이 Sheet는 수정하지 마십시요
A2: 공사구분 | B2: D | C2: 타이틀
A3: 확정내역 | B3: 원내역
A4: 자재단가적용 | B4: 5
A5: 경비단가적용 | B5: 5
A6: 품목코드형식 | B6: XXXX-XXXX-XXXXXXXX
A7: 내역금액소수점처리 | B7: C | C7: 1
A8: 일위대가내역소수점처리 | B8: C | C8: 2
A9: 단가명 | B9: 농어촌공사 | C9: 거래가격 | D9: 유통물가 | E9: 물가자료 | F9: 조사가격 | G9: TTTTT
A10: 환율 | B10: 1095.1 | C10: 0 | D10: 0
A11: 시간당작업량 | B11: R | C11: 3
A12: 1회 사이클시간 | B12: R | C12: 3
A13: 시간당 작업사이클 | B13: R | C13: 2
A14: 일반변수 | B14: C | C14: 5
A15: 시간당 노임산출 계수 | B15: A | C15: 1/8*16/12*25/20 | D15: 1/8*16/12*25/20 | E15: 1/8*16/12*25/20 | F15: 1
A16: 재료비 할증 계수 | B16: 0 | C16: 0
A17: 노무비 할증 계수 | B17: 0 | C17: 0 | D17: 0 | E17: 0 | F17: 0 | G17: 0 | H17: 0 | I17: 0 | J17: 0 | K17: 0 | L17: 0 | M17: 0
A18: 경비 할증 계수 | B18: 0 | C18: 0
A19: 내역,일위대가 품명,규격,단위 따로적용
A20: 내역단가 소수점처리 | C20: 1
A21: 코드 | B21: 공종구분명 | C21: 원가비목코드
A22: 1 | B22: 작 업 부 산 물 | C22: A3
A23: 2 | B23: 운 반 비 | C23: C1
A24: 3 | B24: 관 급 자 재 비 | C24: DJ
A25: 4 | B25: 사 급 자 재 비 | C25: D3
A26: 5 | B26: 외 자 재
A27: 6 | B27: 한 전 납 입 금 | C27: DK
A28: 7 | B28: ...
A29: 8 | B29: ...
A30: 9 | B30: ...

Sheet Sheet1
