Workbook
Name _1_: #REF!
Name _10_??4????: '[1]일위대가(계측기설치)'!#REF!
Name _100E6_: BlankMacro1
Name _101E6_: BlankMacro1
Name _102E7_: BlankMacro1
Name _103E7_: BlankMacro1
Name _104E8_: BlankMacro1
Name _105E8_: BlankMacro1
Name _106E9_: BlankMacro1
Name _107E9_: BlankMacro1
Name _108EW1_: BlankMacro1
Name _109EW1_: BlankMacro1
Name _11_??5????: '[1]일위대가(계측기설치)'!#REF!
Name _110EW2_: BlankMacro1
Name _111EW2_: BlankMacro1
Name _112EW3_: BlankMacro1
Name _113EW3_: BlankMacro1
Name _114FA41010_: [2]data2!#REF!
Name _115FA42006_: [2]data2!#REF!
Name _116FA42055_: [2]data2!#REF!
Name _117FA42062_: [2]data2!#REF!
Name _118FA42762_: [2]data2!#REF!
Name _119FF1_: #REF!
Name _12_??6????: '[1]일위대가(계측기설치)'!#REF!
Name _120fg34444_: BlankMacro1
Name _121fg34444_: BlankMacro1
Name _122G_0Extr: #REF!
Name _123G_0Extr: #REF!
Name _124G_0Extract: #REF!
Name _125G_0Extract: #REF!
Name _126IL1_: #REF!
Name _127l1_: [3]내역서!#REF!
Name _128p1_: #REF!
Name _129Q1_: #REF!
Name _13_0__123Grap: #REF!
Name _130Q1_: #REF!
Name _131Q2_: #REF!
Name _132Q2_: #REF!
Name _133Q3_: #REF!
Name _134Q3_: #REF!
Name _135Q4_: BlankMacro1
Name _136Q4_: BlankMacro1
Name _137Q5_: BlankMacro1
Name _138Q5_: BlankMacro1
Name _139Q6_: BlankMacro1
Name _14_____3_0Crite: #REF!
Name _140Q6_: BlankMacro1
Name _141Q7_: BlankMacro1
Name _142Q7_: BlankMacro1
Name _143Q8_: BlankMacro1
Name _144Q8_: BlankMacro1
Name _145Q9_: BlankMacro1
Name _146Q9_: BlankMacro1
Name _147__0Print_Tit: [4]LD!#REF!
Name _148__0Print_Tit: [4]LD!#REF!
Name _149__0PRINT_TITLES: [4]LD!#REF!
Name _15_____3_0Criteria: #REF!
Name _150__0PRINT_TITLES: [4]LD!#REF!
Name _151단: #REF!
Name _152단: #REF!

Sheet 갑지
C1: 설 계 년 월 일 | E1: 2026. 7. .
B2: 공 사 명 : | C2: 애니메이션문화콘텐츠스쿨 융합캠퍼스 첨단 강의실 구축 통신공사
B4: ◆ 공 사 장 소 : | C4: 국립 순천대학교 인문예술관(E6) 지하 합동강의실(B05)
B5: ◆ 사 업 비
B6: 총 공 사 금 액 : | C6: ="일금 "&NUMBERSTRING(L18,1)&"원정 ( \ "&TEXT(L18,"#,###")&" )" -> 일금 일천오백칠십오만팔천육백원정 ( \ 15,758,600 )
B7: 도 급 공 사 비 : | C7: ="일금 "&NUMBERSTRING(L18,1)&"원정 ( \ "&TEXT(L18,"#,###")&" )" -> 일금 일천오백칠십오만팔천육백원정 ( \ 15,758,600 )
A9: 번호 | B9: 구 분 | C9: 규 격 | D9: 수 량 | E9: 단위 | F9: 재 료 비 | H9: 노 무 비 | J9: 경 비 | L9: 합 계
F10: 단 가 | G10: 금 액 | H10: 단 가 | I10: 금 액 | J10: 단 가 | K10: 금 액
A11: 1 | B11: 재료비 | D11: 1 | E11: 식 | F11: =집계표!E4 -> 3472370 | G11: =D11*F11 -> 3472370 | H11: =집계표!G4 -> 0 | I11: =D11*H11 -> 0 | J11: =집계표!I4 -> 0 | K11: =D11*J11 -> 0 | L11: =G11+I11+K11 -> 3472370
A12: 2 | B12: 노무비 | D12: 1 | E12: 식 | H12: =원가계산서!F9 -> 7414887 | I12: =D12*H12 -> 7414887 | J12: =집계표!I5 -> 0 | K12: =D12*J12 -> 0 | L12: =G12+I12+K12 -> 7414887
A13: 3 | B13: 경비 | D13: 1 | E13: 식 | J13: =원가계산서!F20 -> 1067461 | K13: =D13*J13 -> 1067461 | L13: =G13+I13+K13 -> 1067461
A14: 4 | B14: 일반관리비 | D14: 1 | E14: 식 | L14: =원가계산서!F22 -> 956377
A15: 5 | B15: 이윤 | D15: 1 | E15: 식 | L15: =원가계산서!F23 -> 1415808
A16: 6 | B16: 공급가액 | L16: =원가계산서!F24 -> 14326000
A17: 7 | B17: 부가세 | L17: =L16*0.1 -> 1432600
A18: 8 | B18: 전체금액 | L18: =SUM(L16:L17) -> 15758600

Sheet 원가계산서
A1: 공 사 원 가 계 산 서
A2: 공 사 명 : | B2: =갑지!C2 -> 애니메이션문화콘텐츠스쿨 융합캠퍼스 첨단 강의실 구축 통신공사
A3: 금 액 : | B3: ="일금 "&NUMBERSTRING(F27,1)&"원정 ( \ "&TEXT(F27,"#,###")&" )" -> 일금 일천오백칠십오만팔천육백원정 ( \ 15,758,600 )
A5: 비 목 | F5: 금 액 | G5: 구 성 비 | M5: 비고
A6: 순 공 사 원 가 | B6: 재 료 비 | F6: =집계표!K4 -> 3472370
B7: 노 무 비 | C7: 직 접 노 무 비 | F7: =집계표!K5 -> 6585158 | M7: 30일이하 공사
C8: 간 접 노 무 비 | F8: =INT(F7*L8) -> 829729 | G8: 직접노무비 | K8: * | L8: 0.126
C9: [소 계] | F9: =F7+F8 -> 7414887
B10: 경 비 | C10: 기 계 경 비 | F10: 0
C11: 산 재 보 험 료 | F11: =INT(F9*L11) -> 263969 | G11: 노무비 | K11: * | L11: 0.0356
C12: 고 용 보 험 료 | F12: =INT(F9*L12) -> 74890 | G12: 노무비 | K12: * | L12: 0.0101
C13: 건 강 보 험 료 | F13: =INT(F7*L13) -> 0 | G13: 직접노무비 | K13: *
C14: 노인 장기 요양 보험료 | F14: =INT(F13*L14) -> 0 | G14: 건강보험료 | K14: *
C15: 연 금 보 험 료 | F15: =INT(F7*L15) -> 0 | G15: 직접노무비 | K15: *
C16: 퇴 직 공 제 부 금 비 | F16: =INT(F7*L16) -> 0 | G16: 직접노무비 | K16: *
C17: 산업 안전 보건 관리비 | F17: =(F6+F7)*L17 -> 208191 | G17: (재료비+직노) x요율 | K17: * | L17: 0.0207
C18: 기 타 경 비 | F18: =(F6+F9)*L18 -> 500814 | G18: (재료비+노무비) | K18: * | L18: 0.046
C19: 수 도 광 열 비 | F19: =INT((F6+F9)*L19) -> 19597 | G19: (재료비+노무비) | K19: * | L19: 0.0018
C20: [소 계] | F20: =SUM(F10:F19) -> 1067461
A21: 계 | F21: =INT(F6+F9+F20) -> 11954718
A22: 일 반 관 리 비 | F22: =INT(F21*L22) -> 956377 | G22: (재료비+노무비+경비) | K22: * | L22: 0.08
A23: 이 윤 | F23: =INT((F9+F20+F22)*L23) -> 1415808 | G23: (노무비+경비+일반관리비) | K23: * | L23: 0.15
A24: 공 급 가 액 | F24: =ROUNDDOWN(SUM(F21:F23),-3) -> 14326000 | G24: 천원이하 절삭
A25: 부 가 가 치 세 | F25: =SUM(F24*L25) -> 1432600 | G25: 공급가액의 10% | K25: * | L25: 0.1
A26: 도 급 공 사 비 | F26: =SUM(F24:F25) -> 15758600
A27: 총 공 사 비 | F27: =ROUNDDOWN(SUM(F26:F26),1) -> 15758600
E29: 안전관리비 | G29: (재+직노+도급자관급)*율
E30: 안전관리비 | F30: =INT(SUM(F6+F7)*L17) -> 208190 | G30: (재+직노)*율

Sheet 집계표
A1: =원가계산서!B2 -> 애니메이션문화콘텐츠스쿨 융합캠퍼스 첨단 강의실 구축 통신공사
A2: 품 명 | B2: 규격 | C2: 수량 | D2: 단위 | E2: 재 료 비 | G2: 노 무 비 | I2: 경 비 | K2: 계 | L2: 비 고
E3: 단 가 | F3: 금 액 | G3: 단 가 | H3: 금 액 | I3: 단 가 | J3: 금 액
A4: =내역서!A4 -> 1. 수의계약 내역 | B4: 구조용각형강관외 | C4: 1 | D4: 식 | E4: =내역서!K10 -> 3472370 | F4: =C4*E4 -> 3472370 | K4: =F4+H4+J4 -> 3472370
A5: =내역서!A11 -> 2. 노무비 내역 | B5: 노무비 | C5: 1 | D5: 식 | F5: =C5*E5 -> 0 | G5: =내역서!K26 -> 6585158 | H5: =C5*G5 -> 6585158 | K5: =F5+H5+J5 -> 6585158
A24: 합 계 | F24: =SUM(F4:F23) -> 3472370 | H24: =SUM(H4:H23) -> 6585158 | K24: =SUM(K4:K23) -> 10057528

Sheet 내역서
A1: =집계표!A1 -> 애니메이션문화콘텐츠스쿨 융합캠퍼스 첨단 강의실 구축 통신공사
A2: 품 명 | B2: 규 격 | C2: 단위 | D2: 수량 | E2: 재 료 비 | G2: 노 무 비 | I2: 경 비 | K2: 계 | L2: 비 고
E3: 단 가 | F3: 금 액 | G3: 단 가 | H3: 금 액 | I3: 단 가 | J3: 금 액
A4: 1. 수의계약 내역 | B4: 관급자재외 물품
A5: ='단가내역 및 수량산출'!A4 -> LED전광판 프레임 공사 | B5: ='단가내역 및 수량산출'!B4 -> 구조용각형강관(40X40mm) 1.6T | C5: ='단가내역 및 수량산출'!C4 -> m | D5: ='단가내역 및 수량산출'!D4 -> 27 | E5: ='단가내역 및 수량산출'!E4 -> 2310 | F5: =D5*E5 -> 62370 | K5: =F5+H5+J5 -> 62370
A6: ='단가내역 및 수량산출'!A5 -> 전광판 컨트롤러 | B6: ='단가내역 및 수량산출'!B5 -> 컨트롤러(운영컴퓨터) | C6: ='단가내역 및 수량산출'!C5 -> 대 | D6: ='단가내역 및 수량산출'!D5 -> 1 | E6: ='단가내역 및 수량산출'!E5 -> 2700000 | F6: =D6*E6 -> 2700000 | K6: =F6+H6+J6 -> 2700000
A7: ='단가내역 및 수량산출'!A6 -> HDMI Cable | B7: ='단가내역 및 수량산출'!B6 -> 10m | C7: ='단가내역 및 수량산출'!C6 -> EA | D7: ='단가내역 및 수량산출'!D6 -> 2 | E7: ='단가내역 및 수량산출'!E6 -> 135000 | F7: =D7*E7 -> 270000 | K7: =F7+H7+J7 -> 270000
A8: ='단가내역 및 수량산출'!A7 -> HDMI Cable | B8: ='단가내역 및 수량산출'!B7 -> 30m | C8: ='단가내역 및 수량산출'!C7 -> EA | D8: ='단가내역 및 수량산출'!D7 -> 1 | E8: ='단가내역 및 수량산출'!E7 -> 440000 | F8: =D8*E8 -> 440000 | K8: =F8+H8+J8 -> 440000
A9: ='단가내역 및 수량산출'!A8 -> 종합시험 | B9: ='단가내역 및 수량산출'!B8 -> 연결확인 및 영상점검(시운전등) | C9: ='단가내역 및 수량산출'!C8 -> 식 | D9: ='단가내역 및 수량산출'!D8 -> 1 | E9: 0 | F9: =D9*E9 -> 0 | K9: =F9+H9+J9 -> 0
A10: 관급자재 소계 | K10: =SUM(K5:K9) -> 3472370
A11: 2. 노무비 내역
A12: 노무비 | B12: =일위대가!E1 -> 통신관련기사 | C12: =일위대가!F15 -> 0 | D12: 인 | G12: =노임근거!C4 -> 320449 | H12: =C12*G12 -> 0 | K12: =F12+H12+J12 -> 0
A13: 노무비 | B13: =일위대가!G1 -> 통신관련산업기사 | C13: =일위대가!H15 -> 1.04 | D13: 인 | G13: =노임근거!C5 -> 304509 | H13: =C13*G13 -> 316689 | K13: =F13+H13+J13 -> 316689
A14: 노무비 | B14: =일위대가!I1 -> 통신설비공 | C14: =일위대가!J15 -> 9.4 | D14: 인 | G14: =노임근거!C7 -> 315528 | H14: =C14*G14 -> 2965963 | K14: =F14+H14+J14 -> 2965963
A15: 노무비 | B15: =일위대가!K1 -> 광케이블 설치사 | C15: =일위대가!L15 -> 0 | D15: 인 | G15: =노임근거!C8 -> 471349 | H15: =C15*G15 -> 0 | K15: =F15+H15+J15 -> 0
A16: 노무비 | B16: =일위대가!M1 -> H/W 시험사 | C16: =일위대가!N15 -> 0 | D16: 인 | G16: =노임근거!C9 -> 393090 | H16: =C16*G16 -> 0 | K16: =F16+H16+J16 -> 0
A17: 노무비 | B17: =일위대가!O1 -> S/W 시험사 | C17: =일위대가!P15 -> 1.76 | D17: 인 | G17: =노임근거!C10 -> 446358 | H17: =C17*G17 -> 785590 | K17: =F17+H17+J17 -> 785590
A18: 노무비 | B18: =일위대가!Q1 -> 특별인부 | C18: =일위대가!R15 -> 0 | D18: 인 | G18: =노임근거!C15 -> 226122 | H18: =C18*G18 -> 0 | K18: =F18+H18+J18 -> 0
A19: 노무비 | B19: =일위대가!S1 -> 보통인부 | C19: =일위대가!T15 -> 0 | D19: 인 | G19: =노임근거!C11 -> 172068 | H19: =C19*G19 -> 0 | K19: =F19+H19+J19 -> 0
A20: 노무비 | B20: =일위대가!U1 -> 통신케이블공 | C20: =일위대가!V15 -> 0.48 | D20: 인 | G20: =노임근거!C12 -> 436224 | H20: =C20*G20 -> 209388 | K20: =F20+H20+J20 -> 209388
A21: 노무비 | B21: =일위대가!W1 -> 통신내선공 | C21: =일위대가!X15 -> 8.1 | D21: 인 | G21: =노임근거!C13 -> 284880 | H21: =C21*G21 -> 2307528 | K21: =F21+H21+J21 -> 2307528
A22: 노무비 | B22: =일위대가!Y1 -> 내선전공 | C22: =일위대가!Z15 -> 0 | D22: 인 | G22: =노임근거!F7 -> 273676 | H22: =C22*G22 -> 0 | K22: =F22+H22+J22 -> 0
A23: 노무비 | B23: 플랜트기계설치공 | C23: =일위대가!AB15 -> 0 | D23: 인 | G23: =노임근거!F5 -> 230376 | H23: =C23*G23 -> 0 | K23: =F23+H23+J23 -> 0
A24: 노무비 | B24: 저압케이블전공 | C24: =일위대가!AD15 -> 0 | D24: 인 | G24: =노임근거!F6 -> 304156 | H24: =C24*G24 -> 0 | K24: =F24+H24+J24 -> 0
A25: [공구손료] | B25: 노무비의 3% | H25: =K11*3% -> 0 | K25: =F25+H25+J25 -> 0
A26: 노 무 비 소 계 | K26: =SUM(K12:K25) -> 6585158

Sheet 일위대가
A1: 구 분 공 정 별 | C1: 단위 | D1: 수량 | E1: 통신관련기사 | G1: 통신관련산업기사 | I1: 통신설비공 | K1: 광케이블 설치사 | M1: H/W 시험사 | O1: S/W 시험사 | Q1: 특별인부 | S1: 보통인부 | U1: 통신케이블공 | W1: 통신내선공 | Y1: 내선전공 | AA1: 플랜트기계 설치공 | AC1: 저압케이블전공 | AE1: 비 고
E2: 공량 | F2: 소계 | G2: 공량 | H2: 소계 | I2: 공량 | J2: 소계 | K2: 공량 | L2: 소계 | M2: 공량 | N2: 소계 | O2: 공량 | P2: 소계 | Q2: 공량 | R2: 소계 | S2: 공량 | T2: 소계 | U2: 공량 | V2: 소계 | W2: 공량 | X2: 소계 | Y2: 공량 | Z2: 소계 | AA2: 공량 | AB2: 소계 | AC2: 공량 | AD2: 소계
A3: [합동강의실 시스템 구축 일위대가표]
A4: ='단가내역 및 수량산출'!A3 -> LED전광판 설치 | B4: 설치 | C4: m² | D4: 9.22 | I4: 1.02 | J4: =D4*I4 -> 9.4 | AE4: 정통품 8-5-1
B5: 철거
A6: ='단가내역 및 수량산출'!A4 -> LED전광판 프레임 공사 | B6: 설치 | C6: ='단가내역 및 수량산출'!C4 -> m | D6: ='단가내역 및 수량산출'!D4 -> 27 | W6: 0.3 | X6: =D6*W6 -> 8.1 | AE6: 정통품 3-5-4
B7: 철거
A8: ='단가내역 및 수량산출'!A5 -> 전광판 컨트롤러 | B8: 설치 | C8: ='단가내역 및 수량산출'!C5 -> 대 | D8: ='단가내역 및 수량산출'!D5 -> 1 | G8: 1.04 | O8: 0.88 | P8: =D8*O8 -> 0.88 | AE8: 정통품 8-5-1
B9: 철거
A10: ='단가내역 및 수량산출'!A7 -> HDMI Cable | B10: 설치 | C10: ='단가내역 및 수량산출'!C7 -> EA | D10: 3 | U10: 0.16 | V10: =D10*U10 -> 0.48 | AE10: 정통품 4-8-1
B11: 철거
A12: ='단가내역 및 수량산출'!A8 -> 종합시험 | B12: 설치 | C12: ='단가내역 및 수량산출'!C8 -> 식 | D12: ='단가내역 및 수량산출'!D8 -> 1 | G12: 1.04 | H12: =D12*G12 -> 1.04 | O12: 0.88 | P12: =D12*O12 -> 0.88 | AE12: 정통품 8-5-1
B13: 철거
A15: 소 계 | F15: =SUM(F4:F14) -> 0 | H15: =SUM(H4:H14) -> 1.04 | J15: =SUM(J4:J14) -> 9.4 | L15: =SUM(L4:L14) -> 0 | N15: =SUM(N4:N14) -> 0 | P15: =SUM(P4:P14) -> 1.76 | R15: =SUM(R4:R14) -> 0 | T15: =SUM(T4:T14) -> 0 | V15: =SUM(V4:V14) -> 0.48 | X15: =SUM(X4:X14) -> 8.1 | Z15: =SUM(Z4:Z14)*0.13 -> 0 | AB15: =SUM(AB4:AB14) -> 0 | AD15: =SUM(AD4:AD14) -> 0

Sheet 단가내역 및 수량산출
A1: =갑지!C2 -> 애니메이션문화콘텐츠스쿨 융합캠퍼스 첨단 강의실 구축 통신공사
A2: 합동강의실 | B2: 내역 | C2: 단위 | D2: 수량 | E2: 적용단가 | F2: 물품단가1 (조달식별번호) (설치비여부) | G2: 물품단가2 (에이앤티정보) | H2: 물품단가3 (원테크견적서) | I2: 물품단가4 (현명견적서) | J2: 비고
A3: LED전광판 설치 | B3: 1.25mm, 640×480×52mm | C3: 대 | D3: 29 | E3: 해당없음 | F3: 0 | J3: 9.22m² / 2400 X 3840mm
A4: LED전광판 프레임 공사 | B4: 구조용각형강관(40X40mm) 1.6T | C4: m | D4: 27 | E4: 2310 | F4: 0 | G4: 5000 | H4: 6000 | I4: 6500 | J4: 4,200mm 2개 2,300mm 7개 / 부가세 별도
A5: 전광판 컨트롤러 | B5: 컨트롤러(운영컴퓨터) | C5: 대 | D5: 1 | E5: 2700000 | F5: 0 | G5: 2700000 | H5: 3000000 | I5: 2900000 | J5: 부가세 별도
A6: HDMI Cable | B6: 10m | C6: EA | D6: 2 | E6: 135000 | F6: 135,000 (24150622) (하차도) | G6: 135000 | H6: 150000 | I6: 156000
A7: HDMI Cable | B7: 30m | C7: EA | D7: 1 | E7: 440000 | F7: 440,000 (24453351) (하차도) | G7: 440000 | H7: 500000 | I7: 535000
A8: 종합시험 | B8: 연결확인 및 영상점검(시운전등) | C8: 식 | D8: 1 | E8: 해당없음 | F8: 0

Sheet 물품견적서(에이앤티정보)
A1: 견 적 서
A3: 발 송 번 호 : | C3: ANT2026-071402 | D3: 공 급 자 | E3: 등록번호 | F3: 334-88-02724
A4: 작 성 일 자 : | C4: 46217 | E4: 상 호 | F4: (주)에이앤티정보시스템
A5: 순천대학교 사회과학대학장 貴中 | E5: 대 표 | F5: 서 양 기 (印)
A6: 참조 : 김재홍팀장님 Mail : jang3008@korea.kr | E6: 주 소 | F6: 전남광주통합특별시 목포시 석현로 46 목포벤처문화지원센터 벤처동 303호
A7: TEL : FAX : | E7: 전 화 | F7: TEL: 1899-4784/FAX: 062-973-4786 e-mail : yanggiseo@antinfosys.com
A8: 下記와 같이 見積 합니다. | E8: 업 태 | F8: 정보통신업 | G8: 종 목 | H8: 시스템 통합자문 및 구축
A9: 건 명 | C9: 강의실 LED전광판 부대공사 물품 견적 건
A10: 금 액 | C10: ="일금 "&NUMBERSTRING(G24,1)&" 원정 (\" &TEXT(G24,"#,### ) V.A.T 포함") -> 일금 삼백팔십구만구천오백 원정 (\3,899,500 ) V.A.T 포함
A11: 순위 | B11: 품 명 | C11: 규 격 | D11: 단위 | E11: 수량 | F11: 단 가 | G11: 금 액 | I11: 식별번호
A12: > 합동강의실 부대공사
A13: 1 | B13: LED전광판 설치 | C13: 1.25mm, 640×480×52mm | D13: 대 | E13: 0 | F13: 0 | G13: =E13*F13 -> 0 | I13: 해당없음
A14: 2 | B14: LED전광판 프레임 | C14: 구조용각형강관(40X40mm) 1.6T | D14: m | E14: 27 | F14: 5000 | G14: =E14*F14 -> 135000
A15: 3 | B15: 전광판 컨트롤러 | C15: 컨트롤러(운영컴퓨터) | D15: 대 | E15: 1 | F15: 2700000 | G15: =E15*F15 -> 2700000 | I15: 무상지원
A16: 4 | B16: HDMI Cable | C16: 10m | D16: EA | E16: 2 | F16: 135000 | G16: =E16*F16 -> 270000
A17: 5 | B17: HDMI Cable | C17: 30m | D17: EA | E17: 1 | F17: 440000 | G17: =E17*F17 -> 440000
A18: 6 | G18: =E18*F18 -> 0
A19: 7 | G19: =E19*F19 -> 0
A20: 8 | G20: =E20*F20 -> 0
A21: 9 | G21: =E21*F21 -> 0
A22: 소 계 | G22: =SUM(G13:H21) -> 3545000
A23: 부 가 가 치 세 | G23: =G22*0.1 -> 354500
A24: 합 계 | G24: =SUM(G22:H23) -> 3899500
A25: ** 주요업무 : 정보통신공사, 시스템통합(SI)업, 시스템 컨설팅, CCTV, 주차관제시스템, 무선AP, 전산 네트워크 구축외
A26: ** 담 당 : 서양기 (010-5541-4785)
A27: ** 컨트롤러는 준비실 음향장비 랙에 설치 합니다.
A30: ㈜에이앤티정보시스템(ANTIS)

Sheet 물품견적서(원테크)
A2: 見 積 書
A4: 순천대학교 사회교육대학 貴下
A5: 견 적 번 호 : OT20260714-002 | E5: 전남 순천시 해룡면 상성길 181, 2층
A6: 견 적 일 자 : 2026년 07월 14일 | E6: 대표이사 윤 웅 록
A7: 유 효 기 간 : 견적 후 1개월 | E7: 사업자등록번호 : 5 6 4 - 8 6 - 0 1 9 9 6
A8: 견 적 건 명 : 영상강의실 구축 부대공사 내역서 | E8: Tel.061)726-0882, Fax.0502)0604-0882
A9: 참 조 : 사회대학 | E9: mail : one-tc@daum.net
A10: =IF(ISBLANK(F14),"","견적금액 : 일금"&NUMBERSTRING(G24,1)&"원정(\"&TEXT(G24,"#,###")&")") -> 견적금액 : 일금사백삼십오만팔천이백원정(\4,358,200)
A12: No | B12: 품 명 Commodity & Description | C12: 규 격 Specification | D12: 단위 Unit | E12: 수량 Q'ty | F12: 단 가 Unit Price | G12: 금 액 Amount | H12: 비 고 Remark
A14: 1 | B14: LED전광판 프레임 공사 | C14: 1. 구조용 각 파이프 - 40 X 40mm / 1.6T | D14: m | E14: 27 | F14: 6000 | G14: =E14*F14 -> 162000
A15: =A14+1 -> 2 | B15: 전광판 컨트롤러 | C15: 1. 컨트롤러 | D15: 대 | E15: 1 | F15: 3000000 | G15: =E15*F15 -> 3000000
A16: =A15+1 -> 3 | B16: HDMI케이블 | C16: 1. 10m | D16: EA | E16: 2 | F16: 150000 | G16: =E16*F16 -> 300000
A17: =A16+1 -> 4 | B17: HDMI케이블 | C17: 1. 30m | D17: EA | E17: 1 | F17: 500000 | G17: =E17*F17 -> 500000
G20: =E20*F20 -> 0
B22: 소 계 | G22: =SUM(G14:G21) -> 3962000
B23: 부 가 세 | C23: 0.1 | G23: =G22*0.1 -> 396200
B24: 합 계 | C24: (부가세 포함) | G24: =G22+G23 -> 4358200
A26: ***** 정성을 다하겠습니다. *****

Sheet 물품견적서(현명)
B1: =J4&"HM-Q"&K5&L5&M5&"-"&K4 -> 문서번호 : HM-Q2026714-009
B2: 견 적 서
J4: 문서번호 : | K4: 009 | N4: ex) 001, 002
B5: =J5&K5&" 년 "&L5&"월 "&M5&"일 " -> 견적일 : 2026 년 7월 14일 | F5: ㈜ 현 명 | J5: 견적일 : | K5: 2026 | L5: 7 | M5: 14
F6: 사업자등록번호: 134-86-33147
B7: =K7&" 귀하" -> 순천대학교 사회과학대학 귀하 | F7: 전남 순천시 원가곡1길 6-7 | J7: 받는분 : | K7: 순천대학교 사회과학대학
B8: ="견적명 : "&K8 -> 견적명 : 강의실 LED전광판 부대공사 내역서 | F8: 대표전화 : (061)741-0815 | J8: 견적명 : | K8: 강의실 LED전광판 부대공사 내역서
B9: 다음과 같이 견적 합니다. | F9: F A X : (061)741-0817
B10: =J10&K10&K11 -> 견적담당자 : 서반석 팀장010-6209-0157 | F10: 대표이사 : 김 철 현(인) | J10: 견적담당자 : | K10: 서반석 팀장
B11: =J12&K12 -> E-mail : | F11: 정보통신공사업,전기공사,설비공사 | J11: 핸드폰번호 : | K11: 010-6209-0157
J12: E-mail :
B13: 합 계 금 액 | C13: =" 일 금 : "&NUMBERSTRING(G38,1)&"원정 (\"&TEXT(G38,"#,###---)")&H37 -> 일 금 : 사백삼십일만사천칠백오십원정 (\4,314,750---)
B15: 품 명 | C15: 규 격 | D15: 수 량 | E15: 단 위 | F15: 단 가 | G15: 금 액 | H15: 비 고 | J15: 견적요청 요약 내용 기입
B16: 전광판 프레임 | C16: > 구조용 각 파이프, 40X40mm, 1.6T | D16: 27 | E16: m | F16: 6500 | G16: =D16*F16 -> 175500
B17: 컨트롤러 | C17: > 전광판 컨트롤러 | D17: 1 | E17: 대 | F17: 2900000 | G17: =D17*F17 -> 2900000
B18: 케이블 | C18: > 광케이블 10m | D18: 2 | E18: 개 | F18: 156000 | G18: =D18*F18 -> 312000
B19: 케이블 | C19: > 광케이블 30m | D19: 1 | E19: 개 | F19: 535000 | G19: =D19*F19 -> 535000
G22: =D22*F22 -> 0
G23: =D23*F23 -> 0
G24: =D24*F24 -> 0
G25: =D25*F25 -> 0
G26: =D26*F26 -> 0
G27: =D27*F27 -> 0
G28: =D28*F28 -> 0
G29: =D29*F29 -> 0
G30: =D30*F30 -> 0
G31: =D31*F31 -> 0
G32: =D32*F32 -> 0
G33: =D33*F33 -> 0
... G35: =D35*F35 -> 0
B36: 합계 | G36: =SUM(G16:G35) -> 3922500
B37: 부가가치세 | D37: 10 | E37: % | G37: =G36*0.1 -> 392250
B38: 총 계 | G38: =ROUNDDOWN(SUM(G36:G37),0) -> 4314750
B39: - 거래조건 : 첫거래 선결제 - 유효기간 : 견적일로부터 30일 - 납품기한 : 발주후 30일
B40: - 조달우수, 이노비즈, 메인비즈, 벤처기업, ISO 45001/9001, Q-MARK, 성능인증, G-PASS, TTA, 직접생산업체(CCTV, 전광판/안내판, 차량번호판독기)

Sheet 노임근거
A1: 2026년도 상반기 통신부문 노임 산출 근거
A2: NO. | B2: 직 종 명 | C2: 2026년 상반기노임 | D2: NO. | E2: 직 종 명 | F2: 2026년 상반기노임
B3: 1. 공사부문
A4: 1 | B4: 통신관련기사 | C4: 320449 | D4: 15 | E4: 내장공 | F4: 256883
A5: =A4+1 -> 2 | B5: 통신관련산업기사 | C5: 304509 | D5: 16 | E5: 플랜트기계설치공 | F5: 230376
A6: =A5+1 -> 3 | B6: 통신관련기능사 | C6: 249822 | D6: 17 | E6: 저압케이블전공 | F6: 304156
A7: =A6+1 -> 4 | B7: 통신설비공 | C7: 315528 | D7: 18 | E7: 내선전공 | F7: 273676
A8: =A7+1 -> 5 | B8: 광케이블설치기사 | C8: 471349 | D8: 19
A9: =A8+1 -> 6 | B9: H/W시험사 | C9: 393090 | D9: 20
A10: =A9+1 -> 7 | B10: S/W시험사 | C10: 446358 | D10: 21
A11: =A10+1 -> 8 | B11: 보통인부 | C11: 172068 | D11: 23
A12: =A11+1 -> 9 | B12: 통신케이블공 | C12: 436224 | D12: 24
A13: =A12+1 -> 10 | B13: 통신내선공 | C13: 284880 | D13: 25
A14: =A13+1 -> 11 | B14: 통신외선공 | C14: 408942 | D14: 26
A15: =A14+1 -> 12 | B15: 특별인부 | C15: 226122 | D15: 27
A16: =A15+1 -> 13

Sheet Sheet1
