Workbook
Name __DemandLoad: TRUE
Name __IntlFixup: TRUE
Name _01._본____청: #REF!
Name _02._경_비_실___1: #REF!
Name _03._경_비_실___2: #REF!
Name _04._경_비_실___3: #REF!
Name _05._급__기__탑: #REF!
Name _06._배__기__탑: #REF!
Name _07._부______대: #REF!
Name _1._사급자재대: #REF!
Name _1_3_0Crite: #REF!
Name _10_3__Criteria: #REF!
Name _12G_0Extr: #REF!
Name _14G_0Extract: #REF!
Name _15G__Extr: #REF!
Name _17G__Extr: #REF!
Name _18G__Extract: #REF!
Name _2.토공: #REF!
Name _2_3_0Crite: #REF!
Name _2_3_0Criteria: #REF!
Name _20G__Extract: #REF!
Name _21단: #REF!
Name _3.상수공: #REF!
Name _3G_0Extr: #REF!
Name _４._설___비____공___사: #REF!
Name _4.우수공: #REF!
Name _4_3_0Criteria: #REF!
Name _4G_0Extract: #REF!
Name _5.오수공: #REF!
Name _5_3__Crite: #REF!
Name _6.포장공: #REF!
Name _7.부대공: #REF!
Name _7_3__Crite: #REF!
Name _8.자재운반공: #REF!
Name _8_3__Criteria: #REF!
Name _B22: [6]일위대가!$A$1400:$IV$1413=[6]일위대가!$A$1400
Name _DISTDATA: #REF!
Name _Fir1: #REF!
Name _Fir1: #REF!
Name _Fir2: #REF!
Name _Fir2: #REF!
Name _JJ21: [8]중기일위대가!$J$25
Name _JK21: [8]중기일위대가!$K$25
Name _JN21: [8]중기일위대가!$I$25
Name _K02: [6]일위대가!$A$732:$IV$745=[6]일위대가!$A$732
Name _ll15: #REF!
Name _ll15: #REF!
Name _LP1: [10]부하계산서!#REF!
Name _LP2: [10]부하계산서!#REF!
Name _LP3: [10]부하계산서!#REF!
Name _LPB1: #REF!
Name _LPK1: #REF!
Name _LU1: [10]부하계산서!#REF!
Name _LU2: [10]부하계산서!#REF!
Name _LV01: [10]부하계산서!#REF!
Name _LV02: #REF!
Name _MSM: #REF!
Name _MSO: #REF!
Name _NCCTOTAL: #REF!
Name _O03: [6]일위대가!$A$1516:$IV$1529=[6]일위대가!$A$1516

Sheet 내역집계
A1: 집 계 표
A3: 품 명 | B3: 규 격 | C3: 단위 | D3: 수량 | E3: 합 계 | G3: 재 료 비 | I3: 노 무 비 | K3: 경 비 | M3: 비 고
E4: 단 가 | F4: 금 액 | G4: 단 가 | H4: 금 액 | I4: 단가 | J4: 금 액 | K4: 단가 | L4: 금 액
A5: 1. 상수관망 시설물 영상모니터링시스템 구매 설치
A6: =상세내역!A6 -> 1. 상수관망 시설물 영상모니터링 시스템 | F6: =F9 -> 0
A7: 1) 상수관망 시설물 영상모니터링시스템 구매설치 | C7: 식 | D7: 1 | J7: =상세내역!J19 -> 0
A8: 2) 부가세 | C8: % | D8: 10
A9: 합 계 금 액

Sheet 상세내역
A1: 상 세 내 역 서
A3: 품 명 | B3: 규 격 | C3: 단위 | D3: 수량 | E3: 합 계 | G3: 재 료 비 | I3: 노 무 비 | K3: 경 비 | M3: 비 고
E4: 단 가 | F4: 금 액 | G4: 단 가 | H4: 금 액 | I4: 단가 | J4: 금 액 | K4: 단가 | L4: 금 액
A5: ▣ 프로세스제어반
A6: 1. 상수관망 시설물 영상모니터링 시스템
A7: (1) 자재비
A8: =단가조사표!A5 -> LED DID Video Wall (멀티형) | B8: =단가조사표!B5 -> 55inch, Full HD, 700nits, Bezel To Bezel 0.88㎜ | C8: 대 | D8: 8
A9: =단가조사표!A6 -> DID Video Bracket | B9: =단가조사표!B6 -> 전면유지보수용 | C9: 대 | D9: 8
A10: =단가조사표!A7 -> VIDEO Wall 벽부형 지지대 | B10: =단가조사표!B7 -> 벽부 노출 설치용 고정 지지대 (2단4열, 설치 포함) | C10: 식 | D10: 1
A11: =단가조사표!A8 -> 통합컨트롤러 | B11: =단가조사표!B8 -> Main Control Unit, IP Wall Controller S/W 운영, 24인치모니터 | C11: 대 | D11: 1
A12: =단가조사표!A9 -> IP Wall Controller | B12: =단가조사표!B9 -> 출력: Full-HD(1920*1080) * 8ch, 영상수집/표출/저장/스트리밍 | C12: 대 | D12: 1
A13: =단가조사표!A10 -> IP Wall Encoder | B13: =단가조사표!B10 -> 입력: HDMI 1ch(1920*1080@60Fps), H264/H265전송 | C13: 대 | D13: 2
A14: =단가조사표!A11 -> HDMI 분배기 | B14: =단가조사표!B11 -> 입력: HDMI 1ch, 출력: HDMI 2ch | C14: 대 | D14: 1
A15: =단가조사표!A12 -> HDMI Patch Cable | B15: =단가조사표!B12 -> HDMI(M) to HDMI(M), Optical Cable, 10m | C15: 개 | D15: 8
A16: =단가조사표!A13 -> HDMI Patch Cable | B16: =단가조사표!B13 -> HDMI(M) to HDMI(M) 또는 DVI(M) to HDMI(M), 2m | C16: 개 | D16: 2
A17: =단가조사표!A14 -> UTP Patch Cord | B17: =단가조사표!B14 -> Category 6, 4pair, RJ-45 커넥터 포함 | C17: M | D17: 120
A18: =단가조사표!A15 -> 네트워크스위치 | B18: =단가조사표!B15 -> 스위치허브, L2스위치, 1Gbps, 16포트 | C18: M | D18: 1
C19: 소계

Sheet 일위대가1
A1: 일 위 대 가 표
A2: 품 명 | B2: 규 격 | C2: 단위 | D2: 수량 | E2: 재 료 비 | G2: 노 무 비 | I2: 경 비 | K2: 계 | M2: 비고
E3: 단가 | F3: 금액 | G3: 단가 | H3: 금액 | I3: 단가 | J3: 금액 | K3: 단가 | L3: 금액
A4: 1 | B4: LED DID Video Wall | C4: 식 | D4: 1 | F4: =SUM(F5:F10) -> 0 | H4: =SUM(H6:H11) -> 181363 | L4: =SUM(L5:L11) -> 181363 | M4: 통 9-3
A5: =B4 -> LED DID Video Wall | B5: 55" | C5: EA | D5: 1 | F5: =INT(+D5*E5) -> 0 | K5: =+E5+G5+I5 -> 0 | L5: =+F5+H5+J5 -> 0
A6: 큐브설치 | B6: 통신관련산업기사 | C6: 인 | D6: 0.1 | G6: =VLOOKUP(B6,전기!$B$4:$C$41,2,0) -> 304509 | H6: =INT(+D6*G6) -> 30450 | K6: =+E6+G6+I6 -> 304509 | L6: =+F6+H6+J6 -> 30450
B7: 통신설비공 | C7: 인 | D7: 0.1 | G7: =VLOOKUP(B7,전기!$B$4:$C$41,2,0) -> 315528 | H7: =INT(+D7*G7) -> 31552 | K7: =+E7+G7+I7 -> 315528 | L7: =+F7+H7+J7 -> 31552
A8: 부속장비 | B8: 통신관련산업기사 | C8: 인 | D8: 0.08 | G8: =VLOOKUP(B8,전기!$B$4:$C$41,2,0) -> 304509 | H8: =INT(+D8*G8) -> 24360 | K8: =+E8+G8+I8 -> 304509 | L8: =+F8+H8+J8 -> 24360
B9: 통신설비공 | C9: 인 | D9: 0.08 | G9: =VLOOKUP(B9,전기!$B$4:$C$41,2,0) -> 315528 | H9: =INT(+D9*G9) -> 25242 | K9: =+E9+G9+I9 -> 315528 | L9: =+F9+H9+J9 -> 25242
A10: 시험및조정 | B10: 통신관련산업기사 | C10: 인 | D10: 0.1 | G10: =VLOOKUP(B10,전기!$B$4:$C$41,2,0) -> 304509 | H10: =INT(+D10*G10) -> 30450 | K10: =+E10+G10+I10 -> 304509 | L10: =+F10+H10+J10 -> 30450
B11: H/W시험사 | C11: 인 | D11: 0.1 | G11: =VLOOKUP(B11,전기!$B$4:$C$41,2,0) -> 393090 | H11: =INT(+D11*G11) -> 39309 | K11: =+E11+G11+I11 -> 393090 | L11: =+F11+H11+J11 -> 39309
A13: 2 | B13: DID Video Bracket | C13: EA | D13: 1 | F13: =SUM(F14:F17) -> 0 | H13: =SUM(H14:H17) -> 31838 | L13: =SUM(L14:L17) -> 31838 | M13: 통 9-3
A14: Base Frame | C14: EA | D14: 1 | F14: =INT(+D14*E14) -> 0 | K14: =+E14+G14+I14 -> 0 | L14: =+F14+H14+J14 -> 0
B15: 통신설비공 | C15: 인 | D15: 0.09 | G15: =VLOOKUP(B15,전기!$B$4:$C$41,2,0) -> 315528 | H15: =INT(+D15*G15) -> 28397 | K15: =+E15+G15+I15 -> 315528 | L15: =+F15+H15+J15 -> 28397
B16: 보통인부 | C16: 인 | D16: 0.02 | G16: =VLOOKUP(B16,전기!$B$4:$C$41,2,0) -> 172068 | H16: =INT(+D16*G16) -> 3441 | K16: =+E16+G16+I16 -> 172068 | L16: =+F16+H16+J16 -> 3441
A18: 3 | B18: Wall Controller | C18: EA | D18: 1 | F18: =SUM(F19:F25) -> 0 | H18: =SUM(H19:H24) -> 1656985 | L18: =SUM(L19:L24) -> 1656985 | M18: 통 9-3
A19: IP Wall Controller | C19: EA | D19: 1 | F19: =INT(+D19*E19) -> 0 | K19: =+E19+G19+I19 -> 0 | L19: =+F19+H19+J19 -> 0
A20: 본체설치 | B20: 통신관련산업기사 | C20: 인 | D20: 0.35 | G20: =VLOOKUP(B20,전기!$B$4:$C$41,2,0) -> 304509 | H20: =INT(+D20*G20) -> 106578 | K20: =+E20+G20+I20 -> 304509 | L20: =+F20+H20+J20 -> 106578
B21: 통신설비공 | C21: 인 | D21: 0.35 | G21: =VLOOKUP(B21,전기!$B$4:$C$41,2,0) -> 315528 | H21: =INT(+D21*G21) -> 110434 | K21: =+E21+G21+I21 -> 315528 | L21: =+F21+H21+J21 -> 110434
B22: S/W시험사 | C22: 인 | D22: 0.8 | G22: =VLOOKUP(B22,전기!$B$4:$C$41,2,0) -> 446358 | H22: =INT(+D22*G22) -> 357086 | K22: =+E22+G22+I22 -> 446358 | L22: =+F22+H22+J22 -> 357086
A23: 시험및조정 | B23: S/W시험사 | C23: 인 | D23: 1.29 | G23: =VLOOKUP(B23,전기!$B$4:$C$41,2,0) -> 446358 | H23: =INT(+D23*G23) -> 575801 | K23: =+E23+G23+I23 -> 446358 | L23: =+F23+H23+J23 -> 575801
B24: H/W시험사 | C24: 인 | D24: 1.29 | G24: =VLOOKUP(B24,전기!$B$4:$C$41,2,0) -> 393090 | H24: =INT(+D24*G24) -> 507086 | K24: =+E24+G24+I24 -> 393090 | L24: =+F24+H24+J24 -> 507086
A26: 4 | B26: Wall Encoder | C26: EA | D26: 1 | H26: =SUM(H27:H29) -> 302200 | L26: =SUM(L27:L29) -> 302200 | M26: 통 9-3
A27: VGA Extender | C27: EA | D27: 1
B28: S/W시험사 | C28: 인 | D28: 0.36 | G28: =VLOOKUP(B28,전기!$B$4:$C$41,2,0) -> 446358 | H28: =INT(+D28*G28) -> 160688 | K28: =+E28+G28+I28 -> 446358 | L28: =+F28+H28+J28 -> 160688
B29: H/W시험사 | C29: 인 | D29: 0.36 | G29: =VLOOKUP(B29,전기!$B$4:$C$41,2,0) -> 393090 | H29: =INT(+D29*G29) -> 141512 | K29: =+E29+G29+I29 -> 393090 | L29: =+F29+H29+J29 -> 141512
A31: 5 | B31: UTP Patch Cord | C31: EA | D31: 1 | H31: =SUM(H32:H33) -> 6543 | L31: =SUM(L32:L33) -> 6543 | M31: 통4-3-1
A32: UTP | C32: EA | D32: 1
B33: 통신케이블공 | C33: 인 | D33: 0.015 | G33: =VLOOKUP(B33,전기!$B$4:$C$41,2,0) -> 436224 | H33: =INT(+D33*G33) -> 6543 | K33: =+E33+G33+I33 -> 436224 | L33: =+F33+H33+J33 -> 6543
A35: 6 | B35: 네트워크스위치 | C35: EA | D35: 1 | F35: =SUM(F36:F38) -> 0 | H35: =SUM(H37:H38) -> 247167 | L35: =SUM(L36:L38) -> 247167 | M35: 통8-1-1
A36: 스위치 일반각종 | C36: EA | D36: 1 | F36: =INT(+D36*E36) -> 0 | K36: =+E36+G36+I36 -> 0 | L36: =+F36+H36+J36 -> 0
B37: S/W시험사 | C37: 인 | D37: 0.36 | G37: =VLOOKUP(B37,전기!$B$4:$C$41,2,0) -> 446358 | H37: =INT(+D37*G37) -> 160688 | K37: =+E37+G37+I37 -> 446358 | L37: =+F37+H37+J37 -> 160688
B38: H/W시험사 | C38: 인 | D38: 0.22 | G38: =VLOOKUP(B38,전기!$B$4:$C$41,2,0) -> 393090 | H38: =INT(+D38*G38) -> 86479 | K38: =+E38+G38+I38 -> 393090 | L38: =+F38+H38+J38 -> 86479

Sheet 단가조사표
A1: [ 단가조사목록 : 상수관망 시설물 영상모니터링시스템 구매설치 ]
A2: 품 명 | B2: 규 격 | C2: 단위 | D2: 물가정보(26.07월호) | F2: 견적 A사 | G2: 견적 B사 | H2: 견적 C사 | I2: 적용단가 | J2: 비 고
D3: 단 가 | E3: 페이지
A4: =#REF! -> #REF!
A5: LED DID Video Wall (멀티형) | B5: 55inch, Full HD, 700nits, Bezel To Bezel 0.88㎜ | C5: 대 | F5: 5481370 | G5: 5500000 | H5: 5550000 | I5: =MIN(D5,F5,G5,H5) -> 5481370
A6: DID Video Bracket | B6: 전면유지보수용 | C6: 대 | F6: 382240 | G6: 405000 | H6: 480000 | I6: =MIN(D6,F6,G6,H6) -> 382240
A7: VIDEO Wall 벽부형 지지대 | B7: 벽부 노출 설치용 고정 지지대 (2단4열, 설치 포함) | C7: 식 | F7: 3500000 | G7: 3600000 | H7: 3550000 | I7: =MIN(D7,F7,G7,H7) -> 3500000
A8: 통합컨트롤러 | B8: Main Control Unit, IP Wall Controller S/W 운영, 24인치모니터 | C8: 대 | F8: 3688060 | G8: 4200000 | H8: 4300000 | I8: =MIN(D8,F8,G8,H8) -> 3688060
A9: IP Wall Controller | B9: 출력: Full-HD(1920*1080) * 8ch, 영상수집/표출/저장/스트리밍 | C9: 대 | F9: 16340000 | G9: 18700000 | H9: 17800000 | I9: =MIN(D9,F9,G9,H9) -> 16340000
A10: IP Wall Encoder | B10: 입력: HDMI 1ch(1920*1080@60Fps), H264/H265전송 | C10: 대 | F10: 1290620 | G10: 1300000 | H10: 1320000 | I10: =MIN(D10,F10,G10,H10) -> 1290620
A11: HDMI 분배기 | B11: 입력: HDMI 1ch, 출력: HDMI 2ch | C11: 대 | F11: 223380 | G11: 250000 | H11: 240000 | I11: =MIN(D11,F11,G11,H11) -> 223380
A12: HDMI Patch Cable | B12: HDMI(M) to HDMI(M), Optical Cable, 10m | C12: 개 | F12: 194180 | G12: 200000 | H12: 210000 | I12: =MIN(D12,F12,G12,H12) -> 194180
A13: HDMI Patch Cable | B13: HDMI(M) to HDMI(M) 또는 DVI(M) to HDMI(M), 2m | C13: 개 | F13: 74170 | G13: 85000 | H13: 87000 | I13: =MIN(D13,F13,G13,H13) -> 74170
A14: UTP Patch Cord | B14: Category 6, 4pair, RJ-45 커넥터 포함 | C14: M | F14: 13480 | G14: 15000 | H14: 14500 | I14: =MIN(D14,F14,G14,H14) -> 13480
A15: 네트워크스위치 | B15: 스위치허브, L2스위치, 1Gbps, 16포트 | C15: 식 | F15: 1137170 | G15: 1200000 | H15: 1250000 | I15: =MIN(D15,F15,G15,H15) -> 1137170

Sheet 도면

Sheet 전기
A1: 2026년 상반기 공사부문 노임단가
A2: 공 표 일 | C2: 2026.1.1. | D2: 2025.9.1 | E2: 2025.1.1 | F2: 2024.9.1
A3: 번 호 직 종 명
A4: 1001 | B4: 작업반장 | C4: 215907 | D4: 214661 | E4: 214661 | F4: 213033
A5: 1002 | B5: 보통인부 | C5: 172068 | D5: 171037 | E5: 171037 | F5: 169804
A6: 1003 | B6: 특별인부 | C6: 226122 | D6: 224490 | E6: 224490 | F6: 221506
A7: 1039 | B7: 배관공 | C7: 247897 | D7: 239439 | E7: 239439 | F7: 238145
A8: 1040 | B8: 배관공(수도) | C8: 262580 | D8: 257390 | E8: 257390 | F8: 250572
A9: 1044 | B9: 보온공 | C9: #N/A | D9: #N/A | E9: #N/A | F9: #N/A
A10: 1056 | B10: 플랜트배관공 | C10: 320480 | D10: 324800 | E10: 324800 | F10: 324130
A11: 1060 | B11: 플랜트기계설치공 | C11: 230376 | D11: 238846 | E11: 238846 | F11: 236640
A12: 1075 | B12: 내선전공 | C12: 273676 | D12: 273539 | E12: 273539 | F12: 268915
A13: 1076 | B13: 특고압케이블전공 | C13: 440616 | D13: 439248 | E13: 439248 | F13: 436458
A14: 1077 | B14: 고압케이블전공 | C14: 373640 | D14: 372997 | E14: 372997 | F14: 370529
A15: 1078 | B15: 저압케이블전공 | C15: 304156 | D15: 303632 | E15: 303632 | F15: 300337
A16: 1079 | B16: 송전전공 | C16: 638460 | D16: 637453 | E16: 637453 | F16: 627960
A17: 1080 | B17: 송전활선전공 | C17: 675173 | D17: 673714 | E17: 673714 | F17: 662709
A18: 1081 | B18: 배전전공 | C18: 414968 | D18: 413173 | E18: 413173 | F18: 408559
A19: 1082 | B19: 배전활선전공 | C19: 562439 | D19: 560837 | E19: 560837 | F19: 557881
A20: 1083 | B20: 플랜트전공 | C20: 269759 | D20: 271800 | E20: 271800 | F20: 266062
A21: 1084 | B21: 계장공 | C21: 319449 | D21: 318902 | E21: 318902 | F21: 315484
... A41: 5007 | B41: 코킹공 | C41: 209131 | D41: 208590 | E41: 208590 | F41: 206732
