Workbook
Name __________a10: [0]!__________a10
Name __________a11: [0]!__________a11
Name __________a12: [0]!__________a12
Name __________a13: [0]!__________a13
Name __________a14: [0]!__________a14
Name __________a15: [0]!__________a15
Name __________a16: [0]!__________a16
Name __________a17: [0]!__________a17
Name __________a2: [0]!__________a2
Name __________a3: [0]!__________a3
Name __________a4: [0]!__________a4
Name __________a5: [0]!__________a5
Name __________a6: [0]!__________a6
Name __________a7: [0]!__________a7
Name __________a8: [0]!__________a8
Name __________a9: [0]!__________a9
Name __________JHY1: [0]!__________JHY1
Name __________JHY2: [0]!__________JHY2
Name __________LKS1: [0]!__________LKS1
Name __________LKS2: [0]!__________LKS2
Name __________RL6: #REF!
Name __________RL6: #REF!
Name __________RL7: #REF!
Name __________RL7: #REF!
Name __________s1: #REF!
Name __________s1: #REF!
Name __________SCH1: #REF!
Name __________SCH1: #REF!
Name __________SH10: #REF!
Name __________SH10: #REF!
Name __________SH11: #REF!
Name __________SH11: #REF!
Name __________SH12: #REF!
Name __________SH12: #REF!
Name __________SH13: #REF!
Name __________SH13: #REF!
Name __________SH14: #REF!
Name __________SH14: #REF!
Name __________SH15: #REF!
Name __________SH15: #REF!
Name __________SH16: #REF!
Name __________SH16: #REF!
Name __________SH17: #REF!
Name __________SH17: #REF!
Name __________SH18: #REF!
Name __________SH18: #REF!
Name __________SH19: #REF!
Name __________SH19: #REF!
Name __________SH20: #REF!
Name __________SH20: #REF!
Name __________SH8: #REF!
Name __________SH8: #REF!
Name __________SH9: #REF!
Name __________SH9: #REF!
Name __________sp1: #REF!
Name __________sp1: #REF!
Name _________SBB1: #REF!
Name _________SBB2: #REF!
Name _________SBB2: #REF!
Name _________SBB3: #REF!

Sheet 갑지
A1: 과장 | E1: 심사 | I1: 설계 | M1: 설계 | N1: 2026년 | O1: 04월 | P1: 일 | Q1: 결 재
M2: 심사 | N2: =N1 -> 2026년 | O2: =O1 -> 04월 | P2: 일 | Q2: 월 일
A4: 설 계 서
B5: =공사원가계산서!A2 -> 공사명 : 2026년 교통사고 잦은 곳 개선사업 교통안전표지 공사(남부)
B6: 구 분 | G6: 금 액 | P6: 비 고
B7: 총 공 사 비 | G7: ="一金 "&NUMBERSTRING(L7,1)&"원 정" -> 一金 사천일백육십삼만사천일백구십원 정 | L7: =SUM(L10:N11) -> 41634190
C8: 공 급 가 액 | G8: ="一金 "&NUMBERSTRING(L8,1)&"원 정" -> 一金 삼천일백사십만원 정 | L8: =공사원가계산서!D28 -> 31400000
B9: 도 급 비 | C9: 부 가 가 치 세 | G9: ="一金 "&NUMBERSTRING(L9,1)&"원 정" -> 一金 삼백일십사만원 정 | L9: =공사원가계산서!D29 -> 3140000
C10: 계 | G10: ="一金 "&NUMBERSTRING(L10,1)&"원 정" -> 一金 삼천사백오십사만원 정 | L10: =SUM(L8:N9) -> 34540000
B11: 관 급 자 재 비 | G11: ="一金 "&NUMBERSTRING(L11,1)&"원 정" -> 一金 칠백구만사천일백구십원 정 | L11: =공사원가계산서!D31 -> 7094190
B13: 공사개요
B14: ○ 교통안전표지판 설치 및 유지보수 1식
B15: ○ 철주 및 부착대 설치 및 유지보수 1식

Sheet 공사원가계산서
A1: 공 사 원 가 계 산 서
A2: 공사명 : 2026년 교통사고 잦은 곳 개선사업 교통안전표지 공사(남부)
A3: 구 분 비 목 | D3: 금 액 | E3: 구성비(%) | F3: 적 용 요 율 | G3: 비 고
A4: 순 공 사 원 가 | B4: 재 료 비 | C4: 직접재료비 | D4: =내역서!I188 -> 13991356 | E4: =D4/$D$30 -> 0.4050769
C5: 간접재료비
C6: 작업부산물(△)
C7: 소 계 | D7: =SUM(D4:D6) -> 13991356 | E7: =D7/$D$30 -> 0.4050769
B8: 노 무 비 | C8: 직접노무비 | D8: =내역서!K188 -> 5543642 | E8: =D8/$D$30 -> 0.16049919
C9: 간접노무비 | D9: =TRUNC(D8*F9%,0) -> 1058835 | E9: =D9/$D$30 -> 0.030655327 | F9: 19.1
C10: 소 계 | D10: =SUM(D8+D9) -> 6602477 | E10: =D10/$D$30 -> 0.19115452
B11: 제 경 비 | C11: 기계경비 | D11: =내역서!M188 -> 3641610 | E11: =D11/$D$30 -> 0.10543167
C12: 산재보험료 | D12: =TRUNC(D10*F12%,0) -> 235048 | E12: =D12/$D$30 -> 0.0068050955 | F12: 3.56
C13: 고용보험료 | D13: =TRUNC(D10*F13%,0) -> 66685 | E13: =D13/$D$30 -> 0.0019306601 | F13: 1.01
C14: 건강보험료 | D14: =TRUNC(D8*F14%,0) -> 199293 | E14: =D14/$D$30 -> 0.0057699189 | F14: 3.595 | G14: 공사기간1개월이상
C15: 연금보험료 | D15: =TRUNC(D8*F15%,0) -> 263322 | E15: =D15/$D$30 -> 0.0076236827 | F15: 4.75 | G15: 공사기간1개월이상
C16: 기타경비 | D16: =TRUNC((D7+D10)*F16%,0) -> 1132660 | E16: =D16/$D$30 -> 0.032792704 | F16: 5.5
C17: 퇴직공제부금비 | D17: =TRUNC(D8*F17%,0)*0 -> 0 | E17: =D17/$D$30 -> 0 | F17: 2.3 | G17: 1억이상
C18: 산업안전보건관리비 | D18: =TRUNC(SUM(D7,D8)*F18%,0) -> 404374 | E18: =D18/$D$30 -> 0.011707412 | F18: 2.07 | G18: 2천이상
C19: 노인장기요양보험료 | D19: =TRUNC(D14*F19%,0) -> 26187 | E19: =TRUNC(D19/$D$30,4) -> 0.0007 | F19: 13.14 | G19: 공사기간1개월이상
C20: 건설기계대여대금 지급보증액발급금액 | D20: =TRUNC(SUM(D4,D8,D11)*F20%,0) -> 23176 | E20: =TRUNC(D20/$D$30,4) -> 0.0006 | F20: 0.1 | G20: 1억이상 3개월 이상
C21: 환경보전비 | D21: =TRUNC(SUM(D4,D8,D11)*F21%,0) -> 185412 | E21: =TRUNC(D21/$D$30,4) -> 0.0053 | F21: 0.8
C22: 소 계 | D22: =SUM(D11:D21) -> 6177767 | E22: =D22/$D$30 -> 0.17885834
B23: 계 | D23: =SUM(D7+D10+D22) -> 26771600 | E23: =D23/$D$30 -> 0.77508975
A24: 일반관리비 | D24: =TRUNC(SUM(D7,D10,D22)*F24%,0) -> 2141728 | E24: =D24/$D$30 -> 0.06200718 | F24: 8
A25: 이윤 | D25: =TRUNC(SUM(D10,D22,D24)*F25%,0)-6077 -> 2232218 | E25: =D25/$D$30 -> 0.064627041 | F25: 15 | G25: 1789
A26: 고용개선지원비 (PS단가) | D26: =고용개선지원비!F12 -> 513285 | F26: 고용개선지원비 공사원가 반영 및 집행 매뉴얼 개정(ver9.0) | G26: 5천이상 또는 3개월이상
A27: 고 재 처 리 | D27: =고재처리!I104 -> -258831
A28: 공급가액 | D28: =TRUNC(SUM(D23:D27)) -> 31400000 | E28: =D28/$D$30 -> 0.90909091
A29: 부가가치세 | D29: =TRUNC(D28*10%,0) -> 3140000 | E29: =D29/$D$30 -> 0.090909091
A30: 도급비 | D30: =SUM(D28:D29) -> 34540000 | E30: =D30/$D$30 -> 1
A31: 관급자재비 | D31: =관급자재!F13 -> 7094190
A32: 총공사비 | D32: =SUM(D30:D31) -> 41634190

Sheet 관급자재
A1: 관 급 자 재 (LED)
A2: =공사원가계산서!A2 -> 공사명 : 2026년 교통사고 잦은 곳 개선사업 교통안전표지 공사(남부)
A3: 위 치 | B3: 규 격 | C3: 수 량 | D3: 단위 | E3: 관급자재비 | G3: 식별번호
E4: 단 가 | F4: 금 액
A5: 교대입구삼거리 | B5: 311(910*910) | C5: 1 | D5: EA | E5: 1940000 | F5: =C5*E5 -> 1940000 | G5: 25121285
A6: 은천로 | B6: 322,416(700*900) | C6: 2 | D6: EA | E6: 2558000 | F6: =C6*E6 -> 5116000 | G6: 25121411
A7: 소계 | F7: =SUM(F5:F6) -> 7056000
A8: 조달수수료 | F8: =ROUNDDOWN(F7*0.54%,-1) -> 38100
A10: 소 계 | F10: =F7 -> 7056000
A11: 조달수수료 | C11: 1 | D11: 식 | F11: =F8+90 -> 38190
A13: 합 계 | F13: =SUM(F10+F11) -> 7094190

Sheet 고재처리
A1: 내 역 서
A2: =공사원가계산서!A2 -> 공사명 : 2026년 교통사고 잦은 곳 개선사업 교통안전표지 공사(남부)
A3: 호 표 | B3: 품 명 | D3: 규 격 | F3: 단위 | G3: 수량 | H3: 합 계 | J3: 비고
H4: 단 가 | I4: 금 액
A6: 1-2-1 | B6: 규격 삼각△-고재 | C6: 교체 | D6: 900 고휘도 | E6: 반사지 | F6: 매 | G6: =내역서!G7 -> 0 | H6: =일위대가!O13 -> -7506 | I6: =G6*H6 -> 0
A7: 1-4-1 | B7: 규격 삼각∇-고재 | C7: 교체 | D7: 800 고휘도 | E7: 반사지 | F7: 매 | G7: =내역서!G9 -> 0 | H7: =일위대가!O22 -> -6210 | I7: =G7*H7 -> 0
A8: 1-6-1 | B8: 규격 원형-고재 | C8: 교체 | D8: Φ600 고휘도 | E8: 반사지 | F8: 매 | G8: =내역서!G11 -> 4 | H8: =일위대가!O31 -> -6458 | I8: =G8*H8 -> -25832
A9: 1-8-1 | B9: 규격 오각-고재 | C9: 교체 | D9: 600*720 고휘도 | E9: 반사지 | F9: 매 | G9: =내역서!G13 -> 0 | H9: =일위대가!O40 -> -6355 | I9: =G9*H9 -> 0
A10: 1-10-1 | B10: 규격 사각-고재 | C10: 교체 | D10: 400*400 고휘도 | E10: 반사지 | F10: 매 | G10: =내역서!G15 -> 0 | H10: =일위대가!O49 -> -4571 | I10: =G10*H10 -> 0
A11: 1-12-1 | B11: 규격 사각-고재 | C11: 교체 | D11: 600*200 고휘도 | E11: 반사지 | F11: 매 | G11: =내역서!G17 -> 0 | H11: =일위대가!O58 -> -3955 | I11: =G11*H11 -> 0
A12: 1-14-1 | B12: 규격 사각-고재 | C12: 교체 | D12: 600*300 고휘도 | E12: 반사지 | F12: 매 | G12: =내역서!G19 -> 0 | H12: =일위대가!O67 -> -4879 | I12: =G12*H12 -> 0
A13: 1-16-1 | B13: 규격 사각-고재 | C13: 교체 | D13: 600×400고휘도 | E13: 반사지 | F13: 매 | G13: =내역서!G21 -> 0 | H13: =일위대가!O76 -> -5141 | I13: =G13*H13 -> 0
A14: 1-18-1 | B14: 규격 사각-고재 | C14: 교체 | D14: 550*600 고휘도 | E14: 반사지 | F14: 매 | G14: =내역서!G23 -> 0 | H14: =일위대가!O85 -> -7187 | I14: =G14*H14 -> 0
A15: 1-20-1 | B15: 규격 사각-고재 | C15: 교체 | D15: 600*600 고휘도 | E15: 반사지 | F15: 매 | G15: =내역서!G25 -> 0 | H15: =일위대가!O94 -> -7649 | I15: =G15*H15 -> 0
A16: 1-22-1 | B16: 규격 팔각-고재 | C16: 교체 | D16: 600*600 고휘도 | E16: 반사지 | F16: 매 | G16: =내역서!G27 -> 0 | H16: =일위대가!O103 -> -6315 | I16: =G16*H16 -> 0
A17: 1-26-1 | B17: 규격 T형부착대-고재 | C17: 교체 | D17: 1매용 백관 | F17: SET | G17: =내역서!G31 -> 2 | H17: =일위대가!O118 -> -1265 | I17: =G17*H17 -> -2530
A18: 1-27-1 | B18: 규격 T형부착대-고재 | C18: 교체 | D18: 2매용 백관 | F18: SET | G18: =내역서!G32 -> 0 | H18: =일위대가!O124 -> -2214 | I18: =G18*H18 -> 0
A19: 1-28-1 | B19: 규격 T형부착대-고재 | C19: 교체 | D19: 3매용 백관 | F19: SET | G19: =내역서!G33 -> 0 | H19: =일위대가!O130 -> -2847 | I19: =G19*H19 -> 0 | L19: (1-29~34)규격 T형 부착대 STS 신설교체 삭제
A20: 1-30-1 | B20: 규격 T형부착대-고재 | C20: 철거 | D20: 1-23h,24h,25h | F20: SET | G20: =내역서!G35 -> 4 | H20: =일위대가!O139 -> -2108 | I20: =G20*H20 -> -8432
A21: 1-34-1 | B21: 규격 철주-고재 | C21: 철거 | D21: 1-31h,32h,33h | F21: SET | G21: =내역서!G39 -> 1 | H21: =일위대가!O172 -> -6123 | I21: =G21*H21 -> -6123
A22: 1-35-1 | B22: 철주 기초제거 (T=30cm)-고재 | C22: 철거 | F22: SET | G22: =내역서!G40 -> 1 | H22: =일위대가!O183 -> -538 | I22: =G22*H22 -> -538
A23: 2-2-1 | B23: 중형 삼각△-고재 | C23: 교체 | D23: 1170 고휘도 | E23: 반사지 | F23: 매 | G23: =내역서!G42 -> 0 | H23: =일위대가!O192 -> -12696 | I23: =G23*H23 -> 0
A24: 2-4-1 | B24: 중형 삼각△-고재 | C24: 교체 | D24: 1350 고휘도 | E24: 반사지 | F24: 매 | G24: =내역서!G44 -> 0 | H24: =일위대가!O210 -> -10536 | I24: =G24*H24 -> 0
A25: 2-6-1 | B25: 중형 삼각∇-고재 | C25: 교체 | D25: 1040 고휘도 | E25: 반사지 | F25: 매 | G25: =내역서!G46 -> 0 | H25: =일위대가!O210 -> -10536 | I25: =G25*H25 -> 0
A26: 2-8-1 | B26: 중형 삼각∇-고재 | C26: 교체 | D26: 1200 고휘도 | E26: 반사지 | F26: 매 | G26: =내역서!G48 -> 0 | H26: =일위대가!O219 -> -13414 | I26: =G26*H26 -> 0
A27: 2-10-1 | B27: 중형 원형-고재 | C27: 교체 | D27: Φ780 고휘도 | E27: 반사지 | F27: 매 | G27: =내역서!G50 -> 1 | H27: =일위대가!O228 -> -10924 | I27: =G27*H27 -> -10924
A28: 2-12-1 | B28: 중형 원형-고재 | C28: 교체 | D28: Φ900 고휘도 | E28: 반사지 | F28: 매 | G28: =내역서!G52 -> 1 | H28: =일위대가!O237 -> -13605 | I28: =G28*H28 -> -13605
A29: 2-14-1 | B29: 중형 오각-고재 | C29: 교체 | D29: 780*936 고휘도 | E29: 반사지 | F29: 매 | G29: =내역서!G54 -> 0 | H29: =일위대가!O246 -> -13360 | I29: =G29*H29 -> 0
A30: 2-16-1 | B30: 중형 오각-고재 | C30: 교체 | D30: 900*1080 고휘도 | E30: 반사지 | F30: 매 | G30: =내역서!G56 -> 0 | H30: =일위대가!O255 -> -13372 | I30: =G30*H30 -> 0
A31: 2-18-1 | B31: 규격 사각-고재 | C31: 교체 | D31: 600*900 고휘도 | E31: 반사지 | F31: 매 | G31: =내역서!G58 -> 0 | H31: =일위대가!O264 -> -11970 | I31: =G31*H31 -> 0
A32: 2-20-1 | B32: 중형 사각-고재 | C32: 교체 | D32: 780*260 고휘도 | E32: 반사지 | F32: 매 | G32: =내역서!G60 -> 0 | H32: =일위대가!O273 -> -5822 | I32: =G32*H32 -> 0
A33: 2-22-1 | B33: 중형 사각-고재 | C33: 교체 | D33: 780*390 고휘도 | E33: 반사지 | F33: 매 | G33: =내역서!G62 -> 0 | H33: =일위대가!O282 -> -7384 | I33: =G33*H33 -> 0
A34: 2-24-1 | B34: 중형 사각-고재 | C34: 교체 | D34: 715*780 고휘도 | E34: 반사지 | F34: 매 | G34: =내역서!G64 -> 0 | H34: =일위대가!O291 -> -12730 | I34: =G34*H34 -> 0
A35: 2-26-1 | B35: 중형 사각-고재 | C35: 교체 | D35: 780*780 고휘도 | E35: 반사지 | F35: 매 | G35: =내역서!G66 -> 0 | H35: =일위대가!O300 -> -13509 | I35: =G35*H35 -> 0
A36: 2-28-1 | B36: 중형 사각-고재 | C36: 교체 | D36: 900*300 고휘도 | E36: 반사지 | F36: 매 | G36: =내역서!G68 -> 1 | H36: =일위대가!O309 -> -7250 | I36: =G36*H36 -> -7250
A37: 2-30-1 | B37: 중형 사각-고재 | C37: 교체 | D37: 900*450 고휘도 | E37: 반사지 | F37: 매 | G37: =내역서!G70 -> 0 | H37: =일위대가!O318 -> -9328 | I37: =G37*H37 -> 0
A38: 2-32-1 | B38: 중형 사각-고재 | C38: 교체 | D38: 780*1170 고휘도 | E38: 반사지 | F38: 매 | G38: =내역서!G72 -> 0 | H38: =일위대가!O327 -> -20292 | I38: =G38*H38 -> 0
A39: 2-34-1 | B39: 중형 팔각-고재 | C39: 교체 | D39: 780*780 고휘도 | E39: 반사지 | F39: 매 | G39: =내역서!G74 -> 0 | H39: =일위대가!O336 -> -9815 | I39: =G39*H39 -> 0
A40: 2-36-1 | B40: 중형 팔각-고재 | C40: 교체 | D40: 900*900 고휘도 | E40: 반사지 | F40: 매 | G40: =내역서!G76 -> 0 | H40: =일위대가!O345 -> -12571 | I40: =G40*H40 -> 0
A41: 2-39-1 | B41: 중형 T형부착대-고재 | C41: 교체 | D41: 1매용 백관 | F41: SET | G41: =내역서!G79 -> 0 | H41: =일위대가!O357 -> -1739 | I41: =G41*H41 -> 0
A42: 2-40-1 | B42: 중형 T형부착대-고재 | C42: 교체 | D42: 2매용 백관 | F42: SET | G42: =내역서!G80 -> 2 | H42: =일위대가!O363 -> -3163 | I42: =G42*H42 -> -6326
A43: 2-42-1 | B43: 중형 T형부착대-고재 | C43: 철거 | D43: 2-41h,42h | F43: SET | G43: =내역서!G82 -> 2 | H43: =일위대가!O372 -> -2451 | I43: =G43*H43 -> -4902
A44: 2-44-1 | B44: 중형 교차로대-고재 | C44: 교체 | D44: 백관 | F44: SET | G44: =내역서!G84 -> 0 | H44: =일위대가!O381 -> -8337 | I44: =G44*H44 -> 0
A45: 2-46-1 | B45: 중형 교차로대-고재 | C45: 철거 | D45: 백관 | F45: SET | G45: =내역서!G86 -> 1 | H45: =일위대가!O390 -> -8337 | I45: =G45*H45 -> -8337
A46: 2-49-1 | B46: 중형 철주-고재 | C46: 철거 | D46: 2-47h, 48h | F46: SET | G46: =내역서!G89 -> 0 | H46: =일위대가!O414 -> -6863 | I46: =G46*H46 -> 0
A47: 2-51-1 | B47: 조립식테이퍼폴(기초제외)-고재 | C47: 교체 | D47: 백관 | F47: SET | G47: =내역서!G91 -> 0 | H47: =일위대가!O429 -> -44329 | I47: =G47*H47 -> 0
A48: 2-53-1 | B48: 조립식테이퍼폴-고재 | C48: 철거 | D48: 백관 | F48: SET | G48: =내역서!G93 -> 0 | H48: =일위대가!O444 -> -44329 | I48: =G48*H48 -> 0
A49: 2-54-1 | B49: 테이퍼폴 기초제거 (T=30cm)-고재 | C49: 철거 | D49: 2-53h | F49: SET | G49: =내역서!G94 -> 0 | H49: =일위대가!O455 -> -687 | I49: =G49*H49 -> 0
A50: 2-55-1 | B50: 철주 기초제거(전체)-고재 | C50: 철거 | F50: SET | G50: =내역서!G95 -> 0 | H50: =일위대가!O466 -> -538 | I50: =G50*H50 -> 0
A51: 3-3-1 | B51: 대형 안전표지판-고재 | C51: 교체 | D51: 3000*2000 고+고 | E51: 반사지 | F51: 매 | G51: =내역서!G98 -> 0 | H51: =일위대가!O478 -> -174035 | I51: =G51*H51 -> 0
A52: 3-4-1 | B52: 대형 안전표지판-고재 | C52: 교체 | D52: 3000*2000 고+초고 | E52: 반사지 | F52: 매 | G52: =내역서!G99 -> 0 | H52: =일위대가!O484 -> -174035 | I52: =G52*H52 -> 0
A53: 3-7-1 | B53: 대형 안전표지판-고재 | C53: 교체 | D53: 3600*2200 고+고 | E53: 반사지 | F53: 매 | G53: =내역서!G102 -> 0 | H53: =일위대가!O496 -> -227430 | I53: =G53*H53 -> 0
A54: 3-8-1 | B54: 대형 안전표지판-고재 | C54: 교체 | D54: 3600*2200 고+초고 | E54: 반사지 | F54: 매 | G54: =내역서!G103 -> 0 | H54: =일위대가!O502 -> -227430 | I54: =G54*H54 -> 0
A55: 3-9-1 | B55: 대형편주 기초제거 (T=30cm)-고재 | C55: 철거 | F55: SET | G55: =내역서!G104 -> 0 | H55: =일위대가!O513 -> -3192 | I55: =G55*H55 -> 0
A56: 4-2-1 | B56: 사각-고재 | C56: 교체 | D56: 900*900 고휘도 | E56: 반사지 | F56: 매 | G56: =내역서!G112 -> 0 | H56: =일위대가!O540 -> -17994 | I56: =G56*H56 -> 0 | L56: 1-1. 도로표지 제작·설치 및 관리지침에 따른 지주 규격
A57: 4-4-1 | B57: 사각 (어린이보호)-고재 | C57: 교체 | D57: 700*1190 고+초고 | E57: 반사지 | F57: 매 | G57: =내역서!G114 -> 0 | H57: =일위대가!O549 -> -18354 | I57: =G57*H57 -> 0 | L57: * 기존 설계 지주규격과 도로표지 지침에 따른 지주 규격이 상당히 다름
A58: 4-6-1 | B58: 사각 (어린이보호)-고재 | C58: 교체 | D58: 1000*1700 고+초고 | E58: 반사지 | F58: 매 | G58: =내역서!G116 -> 0 | H58: =일위대가!O558 -> -33003 | I58: =G58*H58 -> 0 | L58: * 기존 설계 지주규격에 대한 구조검토 관련 근거를 찾을 수 없음
A59: 4-8-1 | B59: 사각 (어린이보호)-고재 | C59: 교체 | D59: 1500*1000 고+초고 | E59: 반사지 | F59: 매 | G59: =내역서!G118 -> 1 | H59: =일위대가!O567 -> -29925 | I59: =G59*H59 -> -29925 | L59: 재료산출 시트 | M59: 1.1×1.1×1.6 | N59: 1.1×1.1×1.6
A60: 4-10-1 | B60: 사각 (어린이보호)-고재 | C60: 교체 | D60: 3000*2000 고+초고 | E60: 반사지 | F60: 매 | G60: =내역서!G120 -> 0 | H60: =일위대가!O576 -> -155253 | I60: =G60*H60 -> 0 | L60: * 기초크기가 각 시트 별로 다름
A61: 4-12-1 | B61: T형부착대 (어린이보호)-고재 | C61: 교체 | D61: 2단, 1300L | F61: SET | G61: =내역서!G122 -> 0 | H61: =일위대가!O585 -> -3480 | I61: =G61*H61 -> 0
A62: 4-14-1 | B62: T형부착대 (어린이보호)-고재 | C62: 철거 | D62: 2단, 1300L | F62: SET | G62: =내역서!G124 -> 0 | H62: =일위대가!O594 -> -3480 | I62: =G62*H62 -> 0 | L62: 구 분 | M62: Φ216.5 | N62: Φ267.4
A63: 4-16-1 | B63: 철주 (어린이보호)-고재 | C63: 철거 | D63: Φ76.3×4.5m | F63: SET | G63: =내역서!G126 -> 0 | H63: =일위대가!O609 -> -9723 | I63: =G63*H63 -> 0
A64: 6-1-1 | B64: 규격 삼각△-고재 | C64: 철거 | D64: 900 | F64: 매 | G64: =내역서!G134 -> 0 | H64: =일위대가!O636 -> -7506 | I64: =G64*H64 -> 0
A65: 6-2-1 | B65: 규격 삼각∇-고재 | C65: 철거 | D65: 800 | F65: 매 | G65: =내역서!G135 -> 0 | H65: =일위대가!O642 -> -6210 | I65: =G65*H65 -> 0
A66: 6-3-1 | B66: 규격 원형-고재 | C66: 철거 | D66: Φ600 | F66: 매 | G66: =내역서!G136 -> 1 | H66: =일위대가!O648 -> -6458 | I66: =G66*H66 -> -6458
A67: 6-4-1 | B67: 규격 오각-고재 | C67: 철거 | D67: 600*720 | F67: 매 | G67: =내역서!G137 -> 2 | H67: =일위대가!O654 -> -6355 | I67: =G67*H67 -> -12710
A68: 6-5-1 | B68: 규격 사각-고재 | C68: 철거 | D68: 400*150 | F68: 매 | G68: =내역서!G138 -> 0 | H68: =일위대가!O660 -> -1815 | I68: =G68*H68 -> 0
A69: 6-6-1 | B69: 규격 사각-고재 | C69: 철거 | D69: 400*300 | F69: 매 | G69: =내역서!G139 -> 0 | H69: =일위대가!O666 -> -3630 | I69: =G69*H69 -> 0
A70: 6-7-1 | B70: 규격 사각-고재 | C70: 철거 | D70: 400*400 | F70: 매 | G70: =내역서!G140 -> 0 | H70: =일위대가!O672 -> -4571 | I70: =G70*H70 -> 0
A71: 6-8-1 | B71: 규격 사각-고재 | C71: 철거 | D71: 600*200 | F71: 매 | G71: =내역서!G141 -> 0 | H71: =일위대가!O678 -> -3955 | I71: =G71*H71 -> 0
A72: 6-9-1 | B72: 규격 사각-고재 | C72: 철거 | D72: 600*300 | F72: 매 | G72: =내역서!G142 -> 0 | H72: =일위대가!O684 -> -4879 | I72: =G72*H72 -> 0
A73: 6-10-1 | B73: 규격 사각-고재 | C73: 철거 | D73: 550*600 | F73: 매 | G73: =내역서!G143 -> 0 | H73: =일위대가!O690 -> -7187 | I73: =G73*H73 -> 0
A74: 6-11-1 | B74: 규격 사각-고재 | C74: 철거 | D74: 600*600 | F74: 매 | G74: =내역서!G144 -> 1 | H74: =일위대가!O696 -> -7649 | I74: =G74*H74 -> -7649
A75: 6-12-1 | B75: 규격 팔각-고재 | C75: 철거 | D75: 600*600 | F75: 매 | G75: =내역서!G145 -> 0 | H75: =일위대가!O702 -> -6315 | I75: =G75*H75 -> 0
A76: 6-13-1 | B76: 중형 삼각△-고재 | C76: 철거 | D76: 1170 | F76: 매 | G76: =내역서!G146 -> 0 | H76: =일위대가!O708 -> -12696 | I76: =G76*H76 -> 0
A77: 6-14-1 | B77: 중형 삼각△-고재 | C77: 철거 | D77: 1350 | F77: 매 | G77: =내역서!G147 -> 0 | H77: =일위대가!O714 -> -16207 | I77: =G77*H77 -> 0
A78: 6-15-1 | B78: 중형 삼각∇-고재 | C78: 철거 | D78: 1040 | F78: 매 | G78: =내역서!G148 -> 0 | H78: =일위대가!O720 -> -10536 | I78: =G78*H78 -> 0
A79: 6-16-1 | B79: 중형 삼각∇-고재 | C79: 철거 | D79: 1200 | F79: 매 | G79: =내역서!G149 -> 0 | H79: =일위대가!O726 -> -13414 | I79: =G79*H79 -> 0
A80: 6-17-1 | B80: 중형 원형-고재 | C80: 철거 | D80: Φ780 | F80: 매 | G80: =내역서!G150 -> 1 | H80: =일위대가!O732 -> -10924 | I80: =G80*H80 -> -10924
A81: 6-18-1 | B81: 중형 원형-고재 | C81: 철거 | D81: Φ900 | F81: 매 | G81: =내역서!G151 -> 3 | H81: =일위대가!O738 -> -13605 | I81: =G81*H81 -> -40815
A82: 6-19-1 | B82: 중형 오각-고재 | C82: 철거 | D82: 780*936 | F82: 매 | G82: =내역서!G152 -> 0 | H82: =일위대가!O744 -> -13360 | I82: =G82*H82 -> 0
A83: 6-20-1 | B83: 중형 오각-고재 | C83: 철거 | D83: 900*1080 | F83: 매 | G83: =내역서!G153 -> 0 | H83: =일위대가!O750 -> -13372 | I83: =G83*H83 -> 0
A84: 6-21-1 | B84: 중형 사각-고재 | C84: 철거 | D84: 520*195 | F84: 매 | G84: =내역서!G154 -> 0 | H84: =일위대가!O756 -> -3739 | I84: =G84*H84 -> 0
A85: 6-22-1 | B85: 중형 사각-고재 | C85: 철거 | D85: 520*520 | F85: 매 | G85: =내역서!G155 -> 0 | H85: =일위대가!O762 -> -6104 | I85: =G85*H85 -> 0
A86: 6-23-1 | B86: 중형 사각-고재 | C86: 철거 | D86: 520*390 | F86: 매 | G86: =내역서!G156 -> 0 | H86: =일위대가!O768 -> -5064 | I86: =G86*H86 -> 0
A87: 6-24-1 | B87: 중형 사각-고재 | C87: 철거 | D87: 600*225 | F87: 매 | G87: =내역서!G157 -> 0 | H87: =일위대가!O774 -> -4517 | I87: =G87*H87 -> 0
A88: 6-25-1 | B88: 규격 사각-고재 | C88: 철거 | D88: 600*900 | F88: 매 | G88: =내역서!G158 -> 0 | H88: =일위대가!O780 -> -11970 | I88: =G88*H88 -> 0
A89: 6-26-1 | B89: 중형 사각-고재 | C89: 철거 | D89: 780*260 | F89: 매 | G89: =내역서!G159 -> 0 | H89: =일위대가!O786 -> -5822 | I89: =G89*H89 -> 0
A90: 6-27-1 | B90: 중형 사각-고재 | C90: 철거 | D90: 780*390 | F90: 매 | G90: =내역서!G160 -> 0 | H90: =일위대가!O792 -> -7384 | I90: =G90*H90 -> 0
A91: 6-28-1 | B91: 중형 사각-고재 | C91: 철거 | D91: 715*780 | F91: 매 | G91: =내역서!G161 -> 0 | H91: =일위대가!O798 -> -12730 | I91: =G91*H91 -> 0
A92: 6-29-1 | B92: 중형 사각-고재 | C92: 철거 | D92: 780*780 | F92: 매 | G92: =내역서!G162 -> 1 | H92: =일위대가!O804 -> -13509 | I92: =G92*H92 -> -13509
A93: 6-30-1 | B93: 중형 사각-고재 | C93: 철거 | D93: 900*300 | F93: 매 | G93: =내역서!G163 -> 3 | H93: =일위대가!O810 -> -7250 | I93: =G93*H93 -> -21750
A94: 6-31-1 | B94: 중형 사각-고재 | C94: 철거 | D94: 900*450 | F94: 매 | G94: =내역서!G164 -> 0 | H94: =일위대가!O816 -> -9328 | I94: =G94*H94 -> 0
A95: 6-32-1 | B95: 중형 사각-고재 | C95: 철거 | D95: 780*1170 | F95: 매 | G95: =내역서!G165 -> 1 | H95: =일위대가!O822 -> -20292 | I95: =G95*H95 -> -20292
A96: 6-33-1 | B96: 중형 팔각-고재 | C96: 철거 | D96: 780*780 | F96: 매 | G96: =내역서!G166 -> 0 | H96: =일위대가!O828 -> -9815 | I96: =G96*H96 -> 0
A97: 6-34-1 | B97: 중형 팔각-고재 | C97: 철거 | D97: 900*900 | F97: 매 | G97: =내역서!G167 -> 0 | H97: =일위대가!O834 -> -12571 | I97: =G97*H97 -> 0
A98: 6-35-1 | B98: 대형 안전표지판-고재 | C98: 철거 | D98: 3000*2000 | F98: 매 | G98: =내역서!G168 -> 0 | H98: =일위대가!O840 -> -174035 | I98: =G98*H98 -> 0
A99: 6-36-1 | B99: 대형 안전표지판-고재 | C99: 철거 | D99: 3600*2200 | F99: 매 | G99: =내역서!G169 -> 0 | H99: =일위대가!O846 -> -227430 | I99: =G99*H99 -> 0
A100: 6-37-1 | B100: 사각 (어린이보호)-고재 | C100: 철거 | D100: 900*900 | F100: 매 | G100: =내역서!G170 -> 0 | H100: =일위대가!O852 -> -17994 | I100: =G100*H100 -> 0
A101: 6-38-1 | B101: 사각 (어린이보호)-고재 | C101: 철거 | D101: 700*1190 | F101: 매 | G101: =내역서!G171 -> 0 | H101: =일위대가!O858 -> -18354 | I101: =G101*H101 -> 0
...

Sheet 내역서
A1: 내 역 서
A2: =공사원가계산서!A2 -> 공사명 : 2026년 교통사고 잦은 곳 개선사업 교통안전표지 공사(남부)
A3: 호 표 | B3: 품 명 | D3: 규 격 | F3: 단위 | G3: 수량 | H3: 직 접 재 료 비 | J3: 직 접 노 무 비 | L3: 기 계 경 비 | N3: 합 계 | P3: 비고
H4: 단 가 | I4: 금 액 | J4: 단 가 | K4: 금 액 | L4: 단 가 | M4: 금 액 | N4: 단 가 | O4: 금 액
A6: 1-1 | B6: 규격 삼각△ | C6: 신설 | D6: 900 고휘도 | E6: 반사지 | F6: 매 | H6: =일위대가!I7 -> 93000 | I6: =TRUNC(G6*H6) -> 0 | J6: =일위대가!K7 -> 28377 | K6: =TRUNC(G6*J6) -> 0 | L6: =일위대가!M7 -> 567 | M6: =TRUNC(G6*L6) -> 0 | N6: =H6+J6+L6 -> 121944 | O6: =I6+K6+M6 -> 0
A7: 1-2 | B7: 규격 삼각△ | C7: 교체 | D7: 900 고휘도 | E7: 반사지 | F7: 매 | H7: =일위대가!I10 -> 93000 | I7: =TRUNC(G7*H7) -> 0 | J7: =일위대가!K10 -> 66365 | K7: =TRUNC(G7*J7) -> 0 | L7: =일위대가!M10 -> 85387 | M7: =TRUNC(G7*L7) -> 0 | N7: =H7+J7+L7 -> 244752 | O7: =I7+K7+M7 -> 0
A8: 1-3 | B8: 규격 삼각∇ | C8: 신설 | D8: 800 고휘도 | E8: 반사지 | F8: 매 | G8: 3 | H8: =일위대가!I16 -> 96000 | I8: =TRUNC(G8*H8) -> 288000 | J8: =일위대가!K16 -> 28377 | K8: =TRUNC(G8*J8) -> 85131 | L8: =일위대가!M16 -> 567 | M8: =TRUNC(G8*L8) -> 1701 | N8: =H8+J8+L8 -> 124944 | O8: =I8+K8+M8 -> 374832
A9: 1-4 | B9: 규격 삼각∇ | C9: 교체 | D9: 800 고휘도 | E9: 반사지 | F9: 매 | H9: =일위대가!I19 -> 96000 | I9: =TRUNC(G9*H9) -> 0 | J9: =일위대가!K19 -> 66365 | K9: =TRUNC(G9*J9) -> 0 | L9: =일위대가!M19 -> 85387 | M9: =TRUNC(G9*L9) -> 0 | N9: =H9+J9+L9 -> 247752 | O9: =I9+K9+M9 -> 0
A10: 1-5 | B10: 규격 원형 | C10: 신설 | D10: Φ600 고휘도 | E10: 반사지 | F10: 매 | G10: 6 | H10: =일위대가!I25 -> 86000 | I10: =TRUNC(G10*H10) -> 516000 | J10: =일위대가!K25 -> 28377 | K10: =TRUNC(G10*J10) -> 170262 | L10: =일위대가!M25 -> 567 | M10: =TRUNC(G10*L10) -> 3402 | N10: =H10+J10+L10 -> 114944 | O10: =I10+K10+M10 -> 689664
A11: 1-6 | B11: 규격 원형 | C11: 교체 | D11: Φ600 고휘도 | E11: 반사지 | F11: 매 | G11: 4 | H11: =일위대가!I28 -> 86000 | I11: =TRUNC(G11*H11) -> 344000 | J11: =일위대가!K28 -> 66365 | K11: =TRUNC(G11*J11) -> 265460 | L11: =일위대가!M28 -> 85387 | M11: =TRUNC(G11*L11) -> 341548 | N11: =H11+J11+L11 -> 237752 | O11: =I11+K11+M11 -> 951008
A12: 1-7 | B12: 규격 오각 | C12: 신설 | D12: 600*720 고휘도 | E12: 반사지 | F12: 매 | G12: 4 | H12: =일위대가!I34 -> 92000 | I12: =TRUNC(G12*H12) -> 368000 | J12: =일위대가!K34 -> 28377 | K12: =TRUNC(G12*J12) -> 113508 | L12: =일위대가!M34 -> 567 | M12: =TRUNC(G12*L12) -> 2268 | N12: =H12+J12+L12 -> 120944 | O12: =I12+K12+M12 -> 483776
A13: 1-8 | B13: 규격 오각 | C13: 교체 | D13: 600*720 고휘도 | E13: 반사지 | F13: 매 | H13: =일위대가!I37 -> 92000 | I13: =TRUNC(G13*H13) -> 0 | J13: =일위대가!K37 -> 66365 | K13: =TRUNC(G13*J13) -> 0 | L13: =일위대가!M37 -> 85387 | M13: =TRUNC(G13*L13) -> 0 | N13: =H13+J13+L13 -> 243752 | O13: =I13+K13+M13 -> 0
A14: 1-9 | B14: 규격 사각 | C14: 신설 | D14: 400*400 고휘도 | E14: 반사지 | F14: 매 | H14: =일위대가!I43 -> 56000 | I14: =TRUNC(G14*H14) -> 0 | J14: =일위대가!K43 -> 28377 | K14: =TRUNC(G14*J14) -> 0 | L14: =일위대가!M43 -> 567 | M14: =TRUNC(G14*L14) -> 0 | N14: =H14+J14+L14 -> 84944 | O14: =I14+K14+M14 -> 0
A15: 1-10 | B15: 규격 사각 | C15: 교체 | D15: 400*400 고휘도 | E15: 반사지 | F15: 매 | H15: =일위대가!I46 -> 56000 | I15: =TRUNC(G15*H15) -> 0 | J15: =일위대가!K46 -> 66365 | K15: =TRUNC(G15*J15) -> 0 | L15: =일위대가!M46 -> 85387 | M15: =TRUNC(G15*L15) -> 0 | N15: =H15+J15+L15 -> 207752 | O15: =I15+K15+M15 -> 0
A16: 1-11 | B16: 규격 사각 | C16: 신설 | D16: 600*200 고휘도 | E16: 반사지 | F16: 매 | G16: 1 | H16: =일위대가!I52 -> 55000 | I16: =TRUNC(G16*H16) -> 55000 | J16: =일위대가!K52 -> 28377 | K16: =TRUNC(G16*J16) -> 28377 | L16: =일위대가!M52 -> 567 | M16: =TRUNC(G16*L16) -> 567 | N16: =H16+J16+L16 -> 83944 | O16: =I16+K16+M16 -> 83944
A17: 1-12 | B17: 규격 사각 | C17: 교체 | D17: 600*200 고휘도 | E17: 반사지 | F17: 매 | H17: =일위대가!I55 -> 55000 | I17: =TRUNC(G17*H17) -> 0 | J17: =일위대가!K55 -> 66365 | K17: =TRUNC(G17*J17) -> 0 | L17: =일위대가!M55 -> 85387 | M17: =TRUNC(G17*L17) -> 0 | N17: =H17+J17+L17 -> 206752 | O17: =I17+K17+M17 -> 0
A18: 1-13 | B18: 규격 사각 | C18: 신설 | D18: 600*300 고휘도 | E18: 반사지 | F18: 매 | H18: =일위대가!I61 -> 56000 | I18: =TRUNC(G18*H18) -> 0 | J18: =일위대가!K61 -> 28377 | K18: =TRUNC(G18*J18) -> 0 | L18: =일위대가!M61 -> 567 | M18: =TRUNC(G18*L18) -> 0 | N18: =H18+J18+L18 -> 84944 | O18: =I18+K18+M18 -> 0
A19: 1-14 | B19: 규격 사각 | C19: 교체 | D19: 600*300 고휘도 | E19: 반사지 | F19: 매 | H19: =일위대가!I64 -> 56000 | I19: =TRUNC(G19*H19) -> 0 | J19: =일위대가!K64 -> 66365 | K19: =TRUNC(G19*J19) -> 0 | L19: =일위대가!M64 -> 85387 | M19: =TRUNC(G19*L19) -> 0 | N19: =H19+J19+L19 -> 207752 | O19: =I19+K19+M19 -> 0
A20: 1-15 | B20: 규격 사각 | C20: 신설 | D20: 600×400고휘도 | E20: 반사지 | F20: 매 | H20: =일위대가!I70 -> 63000 | I20: =TRUNC(G20*H20) -> 0 | J20: =일위대가!K70 -> 28377 | K20: =TRUNC(G20*J20) -> 0 | L20: =일위대가!M70 -> 567 | M20: =TRUNC(G20*L20) -> 0 | N20: =H20+J20+L20 -> 91944 | O20: =I20+K20+M20 -> 0
A21: 1-16 | B21: 규격 사각 | C21: 교체 | D21: 600×400고휘도 | E21: 반사지 | F21: 매 | H21: =일위대가!I73 -> 63000 | I21: =TRUNC(G21*H21) -> 0 | J21: =일위대가!K73 -> 66365 | K21: =TRUNC(G21*J21) -> 0 | L21: =일위대가!M73 -> 85387 | M21: =TRUNC(G21*L21) -> 0 | N21: =H21+J21+L21 -> 214752 | O21: =I21+K21+M21 -> 0
A22: 1-17 | B22: 규격 사각 | C22: 신설 | D22: 550*600 고휘도 | E22: 반사지 | F22: 매 | G22: 2 | H22: =일위대가!I79 -> 91000 | I22: =TRUNC(G22*H22) -> 182000 | J22: =일위대가!K79 -> 28377 | K22: =TRUNC(G22*J22) -> 56754 | L22: =일위대가!M79 -> 567 | M22: =TRUNC(G22*L22) -> 1134 | N22: =H22+J22+L22 -> 119944 | O22: =I22+K22+M22 -> 239888
A23: 1-18 | B23: 규격 사각 | C23: 교체 | D23: 550*600 고휘도 | E23: 반사지 | F23: 매 | H23: =일위대가!I82 -> 91000 | I23: =TRUNC(G23*H23) -> 0 | J23: =일위대가!K82 -> 66365 | K23: =TRUNC(G23*J23) -> 0 | L23: =일위대가!M82 -> 85387 | M23: =TRUNC(G23*L23) -> 0 | N23: =H23+J23+L23 -> 242752 | O23: =I23+K23+M23 -> 0
A24: 1-19 | B24: 규격 사각 | C24: 신설 | D24: 600*600 고휘도 | E24: 반사지 | F24: 매 | G24: 4 | H24: =일위대가!I88 -> 115000 | I24: =TRUNC(G24*H24) -> 460000 | J24: =일위대가!K88 -> 28377 | K24: =TRUNC(G24*J24) -> 113508 | L24: =일위대가!M88 -> 567 | M24: =TRUNC(G24*L24) -> 2268 | N24: =H24+J24+L24 -> 143944 | O24: =I24+K24+M24 -> 575776
A25: 1-20 | B25: 규격 사각 | C25: 교체 | D25: 600*600 고휘도 | E25: 반사지 | F25: 매 | H25: =일위대가!I91 -> 115000 | I25: =TRUNC(G25*H25) -> 0 | J25: =일위대가!K91 -> 66365 | K25: =TRUNC(G25*J25) -> 0 | L25: =일위대가!M91 -> 85387 | M25: =TRUNC(G25*L25) -> 0 | N25: =H25+J25+L25 -> 266752 | O25: =I25+K25+M25 -> 0
A26: 1-21 | B26: 규격 팔각 | C26: 신설 | D26: 600*600 고휘도 | E26: 반사지 | F26: 매 | H26: =일위대가!I97 -> 99000 | I26: =TRUNC(G26*H26) -> 0 | J26: =일위대가!K97 -> 28377 | K26: =TRUNC(G26*J26) -> 0 | L26: =일위대가!M97 -> 567 | M26: =TRUNC(G26*L26) -> 0 | N26: =H26+J26+L26 -> 127944 | O26: =I26+K26+M26 -> 0
A27: 1-22 | B27: 규격 팔각 | C27: 교체 | D27: 600*600 고휘도 | E27: 반사지 | F27: 매 | H27: =일위대가!I100 -> 99000 | I27: =TRUNC(G27*H27) -> 0 | J27: =일위대가!K100 -> 66365 | K27: =TRUNC(G27*J27) -> 0 | L27: =일위대가!M100 -> 85387 | M27: =TRUNC(G27*L27) -> 0 | N27: =H27+J27+L27 -> 250752 | O27: =I27+K27+M27 -> 0
A28: 1-23 | B28: 규격 T형부착대 | C28: 신설 | D28: 1매용 백관(분체) | F28: SET | G28: 6 | H28: =일위대가!I106 -> 150000 | I28: =TRUNC(G28*H28) -> 900000 | J28: =일위대가!K106 -> 28377 | K28: =TRUNC(G28*J28) -> 170262 | L28: =일위대가!M106 -> 24638 | M28: =TRUNC(G28*L28) -> 147828 | N28: =H28+J28+L28 -> 203015 | O28: =I28+K28+M28 -> 1218090
A29: 1-24 | B29: 규격 T형부착대 | C29: 신설 | D29: 2매용 백관(분체) | F29: SET | G29: 6 | H29: =일위대가!I109 -> 200000 | I29: =TRUNC(G29*H29) -> 1200000 | J29: =일위대가!K109 -> 28377 | K29: =TRUNC(G29*J29) -> 170262 | L29: =일위대가!M109 -> 24638 | M29: =TRUNC(G29*L29) -> 147828 | N29: =H29+J29+L29 -> 253015 | O29: =I29+K29+M29 -> 1518090
A30: 1-25 | B30: 규격 T형부착대 | C30: 신설 | D30: 3매용 백관 | F30: SET | H30: =일위대가!I112 -> 250000 | I30: =TRUNC(G30*H30) -> 0 | J30: =일위대가!K112 -> 28377 | K30: =TRUNC(G30*J30) -> 0 | L30: =일위대가!M112 -> 24638 | M30: =TRUNC(G30*L30) -> 0 | N30: =H30+J30+L30 -> 303015 | O30: =I30+K30+M30 -> 0
A31: 1-26 | B31: 규격 T형부착대 | C31: 교체 | D31: 1매용 백관(분체) | F31: SET | G31: 2 | H31: =일위대가!I115 -> 150000 | I31: =TRUNC(G31*H31) -> 300000 | J31: =일위대가!K115 -> 66365 | K31: =TRUNC(G31*J31) -> 132730 | L31: =일위대가!M115 -> 89589 | M31: =TRUNC(G31*L31) -> 179178 | N31: =H31+J31+L31 -> 305954 | O31: =I31+K31+M31 -> 611908
A32: 1-27 | B32: 규격 T형부착대 | C32: 교체 | D32: 2매용 백관 | F32: SET | H32: =일위대가!I121 -> 200000 | I32: =TRUNC(G32*H32) -> 0 | J32: =일위대가!K121 -> 66365 | K32: =TRUNC(G32*J32) -> 0 | L32: =일위대가!M121 -> 89589 | M32: =TRUNC(G32*L32) -> 0 | N32: =H32+J32+L32 -> 355954 | O32: =I32+K32+M32 -> 0
A33: 1-28 | B33: 규격 T형부착대 | C33: 교체 | D33: 3매용 백관 | F33: SET | H33: =일위대가!I127 -> 250000 | I33: =TRUNC(G33*H33) -> 0 | J33: =일위대가!K127 -> 66365 | K33: =TRUNC(G33*J33) -> 0 | L33: =일위대가!M127 -> 89589 | M33: =TRUNC(G33*L33) -> 0 | N33: =H33+J33+L33 -> 405954 | O33: =I33+K33+M33 -> 0 | R33: (1-29~34)규격 T형 부착대 STS 신설교체 삭제
A34: 1-29 | B34: 규격 T형부착대 | C34: 이설 | D34: 1-23h,24h,25h | F34: SET | H34: =일위대가!I133 -> 0 | I34: =TRUNC(G34*H34) -> 0 | J34: =일위대가!K133 -> 66365 | K34: =TRUNC(G34*J34) -> 0 | L34: =일위대가!M133 -> 89589 | M34: =TRUNC(G34*L34) -> 0 | N34: =H34+J34+L34 -> 155954 | O34: =I34+K34+M34 -> 0
A35: 1-30 | B35: 규격 T형부착대 | C35: 철거 | D35: 1-23h,24h,25h | F35: SET | G35: 4 | H35: =일위대가!I136 -> 0 | I35: =TRUNC(G35*H35) -> 0 | J35: =일위대가!K136 -> 36723 | K35: =TRUNC(G35*J35) -> 146892 | L35: =일위대가!M136 -> 31885 | M35: =TRUNC(G35*L35) -> 127540 | N35: =H35+J35+L35 -> 68608 | O35: =I35+K35+M35 -> 274432
A36: 1-31 | B36: 규격 철주 | C36: 신설 | D36: 1매용 백관(L=3.0m)(분체) | F36: SET | G36: 1 | H36: =일위대가!I148 -> 173294 | I36: =TRUNC(G36*H36) -> 173294 | J36: =일위대가!K148 -> 120942 | K36: =TRUNC(G36*J36) -> 120942 | L36: =일위대가!M148 -> 50452 | M36: =TRUNC(G36*L36) -> 50452 | N36: =H36+J36+L36 -> 344688 | O36: =I36+K36+M36 -> 344688
A37: 1-32 | B37: 규격 철주 | C37: 신설 | D37: 2매용 백관(L=3.6m)(분체) | F37: SET | G37: 1 | H37: =일위대가!I157 -> 213294 | I37: =TRUNC(G37*H37) -> 213294 | J37: =일위대가!K157 -> 120942 | K37: =TRUNC(G37*J37) -> 120942 | L37: =일위대가!M157 -> 50452 | M37: =TRUNC(G37*L37) -> 50452 | N37: =H37+J37+L37 -> 384688 | O37: =I37+K37+M37 -> 384688
A38: 1-33 | B38: 규격 철주 | C38: 신설 | D38: 3매용 백관(L=4.2m)(분체) | F38: SET | G38: 1 | H38: =일위대가!I166 -> 263294 | I38: =TRUNC(G38*H38) -> 263294 | J38: =일위대가!K166 -> 120942 | K38: =TRUNC(G38*J38) -> 120942 | L38: =일위대가!M166 -> 50452 | M38: =TRUNC(G38*L38) -> 50452 | N38: =H38+J38+L38 -> 434688 | O38: =I38+K38+M38 -> 434688
A39: 1-34 | B39: 규격 철주 | C39: 철거 | D39: 1-31h,32h,33h | F39: SET | G39: 1 | H39: =일위대가!I169 -> 0 | I39: =TRUNC(G39*H39) -> 0 | J39: =일위대가!K169 -> 26012 | K39: =TRUNC(G39*J39) -> 26012 | L39: =일위대가!M169 -> 24256 | M39: =TRUNC(G39*L39) -> 24256 | N39: =H39+J39+L39 -> 50268 | O39: =I39+K39+M39 -> 50268
A40: 1-35 | B40: 철주 기초제거 (T=30cm) | C40: 철거 | F40: SET | G40: 1 | H40: =일위대가!I180 -> 1680 | I40: =TRUNC(G40*H40) -> 1680 | J40: =일위대가!K180 -> 22621 | K40: =TRUNC(G40*J40) -> 22621 | L40: =일위대가!M180 -> 2036 | M40: =TRUNC(G40*L40) -> 2036 | N40: =H40+J40+L40 -> 26337 | O40: =I40+K40+M40 -> 26337
A41: 2-1 | B41: 중형 삼각△ | C41: 신설 | D41: 1170 고휘도 | E41: 반사지 | F41: 매 | H41: =일위대가!I186 -> 139000 | I41: =TRUNC(G41*H41) -> 0 | J41: =일위대가!K186 -> 28377 | K41: =TRUNC(G41*J41) -> 0 | L41: =일위대가!M186 -> 567 | M41: =TRUNC(G41*L41) -> 0 | N41: =H41+J41+L41 -> 167944 | O41: =I41+K41+M41 -> 0
A42: 2-2 | B42: 중형 삼각△ | C42: 교체 | D42: 1170 고휘도 | E42: 반사지 | F42: 매 | H42: =일위대가!I189 -> 139000 | I42: =TRUNC(G42*H42) -> 0 | J42: =일위대가!K189 -> 66365 | K42: =TRUNC(G42*J42) -> 0 | L42: =일위대가!M189 -> 85387 | M42: =TRUNC(G42*L42) -> 0 | N42: =H42+J42+L42 -> 290752 | O42: =I42+K42+M42 -> 0
A43: 2-3 | B43: 중형 삼각△ | C43: 신설 | D43: 1350 고휘도 | E43: 반사지 | F43: 매 | H43: =일위대가!I195 -> 201000 | I43: =TRUNC(G43*H43) -> 0 | J43: =일위대가!K195 -> 28377 | K43: =TRUNC(G43*J43) -> 0 | L43: =일위대가!M195 -> 567 | M43: =TRUNC(G43*L43) -> 0 | N43: =H43+J43+L43 -> 229944 | O43: =I43+K43+M43 -> 0
A44: 2-4 | B44: 중형 삼각△ | C44: 교체 | D44: 1350 고휘도 | E44: 반사지 | F44: 매 | H44: =일위대가!I198 -> 201000 | I44: =TRUNC(G44*H44) -> 0 | J44: =일위대가!K198 -> 66365 | K44: =TRUNC(G44*J44) -> 0 | L44: =일위대가!M198 -> 85387 | M44: =TRUNC(G44*L44) -> 0 | N44: =H44+J44+L44 -> 352752 | O44: =I44+K44+M44 -> 0
A45: 2-5 | B45: 중형 삼각∇ | C45: 신설 | D45: 1040 고휘도 | E45: 반사지 | F45: 매 | H45: =일위대가!I204 -> 172000 | I45: =TRUNC(G45*H45) -> 0 | J45: =일위대가!K204 -> 28377 | K45: =TRUNC(G45*J45) -> 0 | L45: =일위대가!M204 -> 567 | M45: =TRUNC(G45*L45) -> 0 | N45: =H45+J45+L45 -> 200944 | O45: =I45+K45+M45 -> 0
A46: 2-6 | B46: 중형 삼각∇ | C46: 교체 | D46: 1040 고휘도 | E46: 반사지 | F46: 매 | H46: =일위대가!I207 -> 172000 | I46: =TRUNC(G46*H46) -> 0 | J46: =일위대가!K207 -> 66365 | K46: =TRUNC(G46*J46) -> 0 | L46: =일위대가!M207 -> 85387 | M46: =TRUNC(G46*L46) -> 0 | N46: =H46+J46+L46 -> 323752 | O46: =I46+K46+M46 -> 0
A47: 2-7 | B47: 중형 삼각∇ | C47: 신설 | D47: 1200 고휘도 | E47: 반사지 | F47: 매 | H47: =일위대가!I213 -> 189000 | I47: =TRUNC(G47*H47) -> 0 | J47: =일위대가!K213 -> 28377 | K47: =TRUNC(G47*J47) -> 0 | L47: =일위대가!M213 -> 567 | M47: =TRUNC(G47*L47) -> 0 | N47: =H47+J47+L47 -> 217944 | O47: =I47+K47+M47 -> 0
A48: 2-8 | B48: 중형 삼각∇ | C48: 교체 | D48: 1200 고휘도 | E48: 반사지 | F48: 매 | H48: =일위대가!I216 -> 189000 | I48: =TRUNC(G48*H48) -> 0 | J48: =일위대가!K216 -> 66365 | K48: =TRUNC(G48*J48) -> 0 | L48: =일위대가!M216 -> 85387 | M48: =TRUNC(G48*L48) -> 0 | N48: =H48+J48+L48 -> 340752 | O48: =I48+K48+M48 -> 0
A49: 2-9 | B49: 중형 원형 | C49: 신설 | D49: Φ780 고휘도 | E49: 반사지 | F49: 매 | G49: 2 | H49: =일위대가!I222 -> 105000 | I49: =TRUNC(G49*H49) -> 210000 | J49: =일위대가!K222 -> 28377 | K49: =TRUNC(G49*J49) -> 56754 | L49: =일위대가!M222 -> 567 | M49: =TRUNC(G49*L49) -> 1134 | N49: =H49+J49+L49 -> 133944 | O49: =I49+K49+M49 -> 267888
A50: 2-10 | B50: 중형 원형 | C50: 교체 | D50: Φ780 고휘도 | E50: 반사지 | F50: 매 | G50: 1 | H50: =일위대가!I225 -> 105000 | I50: =TRUNC(G50*H50) -> 105000 | J50: =일위대가!K225 -> 66365 | K50: =TRUNC(G50*J50) -> 66365 | L50: =일위대가!M225 -> 85387 | M50: =TRUNC(G50*L50) -> 85387 | N50: =H50+J50+L50 -> 256752 | O50: =I50+K50+M50 -> 256752
A51: 2-11 | B51: 중형 원형 | C51: 신설 | D51: Φ900 고휘도 | E51: 반사지 | F51: 매 | G51: 7 | H51: =일위대가!I231 -> 141000 | I51: =TRUNC(G51*H51) -> 987000 | J51: =일위대가!K231 -> 28377 | K51: =TRUNC(G51*J51) -> 198639 | L51: =일위대가!M231 -> 567 | M51: =TRUNC(G51*L51) -> 3969 | N51: =H51+J51+L51 -> 169944 | O51: =I51+K51+M51 -> 1189608
A52: 2-12 | B52: 중형 원형 | C52: 교체 | D52: Φ900 고휘도 | E52: 반사지 | F52: 매 | G52: 1 | H52: =일위대가!I234 -> 141000 | I52: =TRUNC(G52*H52) -> 141000 | J52: =일위대가!K234 -> 66365 | K52: =TRUNC(G52*J52) -> 66365 | L52: =일위대가!M234 -> 85387 | M52: =TRUNC(G52*L52) -> 85387 | N52: =H52+J52+L52 -> 292752 | O52: =I52+K52+M52 -> 292752
A53: 2-13 | B53: 중형 오각 | C53: 신설 | D53: 780*936 고휘도 | E53: 반사지 | F53: 매 | H53: =일위대가!I240 -> 155000 | I53: =TRUNC(G53*H53) -> 0 | J53: =일위대가!K240 -> 28377 | K53: =TRUNC(G53*J53) -> 0 | L53: =일위대가!M240 -> 567 | M53: =TRUNC(G53*L53) -> 0 | N53: =H53+J53+L53 -> 183944 | O53: =I53+K53+M53 -> 0
A54: 2-14 | B54: 중형 오각 | C54: 교체 | D54: 780*936 고휘도 | E54: 반사지 | F54: 매 | H54: =일위대가!I243 -> 155000 | I54: =TRUNC(G54*H54) -> 0 | J54: =일위대가!K243 -> 66365 | K54: =TRUNC(G54*J54) -> 0 | L54: =일위대가!M243 -> 85387 | M54: =TRUNC(G54*L54) -> 0 | N54: =H54+J54+L54 -> 306752 | O54: =I54+K54+M54 -> 0
A55: 2-15 | B55: 중형 오각 | C55: 신설 | D55: 900*1080 고휘도 | E55: 반사지 | F55: 매 | G55: 11 | H55: =일위대가!I249 -> 174000 | I55: =TRUNC(G55*H55) -> 1914000 | J55: =일위대가!K249 -> 28377 | K55: =TRUNC(G55*J55) -> 312147 | L55: =일위대가!M249 -> 567 | M55: =TRUNC(G55*L55) -> 6237 | N55: =H55+J55+L55 -> 202944 | O55: =I55+K55+M55 -> 2232384
A56: 2-16 | B56: 중형 오각 | C56: 교체 | D56: 900*1080 고휘도 | E56: 반사지 | F56: 매 | H56: =일위대가!I252 -> 174000 | I56: =TRUNC(G56*H56) -> 0 | J56: =일위대가!K252 -> 66365 | K56: =TRUNC(G56*J56) -> 0 | L56: =일위대가!M252 -> 85387 | M56: =TRUNC(G56*L56) -> 0 | N56: =H56+J56+L56 -> 325752 | O56: =I56+K56+M56 -> 0
A57: 2-17 | B57: 규격 사각 | C57: 신설 | D57: 600*900 고휘도 | E57: 반사지 | F57: 매 | H57: =일위대가!I258 -> 212000 | I57: =TRUNC(G57*H57) -> 0 | J57: =일위대가!K258 -> 28377 | K57: =TRUNC(G57*J57) -> 0 | L57: =일위대가!M258 -> 567 | M57: =TRUNC(G57*L57) -> 0 | N57: =H57+J57+L57 -> 240944 | O57: =I57+K57+M57 -> 0
A58: 2-18 | B58: 규격 사각 | C58: 교체 | D58: 600*900 고휘도 | E58: 반사지 | F58: 매 | H58: =일위대가!I261 -> 212000 | I58: =TRUNC(G58*H58) -> 0 | J58: =일위대가!K261 -> 66365 | K58: =TRUNC(G58*J58) -> 0 | L58: =일위대가!M261 -> 85387 | M58: =TRUNC(G58*L58) -> 0 | N58: =H58+J58+L58 -> 363752 | O58: =I58+K58+M58 -> 0
A59: 2-19 | B59: 중형 사각 | C59: 신설 | D59: 780*260 고휘도 | E59: 반사지 | F59: 매 | G59: 1 | H59: =일위대가!I267 -> 79500 | I59: =TRUNC(G59*H59) -> 79500 | J59: =일위대가!K267 -> 28377 | K59: =TRUNC(G59*J59) -> 28377 | L59: =일위대가!M267 -> 567 | M59: =TRUNC(G59*L59) -> 567 | N59: =H59+J59+L59 -> 108444 | O59: =I59+K59+M59 -> 108444
A60: 2-20 | B60: 중형 사각 | C60: 교체 | D60: 780*260 고휘도 | E60: 반사지 | F60: 매 | H60: =일위대가!I270 -> 79500 | I60: =TRUNC(G60*H60) -> 0 | J60: =일위대가!K270 -> 66365 | K60: =TRUNC(G60*J60) -> 0 | L60: =일위대가!M270 -> 85387 | M60: =TRUNC(G60*L60) -> 0 | N60: =H60+J60+L60 -> 231252 | O60: =I60+K60+M60 -> 0
A61: 2-21 | B61: 중형 사각 | C61: 신설 | D61: 780*390 고휘도 | E61: 반사지 | F61: 매 | G61: 1 | H61: =일위대가!I276 -> 113000 | I61: =TRUNC(G61*H61) -> 113000 | J61: =일위대가!K276 -> 28377 | K61: =TRUNC(G61*J61) -> 28377 | L61: =일위대가!M276 -> 567 | M61: =TRUNC(G61*L61) -> 567 | N61: =H61+J61+L61 -> 141944 | O61: =I61+K61+M61 -> 141944
A62: 2-22 | B62: 중형 사각 | C62: 교체 | D62: 780*390 고휘도 | E62: 반사지 | F62: 매 | H62: =일위대가!I279 -> 113000 | I62: =TRUNC(G62*H62) -> 0 | J62: =일위대가!K279 -> 66365 | K62: =TRUNC(G62*J62) -> 0 | L62: =일위대가!M279 -> 85387 | M62: =TRUNC(G62*L62) -> 0 | N62: =H62+J62+L62 -> 264752 | O62: =I62+K62+M62 -> 0
A63: 2-23 | B63: 중형 사각 | C63: 신설 | D63: 715*780 고휘도 | E63: 반사지 | F63: 매 | H63: =일위대가!I285 -> 207000 | I63: =TRUNC(G63*H63) -> 0 | J63: =일위대가!K285 -> 28377 | K63: =TRUNC(G63*J63) -> 0 | L63: =일위대가!M285 -> 567 | M63: =TRUNC(G63*L63) -> 0 | N63: =H63+J63+L63 -> 235944 | O63: =I63+K63+M63 -> 0
A64: 2-24 | B64: 중형 사각 | C64: 교체 | D64: 715*780 고휘도 | E64: 반사지 | F64: 매 | H64: =일위대가!I288 -> 207000 | I64: =TRUNC(G64*H64) -> 0 | J64: =일위대가!K288 -> 66365 | K64: =TRUNC(G64*J64) -> 0 | L64: =일위대가!M288 -> 85387 | M64: =TRUNC(G64*L64) -> 0 | N64: =H64+J64+L64 -> 358752 | O64: =I64+K64+M64 -> 0
A65: 2-25 | B65: 중형 사각 | C65: 신설 | D65: 780*780 고휘도 | E65: 반사지 | F65: 매 | G65: 1 | H65: =일위대가!I294 -> 212000 | I65: =TRUNC(G65*H65) -> 212000 | J65: =일위대가!K294 -> 28377 | K65: =TRUNC(G65*J65) -> 28377 | L65: =일위대가!M294 -> 567 | M65: =TRUNC(G65*L65) -> 567 | N65: =H65+J65+L65 -> 240944 | O65: =I65+K65+M65 -> 240944
A66: 2-26 | B66: 중형 사각 | C66: 교체 | D66: 780*780 고휘도 | E66: 반사지 | F66: 매 | H66: =일위대가!I297 -> 212000 | I66: =TRUNC(G66*H66) -> 0 | J66: =일위대가!K297 -> 66365 | K66: =TRUNC(G66*J66) -> 0 | L66: =일위대가!M297 -> 85387 | M66: =TRUNC(G66*L66) -> 0 | N66: =H66+J66+L66 -> 363752 | O66: =I66+K66+M66 -> 0
A67: 2-27 | B67: 중형 사각 | C67: 신설 | D67: 900*300 고휘도 | E67: 반사지 | F67: 매 | G67: 7 | H67: =일위대가!I303 -> 81000 | I67: =TRUNC(G67*H67) -> 567000 | J67: =일위대가!K303 -> 28377 | K67: =TRUNC(G67*J67) -> 198639 | L67: =일위대가!M303 -> 567 | M67: =TRUNC(G67*L67) -> 3969 | N67: =H67+J67+L67 -> 109944 | O67: =I67+K67+M67 -> 769608
A68: 2-28 | B68: 중형 사각 | C68: 교체 | D68: 900*300 고휘도 | E68: 반사지 | F68: 매 | G68: 1 | H68: =일위대가!I306 -> 81000 | I68: =TRUNC(G68*H68) -> 81000 | J68: =일위대가!K306 -> 66365 | K68: =TRUNC(G68*J68) -> 66365 | L68: =일위대가!M306 -> 85387 | M68: =TRUNC(G68*L68) -> 85387 | N68: =H68+J68+L68 -> 232752 | O68: =I68+K68+M68 -> 232752
A69: 2-29 | B69: 중형 사각 | C69: 신설 | D69: 900*450 고휘도 | E69: 반사지 | F69: 매 | G69: 4 | H69: =일위대가!I312 -> 109000 | I69: =TRUNC(G69*H69) -> 436000 | J69: =일위대가!K312 -> 28377 | K69: =TRUNC(G69*J69) -> 113508 | L69: =일위대가!M312 -> 567 | M69: =TRUNC(G69*L69) -> 2268 | N69: =H69+J69+L69 -> 137944 | O69: =I69+K69+M69 -> 551776
A70: 2-30 | B70: 중형 사각 | C70: 교체 | D70: 900*450 고휘도 | E70: 반사지 | F70: 매 | H70: =일위대가!I315 -> 109000 | I70: =TRUNC(G70*H70) -> 0 | J70: =일위대가!K315 -> 66365 | K70: =TRUNC(G70*J70) -> 0 | L70: =일위대가!M315 -> 85387 | M70: =TRUNC(G70*L70) -> 0 | N70: =H70+J70+L70 -> 260752 | O70: =I70+K70+M70 -> 0
A71: 2-31 | B71: 중형 사각 | C71: 신설 | D71: 780*1170 고휘도 | E71: 반사지 | F71: 매 | G71: 1 | H71: =일위대가!I321 -> 270000 | I71: =TRUNC(G71*H71) -> 270000 | J71: =일위대가!K321 -> 28377 | K71: =TRUNC(G71*J71) -> 28377 | L71: =일위대가!M321 -> 567 | M71: =TRUNC(G71*L71) -> 567 | N71: =H71+J71+L71 -> 298944 | O71: =I71+K71+M71 -> 298944
A72: 2-32 | B72: 중형 사각 | C72: 교체 | D72: 780*1170 고휘도 | E72: 반사지 | F72: 매 | H72: =일위대가!I324 -> 270000 | I72: =TRUNC(G72*H72) -> 0 | J72: =일위대가!K324 -> 66365 | K72: =TRUNC(G72*J72) -> 0 | L72: =일위대가!M324 -> 85387 | M72: =TRUNC(G72*L72) -> 0 | N72: =H72+J72+L72 -> 421752 | O72: =I72+K72+M72 -> 0
A73: 2-33 | B73: 중형 팔각 | C73: 신설 | D73: 780*780 고휘도 | E73: 반사지 | F73: 매 | H73: =일위대가!I330 -> 105000 | I73: =TRUNC(G73*H73) -> 0 | J73: =일위대가!K330 -> 28377 | K73: =TRUNC(G73*J73) -> 0 | L73: =일위대가!M330 -> 567 | M73: =TRUNC(G73*L73) -> 0 | N73: =H73+J73+L73 -> 133944 | O73: =I73+K73+M73 -> 0
A74: 2-34 | B74: 중형 팔각 | C74: 교체 | D74: 780*780 고휘도 | E74: 반사지 | F74: 매 | H74: =일위대가!I333 -> 105000 | I74: =TRUNC(G74*H74) -> 0 | J74: =일위대가!K333 -> 66365 | K74: =TRUNC(G74*J74) -> 0 | L74: =일위대가!M333 -> 85387 | M74: =TRUNC(G74*L74) -> 0 | N74: =H74+J74+L74 -> 256752 | O74: =I74+K74+M74 -> 0
A75: 2-35 | B75: 중형 팔각 | C75: 신설 | D75: 900*900 고휘도 | E75: 반사지 | F75: 매 | H75: =일위대가!I339 -> 174000 | I75: =TRUNC(G75*H75) -> 0 | J75: =일위대가!K339 -> 28377 | K75: =TRUNC(G75*J75) -> 0 | L75: =일위대가!M339 -> 567 | M75: =TRUNC(G75*L75) -> 0 | N75: =H75+J75+L75 -> 202944 | O75: =I75+K75+M75 -> 0
A76: 2-36 | B76: 중형 팔각 | C76: 교체 | D76: 900*900 고휘도 | E76: 반사지 | F76: 매 | H76: =일위대가!I342 -> 174000 | I76: =TRUNC(G76*H76) -> 0 | J76: =일위대가!K342 -> 66365 | K76: =TRUNC(G76*J76) -> 0 | L76: =일위대가!M342 -> 85387 | M76: =TRUNC(G76*L76) -> 0 | N76: =H76+J76+L76 -> 325752 | O76: =I76+K76+M76 -> 0
A77: 2-37 | B77: 중형 T형부착대 | C77: 신설 | D77: 1매용 백관(분체) | F77: SET | G77: 1 | H77: =일위대가!I348 -> 200000 | I77: =TRUNC(G77*H77) -> 200000 | J77: =일위대가!K348 -> 28377 | K77: =TRUNC(G77*J77) -> 28377 | L77: =일위대가!M348 -> 24638 | M77: =TRUNC(G77*L77) -> 24638 | N77: =H77+J77+L77 -> 253015 | O77: =I77+K77+M77 -> 253015
A78: 2-38 | B78: 중형 T형부착대 | C78: 신설 | D78: 2매용 백관(분체) | F78: SET | G78: 1 | H78: =일위대가!I351 -> 250000 | I78: =TRUNC(G78*H78) -> 250000 | J78: =일위대가!K351 -> 28377 | K78: =TRUNC(G78*J78) -> 28377 | L78: =일위대가!M351 -> 24638 | M78: =TRUNC(G78*L78) -> 24638 | N78: =H78+J78+L78 -> 303015 | O78: =I78+K78+M78 -> 303015
A79: 2-39 | B79: 중형 T형부착대 | C79: 교체 | D79: 1매용 백관 | F79: SET | H79: =일위대가!I354 -> 200000 | I79: =TRUNC(G79*H79) -> 0 | J79: =일위대가!K354 -> 66365 | K79: =TRUNC(G79*J79) -> 0 | L79: =일위대가!M354 -> 89589 | M79: =TRUNC(G79*L79) -> 0 | N79: =H79+J79+L79 -> 355954 | O79: =I79+K79+M79 -> 0
A80: 2-40 | B80: 중형 T형부착대 | C80: 교체 | D80: 2매용 백관(분체) | F80: SET | G80: 2 | H80: =일위대가!I360 -> 250000 | I80: =TRUNC(G80*H80) -> 500000 | J80: =일위대가!K360 -> 66365 | K80: =TRUNC(G80*J80) -> 132730 | L80: =일위대가!M360 -> 89589 | M80: =TRUNC(G80*L80) -> 179178 | N80: =H80+J80+L80 -> 405954 | O80: =I80+K80+M80 -> 811908
A81: 2-41 | B81: 중형 T형부착대 | C81: 이설 | D81: 2-37h,38h | F81: SET | H81: =일위대가!I366 -> 0 | I81: =TRUNC(G81*H81) -> 0 | J81: =일위대가!K366 -> 66365 | K81: =TRUNC(G81*J81) -> 0 | L81: =일위대가!M366 -> 89589 | M81: =TRUNC(G81*L81) -> 0 | N81: =H81+J81+L81 -> 155954 | O81: =I81+K81+M81 -> 0
A82: 2-42 | B82: 중형 T형부착대 | C82: 철거 | D82: 2-37h,38h | F82: SET | G82: 2 | H82: =일위대가!I369 -> 0 | I82: =TRUNC(G82*H82) -> 0 | J82: =일위대가!K369 -> 36723 | K82: =TRUNC(G82*J82) -> 73446 | L82: =일위대가!M369 -> 31885 | M82: =TRUNC(G82*L82) -> 63770 | N82: =H82+J82+L82 -> 68608 | O82: =I82+K82+M82 -> 137216
A83: 2-43 | B83: 중형 교차로대 | C83: 신설 | D83: (분체) | F83: SET | G83: 1 | H83: =일위대가!I375 -> 632000 | I83: =TRUNC(G83*H83) -> 632000 | J83: =일위대가!K375 -> 28377 | K83: =TRUNC(G83*J83) -> 28377 | L83: =일위대가!M375 -> 24638 | M83: =TRUNC(G83*L83) -> 24638 | N83: =H83+J83+L83 -> 685015 | O83: =I83+K83+M83 -> 685015
A84: 2-44 | B84: 중형 교차로대 | C84: 교체 | D84: 백관 | F84: SET | H84: =일위대가!I378 -> 356000 | I84: =TRUNC(G84*H84) -> 0 | J84: =일위대가!K378 -> 66365 | K84: =TRUNC(G84*J84) -> 0 | L84: =일위대가!M378 -> 89589 | M84: =TRUNC(G84*L84) -> 0 | N84: =H84+J84+L84 -> 511954 | O84: =I84+K84+M84 -> 0
A85: 2-45 | B85: 중형 교차로대 | C85: 이설 | D85: 백관 | F85: SET | H85: =일위대가!I384 -> 0 | I85: =TRUNC(G85*H85) -> 0 | J85: =일위대가!K384 -> 66365 | K85: =TRUNC(G85*J85) -> 0 | L85: =일위대가!M384 -> 89589 | M85: =TRUNC(G85*L85) -> 0 | N85: =H85+J85+L85 -> 155954 | O85: =I85+K85+M85 -> 0
A86: 2-46 | B86: 중형 교차로대 | C86: 철거 | D86: 백관 | F86: SET | G86: 1 | H86: =일위대가!I387 -> 0 | I86: =TRUNC(G86*H86) -> 0 | J86: =일위대가!K387 -> 36723 | K86: =TRUNC(G86*J86) -> 36723 | L86: =일위대가!M387 -> 31885 | M86: =TRUNC(G86*L86) -> 31885 | N86: =H86+J86+L86 -> 68608 | O86: =I86+K86+M86 -> 68608
A87: 2-47 | B87: 중형 철주 | C87: 신설 | D87: 1매용 백관(L=3.5m) | F87: SET | H87: =일위대가!I399 -> 213294 | I87: =TRUNC(G87*H87) -> 0 | J87: =일위대가!K399 -> 120942 | K87: =TRUNC(G87*J87) -> 0 | L87: =일위대가!M399 -> 50452 | M87: =TRUNC(G87*L87) -> 0 | N87: =H87+J87+L87 -> 384688 | O87: =I87+K87+M87 -> 0
A88: 2-48 | B88: 중형 철주 | C88: 신설 | D88: 2매용 분체(L=4.5m) | F88: SET | G88: 1 | H88: =일위대가!I408 -> 263294 | I88: =TRUNC(G88*H88) -> 263294 | J88: =일위대가!K408 -> 120942 | K88: =TRUNC(G88*J88) -> 120942 | L88: =일위대가!M408 -> 50452 | M88: =TRUNC(G88*L88) -> 50452 | N88: =H88+J88+L88 -> 434688 | O88: =I88+K88+M88 -> 434688
A89: 2-49 | B89: 중형 철주 | C89: 철거 | D89: 2-47h, 48h | F89: SET | H89: =일위대가!I411 -> 0 | I89: =TRUNC(G89*H89) -> 0 | J89: =일위대가!K411 -> 26012 | K89: =TRUNC(G89*J89) -> 0 | L89: =일위대가!M411 -> 24256 | M89: =TRUNC(G89*L89) -> 0 | N89: =H89+J89+L89 -> 50268 | O89: =I89+K89+M89 -> 0
A90: 2-50 | B90: 조립식테이퍼폴 | C90: 신설 | D90: 백관 | F90: SET | H90: =일위대가!I423 -> 2368549 | I90: =TRUNC(G90*H90) -> 0 | J90: =일위대가!K423 -> 655451 | K90: =TRUNC(G90*J90) -> 0 | L90: =일위대가!M423 -> 76365 | M90: =TRUNC(G90*L90) -> 0 | N90: =H90+J90+L90 -> 3100365 | O90: =I90+K90+M90 -> 0
A91: 2-51 | B91: 조립식테이퍼폴(기초제외) | C91: 교체 | D91: 백관 | F91: SET | H91: =일위대가!I426 -> 2250000 | I91: =TRUNC(G91*H91) -> 0 | J91: =일위대가!K426 -> 159455 | K91: =TRUNC(G91*J91) -> 0 | L91: =일위대가!M426 -> 110004 | M91: =TRUNC(G91*L91) -> 0 | N91: =H91+J91+L91 -> 2519459 | O91: =I91+K91+M91 -> 0
A92: 2-52 | B92: 조립식테이퍼폴 | C92: 이설 | D92: 백관 | F92: SET | H92: =일위대가!I438 -> 118549 | I92: =TRUNC(G92*H92) -> 0 | J92: =일위대가!K438 -> 708603 | K92: =TRUNC(G92*J92) -> 0 | L92: =일위대가!M438 -> 113033 | M92: =TRUNC(G92*L92) -> 0 | N92: =H92+J92+L92 -> 940185 | O92: =I92+K92+M92 -> 0
A93: 2-53 | B93: 조립식테이퍼폴 | C93: 철거 | D93: 백관 | F93: SET | H93: =일위대가!I441 -> 0 | I93: =TRUNC(G93*H93) -> 0 | J93: =일위대가!K441 -> 53151 | K93: =TRUNC(G93*J93) -> 0 | L93: =일위대가!M441 -> 36668 | M93: =TRUNC(G93*L93) -> 0 | N93: =H93+J93+L93 -> 89819 | O93: =I93+K93+M93 -> 0
A94: 2-54 | B94: 테이퍼폴 기초제거 (T=30cm) | C94: 철거 | D94: 2-53h | F94: SET | H94: =일위대가!I452 -> 7560 | I94: =TRUNC(G94*H94) -> 0 | J94: =일위대가!K452 -> 74825 | K94: =TRUNC(G94*J94) -> 0 | L94: =일위대가!M452 -> 3467 | M94: =TRUNC(G94*L94) -> 0 | N94: =H94+J94+L94 -> 85852 | O94: =I94+K94+M94 -> 0
A95: 2-55 | B95: 철주 기초제거(전체) | C95: 철거 | F95: SET | H95: =일위대가!I463 -> 2520 | I95: =TRUNC(G95*H95) -> 0 | J95: =일위대가!K463 -> 34104 | K95: =TRUNC(G95*J95) -> 0 | L95: =일위대가!M463 -> 3175 | M95: =TRUNC(G95*L95) -> 0 | N95: =H95+J95+L95 -> 39799 | O95: =I95+K95+M95 -> 0
A96: 3-1 | B96: 대형 안전표지판 | C96: 신설 | D96: 3000*2000 고+고 | E96: 반사지 | F96: 매 | H96: =일위대가!I469 -> 2240000 | I96: =TRUNC(G96*H96) -> 0 | J96: =일위대가!K469 -> 106303 | K96: =TRUNC(G96*J96) -> 0 | L96: =일위대가!M469 -> 73336 | M96: =TRUNC(G96*L96) -> 0 | N96: =H96+J96+L96 -> 2419639 | O96: =I96+K96+M96 -> 0
A97: 3-2 | B97: 대형 안전표지판 | C97: 신설 | D97: 3000*2000 고+초고 | E97: 반사지 | F97: 매 | H97: =일위대가!I472 -> 2000000 | I97: =TRUNC(G97*H97) -> 0 | J97: =일위대가!K472 -> 106303 | K97: =TRUNC(G97*J97) -> 0 | L97: =일위대가!M472 -> 73336 | M97: =TRUNC(G97*L97) -> 0 | N97: =H97+J97+L97 -> 2179639 | O97: =I97+K97+M97 -> 0
A98: 3-3 | B98: 대형 안전표지판 | C98: 교체 | D98: 3000*2000 고+고 | E98: 반사지 | F98: 매 | H98: =일위대가!I475 -> 2240000 | I98: =TRUNC(G98*H98) -> 0 | J98: =일위대가!K475 -> 159455 | K98: =TRUNC(G98*J98) -> 0 | L98: =일위대가!M475 -> 110004 | M98: =TRUNC(G98*L98) -> 0 | N98: =H98+J98+L98 -> 2509459 | O98: =I98+K98+M98 -> 0
A99: 3-4 | B99: 대형 안전표지판 | C99: 교체 | D99: 3000*2000 고+초고 | E99: 반사지 | F99: 매 | H99: =일위대가!I481 -> 2000000 | I99: =TRUNC(G99*H99) -> 0 | J99: =일위대가!K481 -> 159455 | K99: =TRUNC(G99*J99) -> 0 | L99: =일위대가!M481 -> 110004 | M99: =TRUNC(G99*L99) -> 0 | N99: =H99+J99+L99 -> 2269459 | O99: =I99+K99+M99 -> 0
A100: 3-5 | B100: 대형 안전표지판 | C100: 신설 | D100: 3600*2200 고+고 | E100: 반사지 | F100: 매 | H100: =일위대가!I487 -> 3080000 | I100: =TRUNC(G100*H100) -> 0 | J100: =일위대가!K487 -> 106303 | K100: =TRUNC(G100*J100) -> 0 | L100: =일위대가!M487 -> 73336 | M100: =TRUNC(G100*L100) -> 0 | N100: =H100+J100+L100 -> 3259639 | O100: =I100+K100+M100 -> 0
A101: 3-6 | B101: 대형 안전표지판 | C101: 신설 | D101: 3600*2200 고+초고 | E101: 반사지 | F101: 매 | H101: =일위대가!I490 -> 3080000 | I101: =TRUNC(G101*H101) -> 0 | J101: =일위대가!K490 -> 106303 | K101: =TRUNC(G101*J101) -> 0 | L101: =일위대가!M490 -> 73336 | M101: =TRUNC(G101*L101) -> 0 | N101: =H101+J101+L101 -> 3259639 | O101: =I101+K101+M101 -> 0
...

Sheet 총괄수량표
A1: 총괄수량표
A3: 호 표 | B3: 품 명 | D3: 규 격 | F3: 단위 | G3: 수량 | H3: 대륭강남타워 | I3: 상도터널사거리 | J3: 전기공사공제조합앞 | K3: 은행나무오거리 | L3: 봉천하나은행앞 | M3: 신길삼거리 | N3: 경남교수아파트 | O3: 궁전빌라앞 | P3: 낙서대입구사거리 | Q3: 교대입구삼거리 | R3: 은천로
A6: 1-1 | B6: 규격 삼각△ | C6: 신설 | D6: 900 고휘도 | E6: 반사지 | F6: 매 | G6: =SUM(H6:R6) -> 0
A7: 1-2 | B7: 규격 삼각△ | C7: 교체 | D7: 900 고휘도 | E7: 반사지 | F7: 매 | G7: =SUM(H7:R7) -> 0
A8: 1-3 | B8: 규격 삼각∇ | C8: 신설 | D8: 800 고휘도 | E8: 반사지 | F8: 매 | G8: =SUM(H8:R8) -> 3 | I8: 1 | M8: 2
A9: 1-4 | B9: 규격 삼각∇ | C9: 교체 | D9: 800 고휘도 | E9: 반사지 | F9: 매 | G9: =SUM(H9:R9) -> 0
A10: 1-5 | B10: 규격 원형 | C10: 신설 | D10: Φ600 고휘도 | E10: 반사지 | F10: 매 | G10: =SUM(H10:R10) -> 9 | P10: 3 | Q10: 1 | R10: 5
A11: 1-6 | B11: 규격 원형 | C11: 교체 | D11: Φ600 고휘도 | E11: 반사지 | F11: 매 | G11: =SUM(H11:R11) -> 0
A12: 1-7 | B12: 규격 오각 | C12: 신설 | D12: 600*720 고휘도 | E12: 반사지 | F12: 매 | G12: =SUM(H12:R12) -> 2 | H12: 1 | K12: 1
A13: 1-8 | B13: 규격 오각 | C13: 교체 | D13: 600*720 고휘도 | E13: 반사지 | F13: 매 | G13: =SUM(H13:R13) -> 0
A14: 1-9 | B14: 규격 사각 | C14: 신설 | D14: 400*400 고휘도 | E14: 반사지 | F14: 매 | G14: =SUM(H14:R14) -> 0
A15: 1-10 | B15: 규격 사각 | C15: 교체 | D15: 400*400 고휘도 | E15: 반사지 | F15: 매 | G15: =SUM(H15:R15) -> 0
A16: 1-11 | B16: 규격 사각 | C16: 신설 | D16: 600*200 고휘도 | E16: 반사지 | F16: 매 | G16: =SUM(H16:R16) -> 0
A17: 1-12 | B17: 규격 사각 | C17: 교체 | D17: 600*200 고휘도 | E17: 반사지 | F17: 매 | G17: =SUM(H17:R17) -> 0
A18: 1-13 | B18: 규격 사각 | C18: 신설 | D18: 600*300 고휘도 | E18: 반사지 | F18: 매 | G18: =SUM(H18:R18) -> 0
A19: 1-14 | B19: 규격 사각 | C19: 교체 | D19: 600*300 고휘도 | E19: 반사지 | F19: 매 | G19: =SUM(H19:R19) -> 0
A20: 1-15 | B20: 규격 사각 | C20: 신설 | D20: 600×400고휘도 | E20: 반사지 | F20: 매 | G20: =SUM(H20:R20) -> 0
A21: 1-16 | B21: 규격 사각 | C21: 교체 | D21: 600×400고휘도 | E21: 반사지 | F21: 매 | G21: =SUM(H21:R21) -> 0
A22: 1-17 | B22: 규격 사각 | C22: 신설 | D22: 550*600 고휘도 | E22: 반사지 | F22: 매 | G22: =SUM(H22:R22) -> 5 | Q22: 1 | R22: 4
A23: 1-18 | B23: 규격 사각 | C23: 교체 | D23: 550*600 고휘도 | E23: 반사지 | F23: 매 | G23: =SUM(H23:R23) -> 0
A24: 1-19 | B24: 규격 사각 | C24: 신설 | D24: 600*600 고휘도 | E24: 반사지 | F24: 매 | G24: =SUM(H24:R24) -> 0
A25: 1-20 | B25: 규격 사각 | C25: 교체 | D25: 600*600 고휘도 | E25: 반사지 | F25: 매 | G25: =SUM(H25:R25) -> 0
A26: 1-21 | B26: 규격 팔각 | C26: 신설 | D26: 600*600 고휘도 | E26: 반사지 | F26: 매 | G26: =SUM(H26:R26) -> 0
A27: 1-22 | B27: 규격 팔각 | C27: 교체 | D27: 600*600 고휘도 | E27: 반사지 | F27: 매 | G27: =SUM(H27:R27) -> 0
A28: 1-23 | B28: 규격 T형부착대 | C28: 신설 | D28: 1매용 백관 | F28: SET | G28: =SUM(H28:R28) -> 5 | H28: 1 | I28: 1 | K28: 1 | M28: 1 | R28: 1
A29: 1-24 | B29: 규격 T형부착대 | C29: 신설 | D29: 2매용 백관 | F29: SET | G29: =SUM(H29:R29) -> 8 | P29: 3 | Q29: 1 | R29: 4
A30: 1-25 | B30: 규격 T형부착대 | C30: 신설 | D30: 3매용 백관 | F30: SET | G30: =SUM(H30:R30) -> 0
A31: 1-26 | B31: 규격 T형부착대 | C31: 교체 | D31: 1매용 백관 | F31: SET | G31: =SUM(H31:R31) -> 0
A32: 1-27 | B32: 규격 T형부착대 | C32: 교체 | D32: 2매용 백관 | F32: SET | G32: =SUM(H32:R32) -> 0
A33: 1-28 | B33: 규격 T형부착대 | C33: 교체 | D33: 3매용 백관 | F33: SET | G33: =SUM(H33:R33) -> 0 | T33: (1-29~34)규격 T형 부착대 STS 신설교체 삭제
A34: 1-29 | B34: 규격 T형부착대 | C34: 이설 | D34: 1-23h,24h,25h | F34: SET | G34: =SUM(H34:R34) -> 2 | Q34: 2
A35: 1-30 | B35: 규격 T형부착대 | C35: 철거 | D35: 1-23h,24h,25h | F35: SET | G35: =SUM(H35:R35) -> 5 | I35: 1 | P35: 3 | R35: 1
A36: 1-31 | B36: 규격 철주 | C36: 신설 | D36: 1매용 백관(L=3.0m) | F36: SET | G36: =SUM(H36:R36) -> 1 | M36: 1
A37: 1-32 | B37: 규격 철주 | C37: 신설 | D37: 2매용 백관(L=3.6m) | F37: SET | G37: =SUM(H37:R37) -> 0
A38: 1-33 | B38: 규격 철주 | C38: 신설 | D38: 3매용 백관(L=4.2m) | F38: SET | G38: =SUM(H38:R38) -> 0
A39: 1-34 | B39: 규격 철주 | C39: 철거 | D39: 1-31h,32h,33h | F39: SET | G39: =SUM(H39:R39) -> 1 | M39: 1
A40: 1-35 | B40: 철주 기초제거 (T=30cm) | C40: 철거 | F40: SET | G40: =SUM(H40:R40) -> 1 | M40: 1
A41: 2-1 | B41: 중형 삼각△ | C41: 신설 | D41: 1170 고휘도 | E41: 반사지 | F41: 매 | G41: =SUM(H41:R41) -> 0
A42: 2-2 | B42: 중형 삼각△ | C42: 교체 | D42: 1170 고휘도 | E42: 반사지 | F42: 매 | G42: =SUM(H42:R42) -> 0
A43: 2-3 | B43: 중형 삼각△ | C43: 신설 | D43: 1350 고휘도 | E43: 반사지 | F43: 매 | G43: =SUM(H43:R43) -> 0
A44: 2-4 | B44: 중형 삼각△ | C44: 교체 | D44: 1350 고휘도 | E44: 반사지 | F44: 매 | G44: =SUM(H44:R44) -> 0
A45: 2-5 | B45: 중형 삼각∇ | C45: 신설 | D45: 1040 고휘도 | E45: 반사지 | F45: 매 | G45: =SUM(H45:R45) -> 0
A46: 2-6 | B46: 중형 삼각∇ | C46: 교체 | D46: 1040 고휘도 | E46: 반사지 | F46: 매 | G46: =SUM(H46:R46) -> 0
A47: 2-7 | B47: 중형 삼각∇ | C47: 신설 | D47: 1200 고휘도 | E47: 반사지 | F47: 매 | G47: =SUM(H47:R47) -> 0
A48: 2-8 | B48: 중형 삼각∇ | C48: 교체 | D48: 1200 고휘도 | E48: 반사지 | F48: 매 | G48: =SUM(H48:R48) -> 0
A49: 2-9 | B49: 중형 원형 | C49: 신설 | D49: Φ780 고휘도 | E49: 반사지 | F49: 매 | G49: =SUM(H49:R49) -> 7 | H49: 1 | J49: 1 | L49: 1 | M49: 1 | P49: 1 | R49: 2
A50: 2-10 | B50: 중형 원형 | C50: 교체 | D50: Φ780 고휘도 | E50: 반사지 | F50: 매 | G50: =SUM(H50:R50) -> 0
A51: 2-11 | B51: 중형 원형 | C51: 신설 | D51: Φ900 고휘도 | E51: 반사지 | F51: 매 | G51: =SUM(H51:R51) -> 5 | I51: 1 | M51: 1 | O51: 1 | R51: 2
A52: 2-12 | B52: 중형 원형 | C52: 교체 | D52: Φ900 고휘도 | E52: 반사지 | F52: 매 | G52: =SUM(H52:R52) -> 0
A53: 2-13 | B53: 중형 오각 | C53: 신설 | D53: 780*936 고휘도 | E53: 반사지 | F53: 매 | G53: =SUM(H53:R53) -> 1 | M53: 1
A54: 2-14 | B54: 중형 오각 | C54: 교체 | D54: 780*936 고휘도 | E54: 반사지 | F54: 매 | G54: =SUM(H54:R54) -> 0
A55: 2-15 | B55: 중형 오각 | C55: 신설 | D55: 900*1080 고휘도 | E55: 반사지 | F55: 매 | G55: =SUM(H55:R55) -> 11 | H55: 3 | J55: 1 | L55: 5 | R55: 2
A56: 2-16 | B56: 중형 오각 | C56: 교체 | D56: 900*1080 고휘도 | E56: 반사지 | F56: 매 | G56: =SUM(H56:R56) -> 0
A57: 2-17 | B57: 규격 사각 | C57: 신설 | D57: 600*900 고휘도 | E57: 반사지 | F57: 매 | G57: =SUM(H57:R57) -> 0
A58: 2-18 | B58: 규격 사각 | C58: 교체 | D58: 600*900 고휘도 | E58: 반사지 | F58: 매 | G58: =SUM(H58:R58) -> 0
A59: 2-19 | B59: 중형 사각 | C59: 신설 | D59: 780*260 고휘도 | E59: 반사지 | F59: 매 | G59: =SUM(H59:R59) -> 3 | L59: 1 | M59: 1 | O59: 1
A60: 2-20 | B60: 중형 사각 | C60: 교체 | D60: 780*260 고휘도 | E60: 반사지 | F60: 매 | G60: =SUM(H60:R60) -> 0
A61: 2-21 | B61: 중형 사각 | C61: 신설 | D61: 780*390 고휘도 | E61: 반사지 | F61: 매 | G61: =SUM(H61:R61) -> 0
A62: 2-22 | B62: 중형 사각 | C62: 교체 | D62: 780*390 고휘도 | E62: 반사지 | F62: 매 | G62: =SUM(H62:R62) -> 0
A63: 2-23 | B63: 중형 사각 | C63: 신설 | D63: 715*780 고휘도 | E63: 반사지 | F63: 매 | G63: =SUM(H63:R63) -> 4 | H63: 1 | J63: 1 | R63: 2
A64: 2-24 | B64: 중형 사각 | C64: 교체 | D64: 715*780 고휘도 | E64: 반사지 | F64: 매 | G64: =SUM(H64:R64) -> 0
A65: 2-25 | B65: 중형 사각 | C65: 신설 | D65: 780*780 고휘도 | E65: 반사지 | F65: 매 | G65: =SUM(H65:R65) -> 1 | O65: 1
A66: 2-26 | B66: 중형 사각 | C66: 교체 | D66: 780*780 고휘도 | E66: 반사지 | F66: 매 | G66: =SUM(H66:R66) -> 0
A67: 2-27 | B67: 중형 사각 | C67: 신설 | D67: 900*300 고휘도 | E67: 반사지 | F67: 매 | G67: =SUM(H67:R67) -> 8 | H67: 3 | L67: 3 | M67: 2
A68: 2-28 | B68: 중형 사각 | C68: 교체 | D68: 900*300 고휘도 | E68: 반사지 | F68: 매 | G68: =SUM(H68:R68) -> 0
A69: 2-29 | B69: 중형 사각 | C69: 신설 | D69: 900*450 고휘도 | E69: 반사지 | F69: 매 | G69: =SUM(H69:R69) -> 2 | O69: 1 | R69: 1
A70: 2-30 | B70: 중형 사각 | C70: 교체 | D70: 900*450 고휘도 | E70: 반사지 | F70: 매 | G70: =SUM(H70:R70) -> 0
A71: 2-31 | B71: 중형 사각 | C71: 신설 | D71: 780*1170 고휘도 | E71: 반사지 | F71: 매 | G71: =SUM(H71:R71) -> 1 | R71: 1
A72: 2-32 | B72: 중형 사각 | C72: 교체 | D72: 780*1170 고휘도 | E72: 반사지 | F72: 매 | G72: =SUM(H72:R72) -> 0
A73: 2-33 | B73: 중형 팔각 | C73: 신설 | D73: 780*780 고휘도 | E73: 반사지 | F73: 매 | G73: =SUM(H73:R73) -> 0
A74: 2-34 | B74: 중형 팔각 | C74: 교체 | D74: 780*780 고휘도 | E74: 반사지 | F74: 매 | G74: =SUM(H74:R74) -> 0
A75: 2-35 | B75: 중형 팔각 | C75: 신설 | D75: 900*900 고휘도 | E75: 반사지 | F75: 매 | G75: =SUM(H75:R75) -> 0
A76: 2-36 | B76: 중형 팔각 | C76: 교체 | D76: 900*900 고휘도 | E76: 반사지 | F76: 매 | G76: =SUM(H76:R76) -> 0
A77: 2-37 | B77: 중형 T형부착대 | C77: 신설 | D77: 1매용 백관 | F77: SET | G77: =SUM(H77:R77) -> 2 | I77: 1 | L77: 1
A78: 2-38 | B78: 중형 T형부착대 | C78: 신설 | D78: 2매용 백관 | F78: SET | G78: =SUM(H78:R78) -> 5 | L78: 1 | M78: 1 | P78: 1 | R78: 2
A79: 2-39 | B79: 중형 T형부착대 | C79: 교체 | D79: 1매용 백관 | F79: SET | G79: =SUM(H79:R79) -> 0
A80: 2-40 | B80: 중형 T형부착대 | C80: 교체 | D80: 2매용 백관 | F80: SET | G80: =SUM(H80:R80) -> 0
A81: 2-41 | B81: 중형 T형부착대 | C81: 이설 | D81: 2-37h,38h | F81: SET | G81: =SUM(H81:R81) -> 0
A82: 2-42 | B82: 중형 T형부착대 | C82: 철거 | D82: 2-37h,38h | F82: SET | G82: =SUM(H82:R82) -> 4 | M82: 2 | P82: 2
A83: 2-43 | B83: 중형 교차로대 | C83: 신설 | D83: 백관 | F83: SET | G83: =SUM(H83:R83) -> 3 | H83: 1 | I83: 1 | J83: 1
A84: 2-44 | B84: 중형 교차로대 | C84: 교체 | D84: 백관 | F84: SET | G84: =SUM(H84:R84) -> 0
A85: 2-45 | B85: 중형 교차로대 | C85: 이설 | D85: 백관 | F85: SET | G85: =SUM(H85:R85) -> 0
A86: 2-46 | B86: 중형 교차로대 | C86: 철거 | D86: 백관 | F86: SET | G86: =SUM(H86:R86) -> 1 | R86: 1
A87: 2-47 | B87: 중형 철주 | C87: 신설 | D87: 1매용 백관(L=3.5m) | F87: SET | G87: =SUM(H87:R87) -> 0
A88: 2-48 | B88: 중형 철주 | C88: 신설 | D88: 2매용 백관(L=4.5m) | F88: SET | G88: =SUM(H88:R88) -> 2 | M88: 1 | O88: 1
A89: 2-49 | B89: 중형 철주 | C89: 철거 | D89: 2-47h, 48h | F89: SET | G89: =SUM(H89:R89) -> 0
A90: 2-50 | B90: 조립식테이퍼폴 | C90: 신설 | D90: 백관 | F90: SET | G90: =SUM(H90:R90) -> 0
A91: 2-51 | B91: 조립식테이퍼폴(기초제외) | C91: 교체 | D91: 백관 | F91: SET | G91: =SUM(H91:R91) -> 0
A92: 2-52 | B92: 조립식테이퍼폴 | C92: 이설 | D92: 백관 | F92: SET | G92: =SUM(H92:R92) -> 0
A93: 2-53 | B93: 조립식테이퍼폴 | C93: 철거 | D93: 백관 | F93: SET | G93: =SUM(H93:R93) -> 0
A94: 2-54 | B94: 테이퍼폴 기초제거 (T=30cm) | C94: 철거 | D94: 2-53h | F94: SET | G94: =SUM(H94:R94) -> 0
A95: 2-55 | B95: 철주 기초제거(전체) | C95: 철거 | F95: SET | G95: =SUM(H95:R95) -> 0
A96: 3-1 | B96: 대형 안전표지판 | C96: 신설 | D96: 3000*2000 고+고 | E96: 반사지 | F96: 매 | G96: =SUM(H96:R96) -> 0
A97: 3-2 | B97: 대형 안전표지판 | C97: 신설 | D97: 3000*2000 고+초고 | E97: 반사지 | F97: 매 | G97: =SUM(H97:R97) -> 0
A98: 3-3 | B98: 대형 안전표지판 | C98: 교체 | D98: 3000*2000 고+고 | E98: 반사지 | F98: 매 | G98: =SUM(H98:R98) -> 0
A99: 3-4 | B99: 대형 안전표지판 | C99: 교체 | D99: 3000*2000 고+초고 | E99: 반사지 | F99: 매 | G99: =SUM(H99:R99) -> 0
A100: 3-5 | B100: 대형 안전표지판 | C100: 신설 | D100: 3600*2200 고+고 | E100: 반사지 | F100: 매 | G100: =SUM(H100:R100) -> 0
A101: 3-6 | B101: 대형 안전표지판 | C101: 신설 | D101: 3600*2200 고+초고 | E101: 반사지 | F101: 매 | G101: =SUM(H101:R101) -> 0
A102: 3-7 | B102: 대형 안전표지판 | C102: 교체 | D102: 3600*2200 고+고 | E102: 반사지 | F102: 매 | G102: =SUM(H102:R102) -> 0
A103: 3-8 | B103: 대형 안전표지판 | C103: 교체 | D103: 3600*2200 고+초고 | E103: 반사지 | F103: 매 | G103: =SUM(H103:R103) -> 0
...

Sheet 일위대가
A1: 일 위 대 가
R2: =내역서!P2 -> 0
A3: 호표 | B3: 명 칭 및 규 격 | F3: 단위 | G3: 수 량 | H3: 재 료 비 | J3: 노 무 비 | L3: 경 비 | N3: 합 계 | Q3: 비 고
H4: 단가 | I4: 금액 | J4: 단가 | K4: 금액 | L4: 단가 | M4: 금액 | N4: 단가 | O4: 금액
A5: 1-1 | B5: 삼각 변 | C5: 900 | D5: 고휘도 | E5: 신설 | F5: 매 | G5: 1 | H5: =단가조사!$P$5 -> 93000 | I5: =TRUNC(G5*H5) -> 93000 | K5: =ROUND(G5*J5,0) -> 0 | N5: =H5+J5+L5 -> 93000 | O5: =I5+K5+M5 -> 93000
C6: 제품설치 | E6: 규격 | F6: 매 | G6: 1 | J6: =단가산출!$J$33 -> 28377 | K6: =TRUNC(G6*J6) -> 28377 | L6: =단가산출!L33 -> 567 | M6: =TRUNC(G6*L6) -> 567 | N6: =H6+J6+L6 -> 28944 | O6: =I6+K6+M6 -> 28944 | Q6: =단가산출!$A$29 -> 제06 | R6: 호
B7: 합계 | I7: =SUM(I5:I6) -> 93000 | K7: =SUM(K5:K6) -> 28377 | M7: =SUM(M5:M6) -> 567 | N7: =H7+J7+L7 -> 0 | O7: =I7+K7+M7 -> 121944
A8: 1-2 | B8: 삼각 변 | C8: 900 | D8: 고휘도 | E8: 교체 | F8: 매 | G8: 1 | H8: =단가조사!$P$5 -> 93000 | I8: =TRUNC(G8*H8) -> 93000 | K8: =ROUND(G8*J8,0) -> 0 | N8: =H8+J8+L8 -> 93000 | O8: =I8+K8+M8 -> 93000
C9: 제품교체 | E9: 규격 | F9: 매 | G9: 1 | J9: =단가산출!$J$45 -> 66365 | K9: =TRUNC(G9*J9) -> 66365 | L9: =단가산출!L45 -> 85387 | M9: =TRUNC(G9*L9) -> 85387 | N9: =H9+J9+L9 -> 151752 | O9: =I9+K9+M9 -> 151752 | Q9: =단가산출!$A$40 -> 제08 | R9: 호
B10: 합계 | E10: AL | I10: =SUM(I8:I9) -> 93000 | K10: =SUM(K8:K9) -> 66365 | M10: =SUM(M8:M9) -> 85387 | N10: =H10+J10+L10 -> 0 | O10: =I10+K10+M10 -> 244752
A11: 1-2-1 | B11: 삼각 변 | C11: 900 | D11: 고휘도 | E11: 교체 | F11: 매 | G11: 1 | I11: =TRUNC(G11*H11) -> 0 | K11: =ROUND(G11*J11,0) -> 0 | N11: =H11+J11+L11 -> 0 | O11: =I11+K11+M11 -> 0
C12: 고철 | E12: AL | F12: Set/Kg | G12: =설치수량!$I$7 -> 2.634 | H12: =단가조사!$P$77 -> -2850 | I12: =TRUNC(G12*H12) -> -7506 | K12: =ROUND(G12*J12,0) -> 0 | N12: =H12+J12+L12 -> -2850 | O12: =I12+K12+M12 -> -7506
B13: 합계 | I13: =SUM(I11:I12) -> -7506 | K13: =SUM(K11:K12) -> 0 | M13: =SUM(M11:M12) -> 0 | N13: =H13+J13+L13 -> 0 | O13: =I13+K13+M13 -> -7506
A14: 1-3 | B14: 삼각 ▽ | C14: 800 | D14: 고휘도 | E14: 신설 | F14: 매 | G14: 1 | H14: =단가조사!$P$8 -> 96000 | I14: =TRUNC(G14*H14) -> 96000 | K14: =ROUND(G14*J14,0) -> 0 | N14: =H14+J14+L14 -> 96000 | O14: =I14+K14+M14 -> 96000
C15: 제품설치 | E15: 규격 | F15: 매 | G15: 1 | J15: =단가산출!$J$33 -> 28377 | K15: =TRUNC(G15*J15) -> 28377 | L15: =단가산출!L33 -> 567 | M15: =TRUNC(G15*L15) -> 567 | N15: =H15+J15+L15 -> 28944 | O15: =I15+K15+M15 -> 28944 | Q15: =단가산출!$A$29 -> 제06 | R15: 호
B16: 합계 | I16: =SUM(I14:I15) -> 96000 | K16: =SUM(K14:K15) -> 28377 | M16: =SUM(M14:M15) -> 567 | N16: =H16+J16+L16 -> 0 | O16: =I16+K16+M16 -> 124944
A17: 1-4 | B17: 삼각 ▽ | C17: 800 | D17: 고휘도 | E17: 교체 | F17: 매 | G17: 1 | H17: =단가조사!$P$8 -> 96000 | I17: =TRUNC(G17*H17) -> 96000 | K17: =ROUND(G17*J17,0) -> 0 | N17: =H17+J17+L17 -> 96000 | O17: =I17+K17+M17 -> 96000
C18: 제품교체 | E18: 규격 | F18: 매 | G18: 1 | J18: =단가산출!$J$45 -> 66365 | K18: =TRUNC(G18*J18) -> 66365 | L18: =단가산출!L45 -> 85387 | M18: =TRUNC(G18*L18) -> 85387 | N18: =H18+J18+L18 -> 151752 | O18: =I18+K18+M18 -> 151752 | Q18: =단가산출!$A$40 -> 제08 | R18: 호
B19: 합계 | I19: =SUM(I17:I18) -> 96000 | K19: =SUM(K17:K18) -> 66365 | M19: =SUM(M17:M18) -> 85387 | N19: =H19+J19+L19 -> 0 | O19: =I19+K19+M19 -> 247752
A20: 1-4-1 | B20: 삼각 ▽-고재 | C20: 800 | D20: 고휘도 | E20: 교체 | F20: 매 | G20: 1 | K20: =ROUND(G20*J20,0) -> 0 | N20: =H20+J20+L20 -> 0 | O20: =I20+K20+M20 -> 0
C21: 고철 | E21: AL | F21: Set/Kg | G21: =설치수량!$I$9 -> 2.179 | H21: =단가조사!$P$77 -> -2850 | I21: =TRUNC(G21*H21) -> -6210 | K21: =ROUND(G21*J21,0) -> 0 | N21: =H21+J21+L21 -> -2850 | O21: =I21+K21+M21 -> -6210
B22: 합계 | I22: =SUM(I20:I21) -> -6210 | K22: =SUM(K20:K21) -> 0 | M22: =SUM(M20:M21) -> 0 | N22: =H22+J22+L22 -> 0 | O22: =I22+K22+M22 -> -6210
A23: 1-5 | B23: 원형 | C23: Φ600 | D23: 고휘도 | E23: 신설 | F23: 매 | G23: 1 | H23: =단가조사!$P$11 -> 86000 | I23: =TRUNC(G23*H23) -> 86000 | K23: =ROUND(G23*J23,0) -> 0 | N23: =H23+J23+L23 -> 86000 | O23: =I23+K23+M23 -> 86000
C24: 제품설치 | E24: 규격 | F24: 매 | G24: 1 | J24: =단가산출!$J$33 -> 28377 | K24: =TRUNC(G24*J24) -> 28377 | L24: =단가산출!L33 -> 567 | M24: =TRUNC(G24*L24) -> 567 | N24: =H24+J24+L24 -> 28944 | O24: =I24+K24+M24 -> 28944 | Q24: =단가산출!$A$29 -> 제06 | R24: 호
B25: 합계 | I25: =SUM(I23:I24) -> 86000 | K25: =SUM(K23:K24) -> 28377 | M25: =SUM(M23:M24) -> 567 | N25: =H25+J25+L25 -> 0 | O25: =I25+K25+M25 -> 114944
A26: 1-6 | B26: 원형 | C26: Φ600 | D26: 고휘도 | E26: 교체 | F26: 매 | G26: 1 | H26: =단가조사!$P$11 -> 86000 | I26: =TRUNC(G26*H26) -> 86000 | K26: =ROUND(G26*J26,0) -> 0 | N26: =H26+J26+L26 -> 86000 | O26: =I26+K26+M26 -> 86000
C27: 제품교체 | E27: 규격 | F27: 매 | G27: 1 | J27: =단가산출!$J$45 -> 66365 | K27: =TRUNC(G27*J27) -> 66365 | L27: =단가산출!L45 -> 85387 | M27: =TRUNC(G27*L27) -> 85387 | N27: =H27+J27+L27 -> 151752 | O27: =I27+K27+M27 -> 151752 | Q27: =단가산출!$A$40 -> 제08 | R27: 호
B28: 합계 | I28: =SUM(I26:I27) -> 86000 | K28: =SUM(K26:K27) -> 66365 | M28: =SUM(M26:M27) -> 85387 | N28: =H28+J28+L28 -> 0 | O28: =I28+K28+M28 -> 237752
A29: 1-6-1 | B29: 원형-고재 | C29: Φ600 | D29: 고휘도 | E29: 교체 | F29: 매 | G29: 1 | K29: =ROUND(G29*J29,0) -> 0 | N29: =H29+J29+L29 -> 0 | O29: =I29+K29+M29 -> 0
C30: 고철 | E30: AL | F30: Set/Kg | G30: =설치수량!$I$11 -> 2.266 | H30: =단가조사!$P$77 -> -2850 | I30: =TRUNC(G30*H30) -> -6458 | K30: =ROUND(G30*J30,0) -> 0 | N30: =H30+J30+L30 -> -2850 | O30: =I30+K30+M30 -> -6458
B31: 합계 | I31: =SUM(I29:I30) -> -6458 | K31: =SUM(K29:K30) -> 0 | M31: =SUM(M29:M30) -> 0 | N31: =H31+J31+L31 -> 0 | O31: =I31+K31+M31 -> -6458
A32: 1-7 | B32: 오각 | C32: 600*720 | D32: 고휘도 | E32: 신설 | F32: 매 | G32: 1 | H32: =단가조사!$P$17 -> 92000 | I32: =TRUNC(G32*H32) -> 92000 | K32: =ROUND(G32*J32,0) -> 0 | N32: =H32+J32+L32 -> 92000 | O32: =I32+K32+M32 -> 92000
C33: 제품설치 | E33: 규격 | F33: 매 | G33: 1 | J33: =단가산출!$J$33 -> 28377 | K33: =TRUNC(G33*J33) -> 28377 | L33: =단가산출!L33 -> 567 | M33: =TRUNC(G33*L33) -> 567 | N33: =H33+J33+L33 -> 28944 | O33: =I33+K33+M33 -> 28944 | Q33: =단가산출!$A$29 -> 제06 | R33: 호
B34: 합계 | I34: =SUM(I32:I33) -> 92000 | K34: =SUM(K32:K33) -> 28377 | M34: =SUM(M32:M33) -> 567 | N34: =H34+J34+L34 -> 0 | O34: =I34+K34+M34 -> 120944
A35: 1-8 | B35: 오각 | C35: 600*720 | D35: 고휘도 | E35: 교체 | F35: 매 | G35: 1 | H35: =단가조사!$P$17 -> 92000 | I35: =TRUNC(G35*H35) -> 92000 | K35: =ROUND(G35*J35,0) -> 0 | N35: =H35+J35+L35 -> 92000 | O35: =I35+K35+M35 -> 92000
C36: 제품교체 | E36: 규격 | F36: 매 | G36: 1 | J36: =단가산출!$J$45 -> 66365 | K36: =TRUNC(G36*J36) -> 66365 | L36: =단가산출!L45 -> 85387 | M36: =TRUNC(G36*L36) -> 85387 | N36: =H36+J36+L36 -> 151752 | O36: =I36+K36+M36 -> 151752 | Q36: =단가산출!$A$40 -> 제08 | R36: 호
B37: 합계 | I37: =SUM(I35:I36) -> 92000 | K37: =SUM(K35:K36) -> 66365 | M37: =SUM(M35:M36) -> 85387 | N37: =H37+J37+L37 -> 0 | O37: =I37+K37+M37 -> 243752
A38: 1-8-1 | B38: 오각-고재 | C38: 600*720 | D38: 고휘도 | E38: 교체 | F38: 매 | G38: 1 | K38: =ROUND(G38*J38,0) -> 0 | N38: =H38+J38+L38 -> 0 | O38: =I38+K38+M38 -> 0
C39: 고철 | E39: AL | F39: Set/Kg | G39: =설치수량!$I$13 -> 2.23 | H39: =단가조사!$P$77 -> -2850 | I39: =TRUNC(G39*H39) -> -6355 | K39: =ROUND(G39*J39,0) -> 0 | N39: =H39+J39+L39 -> -2850 | O39: =I39+K39+M39 -> -6355
B40: 합계 | I40: =SUM(I38:I39) -> -6355 | K40: =SUM(K38:K39) -> 0 | M40: =SUM(M38:M39) -> 0 | N40: =H40+J40+L40 -> 0 | O40: =I40+K40+M40 -> -6355
A41: 1-9 | B41: 사각 | C41: 400*400 | D41: 고휘도 | E41: 신설 | F41: 매 | G41: 1 | H41: =단가조사!$P$20 -> 56000 | I41: =TRUNC(G41*H41) -> 56000 | K41: =ROUND(G41*J41,0) -> 0 | N41: =H41+J41+L41 -> 56000 | O41: =I41+K41+M41 -> 56000
C42: 제품설치 | E42: 규격 | F42: 매 | G42: 1 | J42: =단가산출!$J$33 -> 28377 | K42: =TRUNC(G42*J42) -> 28377 | L42: =단가산출!L33 -> 567 | M42: =TRUNC(G42*L42) -> 567 | N42: =H42+J42+L42 -> 28944 | O42: =I42+K42+M42 -> 28944 | Q42: =단가산출!$A$29 -> 제06 | R42: 호
B43: 합계 | I43: =SUM(I41:I42) -> 56000 | K43: =SUM(K41:K42) -> 28377 | M43: =SUM(M41:M42) -> 567 | N43: =H43+J43+L43 -> 0 | O43: =I43+K43+M43 -> 84944
A44: 1-10 | B44: 사각 | C44: 400*400 | D44: 고휘도 | E44: 교체 | F44: 매 | G44: 1 | H44: =단가조사!$P$20 -> 56000 | I44: =TRUNC(G44*H44) -> 56000 | K44: =ROUND(G44*J44,0) -> 0 | N44: =H44+J44+L44 -> 56000 | O44: =I44+K44+M44 -> 56000
C45: 제품교체 | E45: 규격 | F45: 매 | G45: 1 | J45: =단가산출!$J$45 -> 66365 | K45: =TRUNC(G45*J45) -> 66365 | L45: =단가산출!L45 -> 85387 | M45: =TRUNC(G45*L45) -> 85387 | N45: =H45+J45+L45 -> 151752 | O45: =I45+K45+M45 -> 151752 | Q45: =단가산출!$A$40 -> 제08 | R45: 호
B46: 합계 | I46: =SUM(I44:I45) -> 56000 | K46: =SUM(K44:K45) -> 66365 | M46: =SUM(M44:M45) -> 85387 | N46: =H46+J46+L46 -> 0 | O46: =I46+K46+M46 -> 207752
A47: 1-10-1 | B47: 사각-고재 | C47: 400*400 | D47: 고휘도 | E47: 교체 | F47: 매 | G47: 1 | K47: =ROUND(G47*J47,0) -> 0 | N47: =H47+J47+L47 -> 0 | O47: =I47+K47+M47 -> 0
C48: 고철 | E48: AL | F48: Set/Kg | G48: =설치수량!$I$15 -> 1.604 | H48: =단가조사!$P$77 -> -2850 | I48: =TRUNC(G48*H48) -> -4571 | K48: =ROUND(G48*J48,0) -> 0 | N48: =H48+J48+L48 -> -2850 | O48: =I48+K48+M48 -> -4571
B49: 합계 | I49: =SUM(I47:I48) -> -4571 | K49: =SUM(K47:K48) -> 0 | M49: =SUM(M47:M48) -> 0 | N49: =H49+J49+L49 -> 0 | O49: =I49+K49+M49 -> -4571
A50: 1-11 | B50: 사각 | C50: 600*200 | D50: 고휘도 | E50: 신설 | F50: 매 | G50: 1 | H50: =단가조사!$P$21 -> 55000 | I50: =TRUNC(G50*H50) -> 55000 | K50: =ROUND(G50*J50,0) -> 0 | N50: =H50+J50+L50 -> 55000 | O50: =I50+K50+M50 -> 55000
C51: 제품설치 | E51: 규격 | F51: 매 | G51: 1 | J51: =단가산출!$J$33 -> 28377 | K51: =TRUNC(G51*J51) -> 28377 | L51: =단가산출!L33 -> 567 | M51: =TRUNC(G51*L51) -> 567 | N51: =H51+J51+L51 -> 28944 | O51: =I51+K51+M51 -> 28944 | Q51: =단가산출!$A$29 -> 제06 | R51: 호
B52: 합계 | I52: =SUM(I50:I51) -> 55000 | K52: =SUM(K50:K51) -> 28377 | M52: =SUM(M50:M51) -> 567 | N52: =H52+J52+L52 -> 0 | O52: =I52+K52+M52 -> 83944
A53: 1-12 | B53: 사각 | C53: 600*200 | D53: 고휘도 | E53: 교체 | F53: 매 | G53: 1 | H53: =단가조사!$P$21 -> 55000 | I53: =TRUNC(G53*H53) -> 55000 | K53: =ROUND(G53*J53,0) -> 0 | N53: =H53+J53+L53 -> 55000 | O53: =I53+K53+M53 -> 55000
C54: 제품교체 | E54: 규격 | F54: 매 | G54: 1 | J54: =단가산출!$J$45 -> 66365 | K54: =TRUNC(G54*J54) -> 66365 | L54: =단가산출!L45 -> 85387 | M54: =TRUNC(G54*L54) -> 85387 | N54: =H54+J54+L54 -> 151752 | O54: =I54+K54+M54 -> 151752 | Q54: =단가산출!$A$40 -> 제08 | R54: 호
B55: 합계 | I55: =SUM(I53:I54) -> 55000 | K55: =SUM(K53:K54) -> 66365 | M55: =SUM(M53:M54) -> 85387 | N55: =H55+J55+L55 -> 0 | O55: =I55+K55+M55 -> 206752
A56: 1-12-1 | B56: 사각-고재 | C56: 600*200 | D56: 고휘도 | E56: 교체 | F56: 매 | G56: 1 | K56: =ROUND(G56*J56,0) -> 0 | N56: =H56+J56+L56 -> 0 | O56: =I56+K56+M56 -> 0
C57: 고철 | E57: AL | F57: Set/Kg | G57: =설치수량!$I$17 -> 1.388 | H57: =단가조사!$P$77 -> -2850 | I57: =TRUNC(G57*H57) -> -3955 | K57: =ROUND(G57*J57,0) -> 0 | N57: =H57+J57+L57 -> -2850 | O57: =I57+K57+M57 -> -3955
B58: 합계 | I58: =SUM(I56:I57) -> -3955 | K58: =SUM(K56:K57) -> 0 | M58: =SUM(M56:M57) -> 0 | N58: =H58+J58+L58 -> 0 | O58: =I58+K58+M58 -> -3955
A59: 1-13 | B59: 사각 | C59: 600*300 | D59: 고휘도 | E59: 신설 | F59: 매 | G59: 1 | H59: =단가조사!$P$22 -> 56000 | I59: =TRUNC(G59*H59) -> 56000 | K59: =ROUND(G59*J59,0) -> 0 | N59: =H59+J59+L59 -> 56000 | O59: =I59+K59+M59 -> 56000
C60: 제품설치 | E60: 규격 | F60: 매 | G60: 1 | J60: =단가산출!$J$33 -> 28377 | K60: =TRUNC(G60*J60) -> 28377 | L60: =단가산출!L33 -> 567 | M60: =TRUNC(G60*L60) -> 567 | N60: =H60+J60+L60 -> 28944 | O60: =I60+K60+M60 -> 28944 | Q60: =단가산출!$A$29 -> 제06 | R60: 호
B61: 합계 | I61: =SUM(I59:I60) -> 56000 | K61: =SUM(K59:K60) -> 28377 | M61: =SUM(M59:M60) -> 567 | N61: =H61+J61+L61 -> 0 | O61: =I61+K61+M61 -> 84944
A62: 1-14 | B62: 사각 | C62: 600*300 | D62: 고휘도 | E62: 교체 | F62: 매 | G62: 1 | H62: =단가조사!$P$22 -> 56000 | I62: =TRUNC(G62*H62) -> 56000 | K62: =ROUND(G62*J62,0) -> 0 | N62: =H62+J62+L62 -> 56000 | O62: =I62+K62+M62 -> 56000
C63: 제품교체 | E63: 규격 | F63: 매 | G63: 1 | J63: =단가산출!$J$45 -> 66365 | K63: =TRUNC(G63*J63) -> 66365 | L63: =단가산출!L45 -> 85387 | M63: =TRUNC(G63*L63) -> 85387 | N63: =H63+J63+L63 -> 151752 | O63: =I63+K63+M63 -> 151752 | Q63: =단가산출!$A$40 -> 제08 | R63: 호
B64: 합계 | I64: =SUM(I62:I63) -> 56000 | K64: =SUM(K62:K63) -> 66365 | M64: =SUM(M62:M63) -> 85387 | N64: =H64+J64+L64 -> 0 | O64: =I64+K64+M64 -> 207752
A65: 1-14-1 | B65: 사각 | C65: 600*300 | D65: 고휘도 | E65: 교체 | F65: 매 | G65: 1 | K65: =ROUND(G65*J65,0) -> 0 | N65: =H65+J65+L65 -> 0 | O65: =I65+K65+M65 -> 0
C66: 고철 | E66: AL | F66: Set/Kg | G66: =설치수량!$I$19 -> 1.712 | H66: =단가조사!$P$77 -> -2850 | I66: =TRUNC(G66*H66) -> -4879 | K66: =ROUND(G66*J66,0) -> 0 | N66: =H66+J66+L66 -> -2850 | O66: =I66+K66+M66 -> -4879
B67: 합계 | I67: =SUM(I65:I66) -> -4879 | K67: =SUM(K65:K66) -> 0 | M67: =SUM(M65:M66) -> 0 | N67: =H67+J67+L67 -> 0 | O67: =I67+K67+M67 -> -4879
A68: 1-15 | B68: 사각 | C68: 600*400 | D68: 고휘도 | E68: 신설 | F68: 매 | G68: 1 | H68: =단가조사!$P$23 -> 63000 | I68: =TRUNC(G68*H68) -> 63000 | K68: =ROUND(G68*J68,0) -> 0 | N68: =H68+J68+L68 -> 63000 | O68: =I68+K68+M68 -> 63000
C69: 제품설치 | E69: 규격 | F69: 매 | G69: 1 | J69: =단가산출!$J$33 -> 28377 | K69: =TRUNC(G69*J69) -> 28377 | L69: =단가산출!L33 -> 567 | M69: =TRUNC(G69*L69) -> 567 | N69: =H69+J69+L69 -> 28944 | O69: =I69+K69+M69 -> 28944 | Q69: =단가산출!$A$29 -> 제06 | R69: 호
B70: 합계 | I70: =SUM(I68:I69) -> 63000 | K70: =SUM(K68:K69) -> 28377 | M70: =SUM(M68:M69) -> 567 | N70: =H70+J70+L70 -> 0 | O70: =I70+K70+M70 -> 91944
A71: 1-16 | B71: 사각 | C71: 600*400 | D71: 고휘도 | E71: 교체 | F71: 매 | G71: 1 | H71: =단가조사!$P$23 -> 63000 | I71: =TRUNC(G71*H71) -> 63000 | K71: =ROUND(G71*J71,0) -> 0 | N71: =H71+J71+L71 -> 63000 | O71: =I71+K71+M71 -> 63000
C72: 제품교체 | E72: 규격 | F72: 매 | G72: 1 | J72: =단가산출!$J$45 -> 66365 | K72: =TRUNC(G72*J72) -> 66365 | L72: =단가산출!L45 -> 85387 | M72: =TRUNC(G72*L72) -> 85387 | N72: =H72+J72+L72 -> 151752 | O72: =I72+K72+M72 -> 151752 | Q72: =단가산출!$A$40 -> 제08 | R72: 호
B73: 합계 | I73: =SUM(I71:I72) -> 63000 | K73: =SUM(K71:K72) -> 66365 | M73: =SUM(M71:M72) -> 85387 | N73: =H73+J73+L73 -> 0 | O73: =I73+K73+M73 -> 214752
A74: 1-16-1 | B74: 사각-고재 | C74: 600*400 | D74: 고휘도 | E74: 교체 | F74: 매 | G74: 1 | K74: =ROUND(G74*J74,0) -> 0 | N74: =H74+J74+L74 -> 0 | O74: =I74+K74+M74 -> 0
C75: 고철 | E75: AL | F75: Set/Kg | G75: =설치수량!$I$21 -> 1.804 | H75: =단가조사!$P$77 -> -2850 | I75: =TRUNC(G75*H75) -> -5141 | K75: =ROUND(G75*J75,0) -> 0 | N75: =H75+J75+L75 -> -2850 | O75: =I75+K75+M75 -> -5141
B76: 합계 | I76: =SUM(I74:I75) -> -5141 | K76: =SUM(K74:K75) -> 0 | M76: =SUM(M74:M75) -> 0 | N76: =H76+J76+L76 -> 0 | O76: =I76+K76+M76 -> -5141
A77: 1-17 | B77: 사각 | C77: 550*600 | D77: 고휘도 | E77: 신설 | F77: 매 | G77: 1 | H77: =단가조사!$P$24 -> 91000 | I77: =TRUNC(G77*H77) -> 91000 | K77: =ROUND(G77*J77,0) -> 0 | N77: =H77+J77+L77 -> 91000 | O77: =I77+K77+M77 -> 91000
C78: 제품설치 | E78: 규격 | F78: 매 | G78: 1 | J78: =단가산출!$J$33 -> 28377 | K78: =TRUNC(G78*J78) -> 28377 | L78: =단가산출!L33 -> 567 | M78: =TRUNC(G78*L78) -> 567 | N78: =H78+J78+L78 -> 28944 | O78: =I78+K78+M78 -> 28944 | Q78: =단가산출!$A$29 -> 제06 | R78: 호
B79: 합계 | I79: =SUM(I77:I78) -> 91000 | K79: =SUM(K77:K78) -> 28377 | M79: =SUM(M77:M78) -> 567 | N79: =H79+J79+L79 -> 0 | O79: =I79+K79+M79 -> 119944
A80: 1-18 | B80: 사각 | C80: 550*600 | D80: 고휘도 | E80: 교체 | F80: 매 | G80: 1 | H80: =단가조사!$P$24 -> 91000 | I80: =TRUNC(G80*H80) -> 91000 | K80: =ROUND(G80*J80,0) -> 0 | N80: =H80+J80+L80 -> 91000 | O80: =I80+K80+M80 -> 91000
C81: 제품교체 | E81: 규격 | F81: 매 | G81: 1 | J81: =단가산출!$J$45 -> 66365 | K81: =TRUNC(G81*J81) -> 66365 | L81: =단가산출!L45 -> 85387 | M81: =TRUNC(G81*L81) -> 85387 | N81: =H81+J81+L81 -> 151752 | O81: =I81+K81+M81 -> 151752 | Q81: =단가산출!$A$40 -> 제08 | R81: 호
B82: 합계 | I82: =SUM(I80:I81) -> 91000 | K82: =SUM(K80:K81) -> 66365 | M82: =SUM(M80:M81) -> 85387 | N82: =H82+J82+L82 -> 0 | O82: =I82+K82+M82 -> 242752
A83: 1-18-1 | B83: 사각-고재 | C83: 550*600 | D83: 고휘도 | E83: 교체 | F83: 매 | G83: 1 | K83: =ROUND(G83*J83,0) -> 0 | N83: =H83+J83+L83 -> 0 | O83: =I83+K83+M83 -> 0
C84: 고철 | E84: AL | F84: Set/Kg | G84: =설치수량!$I$23 -> 2.522 | H84: =단가조사!$P$77 -> -2850 | I84: =TRUNC(G84*H84) -> -7187 | K84: =ROUND(G84*J84,0) -> 0 | N84: =H84+J84+L84 -> -2850 | O84: =I84+K84+M84 -> -7187
B85: 합계 | I85: =SUM(I83:I84) -> -7187 | K85: =SUM(K83:K84) -> 0 | M85: =SUM(M83:M84) -> 0 | N85: =H85+J85+L85 -> 0 | O85: =I85+K85+M85 -> -7187
A86: 1-19 | B86: 사각 | C86: 600*600 | D86: 고휘도 | E86: 신설 | F86: 매 | G86: 1 | H86: =단가조사!$P$25 -> 115000 | I86: =TRUNC(G86*H86) -> 115000 | K86: =ROUND(G86*J86,0) -> 0 | N86: =H86+J86+L86 -> 115000 | O86: =I86+K86+M86 -> 115000
C87: 제품설치 | E87: 규격 | F87: 매 | G87: 1 | J87: =단가산출!$J$33 -> 28377 | K87: =TRUNC(G87*J87) -> 28377 | L87: =단가산출!L33 -> 567 | M87: =TRUNC(G87*L87) -> 567 | N87: =H87+J87+L87 -> 28944 | O87: =I87+K87+M87 -> 28944 | Q87: =단가산출!$A$29 -> 제06 | R87: 호
B88: 합계 | I88: =SUM(I86:I87) -> 115000 | K88: =SUM(K86:K87) -> 28377 | M88: =SUM(M86:M87) -> 567 | N88: =H88+J88+L88 -> 0 | O88: =I88+K88+M88 -> 143944
A89: 1-20 | B89: 사각 | C89: 600*600 | D89: 고휘도 | E89: 교체 | F89: 매 | G89: 1 | H89: =단가조사!$P$25 -> 115000 | I89: =TRUNC(G89*H89) -> 115000 | K89: =ROUND(G89*J89,0) -> 0 | N89: =H89+J89+L89 -> 115000 | O89: =I89+K89+M89 -> 115000
C90: 제품교체 | E90: 규격 | F90: 매 | G90: 1 | J90: =단가산출!$J$45 -> 66365 | K90: =TRUNC(G90*J90) -> 66365 | L90: =단가산출!L45 -> 85387 | M90: =TRUNC(G90*L90) -> 85387 | N90: =H90+J90+L90 -> 151752 | O90: =I90+K90+M90 -> 151752 | Q90: =단가산출!$A$40 -> 제08 | R90: 호
B91: 합계 | I91: =SUM(I89:I90) -> 115000 | K91: =SUM(K89:K90) -> 66365 | M91: =SUM(M89:M90) -> 85387 | N91: =H91+J91+L91 -> 0 | O91: =I91+K91+M91 -> 266752
A92: 1-20-1 | B92: 사각-고재 | C92: 600*600 | D92: 고휘도 | E92: 교체 | F92: 매 | G92: 1 | K92: =ROUND(G92*J92,0) -> 0 | N92: =H92+J92+L92 -> 0 | O92: =I92+K92+M92 -> 0
C93: 고철 | E93: AL | F93: Set/Kg | G93: =설치수량!$I$25 -> 2.684 | H93: =단가조사!$P$77 -> -2850 | I93: =TRUNC(G93*H93) -> -7649 | K93: =ROUND(G93*J93,0) -> 0 | N93: =H93+J93+L93 -> -2850 | O93: =I93+K93+M93 -> -7649
B94: 합계 | I94: =SUM(I92:I93) -> -7649 | K94: =SUM(K92:K93) -> 0 | M94: =SUM(M92:M93) -> 0 | N94: =H94+J94+L94 -> 0 | O94: =I94+K94+M94 -> -7649
A95: 1-21 | B95: 팔각 | C95: 600*600 | D95: 고휘도 | E95: 신설 | F95: 매 | G95: 1 | H95: =단가조사!$P$14 -> 99000 | I95: =TRUNC(G95*H95) -> 99000 | K95: =ROUND(G95*J95,0) -> 0 | N95: =H95+J95+L95 -> 99000 | O95: =I95+K95+M95 -> 99000
C96: 제품설치 | E96: 규격 | F96: 매 | G96: 1 | J96: =단가산출!$J$33 -> 28377 | K96: =TRUNC(G96*J96) -> 28377 | L96: =단가산출!L33 -> 567 | M96: =TRUNC(G96*L96) -> 567 | N96: =H96+J96+L96 -> 28944 | O96: =I96+K96+M96 -> 28944 | Q96: =단가산출!$A$29 -> 제06 | R96: 호
B97: 합계 | I97: =SUM(I95:I96) -> 99000 | K97: =SUM(K95:K96) -> 28377 | M97: =SUM(M95:M96) -> 567 | N97: =H97+J97+L97 -> 0 | O97: =I97+K97+M97 -> 127944
A98: 1-22 | B98: 팔각 | C98: 600*600 | D98: 고휘도 | E98: 교체 | F98: 매 | G98: 1 | H98: =단가조사!$P$14 -> 99000 | I98: =TRUNC(G98*H98) -> 99000 | K98: =ROUND(G98*J98,0) -> 0 | N98: =H98+J98+L98 -> 99000 | O98: =I98+K98+M98 -> 99000
C99: 제품교체 | E99: 규격 | F99: 매 | G99: 1 | J99: =단가산출!$J$45 -> 66365 | K99: =TRUNC(G99*J99) -> 66365 | L99: =단가산출!L45 -> 85387 | M99: =TRUNC(G99*L99) -> 85387 | N99: =H99+J99+L99 -> 151752 | O99: =I99+K99+M99 -> 151752 | Q99: =단가산출!$A$40 -> 제08 | R99: 호
B100: 합계 | I100: =SUM(I98:I99) -> 99000 | K100: =SUM(K98:K99) -> 66365 | M100: =SUM(M98:M99) -> 85387 | N100: =H100+J100+L100 -> 0 | O100: =I100+K100+M100 -> 250752
...

Sheet 단가산출
A2: 단 가 산 출
A4: =내역서!A2 -> 공사명 : 2026년 교통사고 잦은 곳 개선사업 교통안전표지 공사(남부)
A5: 명 칭 | B5: 구 분 | D5: 규 격 | E5: 단위 | F5: 수량 | G5: 재 료 비 | I5: 노 무 비 | K5: 경 비 | M5: 합 계 | O5: 비 고
G6: 단가 | H6: 금액 | I6: 단가 | J6: 금액 | K6: 단가 | L6: 금액 | M6: 단가 | N6: 금액
A7: 제01 | B7: 호 | C7: 굴착(인력/토사)(25년 보완) | D7: 보통토사 | E7: M3 | O7: 건설 공통 3-2-1 | P7: 터파기(인력)
B8: 특별인부 | E8: 인 | F8: =1/3.6 -> 0.27777778 | I8: =공사노임!C5 -> 226122 | J8: =TRUNC(F8*I8) -> 62811 | M8: =G8+I8+K8 -> 226122 | N8: =H8+J8+L8 -> 62811
B9: 소 계 | J9: =SUM(J8:J8) -> 62811 | N9: =H9+J9+L9 -> 62811
A10: 제02 | B10: 호 | C10: 흙 다지기(25년 신설) | D10: 토사, 30cm | E10: M3 | O10: 건설 공통 3-4-3 | P10: 되메우기
B11: 특별인부 | F11: =1/24 -> 0.041666667 | I11: =공사노임!C5 -> 226122 | J11: =TRUNC(F11*I11) -> 9421
B12: 보통인부 | F12: =1/24 -> 0.041666667 | I12: =공사노임!C4 -> 172068 | J12: =TRUNC(F12*I12) -> 7169
B13: 래머 | D13: 80kg | E13: 대 | F13: 0.4 | L13: 0 | M13: 0 | N13: 0
B14: 소 계 | J14: =SUM(J11:J13) -> 16590 | L14: =SUM(L11:L13) -> 0 | N14: =H14+J14+L14 -> 16590
A15: 제03 | B15: 호 | C15: 흙 다지기(25년 신설) | D15: 토사, 30cm | E15: M3 | O15: 건설 공통 3-4-3 | P15: 되메우기
B16: 특별인부 | F16: =1/20 -> 0.05 | I16: =공사노임!C5 -> 226122 | J16: =TRUNC(F16*I16) -> 11306
B17: 보통인부 | F17: =1/20 -> 0.05 | I17: =공사노임!C4 -> 172068 | J17: =TRUNC(F17*I17) -> 8603
B18: 플레이트콤팩터 | D18: 1.5ton | E18: hr | F18: =1/24*8 -> 0.33333333 | K18: =기계경비!F70 -> 39005 | L18: =TRUNC(F18*K18) -> 13001 | M18: =G18+I18+K18 -> 39005 | N18: =H18+J18+L18 -> 13001
B19: 소 계 | J19: =SUM(J16:J18) -> 19909 | L19: =SUM(L16:L18) -> 13001 | N19: =H19+J19+L19 -> 32910
A20: 제04 | B20: 호 | C20: 잔토처리(인력) | D20: 현장내 | E20: M3 | O20: 건설 공통 3-2-1
B21: 보통인부 | E21: 인 | F21: 0.2 | I21: =공사노임!C4 -> 172068 | J21: =TRUNC(F21*I21) -> 34413 | M21: =G21+I21+K21 -> 172068 | N21: =H21+J21+L21 -> 34413
B22: 소 계 | J22: =SUM(J21:J21) -> 34413 | N22: =H22+J22+L22 -> 34413
A23: 제05 | B23: 호 | C23: 철근가공 | D23: Type-1 | E23: Ton | O23: 건설 공통 6-2-2
B24: 철근 | E24: Ton | F24: 1.03 | G24: =단가조사!P86 -> 846000 | H24: =TRUNC(F24*G24) -> 871380 | M24: =G24+I24+K24 -> 846000 | N24: =H24+J24+L24 -> 871380
B25: 결속선 | D25: 0.9mm | E25: kg | F25: 5 | G25: =단가조사!P87 -> 1690 | H25: =TRUNC(F25*G25) -> 8450 | M25: =G25+I25+K25 -> 1690 | N25: =H25+J25+L25 -> 8450
B26: 철근공 | E26: 인 | F26: =3/4.5 -> 0.66666667 | I26: =공사노임!C7 -> 268187 | J26: =TRUNC(F26*I26) -> 178791 | M26: =G26+I26+K26 -> 268187 | N26: =H26+J26+L26 -> 178791
B27: 보통인부 | E27: 인 | F27: =1/4.5 -> 0.22222222 | I27: =공사노임!C4 -> 172068 | J27: =TRUNC(F27*I27) -> 38237 | M27: =G27+I27+K27 -> 172068 | N27: =H27+J27+L27 -> 38237
B28: 소 계 | H28: =SUM(H24:H27) -> 879830 | J28: =SUM(J24:J27) -> 217028 | N28: =H28+J28+L28 -> 1096858
A29: 제06 | B29: 호 | C29: 교통안전표지판 설치 | D29: 규격 | E29: 매 | O29: 건설 토목 1-8-1
B30: 보통인부 | E30: 인 | F30: =(1/22) -> 0.045454545 | I30: =공사노임!C4 -> 172068 | J30: =TRUNC(F30*I30) -> 7821 | M30: =G30+I30+K30 -> 172068 | N30: =H30+J30+L30 -> 7821
B31: 특별인부 | E31: 인 | F31: =2/22 -> 0.090909091 | I31: =공사노임!C5 -> 226122 | J31: =TRUNC(F31*I31) -> 20556 | M31: =G31+I31+K31 -> 226122 | N31: =H31+J31+L31 -> 20556
B32: 공구손료 | D32: 노무비의 2% | E32: 식 | F32: 0.02 | K32: =J33 -> 28377 | L32: =TRUNC(K32*F32) -> 567 | M32: =G32+I32+K32 -> 28377 | N32: =H32+J32+L32 -> 567
B33: 소 계 | J33: =SUM(J30:J32) -> 28377 | L33: =SUM(L30:L32) -> 567 | N33: =H33+J33+L33 -> 28944
A34: 제07 | B34: 호 | C34: 교통안전표지판 철거 | D34: 규격 | E34: 매 | O34: 건설 유지관리 2-1-21
B35: 보통인부 | E35: 인 | F35: =1/17 -> 0.058823529 | I35: =공사노임!C4 -> 172068 | J35: =TRUNC(F35*I35) -> 10121 | M35: =G35+I35+K35 -> 172068 | N35: =H35+J35+L35 -> 10121
B36: 특별인부 | E36: 인 | F36: =2/17 -> 0.11764706 | I36: =공사노임!C5 -> 226122 | J36: =TRUNC(F36*I36) -> 26602 | M36: =G36+I36+K36 -> 226122 | N36: =H36+J36+L36 -> 26602
B37: 덤프트럭 | D37: 2.5Ton | E37: hr | F37: =1/17*8 -> 0.47058824 | K37: =기계경비!F14 -> 63045 | L37: =TRUNC(F37*K37) -> 29668 | M37: =G37+I37+K37 -> 63045 | N37: =H37+J37+L37 -> 29668
B38: 공구손료 | D38: 노무비의 2% | E38: 식 | F38: 0.02 | K38: =J39 -> 36723 | L38: =TRUNC(K38*F38) -> 734 | M38: =G38+I38+K38 -> 36723 | N38: =H38+J38+L38 -> 734
B39: 소 계 | H39: =SUM(H35:H38) -> 0 | J39: =SUM(J35:J38) -> 36723 | L39: =SUM(L35:L38) -> 30402 | N39: =H39+J39+L39 -> 67125
A40: 제08 | B40: 호 | C40: 교통안전표지판 교체 | D40: 규격 | E40: 매 | O40: 건설 유지관리 2-1-22
B41: 보통인부 | E41: 인 | F41: =1/6 -> 0.16666667 | I41: =공사노임!C4 -> 172068 | J41: =TRUNC(F41*I41) -> 28678 | M41: =G41+I41+K41 -> 172068 | N41: =H41+J41+L41 -> 28678
B42: 특별인부 | E42: 인 | F42: =1/6 -> 0.16666667 | I42: =공사노임!C5 -> 226122 | J42: =TRUNC(F42*I42) -> 37687 | M42: =G42+I42+K42 -> 226122 | N42: =H42+J42+L42 -> 37687
B43: 덤프트럭 | D43: 2.5Ton | E43: hr | F43: =1/6*8 -> 1.3333333 | K43: =기계경비!F14 -> 63045 | L43: =TRUNC(F43*K43) -> 84060 | M43: =G43+I43+K43 -> 63045 | N43: =H43+J43+L43 -> 84060
B44: 공구손료 | D44: 노무비의 2% | E44: 식 | F44: 0.02 | K44: =J45 -> 66365 | L44: =TRUNC(K44*F44) -> 1327 | M44: =G44+I44+K44 -> 66365 | N44: =H44+J44+L44 -> 1327
B45: 소 계 | H45: =SUM(H41:H44) -> 0 | J45: =SUM(J41:J44) -> 66365 | L45: =SUM(L41:L44) -> 85387 | N45: =H45+J45+L45 -> 151752
A46: 제09 | B46: 호 | C46: 교통안전표지판 설치 | D46: 중형 | E46: 매 | O46: 건설 토목 1-8-1
B47: 보통인부 | E47: 인 | F47: =(1/22) -> 0.045454545 | I47: =공사노임!C4 -> 172068 | J47: =TRUNC(F47*I47) -> 7821 | M47: =G47+I47+K47 -> 172068 | N47: =H47+J47+L47 -> 7821
B48: 특별인부 | E48: 인 | F48: =(2/22) -> 0.090909091 | I48: =공사노임!C5 -> 226122 | J48: =TRUNC(F48*I48) -> 20556 | M48: =G48+I48+K48 -> 226122 | N48: =H48+J48+L48 -> 20556
B49: 공구손료 | D49: 노무비의 2% | E49: 식 | F49: 0.02 | K49: =J50 -> 28377 | L49: =TRUNC(K49*F49) -> 567 | M49: =G49+I49+K49 -> 28377 | N49: =H49+J49+L49 -> 567
B50: 소 계 | J50: =SUM(J47:J49) -> 28377 | L50: =SUM(L47:L49) -> 567 | N50: =H50+J50+L50 -> 28944
A51: 제10 | B51: 호 | C51: 교통안전표지판 철거 | D51: 중형 | E51: 매 | O51: 건설 유지관리 2-1-21
B52: 보통인부 | E52: 인 | F52: =1/17 -> 0.058823529 | I52: =공사노임!C4 -> 172068 | J52: =TRUNC(F52*I52) -> 10121 | M52: =G52+I52+K52 -> 172068 | N52: =H52+J52+L52 -> 10121
B53: 특별인부 | E53: 인 | F53: =2/17 -> 0.11764706 | I53: =공사노임!C5 -> 226122 | J53: =TRUNC(F53*I53) -> 26602 | M53: =G53+I53+K53 -> 226122 | N53: =H53+J53+L53 -> 26602
B54: 덤프트럭 | D54: 2.5Ton | E54: hr | F54: =1/17*8 -> 0.47058824 | K54: =기계경비!F14 -> 63045 | L54: =TRUNC(F54*K54) -> 29668 | M54: =G54+I54+K54 -> 63045 | N54: =H54+J54+L54 -> 29668
B55: 공구손료 | D55: 노무비의 2% | E55: 식 | F55: 0.02 | K55: =J56 -> 36723 | L55: =TRUNC(K55*F55) -> 734 | M55: =G55+I55+K55 -> 36723 | N55: =H55+J55+L55 -> 734
B56: 소 계 | H56: =SUM(H52:H55) -> 0 | J56: =SUM(J52:J55) -> 36723 | L56: =SUM(L52:L55) -> 30402 | N56: =H56+J56+L56 -> 67125
A57: 제11 | B57: 호 | C57: 교통안전표지판 교체 | D57: 중형 | E57: 매 | O57: 건설 유지관리 2-1-22
B58: 보통인부 | E58: 인 | F58: =1/6 -> 0.16666667 | I58: =공사노임!C4 -> 172068 | J58: =TRUNC(F58*I58) -> 28678 | M58: =G58+I58+K58 -> 172068 | N58: =H58+J58+L58 -> 28678
B59: 특별인부 | E59: 인 | F59: =1/6 -> 0.16666667 | I59: =공사노임!C5 -> 226122 | J59: =TRUNC(F59*I59) -> 37687 | M59: =G59+I59+K59 -> 226122 | N59: =H59+J59+L59 -> 37687
B60: 덤프트럭 | D60: 2.5Ton | E60: hr | F60: =1/6*8 -> 1.3333333 | K60: =기계경비!F14 -> 63045 | L60: =TRUNC(F60*K60) -> 84060 | M60: =G60+I60+K60 -> 63045 | N60: =H60+J60+L60 -> 84060
B61: 공구손료 | D61: 노무비의 2% | E61: 식 | F61: 0.02 | K61: =J62 -> 66365 | L61: =TRUNC(K61*F61) -> 1327 | M61: =G61+I61+K61 -> 66365 | N61: =H61+J61+L61 -> 1327
B62: 소 계 | H62: =SUM(H58:H61) -> 0 | J62: =SUM(J58:J61) -> 66365 | L62: =SUM(L58:L61) -> 85387 | N62: =H62+J62+L62 -> 151752
A63: 제12 | B63: 호 | C63: T형부착대 설치 | E63: SET
B64: 보통인부 | D64: 표지판설치 제외 | E64: 인 | F64: =(1/22) -> 0.045454545 | I64: =공사노임!C4 -> 172068 | J64: =TRUNC(F64*I64) -> 7821 | M64: =G64+I64+K64 -> 172068 | N64: =H64+J64+L64 -> 7821
B65: 특별인부 | D65: 표지판설치 제외 | E65: 인 | F65: =2/22 -> 0.090909091 | I65: =공사노임!C5 -> 226122 | J65: =TRUNC(F65*I65) -> 20556 | M65: =G65+I65+K65 -> 226122 | N65: =H65+J65+L65 -> 20556
B66: 트럭탑재형 크레인 | D66: 3Ton | E66: hr | F66: =1/22*8 -> 0.36363636 | K66: =기계경비!F42 -> 66197 | L66: =TRUNC(F66*K66) -> 24071 | M66: =G66+I66+K66 -> 66197 | N66: =H66+J66+L66 -> 24071
B67: 공구손료 | D67: 노무비의 2% | E67: 식 | F67: 0.02 | K67: =J68 -> 28377 | L67: =TRUNC(K67*F67) -> 567 | M67: =G67+I67+K67 -> 28377 | N67: =H67+J67+L67 -> 567
B68: 소 계 | H68: =SUM(H64:H67) -> 0 | J68: =SUM(J64:J67) -> 28377 | L68: =SUM(L64:L67) -> 24638 | N68: =H68+J68+L68 -> 53015
A69: 제13 | B69: 호 | C69: T형부착대 철거 | E69: SET
B70: 보통인부 | E70: 인 | F70: =1/17 -> 0.058823529 | I70: =공사노임!C4 -> 172068 | J70: =TRUNC(F70*I70) -> 10121 | M70: =G70+I70+K70 -> 172068 | N70: =H70+J70+L70 -> 10121
B71: 특별인부 | E71: 인 | F71: =2/17 -> 0.11764706 | I71: =공사노임!C5 -> 226122 | J71: =TRUNC(F71*I71) -> 26602 | M71: =G71+I71+K71 -> 226122 | N71: =H71+J71+L71 -> 26602
B72: 트럭탑재형 크레인 | D72: 3Ton | E72: hr | F72: =1/17*8 -> 0.47058824 | K72: =기계경비!F42 -> 66197 | L72: =TRUNC(F72*K72) -> 31151 | M72: =G72+I72+K72 -> 66197 | N72: =H72+J72+L72 -> 31151
B73: 공구손료 | D73: 노무비의 2% | E73: 식 | F73: 0.02 | K73: =J74 -> 36723 | L73: =TRUNC(K73*F73) -> 734 | M73: =G73+I73+K73 -> 36723 | N73: =H73+J73+L73 -> 734
B74: 소 계 | H74: =SUM(H70:H73) -> 0 | J74: =SUM(J70:J73) -> 36723 | L74: =SUM(L70:L73) -> 31885 | N74: =H74+J74+L74 -> 68608
A75: 제14 | B75: 호 | C75: T형부착대 교체 | E75: SET
B76: 보통인부 | E76: 인 | F76: =1/6 -> 0.16666667 | I76: =공사노임!C4 -> 172068 | J76: =TRUNC(F76*I76) -> 28678 | M76: =G76+I76+K76 -> 172068 | N76: =H76+J76+L76 -> 28678
B77: 특별인부 | E77: 인 | F77: =1/6 -> 0.16666667 | I77: =공사노임!C5 -> 226122 | J77: =TRUNC(F77*I77) -> 37687 | M77: =G77+I77+K77 -> 226122 | N77: =H77+J77+L77 -> 37687
B78: 트럭탑재형 크레인 | D78: 3Ton | E78: hr | F78: =1/6*8 -> 1.3333333 | K78: =기계경비!F42 -> 66197 | L78: =TRUNC(F78*K78) -> 88262 | M78: =G78+I78+K78 -> 66197 | N78: =H78+J78+L78 -> 88262
B79: 공구손료 | D79: 노무비의 2% | E79: 식 | F79: 0.02 | K79: =J80 -> 66365 | L79: =TRUNC(K79*F79) -> 1327 | M79: =G79+I79+K79 -> 66365 | N79: =H79+J79+L79 -> 1327
B80: 소 계 | H80: =SUM(H76:H79) -> 0 | J80: =SUM(J76:J79) -> 66365 | L80: =SUM(L76:L79) -> 89589 | N80: =H80+J80+L80 -> 155954
A81: 제15 | B81: 호 | C81: 표지판지주 설치 | E81: SET | O81: 건설 토목 1-8-1
B82: 보통인부 | D82: 표지판설치 제외 | E82: 인 | F82: =1/12 -> 0.083333333 | I82: =공사노임!C4 -> 172068 | J82: =TRUNC(F82*I82) -> 14339 | M82: =G82+I82+K82 -> 172068 | N82: =H82+J82+L82 -> 14339
B83: 특별인부 | D83: 표지판설치 제외 | E83: 인 | F83: =2/12 -> 0.16666667 | I83: =공사노임!C5 -> 226122 | J83: =TRUNC(F83*I83) -> 37687 | M83: =G83+I83+K83 -> 226122 | N83: =H83+J83+L83 -> 37687
B84: 트럭탑재형 크레인 | D84: 5Ton | E84: hr | F84: =1/12*8 -> 0.66666667 | K84: =기계경비!F56 -> 71210 | L84: =TRUNC(F84*K84) -> 47473 | M84: =G84+I84+K84 -> 71210 | N84: =H84+J84+L84 -> 47473
B85: 공구손료 | D85: 노무비의 2% | E85: 식 | F85: 0.02 | K85: =J86 -> 52026 | L85: =TRUNC(F85*K85) -> 1040 | M85: =G85+I85+K85 -> 52026 | N85: =H85+J85+L85 -> 1040
B86: 소 계 | H86: =SUM(H82:H85) -> 0 | J86: =SUM(J82:J85) -> 52026 | L86: =SUM(L82:L85) -> 48513 | N86: =H86+J86+L86 -> 100539
A87: 제16 | B87: 호 | C87: 표지판지주 철거 | E87: SET
B88: 보통인부 | D88: 설치의 50% | E88: 인 | F88: =F82*0.5 -> 0.041666667 | I88: =공사노임!C4 -> 172068 | J88: =TRUNC(F88*I88) -> 7169 | M88: =G88+I88+K88 -> 172068 | N88: =H88+J88+L88 -> 7169
B89: 특별인부 | D89: 설치의 50% | E89: 인 | F89: =F83*0.5 -> 0.083333333 | I89: =공사노임!C5 -> 226122 | J89: =TRUNC(F89*I89) -> 18843 | M89: =G89+I89+K89 -> 226122 | N89: =H89+J89+L89 -> 18843
B90: 트럭탑재형 크레인 | D90: 5Ton | E90: hr | F90: =F84*0.5 -> 0.33333333 | K90: =기계경비!F56 -> 71210 | L90: =TRUNC(F90*K90) -> 23736 | M90: =G90+I90+K90 -> 71210 | N90: =H90+J90+L90 -> 23736
B91: 공구손료 | D91: 노무비의 2% | E91: 식 | F91: 0.02 | K91: =J92 -> 26012 | L91: =TRUNC(F91*K91) -> 520 | M91: =G91+I91+K91 -> 26012 | N91: =H91+J91+L91 -> 520
B92: 소 계 | H92: =SUM(H88:H91) -> 0 | J92: =SUM(J88:J91) -> 26012 | L92: =SUM(L88:L91) -> 24256 | N92: =H92+J92+L92 -> 50268
A93: 제17 | B93: 호 | C93: 표지판지주 교체 | E93: SET
B94: 보통인부 | D94: 설치+철거 | E94: 인 | F94: =F82+F88 -> 0.125 | I94: =공사노임!C4 -> 172068 | J94: =TRUNC(F94*I94) -> 21508 | M94: =G94+I94+K94 -> 172068 | N94: =H94+J94+L94 -> 21508
B95: 특별인부 | D95: 설치+철거 | E95: 인 | F95: =F83+F89 -> 0.25 | I95: =공사노임!C5 -> 226122 | J95: =TRUNC(F95*I95) -> 56530 | M95: =G95+I95+K95 -> 226122 | N95: =H95+J95+L95 -> 56530
B96: 트럭탑재형 크레인 | D96: 5Ton | E96: hr | F96: =F84+F90 -> 1 | K96: =기계경비!F56 -> 71210 | L96: =TRUNC(F96*K96) -> 71210 | M96: =G96+I96+K96 -> 71210 | N96: =H96+J96+L96 -> 71210
B97: 공구손료 | D97: 노무비의 2% | E97: 식 | F97: 0.02 | K97: =J98 -> 78038 | L97: =TRUNC(F97*K97) -> 1560 | M97: =G97+I97+K97 -> 78038 | N97: =H97+J97+L97 -> 1560
B98: 소 계 | H98: =SUM(H94:H97) -> 0 | J98: =SUM(J94:J97) -> 78038 | L98: =SUM(L94:L97) -> 72770 | N98: =H98+J98+L98 -> 150808
A99: 제18 | B99: 호 | C99: 교통안전표지 설치 | D99: 대형 | E99: 매
B100: 보통인부 | E100: 인 | F100: 0.125 | I100: =공사노임!C4 -> 172068 | J100: =TRUNC(F100*I100) -> 21508 | M100: =G100+I100+K100 -> 172068 | N100: =H100+J100+L100 -> 21508
B101: 특별인부 | E101: 인 | F101: 0.375 | I101: =공사노임!C5 -> 226122 | J101: =TRUNC(F101*I101) -> 84795 | M101: =G101+I101+K101 -> 226122 | N101: =H101+J101+L101 -> 84795
B102: 트럭탑재형 크레인 | D102: 5Ton | E102: hr | F102: =0.125*8 -> 1 | K102: =기계경비!F56 -> 71210 | L102: =TRUNC(F102*K102) -> 71210 | M102: =G102+I102+K102 -> 71210 | N102: =H102+J102+L102 -> 71210
...

Sheet 설치수량
A1: 설 치 공 사 수 량
A2: =내역서!A2 -> 공사명 : 2026년 교통사고 잦은 곳 개선사업 교통안전표지 공사(남부)
B3: 구 분 | F3: 단위 | G3: 중량 | H3: 면적 | I3: 철거재 | L3: 거푸집 | N3: 콘크리트 | O3: 토목계 | R3: 비고
I4: AL | J4: SS | K4: STS | L4: 6회 | M4: 4회 | N4: 1:2:4 | O4: 터파기 | P4: 되메우기 | Q4: 잔토
A6: 1-1 | B6: 신설 | C6: 삼각 변 | D6: 900 | E6: 고휘도 | F6: 매 | G6: =재료산출!I14 -> 2.634 | H6: =재료산출!$G$11 -> 0.35
A7: 1-2 | B7: 교체 | C7: 삼각 변 | D7: 900 | E7: 고휘도 | F7: 매 | G7: =재료산출!I17 -> 2.634 | H7: =재료산출!$G$11 -> 0.35 | I7: =G7 -> 2.634
A8: 1-3 | B8: 신설 | C8: 삼각 ▽ | D8: 800 | E8: 고휘도 | F8: 매 | G8: =재료산출!I26 -> 2.179 | H8: =재료산출!$G$23 -> 0.277
A9: 1-4 | B9: 교체 | C9: 삼각 ▽ | D9: 800 | E9: 고휘도 | F9: 매 | G9: =재료산출!I29 -> 2.179 | H9: =재료산출!$G$23 -> 0.277 | I9: =G9 -> 2.179
A10: 1-5 | B10: 신설 | C10: 원형 | D10: Φ600 | E10: 고휘도 | F10: 매 | G10: =재료산출!I38 -> 2.266 | H10: =재료산출!$G$35 -> 0.282
A11: 1-6 | B11: 교체 | C11: 원형 | D11: Φ600 | E11: 고휘도 | F11: 매 | G11: =재료산출!I41 -> 2.266 | H11: =재료산출!$G$35 -> 0.282 | I11: =G11 -> 2.266
A12: 1-7 | B12: 신설 | C12: 오각 | D12: 600*720 | E12: 고휘도 | F12: 매 | G12: =재료산출!I49 -> 2.23 | H12: =재료산출!$G$47 -> 0.275
A13: 1-8 | B13: 교체 | C13: 오각 | D13: 600*720 | E13: 고휘도 | F13: 매 | G13: =재료산출!I52 -> 2.23 | H13: =재료산출!$G$47 -> 0.275 | I13: =G13 -> 2.23
A14: 1-9 | B14: 신설 | C14: 사각 | D14: 400*400 | E14: 고휘도 | F14: 매 | G14: =재료산출!I60 -> 1.604 | H14: =재료산출!$G$58 -> 0.16
A15: 1-10 | B15: 교체 | C15: 사각 | D15: 400*400 | E15: 고휘도 | F15: 매 | G15: =재료산출!I63 -> 1.604 | H15: =재료산출!$G$58 -> 0.16 | I15: =G15 -> 1.604
A16: 1-11 | B16: 신설 | C16: 사각 | D16: 600*200 | E16: 고휘도 | F16: 매 | G16: =재료산출!I71 -> 1.388 | H16: =재료산출!$G$69 -> 0.12
A17: 1-12 | B17: 교체 | C17: 사각 | D17: 600*200 | E17: 고휘도 | F17: 매 | G17: =재료산출!I74 -> 1.388 | H17: =재료산출!$G$69 -> 0.12 | I17: =G17 -> 1.388
A18: 1-13 | B18: 신설 | C18: 사각 | D18: 600*300 | E18: 고휘도 | F18: 매 | G18: =재료산출!I82 -> 1.712 | H18: =재료산출!$G$80 -> 0.18
A19: 1-14 | B19: 교체 | C19: 사각 | D19: 600*300 | E19: 고휘도 | F19: 매 | G19: =재료산출!I85 -> 1.712 | H19: =재료산출!$G$80 -> 0.18 | I19: =G19 -> 1.712
A20: 1-15 | B20: 신설 | C20: 사각 | D20: 600*400 | E20: 고휘도 | F20: 매 | G20: =재료산출!I93 -> 1.804 | H20: =재료산출!$G$91 -> 0.24
A21: 1-16 | B21: 교체 | C21: 사각 | D21: 600*400 | E21: 고휘도 | F21: 매 | G21: =재료산출!I96 -> 1.804 | H21: =재료산출!$G$91 -> 0.24 | I21: =G21 -> 1.804
A22: 1-17 | B22: 신설 | C22: 사각 | D22: 550*600 | E22: 고휘도 | F22: 매 | G22: =재료산출!I104 -> 2.522 | H22: =재료산출!$G$102 -> 0.33
A23: 1-18 | B23: 교체 | C23: 사각 | D23: 550*600 | E23: 고휘도 | F23: 매 | G23: =재료산출!I107 -> 2.522 | H23: =재료산출!$G$102 -> 0.33 | I23: =G23 -> 2.522
A24: 1-19 | B24: 신설 | C24: 사각 | D24: 600*600 | E24: 고휘도 | F24: 매 | G24: =재료산출!I115 -> 2.684 | H24: =재료산출!$G$113 -> 0.36
A25: 1-20 | B25: 교체 | C25: 사각 | D25: 600*600 | E25: 고휘도 | F25: 매 | G25: =재료산출!I118 -> 2.684 | H25: =재료산출!$G$113 -> 0.36 | I25: =G25 -> 2.684
A26: 1-21 | B26: 신설 | C26: 팔각 | D26: 600*600 | E26: 고휘도 | F26: 매 | G26: =재료산출!I127 -> 2.216 | H26: =(재료산출!$G$124+재료산출!$G$125)/2 -> 0.27
A27: 1-22 | B27: 교체 | C27: 팔각 | D27: 600*600 | E27: 고휘도 | F27: 매 | G27: =재료산출!I130 -> 2.216 | H27: =(재료산출!$G$124+재료산출!$G$125)/2 -> 0.27 | I27: =G27 -> 2.216
A28: 1-23 | B28: 신설 | C28: T형 부착대 | D28: 1매용 | E28: 백관 | F28: SET | G28: =재료산출!I139 -> 3.615
A29: 1-24 | B29: 신설 | C29: T형 부착대 | D29: 2매용 | E29: 백관 | F29: SET | G29: =재료산출!I148 -> 6.327
A30: 1-25 | B30: 신설 | C30: T형 부착대 | D30: 3매용 | E30: 백관 | F30: SET | G30: =재료산출!I157 -> 8.135
A31: 1-26 | B31: 교체 | C31: T형 부착대 | D31: 1매용 | E31: 백관 | F31: SET | G31: =재료산출!I160 -> 3.615 | J31: =G31 -> 3.615
A32: 1-27 | B32: 교체 | C32: T형 부착대 | D32: 2매용 | E32: 백관 | F32: SET | G32: =재료산출!I163 -> 6.327 | J32: =G32 -> 6.327
A33: 1-28 | B33: 교체 | C33: T형 부착대 | D33: 3매용 | E33: 백관 | F33: SET | G33: =재료산출!I166 -> 8.135 | J33: =G33 -> 8.135
A34: 1-29 | B34: 이설 | C34: T형 부착대 | D34: 1-23h,24h,25h | F34: SET | G34: =재료산출!I168 -> 0
A35: 1-30 | B35: 철거 | C35: T형 부착대 | D35: 1-23h,24h,25h | F35: SET | G35: =재료산출!I171 -> 6.0256667 | J35: =G35 -> 6.0256667
A36: 1-31 | B36: 신설 | C36: 철주 | D36: 1매용 | E36: 백관 | F36: SET | G36: =재료산출!I182 -> 14.783 | L36: =재료산출!$G$177 -> 0.72 | N36: =재료산출!$G$178 -> 0.072 | O36: =재료산출!$G$179 -> 0.162 | P36: =재료산출!$G$180 -> 0.09 | Q36: =재료산출!$G$181 -> 0.072
A37: 1-32 | B37: 신설 | C37: 철주 | D37: 2매용 | E37: 백관 | F37: SET | G37: =재료산출!I193 -> 17.494 | L37: =재료산출!$G$188 -> 0.72 | N37: =재료산출!$G$189 -> 0.072 | O37: =재료산출!$G$190 -> 0.162 | P37: =재료산출!$G$191 -> 0.09 | Q37: =재료산출!$G$192 -> 0.072
A38: 1-33 | B38: 신설 | C38: 철주 | D38: 3매용 | E38: 백관 | F38: SET | G38: =재료산출!I204 -> 20.206 | L38: =재료산출!$G$199 -> 0.72 | N38: =재료산출!$G$200 -> 0.072 | O38: =재료산출!$G$201 -> 0.162 | P38: =재료산출!$G$202 -> 0.09 | Q38: =재료산출!$G$203 -> 0.072
A39: 1-34 | B39: 철거 | C39: 철주 | D39: 1-31h,32h,33h | F39: SET | G39: =재료산출!I207 -> 17.494333 | J39: =G39 -> 17.494333
A40: 1-35 | B40: 철거 | C40: 철주기초제거 (T=30cm) | F40: SET | G40: =재료산출!I215 -> 1.536 | O40: =재료산출!G210 -> 0.096 | P40: =재료산출!G212+재료산출!G213 -> 0.144
A41: 2-1 | B41: 신설 | C41: 삼각 변 | D41: 1170 | E41: 고휘도 | F41: 매 | G41: =재료산출!I224 -> 4.455 | H41: =재료산출!$G$221 -> 0.592
A42: 2-2 | B42: 교체 | C42: 삼각 변 | D42: 1170 | E42: 고휘도 | F42: 매 | G42: =재료산출!I227 -> 4.455 | H42: =재료산출!$G$221 -> 0.592 | I42: =G42 -> 4.455
A43: 2-3 | B43: 신설 | C43: 삼각 변 | D43: 1350 | E43: 고휘도 | F43: 매 | G43: =재료산출!I236 -> 5.687 | H43: =재료산출!$G$233 -> 0.789
A44: 2-4 | B44: 교체 | C44: 삼각 변 | D44: 1350 | E44: 고휘도 | F44: 매 | G44: =재료산출!I239 -> 5.687 | H44: =재료산출!$G$233 -> 0.789 | I44: =G44 -> 5.687
A45: 2-5 | B45: 신설 | C45: 삼각 ▽ | D45: 1040 | E45: 고휘도 | F45: 매 | G45: =재료산출!I248 -> 3.697 | H45: =재료산출!$G$245 -> 0.468
A46: 2-6 | B46: 교체 | C46: 삼각 ▽ | D46: 1040 | E46: 고휘도 | F46: 매 | G46: =재료산출!I251 -> 3.697 | H46: =재료산출!$G$245 -> 0.468 | I46: =G46 -> 3.697
A47: 2-7 | B47: 신설 | C47: 삼각 ▽ | D47: 1200 | E47: 고휘도 | F47: 매 | G47: =재료산출!I260 -> 4.707 | H47: =재료산출!$G$257 -> 0.623
A48: 2-8 | B48: 교체 | C48: 삼각 ▽ | D48: 1200 | E48: 고휘도 | F48: 매 | G48: =재료산출!I263 -> 4.707 | H48: =재료산출!$G$257 -> 0.623 | I48: =G48 -> 4.707
A49: 2-9 | B49: 신설 | C49: 원형 | D49: Φ780 | E49: 고휘도 | F49: 매 | G49: =재료산출!I272 -> 3.833 | H49: =재료산출!$G$269 -> 0.477
A50: 2-10 | B50: 교체 | C50: 원형 | D50: Φ780 | E50: 고휘도 | F50: 매 | G50: =재료산출!I275 -> 3.833 | H50: =재료산출!$G$269 -> 0.477 | I50: =G50 -> 3.833
A51: 2-11 | B51: 신설 | C51: 원형 | D51: Φ900 | E51: 고휘도 | F51: 매 | G51: =재료산출!I284 -> 4.774 | H51: =재료산출!$G$281 -> 0.635
A52: 2-12 | B52: 교체 | C52: 원형 | D52: Φ900 | E52: 고휘도 | F52: 매 | G52: =재료산출!I287 -> 4.774 | H52: =재료산출!$G$281 -> 0.635 | I52: =G52 -> 4.774
A53: 2-13 | B53: 신설 | C53: 오각 | D53: 780*936 | E53: 고휘도 | F53: 매 | G53: =재료산출!I295 -> 4.688 | H53: =재료산출!$G$293 -> 0.645
A54: 2-14 | B54: 교체 | C54: 오각 | D54: 780*936 | E54: 고휘도 | F54: 매 | G54: =재료산출!I298 -> 4.688 | H54: =재료산출!$G$293 -> 0.645 | I54: =G54 -> 4.688
A55: 2-15 | B55: 신설 | C55: 오각 | D55: 900*1080 | E55: 고휘도 | F55: 매 | G55: =재료산출!I306 -> 4.692 | H55: =재료산출!$G$304 -> 0.62
A56: 2-16 | B56: 교체 | C56: 오각 | D56: 900*1080 | E56: 고휘도 | F56: 매 | G56: =재료산출!I309 -> 4.692 | H56: =재료산출!$G$304 -> 0.62 | I56: =G56 -> 4.692
A57: 2-17 | B57: 신설 | C57: 사각 | D57: 600*900 | E57: 고휘도 | F57: 매 | G57: =재료산출!I317 -> 4.2 | H57: =재료산출!$G$315 -> 0.63
A58: 2-18 | B58: 교체 | C58: 사각 | D58: 600*900 | E58: 고휘도 | F58: 매 | G58: =재료산출!I320 -> 4.2 | H58: =재료산출!$G$315 -> 0.63 | I58: =G58 -> 4.2
A59: 2-19 | B59: 신설 | C59: 사각 | D59: 780*260 | E59: 고휘도 | F59: 매 | G59: =재료산출!I328 -> 2.043 | H59: =재료산출!$G$326 -> 0.202
A60: 2-20 | B60: 교체 | C60: 사각 | D60: 780*260 | E60: 고휘도 | F60: 매 | G60: =재료산출!I331 -> 2.043 | H60: =재료산출!$G$326 -> 0.202 | I60: =G60 -> 2.043
A61: 2-21 | B61: 신설 | C61: 사각 | D61: 780*390 | E61: 고휘도 | F61: 매 | G61: =재료산출!I339 -> 2.591 | H61: =재료산출!$G$337 -> 0.304
A62: 2-22 | B62: 교체 | C62: 사각 | D62: 780*390 | E62: 고휘도 | F62: 매 | G62: =재료산출!I342 -> 2.591 | H62: =재료산출!$G$337 -> 0.304 | I62: =G62 -> 2.591
A63: 2-23 | B63: 신설 | C63: 사각 | D63: 715*780 | E63: 고휘도 | F63: 매 | G63: =재료산출!I350 -> 4.467 | H63: =재료산출!$G$348 -> 0.557
A64: 2-24 | B64: 교체 | C64: 사각 | D64: 715*780 | E64: 고휘도 | F64: 매 | G64: =재료산출!I353 -> 4.467 | H64: =재료산출!$G$348 -> 0.557 | I64: =G64 -> 4.467
A65: 2-25 | B65: 신설 | C65: 사각 | D65: 780*780 | E65: 고휘도 | F65: 매 | G65: =재료산출!I361 -> 4.74 | H65: =재료산출!$G$359 -> 0.608
A66: 2-26 | B66: 교체 | C66: 사각 | D66: 780*780 | E66: 고휘도 | F66: 매 | G66: =재료산출!I364 -> 4.74 | H66: =재료산출!$G$359 -> 0.608 | I66: =G66 -> 4.74
A67: 2-27 | B67: 신설 | C67: 사각 | D67: 900*300 | E67: 고휘도 | F67: 매 | G67: =재료산출!I372 -> 2.544 | H67: =재료산출!$G$370 -> 0.27
A68: 2-28 | B68: 교체 | C68: 사각 | D68: 900*300 | E68: 고휘도 | F68: 매 | G68: =재료산출!I375 -> 2.544 | H68: =재료산출!$G$370 -> 0.27 | I68: =G68 -> 2.544
A69: 2-29 | B69: 신설 | C69: 사각 | D69: 900*450 | E69: 고휘도 | F69: 매 | G69: =재료산출!I383 -> 3.273 | H69: =재료산출!$G$381 -> 0.405
A70: 2-30 | B70: 교체 | C70: 사각 | D70: 900*450 | E70: 고휘도 | F70: 매 | G70: =재료산출!I386 -> 3.273 | H70: =재료산출!$G$381 -> 0.405 | I70: =G70 -> 3.273
A71: 2-31 | B71: 신설 | C71: 사각 | D71: 780*1170 | E71: 고휘도 | F71: 매 | G71: =재료산출!I394 -> 7.12 | H71: =재료산출!$G$392 -> 1.064
A72: 2-32 | B72: 교체 | C72: 사각 | D72: 780*1170 | E72: 고휘도 | F72: 매 | G72: =재료산출!I397 -> 7.12 | H72: =재료산출!$G$392 -> 1.064 | I72: =G72 -> 7.12
A73: 2-33 | B73: 신설 | C73: 팔각 | D73: 780*780 | E73: 고휘도 | F73: 매 | G73: =재료산출!I406 -> 3.444 | H73: =재료산출!$G$403 -> 0.304
A74: 2-34 | B74: 교체 | C74: 팔각 | D74: 780*780 | E74: 고휘도 | F74: 매 | G74: =재료산출!I409 -> 3.444 | H74: =재료산출!$G$403 -> 0.304 | I74: =G74 -> 3.444
A75: 2-35 | B75: 신설 | C75: 팔각 | D75: 900*900 | E75: 고휘도 | F75: 매 | G75: =재료산출!I418 -> 4.411 | H75: =재료산출!$G$415 -> 0.405
A76: 2-36 | B76: 교체 | C76: 팔각 | D76: 900*900 | E76: 고휘도 | F76: 매 | G76: =재료산출!I421 -> 4.411 | H76: =재료산출!$G$415 -> 0.405 | I76: =G76 -> 4.411
A77: 2-37 | B77: 신설 | C77: T형 부착대 | D77: 1매용 | E77: 백관 | F77: SET | G77: =재료산출!I430 -> 4.971
A78: 2-38 | B78: 신설 | C78: T형 부착대 | D78: 2매용 | E78: 백관 | F78: SET | G78: =재료산출!I439 -> 9.039
A79: 2-39 | B79: 교체 | C79: T형 부착대 | D79: 1매용 | E79: 백관 | F79: SET | G79: =재료산출!I442 -> 4.971 | J79: =G79 -> 4.971
A80: 2-40 | B80: 교체 | C80: T형 부착대 | D80: 2매용 | E80: 백관 | F80: SET | G80: =재료산출!I445 -> 9.039 | J80: =G80 -> 9.039
A81: 2-41 | B81: 이설 | C81: T형 부착대 | D81: 2-37h, 38h | F81: SET | G81: =재료산출!I447 -> 0
A82: 2-42 | B82: 철거 | C82: T형 부착대 | D82: 2-37h, 38h | F82: SET | G82: =재료산출!I450 -> 7.005 | J82: =G82 -> 7.005
A83: 2-43 | B83: 신설 | C83: 교차로대 | E83: 백관 | F83: SET | G83: =재료산출!I460 -> 23.822
A84: 2-44 | B84: 교체 | C84: 교차로대 | E84: 백관 | F84: SET | G84: =재료산출!I463 -> 23.822 | J84: =G84 -> 23.822
A85: 2-45 | B85: 이설 | C85: 교차로대 | E85: 백관 | F85: SET | G85: =재료산출!I465 -> 0
A86: 2-46 | B86: 철거 | C86: 교차로대 | E86: 백관 | F86: SET | G86: =재료산출!I468 -> 23.822 | J86: =G86 -> 23.822
A87: 2-47 | B87: 신설 | C87: 철주 | D87: 1매용 | E87: 백관 | F87: SET | G87: =재료산출!I478 -> 17.35 | L87: =재료산출!$G$473 -> 0.72 | N87: =재료산출!$G$474 -> 0.072 | O87: =재료산출!$G$475 -> 0.162 | P87: =재료산출!$G$476 -> 0.09 | Q87: =재료산출!$G$477 -> 0.072
A88: 2-48 | B88: 신설 | C88: 철주 | D88: 2매용 | E88: 백관 | F88: SET | G88: =재료산출!I488 -> 21.868 | L88: =재료산출!$G$483 -> 0.72 | N88: =재료산출!$G$484 -> 0.072 | O88: =재료산출!$G$485 -> 0.162 | P88: =재료산출!$G$486 -> 0.09 | Q88: =재료산출!$G$487 -> 0.072
A89: 2-49 | B89: 철거 | C89: 철주 | D89: 2-47h, 48h | F89: SET | G89: =재료산출!I491 -> 19.609 | J89: =G89 -> 19.609
A90: 2-50 | B90: 신설 | C90: 조립식테이퍼폴 | E90: 백관 | F90: SET | G90: =재료산출!I512 -> 126.656 | L90: =재료산출!$G$507 -> 4.08 | N90: =재료산출!$G$508 -> 0.867 | O90: =재료산출!$G$509 -> 1.856 | P90: =재료산출!$G$510 -> 0.989 | Q90: =재료산출!$G$511 -> 0.867
A91: 2-51 | B91: 교체 | C91: 조립식테이퍼폴 | E91: 백관 | F91: SET | G91: =재료산출!I515 -> 126.656 | J91: =G91 -> 126.656 | L91: =재료산출!$G$507 -> 4.08 | N91: =재료산출!$G$508 -> 0.867 | O91: =재료산출!$G$509 -> 1.856 | P91: =재료산출!$G$510 -> 0.989 | Q91: =재료산출!$G$511 -> 0.867
A92: 2-52 | B92: 이설 | C92: 조립식테이퍼폴 | F92: SET | G92: =재료산출!I517 -> 0 | L92: =재료산출!$G$507 -> 4.08 | N92: =재료산출!$G$508 -> 0.867 | O92: =재료산출!$G$509 -> 1.856 | P92: =재료산출!$G$510 -> 0.989 | Q92: =재료산출!$G$511 -> 0.867
A93: 2-53 | B93: 철거 | C93: 조립식테이퍼폴 | F93: SET | G93: =재료산출!I520 -> 126.656 | J93: =G93 -> 126.656
A94: 2-54 | B94: 철거 | C94: 테이퍼폴 기초제거(T=30cm) | F94: SET | G94: =재료산출!I528 -> 1.962 | O94: =재료산출!G524 -> 0.204 | P94: =재료산출!G525+재료산출!G526 -> 0.42
A95: 2-55 | B95: 철거 | C95: 철주 기초제거(전체) | F95: SET | G95: =재료산출!I536 -> 1.536 | O95: =재료산출!G531 -> 0.144 | P95: =재료산출!G533+재료산출!G534 -> 0.216
A96: 3-1 | B96: 신설 | C96: 안전표지판 | D96: 3000*2000 | E96: 고+고 | F96: 매 | G96: =재료산출!I545 -> 61.065 | H96: =재료산출!$G$543 -> 5.8
A97: 3-2 | B97: 신설 | C97: 안전표지판 | D97: 3000*2000 | E97: 고+초고 | F97: 매 | G97: =재료산출!I554 -> 61.065 | H97: =재료산출!$G$552 -> 5.8
A98: 3-3 | B98: 교체 | C98: 안전표지판 | D98: 3000*2000 | E98: 고+고 | F98: 매 | G98: =재료산출!I557 -> 61.065 | H98: =재료산출!$G$543 -> 5.8 | I98: =G98 -> 61.065
A99: 3-4 | B99: 교체 | C99: 안전표지판 | D99: 3000*2000 | E99: 고+초고 | F99: 매 | G99: =재료산출!I560 -> 61.065 | H99: =재료산출!$G$552 -> 5.8 | I99: =G99 -> 61.065
A100: 3-5 | B100: 신설 | C100: 안전표지판 | D100: 3600*2200 | E100: 고+고 | F100: 매 | G100: =재료산출!I569 -> 79.8 | H100: =재료산출!$G$567 -> 7.92
A101: 3-6 | B101: 신설 | C101: 안전표지판 | D101: 3600*2200 | E101: 고+초고 | F101: 매 | G101: =재료산출!I578 -> 79.8 | H101: =재료산출!$G$576 -> 7.92
...

Sheet 재료산출
A1: 재 료 산 출
A4: 호표 | B4: 명 칭 | E4: 규 격 | F4: 단위 | G4: 수 량 | H4: 중 량 | J4: 비 고
H5: 단 위 | I5: 합 계
A6: 1-1 | B6: 신설 | C6: 삼각 변 | D6: 고휘도 | E6: 900㎜ | F6: 매
B7: 알미늄판 | C7: KSD6071 | D7: AL5005 | E7: PL2t×900×779.4㎜ | F7: EA/Kg | G7: 1 | H7: 1.894 | I7: =H7*G7 -> 1.894
B8: 알미늄바 | C8: 취부보강대 | D8: AL | E8: RB(300＋500)㎜800㎜ | F8: M/Kg | G8: 1 | H8: 0.46 | I8: =H8*G8 -> 0.46
B9: 알미늄바 | C9: 밴드용 | D9: AL | E9: RB50Φ30㎜30㎜ | F9: M/Kg | G9: 4 | H9: 0.07 | I9: =H9*G9 -> 0.28
B10: 볼트,너트,와샤 | D10: STS304 | E10: Φ10×50 | F10: 조 | G10: 2
B11: 반사지 | D11: 고휘도 | E11: 900×779.4 | F11: M2 | G11: 0.35 | J11: 면적
B12: 반사지 | D12: 고휘도 | E12: 900×779.4 | F12: M2 | G12: 0.35
B13: 시트지 | D13: 일반 | E13: 900×779.4×1/3 | F13: M2 | G13: 0.116
B14: 합 계 | I14: =SUM(I6:I13) -> 2.634 | J14: 중량
A15: 1-2 | B15: 교체 | C15: 삼각 변 | D15: 고휘도 | E15: 900㎜ | F15: 매
B16: 고철 | F16: kg | G16: =I14 -> 2.634 | I16: =G16 -> 2.634
B17: 합 계 | I17: =SUM(I15:I16) -> 2.634
A18: 1-3 | B18: 신설 | C18: 삼각 ▽ | D18: 고휘도 | E18: 800㎜ | F18: 매
B19: 알미늄판 | C19: KSD6071 | D19: AL5005 | E19: PL2t×800×692.8㎜ | F19: EA/Kg | G19: 1 | H19: 1.496 | I19: =H19*G19 -> 1.496
B20: 알미늄바 | C20: 취부보강대 | D20: AL | E20: RB(250＋450)㎜700㎜ | F20: M/Kg | G20: 1 | H20: 0.403 | I20: =H20*G20 -> 0.403
B21: 알미늄바 | C21: 밴드용 | D21: AL | E21: RB50Φ30㎜30㎜ | F21: M/Kg | G21: 4 | H21: 0.07 | I21: =H21*G21 -> 0.28
B22: 볼트,너트,와샤 | D22: STS304 | E22: Φ10×50 | F22: 조 | G22: 2
B23: 반사지 | D23: 고휘도 | E23: 800×692.8 | F23: M2 | G23: 0.277
B24: 반사지 | D24: 고휘도 | E24: 800×692.8 | F24: M2 | G24: 0.277
B25: 시트지 | D25: 일반 | E25: 900×779.4×1/3 | F25: M2 | G25: 0.092
B26: 합 계 | I26: =SUM(I18:I25) -> 2.179
A27: 1-4 | B27: 교체 | C27: 삼각 ▽ | D27: 고휘도 | E27: 800㎜ | F27: 매
B28: 고철 | F28: kg | G28: =I26 -> 2.179 | I28: =G28 -> 2.179
B29: 합 계 | I29: =SUM(I27:I28) -> 2.179
A30: 1-5 | B30: 신설 | C30: 원형 | D30: 고휘도 | E30: Φ600㎜ | F30: 매
B31: 알미늄판 | C31: KSD6071 | D31: AL5005 | E31: PL2t×600Φ | F31: EA/Kg | G31: 1 | H31: 1.526 | I31: =H31*G31 -> 1.526
B32: 알미늄바 | C32: 취부보강대 | D32: AL | E32: RB(400＋400)㎜800㎜ | F32: M/Kg | G32: 1 | H32: 0.46 | I32: =H32*G32 -> 0.46
B33: 알미늄바 | C33: 밴드용 | D33: AL | E33: RB50Φ30㎜30㎜ | F33: M/Kg | G33: 4 | H33: 0.07 | I33: =H33*G33 -> 0.28
B34: 볼트,너트,와샤 | D34: STS304 | E34: Φ10×50 | F34: 조 | G34: 2
B35: 반사지 | D35: 고휘도 | E35: 600Φ | F35: M2 | G35: 0.282
B36: 반사지 | D36: 고휘도 | E36: 600Φ | F36: M2 | G36: 0.282
B37: 시트지 | D37: 일반 | E37: 600Φ×1/3 | F37: M2 | G37: 0.094
B38: 합 계 | I38: =SUM(I30:I37) -> 2.266
A39: 1-6 | B39: 교체 | C39: 원형 | D39: 고휘도 | E39: Φ600㎜ | F39: 매
B40: 고철 | F40: kg | G40: =I38 -> 2.266 | I40: =G40 -> 2.266
B41: 합 계 | I41: =SUM(I39:I40) -> 2.266
A42: 1-7 | B42: 신설 | C42: 오각 | D42: 고휘도 | E42: 600×720㎜ | F42: 매
B43: 알미늄판 | C43: KSD6071 | D43: AL5005 | E43: PL2t×600×519.6×200 | F43: EA/Kg | G43: 1 | H43: 1.49 | I43: =H43*G43 -> 1.49
B44: 알미늄바 | C44: 취부보강대 | D44: AL | E44: RB(300＋500)㎜800㎜ | F44: M/Kg | G44: 1 | H44: 0.46 | I44: =H44*G44 -> 0.46
B45: 알미늄바 | C45: 밴드용 | D45: AL | E45: RB50Φ30㎜30㎜ | F45: M/Kg | G45: 4 | H45: 0.07 | I45: =H45*G45 -> 0.28
B46: 볼트,너트,와샤 | D46: STS304 | E46: Φ10×50 | F46: 조 | G46: 2
B47: 반사지 | D47: 고휘도 | E47: 600Φ×519.6×200 | F47: M2 | G47: 0.275
B48: 반사지 | D48: 고휘도 | E48: 600Φ×519.6×200 | F48: M2 | G48: 0.275
B49: 합 계 | I49: =SUM(I42:I48) -> 2.23
A50: 1-8 | B50: 교체 | C50: 오각 | D50: 고휘도 | E50: 600×720㎜ | F50: 매
B51: 고철 | F51: kg | G51: =I49 -> 2.23 | I51: =G51 -> 2.23
B52: 합 계 | I52: =SUM(I50:I51) -> 2.23
A53: 1-9 | B53: 신설 | C53: 사각 | D53: 고휘도 | E53: 400×400㎜ | F53: 매
B54: 알미늄판 | C54: KSD6071 | D54: AL5005 | E54: PL2t×400×400㎜ | F54: EA/Kg | G54: 1 | H54: 0.864 | I54: =H54*G54 -> 0.864
B55: 알미늄바 | C55: 취부보강대 | D55: AL | E55: RB(400＋0)㎜400㎜ | F55: M/Kg | G55: 2 | H55: 0.23 | I55: =H55*G55 -> 0.46
B56: 알미늄바 | C56: 밴드용 | D56: AL | E56: RB50Φ30㎜30㎜ | F56: M/Kg | G56: 4 | H56: 0.07 | I56: =H56*G56 -> 0.28
B57: 볼트,너트,와샤 | D57: STS304 | E57: Φ10×50 | F57: 조 | G57: 2
B58: 반사지 | D58: 고휘도 | E58: 400×400 | F58: M2 | G58: 0.16
B59: 반사지 | D59: 고휘도 | E59: 400×400 | F59: M2 | G59: 0.16
B60: 합 계 | I60: =SUM(I53:I59) -> 1.604
A61: 1-10 | B61: 교체 | C61: 사각 | D61: 고휘도 | E61: 400×400㎜ | F61: 매
B62: 고철 | F62: kg | G62: =I60 -> 1.604 | I62: =G62 -> 1.604
B63: 합 계 | I63: =SUM(I61:I62) -> 1.604
A64: 1-11 | B64: 신설 | C64: 사각 | D64: 고휘도 | E64: 600×200㎜ | F64: 매
B65: 알미늄판 | C65: KSD6071 | D65: AL5005 | E65: PL2t×600×200㎜ | F65: EA/Kg | G65: 1 | H65: 0.648 | I65: =H65*G65 -> 0.648
B66: 알미늄바 | C66: 취부보강대 | D66: AL | E66: RB(400＋)㎜400㎜ | F66: M/Kg | G66: 2 | H66: 0.23 | I66: =H66*G66 -> 0.46
B67: 알미늄바 | C67: 밴드용 | D67: AL | E67: RB50Φ30㎜30㎜ | F67: M/Kg | G67: 4 | H67: 0.07 | I67: =H67*G67 -> 0.28
B68: 볼트,너트,와샤 | D68: STS304 | E68: Φ10×50 | F68: 조 | G68: 2
B69: 반사지 | D69: 고휘도 | E69: 600×200 | F69: M2 | G69: 0.12
B70: 반사지 | D70: 고휘도 | E70: 600×200 | F70: M2 | G70: 0.12
B71: 합 계 | I71: =SUM(I64:I70) -> 1.388
A72: 1-12 | B72: 교체 | C72: 사각 | D72: 고휘도 | E72: 600×200㎜ | F72: 매
B73: 고철 | F73: kg | G73: =I71 -> 1.388 | I73: =G73 -> 1.388
B74: 합 계 | I74: =SUM(I72:I73) -> 1.388
A75: 1-13 | B75: 신설 | C75: 사각 | D75: 고휘도 | E75: 600×300㎜ | F75: 매
B76: 알미늄판 | C76: KSD6071 | D76: AL5005 | E76: PL2t×600×300㎜ | F76: EA/Kg | G76: 1 | H76: 0.972 | I76: =H76*G76 -> 0.972
B77: 알미늄바 | C77: 취부보강대 | D77: AL | E77: RB(400＋)㎜400㎜ | F77: M/Kg | G77: 2 | H77: 0.23 | I77: =H77*G77 -> 0.46
B78: 알미늄바 | C78: 밴드용 | D78: AL | E78: RB50Φ30㎜30㎜ | F78: M/Kg | G78: 4 | H78: 0.07 | I78: =H78*G78 -> 0.28
B79: 볼트,너트,와샤 | D79: STS304 | E79: Φ10×50 | F79: 조 | G79: 2
B80: 반사지 | D80: 고휘도 | E80: 600×300 | F80: M2 | G80: 0.18
B81: 반사지 | D81: 고휘도 | E81: 600×300 | F81: M2 | G81: 0.18
B82: 합 계 | I82: =SUM(I75:I81) -> 1.712
A83: 1-14 | B83: 교체 | C83: 사각 | D83: 고휘도 | E83: 600×300㎜ | F83: 매
B84: 고철 | F84: kg | G84: =I82 -> 1.712 | I84: =G84 -> 1.712
B85: 합 계 | I85: =SUM(I83:I84) -> 1.712
A86: 1-15 | B86: 신설 | C86: 사각 | D86: 고휘도 | E86: 600×400㎜ | F86: 매
B87: 알미늄판 | C87: KSD6071 | D87: AL5005 | E87: PL2t×600×400㎜ | F87: EA/Kg | G87: 1 | H87: 1.294 | I87: =H87*G87 -> 1.294
B88: 알미늄바 | C88: 취부보강대 | D88: AL | E88: RB(300＋0)㎜800㎜ | F88: M/Kg | G88: 1 | H88: 0.23 | I88: =H88*G88 -> 0.23
B89: 알미늄바 | C89: 밴드용 | D89: AL | E89: RB50Φ30㎜30㎜ | F89: M/Kg | G89: 4 | H89: 0.07 | I89: =H89*G89 -> 0.28
B90: 볼트,너트,와샤 | D90: STS304 | E90: Φ10×50 | F90: 조 | G90: 2
B91: 반사지 | D91: 고휘도 | E91: 600×400 | F91: M2 | G91: 0.24
B92: 반사지 | D92: 고휘도 | E92: 600×400 | F92: M2 | G92: 0.24
B93: 합 계 | I93: =SUM(I86:I92) -> 1.804
A94: 1-16 | B94: 교체 | C94: 사각 | D94: 고휘도 | E94: 600×400㎜ | F94: 매
B95: 고철 | F95: kg | G95: =I93 -> 1.804 | I95: =G95 -> 1.804
B96: 합 계 | I96: =SUM(I94:I95) -> 1.804
A97: 1-17 | B97: 신설 | C97: 사각 | D97: 고휘도 | E97: 550×600㎜ | F97: 매
B98: 알미늄판 | C98: KSD6071 | D98: AL5005 | E98: PL2t×550×600㎜ | F98: EA/Kg | G98: 1 | H98: 1.782 | I98: =H98*G98 -> 1.782
B99: 알미늄바 | C99: 취부보강대 | D99: AL | E99: RB(400＋)㎜400㎜ | F99: M/Kg | G99: 2 | H99: 0.23 | I99: =H99*G99 -> 0.46
B100: 알미늄바 | C100: 밴드용 | D100: AL | E100: RB50Φ30㎜30㎜ | F100: M/Kg | G100: 4 | H100: 0.07 | I100: =H100*G100 -> 0.28
B101: 볼트,너트,와샤 | D101: STS304 | E101: Φ10×50 | F101: 조 | G101: 2
B102: 반사지 | D102: 고휘도 | E102: 550×600 | F102: M2 | G102: 0.33
...

Sheet 기계경비
A1: 기 계 경 비 산 출 서
A2: 기계명 : | B2: 덤프트럭 | C2: 2.5톤
A3: 기계가 : | B3: 21982 | C3: 천원 | G3: hr당
A4: 항 목 | B4: 구 분 | C4: 단위 | D4: 수량 | E4: 단 가 | F4: 금 액 | G4: 비 고
A5: 경 비 | B5: 기계손료 | C5: 천원 | D5: 0.2967 | E5: =B3 -> 21982 | F5: =TRUNC($D5*E5) -> 6522
B7: 소 계 | F7: =SUM(F5:F6) -> 6522
A8: 노무비 | B8: 화물차운전사 | C8: 인 | D8: 1 | E8: =적용기준!R23 -> 49778 | F8: =TRUNC($D8*E8) -> 49778
B10: 소 계 | F10: =SUM(F8:F9) -> 49778
A11: 재료비 | B11: 주 연 료 | C11: ℓ | D11: 2.9 | E11: =적용기준!D15 -> 1685.68 | F11: =TRUNC($D11*E11) -> 4888 | G11: 경유
B12: 잡품 | C12: % | D12: 38 | E12: =F11 -> 4888 | F12: =TRUNC(($D12*E12)/100) -> 1857
B13: 소 계 | F13: =SUM(F11:F12) -> 6745
A14: 합 계 | F14: =F7+F10+F13 -> 63045 | G14: E1
A16: 기계명 : | B16: 덤프트럭 | C16: 4.5TON
A17: 기계가 : | B17: 25662 | C17: 천원 | G17: hr당
A18: 항 목 | B18: 구 분 | C18: 단위 | D18: 수량 | E18: 단 가 | F18: 금 액 | G18: 비 고
A19: 경 비 | B19: 기계손료 | C19: 천원 | D19: 0.2967 | E19: =B17 -> 25662 | F19: =TRUNC(D19*E19) -> 7613
B21: 소 계 | F21: =SUM(F19:F20) -> 7613
A22: 노무비 | B22: 화물차운전사 | C22: 인 | D22: 1 | E22: =적용기준!R23 -> 49778 | F22: =TRUNC($D22*E22) -> 49778
B24: 소 계 | F24: =SUM(F22:F23) -> 49778
A25: 재료비 | B25: 주 연 료 | C25: ℓ | D25: 5 | E25: =적용기준!D15 -> 1685.68 | F25: =TRUNC($D25*E25) -> 8428 | G25: 경유
B26: 잡품 | C26: % | D26: 38 | E26: =F25 -> 8428 | F26: =ROUNDDOWN($D26*E26/100,0) -> 3202
B27: 소 계 | F27: =SUM(F25:F26) -> 11630
A28: 합 계 | F28: =F21+F24+F27 -> 69021 | G28: E2
A30: 기계명 : | B30: 트럭탑재형 크레인 | C30: 3TON
A31: 기계가 : | B31: 39068 | C31: 천원 | G31: hr당
A32: 항 목 | B32: 구 분 | C32: 단위 | D32: 수량 | E32: 단 가 | F32: 금 액 | G32: 비 고
A33: 경 비 | B33: 기계손료 | C33: 천원 | D33: 0.2598 | E33: =B31 -> 39068 | F33: =TRUNC($D33*E33) -> 10149
B35: 소 계 | F35: =SUM(F33:F34) -> 10149
A36: 노무비 | B36: 화물차운전사 | C36: 인 | D36: 1 | E36: =적용기준!R23 -> 49778 | F36: =TRUNC($D36*E36) -> 49778
B38: 소 계 | F38: =SUM(F36:F37) -> 49778
A39: 재료비 | B39: 주 연 료 | C39: ℓ | D39: 3.1 | E39: =적용기준!D15 -> 1685.68 | F39: =TRUNC($D39*E39) -> 5225 | G39: 경유
B40: 잡품 | C40: % | D40: 20 | E40: =F39 -> 5225 | F40: =TRUNC($D40*E40/100) -> 1045
B41: 소 계 | F41: =SUM(F39:F40) -> 6270
A42: 합 계 | F42: =F35+F38+F41 -> 66197 | G42: E3
A44: 기계명 : | B44: 트럭탑재형 크레인 | C44: 5TON
A45: 기계가 : | B45: 42791 | C45: 천원 | G45: hr당
A46: 항 목 | B46: 구 분 | C46: 단위 | D46: 수량 | E46: 단 가 | F46: 금 액 | G46: 비 고
A47: 경 비 | B47: 기계손료 | C47: 천원 | D47: 0.2598 | E47: =B45 -> 42791 | F47: =TRUNC($D47*E47) -> 11117
B49: 소 계 | F49: =SUM(F47:F48) -> 11117
A50: 노무비 | B50: 화물차운전사 | C50: 인 | D50: 1 | E50: =적용기준!R23 -> 49778 | F50: =TRUNC($D50*E50) -> 49778
B52: 소 계 | F52: =SUM(F50:F51) -> 49778
A53: 재료비 | B53: 주 연 료 | C53: ℓ | D53: 5.1 | E53: =적용기준!D15 -> 1685.68 | F53: =TRUNC($D53*E53) -> 8596 | G53: 경유
B54: 잡품 | C54: % | D54: 20 | E54: =F53 -> 8596 | F54: =TRUNC($D54*E54/100) -> 1719
B55: 소 계 | F55: =SUM(F53:F54) -> 10315
A56: 합 계 | F56: =F49+F52+F55 -> 71210 | G56: E4
A58: 기계명 : | B58: 플레이트 콤팩터 | C58: 1.5TON
A59: 기계가 : | B59: 1673 | C59: 천원 | G59: hr당
A60: 항 목 | B60: 구 분 | C60: 단위 | D60: 수량 | E60: 단 가 | F60: 금 액 | G60: 비 고
A61: 경 비 | B61: 기계손료 | C61: 천원 | D61: 0.3708 | E61: =B59 -> 1673 | F61: =TRUNC($D61*E61) -> 620
B63: 소 계 | F63: =SUM(F61:F62) -> 620
A64: 노무비 | B64: 일반기계운전사 | C64: 인 | D64: 1 | E64: =적용기준!R26 -> 36248 | F64: =TRUNC($D64*E64) -> 36248
B66: 소 계 | F66: =SUM(F64:F65) -> 36248
A67: 재료비 | B67: 주 연 료 | C67: ℓ | D67: 1 | E67: =적용기준!D13 -> 1781.37 | F67: =TRUNC($D67*E67) -> 1781 | G67: 휘발유
B68: 잡품 | C68: % | D68: 20 | E68: =F67 -> 1781 | F68: =TRUNC($D68*E68/100) -> 356
B69: 소 계 | F69: =SUM(F67:F68) -> 2137
A70: 합 계 | F70: =F63+F66+F69 -> 39005 | G70: E5
A72: 기계명 : | B72: 공기압축기 | C72: 3.5㎥/min
A73: 기계가 : | B73: 14224 | C73: 천원 | G73: hr당
A74: 항 목 | B74: 구 분 | C74: 단위 | D74: 수량 | E74: 단 가 | F74: 금 액 | G74: 비 고
A75: 경 비 | B75: 기계손료 | C75: 천원 | D75: 0.1719 | E75: =B73 -> 14224 | F75: =TRUNC($D75*E75) -> 2445
B77: 소 계 | F77: =SUM(F75:F76) -> 2445
A78: 노무비 | B78: 건설기계운전사 | C78: 인 | D78: 1 | E78: =적용기준!R20 -> 59020 | F78: =TRUNC($D78*E78) -> 59020
B80: 소 계 | F80: =SUM(F78:F79) -> 59020
A81: 재료비 | B81: 주 연 료 | C81: ℓ | D81: 6.2 | E81: =적용기준!D15 -> 1685.68 | F81: =TRUNC(D81*E81) -> 10451 | G81: 경유
B82: 잡품 | C82: % | D82: 16 | E82: =F81 -> 10451 | F82: =TRUNC(D82*E82/100) -> 1672
B83: 소 계 | F83: =SUM(F81:F82) -> 12123
A84: 합 계 | F84: =F77+F80+F83 -> 73588 | G84: E6
A86: 기계명 : | B86: 소형브레이커(전기식) | C86: 1.5kW
A87: 기계가 : | B87: 1375 | C87: 천원 | G87: hr당
A88: 항 목 | B88: 구 분 | C88: 단위 | D88: 수량 | E88: 단 가 | F88: 금 액 | G88: 비 고
A89: 경 비 | B89: 기계손료 | C89: 천원 | D89: 0.25 | E89: =B87 -> 1375 | F89: =TRUNC(D89*E89) -> 343
B91: 소 계 | F91: =SUM(F89:F90) -> 343
A92: 노무비 | F92: =ROUNDDOWN($D92*E92,1) -> 0
B94: 소 계 | F94: =SUM(F92:F93) -> 0
A95: 재료비 | F95: =ROUNDDOWN($D95*E95,1) -> 0 | G95: 경유
F96: =ROUNDDOWN($D96*E96,1)/100 -> 0
B97: 소 계 | F97: =SUM(F95:F96) -> 0
A98: 합 계 | F98: =F91+F94+F97 -> 343 | G98: E7
A100: 기계명 : | B100: 굴착기(무한궤도) | C100: 0.4㎥
A101: 기계가 : | B101: 84000 | C101: 천원 | G101: hr당
A102: 항 목 | B102: 구 분 | C102: 단위 | D102: 수량 | E102: 단 가 | F102: 금 액 | G102: 비 고
A103: 경 비 | B103: 기계손료 | C103: 천원 | D103: 0.2085 | E103: =B101 -> 84000 | F103: =TRUNC(D103*E103) -> 17514
B105: 소 계 | F105: =SUM(F103:F104) -> 17514
A106: 노무비 | B106: 건설기계운전사 | C106: 인 | D106: 1 | E106: =적용기준!R20 -> 59020 | F106: =TRUNC($D106*E106) -> 59020
B108: 소 계 | F108: =SUM(F106:F107) -> 59020
A109: 재료비 | B109: 주 연 료 | C109: ℓ | D109: 9.9 | E109: =적용기준!D15 -> 1685.68 | F109: =TRUNC(D109*E109) -> 16688 | G109: 경유
B110: 잡품 | C110: % | D110: 22 | E110: =F109 -> 16688 | F110: =TRUNC(D110*E110/100) -> 3671
B111: 소 계 | F111: =SUM(F109:F110) -> 20359
A112: 합 계 | F112: =F105+F108+F111 -> 96893 | G112: E8
A114: 기계명 : | B114: 래머 | C114: 80kg
A115: 기계가 : | B115: 1418 | C115: 천원 | G115: hr당
A116: 항 목 | B116: 구 분 | C116: 단위 | D116: 수량 | E116: 단 가 | F116: 금 액 | G116: 비 고
A117: 경 비 | B117: 기계손료 | C117: 천원 | D117: 0.3708 | E117: =B115 -> 1418 | F117: =TRUNC($D117*E117) -> 525
B119: 소 계 | F119: =SUM(F117:F118) -> 525
A120: 노무비 | B120: 건설기계운전사 | C120: 인 | D120: 1 | E120: =적용기준!R20 -> 59020 | F120: =TRUNC($D120*E120) -> 59020
B122: 소 계 | F122: =SUM(F120:F121) -> 59020
A123: 재료비 | B123: 주 연 료 | C123: ℓ | D123: 0.7 | E123: =적용기준!D13 -> 1781.37 | F123: =TRUNC(D123*E123) -> 1246 | G123: 휘발유0.7
B124: 잡품 | C124: % | D124: 10 | E124: =F123 -> 1246 | F124: =TRUNC(D124*E124/100) -> 124
B125: 소 계 | F125: =SUM(F123:F124) -> 1370
A126: 합 계 | F126: =F119+F122+F125 -> 60915 | G126: E9

Sheet 단가조사
A1: 단 가 조 사
A2: =내역서!A2 -> 공사명 : 2026년 교통사고 잦은 곳 개선사업 교통안전표지 공사(남부)
A3: 품 명 | B3: 재 질 | C3: 규 격 | D3: 단위 | E3: 물가자료(26.01월) | G3: 물가정보(26.01월) | I3: 유통물가(26.01월) | K3: 사업소공통 | L3: 26년 견적자료 | M3: 26년 견적자료 | P3: 적 용 | Q3: No | R3: 비고
E4: 단가 | F4: Pg | G4: 단가 | H4: Pg | I4: 단가 | J4: Pg | K4: 단가 | L4: 1 | M4: 2 | N4: B사 | O4: C사
A5: 삼각(고휘도반사지)1 | B5: KSA3505 | C5: 2.0T×900mm | D5: 매 | G5: 93000 | H5: 260 | I5: 111900 | J5: 225 | L5: 97000 | M5: 99450 | P5: =MIN(E5,G5,I5,K5,M5,N5,O5,L5) -> 93000 | Q5: 1
A6: 삼각(고휘도반사지)2 | B6: KSA3505 | C6: 2.0T×1170mm | D6: 매 | G6: 139000 | H6: 260 | I6: 173000 | J6: 225 | L6: 166000 | M6: 166750 | P6: =MIN(E6,G6,I6,K6,M6,N6,O6,L6) -> 139000 | Q6: 2
A7: 삼각(고휘도반사지)3 | B7: KSA3505 | C7: 2.0T×1350mm | D7: 매 | G7: 205000 | H7: 260 | J7: 0 | L7: 201000 | M7: 201250 | P7: =MIN(E7,G7,I7,K7,M7,N7,O7,L7) -> 201000 | Q7: 3
A8: 역삼각(고휘도반사지)1 | B8: KSA3505 | C8: 2.0T×800mm | D8: 매 | G8: 96000 | H8: 260 | L8: 98000 | M8: 98900 | P8: =MIN(E8,G8,I8,K8,M8,N8,O8,L8) -> 96000 | Q8: 4
A9: 역삼각(고휘도반사지)2 | B9: KSA3505 | C9: 2.0T×1040mm | D9: 매 | H9: 0 | J9: 0 | L9: 172000 | M9: 172500 | P9: =MIN(E9,G9,I9,K9,M9,N9,O9,L9) -> 172000 | Q9: 5
A10: 역삼각(고휘도반사지)3 | B10: KSA3505 | C10: 2.0T×1200mm | D10: 매 | H10: 0 | I10: 195000 | J10: 980 | L10: 189000 | M10: 189750 | P10: =MIN(E10,G10,I10,K10,M10,N10,O10,L10) -> 189000 | Q10: 6
A11: 원형(고휘도반사지)1 | B11: KSA3505 | C11: 2.0T×Φ600mm | D11: 매 | G11: 93000 | H11: 260 | I11: 113400 | J11: 225 | L11: 86000 | M11: 86250 | P11: =MIN(E11,G11,I11,K11,M11,N11,O11,L11) -> 86000 | Q11: 7
A12: 원형(고휘도반사지)2 | B12: KSA3505 | C12: 2.0T×Φ780mm | D12: 매 | G12: 105000 | H12: 260 | J12: 0 | L12: 126000 | M12: 141450 | P12: =MIN(E12,G12,I12,K12,M12,N12,O12,L12) -> 105000 | Q12: 8
A13: 원형(고휘도반사지)3 | B13: KSA3505 | C13: 2.0T×Φ900mm | D13: 매 | G13: 153000 | H13: 260 | I13: 178800 | J13: 225 | L13: 141000 | M13: 155250 | P13: =MIN(E13,G13,I13,K13,M13,N13,O13,L13) -> 141000 | Q13: 9
A14: 팔각(고휘도반사지)1 | B14: KSA3505 | C14: 2.0T×600mm | D14: 매 | G14: 99000 | H14: 260 | L14: 115000 | M14: 115000 | P14: =MIN(E14,G14,I14,K14,M14,N14,O14,L14) -> 99000 | Q14: 10
A15: 팔각(고휘도반사지)2 | B15: KSA3505 | C15: 2.0T×780mm | D15: 매 | G15: 105000 | H15: 260 | J15: 0 | L15: 212000 | M15: 212750 | P15: =MIN(E15,G15,I15,K15,M15,N15,O15,L15) -> 105000 | Q15: 11
A16: 팔각(고휘도반사지)3 | B16: KSA3505 | C16: 2.0T×900mm | D16: 매 | G16: 174000 | H16: 260 | L16: 241000 | M16: 241500 | P16: =MIN(E16,G16,I16,K16,M16,N16,O16,L16) -> 174000 | Q16: 12
A17: 오각(고휘도반사지)1 | B17: KSA3505 | C17: 2.0T×200×600×720mm | D17: 매 | G17: 125000 | H17: 260 | I17: 126000 | J17: 980 | L17: 92000 | M17: 92000 | P17: =MIN(E17,G17,I17,K17,M17,N17,O17,L17) -> 92000 | Q17: 13
A18: 오각(고휘도반사지)2 | B18: KSA3505 | C18: 2.0T×260×780×936mm | D18: 매 | H18: 0 | J18: 0 | L18: 155000 | M18: 196650 | P18: =MIN(E18,G18,I18,K18,M18,N18,O18,L18) -> 155000 | Q18: 14
A19: 오각(고휘도반사지)3 | B19: KSA3505 | C19: 2.0T×300×900×1080mm | D19: 매 | G19: 174000 | H19: 260 | I19: 180000 | J19: 980 | L19: 196000 | M19: 212750 | P19: =MIN(E19,G19,I19,K19,M19,N19,O19,L19) -> 174000 | Q19: 15
A20: 사각(고휘도반사지)1 | B20: KSA3505 | C20: 2.0T×400×400mm | D20: 매 | G20: 56000 | H20: 260 | L20: 60000 | M20: 60950 | P20: =MIN(E20,G20,I20,K20,M20,N20,O20,L20) -> 56000 | Q20: 16
A21: 사각(고휘도반사지)2 | B21: KSA3505 | C21: 2.0T×600×200mm | D21: 매 | G21: 57000 | H21: 260 | L21: 55000 | M21: 55200 | P21: =MIN(E21,G21,I21,K21,M21,N21,O21,L21) -> 55000 | Q21: 17
A22: 사각(고휘도반사지)3 | B22: KSA3505 | C22: 2.0T×600×300mm | D22: 매 | G22: 94000 | H22: 260 | L22: 56000 | M22: 56350 | P22: =MIN(E22,G22,I22,K22,M22,N22,O22,L22) -> 56000 | Q22: 18
A23: 사각(고휘도반사지)4 | B23: KSA3505 | C23: 2.0T×600×400mm | D23: 매 | H23: 0 | L23: 63000 | M23: 63250 | P23: =MIN(E23,G23,I23,K23,M23,N23,O23,L23) -> 63000 | Q23: 19
A24: 사각(고휘도반사지)5 | B24: KSA3505 | C24: 2.0T×550×600mm | D24: 매 | G24: 91000 | H24: 260 | L24: 109000 | M24: 109250 | P24: =MIN(E24,G24,I24,K24,M24,N24,O24,L24) -> 91000 | Q24: 20
A25: 사각(고휘도반사지)6 | B25: KSA3505 | C25: 2.0T×600×600mm | D25: 매 | L25: 115000 | M25: 115000 | P25: =MIN(E25,G25,I25,K25,M25,N25,O25,L25) -> 115000 | Q25: 21
A26: 사각(고휘도반사지)7 | B26: KSA3505 | C26: 2.0T×600×900mm | D26: 매 | H26: 0 | L26: 212000 | P26: =MIN(E26,G26,I26,K26,M26,N26,O26,L26) -> 212000 | Q26: 22
A27: 사각(고휘도반사지)8 | B27: KSA3505 | C27: 2.0T×780×260mm | D27: 매 | G27: 79500 | H27: 260 | L27: 80000 | M27: 80500 | P27: =MIN(E27,G27,I27,K27,M27,N27,O27,L27) -> 79500 | Q27: 23
A28: 사각(고휘도반사지)9 | B28: KSA3505 | C28: 2.0T×780×390mm | D28: 매 | H28: 0 | J28: 0 | L28: 113000 | M28: 113850 | P28: =MIN(E28,G28,I28,K28,M28,N28,O28,L28) -> 113000 | Q28: 24
A29: 사각(고휘도반사지)10 | B29: KSA3505 | C29: 2.0T×715×780mm | D29: 매 | H29: 0 | J29: 0 | L29: 207000 | M29: 207000 | P29: =MIN(E29,G29,I29,K29,M29,N29,O29,L29) -> 207000 | Q29: 25
A30: 사각(고휘도반사지)11 | B30: KSA3505 | C30: 2.0T×780×780mm | D30: 매 | F30: 0 | J30: 0 | L30: 212000 | M30: 212750 | P30: =MIN(E30,G30,I30,K30,M30,N30,O30,L30) -> 212000 | Q30: 26
A31: 사각(고휘도반사지)12 | B31: KSA3505 | C31: 2.0T×900×300mm | D31: 매 | I31: 127500 | J31: 225 | L31: 81000 | M31: 81650 | P31: =MIN(E31,G31,I31,K31,M31,N31,O31,L31) -> 81000 | Q31: 27
A32: 사각(고휘도반사지)13 | B32: KSA3505 | C32: 2.0T×900×450mm | D32: 매 | F32: 0 | J32: 0 | L32: 109000 | M32: 109250 | P32: =MIN(E32,G32,I32,K32,M32,N32,O32,L32) -> 109000 | Q32: 28
A33: 사각(고휘도반사지)14 | B33: KSA3505 | C33: 2.0T×780×1170mm | D33: 매 | F33: 0 | H33: 0 | J33: 0 | L33: 270000 | M33: 270250 | P33: =MIN(E33,G33,I33,K33,M33,N33,O33,L33) -> 270000 | Q33: 29
A34: 장애물표적표지 | C34: 2.0T×400×400mm | D34: 매 | F34: 0 | H34: 0 | L34: 78000 | M34: 78200 | P34: =MIN(E34,G34,I34,K34,M34,N34,O34,L34) -> 78000 | Q34: 30
A35: 대형표지(고휘도+고휘도) | C35: 3.0T×3000×2000mm | D35: 매 | F35: 0 | J35: 0 | L35: 2240000 | M35: 2422500 | P35: =MIN(E35,G35,I35,K35,M35,N35,O35,L35) -> 2240000 | Q35: 31
A36: 대형표지(고휘도+초고휘도) | C36: 3.0T×3000×2000mm | D36: 매 | F36: 0 | G36: 2000000 | H36: 260 | J36: 0 | L36: 2530000 | M36: 2530000 | P36: =MIN(E36,G36,I36,K36,M36,N36,O36,L36) -> 2000000 | Q36: 32
A37: 대형표지(고휘도+고휘도) | C37: 3.0T×3600×2200mm | D37: 매 | F37: 0 | G37: 3080000 | H37: 260 | I37: 3150000 | J37: 225 | L37: 3390000 | M37: 3392500 | P37: =MIN(E37,G37,I37,K37,M37,N37,O37,L37) -> 3080000 | Q37: 33
A38: 대형표지(고휘도+초고휘도) | C38: 3.0T×3600×2200mm | D38: 매 | F38: 0 | G38: 3080000 | H38: 260 | J38: 0 | L38: 3680000 | M38: 3680000 | P38: =MIN(E38,G38,I38,K38,M38,N38,O38,L38) -> 3080000 | Q38: 34
A39: 어린이보호(고휘도+초고휘도) | C39: 2.0T×900×900mm | D39: 매 | L39: 241000 | M39: 241500 | P39: =MIN(E39,G39,I39,K39,M39,N39,O39,L39) -> 241000 | Q39: 35
A40: 어린이보호(고휘도+초고휘도)1 | C40: 2.0T×780×1190mm | D40: 매 | F40: 0 | L40: 485000 | M40: 557750 | P40: =MIN(E40,G40,I40,K40,M40,N40,O40,L40) -> 485000 | Q40: 36
A41: 어린이보호(고휘도+초고휘도)2 | C41: 2.0T×1000×1500mm | D41: 매 | F41: 0 | L41: 805000 | M41: 937250 | P41: =MIN(E41,G41,I41,K41,M41,N41,O41,L41) -> 805000 | Q41: 37
A42: 어린이보호(고휘도+초고휘도)3 | C42: 2.0T×1000×1700mm | D42: 매 | F42: 0 | L42: 815000 | M42: 925750 | P42: =MIN(E42,G42,I42,K42,M42,N42,O42,L42) -> 815000 | Q42: 38
A43: 어린이보호(고휘도+초고휘도)4 | C43: 3.0T×3000×2000mm | D43: 매 | F43: 0 | L43: 2200000 | M43: 2530000 | P43: =MIN(E43,G43,I43,K43,M43,N43,O43,L43) -> 2200000 | Q43: 39
A44: T형부착대(규격)1 | B44: 백관 | C44: 1매용, Φ60.5=L500mm | D44: SET | F44: 0 | G44: 131000 | H44: 260 | L44: 97000 | M44: 97750 | P44: =MIN(E44,G44,I44,K44,M44,N44,O44,L44) -> 97000 | Q44: 40
A45: T형부착대(규격)2 | B45: 백관 | C45: 2매용, Φ60.5=L1100mm | D45: SET | F45: 0 | L45: 104000 | M45: 104650 | P45: =MIN(E45,G45,I45,K45,M45,N45,O45,L45) -> 104000 | Q45: 41
A46: T형부착대(규격)3 | B46: 백관 | C46: 3매용, Φ60.5=L1500mm | D46: SET | F46: 0 | G46: 160000 | H46: 260 | J46: 0 | L46: 109000 | M46: 109250 | P46: =MIN(E46,G46,I46,K46,M46,N46,O46,L46) -> 109000 | Q46: 42
A47: T형부착대(규격)1 분체 | B47: 백관 | C47: 1매용, Φ60.5=L500mm | D47: SET | L47: 150000 | M47: 172500 | P47: =MIN(E47,G47,I47,K47,M47,N47,O47,L47) -> 150000 | Q47: 43
A48: T형부착대(규격)2 분체 | B48: 백관 | C48: 2매용, Φ60.5=L1100mm | D48: SET | L48: 200000 | M48: 230000 | P48: =MIN(E48,G48,I48,K48,M48,N48,O48,L48) -> 200000 | Q48: 44
A49: T형부착대(규격)3 분체 | B49: 백관 | C49: 3매용, Φ60.5=L1500mm | D49: SET | L49: 250000 | M49: 287500 | P49: =MIN(E49,G49,I49,K49,M49,N49,O49,L49) -> 250000 | Q49: 45
A50: T형부착대(중형)4 | B50: 백관 | C50: 1매용, Φ60.5=L800mm | D50: SET | F50: 0 | J50: 0 | L50: 103000 | M50: 103500 | P50: =MIN(E50,G50,I50,K50,M50,N50,O50,L50) -> 103000 | Q50: 46
A51: T형부착대(중형)5 | B51: 백관 | C51: 2매용, Φ60.5=L1700mm | D51: SET | F51: 0 | H51: 0 | J51: 0 | L51: 109000 | M51: 109250 | P51: =MIN(E51,G51,I51,K51,M51,N51,O51,L51) -> 109000 | Q51: 47
A52: T형부착대(중형)4 분체 | B52: 백관 | C52: 1매용, Φ60.5=L800mm | D52: SET | L52: 200000 | M52: 230000 | P52: =MIN(E52,G52,I52,K52,M52,N52,O52,L52) -> 200000 | Q52: 48
A53: T형부착대(중형)5 분체 | B53: 백관 | C53: 2매용, Φ60.5=L1700mm | D53: SET | L53: 250000 | M53: 287500 | P53: =MIN(E53,G53,I53,K53,M53,N53,O53,L53) -> 250000 | Q53: 49
A54: 교통표지용 지주(규격)1 | B54: 백관 | C54: 1매용, Φ60.5=L3.0m | D54: SET | F54: 0 | H54: 0 | J54: 0 | L54: 70000 | M54: 70150 | P54: =MIN(E54,G54,I54,K54,M54,N54,O54,L54) -> 70000 | Q54: 50
A55: 교통표지용 지주(규격)2 | B55: 백관 | C55: 2매용, Φ60.5=L3.6m | D55: SET | J55: 0 | L55: 81000 | M55: 81650 | P55: =MIN(E55,G55,I55,K55,M55,N55,O55,L55) -> 81000 | Q55: 51
A56: 교통표지용 지주(규격)3 | B56: 백관 | C56: 3매용, Φ60.5=L4.2m | D56: SET | F56: 0 | H56: 0 | J56: 0 | L56: 126000 | M56: 126500 | P56: =MIN(E56,G56,I56,K56,M56,N56,O56,L56) -> 126000 | Q56: 52
A57: 교통표지용 지주(규격)1 분체 | B57: 백관 | C57: 1매용, Φ60.5=L3.0m | D57: SET | L57: 160000 | M57: 184000 | P57: =MIN(E57,G57,I57,K57,M57,N57,O57,L57) -> 160000 | Q57: 53
A58: 교통표지용 지주(규격)2 분체 | B58: 백관 | C58: 2매용, Φ60.5=L3.6m | D58: SET | L58: 200000 | M58: 230000 | P58: =MIN(E58,G58,I58,K58,M58,N58,O58,L58) -> 200000 | Q58: 54
A59: 교통표지용 지주(규격)3 분체 | B59: 백관 | C59: 3매용, Φ60.5=L4.2m | D59: SET | L59: 250000 | M59: 287500 | P59: =MIN(E59,G59,I59,K59,M59,N59,O59,L59) -> 250000 | Q59: 55
A60: 교통표지용 지주(중형)1 | B60: 백관 | C60: 1매용, Φ60.5=L3.5m | D60: SET | F60: 0 | H60: 0 | J60: 0 | L60: 80000 | M60: 80500 | P60: =MIN(E60,G60,I60,K60,M60,N60,O60,L60) -> 80000 | Q60: 56
A61: 교통표지용 지주(중형)2 | B61: 백관 | C61: 2매용, Φ60.5=L4.5m | D61: SET | F61: 0 | H61: 0 | L61: 86000 | M61: 86250 | P61: =MIN(E61,G61,I61,K61,M61,N61,O61,L61) -> 86000 | Q61: 57
A62: 교통표지용 지주(중형)1 분체 | B62: 백관 | C62: 1매용, Φ60.5=L3.5m | D62: SET | F62: 0 | H62: 0 | J62: 0 | L62: 200000 | M62: 230000 | P62: =MIN(E62,G62,I62,K62,M62,N62,O62,L62) -> 200000 | Q62: 58
A63: 교통표지용 지주(중형)2 분체 | B63: 백관 | C63: 2매용, Φ60.5=L4.5m | D63: SET | F63: 0 | H63: 0 | L63: 250000 | M63: 287500 | P63: =MIN(E63,G63,I63,K63,M63,N63,O63,L63) -> 250000 | Q63: 59
A64: 교차로대 | B64: 백관 | C64: Φ60.5=L2.0m | D64: SET | F64: 0 | L64: 356000 | M64: 356500 | P64: =MIN(E64,G64,I64,K64,M64,N64,O64,L64) -> 356000 | Q64: 60
A65: 교차로대 분체 | B65: 백관 | C65: Φ60.5=L2.0m | D65: SET | F65: 0 | L65: 632000 | M65: 632500 | P65: =MIN(E65,G65,I65,K65,M65,N65,O65,L65) -> 632000 | Q65: 61
A66: (조립식)페이퍼폴 | B66: 백관 | C66: Φ139.8 Φ76.3=L5.3m | D66: SET | L66: 1750000 | M66: 2012500 | P66: =MIN(E66,G66,I66,K66,M66,N66,O66,L66) -> 1750000 | Q66: 62
A67: (조립식)페이퍼폴 분체 | B67: 백관 | C67: Φ139.8 Φ76.3=L5.3m | D67: SET | L67: 2250000 | M67: 2587500 | P67: =MIN(E67,G67,I67,K67,M67,N67,O67,L67) -> 2250000 | Q67: 63
A68: 문안수정(고휘도.일반시트) 일반반사지 | C68: 914mm x 45.7m/1220mm x 45.7m | D68: ㎡ | E68: 23000 | F68: 168 | P68: =MIN(E68,G68,I68,K68,M68,N68,O68,L68) -> 23000 | Q68: 64
A69: 고휘도반사지(KS A 3507) | C69: 캡슐렌즈형, 프리즘형 | D69: ㎡ | E69: 60000 | F69: 168 | I69: 60000 | J69: 228 | P69: =MIN(E69,G69,I69,K69,M69,N69,O69,L69) -> 60000 | Q69: 65
A70: 초고휘도반사지(KS A 3507) | C70: 프리즘형 | D70: ㎡ | E70: 110000 | F70: 168 | I70: 110000 | J70: 228 | P70: =MIN(E70,G70,I70,K70,M70,N70,O70,L70) -> 110000 | Q70: 66
A71: T형부착대(어린이보호) | B71: 백관 | C71: Φ60.5=L1.6m | D71: SET | F71: 0 | H71: 0 | J71: 0 | L71: 172000 | M71: 172500 | P71: =MIN(E71,G71,I71,K71,M71,N71,O71,L71) -> 172000 | Q71: 67
A72: T형부착대(어린이보호) 분체 | B72: 백관 | C72: Φ60.5=L1.6m | D72: SET | F72: 0 | H72: 0 | J72: 0 | L72: 276000 | M72: 276000 | P72: =MIN(E72,G72,I72,K72,M72,N72,O72,L72) -> 276000 | Q72: 68
A73: 철주(어린이보호) | B73: 용융 | C73: Φ76.3=L4.5m | D73: SET | F73: 0 | H73: 0 | J73: 0 | L73: 320000 | M73: 368000 | P73: =MIN(E73,G73,I73,K73,M73,N73,O73,L73) -> 320000 | Q73: 69
A74: 철주(어린이보호) 분체 | B74: 용융 | C74: Φ76.3=L4.5m | D74: SET | F74: 0 | H74: 0 | J74: 0 | L74: 410000 | M74: 471500 | P74: =MIN(E74,G74,I74,K74,M74,N74,O74,L74) -> 410000 | Q74: 70
A75: 고철 | B75: 철재 | D75: kg | K75: -350 | P75: =MIN(E75,G75,I75,K75,M75,N75,O75,L75) -> -350 | Q75: 71
A76: 고철 | B76: 스테인레스 | C76: 304A | D76: kg | E76: -1850 | F76: 하47 | I76: -1770 | J76: 1198 | P76: =MIN(E76,G76,I76,K76,M76,N76,O76,L76) -> -1850 | Q76: 72
A77: 고철 | B77: AL | D77: kg | K77: -2850 | P77: =MIN(E77,G77,I77,K77,M77,N77,O77,L77) -> -2850 | Q77: 73
A78: 시멘트 | B78: 보통 | C78: 40kg | D78: kg | K78: 182 | P78: =MIN(E78,G78,I78,K78,M78,N78,O78,L78) -> 182 | Q78: 74
A79: 모래 | C79: 하천모래도착도 | D79: m3 | K79: 35000 | P79: =MIN(E79,G79,I79,K79,M79,N79,O79,L79) -> 35000 | Q79: 75
A80: 자갈 | C80: 40mm 쇄석 도착도 | D80: m3 | K80: 30000 | P80: =MIN(E80,G80,I80,K80,M80,N80,O80,L80) -> 30000 | Q80: 76
A81: 합판(내수) | C81: 12t×1220×2440mm | D81: m2 | K81: 10346 | P81: =MIN(E81,G81,I81,K81,M81,N81,O81,L81) -> 10346 | Q81: 77
A82: 각재 | C82: 3.6m×4.5cm×4.5cm | D82: m3 | K82: 264746 | P82: =MIN(E82,G82,I82,K82,M82,N82,O82,L82) -> 264746 | Q82: 78
A83: 철선 | C83: #8, 4mm | D83: kg | K83: 1560 | P83: =MIN(E83,G83,I83,K83,M83,N83,O83,L83) -> 1560 | Q83: 79
A84: 철못 | C84: N75, 75*3.25mm | D84: kg | K84: 1540 | P84: =MIN(E84,G84,I84,K84,M84,N84,O84,L84) -> 1540 | Q84: 80
A85: 박리제(중유) | C85: 저유황1% , 목재,합판용 | D85: ℓ | K85: 1250 | P85: =MIN(E85,G85,I85,K85,M85,N85,O85,L85) -> 1250 | Q85: 81
A86: (초고장력)철근 | C86: D13 SD600 | D86: Ton | E86: 855000 | F86: 2 | G86: 846000 | H86: 2 | I86: 852000 | J86: 17 | P86: =MIN(E86,G86,I86,K86,M86,N86,O86,L86) -> 846000 | Q86: 82
A87: 보통철선(결속선) | C87: #20 | D87: kg | E87: 1690 | F87: 27 | G87: 2090 | H87: 36 | I87: 1940 | J87: 42 | P87: =MIN(E87,G87,I87,K87,M87,N87,O87,L87) -> 1690 | Q87: 83
A88: 소형고압블록(U형) | C88: 200*100*60 | D88: m2 | E88: 15000 | F88: 144 | G88: 10000 | H88: 199 | I88: 14000 | J88: 192 | P88: =MIN(E88,G88,I88,K88,M88,N88,O88,L88) -> 10000 | Q88: 84
A89: 레미콘 | C89: #57 25-240-12 | D89: m3 | H89: 56 | K89: 101370 | P89: =MIN(E89,G89,I89,K89,M89,N89,O89,L89) -> 101370 | Q89: 85
A90: 조합페인트(백색) | C90: KSM-6020 2급(유광목재철판) | D90: ℓ | E90: =105000/18 -> 5833.3333 | F90: 590 | G90: =141680/18 -> 7871.1111 | H90: 497 | I90: =105000/18 -> 5833.3333 | J90: 467 | P90: =MIN(E90,G90,I90,K90,M90,N90,O90,L90) -> 5833.3333 | Q90: 86
A91: 신너 | C91: KSM-6060 | D91: ℓ | K91: 2700 | P91: =MIN(E91,G91,I91,K91,M91,N91,O91,L91) -> 2700 | Q91: 87
A92: 퍼티 | C92: #100 내츄럴퍼니, 자연N | D92: ℓ | E92: =37571/18 -> 2087.2778 | F92: 598 | G92: =37571/18 -> 2087.2778 | H92: 500 | I92: =45000/18 -> 2500 | J92: 469 | P92: =MIN(E92,G92,I92,K92,M92,N92,O92,L92) -> 2087.2778 | Q92: 88
A93: 연마지 | C93: #180이상(150~400) | D93: 매 | E93: 340 | F93: 1412 | G93: 375 | H93: 1074 | I93: 375 | J93: 1168 | P93: =MIN(E93,G93,I93,K93,M93,N93,O93,L93) -> 340 | Q93: 89
A94: 대형편주 | B94: 용융 | C94: φ355.6=L7.5m | D94: SET | G94: 5400000 | H94: 264 | I94: 5500000 | J94: 225 | P94: 5400000 | Q94: M62-3
A95: 대형편주(3600X2200) | B95: 용융 | C95: φ267.4=L7.5m | D95: SET | H95: 264(22.7) | I95: 3400000 | J95: 225(22.7) | P95: 3400000
A96: 어린이편주 | B96: 용융 | C96: φ139.8,φ7.63 | D96: SET | I96: 1500000 | J96: 225(24.01) | P96: =MIN(E96,G96,I96,K96,M96,N96,O96,L96) -> 1500000
A97: 앙카볼트 | C97: φ30X1800 | D97: 조 | L97: 380000 | M97: 440860 | P97: 380000

Sheet 적용기준
C1: 물 가 조 사 | S1: http://ecos.bok.or.kr/ | U1: 한국은행경제통계시스템
B3: 적 용 기 준
C6: ◈ 환 율 | R6: 비고
C8: 1 달러($) : | D8: 1434.9 | R8: 2026년 사업소 공통
C11: ◈ 유 류 대 | R11: 비고
C13: 휘 발 유 : | D13: 1781.37 | R13: 2026년 사업소 공통
C15: 경유 : | D15: 1685.68 | R15: 2026년 사업소 공통
C18: ◈ 노 무 비
D19: 1) | F19: 2) | J19: 3) | N19: 4) | R19: 5)
C20: 건설기계운전기사 : | D20: =공사노임!C12 -> 283297 | E20: x | F20: 1 | G20: / | H20: 8 | I20: x | J20: 16 | K20: / | L20: 12 | M20: x | N20: 25 | O20: / | P20: 20 | Q20: = | R20: =INT(D20*F20/H20*J20/L20*N20/P20) -> 59020
C23: 화물차운전사 : | D23: =공사노임!C13 -> 238936 | E23: x | F23: 1 | G23: / | H23: 8 | I23: x | J23: 16 | K23: / | L23: 12 | M23: x | N23: 25 | O23: / | P23: 20 | Q23: = | R23: =INT(D23*F23/H23*J23/L23*N23/P23) -> 49778
C26: 일반기계운전사 | D26: =공사노임!C14 -> 173995 | E26: x | F26: 1 | G26: / | H26: 8 | I26: x | J26: 16 | K26: / | L26: 12 | M26: x | N26: 25 | O26: / | P26: 20 | Q26: = | R26: =INT(D26*F26/H26*J26/L26*N26/P26) -> 36248
A36: NOTE :
B37: 1) : | C37: 1) : 해당직종 노임단가
B38: 2) : | C38: 2) : 21일 작업시간 8시간 기준
B39: 3) : | C39: 3) : 고용(제수당, 상여금, 퇴직급여충당금)
B40: 4) : | C40: 4) : 휴지계수(월간 작업 가능일수)
B41: 5) : | C41: 5) : 인건비 계

Sheet 공사노임
A1: 2026년 상반기 노임단가 | F1: http://www.csr.co.kr/
F2: https://www.kbiz.or.kr/
A3: 번호 | B3: 직 종 명 | C3: 2026년 상반기 | D3: 비 고 | E3: 적용일자 | I3: 낙찰율
A4: 1002 | B4: 보통인부 | C4: =F4*$G$4 -> 172068 | D4: 대한건설협회 2025년 상반기 노임단가 | E4: 2026.01.01 | F4: 172068 | G4: =TRUNC(I4/H4,6) -> 1 | H4: 100 | I4: 100
A5: 1003 | B5: 특별인부 | C5: =F5*$G$4 -> 226122 | D5: 대한건설협회 2025년 상반기 노임단가 | E5: 2026.01.01 | F5: 226122 | G5: * 도서노임은 15% 가산적용
A6: 1007 | B6: 형틀목공 | C6: =F6*$G$4 -> 275790 | D6: 대한건설협회 2025년 상반기 노임단가 | E6: 2026.01.01 | F6: 275790
A7: 1008 | B7: 철근공 | C7: =F7*$G$4 -> 268187 | D7: 대한건설협회 2025년 상반기 노임단가 | E7: 2026.01.01 | F7: 268187
A8: 1013 | B8: 콘크리트공 | C8: =F8*$G$4 -> 273540 | D8: 대한건설협회 2025년 상반기 노임단가 | E8: 2026.01.01 | F8: 273540
A9: 1015 | B9: 착암공 | C9: =F9*$G$4 -> 222306 | D9: 대한건설협회 2025년 상반기 노임단가 | E9: 2026.01.01 | F9: 222306
A10: 1019 | B10: 포장공 | C10: =F10*$G$4 -> 273308 | D10: 대한건설협회 2025년 상반기 노임단가 | E10: 2026.01.01 | F10: 273308
A11: 1029 | B11: 도장공 | C11: =F11*$G$4 -> 263017 | D11: 대한건설협회 2025년 상반기 노임단가 | E11: 2026.01.01 | F11: 263017
A12: 1048 | B12: 건설기계운전사 | C12: =F12*$G$4 -> 283297 | D12: 대한건설협회 2025년 상반기 노임단가 | E12: 2026.01.01 | F12: 283297
A13: 1049 | B13: 화물차운전사 | C13: =F13*$G$4 -> 238936 | D13: 대한건설협회 2025년 상반기 노임단가 | E13: 2026.01.01 | F13: 238936
A14: 1050 | B14: 일반기계운전사 | C14: =F14*$G$4 -> 173995 | D14: 대한건설협회 2025년 상반기 노임단가 | E14: 2026.01.01 | F14: 173995
A15: 1075 | B15: 내선전공 | C15: =F15*$G$4 -> 273676 | D15: 대한건설협회 2025년 상반기 노임단가 | E15: 2026.01.01 | F15: 273676
A16: 60 | B16: 절단원(가위절단공) | C16: =F16*$G$4 -> 110951 | D16: 중소기업중앙회 제조노임단가 | E16: 2026.01.01 | F16: 110951
A17: 29 | B17: 전자조판원 | C17: =F17*$G$4 -> 103691 | D17: 중소기업중앙회 제조노임단가 | E17: 2026.01.01 | F17: 103691

Sheet 이전비
A1: 이 전 비
A3: No | B3: 품 명 | C3: 규 격 | D3: 단위 | E3: 수 량 | F3: 노무비 | G3: 재료비 | H3: 경 비 | I3: 합 계 | J3: 비 고
A4: 1 | B4: 굴착복구비 | D4: 식 | E4: 1
B5: 계

Sheet 고용개선지원비
A1: 고용개선지원비(PS단가)
G2: 2026. 1. 1.부터 적용
A3: 품 명 | B3: 규격 | C3: 단위 | D3: 수량 | E3: 단가 | F3: 산출금액 | G3: 비고
A4: 직접노무비 | E4: =공사원가계산서!D8 -> 5543642
A5: 고용개선지원비
A7: 주휴수당 원가반영비율 | B7: 토목공사, 5억미만, 7개월~12개월 | E7: 0.102 | G7: 주휴수당 원가반영비율 참고
A8: 주휴수당 | B8: 직접노무비 × 주휴수당 원가반영비율×50% × 1.4(제경비) | C8: 식 | D8: 1 | E8: =INT($E$4*$E$7*50%*1.4) -> 395816 | F8: =D8*E8 -> 395816 | G8: 5천만원 미만 또는 1개월 미만 공사 제외 | H8: 서울시 건설혁신담당관-19304호(2025.12.22.)호 관련
A9: 고용개선장려금 | B9: 직접노무비 × 8.045% × 20% | C9: 식 | D9: 1 | E9: =INT($E$4*8.045%*20%) -> 89197 | F9: =D9*E9 -> 89197 | H9: 고용개선지원비 공사원가 반영 및 집행 매뉴얼 개정(ver9.0) 알림
A10: 국민연금, 건강보험 지원분 | B10: 직접노무비 × 주휴수당 원가반영비율×50% × 10% | C10: 식 | D10: 1 | E10: =INT($E$4*$E$7*50%*10%) -> 28272 | F10: =D10*E10 -> 28272
A11: 전자인력관리 단말기 | B11: 12개월 | C11: 식 | D11: 1 | G11: 1억 이상 공사 | H11: 고용개선지원비 공사원가 반영 및 집행 매뉴얼 개정(ver9.0) 알림
A12: 합 계 | F12: =SUM(F8:F11) -> 513285
A13: ※ 고용개선지원비 공사원가 반영 및 집행 매뉴얼(서울특별시) 참조
A14: 󰏚 주휴수당 원가반영 비율(고용개선지원비 원가반영 및 집행매뉴얼(Ver_9.0))

Sheet 기초설계
A2: 정주식 철주 상세도 | I2: 물량산출
I3: 공 종 | J3: 산출식 | K3: 물량
I4: 터파기 | J4: 0.6×0.6×0.45 | K4: =0.6*0.6*0.45 -> 0.162
I5: 되메우기 | J5: 0.162 - 0.072 | K5: =K4-K6 -> 0.09
I6: 잔토처리 | J6: 기초콘크리트 용적 | K6: =K7 -> 0.072
I7: 기초콘크리트 용적 | J7: 0.4×0.4×0.45 | K7: =0.4*0.4*0.45 -> 0.072
I8: 거푸집 | J8: 0.4×0.45×4 | K8: =0.4*0.45*4 -> 0.72
I9: 포장걷기 | J9: 1×1 | K9: =1*1 -> 1
A20: T형 부착대 상세도
A39: 교차로대, 테이퍼폴 상세도 | I39: 물량산출
I40: 공 종 | J40: 산출식 | K40: 물량
I41: 터파기 | J41: 1.4/3[1.25²+1.05²+(√1.25²*1.05²)］ | K41: 1.856
I42: 되메우기 | J42: 1.856 - 0.867 | K42: =K41-K43 -> 0.989
I43: 잔토처리 | J43: 기초콘크리트 용적 | K43: =+K44 -> 0.867
I44: 기초콘크리트 용적 | J44: 0.85×0.85×1.2 | K44: =0.85*0.85*1.2 -> 0.867
I45: 거푸집 | J45: 0.85×1.2×4 | K45: =0.85*1.2*4 -> 4.08
I46: 포장걷기 | J46: 1.25×1.25 | K46: =1.25*1.25 -> 1.5625
A57: 어린이보호구역 철주 상세도 | I57: 물량산출
I58: 공 종 | J58: 산출식 | K58: 물량
I59: 터파기 | J59: 0.8×0.8×0.8 | K59: =0.8*0.8*0.8 -> 0.512
I60: 되메우기 | J60: 0.512-0.288 | K60: =K59-K61 -> 0.224
I61: 잔토처리 | J61: 기초콘크리트 용적 | K61: =K62 -> 0.288
I62: 기초콘크리트 용적 | J62: 0.6×0.6×0.8 | K62: =0.6*0.6*0.8 -> 0.288
I63: 거푸집 | J63: 0.6×0.8×4 | K63: =0.6*0.8*4 -> 1.92
I64: 포장걷기 | J64: 1×1 | K64: =1*1 -> 1

Sheet Sheet1
A1: 공통대가 작성 리스트
A3: 목록 | C3: 작업관계 | E3: 비 고
C4: 진행중 | D4: 완료
A5: 1 | B5: 내역서 | C5: - | D5: 완료
A6: 2 | B6: 일위1 | C6: - | D6: 완료 | E6: 6,7 적용
A7: 3 | B7: 일위2 | C7: - | D7: 완료 | E7: 공통대가 적용
A8: 4 | B8: 기계경비 | C8: - | D8: 완료 | E8: 공통대가 적용
A9: 5 | B9: 단가조사 | C9: - | D9: 완료 | E9: 실크, 폴리카보네이트,발광형표지판 제외
A10: 6 | B10: 설치수량 | C10: - | D10: 완료 | E10: "
A11: 7 | B11: 재료산출 | C11: - | D11: 완료 | E11: "
A12: 8 | B12: 적용기준 | C12: - | D12: 완료 | E12: 2011.01월 발표 단가 기준
A13: 9 | B13: 공사노임 | C13: - | D13: 완료 | E13: 2011년 상반기
A14: 10 | B14: 기초설계 | C14: - | D14: 완료 | E14: 마름모형 기초 적용
