Workbook
Name __________a10: [0]!__________a10
Name __________a11: [0]!__________a11
Name __________a12: [0]!__________a12
Name __________a13: [0]!__________a13
Name __________a14: [0]!__________a14
Name __________a15: [0]!__________a15
Name __________a16: [0]!__________a16
Name __________a17: [0]!__________a17
Name __________a2: [0]!__________a2
Name __________a3: [0]!__________a3
Name __________a4: [0]!__________a4
Name __________a5: [0]!__________a5
Name __________a6: [0]!__________a6
Name __________a7: [0]!__________a7
Name __________a8: [0]!__________a8
Name __________a9: [0]!__________a9
Name __________JHY1: [0]!__________JHY1
Name __________JHY2: [0]!__________JHY2
Name __________LKS1: [0]!__________LKS1
Name __________LKS2: [0]!__________LKS2
Name __________RL6: #REF!
Name __________RL6: #REF!
Name __________RL7: #REF!
Name __________RL7: #REF!
Name __________s1: #REF!
Name __________s1: #REF!
Name __________SCH1: #REF!
Name __________SCH1: #REF!
Name __________SH10: #REF!
Name __________SH10: #REF!
Name __________SH11: #REF!
Name __________SH11: #REF!
Name __________SH12: #REF!
Name __________SH12: #REF!
Name __________SH13: #REF!
Name __________SH13: #REF!
Name __________SH14: #REF!
Name __________SH14: #REF!
Name __________SH15: #REF!
Name __________SH15: #REF!
Name __________SH16: #REF!
Name __________SH16: #REF!
Name __________SH17: #REF!
Name __________SH17: #REF!
Name __________SH18: #REF!
Name __________SH18: #REF!
Name __________SH19: #REF!
Name __________SH19: #REF!
Name __________SH20: #REF!
Name __________SH20: #REF!
Name __________SH8: #REF!
Name __________SH8: #REF!
Name __________SH9: #REF!
Name __________SH9: #REF!
Name __________sp1: #REF!
Name __________sp1: #REF!
Name _________SBB1: #REF!
Name _________SBB2: #REF!
Name _________SBB2: #REF!
Name _________SBB3: #REF!

Sheet 갑지
A1: 과장 | E1: 심사 | I1: 설계 | M1: 설계 | N1: 2026년 | O1: 04월 | P1: 일 | Q1: 결 재
M2: 심사 | N2: =N1 -> 2026년 | O2: =O1 -> 04월 | P2: 일 | Q2: 월 일
A4: 설 계 서
B5: =공사원가계산서!A2 -> 공사명 : 2026년 교통사고 잦은 곳 개선사업 교통안전표지 공사(남부)
B6: 구 분 | G6: 금 액 | P6: 비 고
B7: 총 공 사 비 | G7: ="一金 "&NUMBERSTRING(L7,1)&"원 정" -> 一金 사천일백육십삼만사천일백구십원 정 | L7: =SUM(L10:N11) -> 41634190
C8: 공 급 가 액 | G8: ="一金 "&NUMBERSTRING(L8,1)&"원 정" -> 一金 삼천일백사십만원 정 | L8: =공사원가계산서!D28 -> 31400000
B9: 도 급 비 | C9: 부 가 가 치 세 | G9: ="一金 "&NUMBERSTRING(L9,1)&"원 정" -> 一金 삼백일십사만원 정 | L9: =공사원가계산서!D29 -> 3140000
C10: 계 | G10: ="一金 "&NUMBERSTRING(L10,1)&"원 정" -> 一金 삼천사백오십사만원 정 | L10: =SUM(L8:N9) -> 34540000
B11: 관 급 자 재 비 | G11: ="一金 "&NUMBERSTRING(L11,1)&"원 정" -> 一金 칠백구만사천일백구십원 정 | L11: =공사원가계산서!D31 -> 7094190
B13: 공사개요
B14: ○ 교통안전표지판 설치 및 유지보수 1식
B15: ○ 철주 및 부착대 설치 및 유지보수 1식

Sheet 공사원가계산서
A1: 공 사 원 가 계 산 서
A2: 공사명 : 2026년 교통사고 잦은 곳 개선사업 교통안전표지 공사(남부)
A3: 구 분 비 목 | D3: 금 액 | E3: 구성비(%) | F3: 적 용 요 율 | G3: 비 고
A4: 순 공 사 원 가 | B4: 재 료 비 | C4: 직접재료비 | D4: =내역서!I188 -> 13991356 | E4: =D4/$D$30 -> 0.4050769
C5: 간접재료비
C6: 작업부산물(△)
C7: 소 계 | D7: =SUM(D4:D6) -> 13991356 | E7: =D7/$D$30 -> 0.4050769
B8: 노 무 비 | C8: 직접노무비 | D8: =내역서!K188 -> 5543642 | E8: =D8/$D$30 -> 0.16049919
C9: 간접노무비 | D9: =TRUNC(D8*F9%,0) -> 1058835 | E9: =D9/$D$30 -> 0.030655327 | F9: 19.1
C10: 소 계 | D10: =SUM(D8+D9) -> 6602477 | E10: =D10/$D$30 -> 0.19115452
B11: 제 경 비 | C11: 기계경비 | D11: =내역서!M188 -> 3641610 | E11: =D11/$D$30 -> 0.10543167
C12: 산재보험료 | D12: =TRUNC(D10*F12%,0) -> 235048 | E12: =D12/$D$30 -> 0.0068050955 | F12: 3.56
C13: 고용보험료 | D13: =TRUNC(D10*F13%,0) -> 66685 | E13: =D13/$D$30 -> 0.0019306601 | F13: 1.01
C14: 건강보험료 | D14: =TRUNC(D8*F14%,0) -> 199293 | E14: =D14/$D$30 -> 0.0057699189 | F14: 3.595 | G14: 공사기간1개월이상
C15: 연금보험료 | D15: =TRUNC(D8*F15%,0) -> 263322 | E15: =D15/$D$30 -> 0.0076236827 | F15: 4.75 | G15: 공사기간1개월이상
C16: 기타경비 | D16: =TRUNC((D7+D10)*F16%,0) -> 1132660 | E16: =D16/$D$30 -> 0.032792704 | F16: 5.5
C17: 퇴직공제부금비 | D17: =TRUNC(D8*F17%,0)*0 -> 0 | E17: =D17/$D$30 -> 0 | F17: 2.3 | G17: 1억이상
C18: 산업안전보건관리비 | D18: =TRUNC(SUM(D7,D8)*F18%,0) -> 404374 | E18: =D18/$D$30 -> 0.011707412 | F18: 2.07 | G18: 2천이상
C19: 노인장기요양보험료 | D19: =TRUNC(D14*F19%,0) -> 26187 | E19: =TRUNC(D19/$D$30,4) -> 0.0007 | F19: 13.14 | G19: 공사기간1개월이상
C20: 건설기계대여대금 지급보증액발급금액 | D20: =TRUNC(SUM(D4,D8,D11)*F20%,0) -> 23176 | E20: =TRUNC(D20/$D$30,4) -> 0.0006 | F20: 0.1 | G20: 1억이상 3개월 이상
C21: 환경보전비 | D21: =TRUNC(SUM(D4,D8,D11)*F21%,0) -> 185412 | E21: =TRUNC(D21/$D$30,4) -> 0.0053 | F21: 0.8
C22: 소 계 | D22: =SUM(D11:D21) -> 6177767 | E22: =D22/$D$30 -> 0.17885834
B23: 계 | D23: =SUM(D7+D10+D22) -> 26771600 | E23: =D23/$D$30 -> 0.77508975
A24: 일반관리비 | D24: =TRUNC(SUM(D7,D10,D22)*F24%,0) -> 2141728 | E24: =D24/$D$30 -> 0.06200718 | F24: 8
A25: 이윤 | D25: =TRUNC(SUM(D10,D22,D24)*F25%,0)-6077 -> 2232218 | E25: =D25/$D$30 -> 0.064627041 | F25: 15 | G25: 1789
A26: 고용개선지원비 (PS단가) | D26: =고용개선지원비!F12 -> 513285 | F26: 고용개선지원비 공사원가 반영 및 집행 매뉴얼 개정(ver9.0) | G26: 5천이상 또는 3개월이상
A27: 고 재 처 리 | D27: =고재처리!I104 -> -258831
A28: 공급가액 | D28: =TRUNC(SUM(D23:D27)) -> 31400000 | E28: =D28/$D$30 -> 0.90909091
A29: 부가가치세 | D29: =TRUNC(D28*10%,0) -> 3140000 | E29: =D29/$D$30 -> 0.090909091
A30: 도급비 | D30: =SUM(D28:D29) -> 34540000 | E30: =D30/$D$30 -> 1
A31: 관급자재비 | D31: =관급자재!F13 -> 7094190
A32: 총공사비 | D32: =SUM(D30:D31) -> 41634190

Sheet 관급자재
A1: 관 급 자 재 (LED)
A2: =공사원가계산서!A2 -> 공사명 : 2026년 교통사고 잦은 곳 개선사업 교통안전표지 공사(남부)
A3: 위 치 | B3: 규 격 | C3: 수 량 | D3: 단위 | E3: 관급자재비 | G3: 식별번호
E4: 단 가 | F4: 금 액
A5: 교대입구삼거리 | B5: 311(910*910) | C5: 1 | D5: EA | E5: 1940000 | F5: =C5*E5 -> 1940000 | G5: 25121285
A6: 은천로 | B6: 322,416(700*900) | C6: 2 | D6: EA | E6: 2558000 | F6: =C6*E6 -> 5116000 | G6: 25121411
A7: 소계 | F7: =SUM(F5:F6) -> 7056000
A8: 조달수수료 | F8: =ROUNDDOWN(F7*0.54%,-1) -> 38100
A10: 소 계 | F10: =F7 -> 7056000
A11: 조달수수료 | C11: 1 | D11: 식 | F11: =F8+90 -> 38190
A13: 합 계 | F13: =SUM(F10+F11) -> 7094190

Sheet 고재처리
A1: 내 역 서
A2: =공사원가계산서!A2 -> 공사명 : 2026년 교통사고 잦은 곳 개선사업 교통안전표지 공사(남부)
A3: 호 표 | B3: 품 명 | D3: 규 격 | F3: 단위 | G3: 수량 | H3: 합 계 | J3: 비고
H4: 단 가 | I4: 금 액
A6: 1-2-1 | B6: 규격 삼각△-고재 | C6: 교체 | D6: 900 고휘도 | E6: 반사지 | F6: 매 | G6: =내역서!G7 -> 0 | H6: =일위대가!O13 -> -7506 | I6: =G6*H6 -> 0
A7: 1-4-1 | B7: 규격 삼각∇-고재 | C7: 교체 | D7: 800 고휘도 | E7: 반사지 | F7: 매 | G7: =내역서!G9 -> 0 | H7: =일위대가!O22 -> -6210 | I7: =G7*H7 -> 0
A8: 1-6-1 | B8: 규격 원형-고재 | C8: 교체 | D8: Φ600 고휘도 | E8: 반사지 | F8: 매 | G8: =내역서!G11 -> 4 | H8: =일위대가!O31 -> -6458 | I8: =G8*H8 -> -25832
A9: 1-8-1 | B9: 규격 오각-고재 | C9: 교체 | D9: 600*720 고휘도 | E9: 반사지 | F9: 매 | G9: =내역서!G13 -> 0 | H9: =일위대가!O40 -> -6355 | I9: =G9*H9 -> 0
A10: 1-10-1 | B10: 규격 사각-고재 | C10: 교체 | D10: 400*400 고휘도 | E10: 반사지 | F10: 매 | G10: =내역서!G15 -> 0 | H10: =일위대가!O49 -> -4571 | I10: =G10*H10 -> 0
A11: 1-12-1 | B11: 규격 사각-고재 | C11: 교체 | D11: 600*200 고휘도 | E11: 반사지 | F11: 매 | G11: =내역서!G17 -> 0 | H11: =일위대가!O58 -> -3955 | I11: =G11*H11 -> 0
A12: 1-14-1 | B12: 규격 사각-고재 | C12: 교체 | D12: 600*300 고휘도 | E12: 반사지 | F12: 매 | G12: =내역서!G19 -> 0 | H12: =일위대가!O67 -> -4879 | I12: =G12*H12 -> 0
A13: 1-16-1 | B13: 규격 사각-고재 | C13: 교체 | D13: 600×400고휘도 | E13: 반사지 | F13: 매 | G13: =내역서!G21 -> 0 | H13: =일위대가!O76 -> -5141 | I13: =G13*H13 -> 0
A14: 1-18-1 | B14: 규격 사각-고재 | C14: 교체 | D14: 550*600 고휘도 | E14: 반사지 | F14: 매 | G14: =내역서!G23 -> 0 | H14: =일위대가!O85 -> -7187 | I14: =G14*H14 -> 0
A15: 1-20-1 | B15: 규격 사각-고재 | C15: 교체 | D15: 600*600 고휘도 | E15: 반사지 | F15: 매 | G15: =내역서!G25 -> 0 | H15: =일위대가!O94 -> -7649 | I15: =G15*H15 -> 0
A16: 1-22-1 | B16: 규격 팔각-고재 | C16: 교체 | D16: 600*600 고휘도 | E16: 반사지 | F16: 매 | G16: =내역서!G27 -> 0 | H16: =일위대가!O103 -> -6315 | I16: =G16*H16 -> 0
A17: 1-26-1 | B17: 규격 T형부착대-고재 | C17: 교체 | D17: 1매용 백관 | F17: SET | G17: =내역서!G31 -> 2 | H17: =일위대가!O118 -> -1265 | I17: =G17*H17 -> -2530
A18: 1-27-1 | B18: 규격 T형부착대-고재 | C18: 교체 | D18: 2매용 백관 | F18: SET | G18: =내역서!G32 -> 0 | H18: =일위대가!O124 -> -2214 | I18: =G18*H18 -> 0
A19: 1-28-1 | B19: 규격 T형부착대-고재 | C19: 교체 | D19: 3매용 백관 | F19: SET | G19: =내역서!G33 -> 0 | H19: =일위대가!O130 -> -2847 | I19: =G19*H19 -> 0 | L19: (1-29~34)규격 T형 부착대 STS 신설교체 삭제
A20: 1-30-1 | B20: 규격 T형부착대-고재 | C20: 철거 | D20: 1-23h,24h,25h | F20: SET | G20: =내역서!G35 -> 4 | H20: =일위대가!O139 -> -2108 | I20: =G20*H20 -> -8432
A21: 1-34-1 | B21: 규격 철주-고재 | C21: 철거 | D21: 1-31h,32h,33h | F21: SET | G21: =내역서!G39 -> 1 | H21: =일위대가!O172 -> -6123 | I21: =G21*H21 -> -6123
A22: 1-35-1 | B22: 철주 기초제거 (T=30cm)-고재 | C22: 철거 | F22: SET | G22: =내역서!G40 -> 1 | H22: =일위대가!O183 -> -538 | I22: =G22*H22 -> -538
A23: 2-2-1 | B23: 중형 삼각△-고재 | C23: 교체 | D23: 1170 고휘도 | E23: 반사지 | F23: 매 | G23: =내역서!G42 -> 0 | H23: =일위대가!O192 -> -12696 | I23: =G23*H23 -> 0
A24: 2-4-1 | B24: 중형 삼각△-고재 | C24: 교체 | D24: 1350 고휘도 | E24: 반사지 | F24: 매 | G24: =내역서!G44 -> 0 | H24: =일위대가!O210 -> -10536 | I24: =G24*H24 -> 0
A25: 2-6-1 | B25: 중형 삼각∇-고재 | C25: 교체 | D25: 1040 고휘도 | E25: 반사지 | F25: 매 | G25: =내역서!G46 -> 0 | H25: =일위대가!O210 -> -10536 | I25: =G25*H25 -> 0
A26: 2-8-1 | B26: 중형 삼각∇-고재 | C26: 교체 | D26: 1200 고휘도 | E26: 반사지 | F26: 매 | G26: =내역서!G48 -> 0 | H26: =일위대가!O219 -> -13414 | I26: =G26*H26 -> 0
A27: 2-10-1 | B27: 중형 원형-고재 | C27: 교체 | D27: Φ780 고휘도 | E27: 반사지 | F27: 매 | G27: =내역서!G50 -> 1 | H27: =일위대가!O228 -> -10924 | I27: =G27*H27 -> -10924
A28: 2-12-1 | B28: 중형 원형-고재 | C28: 교체 | D28: Φ900 고휘도 | E28: 반사지 | F28: 매 | G28: =내역서!G52 -> 1 | H28: =일위대가!O237 -> -13605 | I28: =G28*H28 -> -13605
A29: 2-14-1 | B29: 중형 오각-고재 | C29: 교체 | D29: 780*936 고휘도 | E29: 반사지 | F29: 매 | G29: =내역서!G54 -> 0 | H29: =일위대가!O246 -> -13360 | I29: =G29*H29 -> 0
A30: 2-16-1 | B30: 중형 오각-고재 | C30: 교체 | D30: 900*1080 고휘도 | E30: 반사지 | F30: 매 | G30: =내역서!G56 -> 0 | H30: =일위대가!O255 -> -13372 | I30: =G30*H30 -> 0
A31: 2-18-1 | B31: 규격 사각-고재 | C31: 교체 | D31: 600*900 고휘도 | E31: 반사지 | F31: 매 | G31: =내역서!G58 -> 0 | H31: =일위대가!O264 -> -11970 | I31: =G31*H31 -> 0
A32: 2-20-1 | B32: 중형 사각-고재 | C32: 교체 | D32: 780*260 고휘도 | E32: 반사지 | F32: 매 | G32: =내역서!G60 -> 0 | H32: =일위대가!O273 -> -5822 | I32: =G32*H32 -> 0
A33: 2-22-1 | B33: 중형 사각-고재 | C33: 교체 | D33: 780*390 고휘도 | E33: 반사지 | F33: 매 | G33: =내역서!G62 -> 0 | H33: =일위대가!O282 -> -7384 | I33: =G33*H33 -> 0
A34: 2-24-1 | B34: 중형 사각-고재 | C34: 교체 | D34: 715*780 고휘도 | E34: 반사지 | F34: 매 | G34: =내역서!G64 -> 0 | H34: =일위대가!O291 -> -12730 | I34: =G34*H34 -> 0
A35: 2-26-1 | B35: 중형 사각-고재 | C35: 교체 | D35: 780*780 고휘도 | E35: 반사지 | F35: 매 | G35: =내역서!G66 -> 0 | H35: =일위대가!O300 -> -13509 | I35: =G35*H35 -> 0
A36: 2-28-1 | B36: 중형 사각-고재 | C36: 교체 | D36: 900*300 고휘도 | E36: 반사지 | F36: 매 | G36: =내역서!G68 -> 1 | H36: =일위대가!O309 -> -7250 | I36: =G36*H36 -> -7250
A37: 2-30-1 | B37: 중형 사각-고재 | C37: 교체 | D37: 900*450 고휘도 | E37: 반사지 | F37: 매 | G37: =내역서!G70 -> 0 | H37: =일위대가!O318 -> -9328 | I37: =G37*H37 -> 0
A38: 2-32-1 | B38: 중형 사각-고재 | C38: 교체 | D38: 780*1170 고휘도 | E38: 반사지 | F38: 매 | G38: =내역서!G72 -> 0 | H38: =일위대가!O327 -> -20292 | I38: =G38*H38 -> 0
A39: 2-34-1 | B39: 중형 팔각-고재 | C39: 교체 | D39: 780*780 고휘도 | E39: 반사지 | F39: 매 | G39: =내역서!G74 -> 0 | H39: =일위대가!O336 -> -9815 | I39: =G39*H39 -> 0
A40: 2-36-1 | B40: 중형 팔각-고재 | C40: 교체 | D40: 900*900 고휘도 | E40: 반사지 | F40: 매 | G40: =내역서!G76 -> 0 | H40: =일위대가!O345 -> -12571 | I40: =G40*H40 -> 0
A41: 2-39-1 | B41: 중형 T형부착대-고재 | C41: 교체 | D41: 1매용 백관 | F41: SET | G41: =내역서!G79 -> 0 | H41: =일위대가!O357 -> -1739 | I41: =G41*H41 -> 0
...

Sheet 내역서
A1: 내 역 서
A2: =공사원가계산서!A2 -> 공사명 : 2026년 교통사고 잦은 곳 개선사업 교통안전표지 공사(남부)
A3: 호 표 | B3: 품 명 | D3: 규 격 | F3: 단위 | G3: 수량 | H3: 직 접 재 료 비 | J3: 직 접 노 무 비 | L3: 기 계 경 비 | N3: 합 계 | P3: 비고
H4: 단 가 | I4: 금 액 | J4: 단 가 | K4: 금 액 | L4: 단 가 | M4: 금 액 | N4: 단 가 | O4: 금 액
A6: 1-1 | B6: 규격 삼각△ | C6: 신설 | D6: 900 고휘도 | E6: 반사지 | F6: 매 | H6: =일위대가!I7 -> 93000 | I6: =TRUNC(G6*H6) -> 0 | J6: =일위대가!K7 -> 28377 | K6: =TRUNC(G6*J6) -> 0 | L6: =일위대가!M7 -> 567 | M6: =TRUNC(G6*L6) -> 0 | N6: =H6+J6+L6 -> 121944 | O6: =I6+K6+M6 -> 0
A7: 1-2 | B7: 규격 삼각△ | C7: 교체 | D7: 900 고휘도 | E7: 반사지 | F7: 매 | H7: =일위대가!I10 -> 93000 | I7: =TRUNC(G7*H7) -> 0 | J7: =일위대가!K10 -> 66365 | K7: =TRUNC(G7*J7) -> 0 | L7: =일위대가!M10 -> 85387 | M7: =TRUNC(G7*L7) -> 0 | N7: =H7+J7+L7 -> 244752 | O7: =I7+K7+M7 -> 0
A8: 1-3 | B8: 규격 삼각∇ | C8: 신설 | D8: 800 고휘도 | E8: 반사지 | F8: 매 | G8: 3 | H8: =일위대가!I16 -> 96000 | I8: =TRUNC(G8*H8) -> 288000 | J8: =일위대가!K16 -> 28377 | K8: =TRUNC(G8*J8) -> 85131 | L8: =일위대가!M16 -> 567 | M8: =TRUNC(G8*L8) -> 1701 | N8: =H8+J8+L8 -> 124944 | O8: =I8+K8+M8 -> 374832
A9: 1-4 | B9: 규격 삼각∇ | C9: 교체 | D9: 800 고휘도 | E9: 반사지 | F9: 매 | H9: =일위대가!I19 -> 96000 | I9: =TRUNC(G9*H9) -> 0 | J9: =일위대가!K19 -> 66365 | K9: =TRUNC(G9*J9) -> 0 | L9: =일위대가!M19 -> 85387 | M9: =TRUNC(G9*L9) -> 0 | N9: =H9+J9+L9 -> 247752 | O9: =I9+K9+M9 -> 0
A10: 1-5 | B10: 규격 원형 | C10: 신설 | D10: Φ600 고휘도 | E10: 반사지 | F10: 매 | G10: 6 | H10: =일위대가!I25 -> 86000 | I10: =TRUNC(G10*H10) -> 516000 | J10: =일위대가!K25 -> 28377 | K10: =TRUNC(G10*J10) -> 170262 | L10: =일위대가!M25 -> 567 | M10: =TRUNC(G10*L10) -> 3402 | N10: =H10+J10+L10 -> 114944 | O10: =I10+K10+M10 -> 689664
A11: 1-6 | B11: 규격 원형 | C11: 교체 | D11: Φ600 고휘도 | E11: 반사지 | F11: 매 | G11: 4 | H11: =일위대가!I28 -> 86000 | I11: =TRUNC(G11*H11) -> 344000 | J11: =일위대가!K28 -> 66365 | K11: =TRUNC(G11*J11) -> 265460 | L11: =일위대가!M28 -> 85387 | M11: =TRUNC(G11*L11) -> 341548 | N11: =H11+J11+L11 -> 237752 | O11: =I11+K11+M11 -> 951008
A12: 1-7 | B12: 규격 오각 | C12: 신설 | D12: 600*720 고휘도 | E12: 반사지 | F12: 매 | G12: 4 | H12: =일위대가!I34 -> 92000 | I12: =TRUNC(G12*H12) -> 368000 | J12: =일위대가!K34 -> 28377 | K12: =TRUNC(G12*J12) -> 113508 | L12: =일위대가!M34 -> 567 | M12: =TRUNC(G12*L12) -> 2268 | N12: =H12+J12+L12 -> 120944 | O12: =I12+K12+M12 -> 483776
A13: 1-8 | B13: 규격 오각 | C13: 교체 | D13: 600*720 고휘도 | E13: 반사지 | F13: 매 | H13: =일위대가!I37 -> 92000 | I13: =TRUNC(G13*H13) -> 0 | J13: =일위대가!K37 -> 66365 | K13: =TRUNC(G13*J13) -> 0 | L13: =일위대가!M37 -> 85387 | M13: =TRUNC(G13*L13) -> 0 | N13: =H13+J13+L13 -> 243752 | O13: =I13+K13+M13 -> 0
A14: 1-9 | B14: 규격 사각 | C14: 신설 | D14: 400*400 고휘도 | E14: 반사지 | F14: 매 | H14: =일위대가!I43 -> 56000 | I14: =TRUNC(G14*H14) -> 0 | J14: =일위대가!K43 -> 28377 | K14: =TRUNC(G14*J14) -> 0 | L14: =일위대가!M43 -> 567 | M14: =TRUNC(G14*L14) -> 0 | N14: =H14+J14+L14 -> 84944 | O14: =I14+K14+M14 -> 0
A15: 1-10 | B15: 규격 사각 | C15: 교체 | D15: 400*400 고휘도 | E15: 반사지 | F15: 매 | H15: =일위대가!I46 -> 56000 | I15: =TRUNC(G15*H15) -> 0 | J15: =일위대가!K46 -> 66365 | K15: =TRUNC(G15*J15) -> 0 | L15: =일위대가!M46 -> 85387 | M15: =TRUNC(G15*L15) -> 0 | N15: =H15+J15+L15 -> 207752 | O15: =I15+K15+M15 -> 0
A16: 1-11 | B16: 규격 사각 | C16: 신설 | D16: 600*200 고휘도 | E16: 반사지 | F16: 매 | G16: 1 | H16: =일위대가!I52 -> 55000 | I16: =TRUNC(G16*H16) -> 55000 | J16: =일위대가!K52 -> 28377 | K16: =TRUNC(G16*J16) -> 28377 | L16: =일위대가!M52 -> 567 | M16: =TRUNC(G16*L16) -> 567 | N16: =H16+J16+L16 -> 83944 | O16: =I16+K16+M16 -> 83944
A17: 1-12 | B17: 규격 사각 | C17: 교체 | D17: 600*200 고휘도 | E17: 반사지 | F17: 매 | H17: =일위대가!I55 -> 55000 | I17: =TRUNC(G17*H17) -> 0 | J17: =일위대가!K55 -> 66365 | K17: =TRUNC(G17*J17) -> 0 | L17: =일위대가!M55 -> 85387 | M17: =TRUNC(G17*L17) -> 0 | N17: =H17+J17+L17 -> 206752 | O17: =I17+K17+M17 -> 0
A18: 1-13 | B18: 규격 사각 | C18: 신설 | D18: 600*300 고휘도 | E18: 반사지 | F18: 매 | H18: =일위대가!I61 -> 56000 | I18: =TRUNC(G18*H18) -> 0 | J18: =일위대가!K61 -> 28377 | K18: =TRUNC(G18*J18) -> 0 | L18: =일위대가!M61 -> 567 | M18: =TRUNC(G18*L18) -> 0 | N18: =H18+J18+L18 -> 84944 | O18: =I18+K18+M18 -> 0
A19: 1-14 | B19: 규격 사각 | C19: 교체 | D19: 600*300 고휘도 | E19: 반사지 | F19: 매 | H19: =일위대가!I64 -> 56000 | I19: =TRUNC(G19*H19) -> 0 | J19: =일위대가!K64 -> 66365 | K19: =TRUNC(G19*J19) -> 0 | L19: =일위대가!M64 -> 85387 | M19: =TRUNC(G19*L19) -> 0 | N19: =H19+J19+L19 -> 207752 | O19: =I19+K19+M19 -> 0
A20: 1-15 | B20: 규격 사각 | C20: 신설 | D20: 600×400고휘도 | E20: 반사지 | F20: 매 | H20: =일위대가!I70 -> 63000 | I20: =TRUNC(G20*H20) -> 0 | J20: =일위대가!K70 -> 28377 | K20: =TRUNC(G20*J20) -> 0 | L20: =일위대가!M70 -> 567 | M20: =TRUNC(G20*L20) -> 0 | N20: =H20+J20+L20 -> 91944 | O20: =I20+K20+M20 -> 0
A21: 1-16 | B21: 규격 사각 | C21: 교체 | D21: 600×400고휘도 | E21: 반사지 | F21: 매 | H21: =일위대가!I73 -> 63000 | I21: =TRUNC(G21*H21) -> 0 | J21: =일위대가!K73 -> 66365 | K21: =TRUNC(G21*J21) -> 0 | L21: =일위대가!M73 -> 85387 | M21: =TRUNC(G21*L21) -> 0 | N21: =H21+J21+L21 -> 214752 | O21: =I21+K21+M21 -> 0
A22: 1-17 | B22: 규격 사각 | C22: 신설 | D22: 550*600 고휘도 | E22: 반사지 | F22: 매 | G22: 2 | H22: =일위대가!I79 -> 91000 | I22: =TRUNC(G22*H22) -> 182000 | J22: =일위대가!K79 -> 28377 | K22: =TRUNC(G22*J22) -> 56754 | L22: =일위대가!M79 -> 567 | M22: =TRUNC(G22*L22) -> 1134 | N22: =H22+J22+L22 -> 119944 | O22: =I22+K22+M22 -> 239888
A23: 1-18 | B23: 규격 사각 | C23: 교체 | D23: 550*600 고휘도 | E23: 반사지 | F23: 매 | H23: =일위대가!I82 -> 91000 | I23: =TRUNC(G23*H23) -> 0 | J23: =일위대가!K82 -> 66365 | K23: =TRUNC(G23*J23) -> 0 | L23: =일위대가!M82 -> 85387 | M23: =TRUNC(G23*L23) -> 0 | N23: =H23+J23+L23 -> 242752 | O23: =I23+K23+M23 -> 0
A24: 1-19 | B24: 규격 사각 | C24: 신설 | D24: 600*600 고휘도 | E24: 반사지 | F24: 매 | G24: 4 | H24: =일위대가!I88 -> 115000 | I24: =TRUNC(G24*H24) -> 460000 | J24: =일위대가!K88 -> 28377 | K24: =TRUNC(G24*J24) -> 113508 | L24: =일위대가!M88 -> 567 | M24: =TRUNC(G24*L24) -> 2268 | N24: =H24+J24+L24 -> 143944 | O24: =I24+K24+M24 -> 575776
A25: 1-20 | B25: 규격 사각 | C25: 교체 | D25: 600*600 고휘도 | E25: 반사지 | F25: 매 | H25: =일위대가!I91 -> 115000 | I25: =TRUNC(G25*H25) -> 0 | J25: =일위대가!K91 -> 66365 | K25: =TRUNC(G25*J25) -> 0 | L25: =일위대가!M91 -> 85387 | M25: =TRUNC(G25*L25) -> 0 | N25: =H25+J25+L25 -> 266752 | O25: =I25+K25+M25 -> 0
A26: 1-21 | B26: 규격 팔각 | C26: 신설 | D26: 600*600 고휘도 | E26: 반사지 | F26: 매 | H26: =일위대가!I97 -> 99000 | I26: =TRUNC(G26*H26) -> 0 | J26: =일위대가!K97 -> 28377 | K26: =TRUNC(G26*J26) -> 0 | L26: =일위대가!M97 -> 567 | M26: =TRUNC(G26*L26) -> 0 | N26: =H26+J26+L26 -> 127944 | O26: =I26+K26+M26 -> 0
A27: 1-22 | B27: 규격 팔각 | C27: 교체 | D27: 600*600 고휘도 | E27: 반사지 | F27: 매 | H27: =일위대가!I100 -> 99000 | I27: =TRUNC(G27*H27) -> 0 | J27: =일위대가!K100 -> 66365 | K27: =TRUNC(G27*J27) -> 0 | L27: =일위대가!M100 -> 85387 | M27: =TRUNC(G27*L27) -> 0 | N27: =H27+J27+L27 -> 250752 | O27: =I27+K27+M27 -> 0
A28: 1-23 | B28: 규격 T형부착대 | C28: 신설 | D28: 1매용 백관(분체) | F28: SET | G28: 6 | H28: =일위대가!I106 -> 150000 | I28: =TRUNC(G28*H28) -> 900000 | J28: =일위대가!K106 -> 28377 | K28: =TRUNC(G28*J28) -> 170262 | L28: =일위대가!M106 -> 24638 | M28: =TRUNC(G28*L28) -> 147828 | N28: =H28+J28+L28 -> 203015 | O28: =I28+K28+M28 -> 1218090
A29: 1-24 | B29: 규격 T형부착대 | C29: 신설 | D29: 2매용 백관(분체) | F29: SET | G29: 6 | H29: =일위대가!I109 -> 200000 | I29: =TRUNC(G29*H29) -> 1200000 | J29: =일위대가!K109 -> 28377 | K29: =TRUNC(G29*J29) -> 170262 | L29: =일위대가!M109 -> 24638 | M29: =TRUNC(G29*L29) -> 147828 | N29: =H29+J29+L29 -> 253015 | O29: =I29+K29+M29 -> 1518090
A30: 1-25 | B30: 규격 T형부착대 | C30: 신설 | D30: 3매용 백관 | F30: SET | H30: =일위대가!I112 -> 250000 | I30: =TRUNC(G30*H30) -> 0 | J30: =일위대가!K112 -> 28377 | K30: =TRUNC(G30*J30) -> 0 | L30: =일위대가!M112 -> 24638 | M30: =TRUNC(G30*L30) -> 0 | N30: =H30+J30+L30 -> 303015 | O30: =I30+K30+M30 -> 0
A31: 1-26 | B31: 규격 T형부착대 | C31: 교체 | D31: 1매용 백관(분체) | F31: SET | G31: 2 | H31: =일위대가!I115 -> 150000 | I31: =TRUNC(G31*H31) -> 300000 | J31: =일위대가!K115 -> 66365 | K31: =TRUNC(G31*J31) -> 132730 | L31: =일위대가!M115 -> 89589 | M31: =TRUNC(G31*L31) -> 179178 | N31: =H31+J31+L31 -> 305954 | O31: =I31+K31+M31 -> 611908
A32: 1-27 | B32: 규격 T형부착대 | C32: 교체 | D32: 2매용 백관 | F32: SET | H32: =일위대가!I121 -> 200000 | I32: =TRUNC(G32*H32) -> 0 | J32: =일위대가!K121 -> 66365 | K32: =TRUNC(G32*J32) -> 0 | L32: =일위대가!M121 -> 89589 | M32: =TRUNC(G32*L32) -> 0 | N32: =H32+J32+L32 -> 355954 | O32: =I32+K32+M32 -> 0
A33: 1-28 | B33: 규격 T형부착대 | C33: 교체 | D33: 3매용 백관 | F33: SET | H33: =일위대가!I127 -> 250000 | I33: =TRUNC(G33*H33) -> 0 | J33: =일위대가!K127 -> 66365 | K33: =TRUNC(G33*J33) -> 0 | L33: =일위대가!M127 -> 89589 | M33: =TRUNC(G33*L33) -> 0 | N33: =H33+J33+L33 -> 405954 | O33: =I33+K33+M33 -> 0 | R33: (1-29~34)규격 T형 부착대 STS 신설교체 삭제
A34: 1-29 | B34: 규격 T형부착대 | C34: 이설 | D34: 1-23h,24h,25h | F34: SET | H34: =일위대가!I133 -> 0 | I34: =TRUNC(G34*H34) -> 0 | J34: =일위대가!K133 -> 66365 | K34: =TRUNC(G34*J34) -> 0 | L34: =일위대가!M133 -> 89589 | M34: =TRUNC(G34*L34) -> 0 | N34: =H34+J34+L34 -> 155954 | O34: =I34+K34+M34 -> 0
A35: 1-30 | B35: 규격 T형부착대 | C35: 철거 | D35: 1-23h,24h,25h | F35: SET | G35: 4 | H35: =일위대가!I136 -> 0 | I35: =TRUNC(G35*H35) -> 0 | J35: =일위대가!K136 -> 36723 | K35: =TRUNC(G35*J35) -> 146892 | L35: =일위대가!M136 -> 31885 | M35: =TRUNC(G35*L35) -> 127540 | N35: =H35+J35+L35 -> 68608 | O35: =I35+K35+M35 -> 274432
A36: 1-31 | B36: 규격 철주 | C36: 신설 | D36: 1매용 백관(L=3.0m)(분체) | F36: SET | G36: 1 | H36: =일위대가!I148 -> 173294 | I36: =TRUNC(G36*H36) -> 173294 | J36: =일위대가!K148 -> 120942 | K36: =TRUNC(G36*J36) -> 120942 | L36: =일위대가!M148 -> 50452 | M36: =TRUNC(G36*L36) -> 50452 | N36: =H36+J36+L36 -> 344688 | O36: =I36+K36+M36 -> 344688
A37: 1-32 | B37: 규격 철주 | C37: 신설 | D37: 2매용 백관(L=3.6m)(분체) | F37: SET | G37: 1 | H37: =일위대가!I157 -> 213294 | I37: =TRUNC(G37*H37) -> 213294 | J37: =일위대가!K157 -> 120942 | K37: =TRUNC(G37*J37) -> 120942 | L37: =일위대가!M157 -> 50452 | M37: =TRUNC(G37*L37) -> 50452 | N37: =H37+J37+L37 -> 384688 | O37: =I37+K37+M37 -> 384688
A38: 1-33 | B38: 규격 철주 | C38: 신설 | D38: 3매용 백관(L=4.2m)(분체) | F38: SET | G38: 1 | H38: =일위대가!I166 -> 263294 | I38: =TRUNC(G38*H38) -> 263294 | J38: =일위대가!K166 -> 120942 | K38: =TRUNC(G38*J38) -> 120942 | L38: =일위대가!M166 -> 50452 | M38: =TRUNC(G38*L38) -> 50452 | N38: =H38+J38+L38 -> 434688 | O38: =I38+K38+M38 -> 434688
A39: 1-34 | B39: 규격 철주 | C39: 철거 | D39: 1-31h,32h,33h | F39: SET | G39: 1 | H39: =일위대가!I169 -> 0 | I39: =TRUNC(G39*H39) -> 0 | J39: =일위대가!K169 -> 26012 | K39: =TRUNC(G39*J39) -> 26012 | L39: =일위대가!M169 -> 24256 | M39: =TRUNC(G39*L39) -> 24256 | N39: =H39+J39+L39 -> 50268 | O39: =I39+K39+M39 -> 50268
A40: 1-35 | B40: 철주 기초제거 (T=30cm) | C40: 철거 | F40: SET | G40: 1 | H40: =일위대가!I180 -> 1680 | I40: =TRUNC(G40*H40) -> 1680 | J40: =일위대가!K180 -> 22621 | K40: =TRUNC(G40*J40) -> 22621 | L40: =일위대가!M180 -> 2036 | M40: =TRUNC(G40*L40) -> 2036 | N40: =H40+J40+L40 -> 26337 | O40: =I40+K40+M40 -> 26337
A41: 2-1 | B41: 중형 삼각△ | C41: 신설 | D41: 1170 고휘도 | E41: 반사지 | F41: 매 | H41: =일위대가!I186 -> 139000 | I41: =TRUNC(G41*H41) -> 0 | J41: =일위대가!K186 -> 28377 | K41: =TRUNC(G41*J41) -> 0 | L41: =일위대가!M186 -> 567 | M41: =TRUNC(G41*L41) -> 0 | N41: =H41+J41+L41 -> 167944 | O41: =I41+K41+M41 -> 0
...

Sheet 총괄수량표
A1: 총괄수량표
A3: 호 표 | B3: 품 명 | D3: 규 격 | F3: 단위 | G3: 수량 | H3: 대륭강남타워 | I3: 상도터널사거리 | J3: 전기공사공제조합앞 | K3: 은행나무오거리 | L3: 봉천하나은행앞 | M3: 신길삼거리 | N3: 경남교수아파트 | O3: 궁전빌라앞 | P3: 낙서대입구사거리 | Q3: 교대입구삼거리 | R3: 은천로
A6: 1-1 | B6: 규격 삼각△ | C6: 신설 | D6: 900 고휘도 | E6: 반사지 | F6: 매 | G6: =SUM(H6:R6) -> 0
A7: 1-2 | B7: 규격 삼각△ | C7: 교체 | D7: 900 고휘도 | E7: 반사지 | F7: 매 | G7: =SUM(H7:R7) -> 0
A8: 1-3 | B8: 규격 삼각∇ | C8: 신설 | D8: 800 고휘도 | E8: 반사지 | F8: 매 | G8: =SUM(H8:R8) -> 3 | I8: 1 | M8: 2
A9: 1-4 | B9: 규격 삼각∇ | C9: 교체 | D9: 800 고휘도 | E9: 반사지 | F9: 매 | G9: =SUM(H9:R9) -> 0
A10: 1-5 | B10: 규격 원형 | C10: 신설 | D10: Φ600 고휘도 | E10: 반사지 | F10: 매 | G10: =SUM(H10:R10) -> 9 | P10: 3 | Q10: 1 | R10: 5
A11: 1-6 | B11: 규격 원형 | C11: 교체 | D11: Φ600 고휘도 | E11: 반사지 | F11: 매 | G11: =SUM(H11:R11) -> 0
A12: 1-7 | B12: 규격 오각 | C12: 신설 | D12: 600*720 고휘도 | E12: 반사지 | F12: 매 | G12: =SUM(H12:R12) -> 2 | H12: 1 | K12: 1
A13: 1-8 | B13: 규격 오각 | C13: 교체 | D13: 600*720 고휘도 | E13: 반사지 | F13: 매 | G13: =SUM(H13:R13) -> 0
A14: 1-9 | B14: 규격 사각 | C14: 신설 | D14: 400*400 고휘도 | E14: 반사지 | F14: 매 | G14: =SUM(H14:R14) -> 0
A15: 1-10 | B15: 규격 사각 | C15: 교체 | D15: 400*400 고휘도 | E15: 반사지 | F15: 매 | G15: =SUM(H15:R15) -> 0
A16: 1-11 | B16: 규격 사각 | C16: 신설 | D16: 600*200 고휘도 | E16: 반사지 | F16: 매 | G16: =SUM(H16:R16) -> 0
A17: 1-12 | B17: 규격 사각 | C17: 교체 | D17: 600*200 고휘도 | E17: 반사지 | F17: 매 | G17: =SUM(H17:R17) -> 0
A18: 1-13 | B18: 규격 사각 | C18: 신설 | D18: 600*300 고휘도 | E18: 반사지 | F18: 매 | G18: =SUM(H18:R18) -> 0
A19: 1-14 | B19: 규격 사각 | C19: 교체 | D19: 600*300 고휘도 | E19: 반사지 | F19: 매 | G19: =SUM(H19:R19) -> 0
A20: 1-15 | B20: 규격 사각 | C20: 신설 | D20: 600×400고휘도 | E20: 반사지 | F20: 매 | G20: =SUM(H20:R20) -> 0
A21: 1-16 | B21: 규격 사각 | C21: 교체 | D21: 600×400고휘도 | E21: 반사지 | F21: 매 | G21: =SUM(H21:R21) -> 0
A22: 1-17 | B22: 규격 사각 | C22: 신설 | D22: 550*600 고휘도 | E22: 반사지 | F22: 매 | G22: =SUM(H22:R22) -> 5 | Q22: 1 | R22: 4
A23: 1-18 | B23: 규격 사각 | C23: 교체 | D23: 550*600 고휘도 | E23: 반사지 | F23: 매 | G23: =SUM(H23:R23) -> 0
A24: 1-19 | B24: 규격 사각 | C24: 신설 | D24: 600*600 고휘도 | E24: 반사지 | F24: 매 | G24: =SUM(H24:R24) -> 0
A25: 1-20 | B25: 규격 사각 | C25: 교체 | D25: 600*600 고휘도 | E25: 반사지 | F25: 매 | G25: =SUM(H25:R25) -> 0
A26: 1-21 | B26: 규격 팔각 | C26: 신설 | D26: 600*600 고휘도 | E26: 반사지 | F26: 매 | G26: =SUM(H26:R26) -> 0
A27: 1-22 | B27: 규격 팔각 | C27: 교체 | D27: 600*600 고휘도 | E27: 반사지 | F27: 매 | G27: =SUM(H27:R27) -> 0
A28: 1-23 | B28: 규격 T형부착대 | C28: 신설 | D28: 1매용 백관 | F28: SET | G28: =SUM(H28:R28) -> 5 | H28: 1 | I28: 1 | K28: 1 | M28: 1 | R28: 1
A29: 1-24 | B29: 규격 T형부착대 | C29: 신설 | D29: 2매용 백관 | F29: SET | G29: =SUM(H29:R29) -> 8 | P29: 3 | Q29: 1 | R29: 4
A30: 1-25 | B30: 규격 T형부착대 | C30: 신설 | D30: 3매용 백관 | F30: SET | G30: =SUM(H30:R30) -> 0
A31: 1-26 | B31: 규격 T형부착대 | C31: 교체 | D31: 1매용 백관 | F31: SET | G31: =SUM(H31:R31) -> 0
A32: 1-27 | B32: 규격 T형부착대 | C32: 교체 | D32: 2매용 백관 | F32: SET | G32: =SUM(H32:R32) -> 0
A33: 1-28 | B33: 규격 T형부착대 | C33: 교체 | D33: 3매용 백관 | F33: SET | G33: =SUM(H33:R33) -> 0 | T33: (1-29~34)규격 T형 부착대 STS 신설교체 삭제
A34: 1-29 | B34: 규격 T형부착대 | C34: 이설 | D34: 1-23h,24h,25h | F34: SET | G34: =SUM(H34:R34) -> 2 | Q34: 2
A35: 1-30 | B35: 규격 T형부착대 | C35: 철거 | D35: 1-23h,24h,25h | F35: SET | G35: =SUM(H35:R35) -> 5 | I35: 1 | P35: 3 | R35: 1
A36: 1-31 | B36: 규격 철주 | C36: 신설 | D36: 1매용 백관(L=3.0m) | F36: SET | G36: =SUM(H36:R36) -> 1 | M36: 1
A37: 1-32 | B37: 규격 철주 | C37: 신설 | D37: 2매용 백관(L=3.6m) | F37: SET | G37: =SUM(H37:R37) -> 0
A38: 1-33 | B38: 규격 철주 | C38: 신설 | D38: 3매용 백관(L=4.2m) | F38: SET | G38: =SUM(H38:R38) -> 0
A39: 1-34 | B39: 규격 철주 | C39: 철거 | D39: 1-31h,32h,33h | F39: SET | G39: =SUM(H39:R39) -> 1 | M39: 1
A40: 1-35 | B40: 철주 기초제거 (T=30cm) | C40: 철거 | F40: SET | G40: =SUM(H40:R40) -> 1 | M40: 1
A41: 2-1 | B41: 중형 삼각△ | C41: 신설 | D41: 1170 고휘도 | E41: 반사지 | F41: 매 | G41: =SUM(H41:R41) -> 0
A42: 2-2 | B42: 중형 삼각△ | C42: 교체 | D42: 1170 고휘도 | E42: 반사지 | F42: 매 | G42: =SUM(H42:R42) -> 0
A43: 2-3 | B43: 중형 삼각△ | C43: 신설 | D43: 1350 고휘도 | E43: 반사지 | F43: 매 | G43: =SUM(H43:R43) -> 0
...

Sheet 일위대가
A1: 일 위 대 가
R2: =내역서!P2 -> 0
A3: 호표 | B3: 명 칭 및 규 격 | F3: 단위 | G3: 수 량 | H3: 재 료 비 | J3: 노 무 비 | L3: 경 비 | N3: 합 계 | Q3: 비 고
H4: 단가 | I4: 금액 | J4: 단가 | K4: 금액 | L4: 단가 | M4: 금액 | N4: 단가 | O4: 금액
A5: 1-1 | B5: 삼각 변 | C5: 900 | D5: 고휘도 | E5: 신설 | F5: 매 | G5: 1 | H5: =단가조사!$P$5 -> 93000 | I5: =TRUNC(G5*H5) -> 93000 | K5: =ROUND(G5*J5,0) -> 0 | N5: =H5+J5+L5 -> 93000 | O5: =I5+K5+M5 -> 93000
C6: 제품설치 | E6: 규격 | F6: 매 | G6: 1 | J6: =단가산출!$J$33 -> 28377 | K6: =TRUNC(G6*J6) -> 28377 | L6: =단가산출!L33 -> 567 | M6: =TRUNC(G6*L6) -> 567 | N6: =H6+J6+L6 -> 28944 | O6: =I6+K6+M6 -> 28944 | Q6: =단가산출!$A$29 -> 제06 | R6: 호
B7: 합계 | I7: =SUM(I5:I6) -> 93000 | K7: =SUM(K5:K6) -> 28377 | M7: =SUM(M5:M6) -> 567 | N7: =H7+J7+L7 -> 0 | O7: =I7+K7+M7 -> 121944
A8: 1-2 | B8: 삼각 변 | C8: 900 | D8: 고휘도 | E8: 교체 | F8: 매 | G8: 1 | H8: =단가조사!$P$5 -> 93000 | I8: =TRUNC(G8*H8) -> 93000 | K8: =ROUND(G8*J8,0) -> 0 | N8: =H8+J8+L8 -> 93000 | O8: =I8+K8+M8 -> 93000
C9: 제품교체 | E9: 규격 | F9: 매 | G9: 1 | J9: =단가산출!$J$45 -> 66365 | K9: =TRUNC(G9*J9) -> 66365 | L9: =단가산출!L45 -> 85387 | M9: =TRUNC(G9*L9) -> 85387 | N9: =H9+J9+L9 -> 151752 | O9: =I9+K9+M9 -> 151752 | Q9: =단가산출!$A$40 -> 제08 | R9: 호
B10: 합계 | E10: AL | I10: =SUM(I8:I9) -> 93000 | K10: =SUM(K8:K9) -> 66365 | M10: =SUM(M8:M9) -> 85387 | N10: =H10+J10+L10 -> 0 | O10: =I10+K10+M10 -> 244752
A11: 1-2-1 | B11: 삼각 변 | C11: 900 | D11: 고휘도 | E11: 교체 | F11: 매 | G11: 1 | I11: =TRUNC(G11*H11) -> 0 | K11: =ROUND(G11*J11,0) -> 0 | N11: =H11+J11+L11 -> 0 | O11: =I11+K11+M11 -> 0
C12: 고철 | E12: AL | F12: Set/Kg | G12: =설치수량!$I$7 -> 2.634 | H12: =단가조사!$P$77 -> -2850 | I12: =TRUNC(G12*H12) -> -7506 | K12: =ROUND(G12*J12,0) -> 0 | N12: =H12+J12+L12 -> -2850 | O12: =I12+K12+M12 -> -7506
B13: 합계 | I13: =SUM(I11:I12) -> -7506 | K13: =SUM(K11:K12) -> 0 | M13: =SUM(M11:M12) -> 0 | N13: =H13+J13+L13 -> 0 | O13: =I13+K13+M13 -> -7506
A14: 1-3 | B14: 삼각 ▽ | C14: 800 | D14: 고휘도 | E14: 신설 | F14: 매 | G14: 1 | H14: =단가조사!$P$8 -> 96000 | I14: =TRUNC(G14*H14) -> 96000 | K14: =ROUND(G14*J14,0) -> 0 | N14: =H14+J14+L14 -> 96000 | O14: =I14+K14+M14 -> 96000
C15: 제품설치 | E15: 규격 | F15: 매 | G15: 1 | J15: =단가산출!$J$33 -> 28377 | K15: =TRUNC(G15*J15) -> 28377 | L15: =단가산출!L33 -> 567 | M15: =TRUNC(G15*L15) -> 567 | N15: =H15+J15+L15 -> 28944 | O15: =I15+K15+M15 -> 28944 | Q15: =단가산출!$A$29 -> 제06 | R15: 호
B16: 합계 | I16: =SUM(I14:I15) -> 96000 | K16: =SUM(K14:K15) -> 28377 | M16: =SUM(M14:M15) -> 567 | N16: =H16+J16+L16 -> 0 | O16: =I16+K16+M16 -> 124944
A17: 1-4 | B17: 삼각 ▽ | C17: 800 | D17: 고휘도 | E17: 교체 | F17: 매 | G17: 1 | H17: =단가조사!$P$8 -> 96000 | I17: =TRUNC(G17*H17) -> 96000 | K17: =ROUND(G17*J17,0) -> 0 | N17: =H17+J17+L17 -> 96000 | O17: =I17+K17+M17 -> 96000
C18: 제품교체 | E18: 규격 | F18: 매 | G18: 1 | J18: =단가산출!$J$45 -> 66365 | K18: =TRUNC(G18*J18) -> 66365 | L18: =단가산출!L45 -> 85387 | M18: =TRUNC(G18*L18) -> 85387 | N18: =H18+J18+L18 -> 151752 | O18: =I18+K18+M18 -> 151752 | Q18: =단가산출!$A$40 -> 제08 | R18: 호
B19: 합계 | I19: =SUM(I17:I18) -> 96000 | K19: =SUM(K17:K18) -> 66365 | M19: =SUM(M17:M18) -> 85387 | N19: =H19+J19+L19 -> 0 | O19: =I19+K19+M19 -> 247752
A20: 1-4-1 | B20: 삼각 ▽-고재 | C20: 800 | D20: 고휘도 | E20: 교체 | F20: 매 | G20: 1 | K20: =ROUND(G20*J20,0) -> 0 | N20: =H20+J20+L20 -> 0 | O20: =I20+K20+M20 -> 0
C21: 고철 | E21: AL | F21: Set/Kg | G21: =설치수량!$I$9 -> 2.179 | H21: =단가조사!$P$77 -> -2850 | I21: =TRUNC(G21*H21) -> -6210 | K21: =ROUND(G21*J21,0) -> 0 | N21: =H21+J21+L21 -> -2850 | O21: =I21+K21+M21 -> -6210
B22: 합계 | I22: =SUM(I20:I21) -> -6210 | K22: =SUM(K20:K21) -> 0 | M22: =SUM(M20:M21) -> 0 | N22: =H22+J22+L22 -> 0 | O22: =I22+K22+M22 -> -6210
A23: 1-5 | B23: 원형 | C23: Φ600 | D23: 고휘도 | E23: 신설 | F23: 매 | G23: 1 | H23: =단가조사!$P$11 -> 86000 | I23: =TRUNC(G23*H23) -> 86000 | K23: =ROUND(G23*J23,0) -> 0 | N23: =H23+J23+L23 -> 86000 | O23: =I23+K23+M23 -> 86000
C24: 제품설치 | E24: 규격 | F24: 매 | G24: 1 | J24: =단가산출!$J$33 -> 28377 | K24: =TRUNC(G24*J24) -> 28377 | L24: =단가산출!L33 -> 567 | M24: =TRUNC(G24*L24) -> 567 | N24: =H24+J24+L24 -> 28944 | O24: =I24+K24+M24 -> 28944 | Q24: =단가산출!$A$29 -> 제06 | R24: 호
B25: 합계 | I25: =SUM(I23:I24) -> 86000 | K25: =SUM(K23:K24) -> 28377 | M25: =SUM(M23:M24) -> 567 | N25: =H25+J25+L25 -> 0 | O25: =I25+K25+M25 -> 114944
A26: 1-6 | B26: 원형 | C26: Φ600 | D26: 고휘도 | E26: 교체 | F26: 매 | G26: 1 | H26: =단가조사!$P$11 -> 86000 | I26: =TRUNC(G26*H26) -> 86000 | K26: =ROUND(G26*J26,0) -> 0 | N26: =H26+J26+L26 -> 86000 | O26: =I26+K26+M26 -> 86000
C27: 제품교체 | E27: 규격 | F27: 매 | G27: 1 | J27: =단가산출!$J$45 -> 66365 | K27: =TRUNC(G27*J27) -> 66365 | L27: =단가산출!L45 -> 85387 | M27: =TRUNC(G27*L27) -> 85387 | N27: =H27+J27+L27 -> 151752 | O27: =I27+K27+M27 -> 151752 | Q27: =단가산출!$A$40 -> 제08 | R27: 호
B28: 합계 | I28: =SUM(I26:I27) -> 86000 | K28: =SUM(K26:K27) -> 66365 | M28: =SUM(M26:M27) -> 85387 | N28: =H28+J28+L28 -> 0 | O28: =I28+K28+M28 -> 237752
A29: 1-6-1 | B29: 원형-고재 | C29: Φ600 | D29: 고휘도 | E29: 교체 | F29: 매 | G29: 1 | K29: =ROUND(G29*J29,0) -> 0 | N29: =H29+J29+L29 -> 0 | O29: =I29+K29+M29 -> 0
C30: 고철 | E30: AL | F30: Set/Kg | G30: =설치수량!$I$11 -> 2.266 | H30: =단가조사!$P$77 -> -2850 | I30: =TRUNC(G30*H30) -> -6458 | K30: =ROUND(G30*J30,0) -> 0 | N30: =H30+J30+L30 -> -2850 | O30: =I30+K30+M30 -> -6458
B31: 합계 | I31: =SUM(I29:I30) -> -6458 | K31: =SUM(K29:K30) -> 0 | M31: =SUM(M29:M30) -> 0 | N31: =H31+J31+L31 -> 0 | O31: =I31+K31+M31 -> -6458
A32: 1-7 | B32: 오각 | C32: 600*720 | D32: 고휘도 | E32: 신설 | F32: 매 | G32: 1 | H32: =단가조사!$P$17 -> 92000 | I32: =TRUNC(G32*H32) -> 92000 | K32: =ROUND(G32*J32,0) -> 0 | N32: =H32+J32+L32 -> 92000 | O32: =I32+K32+M32 -> 92000
C33: 제품설치 | E33: 규격 | F33: 매 | G33: 1 | J33: =단가산출!$J$33 -> 28377 | K33: =TRUNC(G33*J33) -> 28377 | L33: =단가산출!L33 -> 567 | M33: =TRUNC(G33*L33) -> 567 | N33: =H33+J33+L33 -> 28944 | O33: =I33+K33+M33 -> 28944 | Q33: =단가산출!$A$29 -> 제06 | R33: 호
B34: 합계 | I34: =SUM(I32:I33) -> 92000 | K34: =SUM(K32:K33) -> 28377 | M34: =SUM(M32:M33) -> 567 | N34: =H34+J34+L34 -> 0 | O34: =I34+K34+M34 -> 120944
A35: 1-8 | B35: 오각 | C35: 600*720 | D35: 고휘도 | E35: 교체 | F35: 매 | G35: 1 | H35: =단가조사!$P$17 -> 92000 | I35: =TRUNC(G35*H35) -> 92000 | K35: =ROUND(G35*J35,0) -> 0 | N35: =H35+J35+L35 -> 92000 | O35: =I35+K35+M35 -> 92000
C36: 제품교체 | E36: 규격 | F36: 매 | G36: 1 | J36: =단가산출!$J$45 -> 66365 | K36: =TRUNC(G36*J36) -> 66365 | L36: =단가산출!L45 -> 85387 | M36: =TRUNC(G36*L36) -> 85387 | N36: =H36+J36+L36 -> 151752 | O36: =I36+K36+M36 -> 151752 | Q36: =단가산출!$A$40 -> 제08 | R36: 호
B37: 합계 | I37: =SUM(I35:I36) -> 92000 | K37: =SUM(K35:K36) -> 66365 | M37: =SUM(M35:M36) -> 85387 | N37: =H37+J37+L37 -> 0 | O37: =I37+K37+M37 -> 243752
A38: 1-8-1 | B38: 오각-고재 | C38: 600*720 | D38: 고휘도 | E38: 교체 | F38: 매 | G38: 1 | K38: =ROUND(G38*J38,0) -> 0 | N38: =H38+J38+L38 -> 0 | O38: =I38+K38+M38 -> 0
C39: 고철 | E39: AL | F39: Set/Kg | G39: =설치수량!$I$13 -> 2.23 | H39: =단가조사!$P$77 -> -2850 | I39: =TRUNC(G39*H39) -> -6355 | K39: =ROUND(G39*J39,0) -> 0 | N39: =H39+J39+L39 -> -2850 | O39: =I39+K39+M39 -> -6355
B40: 합계 | I40: =SUM(I38:I39) -> -6355 | K40: =SUM(K38:K39) -> 0 | M40: =SUM(M38:M39) -> 0 | N40: =H40+J40+L40 -> 0 | O40: =I40+K40+M40 -> -6355
...

Sheet 단가산출
A2: 단 가 산 출
A4: =내역서!A2 -> 공사명 : 2026년 교통사고 잦은 곳 개선사업 교통안전표지 공사(남부)
A5: 명 칭 | B5: 구 분 | D5: 규 격 | E5: 단위 | F5: 수량 | G5: 재 료 비 | I5: 노 무 비 | K5: 경 비 | M5: 합 계 | O5: 비 고
G6: 단가 | H6: 금액 | I6: 단가 | J6: 금액 | K6: 단가 | L6: 금액 | M6: 단가 | N6: 금액
A7: 제01 | B7: 호 | C7: 굴착(인력/토사)(25년 보완) | D7: 보통토사 | E7: M3 | O7: 건설 공통 3-2-1 | P7: 터파기(인력)
B8: 특별인부 | E8: 인 | F8: =1/3.6 -> 0.27777778 | I8: =공사노임!C5 -> 226122 | J8: =TRUNC(F8*I8) -> 62811 | M8: =G8+I8+K8 -> 226122 | N8: =H8+J8+L8 -> 62811
B9: 소 계 | J9: =SUM(J8:J8) -> 62811 | N9: =H9+J9+L9 -> 62811
A10: 제02 | B10: 호 | C10: 흙 다지기(25년 신설) | D10: 토사, 30cm | E10: M3 | O10: 건설 공통 3-4-3 | P10: 되메우기
B11: 특별인부 | F11: =1/24 -> 0.041666667 | I11: =공사노임!C5 -> 226122 | J11: =TRUNC(F11*I11) -> 9421
B12: 보통인부 | F12: =1/24 -> 0.041666667 | I12: =공사노임!C4 -> 172068 | J12: =TRUNC(F12*I12) -> 7169
B13: 래머 | D13: 80kg | E13: 대 | F13: 0.4 | L13: 0 | M13: 0 | N13: 0
B14: 소 계 | J14: =SUM(J11:J13) -> 16590 | L14: =SUM(L11:L13) -> 0 | N14: =H14+J14+L14 -> 16590
A15: 제03 | B15: 호 | C15: 흙 다지기(25년 신설) | D15: 토사, 30cm | E15: M3 | O15: 건설 공통 3-4-3 | P15: 되메우기
B16: 특별인부 | F16: =1/20 -> 0.05 | I16: =공사노임!C5 -> 226122 | J16: =TRUNC(F16*I16) -> 11306
B17: 보통인부 | F17: =1/20 -> 0.05 | I17: =공사노임!C4 -> 172068 | J17: =TRUNC(F17*I17) -> 8603
B18: 플레이트콤팩터 | D18: 1.5ton | E18: hr | F18: =1/24*8 -> 0.33333333 | K18: =기계경비!F70 -> 39005 | L18: =TRUNC(F18*K18) -> 13001 | M18: =G18+I18+K18 -> 39005 | N18: =H18+J18+L18 -> 13001
B19: 소 계 | J19: =SUM(J16:J18) -> 19909 | L19: =SUM(L16:L18) -> 13001 | N19: =H19+J19+L19 -> 32910
A20: 제04 | B20: 호 | C20: 잔토처리(인력) | D20: 현장내 | E20: M3 | O20: 건설 공통 3-2-1
B21: 보통인부 | E21: 인 | F21: 0.2 | I21: =공사노임!C4 -> 172068 | J21: =TRUNC(F21*I21) -> 34413 | M21: =G21+I21+K21 -> 172068 | N21: =H21+J21+L21 -> 34413
B22: 소 계 | J22: =SUM(J21:J21) -> 34413 | N22: =H22+J22+L22 -> 34413
A23: 제05 | B23: 호 | C23: 철근가공 | D23: Type-1 | E23: Ton | O23: 건설 공통 6-2-2
B24: 철근 | E24: Ton | F24: 1.03 | G24: =단가조사!P86 -> 846000 | H24: =TRUNC(F24*G24) -> 871380 | M24: =G24+I24+K24 -> 846000 | N24: =H24+J24+L24 -> 871380
B25: 결속선 | D25: 0.9mm | E25: kg | F25: 5 | G25: =단가조사!P87 -> 1690 | H25: =TRUNC(F25*G25) -> 8450 | M25: =G25+I25+K25 -> 1690 | N25: =H25+J25+L25 -> 8450
B26: 철근공 | E26: 인 | F26: =3/4.5 -> 0.66666667 | I26: =공사노임!C7 -> 268187 | J26: =TRUNC(F26*I26) -> 178791 | M26: =G26+I26+K26 -> 268187 | N26: =H26+J26+L26 -> 178791
B27: 보통인부 | E27: 인 | F27: =1/4.5 -> 0.22222222 | I27: =공사노임!C4 -> 172068 | J27: =TRUNC(F27*I27) -> 38237 | M27: =G27+I27+K27 -> 172068 | N27: =H27+J27+L27 -> 38237
B28: 소 계 | H28: =SUM(H24:H27) -> 879830 | J28: =SUM(J24:J27) -> 217028 | N28: =H28+J28+L28 -> 1096858
A29: 제06 | B29: 호 | C29: 교통안전표지판 설치 | D29: 규격 | E29: 매 | O29: 건설 토목 1-8-1
B30: 보통인부 | E30: 인 | F30: =(1/22) -> 0.045454545 | I30: =공사노임!C4 -> 172068 | J30: =TRUNC(F30*I30) -> 7821 | M30: =G30+I30+K30 -> 172068 | N30: =H30+J30+L30 -> 7821
B31: 특별인부 | E31: 인 | F31: =2/22 -> 0.090909091 | I31: =공사노임!C5 -> 226122 | J31: =TRUNC(F31*I31) -> 20556 | M31: =G31+I31+K31 -> 226122 | N31: =H31+J31+L31 -> 20556
B32: 공구손료 | D32: 노무비의 2% | E32: 식 | F32: 0.02 | K32: =J33 -> 28377 | L32: =TRUNC(K32*F32) -> 567 | M32: =G32+I32+K32 -> 28377 | N32: =H32+J32+L32 -> 567
B33: 소 계 | J33: =SUM(J30:J32) -> 28377 | L33: =SUM(L30:L32) -> 567 | N33: =H33+J33+L33 -> 28944
A34: 제07 | B34: 호 | C34: 교통안전표지판 철거 | D34: 규격 | E34: 매 | O34: 건설 유지관리 2-1-21
B35: 보통인부 | E35: 인 | F35: =1/17 -> 0.058823529 | I35: =공사노임!C4 -> 172068 | J35: =TRUNC(F35*I35) -> 10121 | M35: =G35+I35+K35 -> 172068 | N35: =H35+J35+L35 -> 10121
B36: 특별인부 | E36: 인 | F36: =2/17 -> 0.11764706 | I36: =공사노임!C5 -> 226122 | J36: =TRUNC(F36*I36) -> 26602 | M36: =G36+I36+K36 -> 226122 | N36: =H36+J36+L36 -> 26602
B37: 덤프트럭 | D37: 2.5Ton | E37: hr | F37: =1/17*8 -> 0.47058824 | K37: =기계경비!F14 -> 63045 | L37: =TRUNC(F37*K37) -> 29668 | M37: =G37+I37+K37 -> 63045 | N37: =H37+J37+L37 -> 29668
B38: 공구손료 | D38: 노무비의 2% | E38: 식 | F38: 0.02 | K38: =J39 -> 36723 | L38: =TRUNC(K38*F38) -> 734 | M38: =G38+I38+K38 -> 36723 | N38: =H38+J38+L38 -> 734
B39: 소 계 | H39: =SUM(H35:H38) -> 0 | J39: =SUM(J35:J38) -> 36723 | L39: =SUM(L35:L38) -> 30402 | N39: =H39+J39+L39 -> 67125
A40: 제08 | B40: 호 | C40: 교통안전표지판 교체 | D40: 규격 | E40: 매 | O40: 건설 유지관리 2-1-22
B41: 보통인부 | E41: 인 | F41: =1/6 -> 0.16666667 | I41: =공사노임!C4 -> 172068 | J41: =TRUNC(F41*I41) -> 28678 | M41: =G41+I41+K41 -> 172068 | N41: =H41+J41+L41 -> 28678
B42: 특별인부 | E42: 인 | F42: =1/6 -> 0.16666667 | I42: =공사노임!C5 -> 226122 | J42: =TRUNC(F42*I42) -> 37687 | M42: =G42+I42+K42 -> 226122 | N42: =H42+J42+L42 -> 37687
...

Sheet 설치수량
A1: 설 치 공 사 수 량
A2: =내역서!A2 -> 공사명 : 2026년 교통사고 잦은 곳 개선사업 교통안전표지 공사(남부)
B3: 구 분 | F3: 단위 | G3: 중량 | H3: 면적 | I3: 철거재 | L3: 거푸집 | N3: 콘크리트 | O3: 토목계 | R3: 비고
I4: AL | J4: SS | K4: STS | L4: 6회 | M4: 4회 | N4: 1:2:4 | O4: 터파기 | P4: 되메우기 | Q4: 잔토
A6: 1-1 | B6: 신설 | C6: 삼각 변 | D6: 900 | E6: 고휘도 | F6: 매 | G6: =재료산출!I14 -> 2.634 | H6: =재료산출!$G$11 -> 0.35
A7: 1-2 | B7: 교체 | C7: 삼각 변 | D7: 900 | E7: 고휘도 | F7: 매 | G7: =재료산출!I17 -> 2.634 | H7: =재료산출!$G$11 -> 0.35 | I7: =G7 -> 2.634
A8: 1-3 | B8: 신설 | C8: 삼각 ▽ | D8: 800 | E8: 고휘도 | F8: 매 | G8: =재료산출!I26 -> 2.179 | H8: =재료산출!$G$23 -> 0.277
A9: 1-4 | B9: 교체 | C9: 삼각 ▽ | D9: 800 | E9: 고휘도 | F9: 매 | G9: =재료산출!I29 -> 2.179 | H9: =재료산출!$G$23 -> 0.277 | I9: =G9 -> 2.179
A10: 1-5 | B10: 신설 | C10: 원형 | D10: Φ600 | E10: 고휘도 | F10: 매 | G10: =재료산출!I38 -> 2.266 | H10: =재료산출!$G$35 -> 0.282
A11: 1-6 | B11: 교체 | C11: 원형 | D11: Φ600 | E11: 고휘도 | F11: 매 | G11: =재료산출!I41 -> 2.266 | H11: =재료산출!$G$35 -> 0.282 | I11: =G11 -> 2.266
A12: 1-7 | B12: 신설 | C12: 오각 | D12: 600*720 | E12: 고휘도 | F12: 매 | G12: =재료산출!I49 -> 2.23 | H12: =재료산출!$G$47 -> 0.275
A13: 1-8 | B13: 교체 | C13: 오각 | D13: 600*720 | E13: 고휘도 | F13: 매 | G13: =재료산출!I52 -> 2.23 | H13: =재료산출!$G$47 -> 0.275 | I13: =G13 -> 2.23
A14: 1-9 | B14: 신설 | C14: 사각 | D14: 400*400 | E14: 고휘도 | F14: 매 | G14: =재료산출!I60 -> 1.604 | H14: =재료산출!$G$58 -> 0.16
A15: 1-10 | B15: 교체 | C15: 사각 | D15: 400*400 | E15: 고휘도 | F15: 매 | G15: =재료산출!I63 -> 1.604 | H15: =재료산출!$G$58 -> 0.16 | I15: =G15 -> 1.604
A16: 1-11 | B16: 신설 | C16: 사각 | D16: 600*200 | E16: 고휘도 | F16: 매 | G16: =재료산출!I71 -> 1.388 | H16: =재료산출!$G$69 -> 0.12
A17: 1-12 | B17: 교체 | C17: 사각 | D17: 600*200 | E17: 고휘도 | F17: 매 | G17: =재료산출!I74 -> 1.388 | H17: =재료산출!$G$69 -> 0.12 | I17: =G17 -> 1.388
A18: 1-13 | B18: 신설 | C18: 사각 | D18: 600*300 | E18: 고휘도 | F18: 매 | G18: =재료산출!I82 -> 1.712 | H18: =재료산출!$G$80 -> 0.18
A19: 1-14 | B19: 교체 | C19: 사각 | D19: 600*300 | E19: 고휘도 | F19: 매 | G19: =재료산출!I85 -> 1.712 | H19: =재료산출!$G$80 -> 0.18 | I19: =G19 -> 1.712
A20: 1-15 | B20: 신설 | C20: 사각 | D20: 600*400 | E20: 고휘도 | F20: 매 | G20: =재료산출!I93 -> 1.804 | H20: =재료산출!$G$91 -> 0.24
A21: 1-16 | B21: 교체 | C21: 사각 | D21: 600*400 | E21: 고휘도 | F21: 매 | G21: =재료산출!I96 -> 1.804 | H21: =재료산출!$G$91 -> 0.24 | I21: =G21 -> 1.804
A22: 1-17 | B22: 신설 | C22: 사각 | D22: 550*600 | E22: 고휘도 | F22: 매 | G22: =재료산출!I104 -> 2.522 | H22: =재료산출!$G$102 -> 0.33
A23: 1-18 | B23: 교체 | C23: 사각 | D23: 550*600 | E23: 고휘도 | F23: 매 | G23: =재료산출!I107 -> 2.522 | H23: =재료산출!$G$102 -> 0.33 | I23: =G23 -> 2.522
A24: 1-19 | B24: 신설 | C24: 사각 | D24: 600*600 | E24: 고휘도 | F24: 매 | G24: =재료산출!I115 -> 2.684 | H24: =재료산출!$G$113 -> 0.36
A25: 1-20 | B25: 교체 | C25: 사각 | D25: 600*600 | E25: 고휘도 | F25: 매 | G25: =재료산출!I118 -> 2.684 | H25: =재료산출!$G$113 -> 0.36 | I25: =G25 -> 2.684
A26: 1-21 | B26: 신설 | C26: 팔각 | D26: 600*600 | E26: 고휘도 | F26: 매 | G26: =재료산출!I127 -> 2.216 | H26: =(재료산출!$G$124+재료산출!$G$125)/2 -> 0.27
A27: 1-22 | B27: 교체 | C27: 팔각 | D27: 600*600 | E27: 고휘도 | F27: 매 | G27: =재료산출!I130 -> 2.216 | H27: =(재료산출!$G$124+재료산출!$G$125)/2 -> 0.27 | I27: =G27 -> 2.216
A28: 1-23 | B28: 신설 | C28: T형 부착대 | D28: 1매용 | E28: 백관 | F28: SET | G28: =재료산출!I139 -> 3.615
A29: 1-24 | B29: 신설 | C29: T형 부착대 | D29: 2매용 | E29: 백관 | F29: SET | G29: =재료산출!I148 -> 6.327
A30: 1-25 | B30: 신설 | C30: T형 부착대 | D30: 3매용 | E30: 백관 | F30: SET | G30: =재료산출!I157 -> 8.135
A31: 1-26 | B31: 교체 | C31: T형 부착대 | D31: 1매용 | E31: 백관 | F31: SET | G31: =재료산출!I160 -> 3.615 | J31: =G31 -> 3.615
A32: 1-27 | B32: 교체 | C32: T형 부착대 | D32: 2매용 | E32: 백관 | F32: SET | G32: =재료산출!I163 -> 6.327 | J32: =G32 -> 6.327
A33: 1-28 | B33: 교체 | C33: T형 부착대 | D33: 3매용 | E33: 백관 | F33: SET | G33: =재료산출!I166 -> 8.135 | J33: =G33 -> 8.135
A34: 1-29 | B34: 이설 | C34: T형 부착대 | D34: 1-23h,24h,25h | F34: SET | G34: =재료산출!I168 -> 0
A35: 1-30 | B35: 철거 | C35: T형 부착대 | D35: 1-23h,24h,25h | F35: SET | G35: =재료산출!I171 -> 6.0256667 | J35: =G35 -> 6.0256667
A36: 1-31 | B36: 신설 | C36: 철주 | D36: 1매용 | E36: 백관 | F36: SET | G36: =재료산출!I182 -> 14.783 | L36: =재료산출!$G$177 -> 0.72 | N36: =재료산출!$G$178 -> 0.072 | O36: =재료산출!$G$179 -> 0.162 | P36: =재료산출!$G$180 -> 0.09 | Q36: =재료산출!$G$181 -> 0.072
A37: 1-32 | B37: 신설 | C37: 철주 | D37: 2매용 | E37: 백관 | F37: SET | G37: =재료산출!I193 -> 17.494 | L37: =재료산출!$G$188 -> 0.72 | N37: =재료산출!$G$189 -> 0.072 | O37: =재료산출!$G$190 -> 0.162 | P37: =재료산출!$G$191 -> 0.09 | Q37: =재료산출!$G$192 -> 0.072
A38: 1-33 | B38: 신설 | C38: 철주 | D38: 3매용 | E38: 백관 | F38: SET | G38: =재료산출!I204 -> 20.206 | L38: =재료산출!$G$199 -> 0.72 | N38: =재료산출!$G$200 -> 0.072 | O38: =재료산출!$G$201 -> 0.162 | P38: =재료산출!$G$202 -> 0.09 | Q38: =재료산출!$G$203 -> 0.072
A39: 1-34 | B39: 철거 | C39: 철주 | D39: 1-31h,32h,33h | F39: SET | G39: =재료산출!I207 -> 17.494333 | J39: =G39 -> 17.494333
A40: 1-35 | B40: 철거 | C40: 철주기초제거 (T=30cm) | F40: SET | G40: =재료산출!I215 -> 1.536 | O40: =재료산출!G210 -> 0.096 | P40: =재료산출!G212+재료산출!G213 -> 0.144
A41: 2-1 | B41: 신설 | C41: 삼각 변 | D41: 1170 | E41: 고휘도 | F41: 매 | G41: =재료산출!I224 -> 4.455 | H41: =재료산출!$G$221 -> 0.592
...

Sheet 재료산출
A1: 재 료 산 출
A4: 호표 | B4: 명 칭 | E4: 규 격 | F4: 단위 | G4: 수 량 | H4: 중 량 | J4: 비 고
H5: 단 위 | I5: 합 계
A6: 1-1 | B6: 신설 | C6: 삼각 변 | D6: 고휘도 | E6: 900㎜ | F6: 매
B7: 알미늄판 | C7: KSD6071 | D7: AL5005 | E7: PL2t×900×779.4㎜ | F7: EA/Kg | G7: 1 | H7: 1.894 | I7: =H7*G7 -> 1.894
B8: 알미늄바 | C8: 취부보강대 | D8: AL | E8: RB(300＋500)㎜800㎜ | F8: M/Kg | G8: 1 | H8: 0.46 | I8: =H8*G8 -> 0.46
B9: 알미늄바 | C9: 밴드용 | D9: AL | E9: RB50Φ30㎜30㎜ | F9: M/Kg | G9: 4 | H9: 0.07 | I9: =H9*G9 -> 0.28
B10: 볼트,너트,와샤 | D10: STS304 | E10: Φ10×50 | F10: 조 | G10: 2
B11: 반사지 | D11: 고휘도 | E11: 900×779.4 | F11: M2 | G11: 0.35 | J11: 면적
B12: 반사지 | D12: 고휘도 | E12: 900×779.4 | F12: M2 | G12: 0.35
B13: 시트지 | D13: 일반 | E13: 900×779.4×1/3 | F13: M2 | G13: 0.116
B14: 합 계 | I14: =SUM(I6:I13) -> 2.634 | J14: 중량
A15: 1-2 | B15: 교체 | C15: 삼각 변 | D15: 고휘도 | E15: 900㎜ | F15: 매
B16: 고철 | F16: kg | G16: =I14 -> 2.634 | I16: =G16 -> 2.634
B17: 합 계 | I17: =SUM(I15:I16) -> 2.634
A18: 1-3 | B18: 신설 | C18: 삼각 ▽ | D18: 고휘도 | E18: 800㎜ | F18: 매
B19: 알미늄판 | C19: KSD6071 | D19: AL5005 | E19: PL2t×800×692.8㎜ | F19: EA/Kg | G19: 1 | H19: 1.496 | I19: =H19*G19 -> 1.496
B20: 알미늄바 | C20: 취부보강대 | D20: AL | E20: RB(250＋450)㎜700㎜ | F20: M/Kg | G20: 1 | H20: 0.403 | I20: =H20*G20 -> 0.403
B21: 알미늄바 | C21: 밴드용 | D21: AL | E21: RB50Φ30㎜30㎜ | F21: M/Kg | G21: 4 | H21: 0.07 | I21: =H21*G21 -> 0.28
B22: 볼트,너트,와샤 | D22: STS304 | E22: Φ10×50 | F22: 조 | G22: 2
B23: 반사지 | D23: 고휘도 | E23: 800×692.8 | F23: M2 | G23: 0.277
B24: 반사지 | D24: 고휘도 | E24: 800×692.8 | F24: M2 | G24: 0.277
B25: 시트지 | D25: 일반 | E25: 900×779.4×1/3 | F25: M2 | G25: 0.092
B26: 합 계 | I26: =SUM(I18:I25) -> 2.179
A27: 1-4 | B27: 교체 | C27: 삼각 ▽ | D27: 고휘도 | E27: 800㎜ | F27: 매
B28: 고철 | F28: kg | G28: =I26 -> 2.179 | I28: =G28 -> 2.179
B29: 합 계 | I29: =SUM(I27:I28) -> 2.179
A30: 1-5 | B30: 신설 | C30: 원형 | D30: 고휘도 | E30: Φ600㎜ | F30: 매
B31: 알미늄판 | C31: KSD6071 | D31: AL5005 | E31: PL2t×600Φ | F31: EA/Kg | G31: 1 | H31: 1.526 | I31: =H31*G31 -> 1.526
B32: 알미늄바 | C32: 취부보강대 | D32: AL | E32: RB(400＋400)㎜800㎜ | F32: M/Kg | G32: 1 | H32: 0.46 | I32: =H32*G32 -> 0.46
B33: 알미늄바 | C33: 밴드용 | D33: AL | E33: RB50Φ30㎜30㎜ | F33: M/Kg | G33: 4 | H33: 0.07 | I33: =H33*G33 -> 0.28
B34: 볼트,너트,와샤 | D34: STS304 | E34: Φ10×50 | F34: 조 | G34: 2
B35: 반사지 | D35: 고휘도 | E35: 600Φ | F35: M2 | G35: 0.282
B36: 반사지 | D36: 고휘도 | E36: 600Φ | F36: M2 | G36: 0.282
B37: 시트지 | D37: 일반 | E37: 600Φ×1/3 | F37: M2 | G37: 0.094
B38: 합 계 | I38: =SUM(I30:I37) -> 2.266
A39: 1-6 | B39: 교체 | C39: 원형 | D39: 고휘도 | E39: Φ600㎜ | F39: 매
B40: 고철 | F40: kg | G40: =I38 -> 2.266 | I40: =G40 -> 2.266
B41: 합 계 | I41: =SUM(I39:I40) -> 2.266
A42: 1-7 | B42: 신설 | C42: 오각 | D42: 고휘도 | E42: 600×720㎜ | F42: 매
...

Sheet 기계경비
A1: 기 계 경 비 산 출 서
A2: 기계명 : | B2: 덤프트럭 | C2: 2.5톤
A3: 기계가 : | B3: 21982 | C3: 천원 | G3: hr당
A4: 항 목 | B4: 구 분 | C4: 단위 | D4: 수량 | E4: 단 가 | F4: 금 액 | G4: 비 고
A5: 경 비 | B5: 기계손료 | C5: 천원 | D5: 0.2967 | E5: =B3 -> 21982 | F5: =TRUNC($D5*E5) -> 6522
B7: 소 계 | F7: =SUM(F5:F6) -> 6522
A8: 노무비 | B8: 화물차운전사 | C8: 인 | D8: 1 | E8: =적용기준!R23 -> 49778 | F8: =TRUNC($D8*E8) -> 49778
B10: 소 계 | F10: =SUM(F8:F9) -> 49778
A11: 재료비 | B11: 주 연 료 | C11: ℓ | D11: 2.9 | E11: =적용기준!D15 -> 1685.68 | F11: =TRUNC($D11*E11) -> 4888 | G11: 경유
B12: 잡품 | C12: % | D12: 38 | E12: =F11 -> 4888 | F12: =TRUNC(($D12*E12)/100) -> 1857
B13: 소 계 | F13: =SUM(F11:F12) -> 6745
A14: 합 계 | F14: =F7+F10+F13 -> 63045 | G14: E1
A16: 기계명 : | B16: 덤프트럭 | C16: 4.5TON
A17: 기계가 : | B17: 25662 | C17: 천원 | G17: hr당
A18: 항 목 | B18: 구 분 | C18: 단위 | D18: 수량 | E18: 단 가 | F18: 금 액 | G18: 비 고
A19: 경 비 | B19: 기계손료 | C19: 천원 | D19: 0.2967 | E19: =B17 -> 25662 | F19: =TRUNC(D19*E19) -> 7613
B21: 소 계 | F21: =SUM(F19:F20) -> 7613
A22: 노무비 | B22: 화물차운전사 | C22: 인 | D22: 1 | E22: =적용기준!R23 -> 49778 | F22: =TRUNC($D22*E22) -> 49778
B24: 소 계 | F24: =SUM(F22:F23) -> 49778
A25: 재료비 | B25: 주 연 료 | C25: ℓ | D25: 5 | E25: =적용기준!D15 -> 1685.68 | F25: =TRUNC($D25*E25) -> 8428 | G25: 경유
B26: 잡품 | C26: % | D26: 38 | E26: =F25 -> 8428 | F26: =ROUNDDOWN($D26*E26/100,0) -> 3202
B27: 소 계 | F27: =SUM(F25:F26) -> 11630
A28: 합 계 | F28: =F21+F24+F27 -> 69021 | G28: E2
A30: 기계명 : | B30: 트럭탑재형 크레인 | C30: 3TON
A31: 기계가 : | B31: 39068 | C31: 천원 | G31: hr당
A32: 항 목 | B32: 구 분 | C32: 단위 | D32: 수량 | E32: 단 가 | F32: 금 액 | G32: 비 고
A33: 경 비 | B33: 기계손료 | C33: 천원 | D33: 0.2598 | E33: =B31 -> 39068 | F33: =TRUNC($D33*E33) -> 10149
B35: 소 계 | F35: =SUM(F33:F34) -> 10149
A36: 노무비 | B36: 화물차운전사 | C36: 인 | D36: 1 | E36: =적용기준!R23 -> 49778 | F36: =TRUNC($D36*E36) -> 49778
B38: 소 계 | F38: =SUM(F36:F37) -> 49778
A39: 재료비 | B39: 주 연 료 | C39: ℓ | D39: 3.1 | E39: =적용기준!D15 -> 1685.68 | F39: =TRUNC($D39*E39) -> 5225 | G39: 경유
B40: 잡품 | C40: % | D40: 20 | E40: =F39 -> 5225 | F40: =TRUNC($D40*E40/100) -> 1045
B41: 소 계 | F41: =SUM(F39:F40) -> 6270
A42: 합 계 | F42: =F35+F38+F41 -> 66197 | G42: E3
A44: 기계명 : | B44: 트럭탑재형 크레인 | C44: 5TON
A45: 기계가 : | B45: 42791 | C45: 천원 | G45: hr당
A46: 항 목 | B46: 구 분 | C46: 단위 | D46: 수량 | E46: 단 가 | F46: 금 액 | G46: 비 고
A47: 경 비 | B47: 기계손료 | C47: 천원 | D47: 0.2598 | E47: =B45 -> 42791 | F47: =TRUNC($D47*E47) -> 11117
B49: 소 계 | F49: =SUM(F47:F48) -> 11117
A50: 노무비 | B50: 화물차운전사 | C50: 인 | D50: 1 | E50: =적용기준!R23 -> 49778 | F50: =TRUNC($D50*E50) -> 49778
...

Sheet 단가조사
A1: 단 가 조 사
A2: =내역서!A2 -> 공사명 : 2026년 교통사고 잦은 곳 개선사업 교통안전표지 공사(남부)
A3: 품 명 | B3: 재 질 | C3: 규 격 | D3: 단위 | E3: 물가자료(26.01월) | G3: 물가정보(26.01월) | I3: 유통물가(26.01월) | K3: 사업소공통 | L3: 26년 견적자료 | M3: 26년 견적자료 | P3: 적 용 | Q3: No | R3: 비고
E4: 단가 | F4: Pg | G4: 단가 | H4: Pg | I4: 단가 | J4: Pg | K4: 단가 | L4: 1 | M4: 2 | N4: B사 | O4: C사
A5: 삼각(고휘도반사지)1 | B5: KSA3505 | C5: 2.0T×900mm | D5: 매 | G5: 93000 | H5: 260 | I5: 111900 | J5: 225 | L5: 97000 | M5: 99450 | P5: =MIN(E5,G5,I5,K5,M5,N5,O5,L5) -> 93000 | Q5: 1
A6: 삼각(고휘도반사지)2 | B6: KSA3505 | C6: 2.0T×1170mm | D6: 매 | G6: 139000 | H6: 260 | I6: 173000 | J6: 225 | L6: 166000 | M6: 166750 | P6: =MIN(E6,G6,I6,K6,M6,N6,O6,L6) -> 139000 | Q6: 2
A7: 삼각(고휘도반사지)3 | B7: KSA3505 | C7: 2.0T×1350mm | D7: 매 | G7: 205000 | H7: 260 | J7: 0 | L7: 201000 | M7: 201250 | P7: =MIN(E7,G7,I7,K7,M7,N7,O7,L7) -> 201000 | Q7: 3
A8: 역삼각(고휘도반사지)1 | B8: KSA3505 | C8: 2.0T×800mm | D8: 매 | G8: 96000 | H8: 260 | L8: 98000 | M8: 98900 | P8: =MIN(E8,G8,I8,K8,M8,N8,O8,L8) -> 96000 | Q8: 4
A9: 역삼각(고휘도반사지)2 | B9: KSA3505 | C9: 2.0T×1040mm | D9: 매 | H9: 0 | J9: 0 | L9: 172000 | M9: 172500 | P9: =MIN(E9,G9,I9,K9,M9,N9,O9,L9) -> 172000 | Q9: 5
A10: 역삼각(고휘도반사지)3 | B10: KSA3505 | C10: 2.0T×1200mm | D10: 매 | H10: 0 | I10: 195000 | J10: 980 | L10: 189000 | M10: 189750 | P10: =MIN(E10,G10,I10,K10,M10,N10,O10,L10) -> 189000 | Q10: 6
A11: 원형(고휘도반사지)1 | B11: KSA3505 | C11: 2.0T×Φ600mm | D11: 매 | G11: 93000 | H11: 260 | I11: 113400 | J11: 225 | L11: 86000 | M11: 86250 | P11: =MIN(E11,G11,I11,K11,M11,N11,O11,L11) -> 86000 | Q11: 7
A12: 원형(고휘도반사지)2 | B12: KSA3505 | C12: 2.0T×Φ780mm | D12: 매 | G12: 105000 | H12: 260 | J12: 0 | L12: 126000 | M12: 141450 | P12: =MIN(E12,G12,I12,K12,M12,N12,O12,L12) -> 105000 | Q12: 8
A13: 원형(고휘도반사지)3 | B13: KSA3505 | C13: 2.0T×Φ900mm | D13: 매 | G13: 153000 | H13: 260 | I13: 178800 | J13: 225 | L13: 141000 | M13: 155250 | P13: =MIN(E13,G13,I13,K13,M13,N13,O13,L13) -> 141000 | Q13: 9
A14: 팔각(고휘도반사지)1 | B14: KSA3505 | C14: 2.0T×600mm | D14: 매 | G14: 99000 | H14: 260 | L14: 115000 | M14: 115000 | P14: =MIN(E14,G14,I14,K14,M14,N14,O14,L14) -> 99000 | Q14: 10
A15: 팔각(고휘도반사지)2 | B15: KSA3505 | C15: 2.0T×780mm | D15: 매 | G15: 105000 | H15: 260 | J15: 0 | L15: 212000 | M15: 212750 | P15: =MIN(E15,G15,I15,K15,M15,N15,O15,L15) -> 105000 | Q15: 11
A16: 팔각(고휘도반사지)3 | B16: KSA3505 | C16: 2.0T×900mm | D16: 매 | G16: 174000 | H16: 260 | L16: 241000 | M16: 241500 | P16: =MIN(E16,G16,I16,K16,M16,N16,O16,L16) -> 174000 | Q16: 12
A17: 오각(고휘도반사지)1 | B17: KSA3505 | C17: 2.0T×200×600×720mm | D17: 매 | G17: 125000 | H17: 260 | I17: 126000 | J17: 980 | L17: 92000 | M17: 92000 | P17: =MIN(E17,G17,I17,K17,M17,N17,O17,L17) -> 92000 | Q17: 13
A18: 오각(고휘도반사지)2 | B18: KSA3505 | C18: 2.0T×260×780×936mm | D18: 매 | H18: 0 | J18: 0 | L18: 155000 | M18: 196650 | P18: =MIN(E18,G18,I18,K18,M18,N18,O18,L18) -> 155000 | Q18: 14
A19: 오각(고휘도반사지)3 | B19: KSA3505 | C19: 2.0T×300×900×1080mm | D19: 매 | G19: 174000 | H19: 260 | I19: 180000 | J19: 980 | L19: 196000 | M19: 212750 | P19: =MIN(E19,G19,I19,K19,M19,N19,O19,L19) -> 174000 | Q19: 15
A20: 사각(고휘도반사지)1 | B20: KSA3505 | C20: 2.0T×400×400mm | D20: 매 | G20: 56000 | H20: 260 | L20: 60000 | M20: 60950 | P20: =MIN(E20,G20,I20,K20,M20,N20,O20,L20) -> 56000 | Q20: 16
A21: 사각(고휘도반사지)2 | B21: KSA3505 | C21: 2.0T×600×200mm | D21: 매 | G21: 57000 | H21: 260 | L21: 55000 | M21: 55200 | P21: =MIN(E21,G21,I21,K21,M21,N21,O21,L21) -> 55000 | Q21: 17
A22: 사각(고휘도반사지)3 | B22: KSA3505 | C22: 2.0T×600×300mm | D22: 매 | G22: 94000 | H22: 260 | L22: 56000 | M22: 56350 | P22: =MIN(E22,G22,I22,K22,M22,N22,O22,L22) -> 56000 | Q22: 18
A23: 사각(고휘도반사지)4 | B23: KSA3505 | C23: 2.0T×600×400mm | D23: 매 | H23: 0 | L23: 63000 | M23: 63250 | P23: =MIN(E23,G23,I23,K23,M23,N23,O23,L23) -> 63000 | Q23: 19
A24: 사각(고휘도반사지)5 | B24: KSA3505 | C24: 2.0T×550×600mm | D24: 매 | G24: 91000 | H24: 260 | L24: 109000 | M24: 109250 | P24: =MIN(E24,G24,I24,K24,M24,N24,O24,L24) -> 91000 | Q24: 20
A25: 사각(고휘도반사지)6 | B25: KSA3505 | C25: 2.0T×600×600mm | D25: 매 | L25: 115000 | M25: 115000 | P25: =MIN(E25,G25,I25,K25,M25,N25,O25,L25) -> 115000 | Q25: 21
A26: 사각(고휘도반사지)7 | B26: KSA3505 | C26: 2.0T×600×900mm | D26: 매 | H26: 0 | L26: 212000 | P26: =MIN(E26,G26,I26,K26,M26,N26,O26,L26) -> 212000 | Q26: 22
A27: 사각(고휘도반사지)8 | B27: KSA3505 | C27: 2.0T×780×260mm | D27: 매 | G27: 79500 | H27: 260 | L27: 80000 | M27: 80500 | P27: =MIN(E27,G27,I27,K27,M27,N27,O27,L27) -> 79500 | Q27: 23
A28: 사각(고휘도반사지)9 | B28: KSA3505 | C28: 2.0T×780×390mm | D28: 매 | H28: 0 | J28: 0 | L28: 113000 | M28: 113850 | P28: =MIN(E28,G28,I28,K28,M28,N28,O28,L28) -> 113000 | Q28: 24
A29: 사각(고휘도반사지)10 | B29: KSA3505 | C29: 2.0T×715×780mm | D29: 매 | H29: 0 | J29: 0 | L29: 207000 | M29: 207000 | P29: =MIN(E29,G29,I29,K29,M29,N29,O29,L29) -> 207000 | Q29: 25
A30: 사각(고휘도반사지)11 | B30: KSA3505 | C30: 2.0T×780×780mm | D30: 매 | F30: 0 | J30: 0 | L30: 212000 | M30: 212750 | P30: =MIN(E30,G30,I30,K30,M30,N30,O30,L30) -> 212000 | Q30: 26
A31: 사각(고휘도반사지)12 | B31: KSA3505 | C31: 2.0T×900×300mm | D31: 매 | I31: 127500 | J31: 225 | L31: 81000 | M31: 81650 | P31: =MIN(E31,G31,I31,K31,M31,N31,O31,L31) -> 81000 | Q31: 27
A32: 사각(고휘도반사지)13 | B32: KSA3505 | C32: 2.0T×900×450mm | D32: 매 | F32: 0 | J32: 0 | L32: 109000 | M32: 109250 | P32: =MIN(E32,G32,I32,K32,M32,N32,O32,L32) -> 109000 | Q32: 28
A33: 사각(고휘도반사지)14 | B33: KSA3505 | C33: 2.0T×780×1170mm | D33: 매 | F33: 0 | H33: 0 | J33: 0 | L33: 270000 | M33: 270250 | P33: =MIN(E33,G33,I33,K33,M33,N33,O33,L33) -> 270000 | Q33: 29
A34: 장애물표적표지 | C34: 2.0T×400×400mm | D34: 매 | F34: 0 | H34: 0 | L34: 78000 | M34: 78200 | P34: =MIN(E34,G34,I34,K34,M34,N34,O34,L34) -> 78000 | Q34: 30
A35: 대형표지(고휘도+고휘도) | C35: 3.0T×3000×2000mm | D35: 매 | F35: 0 | J35: 0 | L35: 2240000 | M35: 2422500 | P35: =MIN(E35,G35,I35,K35,M35,N35,O35,L35) -> 2240000 | Q35: 31
A36: 대형표지(고휘도+초고휘도) | C36: 3.0T×3000×2000mm | D36: 매 | F36: 0 | G36: 2000000 | H36: 260 | J36: 0 | L36: 2530000 | M36: 2530000 | P36: =MIN(E36,G36,I36,K36,M36,N36,O36,L36) -> 2000000 | Q36: 32
A37: 대형표지(고휘도+고휘도) | C37: 3.0T×3600×2200mm | D37: 매 | F37: 0 | G37: 3080000 | H37: 260 | I37: 3150000 | J37: 225 | L37: 3390000 | M37: 3392500 | P37: =MIN(E37,G37,I37,K37,M37,N37,O37,L37) -> 3080000 | Q37: 33
A38: 대형표지(고휘도+초고휘도) | C38: 3.0T×3600×2200mm | D38: 매 | F38: 0 | G38: 3080000 | H38: 260 | J38: 0 | L38: 3680000 | M38: 3680000 | P38: =MIN(E38,G38,I38,K38,M38,N38,O38,L38) -> 3080000 | Q38: 34
A39: 어린이보호(고휘도+초고휘도) | C39: 2.0T×900×900mm | D39: 매 | L39: 241000 | M39: 241500 | P39: =MIN(E39,G39,I39,K39,M39,N39,O39,L39) -> 241000 | Q39: 35
A40: 어린이보호(고휘도+초고휘도)1 | C40: 2.0T×780×1190mm | D40: 매 | F40: 0 | L40: 485000 | M40: 557750 | P40: =MIN(E40,G40,I40,K40,M40,N40,O40,L40) -> 485000 | Q40: 36
...

Sheet 적용기준
C1: 물 가 조 사 | S1: http://ecos.bok.or.kr/ | U1: 한국은행경제통계시스템
B3: 적 용 기 준
C6: ◈ 환 율 | R6: 비고
C8: 1 달러($) : | D8: 1434.9 | R8: 2026년 사업소 공통
C11: ◈ 유 류 대 | R11: 비고
C13: 휘 발 유 : | D13: 1781.37 | R13: 2026년 사업소 공통
C15: 경유 : | D15: 1685.68 | R15: 2026년 사업소 공통
C18: ◈ 노 무 비
D19: 1) | F19: 2) | J19: 3) | N19: 4) | R19: 5)
C20: 건설기계운전기사 : | D20: =공사노임!C12 -> 283297 | E20: x | F20: 1 | G20: / | H20: 8 | I20: x | J20: 16 | K20: / | L20: 12 | M20: x | N20: 25 | O20: / | P20: 20 | Q20: = | R20: =INT(D20*F20/H20*J20/L20*N20/P20) -> 59020
C23: 화물차운전사 : | D23: =공사노임!C13 -> 238936 | E23: x | F23: 1 | G23: / | H23: 8 | I23: x | J23: 16 | K23: / | L23: 12 | M23: x | N23: 25 | O23: / | P23: 20 | Q23: = | R23: =INT(D23*F23/H23*J23/L23*N23/P23) -> 49778
C26: 일반기계운전사 | D26: =공사노임!C14 -> 173995 | E26: x | F26: 1 | G26: / | H26: 8 | I26: x | J26: 16 | K26: / | L26: 12 | M26: x | N26: 25 | O26: / | P26: 20 | Q26: = | R26: =INT(D26*F26/H26*J26/L26*N26/P26) -> 36248
A36: NOTE :
B37: 1) : | C37: 1) : 해당직종 노임단가
B38: 2) : | C38: 2) : 21일 작업시간 8시간 기준
B39: 3) : | C39: 3) : 고용(제수당, 상여금, 퇴직급여충당금)
B40: 4) : | C40: 4) : 휴지계수(월간 작업 가능일수)
B41: 5) : | C41: 5) : 인건비 계

Sheet 공사노임
A1: 2026년 상반기 노임단가 | F1: http://www.csr.co.kr/
F2: https://www.kbiz.or.kr/
A3: 번호 | B3: 직 종 명 | C3: 2026년 상반기 | D3: 비 고 | E3: 적용일자 | I3: 낙찰율
A4: 1002 | B4: 보통인부 | C4: =F4*$G$4 -> 172068 | D4: 대한건설협회 2025년 상반기 노임단가 | E4: 2026.01.01 | F4: 172068 | G4: =TRUNC(I4/H4,6) -> 1 | H4: 100 | I4: 100
A5: 1003 | B5: 특별인부 | C5: =F5*$G$4 -> 226122 | D5: 대한건설협회 2025년 상반기 노임단가 | E5: 2026.01.01 | F5: 226122 | G5: * 도서노임은 15% 가산적용
A6: 1007 | B6: 형틀목공 | C6: =F6*$G$4 -> 275790 | D6: 대한건설협회 2025년 상반기 노임단가 | E6: 2026.01.01 | F6: 275790
A7: 1008 | B7: 철근공 | C7: =F7*$G$4 -> 268187 | D7: 대한건설협회 2025년 상반기 노임단가 | E7: 2026.01.01 | F7: 268187
A8: 1013 | B8: 콘크리트공 | C8: =F8*$G$4 -> 273540 | D8: 대한건설협회 2025년 상반기 노임단가 | E8: 2026.01.01 | F8: 273540
A9: 1015 | B9: 착암공 | C9: =F9*$G$4 -> 222306 | D9: 대한건설협회 2025년 상반기 노임단가 | E9: 2026.01.01 | F9: 222306
A10: 1019 | B10: 포장공 | C10: =F10*$G$4 -> 273308 | D10: 대한건설협회 2025년 상반기 노임단가 | E10: 2026.01.01 | F10: 273308
A11: 1029 | B11: 도장공 | C11: =F11*$G$4 -> 263017 | D11: 대한건설협회 2025년 상반기 노임단가 | E11: 2026.01.01 | F11: 263017
A12: 1048 | B12: 건설기계운전사 | C12: =F12*$G$4 -> 283297 | D12: 대한건설협회 2025년 상반기 노임단가 | E12: 2026.01.01 | F12: 283297
A13: 1049 | B13: 화물차운전사 | C13: =F13*$G$4 -> 238936 | D13: 대한건설협회 2025년 상반기 노임단가 | E13: 2026.01.01 | F13: 238936
A14: 1050 | B14: 일반기계운전사 | C14: =F14*$G$4 -> 173995 | D14: 대한건설협회 2025년 상반기 노임단가 | E14: 2026.01.01 | F14: 173995
A15: 1075 | B15: 내선전공 | C15: =F15*$G$4 -> 273676 | D15: 대한건설협회 2025년 상반기 노임단가 | E15: 2026.01.01 | F15: 273676
A16: 60 | B16: 절단원(가위절단공) | C16: =F16*$G$4 -> 110951 | D16: 중소기업중앙회 제조노임단가 | E16: 2026.01.01 | F16: 110951
A17: 29 | B17: 전자조판원 | C17: =F17*$G$4 -> 103691 | D17: 중소기업중앙회 제조노임단가 | E17: 2026.01.01 | F17: 103691

Sheet 이전비
A1: 이 전 비
A3: No | B3: 품 명 | C3: 규 격 | D3: 단위 | E3: 수 량 | F3: 노무비 | G3: 재료비 | H3: 경 비 | I3: 합 계 | J3: 비 고
A4: 1 | B4: 굴착복구비 | D4: 식 | E4: 1
B5: 계

Sheet 고용개선지원비
A1: 고용개선지원비(PS단가)
G2: 2026. 1. 1.부터 적용
A3: 품 명 | B3: 규격 | C3: 단위 | D3: 수량 | E3: 단가 | F3: 산출금액 | G3: 비고
A4: 직접노무비 | E4: =공사원가계산서!D8 -> 5543642
A5: 고용개선지원비
A7: 주휴수당 원가반영비율 | B7: 토목공사, 5억미만, 7개월~12개월 | E7: 0.102 | G7: 주휴수당 원가반영비율 참고
A8: 주휴수당 | B8: 직접노무비 × 주휴수당 원가반영비율×50% × 1.4(제경비) | C8: 식 | D8: 1 | E8: =INT($E$4*$E$7*50%*1.4) -> 395816 | F8: =D8*E8 -> 395816 | G8: 5천만원 미만 또는 1개월 미만 공사 제외 | H8: 서울시 건설혁신담당관-19304호(2025.12.22.)호 관련
A9: 고용개선장려금 | B9: 직접노무비 × 8.045% × 20% | C9: 식 | D9: 1 | E9: =INT($E$4*8.045%*20%) -> 89197 | F9: =D9*E9 -> 89197 | H9: 고용개선지원비 공사원가 반영 및 집행 매뉴얼 개정(ver9.0) 알림
A10: 국민연금, 건강보험 지원분 | B10: 직접노무비 × 주휴수당 원가반영비율×50% × 10% | C10: 식 | D10: 1 | E10: =INT($E$4*$E$7*50%*10%) -> 28272 | F10: =D10*E10 -> 28272
A11: 전자인력관리 단말기 | B11: 12개월 | C11: 식 | D11: 1 | G11: 1억 이상 공사 | H11: 고용개선지원비 공사원가 반영 및 집행 매뉴얼 개정(ver9.0) 알림
A12: 합 계 | F12: =SUM(F8:F11) -> 513285
A13: ※ 고용개선지원비 공사원가 반영 및 집행 매뉴얼(서울특별시) 참조
A14: 󰏚 주휴수당 원가반영 비율(고용개선지원비 원가반영 및 집행매뉴얼(Ver_9.0))

Sheet 기초설계
A2: 정주식 철주 상세도 | I2: 물량산출
I3: 공 종 | J3: 산출식 | K3: 물량
I4: 터파기 | J4: 0.6×0.6×0.45 | K4: =0.6*0.6*0.45 -> 0.162
I5: 되메우기 | J5: 0.162 - 0.072 | K5: =K4-K6 -> 0.09
I6: 잔토처리 | J6: 기초콘크리트 용적 | K6: =K7 -> 0.072
I7: 기초콘크리트 용적 | J7: 0.4×0.4×0.45 | K7: =0.4*0.4*0.45 -> 0.072
I8: 거푸집 | J8: 0.4×0.45×4 | K8: =0.4*0.45*4 -> 0.72
I9: 포장걷기 | J9: 1×1 | K9: =1*1 -> 1
A20: T형 부착대 상세도
A39: 교차로대, 테이퍼폴 상세도 | I39: 물량산출
I40: 공 종 | J40: 산출식 | K40: 물량
I41: 터파기 | J41: 1.4/3[1.25²+1.05²+(√1.25²*1.05²)］ | K41: 1.856
I42: 되메우기 | J42: 1.856 - 0.867 | K42: =K41-K43 -> 0.989
I43: 잔토처리 | J43: 기초콘크리트 용적 | K43: =+K44 -> 0.867
I44: 기초콘크리트 용적 | J44: 0.85×0.85×1.2 | K44: =0.85*0.85*1.2 -> 0.867
I45: 거푸집 | J45: 0.85×1.2×4 | K45: =0.85*1.2*4 -> 4.08
I46: 포장걷기 | J46: 1.25×1.25 | K46: =1.25*1.25 -> 1.5625
A57: 어린이보호구역 철주 상세도 | I57: 물량산출
I58: 공 종 | J58: 산출식 | K58: 물량
I59: 터파기 | J59: 0.8×0.8×0.8 | K59: =0.8*0.8*0.8 -> 0.512
I60: 되메우기 | J60: 0.512-0.288 | K60: =K59-K61 -> 0.224
I61: 잔토처리 | J61: 기초콘크리트 용적 | K61: =K62 -> 0.288
I62: 기초콘크리트 용적 | J62: 0.6×0.6×0.8 | K62: =0.6*0.6*0.8 -> 0.288
I63: 거푸집 | J63: 0.6×0.8×4 | K63: =0.6*0.8*4 -> 1.92
I64: 포장걷기 | J64: 1×1 | K64: =1*1 -> 1

Sheet Sheet1
A1: 공통대가 작성 리스트
A3: 목록 | C3: 작업관계 | E3: 비 고
C4: 진행중 | D4: 완료
A5: 1 | B5: 내역서 | C5: - | D5: 완료
A6: 2 | B6: 일위1 | C6: - | D6: 완료 | E6: 6,7 적용
